Workbook
Name CatégoriesDépenses: synthèse!$A$5:$A$10
Name TitreColonne10: aoû!$A$2
Name TitreColonne11: sep!$A$2
Name TitreColonne12: oct!$A$2
Name TitreColonne13: nov!$A$2
Name TitreColonne14: déc!$A$2
Name TitreColonne2: synthèse!$A$4
Name TitreColonne3: jan!$B$15
Name TitreColonne4: fév!$A$2
Name TitreColonne5: mar!$A$2
Name TitreColonne6: avr!$A$2
Name TitreColonne7: mai!$A$2
Name TitreColonne8: juin!$A$2
Name TitreColonne9: juil!$A$2

Sheet synthèse
A1: ÉVOLUTION DES DÉPENSES
B2: Jan | C2: Fév | D2: Mar | E2: Avr | F2: Mai | G2: Juin | H2: Juil | I2: Aoû | J2: Sep | K2: Oct | L2: Nov | M2: Déc | N2: Conseils
A4: Dépenses | B4: Jan | C4: Fév | D4: Mar | E4: Avr | F4: Mai | G4: Juin | H4: Juil | I4: Aoû | J4: Sep | K4: Oct | L4: Nov | M4: Déc | N4: Total | O4: Évolution
A5: Dépenses 1 | B5: =SUMIFS(jan!$D$16:$D$18,jan!$E$16:$E$18,synthèse!$A$5:$A$10) -> 0 | C5: =SUMIFS(fév!$C$3:$C$8,fév!$D$3:$D$8,synthèse!$A$5:$A$10) -> 375 | D5: =SUMIFS(mar!$C$3:$C$8,mar!$D$3:$D$8,synthèse!$A$5:$A$10) -> 33 | E5: =SUMIFS(avr!$C$3:$C$8,avr!$D$3:$D$8,synthèse!$A$5:$A$10) -> 45 | F5: =SUMIFS(mai!$C$3:$C$8,mai!$D$3:$D$8,synthèse!$A$5:$A$10) -> 375 | G5: =SUMIFS(juin!$C$3:$C$8,juin!$D$3:$D$8,synthèse!$A$5:$A$10) -> 201 | H5: =SUMIFS(juil!$C$3:$C$8,juil!$D$3:$D$8,synthèse!$A$5:$A$10) -> 0 | I5: =SUMIFS(aoû!$C$3:$C$8,aoû!$D$3:$D$8,synthèse!$A$5:$A$10) -> 0 | J5: =SUMIFS(sep!$C$3:$C$8,sep!$D$3:$D$8,synthèse!$A$5:$A$10) -> 0 | K5: =SUMIFS(oct!$C$3:$C$8,oct!$D$3:$D$8,synthèse!$A$5:$A$10) -> 0 | L5: =SUMIFS(nov!$C$3:$C$8,nov!$D$3:$D$8,synthèse!$A$5:$A$10) -> 0 | M5: =SUMIFS(déc!$C$3:$C$8,déc!$D$3:$D$8,synthèse!$A$5:$A$10) -> 201 | N5: =SUM(synthèse!$B5:$M5) -> 1230
A6: Dépenses 2 | B6: =SUMIFS(jan!$D$16:$D$18,jan!$E$16:$E$18,synthèse!$A$5:$A$10) -> 0 | C6: =SUMIFS(fév!$C$3:$C$8,fév!$D$3:$D$8,synthèse!$A$5:$A$10) -> 238 | D6: =SUMIFS(mar!$C$3:$C$8,mar!$D$3:$D$8,synthèse!$A$5:$A$10) -> 238 | E6: =SUMIFS(avr!$C$3:$C$8,avr!$D$3:$D$8,synthèse!$A$5:$A$10) -> 123 | F6: =SUMIFS(mai!$C$3:$C$8,mai!$D$3:$D$8,synthèse!$A$5:$A$10) -> 111 | G6: =SUMIFS(juin!$C$3:$C$8,juin!$D$3:$D$8,synthèse!$A$5:$A$10) -> 98 | H6: =SUMIFS(juil!$C$3:$C$8,juil!$D$3:$D$8,synthèse!$A$5:$A$10) -> 0 | I6: =SUMIFS(aoû!$C$3:$C$8,aoû!$D$3:$D$8,synthèse!$A$5:$A$10) -> 0 | J6: =SUMIFS(sep!$C$3:$C$8,sep!$D$3:$D$8,synthèse!$A$5:$A$10) -> 0 | K6: =SUMIFS(oct!$C$3:$C$8,oct!$D$3:$D$8,synthèse!$A$5:$A$10) -> 0 | L6: =SUMIFS(nov!$C$3:$C$8,nov!$D$3:$D$8,synthèse!$A$5:$A$10) -> 0 | M6: =SUMIFS(déc!$C$3:$C$8,déc!$D$3:$D$8,synthèse!$A$5:$A$10) -> 440 | N6: =SUM(synthèse!$B6:$M6) -> 1248
A7: Dépenses 3 | B7: =SUMIFS(jan!$D$16:$D$18,jan!$E$16:$E$18,synthèse!$A$5:$A$10) -> 0 | C7: =SUMIFS(fév!$C$3:$C$8,fév!$D$3:$D$8,synthèse!$A$5:$A$10) -> 110 | D7: =SUMIFS(mar!$C$3:$C$8,mar!$D$3:$D$8,synthèse!$A$5:$A$10) -> 110 | E7: =SUMIFS(avr!$C$3:$C$8,avr!$D$3:$D$8,synthèse!$A$5:$A$10) -> 125 | F7: =SUMIFS(mai!$C$3:$C$8,mai!$D$3:$D$8,synthèse!$A$5:$A$10) -> 333 | G7: =SUMIFS(juin!$C$3:$C$8,juin!$D$3:$D$8,synthèse!$A$5:$A$10) -> 122 | H7: =SUMIFS(juil!$C$3:$C$8,juil!$D$3:$D$8,synthèse!$A$5:$A$10) -> 0 | I7: =SUMIFS(aoû!$C$3:$C$8,aoû!$D$3:$D$8,synthèse!$A$5:$A$10) -> 0 | J7: =SUMIFS(sep!$C$3:$C$8,sep!$D$3:$D$8,synthèse!$A$5:$A$10) -> 0 | K7: =SUMIFS(oct!$C$3:$C$8,oct!$D$3:$D$8,synthèse!$A$5:$A$10) -> 0 | L7: =SUMIFS(nov!$C$3:$C$8,nov!$D$3:$D$8,synthèse!$A$5:$A$10) -> 0 | M7: =SUMIFS(déc!$C$3:$C$8,déc!$D$3:$D$8,synthèse!$A$5:$A$10) -> 122 | N7: =SUM(synthèse!$B7:$M7) -> 922
A8: Dépenses 4 | B8: =SUMIFS(jan!$D$16:$D$18,jan!$E$16:$E$18,synthèse!$A$5:$A$10) -> 0 | C8: =SUMIFS(fév!$C$3:$C$8,fév!$D$3:$D$8,synthèse!$A$5:$A$10) -> 84 | D8: =SUMIFS(mar!$C$3:$C$8,mar!$D$3:$D$8,synthèse!$A$5:$A$10) -> 84 | E8: =SUMIFS(avr!$C$3:$C$8,avr!$D$3:$D$8,synthèse!$A$5:$A$10) -> 426 | F8: =SUMIFS(mai!$C$3:$C$8,mai!$D$3:$D$8,synthèse!$A$5:$A$10) -> 125 | G8: =SUMIFS(juin!$C$3:$C$8,juin!$D$3:$D$8,synthèse!$A$5:$A$10) -> 187 | H8: =SUMIFS(juil!$C$3:$C$8,juil!$D$3:$D$8,synthèse!$A$5:$A$10) -> 0 | I8: =SUMIFS(aoû!$C$3:$C$8,aoû!$D$3:$D$8,synthèse!$A$5:$A$10) -> 0 | J8: =SUMIFS(sep!$C$3:$C$8,sep!$D$3:$D$8,synthèse!$A$5:$A$10) -> 0 | K8: =SUMIFS(oct!$C$3:$C$8,oct!$D$3:$D$8,synthèse!$A$5:$A$10) -> 0 | L8: =SUMIFS(nov!$C$3:$C$8,nov!$D$3:$D$8,synthèse!$A$5:$A$10) -> 0 | M8: =SUMIFS(déc!$C$3:$C$8,déc!$D$3:$D$8,synthèse!$A$5:$A$10) -> 187 | N8: =SUM(synthèse!$B8:$M8) -> 1093
A9: Dépenses 5 | B9: =SUMIFS(jan!$D$16:$D$18,jan!$E$16:$E$18,synthèse!$A$5:$A$10) -> 0 | C9: =SUMIFS(fév!$C$3:$C$8,fév!$D$3:$D$8,synthèse!$A$5:$A$10) -> 54 | D9: =SUMIFS(mar!$C$3:$C$8,mar!$D$3:$D$8,synthèse!$A$5:$A$10) -> 109 | E9: =SUMIFS(avr!$C$3:$C$8,avr!$D$3:$D$8,synthèse!$A$5:$A$10) -> 98 | F9: =SUMIFS(mai!$C$3:$C$8,mai!$D$3:$D$8,synthèse!$A$5:$A$10) -> 33 | G9: =SUMIFS(juin!$C$3:$C$8,juin!$D$3:$D$8,synthèse!$A$5:$A$10) -> 441 | H9: =SUMIFS(juil!$C$3:$C$8,juil!$D$3:$D$8,synthèse!$A$5:$A$10) -> 0 | I9: =SUMIFS(aoû!$C$3:$C$8,aoû!$D$3:$D$8,synthèse!$A$5:$A$10) -> 0 | J9: =SUMIFS(sep!$C$3:$C$8,sep!$D$3:$D$8,synthèse!$A$5:$A$10) -> 0 | K9: =SUMIFS(oct!$C$3:$C$8,oct!$D$3:$D$8,synthèse!$A$5:$A$10) -> 0 | L9: =SUMIFS(nov!$C$3:$C$8,nov!$D$3:$D$8,synthèse!$A$5:$A$10) -> 0 | M9: =SUMIFS(déc!$C$3:$C$8,déc!$D$3:$D$8,synthèse!$A$5:$A$10) -> 99 | N9: =SUM(synthèse!$B9:$M9) -> 834
A10: Test | B10: =SUMIFS(jan!$D$16:$D$19,jan!$E$16:$E$19,synthèse!$A$5:$A$10) -> 0 | C10: =SUMIFS(fév!$C$3:$C$8,fév!$D$3:$D$8,synthèse!$A$5:$A$10) -> 0 | D10: =SUMIFS(mar!$C$3:$C$8,mar!$D$3:$D$8,synthèse!$A$5:$A$10) -> 0 | E10: =SUMIFS(avr!$C$3:$C$8,avr!$D$3:$D$8,synthèse!$A$5:$A$10) -> 0 | F10: =SUMIFS(mai!$C$3:$C$8,mai!$D$3:$D$8,synthèse!$A$5:$A$10) -> 0 | G10: =SUMIFS(juin!$C$3:$C$8,juin!$D$3:$D$8,synthèse!$A$5:$A$10) -> 0 | H10: =SUMIFS(juil!$C$3:$C$8,juil!$D$3:$D$8,synthèse!$A$5:$A$10) -> 0 | I10: =SUMIFS(aoû!$C$3:$C$8,aoû!$D$3:$D$8,synthèse!$A$5:$A$10) -> 0 | J10: =SUMIFS(sep!$C$3:$C$8,sep!$D$3:$D$8,synthèse!$A$5:$A$10) -> 0 | K10: =SUMIFS(oct!$C$3:$C$8,oct!$D$3:$D$8,synthèse!$A$5:$A$10) -> 0 | L10: =SUMIFS(nov!$C$3:$C$8,nov!$D$3:$D$8,synthèse!$A$5:$A$10) -> 0 | M10: =SUMIFS(déc!$C$3:$C$8,déc!$D$3:$D$8,synthèse!$A$5:$A$10) -> 0 | N10: =SUM(synthèse!$B10:$M10) -> 0
A11: Total | B11: =SUBTOTAL(109,synthèse!$B$5:$B$10) -> 0 | C11: =SUBTOTAL(109,synthèse!$C$5:$C$10) -> 861 | D11: =SUBTOTAL(109,synthèse!$D$5:$D$10) -> 574 | E11: =SUBTOTAL(109,synthèse!$E$5:$E$10) -> 817 | F11: =SUBTOTAL(109,synthèse!$F$5:$F$10) -> 977 | G11: =SUBTOTAL(109,synthèse!$G$5:$G$10) -> 1049 | H11: =SUBTOTAL(109,synthèse!$H$5:$H$10) -> 0 | I11: =SUBTOTAL(109,synthèse!$I$5:$I$10) -> 0 | J11: =SUBTOTAL(109,synthèse!$J$5:$J$10) -> 0 | K11: =SUBTOTAL(109,synthèse!$K$5:$K$10) -> 0 | L11: =SUBTOTAL(109,synthèse!$L$5:$L$10) -> 0 | M11: =SUBTOTAL(109,synthèse!$M$5:$M$10) -> 1049 | N11: =SUBTOTAL(109,synthèse!$N$5:$N$10) -> 5327

Sheet conseils
A1: CONSEILS POUR LE MODÈLE
A2: Existe-t-il un raccourci pour passer de la feuille de synthèse Évolution des dépenses à celle du détail des dépenses mensuelles ?
A3: Pour accéder rapidement aux dépenses d’un mois particulier, cliquez sur le lien de navigation associé au-dessus du graphique, par exemple Jan dans la cellule B2. Pour revenir à la feuille de calcul Évolution des dépenses, cliquez sur le lien de navigation Synthèse dans la cellule D1.
A4: Pour revenir à cette feuille de calcul de conseils, dans la feuille de synthèse, sélectionnez N2. À partir des feuilles de calcul de chaque mois, sélectionnez E1.
A5: Comment ajouter un nouveau type de dépense à la synthèse des dépenses ou de nouvelles dépenses mensuelles ?
A6: La synthèse des dépenses sous le graphique et les détails des dépenses par mois sont des tableaux Excel. Pour ajouter des lignes à un tableau Excel, procédez de l’une des manière suivantes :
A7: =ROW(A1)&". Si le tableau ne comporte pas de ligne de total, commencez à taper en dessous. Il s’agrandit automatiquement lorsque vous appuyez sur la touche Entrée ou Tab." -> 1. Si le tableau ne comporte pas de ligne de total, commencez à taper en dessous. Il s’agrandit automatiquement lorsque vous appuyez sur la touche Entrée ou Tab.
A8: =ROW(A2)&". Placez le pointeur de cellule dans la dernière cellule au-dessus de la ligne de total, par exemple le total de la dernière dépense, puis appuyez sur la touche Tab." -> 2. Placez le pointeur de cellule dans la dernière cellule au-dessus de la ligne de total, par exemple le total de la dernière dépense, puis appuyez sur la touche Tab.
A9: =ROW(A3)&". Cliquez avec le bouton droit dans le tableau. Dans le menu contextuel, pointez sur Insérer, puis cliquez sur Lignes de tableau au-dessus ou Lignes de tableau en dessous." -> 3. Cliquez avec le bouton droit dans le tableau. Dans le menu contextuel, pointez sur Insérer, puis cliquez sur Lignes de tableau au-dessus ou Lignes de tableau en dessous.
A10: =ROW(A4)&". Dans le coin inférieur droit du tableau, placez votre souris sur la poignée de redimensionnement et faites glisser pour augmenter le nombre de lignes disponibles." -> 4. Dans le coin inférieur droit du tableau, placez votre souris sur la poignée de redimensionnement et faites glisser pour augmenter le nombre de lignes disponibles.
A11: Entrez la dépense dans la feuille de calcul Synthèse, dans le tableau SynthèseDépenses et dans la colonne Dépenses.
A12: Ajoutez le montant de la dépense pour chaque type de dépense dans la feuille de calcul du mois concerné.
A13: Par exemple : « Dépenses 1 » concerne les mois de janvier à juin et décembre.
A14: =ROW(A1)&". Le tableau Dépenses 1 est entré dans la feuille de calcul de synthèse sous Dépenses dans le tableau SynthèseDépenses (titre du type de dépense)" -> 1. Le tableau Dépenses 1 est entré dans la feuille de calcul de synthèse sous Dépenses dans le tableau SynthèseDépenses (titre du type de dépense)
A15: =ROW(A2)&". Pour chaque mois pendant lequel la dépense a lieu, entrez le montant de la dépense dans la feuille de calcul correspondante." -> 2. Pour chaque mois pendant lequel la dépense a lieu, entrez le montant de la dépense dans la feuille de calcul correspondante.
A16: =ROW(A3)&". Le type de dépense de la feuille de calcul SynthèseDépenses crée une liste de catégories pour la colonne Catégorie présente dans chaque feuille de mois." -> 3. Le type de dépense de la feuille de calcul SynthèseDépenses crée une liste de catégories pour la colonne Catégorie présente dans chaque feuille de mois.
A17: =ROW(A4)&". La liste de catégories de la colonne Catégorie permet de sélectionner le type de dépense correspondant pour le montant entré." -> 4. La liste de catégories de la colonne Catégorie permet de sélectionner le type de dépense correspondant pour le montant entré.
A18: =ROW(A5)&". Pour ajouter de nouvelles dépenses dans un mois quelconque, ajoutez une ligne au tableau SynthèseDépenses dans la feuille de calcul de synthèse, puis entrez les détails de dépense correspondants dans la feuille de calcul du mois concerné." -> 5. Pour ajouter de nouvelles dépenses dans un mois quelconque, ajoutez une ligne au tableau SynthèseDépenses dans la feuille de calcul de synthèse, puis entrez les détails de dépense correspondants dans la feuille de calcul du mois concerné.

Sheet jan
D13: Total Global du projet avant taxes : | E13: =SUM(G:G) & " $ +Tx" -> 30 $ +Tx
B14: Salle de bain
B15: Magasin | C15: Déscription | D15: Montant | E15: Référence | F15: Lien web | G15: 0
C16: A-12345 | D16: 20 | F16: Lien
B20: Total | D20: =SUBTOTAL(109,jan!$D$16:$D$19) -> 20 | G20: =SUBTOTAL(109,jan!$D$16:$D$19) -> 20
B22: Cuisine
B23: Magasin | C23: Déscription | D23: Montant | E23: Référence | F23: Lien web | G23: 0
C24: A-12345 | D24: 10 | F24: Lien
B26: Total | D26: =SUBTOTAL(109,jan!$D$24:$D$25) -> 10 | G26: =SUBTOTAL(109,jan!$D$24:$D$25) -> 10

Sheet fév
A1: DÉPENSES FÉVRIER | D1: Synthèse | E1: Conseils
A2: Date | B2: N° bon de commande | C2: Montant | D2: Catégorie | E2: Description
A3: =DATE(YEAR(TODAY()),2,3) -> 43134 | B3: A-12345 | C3: 33 | D3: Dépenses 1 | E3: Fournitures
A4: =DATE(YEAR(TODAY()),2,4) -> 43135 | B4: A-12346 | C4: 238 | D4: Dépenses 2
C5: 342 | D5: Dépenses 1
C6: 110 | D6: Dépenses 3
C7: 84 | D7: Dépenses 4
C8: 54 | D8: Dépenses 5
A9: Total | C9: =SUBTOTAL(109,fév!$C$3:$C$8) -> 861

Sheet mar
A1: DÉPENSES MARS | D1: Synthèse | E1: Conseils
A2: Date | B2: N° bon de commande | C2: Montant | D2: Catégorie | E2: Description
A3: =DATE(YEAR(TODAY()),3,5) -> 43164 | B3: A-12345 | C3: 33 | D3: Dépenses 1 | E3: Fournitures
A4: =DATE(YEAR(TODAY()),3,6) -> 43165 | B4: A-12346 | C4: 238 | D4: Dépenses 2
C5: 55 | D5: Dépenses 5
C6: 110 | D6: Dépenses 3
C7: 84 | D7: Dépenses 4
C8: 54 | D8: Dépenses 5
A9: Total | C9: =SUBTOTAL(109,mar!$C$3:$C$8) -> 574

Sheet avr
A1: DÉPENSES AVRIL | D1: Synthèse | E1: Conseils
A2: Date | B2: N° bon de commande | C2: Montant | D2: Catégorie | E2: Description
A3: =DATE(YEAR(TODAY()),4,4) -> 43194 | B3: A-12345 | C3: 45 | D3: Dépenses 1 | E3: Fournitures
A4: =DATE(YEAR(TODAY()),4,8) -> 43198 | B4: A-12346 | C4: 123 | D4: Dépenses 2
C5: 342 | D5: Dépenses 4
C6: 125 | D6: Dépenses 3
C7: 84 | D7: Dépenses 4
C8: 98 | D8: Dépenses 5
A9: Total | C9: =SUBTOTAL(109,avr!$C$3:$C$8) -> 817

Sheet mai
A1: DÉPENSES MAI | D1: Synthèse | E1: Conseils
A2: Date | B2: N° bon de commande | C2: Montant | D2: Catégorie | E2: Description
A3: =DATE(YEAR(TODAY()),5,3) -> 43223 | B3: A-12345 | C3: 33 | D3: Dépenses 1 | E3: Fournitures
A4: =DATE(YEAR(TODAY()),5,8) -> 43228 | B4: A-12346 | C4: 111 | D4: Dépenses 2
C5: 342 | D5: Dépenses 1
C6: 333 | D6: Dépenses 3
C7: 125 | D7: Dépenses 4
C8: 33 | D8: Dépenses 5
A9: Total | C9: =SUBTOTAL(109,mai!$C$3:$C$8) -> 977

Sheet juin
A1: DÉPENSES JUIN | D1: Synthèse | E1: Conseils
A2: Date | B2: N° bon de commande | C2: Montant | D2: Catégorie | E2: Description
A3: =DATE(YEAR(TODAY()),6,7) -> 43258 | B3: A-12345 | C3: 201 | D3: Dépenses 1 | E3: Fournitures
A4: =DATE(YEAR(TODAY()),6,8) -> 43259 | B4: A-12346 | C4: 98 | D4: Dépenses 2
C5: 342 | D5: Dépenses 5
C6: 122 | D6: Dépenses 3
C7: 187 | D7: Dépenses 4
C8: 99 | D8: Dépenses 5
A9: Total | C9: =SUBTOTAL(109,juin!$C$3:$C$8) -> 1049

Sheet juil
A1: DÉPENSES JUILLET | D1: Synthèse | E1: Conseils
A2: Date | B2: N° bon de commande | C2: Montant | D2: Catégorie | E2: Description
A3: =DATE(YEAR(TODAY()),7,9) -> 43290 | B3: A-12345 | D3: Dépenses 1 | E3: Fournitures
A4: =DATE(YEAR(TODAY()),7,14) -> 43295 | B4: A-12346 | D4: Dépenses 2
D5: Dépenses 2
D6: Dépenses 3
D7: Dépenses 4
D8: Dépenses 5
A9: Total | C9: =SUBTOTAL(109,juil!$C$3:$C$8) -> 0

Sheet aoû
A1: DÉPENSES AOÛT | D1: Synthèse | E1: Conseils
A2: Date | B2: N° bon de commande | C2: Montant | D2: Catégorie | E2: Description
A3: =DATE(YEAR(TODAY()),8,8) -> 43320 | B3: A-12345 | D3: Dépenses 1 | E3: Fournitures
A4: =DATE(YEAR(TODAY()),8,9) -> 43321 | B4: A-12346 | D4: Dépenses 2
D5: Dépenses 2
D6: Dépenses 3
D7: Dépenses 4
D8: Dépenses 5
A9: Total | C9: =SUBTOTAL(109,aoû!$C$3:$C$8) -> 0

Sheet sep
A1: DÉPENSES SEPTEMBRE | D1: Synthèse | E1: Conseils
A2: Date | B2: N° bon de commande | C2: Montant | D2: Catégorie | E2: Description
A3: =DATE(YEAR(TODAY()),9,9) -> 43352 | B3: A-12345 | D3: Dépenses 1 | E3: Fournitures
A4: =DATE(YEAR(TODAY()),9,15) -> 43358 | B4: A-12346 | D4: Dépenses 2
D5: Dépenses 2
D6: Dépenses 3
D7: Dépenses 4
D8: Dépenses 5
A9: Total | C9: =SUBTOTAL(109,sep!$C$3:$C$8) -> 0

Sheet oct
A1: DÉPENSES OCTOBRE | D1: Synthèse | E1: Conseils
A2: Date | B2: N° bon de commande | C2: Montant | D2: Catégorie | E2: Description
A3: =DATE(YEAR(TODAY()),10,10) -> 43383 | B3: A-12345 | D3: Dépenses 1 | E3: Fournitures
A4: =DATE(YEAR(TODAY()),10,21) -> 43394 | B4: A-12346 | D4: Dépenses 2
D5: Dépenses 2
D6: Dépenses 3
D7: Dépenses 4
D8: Dépenses 5
A9: Total | C9: =SUBTOTAL(109,oct!$C$3:$C$8) -> 0

Sheet nov
A1: DÉPENSES NOVEMBRE | D1: Synthèse | E1: Conseils
A2: Date | B2: N° bon de commande | C2: Montant | D2: Catégorie | E2: Description
A3: =DATE(YEAR(TODAY()),11,14) -> 43418 | B3: A-12345 | D3: Dépenses 1 | E3: Fournitures
A4: =DATE(YEAR(TODAY()),11,21) -> 43425 | B4: A-12346 | D4: Dépenses 2
D5: Dépenses 2
D6: Dépenses 3
D7: Dépenses 4
D8: Dépenses 5
A9: Total | C9: =SUBTOTAL(109,nov!$C$3:$C$8) -> 0

Sheet déc
A1: DÉPENSES DÉCEMBRE | D1: Synthèse | E1: Conseils
A2: Date | B2: N° bon de commande | C2: Montant | D2: Catégorie | E2: Description
A3: =DATE(YEAR(TODAY()),12,2) -> 43436 | B3: A-12345 | C3: 201 | D3: Dépenses 1 | E3: Fournitures
A4: =DATE(YEAR(TODAY()),12,24) -> 43458 | B4: A-12346 | C4: 98 | D4: Dépenses 2
C5: 342 | D5: Dépenses 2
C6: 122 | D6: Dépenses 3
C7: 187 | D7: Dépenses 4
C8: 99 | D8: Dépenses 5
A9: Total | C9: =SUBTOTAL(109,déc!$C$3:$C$8) -> 1049
