Workbook

Sheet Feuille calcul
G1: Date début de semaine : | I1: =DATE($K1+(K2<30),1,3)-WEEKDAY(DATE($K1+(K2<30),1,3))-5+7*K2 -> 41505 | K1: 2012
K2: 86
A4: N° Pesse | B4: NOM | C4: Quantité | D4: nbr empreinte | E4: temps de cycle | F4: duré heures | G4: nbr jours | H4: debut | I4: fin
A5: Press 01 | B5: Crochet Chapelut | C5: 10000 | D5: 2 | E5: 25 | F5: =(C5/D5)*(E5/3600) -> 34.722222 | G5: =F5/24 -> 1.4467593 | H5: 41505 | I5: =IF(ISBLANK(H5),"",H5+G5) -> 41506.447
F6: =IFERROR((C6/D6)*(E6/3600),"") | G6: =IFERROR(F6/24,"") | I6: =IFERROR((H6+G6),"")
A7: Presse 02 | B7: Insert AMCOR | C7: 500000 | D7: 5 | E7: 18 | F7: =IFERROR((C7/D7)*(E7/3600),"") -> 500 | G7: =IFERROR(F7/24,"") -> 20.833333 | H7: 41505 | I7: =IFERROR((H7+G7),"") -> 41525.833
F8: =IFERROR((C8/D8)*(E8/3600),"") | G8: =IFERROR(F8/24,"") | I8: =IFERROR((H8+G8),"")
A9: Presse 03 | B9: Panier 270 | F9: =IFERROR((C9/D9)*(E9/3600),"") | G9: =IFERROR(F9/24,"") | I9: =IFERROR((H9+G9),"")
F10: =IFERROR((C10/D10)*(E10/3600),"") | G10: =IFERROR(F10/24,"") | I10: =IFERROR((H10+G10),"")
A11: Presse 04 | B11: NEO 1 Sign.Girod | C11: 208000 | D11: 4 | E11: 18 | F11: =IFERROR((C11/D11)*(E11/3600),"") -> 260 | G11: =IFERROR(F11/24,"") -> 10.833333 | H11: 41506.5 | I11: =IFERROR((H11+G11),"") -> 41517.333
F12: =IFERROR((C12/D12)*(E12/3600),"") | G12: =IFERROR(F12/24,"") | I12: =IFERROR((H12+G12),"")
A13: Presse 05 | B13: Bouchons amcor | C13: 500000 | D13: 4 | E13: 18 | F13: =IFERROR((C13/D13)*(E13/3600),"") -> 625 | G13: =IFERROR(F13/24,"") -> 26.041667 | H13: 41505 | I13: =IFERROR((H13+G13),"") -> 41531.042
F14: =IFERROR((C14/D14)*(E14/3600),"") | G14: =IFERROR(F14/24,"") | I14: =IFERROR((H14+G14),"")
A15: Presse 06 | F15: =IFERROR((C15/D15)*(E15/3600),"") | G15: =IFERROR(F15/24,"") | I15: =IFERROR((H15+G15),"")
F16: =IFERROR((C16/D16)*(E16/3600),"") | G16: =IFERROR(F16/24,"") | I16: =IFERROR((H16+G16),"")
A17: Presse 07 | B17: Palier RenePierre | C17: 2000 | D17: 2 | E17: 30 | F17: =IFERROR((C17/D17)*(E17/3600),"") -> 8.3333333 | G17: =IFERROR(F17/24,"") -> 0.34722222 | I17: =IFERROR((H17+G17),"") -> 0.34722222
F18: =IFERROR((C18/D18)*(E18/3600),"") | G18: =IFERROR(F18/24,"") | I18: =IFERROR((H18+G18),"")
A19: Presse 08 | B19: xenon diam 6 | C19: 2500 | D19: 1 | E19: 25 | F19: =IFERROR((C19/D19)*(E19/3600),"") -> 17.361111 | G19: =IFERROR(F19/24,"") -> 0.72337963 | H19: 41505.625 | I19: =IFERROR((H19+G19),"") -> 41506.348
B20: Bonchon rectangul | C20: 18900 | D20: 3 | E20: 25 | F20: =IFERROR((C20/D20)*(E20/3600),"") -> 43.75 | G20: =IFERROR(F20/24,"") -> 1.8229167 | H20: 41506.833 | I20: =IFERROR((H20+G20),"") -> 41508.656
A21: Presse 09 | B21: pPoignee ronde | C21: 6000 | D21: 2 | E21: 120 | F21: =IFERROR((C21/D21)*(E21/3600),"") -> 100 | G21: =IFERROR(F21/24,"") -> 4.1666667 | H21: 41508.5 | I21: =IFERROR((H21+G21),"") -> 41512.667
F22: =IFERROR((C22/D22)*(E22/3600),"") | G22: =IFERROR(F22/24,"") | I22: =IFERROR((H22+G22),"")
A23: Presse 10 | B23: Panier 210 | F23: =IFERROR((C23/D23)*(E23/3600),"") | G23: =IFERROR(F23/24,"") | I23: =IFERROR((H23+G23),"")
F24: =IFERROR((C24/D24)*(E24/3600),"") | G24: =IFERROR(F24/24,"") | I24: =IFERROR((H24+G24),"")

Sheet GRANTT
E2: =+'Feuille calcul'!I1 -> 41505 | I2: =E2+1 -> 41506 | M2: =I2+1 -> 41507 | Q2: =M2+1 -> 41508 | U2: =Q2+1 -> 41509 | Y2: =U2+1 -> 41510 | AC2: =Y2+1 -> 41511
E3: =E2 -> 41505 | I3: =I2 -> 41506 | M3: =M2 -> 41507 | Q3: =Q2 -> 41508 | U3: =U2 -> 41509 | Y3: =Y2 -> 41510 | AC3: =AC2 -> 41511
C4: 20h | D4: 00h | E4: =E2 -> 41505 | H4: =+E2+24/24 -> 41506 | I4: =I2 -> 41506 | L4: =+I2+24/24 -> 41507 | M4: =M2 -> 41507 | P4: =+M2+24/24 -> 41508 | Q4: =Q2 -> 41508 | T4: =+Q2+24/24 -> 41509 | U4: =U2 -> 41509 | X4: =+U2+24/24 -> 41510 | Y4: =Y2 -> 41510 | AB4: =+Y2+24/24 -> 41511 | AC4: =AC2 -> 41511 | AF4: =+AC2+24/24 -> 41512
A5: ='Feuille calcul'!A5 -> Press 01 | C5: DEBUT | D5: FIN | E5: =E4 -> 41505 | H5: =H4 -> 41506 | I5: =I4 -> 41506 | L5: =L4 -> 41507 | M5: =M4 -> 41507 | P5: =P4 -> 41508 | Q5: =Q4 -> 41508 | T5: =T4 -> 41509 | U5: =U4 -> 41509 | X5: =X4 -> 41510 | Y5: =Y4 -> 41510 | AB5: =AB4 -> 41511 | AC5: =AC4 -> 41511 | AF5: =AF4 -> 41512
B6: =IF('Feuille calcul'!B5=0,"",'Feuille calcul'!B5) -> Crochet Chapelut | C6: =IF('Feuille calcul'!H5=0,"",'Feuille calcul'!H5) -> 41505 | D6: =IF('Feuille calcul'!I5=0,"",'Feuille calcul'!I5) -> 41506.447 | E6: =E5 -> 41505 | F6: =IF(AND(C6>E6,C6<H6),C6,E6) -> 41505 | G6: =IF(AND(D6>E6,D6<H6),D6,H6) -> 41506 | H6: =H5 -> 41506 | I6: =I5 -> 41506 | J6: =IF(AND(C6>I6,C6<L6),C6,I6) -> 41506 | K6: =IF(AND(D6>I6,D6<L6),D6,L6) -> 41506.447 | L6: =L5 -> 41507 | M6: =M5 -> 41507 | N6: =IF(AND(C6>M6,C6<P6),C6,M6) -> 41507 | O6: =IF(AND(D6>M6,D6<P6),D6,P6) -> 41508 | P6: =P5 -> 41508 | Q6: =Q5 -> 41508 | R6: =IF(AND(C6>Q6,C6<T6),C6,Q6) -> 41508 | S6: =IF(AND(D6>Q6,D6<T6),D6,T6) -> 41509 | T6: =T5 -> 41509 | U6: =U5 -> 41509 | V6: =IF(AND(C6>U6,C6<X6),C6,U6) -> 41509 | W6: =IF(AND(D6>U6,D6<X6),D6,X6) -> 41510 | X6: =X5 -> 41510 | Y6: =Y5 -> 41510 | Z6: =IF(AND(C6>Y6,C6<AB6),C6,Y6) -> 41510 | AA6: =IF(AND(D6>Y6,D6<AB6),D6,AB6) -> 41511 | AB6: =AB5 -> 41511 | AC6: =AC5 -> 41511 | AD6: =IF(AND(C6>AC6,C6<AF6),C6,AC6) -> 41511 | AE6: =IF(AND(D6>AC6,D6<AF6),D6,AF6) -> 41512 | AF6: =AF5 -> 41512
B7: =IF('Feuille calcul'!B6=0,"",'Feuille calcul'!B6) | C7: =IF('Feuille calcul'!H6=0,"",'Feuille calcul'!H6) | D7: =IF('Feuille calcul'!I6=0,"",'Feuille calcul'!I6) | E7: =E6 -> 41505 | F7: =IF(AND(C7>E7,C7<H7),C7,E7) -> 41505 | G7: =IF(AND(D7>E7,D7<H7),D7,H7) -> 41506 | H7: =H6 -> 41506 | I7: =I6 -> 41506 | J7: =IF(AND(C7>I7,C7<L7),C7,I7) -> 41506 | K7: =IF(AND(D7>I7,D7<L7),D7,L7) -> 41507 | L7: =L6 -> 41507 | M7: =M6 -> 41507 | N7: =IF(AND(C7>M7,C7<P7),C7,M7) -> 41507 | O7: =IF(AND(D7>M7,D7<P7),D7,P7) -> 41508 | P7: =P6 -> 41508 | Q7: =Q6 -> 41508 | R7: =IF(AND(C7>Q7,C7<T7),C7,Q7) -> 41508 | S7: =IF(AND(D7>Q7,D7<T7),D7,T7) -> 41509 | T7: =T6 -> 41509 | U7: =U6 -> 41509 | V7: =IF(AND(C7>U7,C7<X7),C7,U7) -> 41509 | W7: =IF(AND(D7>U7,D7<X7),D7,X7) -> 41510 | X7: =X6 -> 41510 | Y7: =Y6 -> 41510 | Z7: =IF(AND(C7>Y7,C7<AB7),C7,Y7) -> 41510 | AA7: =IF(AND(D7>Y7,D7<AB7),D7,AB7) -> 41511 | AB7: =AB6 -> 41511 | AC7: =AC6 -> 41511 | AD7: =IF(AND(C7>AC7,C7<AF7),C7,AC7) -> 41511 | AE7: =IF(AND(D7>AC7,D7<AF7),D7,AF7) -> 41512 | AF7: =AF6 -> 41512
A8: ='Feuille calcul'!A7 -> Presse 02 | E8: =E7 -> 41505 | H8: =H7 -> 41506 | I8: =I7 -> 41506 | L8: =L7 -> 41507 | M8: =M7 -> 41507 | P8: =P7 -> 41508 | Q8: =Q7 -> 41508 | T8: =T7 -> 41509 | U8: =U7 -> 41509 | X8: =X7 -> 41510 | Y8: =Y7 -> 41510 | AB8: =AB7 -> 41511 | AC8: =AC7 -> 41511 | AF8: =AF7 -> 41512
B9: =IF('Feuille calcul'!B7=0,"",'Feuille calcul'!B7) -> Insert AMCOR | C9: =IF('Feuille calcul'!H7=0,"",'Feuille calcul'!H7) -> 41505 | D9: =IF('Feuille calcul'!I7=0,"",'Feuille calcul'!I7) -> 41525.833 | E9: =E8 -> 41505 | F9: =IF(AND(C9>E9,C9<H9),C9,E9) -> 41505 | G9: =IF(AND(D9>E9,D9<H9),D9,H9) -> 41506 | H9: =H8 -> 41506 | I9: =I8 -> 41506 | J9: =IF(AND(C9>I9,C9<L9),C9,I9) -> 41506 | K9: =IF(AND(D9>I9,D9<L9),D9,L9) -> 41507 | L9: =L8 -> 41507 | M9: =M8 -> 41507 | N9: =IF(AND(C9>M9,C9<P9),C9,M9) -> 41507 | O9: =IF(AND(D9>M9,D9<P9),D9,P9) -> 41508 | P9: =P8 -> 41508 | Q9: =Q8 -> 41508 | R9: =IF(AND(C9>Q9,C9<T9),C9,Q9) -> 41508 | S9: =IF(AND(D9>Q9,D9<T9),D9,T9) -> 41509 | T9: =T8 -> 41509 | U9: =U8 -> 41509 | V9: =IF(AND(C9>U9,C9<X9),C9,U9) -> 41509 | W9: =IF(AND(D9>U9,D9<X9),D9,X9) -> 41510 | X9: =X8 -> 41510 | Y9: =Y8 -> 41510 | Z9: =IF(AND(C9>Y9,C9<AB9),C9,Y9) -> 41510 | AA9: =IF(AND(D9>Y9,D9<AB9),D9,AB9) -> 41511 | AB9: =AB8 -> 41511 | AC9: =AC8 -> 41511 | AD9: =IF(AND(AA9>AC9,AA9<AF9),AA9,AC9) -> 41511 | AE9: =IF(AND(D9>AC9,D9<AF9),D9,AF9) -> 41512 | AF9: =AF8 -> 41512
C10: =IF('Feuille calcul'!H8=0,"",'Feuille calcul'!H8) | D10: =IF('Feuille calcul'!I8=0,"",'Feuille calcul'!I8) | E10: =E9 -> 41505 | F10: =IF(AND(C10>E10,C10<H10),C10,E10) -> 41505 | G10: =IF(AND(D10>E10,D10<H10),D10,H10) -> 41506 | H10: =H9 -> 41506 | I10: =I9 -> 41506 | J10: =IF(AND(C10>I10,C10<L10),C10,I10) -> 41506 | K10: =IF(AND(D10>I10,D10<L10),D10,L10) -> 41507 | L10: =L9 -> 41507 | M10: =M9 -> 41507 | N10: =IF(AND(C10>M10,C10<P10),C10,M10) -> 41507 | O10: =IF(AND(D10>M10,D10<P10),D10,P10) -> 41508 | P10: =P9 -> 41508 | Q10: =Q9 -> 41508 | R10: =IF(AND(C10>Q10,C10<T10),C10,Q10) -> 41508 | S10: =IF(AND(D10>Q10,D10<T10),D10,T10) -> 41509 | T10: =T9 -> 41509 | U10: =U9 -> 41509 | V10: =IF(AND(C10>U10,C10<X10),C10,U10) -> 41509 | W10: =IF(AND(D10>U10,D10<X10),D10,X10) -> 41510 | X10: =X9 -> 41510 | Y10: =Y9 -> 41510 | Z10: =IF(AND(C10>Y10,C10<AB10),C10,Y10) -> 41510 | AA10: =IF(AND(D10>Y10,D10<AB10),D10,AB10) -> 41511 | AB10: =AB9 -> 41511 | AC10: =AC9 -> 41511 | AD10: =IF(AND(C10>AC10,C10<AF10),C10,AC10) -> 41511 | AE10: =IF(AND(D10>AC10,D10<AF10),D10,AF10) -> 41512 | AF10: =AF9 -> 41512
A11: ='Feuille calcul'!A9 -> Presse 03 | E11: =E10 -> 41505 | H11: =H10 -> 41506 | I11: =I10 -> 41506 | L11: =L10 -> 41507 | M11: =M10 -> 41507 | P11: =P10 -> 41508 | Q11: =Q10 -> 41508 | T11: =T10 -> 41509 | U11: =U10 -> 41509 | X11: =X10 -> 41510 | Y11: =Y10 -> 41510 | AB11: =AB10 -> 41511 | AC11: =AC10 -> 41511 | AF11: =AF10 -> 41512
B12: =IF('Feuille calcul'!B9=0,"",'Feuille calcul'!B9) -> Panier 270 | C12: =IF('Feuille calcul'!H9=0,"",'Feuille calcul'!H9) | D12: =IF('Feuille calcul'!I9=0,"",'Feuille calcul'!I9) | E12: =E11 -> 41505 | F12: =IF(AND(C12>E12,C12<H12),C12,E12) -> 41505 | G12: =IF(AND(D12>E12,D12<H12),D12,H12) -> 41506 | H12: =H11 -> 41506 | I12: =I11 -> 41506 | J12: =IF(AND(C12>I12,C12<L12),C12,I12) -> 41506 | K12: =IF(AND(D12>I12,D12<L12),D12,L12) -> 41507 | L12: =L11 -> 41507 | M12: =M11 -> 41507 | N12: =IF(AND(C12>M12,C12<P12),C12,M12) -> 41507 | O12: =IF(AND(D12>M12,D12<P12),D12,P12) -> 41508 | P12: =P11 -> 41508 | Q12: =Q11 -> 41508 | R12: =IF(AND(C12>Q12,C12<T12),C12,Q12) -> 41508 | S12: =IF(AND(D12>Q12,D12<T12),D12,T12) -> 41509 | T12: =T11 -> 41509 | U12: =U11 -> 41509 | V12: =IF(AND(C12>U12,C12<X12),C12,U12) -> 41509 | W12: =IF(AND(D12>U12,D12<X12),D12,X12) -> 41510 | X12: =X11 -> 41510 | Y12: =Y11 -> 41510 | Z12: =IF(AND(C12>Y12,C12<AB12),C12,Y12) -> 41510 | AA12: =IF(AND(D12>Y12,D12<AB12),D12,AB12) -> 41511 | AB12: =AB11 -> 41511 | AC12: =AC11 -> 41511 | AD12: =IF(AND(AA12>AC12,AA12<AF12),AA12,AC12) -> 41511 | AE12: =IF(AND(D12>AC12,D12<AF12),D12,AF12) -> 41512 | AF12: =AF11 -> 41512
B13: =IF('Feuille calcul'!B10=0,"",'Feuille calcul'!B10) | C13: =IF('Feuille calcul'!H10=0,"",'Feuille calcul'!H10) | D13: =IF('Feuille calcul'!I10=0,"",'Feuille calcul'!I10) | E13: =E12 -> 41505 | F13: =IF(AND(C13>E13,C13<H13),C13,E13) -> 41505 | G13: =IF(AND(D13>E13,D13<H13),D13,H13) -> 41506 | H13: =H12 -> 41506 | I13: =I12 -> 41506 | J13: =IF(AND(C13>I13,C13<L13),C13,I13) -> 41506 | K13: =IF(AND(D13>I13,D13<L13),D13,L13) -> 41507 | L13: =L12 -> 41507 | M13: =M12 -> 41507 | N13: =IF(AND(C13>M13,C13<P13),C13,M13) -> 41507 | O13: =IF(AND(D13>M13,D13<P13),D13,P13) -> 41508 | P13: =P12 -> 41508 | Q13: =Q12 -> 41508 | R13: =IF(AND(C13>Q13,C13<T13),C13,Q13) -> 41508 | S13: =IF(AND(D13>Q13,D13<T13),D13,T13) -> 41509 | T13: =T12 -> 41509 | U13: =U12 -> 41509 | V13: =IF(AND(C13>U13,C13<X13),C13,U13) -> 41509 | W13: =IF(AND(D13>U13,D13<X13),D13,X13) -> 41510 | X13: =X12 -> 41510 | Y13: =Y12 -> 41510 | Z13: =IF(AND(C13>Y13,C13<AB13),C13,Y13) -> 41510 | AA13: =IF(AND(D13>Y13,D13<AB13),D13,AB13) -> 41511 | AB13: =AB12 -> 41511 | AC13: =AC12 -> 41511 | AD13: =IF(AND(C13>AC13,C13<AF13),C13,AC13) -> 41511 | AE13: =IF(AND(D13>AC13,D13<AF13),D13,AF13) -> 41512 | AF13: =AF12 -> 41512
A14: ='Feuille calcul'!A11 -> Presse 04 | E14: =E13 -> 41505 | H14: =H13 -> 41506 | I14: =I13 -> 41506 | L14: =L13 -> 41507 | M14: =M13 -> 41507 | P14: =P13 -> 41508 | Q14: =Q13 -> 41508 | T14: =T13 -> 41509 | U14: =U13 -> 41509 | X14: =X13 -> 41510 | Y14: =Y13 -> 41510 | AB14: =AB13 -> 41511 | AC14: =AC13 -> 41511 | AF14: =AF13 -> 41512
B15: =IF('Feuille calcul'!B11=0,"",'Feuille calcul'!B11) -> NEO 1 Sign.Girod | C15: =IF('Feuille calcul'!H11=0,"",'Feuille calcul'!H11) -> 41506.5 | D15: =IF('Feuille calcul'!I11=0,"",'Feuille calcul'!I11) -> 41517.333 | E15: =E14 -> 41505 | F15: =IF(AND(C15>E15,C15<H15),C15,E15) -> 41505 | G15: =IF(AND(D15>E15,D15<H15),D15,H15) -> 41506 | H15: =H14 -> 41506 | I15: =I14 -> 41506 | J15: =IF(AND(C15>I15,C15<L15),C15,I15) -> 41506.5 | K15: =IF(AND(D15>I15,D15<L15),D15,L15) -> 41507 | L15: =L14 -> 41507 | M15: =M14 -> 41507 | N15: =IF(AND(C15>M15,C15<P15),C15,M15) -> 41507 | O15: =IF(AND(D15>M15,D15<P15),D15,P15) -> 41508 | P15: =P14 -> 41508 | Q15: =Q14 -> 41508 | R15: =IF(AND(C15>Q15,C15<T15),C15,Q15) -> 41508 | S15: =IF(AND(D15>Q15,D15<T15),D15,T15) -> 41509 | T15: =T14 -> 41509 | U15: =U14 -> 41509 | V15: =IF(AND(C15>U15,C15<X15),C15,U15) -> 41509 | W15: =IF(AND(D15>U15,D15<X15),D15,X15) -> 41510 | X15: =X14 -> 41510 | Y15: =Y14 -> 41510 | Z15: =IF(AND(C15>Y15,C15<AB15),C15,Y15) -> 41510 | AA15: =IF(AND(D15>Y15,D15<AB15),D15,AB15) -> 41511 | AB15: =AB14 -> 41511 | AC15: =AC14 -> 41511 | AD15: =IF(AND(AA15>AC15,AA15<AF15),AA15,AC15) -> 41511 | AE15: =IF(AND(D15>AC15,D15<AF15),D15,AF15) -> 41512 | AF15: =AF14 -> 41512
B16: =IF('Feuille calcul'!B12=0,"",'Feuille calcul'!B12) | C16: =IF('Feuille calcul'!H12=0,"",'Feuille calcul'!H12) | D16: =IF('Feuille calcul'!I12=0,"",'Feuille calcul'!I12) | E16: =E15 -> 41505 | F16: =IF(AND(C16>E16,C16<H16),C16,E16) -> 41505 | G16: =IF(AND(D16>E16,D16<H16),D16,H16) -> 41506 | H16: =H15 -> 41506 | I16: =I15 -> 41506 | J16: =IF(AND(C16>I16,C16<L16),C16,I16) -> 41506 | K16: =IF(AND(D16>I16,D16<L16),D16,L16) -> 41507 | L16: =L15 -> 41507 | M16: =M15 -> 41507 | N16: =IF(AND(C16>M16,C16<P16),C16,M16) -> 41507 | O16: =IF(AND(D16>M16,D16<P16),D16,P16) -> 41508 | P16: =P15 -> 41508 | Q16: =Q15 -> 41508 | R16: =IF(AND(C16>Q16,C16<T16),C16,Q16) -> 41508 | S16: =IF(AND(D16>Q16,D16<T16),D16,T16) -> 41509 | T16: =T15 -> 41509 | U16: =U15 -> 41509 | V16: =IF(AND(C16>U16,C16<X16),C16,U16) -> 41509 | W16: =IF(AND(D16>U16,D16<X16),D16,X16) -> 41510 | X16: =X15 -> 41510 | Y16: =Y15 -> 41510 | Z16: =IF(AND(C16>Y16,C16<AB16),C16,Y16) -> 41510 | AA16: =IF(AND(D16>Y16,D16<AB16),D16,AB16) -> 41511 | AB16: =AB15 -> 41511 | AC16: =AC15 -> 41511 | AD16: =IF(AND(C16>AC16,C16<AF16),C16,AC16) -> 41511 | AE16: =IF(AND(D16>AC16,D16<AF16),D16,AF16) -> 41512 | AF16: =AF15 -> 41512
A17: =+'Feuille calcul'!A13 -> Presse 05 | E17: =E16 -> 41505 | H17: =H16 -> 41506 | I17: =I16 -> 41506 | L17: =L16 -> 41507 | M17: =M16 -> 41507 | P17: =P16 -> 41508 | Q17: =Q16 -> 41508 | T17: =T16 -> 41509 | U17: =U16 -> 41509 | X17: =X16 -> 41510 | Y17: =Y16 -> 41510 | AB17: =AB16 -> 41511 | AC17: =AC16 -> 41511 | AF17: =AF16 -> 41512
B18: =IF('Feuille calcul'!B13=0,"",'Feuille calcul'!B13) -> Bouchons amcor | C18: =IF('Feuille calcul'!H13=0,"",'Feuille calcul'!H13) -> 41505 | D18: =IF('Feuille calcul'!I13=0,"",'Feuille calcul'!I13) -> 41531.042 | E18: =E17 -> 41505 | F18: =IF(AND(C18>E18,C18<H18),C18,E18) -> 41505 | G18: =IF(AND(D18>E18,D18<H18),D18,H18) -> 41506 | H18: =H17 -> 41506 | I18: =I17 -> 41506 | J18: =IF(AND(C18>I18,C18<L18),C18,I18) -> 41506 | K18: =IF(AND(D18>I18,D18<L18),D18,L18) -> 41507 | L18: =L17 -> 41507 | M18: =M17 -> 41507 | N18: =IF(AND(C18>M18,C18<P18),C18,M18) -> 41507 | O18: =IF(AND(D18>M18,D18<P18),D18,P18) -> 41508 | P18: =P17 -> 41508 | Q18: =Q17 -> 41508 | R18: =IF(AND(C18>Q18,C18<T18),C18,Q18) -> 41508 | S18: =IF(AND(D18>Q18,D18<T18),D18,T18) -> 41509 | T18: =T17 -> 41509 | U18: =U17 -> 41509 | V18: =IF(AND(C18>U18,C18<X18),C18,U18) -> 41509 | W18: =IF(AND(D18>U18,D18<X18),D18,X18) -> 41510 | X18: =X17 -> 41510 | Y18: =Y17 -> 41510 | Z18: =IF(AND(C18>Y18,C18<AB18),C18,Y18) -> 41510 | AA18: =IF(AND(D18>Y18,D18<AB18),D18,AB18) -> 41511 | AB18: =AB17 -> 41511 | AC18: =AC17 -> 41511 | AD18: =IF(AND(AA18>AC18,AA18<AF18),AA18,AC18) -> 41511 | AE18: =IF(AND(D18>AC18,D18<AF18),D18,AF18) -> 41512 | AF18: =AF17 -> 41512
B19: =IF('Feuille calcul'!B14=0,"",'Feuille calcul'!B14) | C19: =IF('Feuille calcul'!H14=0,"",'Feuille calcul'!H14) | D19: =IF('Feuille calcul'!I14=0,"",'Feuille calcul'!I14) | E19: =E18 -> 41505 | F19: =IF(AND(C19>E19,C19<H19),C19,E19) -> 41505 | G19: =IF(AND(D19>E19,D19<H19),D19,H19) -> 41506 | H19: =H18 -> 41506 | I19: =I18 -> 41506 | J19: =IF(AND(C19>I19,C19<L19),C19,I19) -> 41506 | K19: =IF(AND(D19>I19,D19<L19),D19,L19) -> 41507 | L19: =L18 -> 41507 | M19: =M18 -> 41507 | N19: =IF(AND(C19>M19,C19<P19),C19,M19) -> 41507 | O19: =IF(AND(D19>M19,D19<P19),D19,P19) -> 41508 | P19: =P18 -> 41508 | Q19: =Q18 -> 41508 | R19: =IF(AND(C19>Q19,C19<T19),C19,Q19) -> 41508 | S19: =IF(AND(D19>Q19,D19<T19),D19,T19) -> 41509 | T19: =T18 -> 41509 | U19: =U18 -> 41509 | V19: =IF(AND(C19>U19,C19<X19),C19,U19) -> 41509 | W19: =IF(AND(D19>U19,D19<X19),D19,X19) -> 41510 | X19: =X18 -> 41510 | Y19: =Y18 -> 41510 | Z19: =IF(AND(C19>Y19,C19<AB19),C19,Y19) -> 41510 | AA19: =IF(AND(D19>Y19,D19<AB19),D19,AB19) -> 41511 | AB19: =AB18 -> 41511 | AC19: =AC18 -> 41511 | AD19: =IF(AND(C19>AC19,C19<AF19),C19,AC19) -> 41511 | AE19: =IF(AND(D19>AC19,D19<AF19),D19,AF19) -> 41512 | AF19: =AF18 -> 41512
A20: =+'Feuille calcul'!A15 -> Presse 06 | E20: =E19 -> 41505 | H20: =H19 -> 41506 | I20: =I19 -> 41506 | L20: =L19 -> 41507 | M20: =M19 -> 41507 | P20: =P19 -> 41508 | Q20: =Q19 -> 41508 | T20: =T19 -> 41509 | U20: =U19 -> 41509 | X20: =X19 -> 41510 | Y20: =Y19 -> 41510 | AB20: =AB19 -> 41511 | AC20: =AC19 -> 41511 | AF20: =AF19 -> 41512
B21: =IF('Feuille calcul'!B15=0,"",'Feuille calcul'!B15) | C21: =IF('Feuille calcul'!H15=0,"",'Feuille calcul'!H15) | D21: =IF('Feuille calcul'!I15=0,"",'Feuille calcul'!I15) | E21: =E20 -> 41505 | F21: =IF(AND(C21>E21,C21<H21),C21,E21) -> 41505 | G21: =IF(AND(D21>E21,D21<H21),D21,H21) -> 41506 | H21: =H20 -> 41506 | I21: =I20 -> 41506 | J21: =IF(AND(C21>I21,C21<L21),C21,I21) -> 41506 | K21: =IF(AND(D21>I21,D21<L21),D21,L21) -> 41507 | L21: =L20 -> 41507 | M21: =M20 -> 41507 | N21: =IF(AND(C21>M21,C21<P21),C21,M21) -> 41507 | O21: =IF(AND(D21>M21,D21<P21),D21,P21) -> 41508 | P21: =P20 -> 41508 | Q21: =Q20 -> 41508 | R21: =IF(AND(C21>Q21,C21<T21),C21,Q21) -> 41508 | S21: =IF(AND(D21>Q21,D21<T21),D21,T21) -> 41509 | T21: =T20 -> 41509 | U21: =U20 -> 41509 | V21: =IF(AND(C21>U21,C21<X21),C21,U21) -> 41509 | W21: =IF(AND(D21>U21,D21<X21),D21,X21) -> 41510 | X21: =X20 -> 41510 | Y21: =Y20 -> 41510 | Z21: =IF(AND(C21>Y21,C21<AB21),C21,Y21) -> 41510 | AA21: =IF(AND(D21>Y21,D21<AB21),D21,AB21) -> 41511 | AB21: =AB20 -> 41511 | AC21: =AC20 -> 41511 | AD21: =IF(AND(AA21>AC21,AA21<AF21),AA21,AC21) -> 41511 | AE21: =IF(AND(D21>AC21,D21<AF21),D21,AF21) -> 41512 | AF21: =AF20 -> 41512
B22: =IF('Feuille calcul'!B16=0,"",'Feuille calcul'!B16) | C22: =IF('Feuille calcul'!H16=0,"",'Feuille calcul'!H16) | D22: =IF('Feuille calcul'!I16=0,"",'Feuille calcul'!I16) | E22: =E21 -> 41505 | F22: =IF(AND(C22>E22,C22<H22),C22,E22) -> 41505 | G22: =IF(AND(D22>E22,D22<H22),D22,H22) -> 41506 | H22: =H21 -> 41506 | I22: =I21 -> 41506 | J22: =IF(AND(C22>I22,C22<L22),C22,I22) -> 41506 | K22: =IF(AND(D22>I22,D22<L22),D22,L22) -> 41507 | L22: =L21 -> 41507 | M22: =M21 -> 41507 | N22: =IF(AND(C22>M22,C22<P22),C22,M22) -> 41507 | O22: =IF(AND(D22>M22,D22<P22),D22,P22) -> 41508 | P22: =P21 -> 41508 | Q22: =Q21 -> 41508 | R22: =IF(AND(C22>Q22,C22<T22),C22,Q22) -> 41508 | S22: =IF(AND(D22>Q22,D22<T22),D22,T22) -> 41509 | T22: =T21 -> 41509 | U22: =U21 -> 41509 | V22: =IF(AND(C22>U22,C22<X22),C22,U22) -> 41509 | W22: =IF(AND(D22>U22,D22<X22),D22,X22) -> 41510 | X22: =X21 -> 41510 | Y22: =Y21 -> 41510 | Z22: =IF(AND(C22>Y22,C22<AB22),C22,Y22) -> 41510 | AA22: =IF(AND(D22>Y22,D22<AB22),D22,AB22) -> 41511 | AB22: =AB21 -> 41511 | AC22: =AC21 -> 41511 | AD22: =IF(AND(C22>AC22,C22<AF22),C22,AC22) -> 41511 | AE22: =IF(AND(D22>AC22,D22<AF22),D22,AF22) -> 41512 | AF22: =AF21 -> 41512
A23: =+'Feuille calcul'!A17 -> Presse 07 | E23: =E22 -> 41505 | H23: =H22 -> 41506 | I23: =I22 -> 41506 | L23: =L22 -> 41507 | M23: =M22 -> 41507 | P23: =P22 -> 41508 | Q23: =Q22 -> 41508 | T23: =T22 -> 41509 | U23: =U22 -> 41509 | X23: =X22 -> 41510 | Y23: =Y22 -> 41510 | AB23: =AB22 -> 41511 | AC23: =AC22 -> 41511 | AF23: =AF22 -> 41512
B24: =IF('Feuille calcul'!B17=0,"",'Feuille calcul'!B17) -> Palier RenePierre | C24: =IF('Feuille calcul'!H17=0,"",'Feuille calcul'!H17) | D24: =IF('Feuille calcul'!I17=0,"",'Feuille calcul'!I17) -> 0.34722222 | E24: =E23 -> 41505 | F24: =IF(AND(C24>E24,C24<H24),C24,E24) -> 41505 | G24: =IF(AND(D24>E24,D24<H24),D24,H24) -> 41506 | H24: =H23 -> 41506 | I24: =I23 -> 41506 | J24: =IF(AND(C24>I24,C24<L24),C24,I24) -> 41506 | K24: =IF(AND(D24>I24,D24<L24),D24,L24) -> 41507 | L24: =L23 -> 41507 | M24: =M23 -> 41507 | N24: =IF(AND(C24>M24,C24<P24),C24,M24) -> 41507 | O24: =IF(AND(D24>M24,D24<P24),D24,P24) -> 41508 | P24: =P23 -> 41508 | Q24: =Q23 -> 41508 | R24: =IF(AND(C24>Q24,C24<T24),C24,Q24) -> 41508 | S24: =IF(AND(D24>Q24,D24<T24),D24,T24) -> 41509 | T24: =T23 -> 41509 | U24: =U23 -> 41509 | V24: =IF(AND(C24>U24,C24<X24),C24,U24) -> 41509 | W24: =IF(AND(D24>U24,D24<X24),D24,X24) -> 41510 | X24: =X23 -> 41510 | Y24: =Y23 -> 41510 | Z24: =IF(AND(C24>Y24,C24<AB24),C24,Y24) -> 41510 | AA24: =IF(AND(D24>Y24,D24<AB24),D24,AB24) -> 41511 | AB24: =AB23 -> 41511 | AC24: =AC23 -> 41511 | AD24: =IF(AND(AA24>AC24,AA24<AF24),AA24,AC24) -> 41511 | AE24: =IF(AND(D24>AC24,D24<AF24),D24,AF24) -> 41512 | AF24: =AF23 -> 41512
B25: =IF('Feuille calcul'!B18=0,"",'Feuille calcul'!B18) | C25: =IF('Feuille calcul'!H18=0,"",'Feuille calcul'!H18) | D25: =IF('Feuille calcul'!I18=0,"",'Feuille calcul'!I18) | E25: =E24 -> 41505 | F25: =IF(AND(C25>E25,C25<H25),C25,E25) -> 41505 | G25: =IF(AND(D25>E25,D25<H25),D25,H25) -> 41506 | H25: =H24 -> 41506 | I25: =I24 -> 41506 | J25: =IF(AND(C25>I25,C25<L25),C25,I25) -> 41506 | K25: =IF(AND(D25>I25,D25<L25),D25,L25) -> 41507 | L25: =L24 -> 41507 | M25: =M24 -> 41507 | N25: =IF(AND(C25>M25,C25<P25),C25,M25) -> 41507 | O25: =IF(AND(D25>M25,D25<P25),D25,P25) -> 41508 | P25: =P24 -> 41508 | Q25: =Q24 -> 41508 | R25: =IF(AND(C25>Q25,C25<T25),C25,Q25) -> 41508 | S25: =IF(AND(D25>Q25,D25<T25),D25,T25) -> 41509 | T25: =T24 -> 41509 | U25: =U24 -> 41509 | V25: =IF(AND(C25>U25,C25<X25),C25,U25) -> 41509 | W25: =IF(AND(D25>U25,D25<X25),D25,X25) -> 41510 | X25: =X24 -> 41510 | Y25: =Y24 -> 41510 | Z25: =IF(AND(C25>Y25,C25<AB25),C25,Y25) -> 41510 | AA25: =IF(AND(D25>Y25,D25<AB25),D25,AB25) -> 41511 | AB25: =AB24 -> 41511 | AC25: =AC24 -> 41511 | AD25: =IF(AND(C25>AC25,C25<AF25),C25,AC25) -> 41511 | AE25: =IF(AND(D25>AC25,D25<AF25),D25,AF25) -> 41512 | AF25: =AF24 -> 41512
A26: =+'Feuille calcul'!A19 -> Presse 08 | E26: =E25 -> 41505 | H26: =H25 -> 41506 | I26: =I25 -> 41506 | L26: =L25 -> 41507 | M26: =M25 -> 41507 | P26: =P25 -> 41508 | Q26: =Q25 -> 41508 | T26: =T25 -> 41509 | U26: =U25 -> 41509 | X26: =X25 -> 41510 | Y26: =Y25 -> 41510 | AB26: =AB25 -> 41511 | AC26: =AC25 -> 41511 | AF26: =AF25 -> 41512
B27: =IF('Feuille calcul'!B19=0,"",'Feuille calcul'!B19) -> xenon diam 6 | C27: =IF('Feuille calcul'!H19=0,"",'Feuille calcul'!H19) -> 41505.625 | D27: =IF('Feuille calcul'!I19=0,"",'Feuille calcul'!I19) -> 41506.348 | E27: =E26 -> 41505 | F27: =IF(AND(C27>E27,C27<H27),C27,E27) -> 41505.625 | G27: =IF(AND(D27>E27,D27<H27),D27,H27) -> 41506 | H27: =H26 -> 41506 | I27: =I26 -> 41506 | J27: =IF(AND(C27>I27,C27<L27),C27,I27) -> 41506 | K27: =IF(AND(D27>I27,D27<L27),D27,L27) -> 41506.348 | L27: =L26 -> 41507 | M27: =M26 -> 41507 | N27: =IF(AND(C27>M27,C27<P27),C27,M27) -> 41507 | O27: =IF(AND(D27>M27,D27<P27),D27,P27) -> 41508 | P27: =P26 -> 41508 | Q27: =Q26 -> 41508 | R27: =IF(AND(C27>Q27,C27<T27),C27,Q27) -> 41508 | S27: =IF(AND(D27>Q27,D27<T27),D27,T27) -> 41509 | T27: =T26 -> 41509 | U27: =U26 -> 41509 | V27: =IF(AND(C27>U27,C27<X27),C27,U27) -> 41509 | W27: =IF(AND(D27>U27,D27<X27),D27,X27) -> 41510 | X27: =X26 -> 41510 | Y27: =Y26 -> 41510 | Z27: =IF(AND(C27>Y27,C27<AB27),C27,Y27) -> 41510 | AA27: =IF(AND(D27>Y27,D27<AB27),D27,AB27) -> 41511 | AB27: =AB26 -> 41511 | AC27: =AC26 -> 41511 | AD27: =IF(AND(AA27>AC27,AA27<AF27),AA27,AC27) -> 41511 | AE27: =IF(AND(D27>AC27,D27<AF27),D27,AF27) -> 41512 | AF27: =AF26 -> 41512
B28: =IF('Feuille calcul'!B20=0,"",'Feuille calcul'!B20) -> Bonchon rectangul | C28: =IF('Feuille calcul'!H20=0,"",'Feuille calcul'!H20) -> 41506.833 | D28: =IF('Feuille calcul'!I20=0,"",'Feuille calcul'!I20) -> 41508.656 | E28: =E27 -> 41505 | F28: =IF(AND(C28>E28,C28<H28),C28,E28) -> 41505 | G28: =IF(AND(D28>E28,D28<H28),D28,H28) -> 41506 | H28: =H27 -> 41506 | I28: =I27 -> 41506 | J28: =IF(AND(C28>I28,C28<L28),C28,I28) -> 41506.833 | K28: =IF(AND(D28>I28,D28<L28),D28,L28) -> 41507 | L28: =L27 -> 41507 | M28: =M27 -> 41507 | N28: =IF(AND(C28>M28,C28<P28),C28,M28) -> 41507 | O28: =IF(AND(D28>M28,D28<P28),D28,P28) -> 41508 | P28: =P27 -> 41508 | Q28: =Q27 -> 41508 | R28: =IF(AND(C28>Q28,C28<T28),C28,Q28) -> 41508 | S28: =IF(AND(D28>Q28,D28<T28),D28,T28) -> 41508.656 | T28: =T27 -> 41509 | U28: =U27 -> 41509 | V28: =IF(AND(C28>U28,C28<X28),C28,U28) -> 41509 | W28: =IF(AND(D28>U28,D28<X28),D28,X28) -> 41510 | X28: =X27 -> 41510 | Y28: =Y27 -> 41510 | Z28: =IF(AND(C28>Y28,C28<AB28),C28,Y28) -> 41510 | AA28: =IF(AND(D28>Y28,D28<AB28),D28,AB28) -> 41511 | AB28: =AB27 -> 41511 | AC28: =AC27 -> 41511 | AD28: =IF(AND(C28>AC28,C28<AF28),C28,AC28) -> 41511 | AE28: =IF(AND(D28>AC28,D28<AF28),D28,AF28) -> 41512 | AF28: =AF27 -> 41512
A29: =+'Feuille calcul'!A21 -> Presse 09 | E29: =E28 -> 41505 | H29: =H28 -> 41506 | I29: =I28 -> 41506 | L29: =L28 -> 41507 | M29: =M28 -> 41507 | P29: =P28 -> 41508 | Q29: =Q28 -> 41508 | T29: =T28 -> 41509 | U29: =U28 -> 41509 | X29: =X28 -> 41510 | Y29: =Y28 -> 41510 | AB29: =AB28 -> 41511 | AC29: =AC28 -> 41511 | AF29: =AF28 -> 41512
B30: =IF('Feuille calcul'!B21=0,"",'Feuille calcul'!B21) -> pPoignee ronde | C30: =IF('Feuille calcul'!H21=0,"",'Feuille calcul'!H21) -> 41508.5 | D30: =IF('Feuille calcul'!I21=0,"",'Feuille calcul'!I21) -> 41512.667 | E30: =E29 -> 41505 | F30: =IF(AND(C30>E30,C30<H30),C30,E30) -> 41505 | G30: =IF(AND(D30>E30,D30<H30),D30,H30) -> 41506 | H30: =H29 -> 41506 | I30: =I29 -> 41506 | J30: =IF(AND(C30>I30,C30<L30),C30,I30) -> 41506 | K30: =IF(AND(D30>I30,D30<L30),D30,L30) -> 41507 | L30: =L29 -> 41507 | M30: =M29 -> 41507 | N30: =IF(AND(C30>M30,C30<P30),C30,M30) -> 41507 | O30: =IF(AND(D30>M30,D30<P30),D30,P30) -> 41508 | P30: =P29 -> 41508 | Q30: =Q29 -> 41508 | R30: =IF(AND(C30>Q30,C30<T30),C30,Q30) -> 41508.5 | S30: =IF(AND(D30>Q30,D30<T30),D30,T30) -> 41509 | T30: =T29 -> 41509 | U30: =U29 -> 41509 | V30: =IF(AND(C30>U30,C30<X30),C30,U30) -> 41509 | W30: =IF(AND(D30>U30,D30<X30),D30,X30) -> 41510 | X30: =X29 -> 41510 | Y30: =Y29 -> 41510 | Z30: =IF(AND(C30>Y30,C30<AB30),C30,Y30) -> 41510 | AA30: =IF(AND(D30>Y30,D30<AB30),D30,AB30) -> 41511 | AB30: =AB29 -> 41511 | AC30: =AC29 -> 41511 | AD30: =IF(AND(AA30>AC30,AA30<AF30),AA30,AC30) -> 41511 | AE30: =IF(AND(D30>AC30,D30<AF30),D30,AF30) -> 41512 | AF30: =AF29 -> 41512
B31: =IF('Feuille calcul'!B22=0,"",'Feuille calcul'!B22) | C31: =IF('Feuille calcul'!H22=0,"",'Feuille calcul'!H22) | D31: =IF('Feuille calcul'!I22=0,"",'Feuille calcul'!I22) | E31: =E30 -> 41505 | F31: =IF(AND(C31>E31,C31<H31),C31,E31) -> 41505 | G31: =IF(AND(D31>E31,D31<H31),D31,H31) -> 41506 | H31: =H30 -> 41506 | I31: =I30 -> 41506 | J31: =IF(AND(C31>I31,C31<L31),C31,I31) -> 41506 | K31: =IF(AND(D31>I31,D31<L31),D31,L31) -> 41507 | L31: =L30 -> 41507 | M31: =M30 -> 41507 | N31: =IF(AND(C31>M31,C31<P31),C31,M31) -> 41507 | O31: =IF(AND(D31>M31,D31<P31),D31,P31) -> 41508 | P31: =P30 -> 41508 | Q31: =Q30 -> 41508 | R31: =IF(AND(C31>Q31,C31<T31),C31,Q31) -> 41508 | S31: =IF(AND(D31>Q31,D31<T31),D31,T31) -> 41509 | T31: =T30 -> 41509 | U31: =U30 -> 41509 | V31: =IF(AND(C31>U31,C31<X31),C31,U31) -> 41509 | W31: =IF(AND(D31>U31,D31<X31),D31,X31) -> 41510 | X31: =X30 -> 41510 | Y31: =Y30 -> 41510 | Z31: =IF(AND(C31>Y31,C31<AB31),C31,Y31) -> 41510 | AA31: =IF(AND(D31>Y31,D31<AB31),D31,AB31) -> 41511 | AB31: =AB30 -> 41511 | AC31: =AC30 -> 41511 | AD31: =IF(AND(C31>AC31,C31<AF31),C31,AC31) -> 41511 | AE31: =IF(AND(D31>AC31,D31<AF31),D31,AF31) -> 41512 | AF31: =AF30 -> 41512
A32: =+'Feuille calcul'!A23 -> Presse 10 | E32: =E31 -> 41505 | H32: =H31 -> 41506 | I32: =I31 -> 41506 | L32: =L31 -> 41507 | M32: =M31 -> 41507 | P32: =P31 -> 41508 | Q32: =Q31 -> 41508 | T32: =T31 -> 41509 | U32: =U31 -> 41509 | X32: =X31 -> 41510 | Y32: =Y31 -> 41510 | AB32: =AB31 -> 41511 | AC32: =AC31 -> 41511 | AF32: =AF31 -> 41512
B33: =IF('Feuille calcul'!B23=0,"",'Feuille calcul'!B23) -> Panier 210 | C33: =IF('Feuille calcul'!H23=0,"",'Feuille calcul'!H23) | D33: =IF('Feuille calcul'!I23=0,"",'Feuille calcul'!I23) | E33: =E32 -> 41505 | F33: =IF(AND(C33>E33,C33<H33),C33,E33) -> 41505 | G33: =IF(AND(D33>E33,D33<H33),D33,H33) -> 41506 | H33: =H32 -> 41506 | I33: =I32 -> 41506 | J33: =IF(AND(C33>I33,C33<L33),C33,I33) -> 41506 | K33: =IF(AND(D33>I33,D33<L33),D33,L33) -> 41507 | L33: =L32 -> 41507 | M33: =M32 -> 41507 | N33: =IF(AND(C33>M33,C33<P33),C33,M33) -> 41507 | O33: =IF(AND(D33>M33,D33<P33),D33,P33) -> 41508 | P33: =P32 -> 41508 | Q33: =Q32 -> 41508 | R33: =IF(AND(C33>Q33,C33<T33),C33,Q33) -> 41508 | S33: =IF(AND(D33>Q33,D33<T33),D33,T33) -> 41509 | T33: =T32 -> 41509 | U33: =U32 -> 41509 | V33: =IF(AND(C33>U33,C33<X33),C33,U33) -> 41509 | W33: =IF(AND(D33>U33,D33<X33),D33,X33) -> 41510 | X33: =X32 -> 41510 | Y33: =Y32 -> 41510 | Z33: =IF(AND(C33>Y33,C33<AB33),C33,Y33) -> 41510 | AA33: =IF(AND(D33>Y33,D33<AB33),D33,AB33) -> 41511 | AB33: =AB32 -> 41511 | AC33: =AC32 -> 41511 | AD33: =IF(AND(AA33>AC33,AA33<AF33),AA33,AC33) -> 41511 | AE33: =IF(AND(D33>AC33,D33<AF33),D33,AF33) -> 41512 | AF33: =AF32 -> 41512
B34: =IF('Feuille calcul'!B24=0,"",'Feuille calcul'!B24) | C34: =IF('Feuille calcul'!H24=0,"",'Feuille calcul'!H24) | D34: =IF('Feuille calcul'!I24=0,"",'Feuille calcul'!I24) | E34: =E33 -> 41505 | F34: =IF(AND(C34>E34,C34<H34),C34,E34) -> 41505 | G34: =IF(AND(D34>E34,D34<H34),D34,H34) -> 41506 | H34: =H33 -> 41506 | I34: =I33 -> 41506 | J34: =IF(AND(C34>I34,C34<L34),C34,I34) -> 41506 | K34: =IF(AND(D34>I34,D34<L34),D34,L34) -> 41507 | L34: =L33 -> 41507 | M34: =M33 -> 41507 | N34: =IF(AND(C34>M34,C34<P34),C34,M34) -> 41507 | O34: =IF(AND(D34>M34,D34<P34),D34,P34) -> 41508 | P34: =P33 -> 41508 | Q34: =Q33 -> 41508 | R34: =IF(AND(C34>Q34,C34<T34),C34,Q34) -> 41508 | S34: =IF(AND(D34>Q34,D34<T34),D34,T34) -> 41509 | T34: =T33 -> 41509 | U34: =U33 -> 41509 | V34: =IF(AND(C34>U34,C34<X34),C34,U34) -> 41509 | W34: =IF(AND(D34>U34,D34<X34),D34,X34) -> 41510 | X34: =X33 -> 41510 | Y34: =Y33 -> 41510 | Z34: =IF(AND(C34>Y34,C34<AB34),C34,Y34) -> 41510 | AA34: =IF(AND(D34>Y34,D34<AB34),D34,AB34) -> 41511 | AB34: =AB33 -> 41511 | AC34: =AC33 -> 41511 | AD34: =IF(AND(C34>AC34,C34<AF34),C34,AC34) -> 41511 | AE34: =IF(AND(D34>AC34,D34<AF34),D34,AF34) -> 41512 | AF34: =AF33 -> 41512

Sheet Planning perso
A1: PLANNING PERSO
B2: lundi | D2: mardi | F2: mercredi | H2: jeudi | J2: vendredi
A3: PRESSE | B3: ='Feuille calcul'!I1 -> 41505 | D3: =B3+1 -> 41506 | F3: =D3+1 -> 41507 | H3: =F3+1 -> 41508 | J3: =H3+1 -> 41509
A4: Presse 01 | B4: PLAT N 34 | C4: PLAT N 34 | D4: PLAT N 34 | E4: PLAT N 34 | F4: PLAT N 34 | G4: PLAT N 34 | H4: CHANG . MOULE crochet 50 chap | I4: crochet 50 chap | J4: crochet 50 chap | K4: crochet 50 chap
A9: Presse 02 | B9: Insert amcor | C9: Insert amcor | D9: Insert amcor | E9: Insert amcor | F9: Insert amcor | G9: Insert amcor | H9: Insert amcor | I9: Insert amcor | J9: Insert amcor | K9: Insert amcor
A14: Presse 03
A19: Presse 04 | C19: CHANG . MOULE chev 8 SC | D19: CHANG . MOULE Neo | E19: neo | F19: neo | G19: neo | H19: neo | I19: neo | J19: neo | K19: neo
A24: Presse 05 | B24: bouch amcor | C24: bouch amcor | D24: bouch amcor | E24: bouch amcor | F24: bouch amcor | G24: bouch amcor | H24: bouch amcor | I24: bouch amcor | J24: bouch amcor | K24: bouch amcor
A29: Presse 06
A33: Presse 07 | B33: Palier Rener Pierre | C33: Palier Rener Pierre | D33: Palier Rener Pierre | E33: Palier Rener Pierre | F33: Palier Rener Pierre | G33: CHANG . MOULE Poigner ronde | H33: Poigner ronde | I33: Poigner ronde | J33: Poigner ronde | K33: Poigner ronde
A38: Presse 08 | B38: CHANG . MOULE xenon 6 | C38: xenon 6 | D38: xenon 6 | E38: CHANG . MOULE Bonchon rectang | F38: Bonchon rectangulaire | G38: Bonchon rectangulaire | H38: Bonchon rectangulaire | I38: Bonchon rectangulaire | J38: Bonchon rectangulaire | K38: Bonchon rectangulaire
A43: Presse 09
A48: Presse 10 | B48: Panier chavet | C48: Panier chavet | D48: Panier chavet | E48: Panier chavet | F48: Panier chavet | G48: Panier chavet | H48: Panier chavet | I48: Panier chavet | J48: Panier chavet | K48: Panier chavet
A53: COMMENDE | F53: COMMANDE | I53: Livraison diager
A58: nbr presse | B58: 4 | D58: 3 | F58: 3 | H58: 4 | J58: 3

Sheet Feuille prod
A2: PRESSE | B2: lundi 20 h | D2: mardi 20 h | F2: mercredi 20h | H2: jeudi 20h | J2: vendredi20h
B3: Prod voulu | C3: Prod réel | D3: Prod voulu | E3: Prod réel | F3: Prod voulu | G3: Prod réel | H3: Prod voulu | I3: Prod réel | J3: Prod voulu | K3: Prod réel
A4: Presse 01 | B4: =((3600/'Feuille calcul'!E5)*'Feuille calcul'!D5)*24 -> 6912 | D4: =B4*2 -> 13824
A9: Presse 02 | B9: =((3600/'Feuille calcul'!E7)*'Feuille calcul'!D7)*24 -> 24000 | D9: =B9*2 -> 48000
A14: Presse 03
A19: Presse 04
A24: Presse 05
A29: Presse 06
A33: Presse 07
A38: Presse 08
A43: Presse 09
A48: Presse 10
A53: DIVERS

Sheet Feuil1
