Workbook

Sheet Feuille calcul
C1: Formules
C2: Données à rentrer manuellement
A4: N° Pesse | B4: NOM | C4: Quantité | D4: nbr empreinte | E4: temps de cycle | F4: duré heures | G4: nbr jours | H4: debut | I4: fin
A6: Press 01 | B6: Crochet chapelut 50 cm | C6: 0 | D6: 2 | E6: 20 | F6: =(C6/D6)*(E6/3600) -> 0 | G6: =F6/24 -> 0 | H6: 41365.833 | I6: =IF(ISBLANK(H6),"",H6+G6) -> 41365.833
B7: xenon Diam 8 | C7: 10000 | D7: 1 | E7: 20 | F7: =(C7/D7)*(E7/3600) -> 55.555556 | G7: =F7/24 -> 2.3148148 | H7: 41366.833 | I7: =IF(ISBLANK(H7),"",H7+G7) -> 41369.148
A8: Presse 02 | B8: 0 | C8: 0 | D8: 4 | E8: 20 | F8: =(C8/D8)*(E8/3600) -> 0 | G8: =F8/24 -> 0 | H8: 0 | I8: =IF(ISBLANK(H8),"",H8+G8) -> 0
B9: 0 | C9: 0 | D9: 4 | E9: 20 | F9: =(C9/D9)*(E9/3600) -> 0 | G9: =F9/24 -> 0 | H9: 0 | I9: =IF(ISBLANK(H9),"",H9+G9) -> 0
A10: Presse 03 | B10: Plaque grigi | C10: 500 | D10: 1 | E10: 30 | F10: =(C10/D10)*(E10/3600) -> 4.1666667 | G10: =F10/24 -> 0.17361111 | H10: 41365.75 | I10: =IF(ISBLANK(H10),"",H10+G10) -> 41365.924
B11: Couvercle BEABA | C11: 1400 | D11: 1 | E11: 30 | F11: =(C11/D11)*(E11/3600) -> 11.666667 | G11: =F11/24 -> 0.48611111 | H11: 41366.833 | I11: =IF(ISBLANK(H11),"",H11+G11) -> 41367.319
A12: Press 04 | B12: 0 | C12: 0 | D12: 2 | E12: 20 | F12: =(C12/D12)*(E12/3600) -> 0 | G12: =F12/24 -> 0 | H12: 0 | I12: =IF(ISBLANK(H12),"",H12+G12) -> 0
B13: 0 | C13: 0 | D13: 1 | E13: 20 | F13: =(C13/D13)*(E13/3600) -> 0 | G13: =F13/24 -> 0 | H13: 0 | I13: =IF(ISBLANK(H13),"",H13+G13) -> 0
A14: Presse 05 | B14: Embout G.M NEO | C14: 55000 | D14: 4 | E14: 20 | F14: =(C14/D14)*(E14/3600) -> 76.388889 | G14: =F14/24 -> 3.1828704 | H14: 41366.833 | I14: =IF(ISBLANK(H14),"",H14+G14) -> 41370.016
B15: 0 | C15: 0 | D15: 4 | E15: 20 | F15: =(C15/D15)*(E15/3600) -> 0 | G15: =F15/24 -> 0 | H15: 0 | I15: =IF(ISBLANK(H15),"",H15+G15) -> 0
A16: Presse 03 | B16: Plaque grigi | C16: 500 | D16: 1 | E16: 30 | F16: =(C16/D16)*(E16/3600) -> 4.1666667 | G16: =F16/24 -> 0.17361111 | H16: 41365.75 | I16: =IF(ISBLANK(H16),"",H16+G16) -> 41365.924
B17: Couvercle BEABA | C17: 1400 | D17: 1 | E17: 30 | F17: =(C17/D17)*(E17/3600) -> 11.666667 | G17: =F17/24 -> 0.48611111 | H17: 41366.833 | I17: =IF(ISBLANK(H17),"",H17+G17) -> 41367.319

Sheet s10
B1: 41365
E2: =+B1 -> 41365 | I2: =E2+1 -> 41366 | M2: =I2+1 -> 41367 | Q2: =M2+1 -> 41368 | U2: =Q2+1 -> 41369 | Y2: =U2+1 -> 41370 | AC2: =Y2+1 -> 41371
E3: =E2 -> 41365 | I3: =I2 -> 41366 | M3: =M2 -> 41367 | Q3: =Q2 -> 41368 | U3: =U2 -> 41369 | Y3: =Y2 -> 41370 | AC3: =AC2 -> 41371
C4: 20h | D4: 00h | E4: =E2 -> 41365 | H4: =+E2+24/24 -> 41366 | I4: =I2 -> 41366 | L4: =+I2+24/24 -> 41367 | M4: =M2 -> 41367 | P4: =+M2+24/24 -> 41368 | Q4: =Q2 -> 41368 | T4: =+Q2+24/24 -> 41369 | U4: =U2 -> 41369 | X4: =+U2+24/24 -> 41370 | Y4: =Y2 -> 41370 | AB4: =+Y2+24/24 -> 41371 | AC4: =AC2 -> 41371 | AF4: =+AC2+24/24 -> 41372
A5: ='Feuille calcul'!A6 -> Press 01 | E5: =E4 -> 41365 | H5: 0 | I5: =I4 -> 41366 | L5: =L4 -> 41367 | M5: =M4 -> 41367 | P5: =P4 -> 41368 | Q5: =Q4 -> 41368 | T5: =T4 -> 41369 | U5: =U4 -> 41369 | X5: =X4 -> 41370 | Y5: =Y4 -> 41370 | AB5: =AB4 -> 41371 | AC5: =AC4 -> 41371 | AF5: =AF4 -> 41372
B6: =IF('Feuille calcul'!B6=0,"",'Feuille calcul'!B6) -> Crochet chapelut 50 cm | C6: =IF('Feuille calcul'!H6=0,"",'Feuille calcul'!H6) -> 41365.833 | D6: =IF('Feuille calcul'!I6=0,"",'Feuille calcul'!I6) -> 41365.833 | E6: =E5 -> 41365 | F6: =IF(AND(C6>E6,C6<H6),C6,E6) -> 41365 | G6: =IF(AND(D6>E6,D6<H6),D6,H6) -> 0 | H6: =H5 -> 0 | I6: =I5 -> 41366 | J6: =IF(AND(C6>I6,C6<L6),C6,I6) -> 41366 | K6: =IF(AND(D6>I6,D6<L6),D6,L6) -> 41367 | L6: =L5 -> 41367 | M6: =M5 -> 41367 | N6: =IF(AND(C6>M6,C6<P6),C6,M6) -> 41367 | O6: =IF(AND(D6>M6,D6<P6),D6,P6) -> 41368 | P6: =P5 -> 41368 | Q6: =Q5 -> 41368 | R6: =IF(AND(C6>Q6,C6<T6),C6,Q6) -> 41368 | S6: =IF(AND(D6>Q6,D6<T6),D6,T6) -> 41369 | T6: =T5 -> 41369 | U6: =U5 -> 41369 | V6: =IF(AND(C6>U6,C6<X6),C6,U6) -> 41369 | W6: =IF(AND(D6>U6,D6<X6),D6,X6) -> 41370 | X6: =X5 -> 41370 | Y6: =Y5 -> 41370 | Z6: =IF(AND(C6>Y6,C6<AB6),C6,Y6) -> 41370 | AA6: =IF(AND(D6>Y6,D6<AB6),D6,AB6) -> 41371 | AB6: =AB5 -> 41371 | AC6: =AC5 -> 41371 | AD6: =IF(AND(C6>AC6,C6<AF6),C6,AC6) -> 41371 | AE6: =IF(AND(D6>AC6,D6<AF6),D6,AF6) -> 41372 | AF6: =AF5 -> 41372
B7: =IF('Feuille calcul'!B7=0,"",'Feuille calcul'!B7) -> xenon Diam 8 | C7: =IF('Feuille calcul'!H7=0,"",'Feuille calcul'!H7) -> 41366.833 | D7: =IF('Feuille calcul'!I7=0,"",'Feuille calcul'!I7) -> 41369.148 | E7: =E6 -> 41365 | F7: =IF(AND(C7>E7,C7<H7),C7,E7) -> 41365 | G7: =IF(AND(D7>E7,D7<H7),D7,H7) -> 0 | H7: =H6 -> 0 | I7: =I6 -> 41366 | J7: =IF(AND(C7>I7,C7<L7),C7,I7) -> 41366.833 | K7: =IF(AND(D7>I7,D7<L7),D7,L7) -> 41367 | L7: =L6 -> 41367 | M7: =M6 -> 41367 | N7: =IF(AND(C7>M7,C7<P7),C7,M7) -> 41367 | O7: =IF(AND(D7>M7,D7<P7),D7,P7) -> 41368 | P7: =P6 -> 41368 | Q7: =Q6 -> 41368 | R7: =IF(AND(C7>Q7,C7<T7),C7,Q7) -> 41368 | S7: =IF(AND(D7>Q7,D7<T7),D7,T7) -> 41369 | T7: =T6 -> 41369 | U7: =U6 -> 41369 | V7: =IF(AND(C7>U7,C7<X7),C7,U7) -> 41369 | W7: =IF(AND(D7>U7,D7<X7),D7,X7) -> 41369.148 | X7: =X6 -> 41370 | Y7: =Y6 -> 41370 | Z7: =IF(AND(C7>Y7,C7<AB7),C7,Y7) -> 41370 | AA7: =IF(AND(D7>Y7,D7<AB7),D7,AB7) -> 41371 | AB7: =AB6 -> 41371 | AC7: =AC6 -> 41371 | AD7: =IF(AND(C7>AC7,C7<AF7),C7,AC7) -> 41371 | AE7: =IF(AND(D7>AC7,D7<AF7),D7,AF7) -> 41372 | AF7: =AF6 -> 41372
A8: ='Feuille calcul'!A8 -> Presse 02 | E8: =E7 -> 41365 | H8: =H7 -> 0 | I8: =I7 -> 41366 | L8: =L7 -> 41367 | M8: =M7 -> 41367 | P8: =P7 -> 41368 | Q8: =Q7 -> 41368 | T8: =T7 -> 41369 | U8: =U7 -> 41369 | X8: =X7 -> 41370 | Y8: =Y7 -> 41370 | AB8: =AB7 -> 41371 | AC8: =AC7 -> 41371 | AF8: =AF7 -> 41372
B9: =IF('Feuille calcul'!B8=0,"",'Feuille calcul'!B8) | C9: =IF('Feuille calcul'!H8=0,"",'Feuille calcul'!H8) | D9: =IF('Feuille calcul'!I8=0,"",'Feuille calcul'!I8) | E9: =E8 -> 41365 | F9: =IF(AND(C9>E9,C9<H9),C9,E9) -> 41365 | G9: =IF(AND(D9>E9,D9<H9),D9,H9) -> 0 | H9: =H8 -> 0 | I9: =I8 -> 41366 | J9: =IF(AND(C9>I9,C9<L9),C9,I9) -> 41366 | K9: =IF(AND(D9>I9,D9<L9),D9,L9) -> 41367 | L9: =L8 -> 41367 | M9: =M8 -> 41367 | N9: =IF(AND(C9>M9,C9<P9),C9,M9) -> 41367 | O9: =IF(AND(D9>M9,D9<P9),D9,P9) -> 41368 | P9: =P8 -> 41368 | Q9: =Q8 -> 41368 | R9: =IF(AND(C9>Q9,C9<T9),C9,Q9) -> 41368 | S9: =IF(AND(D9>Q9,D9<T9),D9,T9) -> 41369 | T9: =T8 -> 41369 | U9: =U8 -> 41369 | V9: =IF(AND(C9>U9,C9<X9),C9,U9) -> 41369 | W9: =IF(AND(D9>U9,D9<X9),D9,X9) -> 41370 | X9: =X8 -> 41370 | Y9: =Y8 -> 41370 | Z9: =IF(AND(C9>Y9,C9<AB9),C9,Y9) -> 41370 | AA9: =IF(AND(D9>Y9,D9<AB9),D9,AB9) -> 41371 | AB9: =AB8 -> 41371 | AC9: =AC8 -> 41371 | AD9: =IF(AND(AA9>AC9,AA9<AF9),AA9,AC9) -> 41371 | AE9: =IF(AND(D9>AC9,D9<AF9),D9,AF9) -> 41372 | AF9: =AF8 -> 41372
B10: =IF('Feuille calcul'!B9=0,"",'Feuille calcul'!B9) | C10: =IF('Feuille calcul'!H9=0,"",'Feuille calcul'!H9) | D10: =IF('Feuille calcul'!I9=0,"",'Feuille calcul'!I9) | E10: =E9 -> 41365 | F10: =IF(AND(C10>E10,C10<H10),C10,E10) -> 41365 | G10: =IF(AND(D10>E10,D10<H10),D10,H10) -> 0 | H10: =H9 -> 0 | I10: =I9 -> 41366 | J10: =IF(AND(C10>I10,C10<L10),C10,I10) -> 41366 | K10: =IF(AND(D10>I10,D10<L10),D10,L10) -> 41367 | L10: =L9 -> 41367 | M10: =M9 -> 41367 | N10: =IF(AND(C10>M10,C10<P10),C10,M10) -> 41367 | O10: =IF(AND(D10>M10,D10<P10),D10,P10) -> 41368 | P10: =P9 -> 41368 | Q10: =Q9 -> 41368 | R10: =IF(AND(C10>Q10,C10<T10),C10,Q10) -> 41368 | S10: =IF(AND(D10>Q10,D10<T10),D10,T10) -> 41369 | T10: =T9 -> 41369 | U10: =U9 -> 41369 | V10: =IF(AND(C10>U10,C10<X10),C10,U10) -> 41369 | W10: =IF(AND(D10>U10,D10<X10),D10,X10) -> 41370 | X10: =X9 -> 41370 | Y10: =Y9 -> 41370 | Z10: =IF(AND(C10>Y10,C10<AB10),C10,Y10) -> 41370 | AA10: =IF(AND(D10>Y10,D10<AB10),D10,AB10) -> 41371 | AB10: =AB9 -> 41371 | AC10: =AC9 -> 41371 | AD10: =IF(AND(C10>AC10,C10<AF10),C10,AC10) -> 41371 | AE10: =IF(AND(D10>AC10,D10<AF10),D10,AF10) -> 41372 | AF10: =AF9 -> 41372
A11: ='Feuille calcul'!A10 -> Presse 03 | E11: =E10 -> 41365 | H11: =H10 -> 0 | I11: =I10 -> 41366 | L11: =L10 -> 41367 | M11: =M10 -> 41367 | P11: =P10 -> 41368 | Q11: =Q10 -> 41368 | T11: =T10 -> 41369 | U11: =U10 -> 41369 | X11: =X10 -> 41370 | Y11: =Y10 -> 41370 | AB11: =AB10 -> 41371 | AC11: =AC10 -> 41371 | AF11: =AF10 -> 41372
B12: =IF('Feuille calcul'!B10=0,"",'Feuille calcul'!B10) -> Plaque grigi | C12: =IF('Feuille calcul'!H10=0,"",'Feuille calcul'!H10) -> 41365.75 | D12: =IF('Feuille calcul'!I10=0,"",'Feuille calcul'!I10) -> 41365.924 | E12: =E11 -> 41365 | F12: =IF(AND(C12>E12,C12<H12),C12,E12) -> 41365 | G12: =IF(AND(D12>E12,D12<H12),D12,H12) -> 0 | H12: =H11 -> 0 | I12: =I11 -> 41366 | J12: =IF(AND(C12>I12,C12<L12),C12,I12) -> 41366 | K12: =IF(AND(D12>I12,D12<L12),D12,L12) -> 41367 | L12: =L11 -> 41367 | M12: =M11 -> 41367 | N12: =IF(AND(C12>M12,C12<P12),C12,M12) -> 41367 | O12: =IF(AND(D12>M12,D12<P12),D12,P12) -> 41368 | P12: =P11 -> 41368 | Q12: =Q11 -> 41368 | R12: =IF(AND(C12>Q12,C12<T12),C12,Q12) -> 41368 | S12: =IF(AND(D12>Q12,D12<T12),D12,T12) -> 41369 | T12: =T11 -> 41369 | U12: =U11 -> 41369 | V12: =IF(AND(C12>U12,C12<X12),C12,U12) -> 41369 | W12: =IF(AND(D12>U12,D12<X12),D12,X12) -> 41370 | X12: =X11 -> 41370 | Y12: =Y11 -> 41370 | Z12: =IF(AND(C12>Y12,C12<AB12),C12,Y12) -> 41370 | AA12: =IF(AND(D12>Y12,D12<AB12),D12,AB12) -> 41371 | AB12: =AB11 -> 41371 | AC12: =AC11 -> 41371 | AD12: =IF(AND(AA12>AC12,AA12<AF12),AA12,AC12) -> 41371 | AE12: =IF(AND(D12>AC12,D12<AF12),D12,AF12) -> 41372 | AF12: =AF11 -> 41372
B13: =IF('Feuille calcul'!B11=0,"",'Feuille calcul'!B11) -> Couvercle BEABA | C13: =IF('Feuille calcul'!H11=0,"",'Feuille calcul'!H11) -> 41366.833 | D13: =IF('Feuille calcul'!I11=0,"",'Feuille calcul'!I11) -> 41367.319 | E13: =E12 -> 41365 | F13: =IF(AND(C13>E13,C13<H13),C13,E13) -> 41365 | G13: =IF(AND(D13>E13,D13<H13),D13,H13) -> 0 | H13: =H12 -> 0 | I13: =I12 -> 41366 | J13: =IF(AND(C13>I13,C13<L13),C13,I13) -> 41366.833 | K13: =IF(AND(D13>I13,D13<L13),D13,L13) -> 41367 | L13: =L12 -> 41367 | M13: =M12 -> 41367 | N13: =IF(AND(C13>M13,C13<P13),C13,M13) -> 41367 | O13: =IF(AND(D13>M13,D13<P13),D13,P13) -> 41367.319 | P13: =P12 -> 41368 | Q13: =Q12 -> 41368 | R13: =IF(AND(C13>Q13,C13<T13),C13,Q13) -> 41368 | S13: =IF(AND(D13>Q13,D13<T13),D13,T13) -> 41369 | T13: =T12 -> 41369 | U13: =U12 -> 41369 | V13: =IF(AND(C13>U13,C13<X13),C13,U13) -> 41369 | W13: =IF(AND(D13>U13,D13<X13),D13,X13) -> 41370 | X13: =X12 -> 41370 | Y13: =Y12 -> 41370 | Z13: =IF(AND(C13>Y13,C13<AB13),C13,Y13) -> 41370 | AA13: =IF(AND(D13>Y13,D13<AB13),D13,AB13) -> 41371 | AB13: =AB12 -> 41371 | AC13: =AC12 -> 41371 | AD13: =IF(AND(C13>AC13,C13<AF13),C13,AC13) -> 41371 | AE13: =IF(AND(D13>AC13,D13<AF13),D13,AF13) -> 41372 | AF13: =AF12 -> 41372
A14: ='Feuille calcul'!A14 -> Presse 05 | E14: =E13 -> 41365 | H14: =H13 -> 0 | I14: =I13 -> 41366 | L14: =L13 -> 41367 | M14: =M13 -> 41367 | P14: =P13 -> 41368 | Q14: =Q13 -> 41368 | T14: =T13 -> 41369 | U14: =U13 -> 41369 | X14: =X13 -> 41370 | Y14: =Y13 -> 41370 | AB14: =AB13 -> 41371 | AC14: =AC13 -> 41371 | AF14: =AF13 -> 41372
B15: =IF('Feuille calcul'!B14=0,"",'Feuille calcul'!B14) -> Embout G.M NEO | C15: =IF('Feuille calcul'!H14=0,"",'Feuille calcul'!H14) -> 41366.833 | D15: =IF('Feuille calcul'!I14=0,"",'Feuille calcul'!I14) -> 41370.016 | E15: =E14 -> 41365 | F15: =IF(AND(C15>E15,C15<H15),C15,E15) -> 41365 | G15: =IF(AND(D15>E15,D15<H15),D15,H15) -> 0 | H15: =H14 -> 0 | I15: =I14 -> 41366 | J15: =IF(AND(C15>I15,C15<L15),C15,I15) -> 41366.833 | K15: =IF(AND(D15>I15,D15<L15),D15,L15) -> 41367 | L15: =L14 -> 41367 | M15: =M14 -> 41367 | N15: =IF(AND(D15>M15,D15<P15),D15,M15) -> 41367 | O15: =IF(AND(D15>M15,D15<P15),D15,P15) -> 41368 | P15: =P14 -> 41368 | Q15: =Q14 -> 41368 | R15: =IF(AND(C15>Q15,C15<T15),C15,Q15) -> 41368 | S15: =IF(AND(D15>Q15,D15<T15),D15,T15) -> 41369 | T15: =T14 -> 41369 | U15: =U14 -> 41369 | V15: =IF(AND(C15>U15,C15<X15),C15,U15) -> 41369 | W15: =IF(AND(D15>U15,D15<X15),D15,X15) -> 41370 | X15: =X14 -> 41370 | Y15: =Y14 -> 41370 | Z15: =IF(AND(C15>Y15,C15<AB15),C15,Y15) -> 41370 | AA15: =IF(AND(D15>Y15,D15<AB15),D15,AB15) -> 41370.016 | AB15: =AB14 -> 41371 | AC15: =AC14 -> 41371 | AD15: =IF(AND(C15>AC15,C15<AF15),C15,AC15) -> 41371 | AE15: =IF(AND(D15>AC15,D15<AF15),D15,AF15) -> 41372 | AF15: =AF14 -> 41372
E16: =E15 -> 41365 | H16: =H15 -> 0 | I16: =I15 -> 41366 | L16: =L15 -> 41367 | M16: =M15 -> 41367 | P16: =P15 -> 41368 | Q16: =Q15 -> 41368 | T16: =T15 -> 41369 | U16: =U15 -> 41369 | X16: =X15 -> 41370 | Y16: =Y15 -> 41370 | AB16: =AB15 -> 41371 | AC16: =AC15 -> 41371 | AF16: =AF15 -> 41372
E17: =E16 -> 41365 | H17: =H16 -> 0 | I17: =I16 -> 41366 | L17: =L16 -> 41367 | M17: =M16 -> 41367 | P17: =P16 -> 41368 | Q17: =Q16 -> 41368 | T17: =T16 -> 41369 | U17: =U16 -> 41369 | X17: =X16 -> 41370 | Y17: =Y16 -> 41370 | AB17: =AB16 -> 41371 | AC17: =AC16 -> 41371 | AF17: =AF16 -> 41372
E18: =E17 -> 41365 | H18: =H17 -> 0 | I18: =I17 -> 41366 | L18: =L17 -> 41367 | M18: =M17 -> 41367 | P18: =P17 -> 41368 | Q18: =Q17 -> 41368 | T18: =T17 -> 41369 | U18: =U17 -> 41369 | X18: =X17 -> 41370 | Y18: =Y17 -> 41370 | AB18: =AB17 -> 41371 | AC18: =AC17 -> 41371 | AF18: =AF17 -> 41372
E19: =E18 -> 41365 | H19: =H18 -> 0 | I19: =I18 -> 41366 | L19: =L18 -> 41367 | M19: =M18 -> 41367 | P19: =P18 -> 41368 | Q19: =Q18 -> 41368 | T19: =T18 -> 41369 | U19: =U18 -> 41369 | X19: =X18 -> 41370 | Y19: =Y18 -> 41370 | AB19: =AB18 -> 41371 | AC19: =AC18 -> 41371 | AF19: =AF18 -> 41372
E20: =E19 -> 41365 | H20: =H19 -> 0 | I20: =I19 -> 41366 | L20: =L19 -> 41367 | M20: =M19 -> 41367 | P20: =P19 -> 41368 | Q20: =Q19 -> 41368 | T20: =T19 -> 41369 | U20: =U19 -> 41369 | X20: =X19 -> 41370 | Y20: =Y19 -> 41370 | AB20: =AB19 -> 41371 | AC20: =AC19 -> 41371 | AF20: =AF19 -> 41372
E21: =E20 -> 41365 | H21: =H20 -> 0 | I21: =I20 -> 41366 | L21: =L20 -> 41367 | M21: =M20 -> 41367 | P21: =P20 -> 41368 | Q21: =Q20 -> 41368 | T21: =T20 -> 41369 | U21: =U20 -> 41369 | X21: =X20 -> 41370 | Y21: =Y20 -> 41370 | AB21: =AB20 -> 41371 | AC21: =AC20 -> 41371 | AF21: =AF20 -> 41372
B22: =IF('Feuille calcul'!B21=0,"",'Feuille calcul'!B21) | E22: =E21 -> 41365 | H22: =H21 -> 0 | I22: =I21 -> 41366 | L22: =L21 -> 41367 | M22: =M21 -> 41367 | P22: =P21 -> 41368 | Q22: =Q21 -> 41368 | T22: =T21 -> 41369 | U22: =U21 -> 41369 | X22: =X21 -> 41370 | Y22: =Y21 -> 41370 | AB22: =AB21 -> 41371 | AC22: =AC21 -> 41371 | AF22: =AF21 -> 41372
E23: =E22 -> 41365 | H23: =H22 -> 0 | I23: =I22 -> 41366 | L23: =L22 -> 41367 | M23: =M22 -> 41367 | P23: =P22 -> 41368 | Q23: =Q22 -> 41368 | T23: =T22 -> 41369 | U23: =U22 -> 41369 | X23: =X22 -> 41370 | Y23: =Y22 -> 41370 | AB23: =AB22 -> 41371 | AC23: =AC22 -> 41371 | AF23: =AF22 -> 41372
E24: =E23 -> 41365 | H24: =H23 -> 0 | I24: =I23 -> 41366 | L24: =L23 -> 41367 | M24: =M23 -> 41367 | P24: =P23 -> 41368 | Q24: =Q23 -> 41368 | T24: =T23 -> 41369 | U24: =U23 -> 41369 | X24: =X23 -> 41370 | Y24: =Y23 -> 41370 | AB24: =AB23 -> 41371 | AC24: =AC23 -> 41371 | AF24: =AF23 -> 41372
E25: =E24 -> 41365 | H25: =H24 -> 0 | I25: =I24 -> 41366 | L25: =L24 -> 41367 | M25: =M24 -> 41367 | P25: =P24 -> 41368 | Q25: =Q24 -> 41368 | T25: =T24 -> 41369 | U25: =U24 -> 41369 | X25: =X24 -> 41370 | Y25: =Y24 -> 41370 | AB25: =AB24 -> 41371 | AC25: =AC24 -> 41371 | AF25: =AF24 -> 41372
E26: =E25 -> 41365 | H26: =H25 -> 0 | I26: =I25 -> 41366 | L26: =L25 -> 41367 | M26: =M25 -> 41367 | P26: =P25 -> 41368 | Q26: =Q25 -> 41368 | T26: =T25 -> 41369 | U26: =U25 -> 41369 | X26: =X25 -> 41370 | Y26: =Y25 -> 41370 | AB26: =AB25 -> 41371 | AC26: =AC25 -> 41371 | AF26: =AF25 -> 41372
