Workbook

Sheet Feulle calcul
A4: N° Pesse | B4: NOM | C4: Quantité | D4: nbr empreinte | E4: temps de cycle | F4: duré heures | G4: nbr jours | H4: debut | I4: fin
A6: Press 01 | B6: Crochet chapelut 50 cm | C6: 50000 | D6: 2 | E6: 20 | F6: =(C6/D6)*(E6/3600) -> 138.88889 | G6: =F6/24 -> 5.787037 | H6: 41365 | I6: =H6+G6 -> 41370.787
H7: 20h
A9: Presse 02 | B9: Bonchons pechyney | C9: 50000 | D9: 2 | E9: 20 | F9: =(C9/D9)*(E9/3600) -> 138.88889 | G9: =F9/24 -> 5.787037 | H9: 41367 | I9: =H9+G9 -> 41372.787
A11: Presse 03 | B11: Plaque grigi | C11: 2000 | D11: 1 | E11: 40 | F11: =(C11/D11)*(E11/3600) -> 22.222222 | G11: =F11/24 -> 0.92592593 | H11: 41369 | I11: =H11+G11 -> 41369.926
B12: Cheville Xenon | C12: 10000 | D12: 1 | E12: 15 | F12: =(C12/D12)*(E12/3600) -> 41.666667 | G12: =F12/24 -> 1.7361111 | H12: 41370 | I12: =H12+G12 -> 41371.736

Sheet s10
E2: 41365 | I2: 41366 | M2: 41367 | Q2: 41368 | U2: 41369
C3: dim | E3: Lundi | I3: Mardi | M3: Mercredi | Q3: Jeudi | U3: Vendredi
C4: 20h | D4: 00h | E4: 4h | F4: 12h | G4: 20h | H4: 00h | I4: 4h | J4: 12h | K4: 20h | L4: 00h | M4: 4h | N4: 12h | O4: 20h | P4: 00h | Q4: 4h | R4: 12h | S4: 20h | T4: 00h | U4: 4h | V4: 12h | W4: 15h
A5: ='Feulle calcul'!A6 -> Press 01
B6: ='Feulle calcul'!B6 -> Crochet chapelut 50 cm
A8: ='Feulle calcul'!A9 -> Presse 02
B9: ='Feulle calcul'!B9 -> Bonchons pechyney
A11: ='Feulle calcul'!A11 -> Presse 03
B12: ='Feulle calcul'!B11 -> Plaque grigi
B13: ='Feulle calcul'!B12 -> Cheville Xenon

Sheet s11
D2: 41371 | E2: 41372 | I2: 41373 | M2: 41374 | Q2: 41375 | U2: 41376
C3: dim | E3: Lundi | I3: Mardi | M3: Mercredi | Q3: Jeudi | U3: Vendredi
C4: 20h | D4: 00h | E4: 4h | F4: 12h | G4: 20h | H4: 00h | I4: 4h | J4: 12h | K4: 20h | L4: 00h | M4: 4h | N4: 12h | O4: 20h | P4: 00h | Q4: 4h | R4: 12h | S4: 20h | T4: 00h | U4: 4h | V4: 12h | W4: 15h
A5: ='Feulle calcul'!A6 -> Press 01
B6: ='Feulle calcul'!B6 -> Crochet chapelut 50 cm
A8: ='Feulle calcul'!A9 -> Presse 02
B9: ='Feulle calcul'!B9 -> Bonchons pechyney
A11: ='Feulle calcul'!A11 -> Presse 03
B12: ='Feulle calcul'!B11 -> Plaque grigi
B13: ='Feulle calcul'!B12 -> Cheville Xenon
