Workbook
Name Abats: aliments!$B$2:$B$31
Name Aliments_lactés_diététiques: aliments!$B$32
Name Autres_matières_grasses_animales: aliments!$B$33:$B$38
Name Beurres_et_matières_grasses_animales: aliments!$B$39:$B$47
Name Beurres_et_matières_grasses_laitières: aliments!$B$39:$B$47
Name Bières_et_similaires: aliments!$B$48:$B$53
Name Biscottes_et_pains_non_levés: aliments!$B$54:$B$67
Name Biscuit_apéritif_à_base_de_pomme_de_terre__type_tuile_salée: aliments!$B$68:$B$70
Name Biscuit_secs_sucrés: aliments!#REF!
Name Biscuits_salés_apéritifs: aliments!$B$68:$B$70
Name Biscuits_secs_sucrés: aliments!#REF!
Name Boissons_rafraîchissantes_sans_alcool: aliments!#REF!
Name Bouillons_prêts_à_consommer: aliments!#REF!
Name Café_thé_infusions_boissons_au_cacao: aliments!#REF!
Name Catégories: tableau!$CA$2:$CA$73
Name Céréales_petit_déjeuner_et_barres_céréalières: aliments!#REF!
Name Charcuteries_et_salaisons: aliments!#REF!
Name Chocolats_et_produits_à_base_de_chocolat: aliments!#REF!
Name Cidres_et_similaires: aliments!#REF!
Name Cocktails: aliments!#REF!
Name Compléments_alimentaires: aliments!#REF!
Name Confiseries_non_chocolatées: aliments!#REF!
Name Confitures: aliments!#REF!
Name Crèmes_et_spécialités_à_base_de_crème: aliments!#REF!
Name Crustacés_et_mollusques_non_transformés: aliments!#REF!
Name Denrées_destinées_à_une_alimentation_particulière: aliments!#REF!
Name Desserts_lactés_frais_ou_UHT: aliments!#REF!
Name Eaux: aliments!#REF!
Name Entremets_et_glaces: aliments!#REF!
Name Farines_et_amidons: aliments!#REF!
Name Fromages: aliments!#REF!
Name Fromages_affinés_à_pâte_dure: aliments!#REF!
Name Fromages_affinés_à_pâte_ferme: aliments!#REF!
Name Fromages_affinés_à_pâte_molle: aliments!#REF!
Name Fromages_affinés_à_pâte_persillée: aliments!#REF!
Name Fromages_blancs_ultrafrais: aliments!#REF!
Name Fromages_fondus: aliments!#REF!
Name Fromages_non_affinés_et_spécialités_fromagères: aliments!#REF!
Name Fruits: aliments!#REF!
Name Gâteaux_et_pâtisseries: aliments!#REF!
Name Graines_oléagineuses_et_châtaignes: aliments!#REF!
Name Herbes_épices_et_assaisonnements: aliments!#REF!
Name Huiles_et_graisses_végétales: aliments!#REF!
Name Jus_et_nectars: aliments!#REF!
Name Lait_de_croissance_infantile: aliments!$B$32
Name Laits: aliments!#REF!
Name Légumes: aliments!#REF!
Name Légumes_secs: aliments!#REF!
Name Liqueurs_et_alcools: aliments!#REF!
Name Margarines_et_matières_grasses_composées: aliments!#REF!
Name Oeufs_et_dérivés: aliments!#REF!
Name Pains: aliments!#REF!
Name Pâtes_et_semoules: aliments!#REF!
Name Pizzas_crêpes_et_tartes_salées: aliments!#REF!
Name Plats_à_base_de_céréales_ou_pâtes: aliments!#REF!
Name Plats_à_base_de_fromage: aliments!#REF!
Name Plats_à_base_de_légumes_ou_légumineuses: aliments!#REF!
Name Plats_à_base_de_poisson_ou_produits_aquatiques: aliments!#REF!
Name Plats_à_base_de_viande_ou_volaille: aliments!#REF!
Name Plats_composés: aliments!#REF!

Sheet tableau
A1: Lundi | CA1: Catégories
A2: Petit déj | B2: Catégorie | C2: Aliments | D2: Portion( g) | E2: Quantité( g) | F2: CG | G2: Pral | H2: Protides ( g) | I2: Glucides ( g) | J2: Lipides (g) | K2: Calories | L2: VitA (µg) | M2: Beta-Car. (µg) | N2: Vit D (µg) | O2: Vit E (mg) | P2: Vit K (µg) | Q2: VitC (mg) | R2: Vit B1 (mg) | S2: Vit B2 (mg) | T2: Vit B3 (mg) | U2: Vit B5 (mg) | V2: Vit B6 (mg) | W2: Vit B9 (µg) | X2: Vit B12 (µg) | Y2: Calcium (mg) | Z2: Cuivre (mg) | AA2: Fer (mg) | AB2: Iode (µg) | AC2: Magnésium (mg) | AD2: Manganèse (mg) | AE2: Phosphore (mg) | AF2: Potassium (mg) | AG2: Sélénium (µg) | AH2: Sodium (mg) | AI2: Zinc (mg) | AJ2: Fibres (g) | AK2: AG saturés (g) | AL2: AG monoinsaturés (g) | AM2: Polyols totaux (g) | AN2: AG polyinsaturés (g) | AO2: Cholestérol (mg) | CA2: Abats
B3: Abats | C3: Cervelle, agneau, cuite | E3: 100 | F3: =IF($C3="","",$E3*VLOOKUP($C3,aliments!$B$2:$AZ$70,2,0)/100) -> 0.008 | G3: =IF($C3="","",$E3*VLOOKUP($C3,aliments!$B$2:$AZ$70,3,0)/100) -> 18.27 | H3: =IF($C3="","",$E3*VLOOKUP($C3,aliments!$B$2:$AZ$70,4,0)/100) -> 10.8 | I3: =IF($C3="","",$E3*VLOOKUP($C3,aliments!$B$2:$AZ$70,5,0)/100) -> 0.8 | J3: =IF($C3="","",$E3*VLOOKUP($C3,aliments!$B$2:$AZ$70,6,0)/100) -> 8.8 | K3: =IF($C3="","",$E3*VLOOKUP($C3,aliments!$B$2:$AZ$70,7,0)/100) -> 126 | L3: =IF($C3="","",$E3*VLOOKUP($C3,aliments!$B$2:$AZ$70,8,0)/100) -> 0 | M3: =IF($C3="","",$E3*VLOOKUP($C3,aliments!$B$2:$AZ$70,9,0)/100) -> 0 | N3: =IF($C3="","",$E3*VLOOKUP($C3,aliments!$B$2:$AZ$70,10,0)/100) -> 0 | O3: =IF($C3="","",$E3*VLOOKUP($C3,aliments!$B$2:$AZ$70,11,0)/100) -> 0 | P3: =IF($C3="","",$E3*VLOOKUP($C3,aliments!$B$2:$AZ$70,12,0)/100) -> 0 | Q3: =IF($C3="","",$E3*VLOOKUP($C3,aliments!$B$2:$AZ$70,13,0)/100) -> 12 | R3: =IF($C3="","",$E3*VLOOKUP($C3,aliments!$B$2:$AZ$70,14,0)/100) -> 0.11 | S3: =IF($C3="","",$E3*VLOOKUP($C3,aliments!$B$2:$AZ$70,15,0)/100) -> 0.24 | T3: =IF($C3="","",$E3*VLOOKUP($C3,aliments!$B$2:$AZ$70,16,0)/100) -> 2.47 | U3: =IF($C3="","",$E3*VLOOKUP($C3,aliments!$B$2:$AZ$70,17,0)/100) -> 0.99 | V3: =IF($C3="","",$E3*VLOOKUP($C3,aliments!$B$2:$AZ$70,18,0)/100) -> 0.11 | W3: =IF($C3="","",$E3*VLOOKUP($C3,aliments!$B$2:$AZ$70,19,0)/100) -> 5 | X3: =IF($C3="","",$E3*VLOOKUP($C3,aliments!$B$2:$AZ$70,20,0)/100) -> 9.25 | Y3: =IF($C3="","",$E3*VLOOKUP($C3,aliments!$B$2:$AZ$70,21,0)/100) -> 6.93 | Z3: =IF($C3="","",$E3*VLOOKUP($C3,aliments!$B$2:$AZ$70,22,0)/100) -> 0.21 | AA3: =IF($C3="","",$E3*VLOOKUP($C3,aliments!$B$2:$AZ$70,23,0)/100) -> 3.53 | AB3: =IF($C3="","",$E3*VLOOKUP($C3,aliments!$B$2:$AZ$70,24,0)/100) -> 1 | AC3: =IF($C3="","",$E3*VLOOKUP($C3,aliments!$B$2:$AZ$70,25,0)/100) -> 15.9 | AD3: =IF($C3="","",$E3*VLOOKUP($C3,aliments!$B$2:$AZ$70,26,0)/100) -> 0.059 | AE3: =IF($C3="","",$E3*VLOOKUP($C3,aliments!$B$2:$AZ$70,27,0)/100) -> 316 | AF3: =IF($C3="","",$E3*VLOOKUP($C3,aliments!$B$2:$AZ$70,28,0)/100) -> 205 | AG3: =IF($C3="","",$E3*VLOOKUP($C3,aliments!$B$2:$AZ$70,29,0)/100) -> 0 | AH3: =IF($C3="","",$E3*VLOOKUP($C3,aliments!$B$2:$AZ$70,30,0)/100) -> 130 | AI3: =IF($C3="","",$E3*VLOOKUP($C3,aliments!$B$2:$AZ$70,31,0)/100) -> 1.36 | AJ3: =IF($C3="","",$E3*VLOOKUP($C3,aliments!$B$2:$AZ$70,32,0)/100) -> 0 | AK3: =IF($C3="","",$E3*VLOOKUP($C3,aliments!$B$2:$AZ$70,33,0)/100) -> 2.6 | AL3: =IF($C3="","",$E3*VLOOKUP($C3,aliments!$B$2:$AZ$70,34,0)/100) -> 1.84 | AM3: =IF($C3="","",$E3*VLOOKUP($C3,aliments!$B$2:$AZ$70,35,0)/100) -> 0 | AN3: =IF($C3="","",$E3*VLOOKUP($C3,aliments!$B$2:$AZ$70,36,0)/100) -> 1.04 | AO3: =IF($C3="","",$E3*VLOOKUP($C3,aliments!$B$2:$AZ$70,37,0)/100) -> 2080 | CA3: Aliments_lactés_diététiques
E4: 100 | F4: =IF($C4="","",$E4*VLOOKUP($C4,aliments!$B$2:$AZ$70,2,0)/100) | G4: =IF($C4="","",$E4*VLOOKUP($C4,aliments!$B$2:$AZ$70,3,0)/100) | H4: =IF($C4="","",$E4*VLOOKUP($C4,aliments!$B$2:$AZ$70,4,0)/100) | I4: =IF($C4="","",$E4*VLOOKUP($C4,aliments!$B$2:$AZ$70,5,0)/100) | J4: =IF($C4="","",$E4*VLOOKUP($C4,aliments!$B$2:$AZ$70,6,0)/100) | K4: =IF($C4="","",$E4*VLOOKUP($C4,aliments!$B$2:$AZ$70,7,0)/100) | L4: =IF($C4="","",$E4*VLOOKUP($C4,aliments!$B$2:$AZ$70,8,0)/100) | M4: =IF($C4="","",$E4*VLOOKUP($C4,aliments!$B$2:$AZ$70,9,0)/100) | N4: =IF($C4="","",$E4*VLOOKUP($C4,aliments!$B$2:$AZ$70,10,0)/100) | O4: =IF($C4="","",$E4*VLOOKUP($C4,aliments!$B$2:$AZ$70,11,0)/100) | P4: =IF($C4="","",$E4*VLOOKUP($C4,aliments!$B$2:$AZ$70,12,0)/100) | Q4: =IF($C4="","",$E4*VLOOKUP($C4,aliments!$B$2:$AZ$70,13,0)/100) | R4: =IF($C4="","",$E4*VLOOKUP($C4,aliments!$B$2:$AZ$70,14,0)/100) | S4: =IF($C4="","",$E4*VLOOKUP($C4,aliments!$B$2:$AZ$70,15,0)/100) | T4: =IF($C4="","",$E4*VLOOKUP($C4,aliments!$B$2:$AZ$70,16,0)/100) | U4: =IF($C4="","",$E4*VLOOKUP($C4,aliments!$B$2:$AZ$70,17,0)/100) | V4: =IF($C4="","",$E4*VLOOKUP($C4,aliments!$B$2:$AZ$70,18,0)/100) | W4: =IF($C4="","",$E4*VLOOKUP($C4,aliments!$B$2:$AZ$70,19,0)/100) | X4: =IF($C4="","",$E4*VLOOKUP($C4,aliments!$B$2:$AZ$70,20,0)/100) | Y4: =IF($C4="","",$E4*VLOOKUP($C4,aliments!$B$2:$AZ$70,21,0)/100) | Z4: =IF($C4="","",$E4*VLOOKUP($C4,aliments!$B$2:$AZ$70,22,0)/100) | AA4: =IF($C4="","",$E4*VLOOKUP($C4,aliments!$B$2:$AZ$70,23,0)/100) | AB4: =IF($C4="","",$E4*VLOOKUP($C4,aliments!$B$2:$AZ$70,24,0)/100) | AC4: =IF($C4="","",$E4*VLOOKUP($C4,aliments!$B$2:$AZ$70,25,0)/100) | AD4: =IF($C4="","",$E4*VLOOKUP($C4,aliments!$B$2:$AZ$70,26,0)/100) | AE4: =IF($C4="","",$E4*VLOOKUP($C4,aliments!$B$2:$AZ$70,27,0)/100) | AF4: =IF($C4="","",$E4*VLOOKUP($C4,aliments!$B$2:$AZ$70,28,0)/100) | AG4: =IF($C4="","",$E4*VLOOKUP($C4,aliments!$B$2:$AZ$70,29,0)/100) | AH4: =IF($C4="","",$E4*VLOOKUP($C4,aliments!$B$2:$AZ$70,30,0)/100) | AI4: =IF($C4="","",$E4*VLOOKUP($C4,aliments!$B$2:$AZ$70,31,0)/100) | AJ4: =IF($C4="","",$E4*VLOOKUP($C4,aliments!$B$2:$AZ$70,32,0)/100) | AK4: =IF($C4="","",$E4*VLOOKUP($C4,aliments!$B$2:$AZ$70,33,0)/100) | AL4: =IF($C4="","",$E4*VLOOKUP($C4,aliments!$B$2:$AZ$70,34,0)/100) | AM4: =IF($C4="","",$E4*VLOOKUP($C4,aliments!$B$2:$AZ$70,35,0)/100) | AN4: =IF($C4="","",$E4*VLOOKUP($C4,aliments!$B$2:$AZ$70,36,0)/100) | AO4: =IF($C4="","",$E4*VLOOKUP($C4,aliments!$B$2:$AZ$70,37,0)/100) | CA4: Autres_matières_grasses_animales
E5: 100 | F5: =IF($C5="","",$E5*VLOOKUP($C5,aliments!$B$2:$AZ$70,2,0)/100) | G5: =IF($C5="","",$E5*VLOOKUP($C5,aliments!$B$2:$AZ$70,3,0)/100) | H5: =IF($C5="","",$E5*VLOOKUP($C5,aliments!$B$2:$AZ$70,4,0)/100) | I5: =IF($C5="","",$E5*VLOOKUP($C5,aliments!$B$2:$AZ$70,5,0)/100) | J5: =IF($C5="","",$E5*VLOOKUP($C5,aliments!$B$2:$AZ$70,6,0)/100) | K5: =IF($C5="","",$E5*VLOOKUP($C5,aliments!$B$2:$AZ$70,7,0)/100) | L5: =IF($C5="","",$E5*VLOOKUP($C5,aliments!$B$2:$AZ$70,8,0)/100) | M5: =IF($C5="","",$E5*VLOOKUP($C5,aliments!$B$2:$AZ$70,9,0)/100) | N5: =IF($C5="","",$E5*VLOOKUP($C5,aliments!$B$2:$AZ$70,10,0)/100) | O5: =IF($C5="","",$E5*VLOOKUP($C5,aliments!$B$2:$AZ$70,11,0)/100) | P5: =IF($C5="","",$E5*VLOOKUP($C5,aliments!$B$2:$AZ$70,12,0)/100) | Q5: =IF($C5="","",$E5*VLOOKUP($C5,aliments!$B$2:$AZ$70,13,0)/100) | R5: =IF($C5="","",$E5*VLOOKUP($C5,aliments!$B$2:$AZ$70,14,0)/100) | S5: =IF($C5="","",$E5*VLOOKUP($C5,aliments!$B$2:$AZ$70,15,0)/100) | T5: =IF($C5="","",$E5*VLOOKUP($C5,aliments!$B$2:$AZ$70,16,0)/100) | U5: =IF($C5="","",$E5*VLOOKUP($C5,aliments!$B$2:$AZ$70,17,0)/100) | V5: =IF($C5="","",$E5*VLOOKUP($C5,aliments!$B$2:$AZ$70,18,0)/100) | W5: =IF($C5="","",$E5*VLOOKUP($C5,aliments!$B$2:$AZ$70,19,0)/100) | X5: =IF($C5="","",$E5*VLOOKUP($C5,aliments!$B$2:$AZ$70,20,0)/100) | Y5: =IF($C5="","",$E5*VLOOKUP($C5,aliments!$B$2:$AZ$70,21,0)/100) | Z5: =IF($C5="","",$E5*VLOOKUP($C5,aliments!$B$2:$AZ$70,22,0)/100) | AA5: =IF($C5="","",$E5*VLOOKUP($C5,aliments!$B$2:$AZ$70,23,0)/100) | AB5: =IF($C5="","",$E5*VLOOKUP($C5,aliments!$B$2:$AZ$70,24,0)/100) | AC5: =IF($C5="","",$E5*VLOOKUP($C5,aliments!$B$2:$AZ$70,25,0)/100) | AD5: =IF($C5="","",$E5*VLOOKUP($C5,aliments!$B$2:$AZ$70,26,0)/100) | AE5: =IF($C5="","",$E5*VLOOKUP($C5,aliments!$B$2:$AZ$70,27,0)/100) | AF5: =IF($C5="","",$E5*VLOOKUP($C5,aliments!$B$2:$AZ$70,28,0)/100) | AG5: =IF($C5="","",$E5*VLOOKUP($C5,aliments!$B$2:$AZ$70,29,0)/100) | AH5: =IF($C5="","",$E5*VLOOKUP($C5,aliments!$B$2:$AZ$70,30,0)/100) | AI5: =IF($C5="","",$E5*VLOOKUP($C5,aliments!$B$2:$AZ$70,31,0)/100) | AJ5: =IF($C5="","",$E5*VLOOKUP($C5,aliments!$B$2:$AZ$70,32,0)/100) | AK5: =IF($C5="","",$E5*VLOOKUP($C5,aliments!$B$2:$AZ$70,33,0)/100) | AL5: =IF($C5="","",$E5*VLOOKUP($C5,aliments!$B$2:$AZ$70,34,0)/100) | AM5: =IF($C5="","",$E5*VLOOKUP($C5,aliments!$B$2:$AZ$70,35,0)/100) | AN5: =IF($C5="","",$E5*VLOOKUP($C5,aliments!$B$2:$AZ$70,36,0)/100) | AO5: =IF($C5="","",$E5*VLOOKUP($C5,aliments!$B$2:$AZ$70,37,0)/100) | CA5: Beurres_et_matières_grasses_laitières
F6: =IF($C6="","",$E6*VLOOKUP($C6,aliments!$B$2:$AZ$70,2,0)/100) | G6: =IF($C6="","",$E6*VLOOKUP($C6,aliments!$B$2:$AZ$70,3,0)/100) | H6: =IF($C6="","",$E6*VLOOKUP($C6,aliments!$B$2:$AZ$70,4,0)/100) | I6: =IF($C6="","",$E6*VLOOKUP($C6,aliments!$B$2:$AZ$70,5,0)/100) | J6: =IF($C6="","",$E6*VLOOKUP($C6,aliments!$B$2:$AZ$70,6,0)/100) | K6: =IF($C6="","",$E6*VLOOKUP($C6,aliments!$B$2:$AZ$70,7,0)/100) | L6: =IF($C6="","",$E6*VLOOKUP($C6,aliments!$B$2:$AZ$70,8,0)/100) | M6: =IF($C6="","",$E6*VLOOKUP($C6,aliments!$B$2:$AZ$70,9,0)/100) | N6: =IF($C6="","",$E6*VLOOKUP($C6,aliments!$B$2:$AZ$70,10,0)/100) | O6: =IF($C6="","",$E6*VLOOKUP($C6,aliments!$B$2:$AZ$70,11,0)/100) | P6: =IF($C6="","",$E6*VLOOKUP($C6,aliments!$B$2:$AZ$70,12,0)/100) | Q6: =IF($C6="","",$E6*VLOOKUP($C6,aliments!$B$2:$AZ$70,13,0)/100) | R6: =IF($C6="","",$E6*VLOOKUP($C6,aliments!$B$2:$AZ$70,14,0)/100) | S6: =IF($C6="","",$E6*VLOOKUP($C6,aliments!$B$2:$AZ$70,15,0)/100) | T6: =IF($C6="","",$E6*VLOOKUP($C6,aliments!$B$2:$AZ$70,16,0)/100) | U6: =IF($C6="","",$E6*VLOOKUP($C6,aliments!$B$2:$AZ$70,17,0)/100) | V6: =IF($C6="","",$E6*VLOOKUP($C6,aliments!$B$2:$AZ$70,18,0)/100) | W6: =IF($C6="","",$E6*VLOOKUP($C6,aliments!$B$2:$AZ$70,19,0)/100) | X6: =IF($C6="","",$E6*VLOOKUP($C6,aliments!$B$2:$AZ$70,20,0)/100) | Y6: =IF($C6="","",$E6*VLOOKUP($C6,aliments!$B$2:$AZ$70,21,0)/100) | Z6: =IF($C6="","",$E6*VLOOKUP($C6,aliments!$B$2:$AZ$70,22,0)/100) | AA6: =IF($C6="","",$E6*VLOOKUP($C6,aliments!$B$2:$AZ$70,23,0)/100) | AB6: =IF($C6="","",$E6*VLOOKUP($C6,aliments!$B$2:$AZ$70,24,0)/100) | AC6: =IF($C6="","",$E6*VLOOKUP($C6,aliments!$B$2:$AZ$70,25,0)/100) | AD6: =IF($C6="","",$E6*VLOOKUP($C6,aliments!$B$2:$AZ$70,26,0)/100) | AE6: =IF($C6="","",$E6*VLOOKUP($C6,aliments!$B$2:$AZ$70,27,0)/100) | AF6: =IF($C6="","",$E6*VLOOKUP($C6,aliments!$B$2:$AZ$70,28,0)/100) | AG6: =IF($C6="","",$E6*VLOOKUP($C6,aliments!$B$2:$AZ$70,29,0)/100) | AH6: =IF($C6="","",$E6*VLOOKUP($C6,aliments!$B$2:$AZ$70,30,0)/100) | AI6: =IF($C6="","",$E6*VLOOKUP($C6,aliments!$B$2:$AZ$70,31,0)/100) | AJ6: =IF($C6="","",$E6*VLOOKUP($C6,aliments!$B$2:$AZ$70,32,0)/100) | AK6: =IF($C6="","",$E6*VLOOKUP($C6,aliments!$B$2:$AZ$70,33,0)/100) | AL6: =IF($C6="","",$E6*VLOOKUP($C6,aliments!$B$2:$AZ$70,34,0)/100) | AM6: =IF($C6="","",$E6*VLOOKUP($C6,aliments!$B$2:$AZ$70,35,0)/100) | AN6: =IF($C6="","",$E6*VLOOKUP($C6,aliments!$B$2:$AZ$70,36,0)/100) | AO6: =IF($C6="","",$E6*VLOOKUP($C6,aliments!$B$2:$AZ$70,37,0)/100) | CA6: Bières_et_similaires
F7: =IF($C7="","",$E7*VLOOKUP($C7,aliments!$B$2:$AZ$70,2,0)/100) | G7: =IF($C7="","",$E7*VLOOKUP($C7,aliments!$B$2:$AZ$70,3,0)/100) | H7: =IF($C7="","",$E7*VLOOKUP($C7,aliments!$B$2:$AZ$70,4,0)/100) | I7: =IF($C7="","",$E7*VLOOKUP($C7,aliments!$B$2:$AZ$70,5,0)/100) | J7: =IF($C7="","",$E7*VLOOKUP($C7,aliments!$B$2:$AZ$70,6,0)/100) | K7: =IF($C7="","",$E7*VLOOKUP($C7,aliments!$B$2:$AZ$70,7,0)/100) | L7: =IF($C7="","",$E7*VLOOKUP($C7,aliments!$B$2:$AZ$70,8,0)/100) | M7: =IF($C7="","",$E7*VLOOKUP($C7,aliments!$B$2:$AZ$70,9,0)/100) | N7: =IF($C7="","",$E7*VLOOKUP($C7,aliments!$B$2:$AZ$70,10,0)/100) | O7: =IF($C7="","",$E7*VLOOKUP($C7,aliments!$B$2:$AZ$70,11,0)/100) | P7: =IF($C7="","",$E7*VLOOKUP($C7,aliments!$B$2:$AZ$70,12,0)/100) | Q7: =IF($C7="","",$E7*VLOOKUP($C7,aliments!$B$2:$AZ$70,13,0)/100) | R7: =IF($C7="","",$E7*VLOOKUP($C7,aliments!$B$2:$AZ$70,14,0)/100) | S7: =IF($C7="","",$E7*VLOOKUP($C7,aliments!$B$2:$AZ$70,15,0)/100) | T7: =IF($C7="","",$E7*VLOOKUP($C7,aliments!$B$2:$AZ$70,16,0)/100) | U7: =IF($C7="","",$E7*VLOOKUP($C7,aliments!$B$2:$AZ$70,17,0)/100) | V7: =IF($C7="","",$E7*VLOOKUP($C7,aliments!$B$2:$AZ$70,18,0)/100) | W7: =IF($C7="","",$E7*VLOOKUP($C7,aliments!$B$2:$AZ$70,19,0)/100) | X7: =IF($C7="","",$E7*VLOOKUP($C7,aliments!$B$2:$AZ$70,20,0)/100) | Y7: =IF($C7="","",$E7*VLOOKUP($C7,aliments!$B$2:$AZ$70,21,0)/100) | Z7: =IF($C7="","",$E7*VLOOKUP($C7,aliments!$B$2:$AZ$70,22,0)/100) | AA7: =IF($C7="","",$E7*VLOOKUP($C7,aliments!$B$2:$AZ$70,23,0)/100) | AB7: =IF($C7="","",$E7*VLOOKUP($C7,aliments!$B$2:$AZ$70,24,0)/100) | AC7: =IF($C7="","",$E7*VLOOKUP($C7,aliments!$B$2:$AZ$70,25,0)/100) | AD7: =IF($C7="","",$E7*VLOOKUP($C7,aliments!$B$2:$AZ$70,26,0)/100) | AE7: =IF($C7="","",$E7*VLOOKUP($C7,aliments!$B$2:$AZ$70,27,0)/100) | AF7: =IF($C7="","",$E7*VLOOKUP($C7,aliments!$B$2:$AZ$70,28,0)/100) | AG7: =IF($C7="","",$E7*VLOOKUP($C7,aliments!$B$2:$AZ$70,29,0)/100) | AH7: =IF($C7="","",$E7*VLOOKUP($C7,aliments!$B$2:$AZ$70,30,0)/100) | AI7: =IF($C7="","",$E7*VLOOKUP($C7,aliments!$B$2:$AZ$70,31,0)/100) | AJ7: =IF($C7="","",$E7*VLOOKUP($C7,aliments!$B$2:$AZ$70,32,0)/100) | AK7: =IF($C7="","",$E7*VLOOKUP($C7,aliments!$B$2:$AZ$70,33,0)/100) | AL7: =IF($C7="","",$E7*VLOOKUP($C7,aliments!$B$2:$AZ$70,34,0)/100) | AM7: =IF($C7="","",$E7*VLOOKUP($C7,aliments!$B$2:$AZ$70,35,0)/100) | AN7: =IF($C7="","",$E7*VLOOKUP($C7,aliments!$B$2:$AZ$70,36,0)/100) | AO7: =IF($C7="","",$E7*VLOOKUP($C7,aliments!$B$2:$AZ$70,37,0)/100) | CA7: Biscottes_et_pains_non_levés
F8: =IF($C8="","",$E8*VLOOKUP($C8,aliments!$B$2:$AZ$70,2,0)/100) | G8: =IF($C8="","",$E8*VLOOKUP($C8,aliments!$B$2:$AZ$70,3,0)/100) | H8: =IF($C8="","",$E8*VLOOKUP($C8,aliments!$B$2:$AZ$70,4,0)/100) | I8: =IF($C8="","",$E8*VLOOKUP($C8,aliments!$B$2:$AZ$70,5,0)/100) | J8: =IF($C8="","",$E8*VLOOKUP($C8,aliments!$B$2:$AZ$70,6,0)/100) | K8: =IF($C8="","",$E8*VLOOKUP($C8,aliments!$B$2:$AZ$70,7,0)/100) | L8: =IF($C8="","",$E8*VLOOKUP($C8,aliments!$B$2:$AZ$70,8,0)/100) | M8: =IF($C8="","",$E8*VLOOKUP($C8,aliments!$B$2:$AZ$70,9,0)/100) | N8: =IF($C8="","",$E8*VLOOKUP($C8,aliments!$B$2:$AZ$70,10,0)/100) | O8: =IF($C8="","",$E8*VLOOKUP($C8,aliments!$B$2:$AZ$70,11,0)/100) | P8: =IF($C8="","",$E8*VLOOKUP($C8,aliments!$B$2:$AZ$70,12,0)/100) | Q8: =IF($C8="","",$E8*VLOOKUP($C8,aliments!$B$2:$AZ$70,13,0)/100) | R8: =IF($C8="","",$E8*VLOOKUP($C8,aliments!$B$2:$AZ$70,14,0)/100) | S8: =IF($C8="","",$E8*VLOOKUP($C8,aliments!$B$2:$AZ$70,15,0)/100) | T8: =IF($C8="","",$E8*VLOOKUP($C8,aliments!$B$2:$AZ$70,16,0)/100) | U8: =IF($C8="","",$E8*VLOOKUP($C8,aliments!$B$2:$AZ$70,17,0)/100) | V8: =IF($C8="","",$E8*VLOOKUP($C8,aliments!$B$2:$AZ$70,18,0)/100) | W8: =IF($C8="","",$E8*VLOOKUP($C8,aliments!$B$2:$AZ$70,19,0)/100) | X8: =IF($C8="","",$E8*VLOOKUP($C8,aliments!$B$2:$AZ$70,20,0)/100) | Y8: =IF($C8="","",$E8*VLOOKUP($C8,aliments!$B$2:$AZ$70,21,0)/100) | Z8: =IF($C8="","",$E8*VLOOKUP($C8,aliments!$B$2:$AZ$70,22,0)/100) | AA8: =IF($C8="","",$E8*VLOOKUP($C8,aliments!$B$2:$AZ$70,23,0)/100) | AB8: =IF($C8="","",$E8*VLOOKUP($C8,aliments!$B$2:$AZ$70,24,0)/100) | AC8: =IF($C8="","",$E8*VLOOKUP($C8,aliments!$B$2:$AZ$70,25,0)/100) | AD8: =IF($C8="","",$E8*VLOOKUP($C8,aliments!$B$2:$AZ$70,26,0)/100) | AE8: =IF($C8="","",$E8*VLOOKUP($C8,aliments!$B$2:$AZ$70,27,0)/100) | AF8: =IF($C8="","",$E8*VLOOKUP($C8,aliments!$B$2:$AZ$70,28,0)/100) | AG8: =IF($C8="","",$E8*VLOOKUP($C8,aliments!$B$2:$AZ$70,29,0)/100) | AH8: =IF($C8="","",$E8*VLOOKUP($C8,aliments!$B$2:$AZ$70,30,0)/100) | AI8: =IF($C8="","",$E8*VLOOKUP($C8,aliments!$B$2:$AZ$70,31,0)/100) | AJ8: =IF($C8="","",$E8*VLOOKUP($C8,aliments!$B$2:$AZ$70,32,0)/100) | AK8: =IF($C8="","",$E8*VLOOKUP($C8,aliments!$B$2:$AZ$70,33,0)/100) | AL8: =IF($C8="","",$E8*VLOOKUP($C8,aliments!$B$2:$AZ$70,34,0)/100) | AM8: =IF($C8="","",$E8*VLOOKUP($C8,aliments!$B$2:$AZ$70,35,0)/100) | AN8: =IF($C8="","",$E8*VLOOKUP($C8,aliments!$B$2:$AZ$70,36,0)/100) | AO8: =IF($C8="","",$E8*VLOOKUP($C8,aliments!$B$2:$AZ$70,37,0)/100) | CA8: Biscuits_salés_apéritifs
F9: =IF($C9="","",$E9*VLOOKUP($C9,aliments!$B$2:$AZ$70,2,0)/100) | G9: =IF($C9="","",$E9*VLOOKUP($C9,aliments!$B$2:$AZ$70,3,0)/100) | H9: =IF($C9="","",$E9*VLOOKUP($C9,aliments!$B$2:$AZ$70,4,0)/100) | I9: =IF($C9="","",$E9*VLOOKUP($C9,aliments!$B$2:$AZ$70,5,0)/100) | J9: =IF($C9="","",$E9*VLOOKUP($C9,aliments!$B$2:$AZ$70,6,0)/100) | K9: =IF($C9="","",$E9*VLOOKUP($C9,aliments!$B$2:$AZ$70,7,0)/100) | L9: =IF($C9="","",$E9*VLOOKUP($C9,aliments!$B$2:$AZ$70,8,0)/100) | M9: =IF($C9="","",$E9*VLOOKUP($C9,aliments!$B$2:$AZ$70,9,0)/100) | N9: =IF($C9="","",$E9*VLOOKUP($C9,aliments!$B$2:$AZ$70,10,0)/100) | O9: =IF($C9="","",$E9*VLOOKUP($C9,aliments!$B$2:$AZ$70,11,0)/100) | P9: =IF($C9="","",$E9*VLOOKUP($C9,aliments!$B$2:$AZ$70,12,0)/100) | Q9: =IF($C9="","",$E9*VLOOKUP($C9,aliments!$B$2:$AZ$70,13,0)/100) | R9: =IF($C9="","",$E9*VLOOKUP($C9,aliments!$B$2:$AZ$70,14,0)/100) | S9: =IF($C9="","",$E9*VLOOKUP($C9,aliments!$B$2:$AZ$70,15,0)/100) | T9: =IF($C9="","",$E9*VLOOKUP($C9,aliments!$B$2:$AZ$70,16,0)/100) | U9: =IF($C9="","",$E9*VLOOKUP($C9,aliments!$B$2:$AZ$70,17,0)/100) | V9: =IF($C9="","",$E9*VLOOKUP($C9,aliments!$B$2:$AZ$70,18,0)/100) | W9: =IF($C9="","",$E9*VLOOKUP($C9,aliments!$B$2:$AZ$70,19,0)/100) | X9: =IF($C9="","",$E9*VLOOKUP($C9,aliments!$B$2:$AZ$70,20,0)/100) | Y9: =IF($C9="","",$E9*VLOOKUP($C9,aliments!$B$2:$AZ$70,21,0)/100) | Z9: =IF($C9="","",$E9*VLOOKUP($C9,aliments!$B$2:$AZ$70,22,0)/100) | AA9: =IF($C9="","",$E9*VLOOKUP($C9,aliments!$B$2:$AZ$70,23,0)/100) | AB9: =IF($C9="","",$E9*VLOOKUP($C9,aliments!$B$2:$AZ$70,24,0)/100) | AC9: =IF($C9="","",$E9*VLOOKUP($C9,aliments!$B$2:$AZ$70,25,0)/100) | AD9: =IF($C9="","",$E9*VLOOKUP($C9,aliments!$B$2:$AZ$70,26,0)/100) | AE9: =IF($C9="","",$E9*VLOOKUP($C9,aliments!$B$2:$AZ$70,27,0)/100) | AF9: =IF($C9="","",$E9*VLOOKUP($C9,aliments!$B$2:$AZ$70,28,0)/100) | AG9: =IF($C9="","",$E9*VLOOKUP($C9,aliments!$B$2:$AZ$70,29,0)/100) | AH9: =IF($C9="","",$E9*VLOOKUP($C9,aliments!$B$2:$AZ$70,30,0)/100) | AI9: =IF($C9="","",$E9*VLOOKUP($C9,aliments!$B$2:$AZ$70,31,0)/100) | AJ9: =IF($C9="","",$E9*VLOOKUP($C9,aliments!$B$2:$AZ$70,32,0)/100) | AK9: =IF($C9="","",$E9*VLOOKUP($C9,aliments!$B$2:$AZ$70,33,0)/100) | AL9: =IF($C9="","",$E9*VLOOKUP($C9,aliments!$B$2:$AZ$70,34,0)/100) | AM9: =IF($C9="","",$E9*VLOOKUP($C9,aliments!$B$2:$AZ$70,35,0)/100) | AN9: =IF($C9="","",$E9*VLOOKUP($C9,aliments!$B$2:$AZ$70,36,0)/100) | AO9: =IF($C9="","",$E9*VLOOKUP($C9,aliments!$B$2:$AZ$70,37,0)/100) | CA9: Biscuits_secs_sucrés
A10: Sous total | F10: =IF(SUM(F3:F9)=0,"",AVERAGE(F3:F9)) -> 0.008 | G10: =SUM(G3:G9) -> 18.27 | H10: =SUM(H3:H9) -> 10.8 | I10: =SUM(I3:I9) -> 0.8 | J10: =SUM(J3:J9) -> 8.8 | K10: =SUM(K3:K9) -> 126 | L10: =SUM(L3:L9) -> 0 | M10: =SUM(M3:M9) -> 0 | N10: =SUM(N3:N9) -> 0 | ... AO10: =SUM(AO3:AO9) -> 2080 | CA10: Boissons_rafraîchissantes_sans_alcool
CA11: Bouillons_prêts_à_consommer
A12: Collation du matin | C12: Aliments | E12: Quantité( g) | F12: CG | G12: Pral | H12: Protides ( g) | I12: Glucides ( g) | J12: Lipides (g) | K12: Calories | L12: VitA (µg) | M12: Beta-Car. (µg) | N12: Vit D (µg) | O12: Vit E (mg) | P12: Vit K (µg) | Q12: VitC (mg) | R12: Vit B1 (mg) | S12: Vit B2 (mg) | T12: Vit B3 (mg) | U12: Vit B5 (mg) | V12: Vit B6 (mg) | W12: Vit B9 (µg) | X12: Vit B12 (µg) | Y12: Calcium (mg) | Z12: Cuivre (mg) | AA12: Fer (mg) | AB12: Iode (µg) | AC12: Magnésium (mg) | AD12: Manganèse (mg) | AE12: Phosphore (mg) | AF12: Potassium (mg) | AG12: Sélénium (µg) | AH12: Sodium (mg) | AI12: Zinc (mg) | AJ12: Fibres (g) | AK12: AG saturés (g) | AL12: AG monoinsaturés (g) | AM12: Polyols totaux (g) | AN12: AG polyinsaturés (g) | AO12: Cholestérol (mg) | CA12: Café_thé_infusions_boissons_au_cacao
B13: Viandes | C13: Agneau, gigot, cru | E13: 100 | F13: =IF($C13="","",$E13*VLOOKUP($C13,aliments!$B$2:$AZ$70,2,0)/100) -> #N/A | G13: =IF($C13="","",$E13*VLOOKUP($C13,aliments!$B$2:$AZ$70,3,0)/100) -> #N/A | H13: =IF($C13="","",$E13*VLOOKUP($C13,aliments!$B$2:$AZ$70,4,0)/100) -> #N/A | I13: =IF($C13="","",$E13*VLOOKUP($C13,aliments!$B$2:$AZ$70,5,0)/100) -> #N/A | J13: =IF($C13="","",$E13*VLOOKUP($C13,aliments!$B$2:$AZ$70,6,0)/100) -> #N/A | K13: =IF($C13="","",$E13*VLOOKUP($C13,aliments!$B$2:$AZ$70,7,0)/100) -> #N/A | L13: =IF($C13="","",$E13*VLOOKUP($C13,aliments!$B$2:$AZ$70,8,0)/100) -> #N/A | M13: =IF($C13="","",$E13*VLOOKUP($C13,aliments!$B$2:$AZ$70,9,0)/100) -> #N/A | N13: =IF($C13="","",$E13*VLOOKUP($C13,aliments!$B$2:$AZ$70,10,0)/100) -> #N/A | O13: =IF($C13="","",$E13*VLOOKUP($C13,aliments!$B$2:$AZ$70,11,0)/100) -> #N/A | P13: =IF($C13="","",$E13*VLOOKUP($C13,aliments!$B$2:$AZ$70,12,0)/100) -> #N/A | Q13: =IF($C13="","",$E13*VLOOKUP($C13,aliments!$B$2:$AZ$70,13,0)/100) -> #N/A | R13: =IF($C13="","",$E13*VLOOKUP($C13,aliments!$B$2:$AZ$70,14,0)/100) -> #N/A | S13: =IF($C13="","",$E13*VLOOKUP($C13,aliments!$B$2:$AZ$70,15,0)/100) -> #N/A | T13: =IF($C13="","",$E13*VLOOKUP($C13,aliments!$B$2:$AZ$70,16,0)/100) -> #N/A | U13: =IF($C13="","",$E13*VLOOKUP($C13,aliments!$B$2:$AZ$70,17,0)/100) -> #N/A | V13: =IF($C13="","",$E13*VLOOKUP($C13,aliments!$B$2:$AZ$70,18,0)/100) -> #N/A | W13: =IF($C13="","",$E13*VLOOKUP($C13,aliments!$B$2:$AZ$70,19,0)/100) -> #N/A | X13: =IF($C13="","",$E13*VLOOKUP($C13,aliments!$B$2:$AZ$70,20,0)/100) -> #N/A | Y13: =IF($C13="","",$E13*VLOOKUP($C13,aliments!$B$2:$AZ$70,21,0)/100) -> #N/A | Z13: =IF($C13="","",$E13*VLOOKUP($C13,aliments!$B$2:$AZ$70,22,0)/100) -> #N/A | AA13: =IF($C13="","",$E13*VLOOKUP($C13,aliments!$B$2:$AZ$70,23,0)/100) -> #N/A | AB13: =IF($C13="","",$E13*VLOOKUP($C13,aliments!$B$2:$AZ$70,24,0)/100) -> #N/A | AC13: =IF($C13="","",$E13*VLOOKUP($C13,aliments!$B$2:$AZ$70,25,0)/100) -> #N/A | AD13: =IF($C13="","",$E13*VLOOKUP($C13,aliments!$B$2:$AZ$70,26,0)/100) -> #N/A | AE13: =IF($C13="","",$E13*VLOOKUP($C13,aliments!$B$2:$AZ$70,27,0)/100) -> #N/A | AF13: =IF($C13="","",$E13*VLOOKUP($C13,aliments!$B$2:$AZ$70,28,0)/100) -> #N/A | AG13: =IF($C13="","",$E13*VLOOKUP($C13,aliments!$B$2:$AZ$70,29,0)/100) -> #N/A | AH13: =IF($C13="","",$E13*VLOOKUP($C13,aliments!$B$2:$AZ$70,30,0)/100) -> #N/A | AI13: =IF($C13="","",$E13*VLOOKUP($C13,aliments!$B$2:$AZ$70,31,0)/100) -> #N/A | AJ13: =IF($C13="","",$E13*VLOOKUP($C13,aliments!$B$2:$AZ$70,32,0)/100) -> #N/A | AK13: =IF($C13="","",$E13*VLOOKUP($C13,aliments!$B$2:$AZ$70,33,0)/100) -> #N/A | AL13: =IF($C13="","",$E13*VLOOKUP($C13,aliments!$B$2:$AZ$70,34,0)/100) -> #N/A | AM13: =IF($C13="","",$E13*VLOOKUP($C13,aliments!$B$2:$AZ$70,35,0)/100) -> #N/A | AN13: =IF($C13="","",$E13*VLOOKUP($C13,aliments!$B$2:$AZ$70,36,0)/100) -> #N/A | AO13: =IF($C13="","",$E13*VLOOKUP($C13,aliments!$B$2:$AZ$70,37,0)/100) -> #N/A | CA13: Céréales_petit_déjeuner_et_barres_céréalières
B14: Riz_et_autres_graines | C14: Riz blanc, cuit | E14: 50 | F14: =IF($C14="","",$E14*VLOOKUP($C14,aliments!$B$2:$AZ$70,2,0)/100) -> #N/A | G14: =IF($C14="","",$E14*VLOOKUP($C14,aliments!$B$2:$AZ$70,3,0)/100) -> #N/A | H14: =IF($C14="","",$E14*VLOOKUP($C14,aliments!$B$2:$AZ$70,4,0)/100) -> #N/A | I14: =IF($C14="","",$E14*VLOOKUP($C14,aliments!$B$2:$AZ$70,5,0)/100) -> #N/A | J14: =IF($C14="","",$E14*VLOOKUP($C14,aliments!$B$2:$AZ$70,6,0)/100) -> #N/A | K14: =IF($C14="","",$E14*VLOOKUP($C14,aliments!$B$2:$AZ$70,7,0)/100) -> #N/A | L14: =IF($C14="","",$E14*VLOOKUP($C14,aliments!$B$2:$AZ$70,8,0)/100) -> #N/A | M14: =IF($C14="","",$E14*VLOOKUP($C14,aliments!$B$2:$AZ$70,9,0)/100) -> #N/A | N14: =IF($C14="","",$E14*VLOOKUP($C14,aliments!$B$2:$AZ$70,10,0)/100) -> #N/A | O14: =IF($C14="","",$E14*VLOOKUP($C14,aliments!$B$2:$AZ$70,11,0)/100) -> #N/A | P14: =IF($C14="","",$E14*VLOOKUP($C14,aliments!$B$2:$AZ$70,12,0)/100) -> #N/A | Q14: =IF($C14="","",$E14*VLOOKUP($C14,aliments!$B$2:$AZ$70,13,0)/100) -> #N/A | R14: =IF($C14="","",$E14*VLOOKUP($C14,aliments!$B$2:$AZ$70,14,0)/100) -> #N/A | S14: =IF($C14="","",$E14*VLOOKUP($C14,aliments!$B$2:$AZ$70,15,0)/100) -> #N/A | T14: =IF($C14="","",$E14*VLOOKUP($C14,aliments!$B$2:$AZ$70,16,0)/100) -> #N/A | U14: =IF($C14="","",$E14*VLOOKUP($C14,aliments!$B$2:$AZ$70,17,0)/100) -> #N/A | V14: =IF($C14="","",$E14*VLOOKUP($C14,aliments!$B$2:$AZ$70,18,0)/100) -> #N/A | W14: =IF($C14="","",$E14*VLOOKUP($C14,aliments!$B$2:$AZ$70,19,0)/100) -> #N/A | X14: =IF($C14="","",$E14*VLOOKUP($C14,aliments!$B$2:$AZ$70,20,0)/100) -> #N/A | Y14: =IF($C14="","",$E14*VLOOKUP($C14,aliments!$B$2:$AZ$70,21,0)/100) -> #N/A | Z14: =IF($C14="","",$E14*VLOOKUP($C14,aliments!$B$2:$AZ$70,22,0)/100) -> #N/A | AA14: =IF($C14="","",$E14*VLOOKUP($C14,aliments!$B$2:$AZ$70,23,0)/100) -> #N/A | AB14: =IF($C14="","",$E14*VLOOKUP($C14,aliments!$B$2:$AZ$70,24,0)/100) -> #N/A | AC14: =IF($C14="","",$E14*VLOOKUP($C14,aliments!$B$2:$AZ$70,25,0)/100) -> #N/A | AD14: =IF($C14="","",$E14*VLOOKUP($C14,aliments!$B$2:$AZ$70,26,0)/100) -> #N/A | AE14: =IF($C14="","",$E14*VLOOKUP($C14,aliments!$B$2:$AZ$70,27,0)/100) -> #N/A | AF14: =IF($C14="","",$E14*VLOOKUP($C14,aliments!$B$2:$AZ$70,28,0)/100) -> #N/A | AG14: =IF($C14="","",$E14*VLOOKUP($C14,aliments!$B$2:$AZ$70,29,0)/100) -> #N/A | AH14: =IF($C14="","",$E14*VLOOKUP($C14,aliments!$B$2:$AZ$70,30,0)/100) -> #N/A | AI14: =IF($C14="","",$E14*VLOOKUP($C14,aliments!$B$2:$AZ$70,31,0)/100) -> #N/A | AJ14: =IF($C14="","",$E14*VLOOKUP($C14,aliments!$B$2:$AZ$70,32,0)/100) -> #N/A | AK14: =IF($C14="","",$E14*VLOOKUP($C14,aliments!$B$2:$AZ$70,33,0)/100) -> #N/A | AL14: =IF($C14="","",$E14*VLOOKUP($C14,aliments!$B$2:$AZ$70,34,0)/100) -> #N/A | AM14: =IF($C14="","",$E14*VLOOKUP($C14,aliments!$B$2:$AZ$70,35,0)/100) -> #N/A | AN14: =IF($C14="","",$E14*VLOOKUP($C14,aliments!$B$2:$AZ$70,36,0)/100) -> #N/A | AO14: =IF($C14="","",$E14*VLOOKUP($C14,aliments!$B$2:$AZ$70,37,0)/100) -> #N/A | CA14: Charcuteries_et_salaisons
B15: Légumes | C15: Carotte, crue | E15: 200 | F15: =IF($C15="","",$E15*VLOOKUP($C15,aliments!$B$2:$AZ$70,2,0)/100) -> #N/A | G15: =IF($C15="","",$E15*VLOOKUP($C15,aliments!$B$2:$AZ$70,3,0)/100) -> #N/A | H15: =IF($C15="","",$E15*VLOOKUP($C15,aliments!$B$2:$AZ$70,4,0)/100) -> #N/A | I15: =IF($C15="","",$E15*VLOOKUP($C15,aliments!$B$2:$AZ$70,5,0)/100) -> #N/A | J15: =IF($C15="","",$E15*VLOOKUP($C15,aliments!$B$2:$AZ$70,6,0)/100) -> #N/A | K15: =IF($C15="","",$E15*VLOOKUP($C15,aliments!$B$2:$AZ$70,7,0)/100) -> #N/A | L15: =IF($C15="","",$E15*VLOOKUP($C15,aliments!$B$2:$AZ$70,8,0)/100) -> #N/A | M15: =IF($C15="","",$E15*VLOOKUP($C15,aliments!$B$2:$AZ$70,9,0)/100) -> #N/A | N15: =IF($C15="","",$E15*VLOOKUP($C15,aliments!$B$2:$AZ$70,10,0)/100) -> #N/A | O15: =IF($C15="","",$E15*VLOOKUP($C15,aliments!$B$2:$AZ$70,11,0)/100) -> #N/A | P15: =IF($C15="","",$E15*VLOOKUP($C15,aliments!$B$2:$AZ$70,12,0)/100) -> #N/A | Q15: =IF($C15="","",$E15*VLOOKUP($C15,aliments!$B$2:$AZ$70,13,0)/100) -> #N/A | R15: =IF($C15="","",$E15*VLOOKUP($C15,aliments!$B$2:$AZ$70,14,0)/100) -> #N/A | S15: =IF($C15="","",$E15*VLOOKUP($C15,aliments!$B$2:$AZ$70,15,0)/100) -> #N/A | T15: =IF($C15="","",$E15*VLOOKUP($C15,aliments!$B$2:$AZ$70,16,0)/100) -> #N/A | U15: =IF($C15="","",$E15*VLOOKUP($C15,aliments!$B$2:$AZ$70,17,0)/100) -> #N/A | V15: =IF($C15="","",$E15*VLOOKUP($C15,aliments!$B$2:$AZ$70,18,0)/100) -> #N/A | W15: =IF($C15="","",$E15*VLOOKUP($C15,aliments!$B$2:$AZ$70,19,0)/100) -> #N/A | X15: =IF($C15="","",$E15*VLOOKUP($C15,aliments!$B$2:$AZ$70,20,0)/100) -> #N/A | Y15: =IF($C15="","",$E15*VLOOKUP($C15,aliments!$B$2:$AZ$70,21,0)/100) -> #N/A | Z15: =IF($C15="","",$E15*VLOOKUP($C15,aliments!$B$2:$AZ$70,22,0)/100) -> #N/A | AA15: =IF($C15="","",$E15*VLOOKUP($C15,aliments!$B$2:$AZ$70,23,0)/100) -> #N/A | AB15: =IF($C15="","",$E15*VLOOKUP($C15,aliments!$B$2:$AZ$70,24,0)/100) -> #N/A | AC15: =IF($C15="","",$E15*VLOOKUP($C15,aliments!$B$2:$AZ$70,25,0)/100) -> #N/A | AD15: =IF($C15="","",$E15*VLOOKUP($C15,aliments!$B$2:$AZ$70,26,0)/100) -> #N/A | AE15: =IF($C15="","",$E15*VLOOKUP($C15,aliments!$B$2:$AZ$70,27,0)/100) -> #N/A | AF15: =IF($C15="","",$E15*VLOOKUP($C15,aliments!$B$2:$AZ$70,28,0)/100) -> #N/A | AG15: =IF($C15="","",$E15*VLOOKUP($C15,aliments!$B$2:$AZ$70,29,0)/100) -> #N/A | AH15: =IF($C15="","",$E15*VLOOKUP($C15,aliments!$B$2:$AZ$70,30,0)/100) -> #N/A | AI15: =IF($C15="","",$E15*VLOOKUP($C15,aliments!$B$2:$AZ$70,31,0)/100) -> #N/A | AJ15: =IF($C15="","",$E15*VLOOKUP($C15,aliments!$B$2:$AZ$70,32,0)/100) -> #N/A | AK15: =IF($C15="","",$E15*VLOOKUP($C15,aliments!$B$2:$AZ$70,33,0)/100) -> #N/A | AL15: =IF($C15="","",$E15*VLOOKUP($C15,aliments!$B$2:$AZ$70,34,0)/100) -> #N/A | AM15: =IF($C15="","",$E15*VLOOKUP($C15,aliments!$B$2:$AZ$70,35,0)/100) -> #N/A | AN15: =IF($C15="","",$E15*VLOOKUP($C15,aliments!$B$2:$AZ$70,36,0)/100) -> #N/A | AO15: =IF($C15="","",$E15*VLOOKUP($C15,aliments!$B$2:$AZ$70,37,0)/100) -> #N/A | CA15: Chocolats_et_produits_à_base_de_chocolat
F16: =IF($C16="","",$E16*VLOOKUP($C16,aliments!$B$2:$AZ$70,2,0)/100) | G16: =IF($C16="","",$E16*VLOOKUP($C16,aliments!$B$2:$AZ$70,3,0)/100) | H16: =IF($C16="","",$E16*VLOOKUP($C16,aliments!$B$2:$AZ$70,4,0)/100) | I16: =IF($C16="","",$E16*VLOOKUP($C16,aliments!$B$2:$AZ$70,5,0)/100) | J16: =IF($C16="","",$E16*VLOOKUP($C16,aliments!$B$2:$AZ$70,6,0)/100) | K16: =IF($C16="","",$E16*VLOOKUP($C16,aliments!$B$2:$AZ$70,7,0)/100) | L16: =IF($C16="","",$E16*VLOOKUP($C16,aliments!$B$2:$AZ$70,8,0)/100) | M16: =IF($C16="","",$E16*VLOOKUP($C16,aliments!$B$2:$AZ$70,9,0)/100) | N16: =IF($C16="","",$E16*VLOOKUP($C16,aliments!$B$2:$AZ$70,10,0)/100) | O16: =IF($C16="","",$E16*VLOOKUP($C16,aliments!$B$2:$AZ$70,11,0)/100) | P16: =IF($C16="","",$E16*VLOOKUP($C16,aliments!$B$2:$AZ$70,12,0)/100) | Q16: =IF($C16="","",$E16*VLOOKUP($C16,aliments!$B$2:$AZ$70,13,0)/100) | R16: =IF($C16="","",$E16*VLOOKUP($C16,aliments!$B$2:$AZ$70,14,0)/100) | S16: =IF($C16="","",$E16*VLOOKUP($C16,aliments!$B$2:$AZ$70,15,0)/100) | T16: =IF($C16="","",$E16*VLOOKUP($C16,aliments!$B$2:$AZ$70,16,0)/100) | U16: =IF($C16="","",$E16*VLOOKUP($C16,aliments!$B$2:$AZ$70,17,0)/100) | V16: =IF($C16="","",$E16*VLOOKUP($C16,aliments!$B$2:$AZ$70,18,0)/100) | W16: =IF($C16="","",$E16*VLOOKUP($C16,aliments!$B$2:$AZ$70,19,0)/100) | X16: =IF($C16="","",$E16*VLOOKUP($C16,aliments!$B$2:$AZ$70,20,0)/100) | Y16: =IF($C16="","",$E16*VLOOKUP($C16,aliments!$B$2:$AZ$70,21,0)/100) | Z16: =IF($C16="","",$E16*VLOOKUP($C16,aliments!$B$2:$AZ$70,22,0)/100) | AA16: =IF($C16="","",$E16*VLOOKUP($C16,aliments!$B$2:$AZ$70,23,0)/100) | AB16: =IF($C16="","",$E16*VLOOKUP($C16,aliments!$B$2:$AZ$70,24,0)/100) | AC16: =IF($C16="","",$E16*VLOOKUP($C16,aliments!$B$2:$AZ$70,25,0)/100) | AD16: =IF($C16="","",$E16*VLOOKUP($C16,aliments!$B$2:$AZ$70,26,0)/100) | AE16: =IF($C16="","",$E16*VLOOKUP($C16,aliments!$B$2:$AZ$70,27,0)/100) | AF16: =IF($C16="","",$E16*VLOOKUP($C16,aliments!$B$2:$AZ$70,28,0)/100) | AG16: =IF($C16="","",$E16*VLOOKUP($C16,aliments!$B$2:$AZ$70,29,0)/100) | AH16: =IF($C16="","",$E16*VLOOKUP($C16,aliments!$B$2:$AZ$70,30,0)/100) | AI16: =IF($C16="","",$E16*VLOOKUP($C16,aliments!$B$2:$AZ$70,31,0)/100) | AJ16: =IF($C16="","",$E16*VLOOKUP($C16,aliments!$B$2:$AZ$70,32,0)/100) | AK16: =IF($C16="","",$E16*VLOOKUP($C16,aliments!$B$2:$AZ$70,33,0)/100) | AL16: =IF($C16="","",$E16*VLOOKUP($C16,aliments!$B$2:$AZ$70,34,0)/100) | AM16: =IF($C16="","",$E16*VLOOKUP($C16,aliments!$B$2:$AZ$70,35,0)/100) | AN16: =IF($C16="","",$E16*VLOOKUP($C16,aliments!$B$2:$AZ$70,36,0)/100) | AO16: =IF($C16="","",$E16*VLOOKUP($C16,aliments!$B$2:$AZ$70,37,0)/100) | CA16: Cidres_et_similaires
F17: =IF($C17="","",$E17*VLOOKUP($C17,aliments!$B$2:$AZ$70,2,0)/100) | G17: =IF($C17="","",$E17*VLOOKUP($C17,aliments!$B$2:$AZ$70,3,0)/100) | H17: =IF($C17="","",$E17*VLOOKUP($C17,aliments!$B$2:$AZ$70,4,0)/100) | I17: =IF($C17="","",$E17*VLOOKUP($C17,aliments!$B$2:$AZ$70,5,0)/100) | J17: =IF($C17="","",$E17*VLOOKUP($C17,aliments!$B$2:$AZ$70,6,0)/100) | K17: =IF($C17="","",$E17*VLOOKUP($C17,aliments!$B$2:$AZ$70,7,0)/100) | L17: =IF($C17="","",$E17*VLOOKUP($C17,aliments!$B$2:$AZ$70,8,0)/100) | M17: =IF($C17="","",$E17*VLOOKUP($C17,aliments!$B$2:$AZ$70,9,0)/100) | N17: =IF($C17="","",$E17*VLOOKUP($C17,aliments!$B$2:$AZ$70,10,0)/100) | O17: =IF($C17="","",$E17*VLOOKUP($C17,aliments!$B$2:$AZ$70,11,0)/100) | P17: =IF($C17="","",$E17*VLOOKUP($C17,aliments!$B$2:$AZ$70,12,0)/100) | Q17: =IF($C17="","",$E17*VLOOKUP($C17,aliments!$B$2:$AZ$70,13,0)/100) | R17: =IF($C17="","",$E17*VLOOKUP($C17,aliments!$B$2:$AZ$70,14,0)/100) | S17: =IF($C17="","",$E17*VLOOKUP($C17,aliments!$B$2:$AZ$70,15,0)/100) | T17: =IF($C17="","",$E17*VLOOKUP($C17,aliments!$B$2:$AZ$70,16,0)/100) | U17: =IF($C17="","",$E17*VLOOKUP($C17,aliments!$B$2:$AZ$70,17,0)/100) | V17: =IF($C17="","",$E17*VLOOKUP($C17,aliments!$B$2:$AZ$70,18,0)/100) | W17: =IF($C17="","",$E17*VLOOKUP($C17,aliments!$B$2:$AZ$70,19,0)/100) | X17: =IF($C17="","",$E17*VLOOKUP($C17,aliments!$B$2:$AZ$70,20,0)/100) | Y17: =IF($C17="","",$E17*VLOOKUP($C17,aliments!$B$2:$AZ$70,21,0)/100) | Z17: =IF($C17="","",$E17*VLOOKUP($C17,aliments!$B$2:$AZ$70,22,0)/100) | AA17: =IF($C17="","",$E17*VLOOKUP($C17,aliments!$B$2:$AZ$70,23,0)/100) | AB17: =IF($C17="","",$E17*VLOOKUP($C17,aliments!$B$2:$AZ$70,24,0)/100) | AC17: =IF($C17="","",$E17*VLOOKUP($C17,aliments!$B$2:$AZ$70,25,0)/100) | AD17: =IF($C17="","",$E17*VLOOKUP($C17,aliments!$B$2:$AZ$70,26,0)/100) | AE17: =IF($C17="","",$E17*VLOOKUP($C17,aliments!$B$2:$AZ$70,27,0)/100) | AF17: =IF($C17="","",$E17*VLOOKUP($C17,aliments!$B$2:$AZ$70,28,0)/100) | AG17: =IF($C17="","",$E17*VLOOKUP($C17,aliments!$B$2:$AZ$70,29,0)/100) | AH17: =IF($C17="","",$E17*VLOOKUP($C17,aliments!$B$2:$AZ$70,30,0)/100) | AI17: =IF($C17="","",$E17*VLOOKUP($C17,aliments!$B$2:$AZ$70,31,0)/100) | AJ17: =IF($C17="","",$E17*VLOOKUP($C17,aliments!$B$2:$AZ$70,32,0)/100) | AK17: =IF($C17="","",$E17*VLOOKUP($C17,aliments!$B$2:$AZ$70,33,0)/100) | AL17: =IF($C17="","",$E17*VLOOKUP($C17,aliments!$B$2:$AZ$70,34,0)/100) | AM17: =IF($C17="","",$E17*VLOOKUP($C17,aliments!$B$2:$AZ$70,35,0)/100) | AN17: =IF($C17="","",$E17*VLOOKUP($C17,aliments!$B$2:$AZ$70,36,0)/100) | AO17: =IF($C17="","",$E17*VLOOKUP($C17,aliments!$B$2:$AZ$70,37,0)/100) | CA17: Cocktails
F18: =IF($C18="","",$E18*VLOOKUP($C18,aliments!$B$2:$AZ$70,2,0)/100) | G18: =IF($C18="","",$E18*VLOOKUP($C18,aliments!$B$2:$AZ$70,3,0)/100) | H18: =IF($C18="","",$E18*VLOOKUP($C18,aliments!$B$2:$AZ$70,4,0)/100) | I18: =IF($C18="","",$E18*VLOOKUP($C18,aliments!$B$2:$AZ$70,5,0)/100) | J18: =IF($C18="","",$E18*VLOOKUP($C18,aliments!$B$2:$AZ$70,6,0)/100) | K18: =IF($C18="","",$E18*VLOOKUP($C18,aliments!$B$2:$AZ$70,7,0)/100) | L18: =IF($C18="","",$E18*VLOOKUP($C18,aliments!$B$2:$AZ$70,8,0)/100) | M18: =IF($C18="","",$E18*VLOOKUP($C18,aliments!$B$2:$AZ$70,9,0)/100) | N18: =IF($C18="","",$E18*VLOOKUP($C18,aliments!$B$2:$AZ$70,10,0)/100) | O18: =IF($C18="","",$E18*VLOOKUP($C18,aliments!$B$2:$AZ$70,11,0)/100) | P18: =IF($C18="","",$E18*VLOOKUP($C18,aliments!$B$2:$AZ$70,12,0)/100) | Q18: =IF($C18="","",$E18*VLOOKUP($C18,aliments!$B$2:$AZ$70,13,0)/100) | R18: =IF($C18="","",$E18*VLOOKUP($C18,aliments!$B$2:$AZ$70,14,0)/100) | S18: =IF($C18="","",$E18*VLOOKUP($C18,aliments!$B$2:$AZ$70,15,0)/100) | T18: =IF($C18="","",$E18*VLOOKUP($C18,aliments!$B$2:$AZ$70,16,0)/100) | U18: =IF($C18="","",$E18*VLOOKUP($C18,aliments!$B$2:$AZ$70,17,0)/100) | V18: =IF($C18="","",$E18*VLOOKUP($C18,aliments!$B$2:$AZ$70,18,0)/100) | W18: =IF($C18="","",$E18*VLOOKUP($C18,aliments!$B$2:$AZ$70,19,0)/100) | X18: =IF($C18="","",$E18*VLOOKUP($C18,aliments!$B$2:$AZ$70,20,0)/100) | Y18: =IF($C18="","",$E18*VLOOKUP($C18,aliments!$B$2:$AZ$70,21,0)/100) | Z18: =IF($C18="","",$E18*VLOOKUP($C18,aliments!$B$2:$AZ$70,22,0)/100) | AA18: =IF($C18="","",$E18*VLOOKUP($C18,aliments!$B$2:$AZ$70,23,0)/100) | AB18: =IF($C18="","",$E18*VLOOKUP($C18,aliments!$B$2:$AZ$70,24,0)/100) | AC18: =IF($C18="","",$E18*VLOOKUP($C18,aliments!$B$2:$AZ$70,25,0)/100) | AD18: =IF($C18="","",$E18*VLOOKUP($C18,aliments!$B$2:$AZ$70,26,0)/100) | AE18: =IF($C18="","",$E18*VLOOKUP($C18,aliments!$B$2:$AZ$70,27,0)/100) | AF18: =IF($C18="","",$E18*VLOOKUP($C18,aliments!$B$2:$AZ$70,28,0)/100) | AG18: =IF($C18="","",$E18*VLOOKUP($C18,aliments!$B$2:$AZ$70,29,0)/100) | AH18: =IF($C18="","",$E18*VLOOKUP($C18,aliments!$B$2:$AZ$70,30,0)/100) | AI18: =IF($C18="","",$E18*VLOOKUP($C18,aliments!$B$2:$AZ$70,31,0)/100) | AJ18: =IF($C18="","",$E18*VLOOKUP($C18,aliments!$B$2:$AZ$70,32,0)/100) | AK18: =IF($C18="","",$E18*VLOOKUP($C18,aliments!$B$2:$AZ$70,33,0)/100) | AL18: =IF($C18="","",$E18*VLOOKUP($C18,aliments!$B$2:$AZ$70,34,0)/100) | AM18: =IF($C18="","",$E18*VLOOKUP($C18,aliments!$B$2:$AZ$70,35,0)/100) | AN18: =IF($C18="","",$E18*VLOOKUP($C18,aliments!$B$2:$AZ$70,36,0)/100) | AO18: =IF($C18="","",$E18*VLOOKUP($C18,aliments!$B$2:$AZ$70,37,0)/100) | CA18: Compléments_alimentaires
F19: =IF($C19="","",$E19*VLOOKUP($C19,aliments!$B$2:$AZ$70,2,0)/100) | G19: =IF($C19="","",$E19*VLOOKUP($C19,aliments!$B$2:$AZ$70,3,0)/100) | H19: =IF($C19="","",$E19*VLOOKUP($C19,aliments!$B$2:$AZ$70,4,0)/100) | I19: =IF($C19="","",$E19*VLOOKUP($C19,aliments!$B$2:$AZ$70,5,0)/100) | J19: =IF($C19="","",$E19*VLOOKUP($C19,aliments!$B$2:$AZ$70,6,0)/100) | K19: =IF($C19="","",$E19*VLOOKUP($C19,aliments!$B$2:$AZ$70,7,0)/100) | L19: =IF($C19="","",$E19*VLOOKUP($C19,aliments!$B$2:$AZ$70,8,0)/100) | M19: =IF($C19="","",$E19*VLOOKUP($C19,aliments!$B$2:$AZ$70,9,0)/100) | N19: =IF($C19="","",$E19*VLOOKUP($C19,aliments!$B$2:$AZ$70,10,0)/100) | O19: =IF($C19="","",$E19*VLOOKUP($C19,aliments!$B$2:$AZ$70,11,0)/100) | P19: =IF($C19="","",$E19*VLOOKUP($C19,aliments!$B$2:$AZ$70,12,0)/100) | Q19: =IF($C19="","",$E19*VLOOKUP($C19,aliments!$B$2:$AZ$70,13,0)/100) | R19: =IF($C19="","",$E19*VLOOKUP($C19,aliments!$B$2:$AZ$70,14,0)/100) | S19: =IF($C19="","",$E19*VLOOKUP($C19,aliments!$B$2:$AZ$70,15,0)/100) | T19: =IF($C19="","",$E19*VLOOKUP($C19,aliments!$B$2:$AZ$70,16,0)/100) | U19: =IF($C19="","",$E19*VLOOKUP($C19,aliments!$B$2:$AZ$70,17,0)/100) | V19: =IF($C19="","",$E19*VLOOKUP($C19,aliments!$B$2:$AZ$70,18,0)/100) | W19: =IF($C19="","",$E19*VLOOKUP($C19,aliments!$B$2:$AZ$70,19,0)/100) | X19: =IF($C19="","",$E19*VLOOKUP($C19,aliments!$B$2:$AZ$70,20,0)/100) | Y19: =IF($C19="","",$E19*VLOOKUP($C19,aliments!$B$2:$AZ$70,21,0)/100) | Z19: =IF($C19="","",$E19*VLOOKUP($C19,aliments!$B$2:$AZ$70,22,0)/100) | AA19: =IF($C19="","",$E19*VLOOKUP($C19,aliments!$B$2:$AZ$70,23,0)/100) | AB19: =IF($C19="","",$E19*VLOOKUP($C19,aliments!$B$2:$AZ$70,24,0)/100) | AC19: =IF($C19="","",$E19*VLOOKUP($C19,aliments!$B$2:$AZ$70,25,0)/100) | AD19: =IF($C19="","",$E19*VLOOKUP($C19,aliments!$B$2:$AZ$70,26,0)/100) | AE19: =IF($C19="","",$E19*VLOOKUP($C19,aliments!$B$2:$AZ$70,27,0)/100) | AF19: =IF($C19="","",$E19*VLOOKUP($C19,aliments!$B$2:$AZ$70,28,0)/100) | AG19: =IF($C19="","",$E19*VLOOKUP($C19,aliments!$B$2:$AZ$70,29,0)/100) | AH19: =IF($C19="","",$E19*VLOOKUP($C19,aliments!$B$2:$AZ$70,30,0)/100) | AI19: =IF($C19="","",$E19*VLOOKUP($C19,aliments!$B$2:$AZ$70,31,0)/100) | AJ19: =IF($C19="","",$E19*VLOOKUP($C19,aliments!$B$2:$AZ$70,32,0)/100) | AK19: =IF($C19="","",$E19*VLOOKUP($C19,aliments!$B$2:$AZ$70,33,0)/100) | AL19: =IF($C19="","",$E19*VLOOKUP($C19,aliments!$B$2:$AZ$70,34,0)/100) | AM19: =IF($C19="","",$E19*VLOOKUP($C19,aliments!$B$2:$AZ$70,35,0)/100) | AN19: =IF($C19="","",$E19*VLOOKUP($C19,aliments!$B$2:$AZ$70,36,0)/100) | AO19: =IF($C19="","",$E19*VLOOKUP($C19,aliments!$B$2:$AZ$70,37,0)/100) | CA19: Confiseries_non_chocolatées
A20: Sous total | F20: =IF(SUM(F13:F19)=0,"",AVERAGE(F13:F19)) -> #N/A | G20: =SUM(G13:G19) -> #N/A | H20: =SUM(H13:H19) -> #N/A | I20: =SUM(I13:I19) -> #N/A | J20: =SUM(J13:J19) -> #N/A | K20: =SUM(K13:K19) -> #N/A | L20: =SUM(L13:L19) -> #N/A | M20: =SUM(M13:M19) -> #N/A | N20: =SUM(N13:N19) -> #N/A | ... AO20: =SUM(AO13:AO19) -> #N/A | CA20: Confitures
CA21: Crèmes_et_spécialités_à_base_de_crème
A22: Déjeuné | C22: Aliments | E22: Quantité( g) | F22: CG | G22: Pral | H22: Protides ( g) | I22: Glucides ( g) | J22: Lipides (g) | K22: Calories | L22: VitA (µg) | M22: Beta-Car. (µg) | N22: Vit D (µg) | O22: Vit E (mg) | P22: Vit K (µg) | Q22: VitC (mg) | R22: Vit B1 (mg) | S22: Vit B2 (mg) | T22: Vit B3 (mg) | U22: Vit B5 (mg) | V22: Vit B6 (mg) | W22: Vit B9 (µg) | X22: Vit B12 (µg) | Y22: Calcium (mg) | Z22: Cuivre (mg) | AA22: Fer (mg) | AB22: Iode (µg) | AC22: Magnésium (mg) | AD22: Manganèse (mg) | AE22: Phosphore (mg) | AF22: Potassium (mg) | AG22: Sélénium (µg) | AH22: Sodium (mg) | AI22: Zinc (mg) | AJ22: Fibres (g) | AK22: AG saturés (g) | AL22: AG monoinsaturés (g) | AM22: Polyols totaux (g) | AN22: AG polyinsaturés (g) | AO22: Cholestérol (mg) | CA22: Crustacés_et_mollusques_non_transformés
F23: =IF($C23="","",$E23*VLOOKUP($C23,aliments!$B$2:$AZ$70,2,0)/100) | G23: =IF($C23="","",$E23*VLOOKUP($C23,aliments!$B$2:$AZ$70,3,0)/100) | H23: =IF($C23="","",$E23*VLOOKUP($C23,aliments!$B$2:$AZ$70,4,0)/100) | I23: =IF($C23="","",$E23*VLOOKUP($C23,aliments!$B$2:$AZ$70,5,0)/100) | J23: =IF($C23="","",$E23*VLOOKUP($C23,aliments!$B$2:$AZ$70,6,0)/100) | K23: =IF($C23="","",$E23*VLOOKUP($C23,aliments!$B$2:$AZ$70,7,0)/100) | L23: =IF($C23="","",$E23*VLOOKUP($C23,aliments!$B$2:$AZ$70,8,0)/100) | M23: =IF($C23="","",$E23*VLOOKUP($C23,aliments!$B$2:$AZ$70,9,0)/100) | N23: =IF($C23="","",$E23*VLOOKUP($C23,aliments!$B$2:$AZ$70,10,0)/100) | O23: =IF($C23="","",$E23*VLOOKUP($C23,aliments!$B$2:$AZ$70,11,0)/100) | P23: =IF($C23="","",$E23*VLOOKUP($C23,aliments!$B$2:$AZ$70,12,0)/100) | Q23: =IF($C23="","",$E23*VLOOKUP($C23,aliments!$B$2:$AZ$70,13,0)/100) | R23: =IF($C23="","",$E23*VLOOKUP($C23,aliments!$B$2:$AZ$70,14,0)/100) | S23: =IF($C23="","",$E23*VLOOKUP($C23,aliments!$B$2:$AZ$70,15,0)/100) | T23: =IF($C23="","",$E23*VLOOKUP($C23,aliments!$B$2:$AZ$70,16,0)/100) | U23: =IF($C23="","",$E23*VLOOKUP($C23,aliments!$B$2:$AZ$70,17,0)/100) | V23: =IF($C23="","",$E23*VLOOKUP($C23,aliments!$B$2:$AZ$70,18,0)/100) | W23: =IF($C23="","",$E23*VLOOKUP($C23,aliments!$B$2:$AZ$70,19,0)/100) | X23: =IF($C23="","",$E23*VLOOKUP($C23,aliments!$B$2:$AZ$70,20,0)/100) | Y23: =IF($C23="","",$E23*VLOOKUP($C23,aliments!$B$2:$AZ$70,21,0)/100) | Z23: =IF($C23="","",$E23*VLOOKUP($C23,aliments!$B$2:$AZ$70,22,0)/100) | AA23: =IF($C23="","",$E23*VLOOKUP($C23,aliments!$B$2:$AZ$70,23,0)/100) | AB23: =IF($C23="","",$E23*VLOOKUP($C23,aliments!$B$2:$AZ$70,24,0)/100) | AC23: =IF($C23="","",$E23*VLOOKUP($C23,aliments!$B$2:$AZ$70,25,0)/100) | AD23: =IF($C23="","",$E23*VLOOKUP($C23,aliments!$B$2:$AZ$70,26,0)/100) | AE23: =IF($C23="","",$E23*VLOOKUP($C23,aliments!$B$2:$AZ$70,27,0)/100) | AF23: =IF($C23="","",$E23*VLOOKUP($C23,aliments!$B$2:$AZ$70,28,0)/100) | AG23: =IF($C23="","",$E23*VLOOKUP($C23,aliments!$B$2:$AZ$70,29,0)/100) | AH23: =IF($C23="","",$E23*VLOOKUP($C23,aliments!$B$2:$AZ$70,30,0)/100) | AI23: =IF($C23="","",$E23*VLOOKUP($C23,aliments!$B$2:$AZ$70,31,0)/100) | AJ23: =IF($C23="","",$E23*VLOOKUP($C23,aliments!$B$2:$AZ$70,32,0)/100) | AK23: =IF($C23="","",$E23*VLOOKUP($C23,aliments!$B$2:$AZ$70,33,0)/100) | AL23: =IF($C23="","",$E23*VLOOKUP($C23,aliments!$B$2:$AZ$70,34,0)/100) | AM23: =IF($C23="","",$E23*VLOOKUP($C23,aliments!$B$2:$AZ$70,35,0)/100) | AN23: =IF($C23="","",$E23*VLOOKUP($C23,aliments!$B$2:$AZ$70,36,0)/100) | AO23: =IF($C23="","",$E23*VLOOKUP($C23,aliments!$B$2:$AZ$70,37,0)/100) | CA23: Denrées_destinées_à_une_alimentation_particulière
F24: =IF($C24="","",$E24*VLOOKUP($C24,aliments!$B$2:$AZ$70,2,0)/100) | G24: =IF($C24="","",$E24*VLOOKUP($C24,aliments!$B$2:$AZ$70,3,0)/100) | H24: =IF($C24="","",$E24*VLOOKUP($C24,aliments!$B$2:$AZ$70,4,0)/100) | I24: =IF($C24="","",$E24*VLOOKUP($C24,aliments!$B$2:$AZ$70,5,0)/100) | J24: =IF($C24="","",$E24*VLOOKUP($C24,aliments!$B$2:$AZ$70,6,0)/100) | K24: =IF($C24="","",$E24*VLOOKUP($C24,aliments!$B$2:$AZ$70,7,0)/100) | L24: =IF($C24="","",$E24*VLOOKUP($C24,aliments!$B$2:$AZ$70,8,0)/100) | M24: =IF($C24="","",$E24*VLOOKUP($C24,aliments!$B$2:$AZ$70,9,0)/100) | N24: =IF($C24="","",$E24*VLOOKUP($C24,aliments!$B$2:$AZ$70,10,0)/100) | O24: =IF($C24="","",$E24*VLOOKUP($C24,aliments!$B$2:$AZ$70,11,0)/100) | P24: =IF($C24="","",$E24*VLOOKUP($C24,aliments!$B$2:$AZ$70,12,0)/100) | Q24: =IF($C24="","",$E24*VLOOKUP($C24,aliments!$B$2:$AZ$70,13,0)/100) | R24: =IF($C24="","",$E24*VLOOKUP($C24,aliments!$B$2:$AZ$70,14,0)/100) | S24: =IF($C24="","",$E24*VLOOKUP($C24,aliments!$B$2:$AZ$70,15,0)/100) | T24: =IF($C24="","",$E24*VLOOKUP($C24,aliments!$B$2:$AZ$70,16,0)/100) | U24: =IF($C24="","",$E24*VLOOKUP($C24,aliments!$B$2:$AZ$70,17,0)/100) | V24: =IF($C24="","",$E24*VLOOKUP($C24,aliments!$B$2:$AZ$70,18,0)/100) | W24: =IF($C24="","",$E24*VLOOKUP($C24,aliments!$B$2:$AZ$70,19,0)/100) | X24: =IF($C24="","",$E24*VLOOKUP($C24,aliments!$B$2:$AZ$70,20,0)/100) | Y24: =IF($C24="","",$E24*VLOOKUP($C24,aliments!$B$2:$AZ$70,21,0)/100) | Z24: =IF($C24="","",$E24*VLOOKUP($C24,aliments!$B$2:$AZ$70,22,0)/100) | AA24: =IF($C24="","",$E24*VLOOKUP($C24,aliments!$B$2:$AZ$70,23,0)/100) | AB24: =IF($C24="","",$E24*VLOOKUP($C24,aliments!$B$2:$AZ$70,24,0)/100) | AC24: =IF($C24="","",$E24*VLOOKUP($C24,aliments!$B$2:$AZ$70,25,0)/100) | AD24: =IF($C24="","",$E24*VLOOKUP($C24,aliments!$B$2:$AZ$70,26,0)/100) | AE24: =IF($C24="","",$E24*VLOOKUP($C24,aliments!$B$2:$AZ$70,27,0)/100) | AF24: =IF($C24="","",$E24*VLOOKUP($C24,aliments!$B$2:$AZ$70,28,0)/100) | AG24: =IF($C24="","",$E24*VLOOKUP($C24,aliments!$B$2:$AZ$70,29,0)/100) | AH24: =IF($C24="","",$E24*VLOOKUP($C24,aliments!$B$2:$AZ$70,30,0)/100) | AI24: =IF($C24="","",$E24*VLOOKUP($C24,aliments!$B$2:$AZ$70,31,0)/100) | AJ24: =IF($C24="","",$E24*VLOOKUP($C24,aliments!$B$2:$AZ$70,32,0)/100) | AK24: =IF($C24="","",$E24*VLOOKUP($C24,aliments!$B$2:$AZ$70,33,0)/100) | AL24: =IF($C24="","",$E24*VLOOKUP($C24,aliments!$B$2:$AZ$70,34,0)/100) | AM24: =IF($C24="","",$E24*VLOOKUP($C24,aliments!$B$2:$AZ$70,35,0)/100) | AN24: =IF($C24="","",$E24*VLOOKUP($C24,aliments!$B$2:$AZ$70,36,0)/100) | AO24: =IF($C24="","",$E24*VLOOKUP($C24,aliments!$B$2:$AZ$70,37,0)/100) | CA24: Desserts_lactés_frais_ou_UHT
F25: =IF($C25="","",$E25*VLOOKUP($C25,aliments!$B$2:$AZ$70,2,0)/100) | G25: =IF($C25="","",$E25*VLOOKUP($C25,aliments!$B$2:$AZ$70,3,0)/100) | H25: =IF($C25="","",$E25*VLOOKUP($C25,aliments!$B$2:$AZ$70,4,0)/100) | I25: =IF($C25="","",$E25*VLOOKUP($C25,aliments!$B$2:$AZ$70,5,0)/100) | J25: =IF($C25="","",$E25*VLOOKUP($C25,aliments!$B$2:$AZ$70,6,0)/100) | K25: =IF($C25="","",$E25*VLOOKUP($C25,aliments!$B$2:$AZ$70,7,0)/100) | L25: =IF($C25="","",$E25*VLOOKUP($C25,aliments!$B$2:$AZ$70,8,0)/100) | M25: =IF($C25="","",$E25*VLOOKUP($C25,aliments!$B$2:$AZ$70,9,0)/100) | N25: =IF($C25="","",$E25*VLOOKUP($C25,aliments!$B$2:$AZ$70,10,0)/100) | O25: =IF($C25="","",$E25*VLOOKUP($C25,aliments!$B$2:$AZ$70,11,0)/100) | P25: =IF($C25="","",$E25*VLOOKUP($C25,aliments!$B$2:$AZ$70,12,0)/100) | Q25: =IF($C25="","",$E25*VLOOKUP($C25,aliments!$B$2:$AZ$70,13,0)/100) | R25: =IF($C25="","",$E25*VLOOKUP($C25,aliments!$B$2:$AZ$70,14,0)/100) | S25: =IF($C25="","",$E25*VLOOKUP($C25,aliments!$B$2:$AZ$70,15,0)/100) | T25: =IF($C25="","",$E25*VLOOKUP($C25,aliments!$B$2:$AZ$70,16,0)/100) | U25: =IF($C25="","",$E25*VLOOKUP($C25,aliments!$B$2:$AZ$70,17,0)/100) | V25: =IF($C25="","",$E25*VLOOKUP($C25,aliments!$B$2:$AZ$70,18,0)/100) | W25: =IF($C25="","",$E25*VLOOKUP($C25,aliments!$B$2:$AZ$70,19,0)/100) | X25: =IF($C25="","",$E25*VLOOKUP($C25,aliments!$B$2:$AZ$70,20,0)/100) | Y25: =IF($C25="","",$E25*VLOOKUP($C25,aliments!$B$2:$AZ$70,21,0)/100) | Z25: =IF($C25="","",$E25*VLOOKUP($C25,aliments!$B$2:$AZ$70,22,0)/100) | AA25: =IF($C25="","",$E25*VLOOKUP($C25,aliments!$B$2:$AZ$70,23,0)/100) | AB25: =IF($C25="","",$E25*VLOOKUP($C25,aliments!$B$2:$AZ$70,24,0)/100) | AC25: =IF($C25="","",$E25*VLOOKUP($C25,aliments!$B$2:$AZ$70,25,0)/100) | AD25: =IF($C25="","",$E25*VLOOKUP($C25,aliments!$B$2:$AZ$70,26,0)/100) | AE25: =IF($C25="","",$E25*VLOOKUP($C25,aliments!$B$2:$AZ$70,27,0)/100) | AF25: =IF($C25="","",$E25*VLOOKUP($C25,aliments!$B$2:$AZ$70,28,0)/100) | AG25: =IF($C25="","",$E25*VLOOKUP($C25,aliments!$B$2:$AZ$70,29,0)/100) | AH25: =IF($C25="","",$E25*VLOOKUP($C25,aliments!$B$2:$AZ$70,30,0)/100) | AI25: =IF($C25="","",$E25*VLOOKUP($C25,aliments!$B$2:$AZ$70,31,0)/100) | AJ25: =IF($C25="","",$E25*VLOOKUP($C25,aliments!$B$2:$AZ$70,32,0)/100) | AK25: =IF($C25="","",$E25*VLOOKUP($C25,aliments!$B$2:$AZ$70,33,0)/100) | AL25: =IF($C25="","",$E25*VLOOKUP($C25,aliments!$B$2:$AZ$70,34,0)/100) | AM25: =IF($C25="","",$E25*VLOOKUP($C25,aliments!$B$2:$AZ$70,35,0)/100) | AN25: =IF($C25="","",$E25*VLOOKUP($C25,aliments!$B$2:$AZ$70,36,0)/100) | AO25: =IF($C25="","",$E25*VLOOKUP($C25,aliments!$B$2:$AZ$70,37,0)/100) | CA25: Eaux
F26: =IF($C26="","",$E26*VLOOKUP($C26,aliments!$B$2:$AZ$70,2,0)/100) | G26: =IF($C26="","",$E26*VLOOKUP($C26,aliments!$B$2:$AZ$70,3,0)/100) | H26: =IF($C26="","",$E26*VLOOKUP($C26,aliments!$B$2:$AZ$70,4,0)/100) | I26: =IF($C26="","",$E26*VLOOKUP($C26,aliments!$B$2:$AZ$70,5,0)/100) | J26: =IF($C26="","",$E26*VLOOKUP($C26,aliments!$B$2:$AZ$70,6,0)/100) | K26: =IF($C26="","",$E26*VLOOKUP($C26,aliments!$B$2:$AZ$70,7,0)/100) | L26: =IF($C26="","",$E26*VLOOKUP($C26,aliments!$B$2:$AZ$70,8,0)/100) | M26: =IF($C26="","",$E26*VLOOKUP($C26,aliments!$B$2:$AZ$70,9,0)/100) | N26: =IF($C26="","",$E26*VLOOKUP($C26,aliments!$B$2:$AZ$70,10,0)/100) | O26: =IF($C26="","",$E26*VLOOKUP($C26,aliments!$B$2:$AZ$70,11,0)/100) | P26: =IF($C26="","",$E26*VLOOKUP($C26,aliments!$B$2:$AZ$70,12,0)/100) | Q26: =IF($C26="","",$E26*VLOOKUP($C26,aliments!$B$2:$AZ$70,13,0)/100) | R26: =IF($C26="","",$E26*VLOOKUP($C26,aliments!$B$2:$AZ$70,14,0)/100) | S26: =IF($C26="","",$E26*VLOOKUP($C26,aliments!$B$2:$AZ$70,15,0)/100) | T26: =IF($C26="","",$E26*VLOOKUP($C26,aliments!$B$2:$AZ$70,16,0)/100) | U26: =IF($C26="","",$E26*VLOOKUP($C26,aliments!$B$2:$AZ$70,17,0)/100) | V26: =IF($C26="","",$E26*VLOOKUP($C26,aliments!$B$2:$AZ$70,18,0)/100) | W26: =IF($C26="","",$E26*VLOOKUP($C26,aliments!$B$2:$AZ$70,19,0)/100) | X26: =IF($C26="","",$E26*VLOOKUP($C26,aliments!$B$2:$AZ$70,20,0)/100) | Y26: =IF($C26="","",$E26*VLOOKUP($C26,aliments!$B$2:$AZ$70,21,0)/100) | Z26: =IF($C26="","",$E26*VLOOKUP($C26,aliments!$B$2:$AZ$70,22,0)/100) | AA26: =IF($C26="","",$E26*VLOOKUP($C26,aliments!$B$2:$AZ$70,23,0)/100) | AB26: =IF($C26="","",$E26*VLOOKUP($C26,aliments!$B$2:$AZ$70,24,0)/100) | AC26: =IF($C26="","",$E26*VLOOKUP($C26,aliments!$B$2:$AZ$70,25,0)/100) | AD26: =IF($C26="","",$E26*VLOOKUP($C26,aliments!$B$2:$AZ$70,26,0)/100) | AE26: =IF($C26="","",$E26*VLOOKUP($C26,aliments!$B$2:$AZ$70,27,0)/100) | AF26: =IF($C26="","",$E26*VLOOKUP($C26,aliments!$B$2:$AZ$70,28,0)/100) | AG26: =IF($C26="","",$E26*VLOOKUP($C26,aliments!$B$2:$AZ$70,29,0)/100) | AH26: =IF($C26="","",$E26*VLOOKUP($C26,aliments!$B$2:$AZ$70,30,0)/100) | AI26: =IF($C26="","",$E26*VLOOKUP($C26,aliments!$B$2:$AZ$70,31,0)/100) | AJ26: =IF($C26="","",$E26*VLOOKUP($C26,aliments!$B$2:$AZ$70,32,0)/100) | AK26: =IF($C26="","",$E26*VLOOKUP($C26,aliments!$B$2:$AZ$70,33,0)/100) | AL26: =IF($C26="","",$E26*VLOOKUP($C26,aliments!$B$2:$AZ$70,34,0)/100) | AM26: =IF($C26="","",$E26*VLOOKUP($C26,aliments!$B$2:$AZ$70,35,0)/100) | AN26: =IF($C26="","",$E26*VLOOKUP($C26,aliments!$B$2:$AZ$70,36,0)/100) | AO26: =IF($C26="","",$E26*VLOOKUP($C26,aliments!$B$2:$AZ$70,37,0)/100) | CA26: Entremets_et_glaces
F27: =IF($C27="","",$E27*VLOOKUP($C27,aliments!$B$2:$AZ$70,2,0)/100) | G27: =IF($C27="","",$E27*VLOOKUP($C27,aliments!$B$2:$AZ$70,3,0)/100) | H27: =IF($C27="","",$E27*VLOOKUP($C27,aliments!$B$2:$AZ$70,4,0)/100) | I27: =IF($C27="","",$E27*VLOOKUP($C27,aliments!$B$2:$AZ$70,5,0)/100) | J27: =IF($C27="","",$E27*VLOOKUP($C27,aliments!$B$2:$AZ$70,6,0)/100) | K27: =IF($C27="","",$E27*VLOOKUP($C27,aliments!$B$2:$AZ$70,7,0)/100) | L27: =IF($C27="","",$E27*VLOOKUP($C27,aliments!$B$2:$AZ$70,8,0)/100) | M27: =IF($C27="","",$E27*VLOOKUP($C27,aliments!$B$2:$AZ$70,9,0)/100) | N27: =IF($C27="","",$E27*VLOOKUP($C27,aliments!$B$2:$AZ$70,10,0)/100) | O27: =IF($C27="","",$E27*VLOOKUP($C27,aliments!$B$2:$AZ$70,11,0)/100) | P27: =IF($C27="","",$E27*VLOOKUP($C27,aliments!$B$2:$AZ$70,12,0)/100) | Q27: =IF($C27="","",$E27*VLOOKUP($C27,aliments!$B$2:$AZ$70,13,0)/100) | R27: =IF($C27="","",$E27*VLOOKUP($C27,aliments!$B$2:$AZ$70,14,0)/100) | S27: =IF($C27="","",$E27*VLOOKUP($C27,aliments!$B$2:$AZ$70,15,0)/100) | T27: =IF($C27="","",$E27*VLOOKUP($C27,aliments!$B$2:$AZ$70,16,0)/100) | U27: =IF($C27="","",$E27*VLOOKUP($C27,aliments!$B$2:$AZ$70,17,0)/100) | V27: =IF($C27="","",$E27*VLOOKUP($C27,aliments!$B$2:$AZ$70,18,0)/100) | W27: =IF($C27="","",$E27*VLOOKUP($C27,aliments!$B$2:$AZ$70,19,0)/100) | X27: =IF($C27="","",$E27*VLOOKUP($C27,aliments!$B$2:$AZ$70,20,0)/100) | Y27: =IF($C27="","",$E27*VLOOKUP($C27,aliments!$B$2:$AZ$70,21,0)/100) | Z27: =IF($C27="","",$E27*VLOOKUP($C27,aliments!$B$2:$AZ$70,22,0)/100) | AA27: =IF($C27="","",$E27*VLOOKUP($C27,aliments!$B$2:$AZ$70,23,0)/100) | AB27: =IF($C27="","",$E27*VLOOKUP($C27,aliments!$B$2:$AZ$70,24,0)/100) | AC27: =IF($C27="","",$E27*VLOOKUP($C27,aliments!$B$2:$AZ$70,25,0)/100) | AD27: =IF($C27="","",$E27*VLOOKUP($C27,aliments!$B$2:$AZ$70,26,0)/100) | AE27: =IF($C27="","",$E27*VLOOKUP($C27,aliments!$B$2:$AZ$70,27,0)/100) | AF27: =IF($C27="","",$E27*VLOOKUP($C27,aliments!$B$2:$AZ$70,28,0)/100) | AG27: =IF($C27="","",$E27*VLOOKUP($C27,aliments!$B$2:$AZ$70,29,0)/100) | AH27: =IF($C27="","",$E27*VLOOKUP($C27,aliments!$B$2:$AZ$70,30,0)/100) | AI27: =IF($C27="","",$E27*VLOOKUP($C27,aliments!$B$2:$AZ$70,31,0)/100) | AJ27: =IF($C27="","",$E27*VLOOKUP($C27,aliments!$B$2:$AZ$70,32,0)/100) | AK27: =IF($C27="","",$E27*VLOOKUP($C27,aliments!$B$2:$AZ$70,33,0)/100) | AL27: =IF($C27="","",$E27*VLOOKUP($C27,aliments!$B$2:$AZ$70,34,0)/100) | AM27: =IF($C27="","",$E27*VLOOKUP($C27,aliments!$B$2:$AZ$70,35,0)/100) | AN27: =IF($C27="","",$E27*VLOOKUP($C27,aliments!$B$2:$AZ$70,36,0)/100) | AO27: =IF($C27="","",$E27*VLOOKUP($C27,aliments!$B$2:$AZ$70,37,0)/100) | CA27: Farines_et_amidons
F28: =IF($C28="","",$E28*VLOOKUP($C28,aliments!$B$2:$AZ$70,2,0)/100) | G28: =IF($C28="","",$E28*VLOOKUP($C28,aliments!$B$2:$AZ$70,3,0)/100) | H28: =IF($C28="","",$E28*VLOOKUP($C28,aliments!$B$2:$AZ$70,4,0)/100) | I28: =IF($C28="","",$E28*VLOOKUP($C28,aliments!$B$2:$AZ$70,5,0)/100) | J28: =IF($C28="","",$E28*VLOOKUP($C28,aliments!$B$2:$AZ$70,6,0)/100) | K28: =IF($C28="","",$E28*VLOOKUP($C28,aliments!$B$2:$AZ$70,7,0)/100) | L28: =IF($C28="","",$E28*VLOOKUP($C28,aliments!$B$2:$AZ$70,8,0)/100) | M28: =IF($C28="","",$E28*VLOOKUP($C28,aliments!$B$2:$AZ$70,9,0)/100) | N28: =IF($C28="","",$E28*VLOOKUP($C28,aliments!$B$2:$AZ$70,10,0)/100) | O28: =IF($C28="","",$E28*VLOOKUP($C28,aliments!$B$2:$AZ$70,11,0)/100) | P28: =IF($C28="","",$E28*VLOOKUP($C28,aliments!$B$2:$AZ$70,12,0)/100) | Q28: =IF($C28="","",$E28*VLOOKUP($C28,aliments!$B$2:$AZ$70,13,0)/100) | R28: =IF($C28="","",$E28*VLOOKUP($C28,aliments!$B$2:$AZ$70,14,0)/100) | S28: =IF($C28="","",$E28*VLOOKUP($C28,aliments!$B$2:$AZ$70,15,0)/100) | T28: =IF($C28="","",$E28*VLOOKUP($C28,aliments!$B$2:$AZ$70,16,0)/100) | U28: =IF($C28="","",$E28*VLOOKUP($C28,aliments!$B$2:$AZ$70,17,0)/100) | V28: =IF($C28="","",$E28*VLOOKUP($C28,aliments!$B$2:$AZ$70,18,0)/100) | W28: =IF($C28="","",$E28*VLOOKUP($C28,aliments!$B$2:$AZ$70,19,0)/100) | X28: =IF($C28="","",$E28*VLOOKUP($C28,aliments!$B$2:$AZ$70,20,0)/100) | Y28: =IF($C28="","",$E28*VLOOKUP($C28,aliments!$B$2:$AZ$70,21,0)/100) | Z28: =IF($C28="","",$E28*VLOOKUP($C28,aliments!$B$2:$AZ$70,22,0)/100) | AA28: =IF($C28="","",$E28*VLOOKUP($C28,aliments!$B$2:$AZ$70,23,0)/100) | AB28: =IF($C28="","",$E28*VLOOKUP($C28,aliments!$B$2:$AZ$70,24,0)/100) | AC28: =IF($C28="","",$E28*VLOOKUP($C28,aliments!$B$2:$AZ$70,25,0)/100) | AD28: =IF($C28="","",$E28*VLOOKUP($C28,aliments!$B$2:$AZ$70,26,0)/100) | AE28: =IF($C28="","",$E28*VLOOKUP($C28,aliments!$B$2:$AZ$70,27,0)/100) | AF28: =IF($C28="","",$E28*VLOOKUP($C28,aliments!$B$2:$AZ$70,28,0)/100) | AG28: =IF($C28="","",$E28*VLOOKUP($C28,aliments!$B$2:$AZ$70,29,0)/100) | AH28: =IF($C28="","",$E28*VLOOKUP($C28,aliments!$B$2:$AZ$70,30,0)/100) | AI28: =IF($C28="","",$E28*VLOOKUP($C28,aliments!$B$2:$AZ$70,31,0)/100) | AJ28: =IF($C28="","",$E28*VLOOKUP($C28,aliments!$B$2:$AZ$70,32,0)/100) | AK28: =IF($C28="","",$E28*VLOOKUP($C28,aliments!$B$2:$AZ$70,33,0)/100) | AL28: =IF($C28="","",$E28*VLOOKUP($C28,aliments!$B$2:$AZ$70,34,0)/100) | AM28: =IF($C28="","",$E28*VLOOKUP($C28,aliments!$B$2:$AZ$70,35,0)/100) | AN28: =IF($C28="","",$E28*VLOOKUP($C28,aliments!$B$2:$AZ$70,36,0)/100) | AO28: =IF($C28="","",$E28*VLOOKUP($C28,aliments!$B$2:$AZ$70,37,0)/100) | CA28: Fromages
F29: =IF($C29="","",$E29*VLOOKUP($C29,aliments!$B$2:$AZ$70,2,0)/100) | G29: =IF($C29="","",$E29*VLOOKUP($C29,aliments!$B$2:$AZ$70,3,0)/100) | H29: =IF($C29="","",$E29*VLOOKUP($C29,aliments!$B$2:$AZ$70,4,0)/100) | I29: =IF($C29="","",$E29*VLOOKUP($C29,aliments!$B$2:$AZ$70,5,0)/100) | J29: =IF($C29="","",$E29*VLOOKUP($C29,aliments!$B$2:$AZ$70,6,0)/100) | K29: =IF($C29="","",$E29*VLOOKUP($C29,aliments!$B$2:$AZ$70,7,0)/100) | L29: =IF($C29="","",$E29*VLOOKUP($C29,aliments!$B$2:$AZ$70,8,0)/100) | M29: =IF($C29="","",$E29*VLOOKUP($C29,aliments!$B$2:$AZ$70,9,0)/100) | N29: =IF($C29="","",$E29*VLOOKUP($C29,aliments!$B$2:$AZ$70,10,0)/100) | O29: =IF($C29="","",$E29*VLOOKUP($C29,aliments!$B$2:$AZ$70,11,0)/100) | P29: =IF($C29="","",$E29*VLOOKUP($C29,aliments!$B$2:$AZ$70,12,0)/100) | Q29: =IF($C29="","",$E29*VLOOKUP($C29,aliments!$B$2:$AZ$70,13,0)/100) | R29: =IF($C29="","",$E29*VLOOKUP($C29,aliments!$B$2:$AZ$70,14,0)/100) | S29: =IF($C29="","",$E29*VLOOKUP($C29,aliments!$B$2:$AZ$70,15,0)/100) | T29: =IF($C29="","",$E29*VLOOKUP($C29,aliments!$B$2:$AZ$70,16,0)/100) | U29: =IF($C29="","",$E29*VLOOKUP($C29,aliments!$B$2:$AZ$70,17,0)/100) | V29: =IF($C29="","",$E29*VLOOKUP($C29,aliments!$B$2:$AZ$70,18,0)/100) | W29: =IF($C29="","",$E29*VLOOKUP($C29,aliments!$B$2:$AZ$70,19,0)/100) | X29: =IF($C29="","",$E29*VLOOKUP($C29,aliments!$B$2:$AZ$70,20,0)/100) | Y29: =IF($C29="","",$E29*VLOOKUP($C29,aliments!$B$2:$AZ$70,21,0)/100) | Z29: =IF($C29="","",$E29*VLOOKUP($C29,aliments!$B$2:$AZ$70,22,0)/100) | AA29: =IF($C29="","",$E29*VLOOKUP($C29,aliments!$B$2:$AZ$70,23,0)/100) | AB29: =IF($C29="","",$E29*VLOOKUP($C29,aliments!$B$2:$AZ$70,24,0)/100) | AC29: =IF($C29="","",$E29*VLOOKUP($C29,aliments!$B$2:$AZ$70,25,0)/100) | AD29: =IF($C29="","",$E29*VLOOKUP($C29,aliments!$B$2:$AZ$70,26,0)/100) | AE29: =IF($C29="","",$E29*VLOOKUP($C29,aliments!$B$2:$AZ$70,27,0)/100) | AF29: =IF($C29="","",$E29*VLOOKUP($C29,aliments!$B$2:$AZ$70,28,0)/100) | AG29: =IF($C29="","",$E29*VLOOKUP($C29,aliments!$B$2:$AZ$70,29,0)/100) | AH29: =IF($C29="","",$E29*VLOOKUP($C29,aliments!$B$2:$AZ$70,30,0)/100) | AI29: =IF($C29="","",$E29*VLOOKUP($C29,aliments!$B$2:$AZ$70,31,0)/100) | AJ29: =IF($C29="","",$E29*VLOOKUP($C29,aliments!$B$2:$AZ$70,32,0)/100) | AK29: =IF($C29="","",$E29*VLOOKUP($C29,aliments!$B$2:$AZ$70,33,0)/100) | AL29: =IF($C29="","",$E29*VLOOKUP($C29,aliments!$B$2:$AZ$70,34,0)/100) | AM29: =IF($C29="","",$E29*VLOOKUP($C29,aliments!$B$2:$AZ$70,35,0)/100) | AN29: =IF($C29="","",$E29*VLOOKUP($C29,aliments!$B$2:$AZ$70,36,0)/100) | AO29: =IF($C29="","",$E29*VLOOKUP($C29,aliments!$B$2:$AZ$70,37,0)/100) | CA29: Fromages_affinés_à_pâte_dure
A30: Sous total | F30: =IF(SUM(F23:F29)=0,"",AVERAGE(F23:F29)) | G30: =SUM(G23:G29) -> 0 | H30: =SUM(H23:H29) -> 0 | I30: =SUM(I23:I29) -> 0 | J30: =SUM(J23:J29) -> 0 | K30: =SUM(K23:K29) -> 0 | L30: =SUM(L23:L29) -> 0 | M30: =SUM(M23:M29) -> 0 | N30: =SUM(N23:N29) -> 0 | ... AO30: =SUM(AO23:AO29) -> 0 | CA30: Fromages_affinés_à_pâte_ferme
CA31: Fromages_affinés_à_pâte_molle
A32: Collation Après-midi | C32: Aliments | E32: Quantité( g) | F32: CG | G32: Pral | H32: Protides ( g) | I32: Glucides ( g) | J32: Lipides (g) | K32: Calories | L32: VitA (µg) | M32: Beta-Car. (µg) | N32: Vit D (µg) | O32: Vit E (mg) | P32: Vit K (µg) | Q32: VitC (mg) | R32: Vit B1 (mg) | S32: Vit B2 (mg) | T32: Vit B3 (mg) | U32: Vit B5 (mg) | V32: Vit B6 (mg) | W32: Vit B9 (µg) | X32: Vit B12 (µg) | Y32: Calcium (mg) | Z32: Cuivre (mg) | AA32: Fer (mg) | AB32: Iode (µg) | AC32: Magnésium (mg) | AD32: Manganèse (mg) | AE32: Phosphore (mg) | AF32: Potassium (mg) | AG32: Sélénium (µg) | AH32: Sodium (mg) | AI32: Zinc (mg) | AJ32: Fibres (g) | AK32: AG saturés (g) | AL32: AG monoinsaturés (g) | AM32: Polyols totaux (g) | AN32: AG polyinsaturés (g) | AO32: Cholestérol (mg) | CA32: Fromages_affinés_à_pâte_persillée
F33: =IF($C33="","",$E33*VLOOKUP($C33,aliments!$B$2:$AZ$70,2,0)/100) | G33: =IF($C33="","",$E33*VLOOKUP($C33,aliments!$B$2:$AZ$70,3,0)/100) | H33: =IF($C33="","",$E33*VLOOKUP($C33,aliments!$B$2:$AZ$70,4,0)/100) | I33: =IF($C33="","",$E33*VLOOKUP($C33,aliments!$B$2:$AZ$70,5,0)/100) | J33: =IF($C33="","",$E33*VLOOKUP($C33,aliments!$B$2:$AZ$70,6,0)/100) | K33: =IF($C33="","",$E33*VLOOKUP($C33,aliments!$B$2:$AZ$70,7,0)/100) | L33: =IF($C33="","",$E33*VLOOKUP($C33,aliments!$B$2:$AZ$70,8,0)/100) | M33: =IF($C33="","",$E33*VLOOKUP($C33,aliments!$B$2:$AZ$70,9,0)/100) | N33: =IF($C33="","",$E33*VLOOKUP($C33,aliments!$B$2:$AZ$70,10,0)/100) | O33: =IF($C33="","",$E33*VLOOKUP($C33,aliments!$B$2:$AZ$70,11,0)/100) | P33: =IF($C33="","",$E33*VLOOKUP($C33,aliments!$B$2:$AZ$70,12,0)/100) | Q33: =IF($C33="","",$E33*VLOOKUP($C33,aliments!$B$2:$AZ$70,13,0)/100) | R33: =IF($C33="","",$E33*VLOOKUP($C33,aliments!$B$2:$AZ$70,14,0)/100) | S33: =IF($C33="","",$E33*VLOOKUP($C33,aliments!$B$2:$AZ$70,15,0)/100) | T33: =IF($C33="","",$E33*VLOOKUP($C33,aliments!$B$2:$AZ$70,16,0)/100) | U33: =IF($C33="","",$E33*VLOOKUP($C33,aliments!$B$2:$AZ$70,17,0)/100) | V33: =IF($C33="","",$E33*VLOOKUP($C33,aliments!$B$2:$AZ$70,18,0)/100) | W33: =IF($C33="","",$E33*VLOOKUP($C33,aliments!$B$2:$AZ$70,19,0)/100) | X33: =IF($C33="","",$E33*VLOOKUP($C33,aliments!$B$2:$AZ$70,20,0)/100) | Y33: =IF($C33="","",$E33*VLOOKUP($C33,aliments!$B$2:$AZ$70,21,0)/100) | Z33: =IF($C33="","",$E33*VLOOKUP($C33,aliments!$B$2:$AZ$70,22,0)/100) | AA33: =IF($C33="","",$E33*VLOOKUP($C33,aliments!$B$2:$AZ$70,23,0)/100) | AB33: =IF($C33="","",$E33*VLOOKUP($C33,aliments!$B$2:$AZ$70,24,0)/100) | AC33: =IF($C33="","",$E33*VLOOKUP($C33,aliments!$B$2:$AZ$70,25,0)/100) | AD33: =IF($C33="","",$E33*VLOOKUP($C33,aliments!$B$2:$AZ$70,26,0)/100) | AE33: =IF($C33="","",$E33*VLOOKUP($C33,aliments!$B$2:$AZ$70,27,0)/100) | AF33: =IF($C33="","",$E33*VLOOKUP($C33,aliments!$B$2:$AZ$70,28,0)/100) | AG33: =IF($C33="","",$E33*VLOOKUP($C33,aliments!$B$2:$AZ$70,29,0)/100) | AH33: =IF($C33="","",$E33*VLOOKUP($C33,aliments!$B$2:$AZ$70,30,0)/100) | AI33: =IF($C33="","",$E33*VLOOKUP($C33,aliments!$B$2:$AZ$70,31,0)/100) | AJ33: =IF($C33="","",$E33*VLOOKUP($C33,aliments!$B$2:$AZ$70,32,0)/100) | AK33: =IF($C33="","",$E33*VLOOKUP($C33,aliments!$B$2:$AZ$70,33,0)/100) | AL33: =IF($C33="","",$E33*VLOOKUP($C33,aliments!$B$2:$AZ$70,34,0)/100) | AM33: =IF($C33="","",$E33*VLOOKUP($C33,aliments!$B$2:$AZ$70,35,0)/100) | AN33: =IF($C33="","",$E33*VLOOKUP($C33,aliments!$B$2:$AZ$70,36,0)/100) | AO33: =IF($C33="","",$E33*VLOOKUP($C33,aliments!$B$2:$AZ$70,37,0)/100) | CA33: Fromages_blancs_ultrafrais
F34: =IF($C34="","",$E34*VLOOKUP($C34,aliments!$B$2:$AZ$70,2,0)/100) | G34: =IF($C34="","",$E34*VLOOKUP($C34,aliments!$B$2:$AZ$70,3,0)/100) | H34: =IF($C34="","",$E34*VLOOKUP($C34,aliments!$B$2:$AZ$70,4,0)/100) | I34: =IF($C34="","",$E34*VLOOKUP($C34,aliments!$B$2:$AZ$70,5,0)/100) | J34: =IF($C34="","",$E34*VLOOKUP($C34,aliments!$B$2:$AZ$70,6,0)/100) | K34: =IF($C34="","",$E34*VLOOKUP($C34,aliments!$B$2:$AZ$70,7,0)/100) | L34: =IF($C34="","",$E34*VLOOKUP($C34,aliments!$B$2:$AZ$70,8,0)/100) | M34: =IF($C34="","",$E34*VLOOKUP($C34,aliments!$B$2:$AZ$70,9,0)/100) | N34: =IF($C34="","",$E34*VLOOKUP($C34,aliments!$B$2:$AZ$70,10,0)/100) | O34: =IF($C34="","",$E34*VLOOKUP($C34,aliments!$B$2:$AZ$70,11,0)/100) | P34: =IF($C34="","",$E34*VLOOKUP($C34,aliments!$B$2:$AZ$70,12,0)/100) | Q34: =IF($C34="","",$E34*VLOOKUP($C34,aliments!$B$2:$AZ$70,13,0)/100) | R34: =IF($C34="","",$E34*VLOOKUP($C34,aliments!$B$2:$AZ$70,14,0)/100) | S34: =IF($C34="","",$E34*VLOOKUP($C34,aliments!$B$2:$AZ$70,15,0)/100) | T34: =IF($C34="","",$E34*VLOOKUP($C34,aliments!$B$2:$AZ$70,16,0)/100) | U34: =IF($C34="","",$E34*VLOOKUP($C34,aliments!$B$2:$AZ$70,17,0)/100) | V34: =IF($C34="","",$E34*VLOOKUP($C34,aliments!$B$2:$AZ$70,18,0)/100) | W34: =IF($C34="","",$E34*VLOOKUP($C34,aliments!$B$2:$AZ$70,19,0)/100) | X34: =IF($C34="","",$E34*VLOOKUP($C34,aliments!$B$2:$AZ$70,20,0)/100) | Y34: =IF($C34="","",$E34*VLOOKUP($C34,aliments!$B$2:$AZ$70,21,0)/100) | Z34: =IF($C34="","",$E34*VLOOKUP($C34,aliments!$B$2:$AZ$70,22,0)/100) | AA34: =IF($C34="","",$E34*VLOOKUP($C34,aliments!$B$2:$AZ$70,23,0)/100) | AB34: =IF($C34="","",$E34*VLOOKUP($C34,aliments!$B$2:$AZ$70,24,0)/100) | AC34: =IF($C34="","",$E34*VLOOKUP($C34,aliments!$B$2:$AZ$70,25,0)/100) | AD34: =IF($C34="","",$E34*VLOOKUP($C34,aliments!$B$2:$AZ$70,26,0)/100) | AE34: =IF($C34="","",$E34*VLOOKUP($C34,aliments!$B$2:$AZ$70,27,0)/100) | AF34: =IF($C34="","",$E34*VLOOKUP($C34,aliments!$B$2:$AZ$70,28,0)/100) | AG34: =IF($C34="","",$E34*VLOOKUP($C34,aliments!$B$2:$AZ$70,29,0)/100) | AH34: =IF($C34="","",$E34*VLOOKUP($C34,aliments!$B$2:$AZ$70,30,0)/100) | AI34: =IF($C34="","",$E34*VLOOKUP($C34,aliments!$B$2:$AZ$70,31,0)/100) | AJ34: =IF($C34="","",$E34*VLOOKUP($C34,aliments!$B$2:$AZ$70,32,0)/100) | AK34: =IF($C34="","",$E34*VLOOKUP($C34,aliments!$B$2:$AZ$70,33,0)/100) | AL34: =IF($C34="","",$E34*VLOOKUP($C34,aliments!$B$2:$AZ$70,34,0)/100) | AM34: =IF($C34="","",$E34*VLOOKUP($C34,aliments!$B$2:$AZ$70,35,0)/100) | AN34: =IF($C34="","",$E34*VLOOKUP($C34,aliments!$B$2:$AZ$70,36,0)/100) | AO34: =IF($C34="","",$E34*VLOOKUP($C34,aliments!$B$2:$AZ$70,37,0)/100) | CA34: Fromages_fondus
F35: =IF($C35="","",$E35*VLOOKUP($C35,aliments!$B$2:$AZ$70,2,0)/100) | G35: =IF($C35="","",$E35*VLOOKUP($C35,aliments!$B$2:$AZ$70,3,0)/100) | H35: =IF($C35="","",$E35*VLOOKUP($C35,aliments!$B$2:$AZ$70,4,0)/100) | I35: =IF($C35="","",$E35*VLOOKUP($C35,aliments!$B$2:$AZ$70,5,0)/100) | J35: =IF($C35="","",$E35*VLOOKUP($C35,aliments!$B$2:$AZ$70,6,0)/100) | K35: =IF($C35="","",$E35*VLOOKUP($C35,aliments!$B$2:$AZ$70,7,0)/100) | L35: =IF($C35="","",$E35*VLOOKUP($C35,aliments!$B$2:$AZ$70,8,0)/100) | M35: =IF($C35="","",$E35*VLOOKUP($C35,aliments!$B$2:$AZ$70,9,0)/100) | N35: =IF($C35="","",$E35*VLOOKUP($C35,aliments!$B$2:$AZ$70,10,0)/100) | O35: =IF($C35="","",$E35*VLOOKUP($C35,aliments!$B$2:$AZ$70,11,0)/100) | P35: =IF($C35="","",$E35*VLOOKUP($C35,aliments!$B$2:$AZ$70,12,0)/100) | Q35: =IF($C35="","",$E35*VLOOKUP($C35,aliments!$B$2:$AZ$70,13,0)/100) | R35: =IF($C35="","",$E35*VLOOKUP($C35,aliments!$B$2:$AZ$70,14,0)/100) | S35: =IF($C35="","",$E35*VLOOKUP($C35,aliments!$B$2:$AZ$70,15,0)/100) | T35: =IF($C35="","",$E35*VLOOKUP($C35,aliments!$B$2:$AZ$70,16,0)/100) | U35: =IF($C35="","",$E35*VLOOKUP($C35,aliments!$B$2:$AZ$70,17,0)/100) | V35: =IF($C35="","",$E35*VLOOKUP($C35,aliments!$B$2:$AZ$70,18,0)/100) | W35: =IF($C35="","",$E35*VLOOKUP($C35,aliments!$B$2:$AZ$70,19,0)/100) | X35: =IF($C35="","",$E35*VLOOKUP($C35,aliments!$B$2:$AZ$70,20,0)/100) | Y35: =IF($C35="","",$E35*VLOOKUP($C35,aliments!$B$2:$AZ$70,21,0)/100) | Z35: =IF($C35="","",$E35*VLOOKUP($C35,aliments!$B$2:$AZ$70,22,0)/100) | AA35: =IF($C35="","",$E35*VLOOKUP($C35,aliments!$B$2:$AZ$70,23,0)/100) | AB35: =IF($C35="","",$E35*VLOOKUP($C35,aliments!$B$2:$AZ$70,24,0)/100) | AC35: =IF($C35="","",$E35*VLOOKUP($C35,aliments!$B$2:$AZ$70,25,0)/100) | AD35: =IF($C35="","",$E35*VLOOKUP($C35,aliments!$B$2:$AZ$70,26,0)/100) | AE35: =IF($C35="","",$E35*VLOOKUP($C35,aliments!$B$2:$AZ$70,27,0)/100) | AF35: =IF($C35="","",$E35*VLOOKUP($C35,aliments!$B$2:$AZ$70,28,0)/100) | AG35: =IF($C35="","",$E35*VLOOKUP($C35,aliments!$B$2:$AZ$70,29,0)/100) | AH35: =IF($C35="","",$E35*VLOOKUP($C35,aliments!$B$2:$AZ$70,30,0)/100) | AI35: =IF($C35="","",$E35*VLOOKUP($C35,aliments!$B$2:$AZ$70,31,0)/100) | AJ35: =IF($C35="","",$E35*VLOOKUP($C35,aliments!$B$2:$AZ$70,32,0)/100) | AK35: =IF($C35="","",$E35*VLOOKUP($C35,aliments!$B$2:$AZ$70,33,0)/100) | AL35: =IF($C35="","",$E35*VLOOKUP($C35,aliments!$B$2:$AZ$70,34,0)/100) | AM35: =IF($C35="","",$E35*VLOOKUP($C35,aliments!$B$2:$AZ$70,35,0)/100) | AN35: =IF($C35="","",$E35*VLOOKUP($C35,aliments!$B$2:$AZ$70,36,0)/100) | AO35: =IF($C35="","",$E35*VLOOKUP($C35,aliments!$B$2:$AZ$70,37,0)/100) | CA35: Fromages_non_affinés_et_spécialités_fromagères
F36: =IF($C36="","",$E36*VLOOKUP($C36,aliments!$B$2:$AZ$70,2,0)/100) | G36: =IF($C36="","",$E36*VLOOKUP($C36,aliments!$B$2:$AZ$70,3,0)/100) | H36: =IF($C36="","",$E36*VLOOKUP($C36,aliments!$B$2:$AZ$70,4,0)/100) | I36: =IF($C36="","",$E36*VLOOKUP($C36,aliments!$B$2:$AZ$70,5,0)/100) | J36: =IF($C36="","",$E36*VLOOKUP($C36,aliments!$B$2:$AZ$70,6,0)/100) | K36: =IF($C36="","",$E36*VLOOKUP($C36,aliments!$B$2:$AZ$70,7,0)/100) | L36: =IF($C36="","",$E36*VLOOKUP($C36,aliments!$B$2:$AZ$70,8,0)/100) | M36: =IF($C36="","",$E36*VLOOKUP($C36,aliments!$B$2:$AZ$70,9,0)/100) | N36: =IF($C36="","",$E36*VLOOKUP($C36,aliments!$B$2:$AZ$70,10,0)/100) | O36: =IF($C36="","",$E36*VLOOKUP($C36,aliments!$B$2:$AZ$70,11,0)/100) | P36: =IF($C36="","",$E36*VLOOKUP($C36,aliments!$B$2:$AZ$70,12,0)/100) | Q36: =IF($C36="","",$E36*VLOOKUP($C36,aliments!$B$2:$AZ$70,13,0)/100) | R36: =IF($C36="","",$E36*VLOOKUP($C36,aliments!$B$2:$AZ$70,14,0)/100) | S36: =IF($C36="","",$E36*VLOOKUP($C36,aliments!$B$2:$AZ$70,15,0)/100) | T36: =IF($C36="","",$E36*VLOOKUP($C36,aliments!$B$2:$AZ$70,16,0)/100) | U36: =IF($C36="","",$E36*VLOOKUP($C36,aliments!$B$2:$AZ$70,17,0)/100) | V36: =IF($C36="","",$E36*VLOOKUP($C36,aliments!$B$2:$AZ$70,18,0)/100) | W36: =IF($C36="","",$E36*VLOOKUP($C36,aliments!$B$2:$AZ$70,19,0)/100) | X36: =IF($C36="","",$E36*VLOOKUP($C36,aliments!$B$2:$AZ$70,20,0)/100) | Y36: =IF($C36="","",$E36*VLOOKUP($C36,aliments!$B$2:$AZ$70,21,0)/100) | Z36: =IF($C36="","",$E36*VLOOKUP($C36,aliments!$B$2:$AZ$70,22,0)/100) | AA36: =IF($C36="","",$E36*VLOOKUP($C36,aliments!$B$2:$AZ$70,23,0)/100) | AB36: =IF($C36="","",$E36*VLOOKUP($C36,aliments!$B$2:$AZ$70,24,0)/100) | AC36: =IF($C36="","",$E36*VLOOKUP($C36,aliments!$B$2:$AZ$70,25,0)/100) | AD36: =IF($C36="","",$E36*VLOOKUP($C36,aliments!$B$2:$AZ$70,26,0)/100) | AE36: =IF($C36="","",$E36*VLOOKUP($C36,aliments!$B$2:$AZ$70,27,0)/100) | AF36: =IF($C36="","",$E36*VLOOKUP($C36,aliments!$B$2:$AZ$70,28,0)/100) | AG36: =IF($C36="","",$E36*VLOOKUP($C36,aliments!$B$2:$AZ$70,29,0)/100) | AH36: =IF($C36="","",$E36*VLOOKUP($C36,aliments!$B$2:$AZ$70,30,0)/100) | AI36: =IF($C36="","",$E36*VLOOKUP($C36,aliments!$B$2:$AZ$70,31,0)/100) | AJ36: =IF($C36="","",$E36*VLOOKUP($C36,aliments!$B$2:$AZ$70,32,0)/100) | AK36: =IF($C36="","",$E36*VLOOKUP($C36,aliments!$B$2:$AZ$70,33,0)/100) | AL36: =IF($C36="","",$E36*VLOOKUP($C36,aliments!$B$2:$AZ$70,34,0)/100) | AM36: =IF($C36="","",$E36*VLOOKUP($C36,aliments!$B$2:$AZ$70,35,0)/100) | AN36: =IF($C36="","",$E36*VLOOKUP($C36,aliments!$B$2:$AZ$70,36,0)/100) | AO36: =IF($C36="","",$E36*VLOOKUP($C36,aliments!$B$2:$AZ$70,37,0)/100) | CA36: Fruits
F37: =IF($C37="","",$E37*VLOOKUP($C37,aliments!$B$2:$AZ$70,2,0)/100) | G37: =IF($C37="","",$E37*VLOOKUP($C37,aliments!$B$2:$AZ$70,3,0)/100) | H37: =IF($C37="","",$E37*VLOOKUP($C37,aliments!$B$2:$AZ$70,4,0)/100) | I37: =IF($C37="","",$E37*VLOOKUP($C37,aliments!$B$2:$AZ$70,5,0)/100) | J37: =IF($C37="","",$E37*VLOOKUP($C37,aliments!$B$2:$AZ$70,6,0)/100) | K37: =IF($C37="","",$E37*VLOOKUP($C37,aliments!$B$2:$AZ$70,7,0)/100) | L37: =IF($C37="","",$E37*VLOOKUP($C37,aliments!$B$2:$AZ$70,8,0)/100) | M37: =IF($C37="","",$E37*VLOOKUP($C37,aliments!$B$2:$AZ$70,9,0)/100) | N37: =IF($C37="","",$E37*VLOOKUP($C37,aliments!$B$2:$AZ$70,10,0)/100) | O37: =IF($C37="","",$E37*VLOOKUP($C37,aliments!$B$2:$AZ$70,11,0)/100) | P37: =IF($C37="","",$E37*VLOOKUP($C37,aliments!$B$2:$AZ$70,12,0)/100) | Q37: =IF($C37="","",$E37*VLOOKUP($C37,aliments!$B$2:$AZ$70,13,0)/100) | R37: =IF($C37="","",$E37*VLOOKUP($C37,aliments!$B$2:$AZ$70,14,0)/100) | S37: =IF($C37="","",$E37*VLOOKUP($C37,aliments!$B$2:$AZ$70,15,0)/100) | T37: =IF($C37="","",$E37*VLOOKUP($C37,aliments!$B$2:$AZ$70,16,0)/100) | U37: =IF($C37="","",$E37*VLOOKUP($C37,aliments!$B$2:$AZ$70,17,0)/100) | V37: =IF($C37="","",$E37*VLOOKUP($C37,aliments!$B$2:$AZ$70,18,0)/100) | W37: =IF($C37="","",$E37*VLOOKUP($C37,aliments!$B$2:$AZ$70,19,0)/100) | X37: =IF($C37="","",$E37*VLOOKUP($C37,aliments!$B$2:$AZ$70,20,0)/100) | Y37: =IF($C37="","",$E37*VLOOKUP($C37,aliments!$B$2:$AZ$70,21,0)/100) | Z37: =IF($C37="","",$E37*VLOOKUP($C37,aliments!$B$2:$AZ$70,22,0)/100) | AA37: =IF($C37="","",$E37*VLOOKUP($C37,aliments!$B$2:$AZ$70,23,0)/100) | AB37: =IF($C37="","",$E37*VLOOKUP($C37,aliments!$B$2:$AZ$70,24,0)/100) | AC37: =IF($C37="","",$E37*VLOOKUP($C37,aliments!$B$2:$AZ$70,25,0)/100) | AD37: =IF($C37="","",$E37*VLOOKUP($C37,aliments!$B$2:$AZ$70,26,0)/100) | AE37: =IF($C37="","",$E37*VLOOKUP($C37,aliments!$B$2:$AZ$70,27,0)/100) | AF37: =IF($C37="","",$E37*VLOOKUP($C37,aliments!$B$2:$AZ$70,28,0)/100) | AG37: =IF($C37="","",$E37*VLOOKUP($C37,aliments!$B$2:$AZ$70,29,0)/100) | AH37: =IF($C37="","",$E37*VLOOKUP($C37,aliments!$B$2:$AZ$70,30,0)/100) | AI37: =IF($C37="","",$E37*VLOOKUP($C37,aliments!$B$2:$AZ$70,31,0)/100) | AJ37: =IF($C37="","",$E37*VLOOKUP($C37,aliments!$B$2:$AZ$70,32,0)/100) | AK37: =IF($C37="","",$E37*VLOOKUP($C37,aliments!$B$2:$AZ$70,33,0)/100) | AL37: =IF($C37="","",$E37*VLOOKUP($C37,aliments!$B$2:$AZ$70,34,0)/100) | AM37: =IF($C37="","",$E37*VLOOKUP($C37,aliments!$B$2:$AZ$70,35,0)/100) | AN37: =IF($C37="","",$E37*VLOOKUP($C37,aliments!$B$2:$AZ$70,36,0)/100) | AO37: =IF($C37="","",$E37*VLOOKUP($C37,aliments!$B$2:$AZ$70,37,0)/100) | CA37: Gâteaux_et_pâtisseries
F38: =IF($C38="","",$E38*VLOOKUP($C38,aliments!$B$2:$AZ$70,2,0)/100) | G38: =IF($C38="","",$E38*VLOOKUP($C38,aliments!$B$2:$AZ$70,3,0)/100) | H38: =IF($C38="","",$E38*VLOOKUP($C38,aliments!$B$2:$AZ$70,4,0)/100) | I38: =IF($C38="","",$E38*VLOOKUP($C38,aliments!$B$2:$AZ$70,5,0)/100) | J38: =IF($C38="","",$E38*VLOOKUP($C38,aliments!$B$2:$AZ$70,6,0)/100) | K38: =IF($C38="","",$E38*VLOOKUP($C38,aliments!$B$2:$AZ$70,7,0)/100) | L38: =IF($C38="","",$E38*VLOOKUP($C38,aliments!$B$2:$AZ$70,8,0)/100) | M38: =IF($C38="","",$E38*VLOOKUP($C38,aliments!$B$2:$AZ$70,9,0)/100) | N38: =IF($C38="","",$E38*VLOOKUP($C38,aliments!$B$2:$AZ$70,10,0)/100) | O38: =IF($C38="","",$E38*VLOOKUP($C38,aliments!$B$2:$AZ$70,11,0)/100) | P38: =IF($C38="","",$E38*VLOOKUP($C38,aliments!$B$2:$AZ$70,12,0)/100) | Q38: =IF($C38="","",$E38*VLOOKUP($C38,aliments!$B$2:$AZ$70,13,0)/100) | R38: =IF($C38="","",$E38*VLOOKUP($C38,aliments!$B$2:$AZ$70,14,0)/100) | S38: =IF($C38="","",$E38*VLOOKUP($C38,aliments!$B$2:$AZ$70,15,0)/100) | T38: =IF($C38="","",$E38*VLOOKUP($C38,aliments!$B$2:$AZ$70,16,0)/100) | U38: =IF($C38="","",$E38*VLOOKUP($C38,aliments!$B$2:$AZ$70,17,0)/100) | V38: =IF($C38="","",$E38*VLOOKUP($C38,aliments!$B$2:$AZ$70,18,0)/100) | W38: =IF($C38="","",$E38*VLOOKUP($C38,aliments!$B$2:$AZ$70,19,0)/100) | X38: =IF($C38="","",$E38*VLOOKUP($C38,aliments!$B$2:$AZ$70,20,0)/100) | Y38: =IF($C38="","",$E38*VLOOKUP($C38,aliments!$B$2:$AZ$70,21,0)/100) | Z38: =IF($C38="","",$E38*VLOOKUP($C38,aliments!$B$2:$AZ$70,22,0)/100) | AA38: =IF($C38="","",$E38*VLOOKUP($C38,aliments!$B$2:$AZ$70,23,0)/100) | AB38: =IF($C38="","",$E38*VLOOKUP($C38,aliments!$B$2:$AZ$70,24,0)/100) | AC38: =IF($C38="","",$E38*VLOOKUP($C38,aliments!$B$2:$AZ$70,25,0)/100) | AD38: =IF($C38="","",$E38*VLOOKUP($C38,aliments!$B$2:$AZ$70,26,0)/100) | AE38: =IF($C38="","",$E38*VLOOKUP($C38,aliments!$B$2:$AZ$70,27,0)/100) | AF38: =IF($C38="","",$E38*VLOOKUP($C38,aliments!$B$2:$AZ$70,28,0)/100) | AG38: =IF($C38="","",$E38*VLOOKUP($C38,aliments!$B$2:$AZ$70,29,0)/100) | AH38: =IF($C38="","",$E38*VLOOKUP($C38,aliments!$B$2:$AZ$70,30,0)/100) | AI38: =IF($C38="","",$E38*VLOOKUP($C38,aliments!$B$2:$AZ$70,31,0)/100) | AJ38: =IF($C38="","",$E38*VLOOKUP($C38,aliments!$B$2:$AZ$70,32,0)/100) | AK38: =IF($C38="","",$E38*VLOOKUP($C38,aliments!$B$2:$AZ$70,33,0)/100) | AL38: =IF($C38="","",$E38*VLOOKUP($C38,aliments!$B$2:$AZ$70,34,0)/100) | AM38: =IF($C38="","",$E38*VLOOKUP($C38,aliments!$B$2:$AZ$70,35,0)/100) | AN38: =IF($C38="","",$E38*VLOOKUP($C38,aliments!$B$2:$AZ$70,36,0)/100) | AO38: =IF($C38="","",$E38*VLOOKUP($C38,aliments!$B$2:$AZ$70,37,0)/100) | CA38: Graines_oléagineuses_et_châtaignes
F39: =IF($C39="","",$E39*VLOOKUP($C39,aliments!$B$2:$AZ$70,2,0)/100) | G39: =IF($C39="","",$E39*VLOOKUP($C39,aliments!$B$2:$AZ$70,3,0)/100) | H39: =IF($C39="","",$E39*VLOOKUP($C39,aliments!$B$2:$AZ$70,4,0)/100) | I39: =IF($C39="","",$E39*VLOOKUP($C39,aliments!$B$2:$AZ$70,5,0)/100) | J39: =IF($C39="","",$E39*VLOOKUP($C39,aliments!$B$2:$AZ$70,6,0)/100) | K39: =IF($C39="","",$E39*VLOOKUP($C39,aliments!$B$2:$AZ$70,7,0)/100) | L39: =IF($C39="","",$E39*VLOOKUP($C39,aliments!$B$2:$AZ$70,8,0)/100) | M39: =IF($C39="","",$E39*VLOOKUP($C39,aliments!$B$2:$AZ$70,9,0)/100) | N39: =IF($C39="","",$E39*VLOOKUP($C39,aliments!$B$2:$AZ$70,10,0)/100) | O39: =IF($C39="","",$E39*VLOOKUP($C39,aliments!$B$2:$AZ$70,11,0)/100) | P39: =IF($C39="","",$E39*VLOOKUP($C39,aliments!$B$2:$AZ$70,12,0)/100) | Q39: =IF($C39="","",$E39*VLOOKUP($C39,aliments!$B$2:$AZ$70,13,0)/100) | R39: =IF($C39="","",$E39*VLOOKUP($C39,aliments!$B$2:$AZ$70,14,0)/100) | S39: =IF($C39="","",$E39*VLOOKUP($C39,aliments!$B$2:$AZ$70,15,0)/100) | T39: =IF($C39="","",$E39*VLOOKUP($C39,aliments!$B$2:$AZ$70,16,0)/100) | U39: =IF($C39="","",$E39*VLOOKUP($C39,aliments!$B$2:$AZ$70,17,0)/100) | V39: =IF($C39="","",$E39*VLOOKUP($C39,aliments!$B$2:$AZ$70,18,0)/100) | W39: =IF($C39="","",$E39*VLOOKUP($C39,aliments!$B$2:$AZ$70,19,0)/100) | X39: =IF($C39="","",$E39*VLOOKUP($C39,aliments!$B$2:$AZ$70,20,0)/100) | Y39: =IF($C39="","",$E39*VLOOKUP($C39,aliments!$B$2:$AZ$70,21,0)/100) | Z39: =IF($C39="","",$E39*VLOOKUP($C39,aliments!$B$2:$AZ$70,22,0)/100) | AA39: =IF($C39="","",$E39*VLOOKUP($C39,aliments!$B$2:$AZ$70,23,0)/100) | AB39: =IF($C39="","",$E39*VLOOKUP($C39,aliments!$B$2:$AZ$70,24,0)/100) | AC39: =IF($C39="","",$E39*VLOOKUP($C39,aliments!$B$2:$AZ$70,25,0)/100) | AD39: =IF($C39="","",$E39*VLOOKUP($C39,aliments!$B$2:$AZ$70,26,0)/100) | AE39: =IF($C39="","",$E39*VLOOKUP($C39,aliments!$B$2:$AZ$70,27,0)/100) | AF39: =IF($C39="","",$E39*VLOOKUP($C39,aliments!$B$2:$AZ$70,28,0)/100) | AG39: =IF($C39="","",$E39*VLOOKUP($C39,aliments!$B$2:$AZ$70,29,0)/100) | AH39: =IF($C39="","",$E39*VLOOKUP($C39,aliments!$B$2:$AZ$70,30,0)/100) | AI39: =IF($C39="","",$E39*VLOOKUP($C39,aliments!$B$2:$AZ$70,31,0)/100) | AJ39: =IF($C39="","",$E39*VLOOKUP($C39,aliments!$B$2:$AZ$70,32,0)/100) | AK39: =IF($C39="","",$E39*VLOOKUP($C39,aliments!$B$2:$AZ$70,33,0)/100) | AL39: =IF($C39="","",$E39*VLOOKUP($C39,aliments!$B$2:$AZ$70,34,0)/100) | AM39: =IF($C39="","",$E39*VLOOKUP($C39,aliments!$B$2:$AZ$70,35,0)/100) | AN39: =IF($C39="","",$E39*VLOOKUP($C39,aliments!$B$2:$AZ$70,36,0)/100) | AO39: =IF($C39="","",$E39*VLOOKUP($C39,aliments!$B$2:$AZ$70,37,0)/100) | CA39: Herbes_épices_et_assaisonnements
A40: Sous total | F40: =IF(SUM(F33:F39)=0,"",AVERAGE(F33:F39)) | G40: =SUM(G33:G39) -> 0 | H40: =SUM(H33:H39) -> 0 | I40: =SUM(I33:I39) -> 0 | J40: =SUM(J33:J39) -> 0 | K40: =SUM(K33:K39) -> 0 | L40: =SUM(L33:L39) -> 0 | M40: =SUM(M33:M39) -> 0 | N40: =SUM(N33:N39) -> 0 | ... AO40: =SUM(AO33:AO39) -> 0 | CA40: Huiles_et_graisses_végétales
CA41: Jus_et_nectars
A42: Diné | C42: Aliments | E42: Quantité( g) | F42: CG | G42: Pral | H42: Protides ( g) | I42: Glucides ( g) | J42: Lipides (g) | K42: Calories | L42: VitA (µg) | M42: Beta-Car. (µg) | N42: Vit D (µg) | O42: Vit E (mg) | P42: Vit K (µg) | Q42: VitC (mg) | R42: Vit B1 (mg) | S42: Vit B2 (mg) | T42: Vit B3 (mg) | U42: Vit B5 (mg) | V42: Vit B6 (mg) | W42: Vit B9 (µg) | X42: Vit B12 (µg) | Y42: Calcium (mg) | Z42: Cuivre (mg) | AA42: Fer (mg) | AB42: Iode (µg) | AC42: Magnésium (mg) | AD42: Manganèse (mg) | AE42: Phosphore (mg) | AF42: Potassium (mg) | AG42: Sélénium (µg) | AH42: Sodium (mg) | AI42: Zinc (mg) | AJ42: Fibres (g) | AK42: AG saturés (g) | AL42: AG monoinsaturés (g) | AM42: Polyols totaux (g) | AN42: AG polyinsaturés (g) | AO42: Cholestérol (mg) | CA42: Laits
F43: =IF($C43="","",$E43*VLOOKUP($C43,aliments!$B$2:$AZ$70,2,0)/100) | G43: =IF($C43="","",$E43*VLOOKUP($C43,aliments!$B$2:$AZ$70,3,0)/100) | H43: =IF($C43="","",$E43*VLOOKUP($C43,aliments!$B$2:$AZ$70,4,0)/100) | I43: =IF($C43="","",$E43*VLOOKUP($C43,aliments!$B$2:$AZ$70,5,0)/100) | J43: =IF($C43="","",$E43*VLOOKUP($C43,aliments!$B$2:$AZ$70,6,0)/100) | K43: =IF($C43="","",$E43*VLOOKUP($C43,aliments!$B$2:$AZ$70,7,0)/100) | L43: =IF($C43="","",$E43*VLOOKUP($C43,aliments!$B$2:$AZ$70,8,0)/100) | M43: =IF($C43="","",$E43*VLOOKUP($C43,aliments!$B$2:$AZ$70,9,0)/100) | N43: =IF($C43="","",$E43*VLOOKUP($C43,aliments!$B$2:$AZ$70,10,0)/100) | O43: =IF($C43="","",$E43*VLOOKUP($C43,aliments!$B$2:$AZ$70,11,0)/100) | P43: =IF($C43="","",$E43*VLOOKUP($C43,aliments!$B$2:$AZ$70,12,0)/100) | Q43: =IF($C43="","",$E43*VLOOKUP($C43,aliments!$B$2:$AZ$70,13,0)/100) | R43: =IF($C43="","",$E43*VLOOKUP($C43,aliments!$B$2:$AZ$70,14,0)/100) | S43: =IF($C43="","",$E43*VLOOKUP($C43,aliments!$B$2:$AZ$70,15,0)/100) | T43: =IF($C43="","",$E43*VLOOKUP($C43,aliments!$B$2:$AZ$70,16,0)/100) | U43: =IF($C43="","",$E43*VLOOKUP($C43,aliments!$B$2:$AZ$70,17,0)/100) | V43: =IF($C43="","",$E43*VLOOKUP($C43,aliments!$B$2:$AZ$70,18,0)/100) | W43: =IF($C43="","",$E43*VLOOKUP($C43,aliments!$B$2:$AZ$70,19,0)/100) | X43: =IF($C43="","",$E43*VLOOKUP($C43,aliments!$B$2:$AZ$70,20,0)/100) | Y43: =IF($C43="","",$E43*VLOOKUP($C43,aliments!$B$2:$AZ$70,21,0)/100) | Z43: =IF($C43="","",$E43*VLOOKUP($C43,aliments!$B$2:$AZ$70,22,0)/100) | AA43: =IF($C43="","",$E43*VLOOKUP($C43,aliments!$B$2:$AZ$70,23,0)/100) | AB43: =IF($C43="","",$E43*VLOOKUP($C43,aliments!$B$2:$AZ$70,24,0)/100) | AC43: =IF($C43="","",$E43*VLOOKUP($C43,aliments!$B$2:$AZ$70,25,0)/100) | AD43: =IF($C43="","",$E43*VLOOKUP($C43,aliments!$B$2:$AZ$70,26,0)/100) | AE43: =IF($C43="","",$E43*VLOOKUP($C43,aliments!$B$2:$AZ$70,27,0)/100) | AF43: =IF($C43="","",$E43*VLOOKUP($C43,aliments!$B$2:$AZ$70,28,0)/100) | AG43: =IF($C43="","",$E43*VLOOKUP($C43,aliments!$B$2:$AZ$70,29,0)/100) | AH43: =IF($C43="","",$E43*VLOOKUP($C43,aliments!$B$2:$AZ$70,30,0)/100) | AI43: =IF($C43="","",$E43*VLOOKUP($C43,aliments!$B$2:$AZ$70,31,0)/100) | AJ43: =IF($C43="","",$E43*VLOOKUP($C43,aliments!$B$2:$AZ$70,32,0)/100) | AK43: =IF($C43="","",$E43*VLOOKUP($C43,aliments!$B$2:$AZ$70,33,0)/100) | AL43: =IF($C43="","",$E43*VLOOKUP($C43,aliments!$B$2:$AZ$70,34,0)/100) | AM43: =IF($C43="","",$E43*VLOOKUP($C43,aliments!$B$2:$AZ$70,35,0)/100) | AN43: =IF($C43="","",$E43*VLOOKUP($C43,aliments!$B$2:$AZ$70,36,0)/100) | AO43: =IF($C43="","",$E43*VLOOKUP($C43,aliments!$B$2:$AZ$70,37,0)/100) | CA43: Légumes
F44: =IF($C44="","",$E44*VLOOKUP($C44,aliments!$B$2:$AZ$70,2,0)/100) | G44: =IF($C44="","",$E44*VLOOKUP($C44,aliments!$B$2:$AZ$70,3,0)/100) | H44: =IF($C44="","",$E44*VLOOKUP($C44,aliments!$B$2:$AZ$70,4,0)/100) | I44: =IF($C44="","",$E44*VLOOKUP($C44,aliments!$B$2:$AZ$70,5,0)/100) | J44: =IF($C44="","",$E44*VLOOKUP($C44,aliments!$B$2:$AZ$70,6,0)/100) | K44: =IF($C44="","",$E44*VLOOKUP($C44,aliments!$B$2:$AZ$70,7,0)/100) | L44: =IF($C44="","",$E44*VLOOKUP($C44,aliments!$B$2:$AZ$70,8,0)/100) | M44: =IF($C44="","",$E44*VLOOKUP($C44,aliments!$B$2:$AZ$70,9,0)/100) | N44: =IF($C44="","",$E44*VLOOKUP($C44,aliments!$B$2:$AZ$70,10,0)/100) | O44: =IF($C44="","",$E44*VLOOKUP($C44,aliments!$B$2:$AZ$70,11,0)/100) | P44: =IF($C44="","",$E44*VLOOKUP($C44,aliments!$B$2:$AZ$70,12,0)/100) | Q44: =IF($C44="","",$E44*VLOOKUP($C44,aliments!$B$2:$AZ$70,13,0)/100) | R44: =IF($C44="","",$E44*VLOOKUP($C44,aliments!$B$2:$AZ$70,14,0)/100) | S44: =IF($C44="","",$E44*VLOOKUP($C44,aliments!$B$2:$AZ$70,15,0)/100) | T44: =IF($C44="","",$E44*VLOOKUP($C44,aliments!$B$2:$AZ$70,16,0)/100) | U44: =IF($C44="","",$E44*VLOOKUP($C44,aliments!$B$2:$AZ$70,17,0)/100) | V44: =IF($C44="","",$E44*VLOOKUP($C44,aliments!$B$2:$AZ$70,18,0)/100) | W44: =IF($C44="","",$E44*VLOOKUP($C44,aliments!$B$2:$AZ$70,19,0)/100) | X44: =IF($C44="","",$E44*VLOOKUP($C44,aliments!$B$2:$AZ$70,20,0)/100) | Y44: =IF($C44="","",$E44*VLOOKUP($C44,aliments!$B$2:$AZ$70,21,0)/100) | Z44: =IF($C44="","",$E44*VLOOKUP($C44,aliments!$B$2:$AZ$70,22,0)/100) | AA44: =IF($C44="","",$E44*VLOOKUP($C44,aliments!$B$2:$AZ$70,23,0)/100) | AB44: =IF($C44="","",$E44*VLOOKUP($C44,aliments!$B$2:$AZ$70,24,0)/100) | AC44: =IF($C44="","",$E44*VLOOKUP($C44,aliments!$B$2:$AZ$70,25,0)/100) | AD44: =IF($C44="","",$E44*VLOOKUP($C44,aliments!$B$2:$AZ$70,26,0)/100) | AE44: =IF($C44="","",$E44*VLOOKUP($C44,aliments!$B$2:$AZ$70,27,0)/100) | AF44: =IF($C44="","",$E44*VLOOKUP($C44,aliments!$B$2:$AZ$70,28,0)/100) | AG44: =IF($C44="","",$E44*VLOOKUP($C44,aliments!$B$2:$AZ$70,29,0)/100) | AH44: =IF($C44="","",$E44*VLOOKUP($C44,aliments!$B$2:$AZ$70,30,0)/100) | AI44: =IF($C44="","",$E44*VLOOKUP($C44,aliments!$B$2:$AZ$70,31,0)/100) | AJ44: =IF($C44="","",$E44*VLOOKUP($C44,aliments!$B$2:$AZ$70,32,0)/100) | AK44: =IF($C44="","",$E44*VLOOKUP($C44,aliments!$B$2:$AZ$70,33,0)/100) | AL44: =IF($C44="","",$E44*VLOOKUP($C44,aliments!$B$2:$AZ$70,34,0)/100) | AM44: =IF($C44="","",$E44*VLOOKUP($C44,aliments!$B$2:$AZ$70,35,0)/100) | AN44: =IF($C44="","",$E44*VLOOKUP($C44,aliments!$B$2:$AZ$70,36,0)/100) | AO44: =IF($C44="","",$E44*VLOOKUP($C44,aliments!$B$2:$AZ$70,37,0)/100) | CA44: Légumes_secs
F45: =IF($C45="","",$E45*VLOOKUP($C45,aliments!$B$2:$AZ$70,2,0)/100) | G45: =IF($C45="","",$E45*VLOOKUP($C45,aliments!$B$2:$AZ$70,3,0)/100) | H45: =IF($C45="","",$E45*VLOOKUP($C45,aliments!$B$2:$AZ$70,4,0)/100) | I45: =IF($C45="","",$E45*VLOOKUP($C45,aliments!$B$2:$AZ$70,5,0)/100) | J45: =IF($C45="","",$E45*VLOOKUP($C45,aliments!$B$2:$AZ$70,6,0)/100) | K45: =IF($C45="","",$E45*VLOOKUP($C45,aliments!$B$2:$AZ$70,7,0)/100) | L45: =IF($C45="","",$E45*VLOOKUP($C45,aliments!$B$2:$AZ$70,8,0)/100) | M45: =IF($C45="","",$E45*VLOOKUP($C45,aliments!$B$2:$AZ$70,9,0)/100) | N45: =IF($C45="","",$E45*VLOOKUP($C45,aliments!$B$2:$AZ$70,10,0)/100) | O45: =IF($C45="","",$E45*VLOOKUP($C45,aliments!$B$2:$AZ$70,11,0)/100) | P45: =IF($C45="","",$E45*VLOOKUP($C45,aliments!$B$2:$AZ$70,12,0)/100) | Q45: =IF($C45="","",$E45*VLOOKUP($C45,aliments!$B$2:$AZ$70,13,0)/100) | R45: =IF($C45="","",$E45*VLOOKUP($C45,aliments!$B$2:$AZ$70,14,0)/100) | S45: =IF($C45="","",$E45*VLOOKUP($C45,aliments!$B$2:$AZ$70,15,0)/100) | T45: =IF($C45="","",$E45*VLOOKUP($C45,aliments!$B$2:$AZ$70,16,0)/100) | U45: =IF($C45="","",$E45*VLOOKUP($C45,aliments!$B$2:$AZ$70,17,0)/100) | V45: =IF($C45="","",$E45*VLOOKUP($C45,aliments!$B$2:$AZ$70,18,0)/100) | W45: =IF($C45="","",$E45*VLOOKUP($C45,aliments!$B$2:$AZ$70,19,0)/100) | X45: =IF($C45="","",$E45*VLOOKUP($C45,aliments!$B$2:$AZ$70,20,0)/100) | Y45: =IF($C45="","",$E45*VLOOKUP($C45,aliments!$B$2:$AZ$70,21,0)/100) | Z45: =IF($C45="","",$E45*VLOOKUP($C45,aliments!$B$2:$AZ$70,22,0)/100) | AA45: =IF($C45="","",$E45*VLOOKUP($C45,aliments!$B$2:$AZ$70,23,0)/100) | AB45: =IF($C45="","",$E45*VLOOKUP($C45,aliments!$B$2:$AZ$70,24,0)/100) | AC45: =IF($C45="","",$E45*VLOOKUP($C45,aliments!$B$2:$AZ$70,25,0)/100) | AD45: =IF($C45="","",$E45*VLOOKUP($C45,aliments!$B$2:$AZ$70,26,0)/100) | AE45: =IF($C45="","",$E45*VLOOKUP($C45,aliments!$B$2:$AZ$70,27,0)/100) | AF45: =IF($C45="","",$E45*VLOOKUP($C45,aliments!$B$2:$AZ$70,28,0)/100) | AG45: =IF($C45="","",$E45*VLOOKUP($C45,aliments!$B$2:$AZ$70,29,0)/100) | AH45: =IF($C45="","",$E45*VLOOKUP($C45,aliments!$B$2:$AZ$70,30,0)/100) | AI45: =IF($C45="","",$E45*VLOOKUP($C45,aliments!$B$2:$AZ$70,31,0)/100) | AJ45: =IF($C45="","",$E45*VLOOKUP($C45,aliments!$B$2:$AZ$70,32,0)/100) | AK45: =IF($C45="","",$E45*VLOOKUP($C45,aliments!$B$2:$AZ$70,33,0)/100) | AL45: =IF($C45="","",$E45*VLOOKUP($C45,aliments!$B$2:$AZ$70,34,0)/100) | AM45: =IF($C45="","",$E45*VLOOKUP($C45,aliments!$B$2:$AZ$70,35,0)/100) | AN45: =IF($C45="","",$E45*VLOOKUP($C45,aliments!$B$2:$AZ$70,36,0)/100) | AO45: =IF($C45="","",$E45*VLOOKUP($C45,aliments!$B$2:$AZ$70,37,0)/100) | CA45: Liqueurs_et_alcools
F46: =IF($C46="","",$E46*VLOOKUP($C46,aliments!$B$2:$AZ$70,2,0)/100) | G46: =IF($C46="","",$E46*VLOOKUP($C46,aliments!$B$2:$AZ$70,3,0)/100) | H46: =IF($C46="","",$E46*VLOOKUP($C46,aliments!$B$2:$AZ$70,4,0)/100) | I46: =IF($C46="","",$E46*VLOOKUP($C46,aliments!$B$2:$AZ$70,5,0)/100) | J46: =IF($C46="","",$E46*VLOOKUP($C46,aliments!$B$2:$AZ$70,6,0)/100) | K46: =IF($C46="","",$E46*VLOOKUP($C46,aliments!$B$2:$AZ$70,7,0)/100) | L46: =IF($C46="","",$E46*VLOOKUP($C46,aliments!$B$2:$AZ$70,8,0)/100) | M46: =IF($C46="","",$E46*VLOOKUP($C46,aliments!$B$2:$AZ$70,9,0)/100) | N46: =IF($C46="","",$E46*VLOOKUP($C46,aliments!$B$2:$AZ$70,10,0)/100) | O46: =IF($C46="","",$E46*VLOOKUP($C46,aliments!$B$2:$AZ$70,11,0)/100) | P46: =IF($C46="","",$E46*VLOOKUP($C46,aliments!$B$2:$AZ$70,12,0)/100) | Q46: =IF($C46="","",$E46*VLOOKUP($C46,aliments!$B$2:$AZ$70,13,0)/100) | R46: =IF($C46="","",$E46*VLOOKUP($C46,aliments!$B$2:$AZ$70,14,0)/100) | S46: =IF($C46="","",$E46*VLOOKUP($C46,aliments!$B$2:$AZ$70,15,0)/100) | T46: =IF($C46="","",$E46*VLOOKUP($C46,aliments!$B$2:$AZ$70,16,0)/100) | U46: =IF($C46="","",$E46*VLOOKUP($C46,aliments!$B$2:$AZ$70,17,0)/100) | V46: =IF($C46="","",$E46*VLOOKUP($C46,aliments!$B$2:$AZ$70,18,0)/100) | W46: =IF($C46="","",$E46*VLOOKUP($C46,aliments!$B$2:$AZ$70,19,0)/100) | X46: =IF($C46="","",$E46*VLOOKUP($C46,aliments!$B$2:$AZ$70,20,0)/100) | Y46: =IF($C46="","",$E46*VLOOKUP($C46,aliments!$B$2:$AZ$70,21,0)/100) | Z46: =IF($C46="","",$E46*VLOOKUP($C46,aliments!$B$2:$AZ$70,22,0)/100) | AA46: =IF($C46="","",$E46*VLOOKUP($C46,aliments!$B$2:$AZ$70,23,0)/100) | AB46: =IF($C46="","",$E46*VLOOKUP($C46,aliments!$B$2:$AZ$70,24,0)/100) | AC46: =IF($C46="","",$E46*VLOOKUP($C46,aliments!$B$2:$AZ$70,25,0)/100) | AD46: =IF($C46="","",$E46*VLOOKUP($C46,aliments!$B$2:$AZ$70,26,0)/100) | AE46: =IF($C46="","",$E46*VLOOKUP($C46,aliments!$B$2:$AZ$70,27,0)/100) | AF46: =IF($C46="","",$E46*VLOOKUP($C46,aliments!$B$2:$AZ$70,28,0)/100) | AG46: =IF($C46="","",$E46*VLOOKUP($C46,aliments!$B$2:$AZ$70,29,0)/100) | AH46: =IF($C46="","",$E46*VLOOKUP($C46,aliments!$B$2:$AZ$70,30,0)/100) | AI46: =IF($C46="","",$E46*VLOOKUP($C46,aliments!$B$2:$AZ$70,31,0)/100) | AJ46: =IF($C46="","",$E46*VLOOKUP($C46,aliments!$B$2:$AZ$70,32,0)/100) | AK46: =IF($C46="","",$E46*VLOOKUP($C46,aliments!$B$2:$AZ$70,33,0)/100) | AL46: =IF($C46="","",$E46*VLOOKUP($C46,aliments!$B$2:$AZ$70,34,0)/100) | AM46: =IF($C46="","",$E46*VLOOKUP($C46,aliments!$B$2:$AZ$70,35,0)/100) | AN46: =IF($C46="","",$E46*VLOOKUP($C46,aliments!$B$2:$AZ$70,36,0)/100) | AO46: =IF($C46="","",$E46*VLOOKUP($C46,aliments!$B$2:$AZ$70,37,0)/100) | CA46: Margarines_et_matières_grasses_composées
F47: =IF($C47="","",$E47*VLOOKUP($C47,aliments!$B$2:$AZ$70,2,0)/100) | G47: =IF($C47="","",$E47*VLOOKUP($C47,aliments!$B$2:$AZ$70,3,0)/100) | H47: =IF($C47="","",$E47*VLOOKUP($C47,aliments!$B$2:$AZ$70,4,0)/100) | I47: =IF($C47="","",$E47*VLOOKUP($C47,aliments!$B$2:$AZ$70,5,0)/100) | J47: =IF($C47="","",$E47*VLOOKUP($C47,aliments!$B$2:$AZ$70,6,0)/100) | K47: =IF($C47="","",$E47*VLOOKUP($C47,aliments!$B$2:$AZ$70,7,0)/100) | L47: =IF($C47="","",$E47*VLOOKUP($C47,aliments!$B$2:$AZ$70,8,0)/100) | M47: =IF($C47="","",$E47*VLOOKUP($C47,aliments!$B$2:$AZ$70,9,0)/100) | N47: =IF($C47="","",$E47*VLOOKUP($C47,aliments!$B$2:$AZ$70,10,0)/100) | O47: =IF($C47="","",$E47*VLOOKUP($C47,aliments!$B$2:$AZ$70,11,0)/100) | P47: =IF($C47="","",$E47*VLOOKUP($C47,aliments!$B$2:$AZ$70,12,0)/100) | Q47: =IF($C47="","",$E47*VLOOKUP($C47,aliments!$B$2:$AZ$70,13,0)/100) | R47: =IF($C47="","",$E47*VLOOKUP($C47,aliments!$B$2:$AZ$70,14,0)/100) | S47: =IF($C47="","",$E47*VLOOKUP($C47,aliments!$B$2:$AZ$70,15,0)/100) | T47: =IF($C47="","",$E47*VLOOKUP($C47,aliments!$B$2:$AZ$70,16,0)/100) | U47: =IF($C47="","",$E47*VLOOKUP($C47,aliments!$B$2:$AZ$70,17,0)/100) | V47: =IF($C47="","",$E47*VLOOKUP($C47,aliments!$B$2:$AZ$70,18,0)/100) | W47: =IF($C47="","",$E47*VLOOKUP($C47,aliments!$B$2:$AZ$70,19,0)/100) | X47: =IF($C47="","",$E47*VLOOKUP($C47,aliments!$B$2:$AZ$70,20,0)/100) | Y47: =IF($C47="","",$E47*VLOOKUP($C47,aliments!$B$2:$AZ$70,21,0)/100) | Z47: =IF($C47="","",$E47*VLOOKUP($C47,aliments!$B$2:$AZ$70,22,0)/100) | AA47: =IF($C47="","",$E47*VLOOKUP($C47,aliments!$B$2:$AZ$70,23,0)/100) | AB47: =IF($C47="","",$E47*VLOOKUP($C47,aliments!$B$2:$AZ$70,24,0)/100) | AC47: =IF($C47="","",$E47*VLOOKUP($C47,aliments!$B$2:$AZ$70,25,0)/100) | AD47: =IF($C47="","",$E47*VLOOKUP($C47,aliments!$B$2:$AZ$70,26,0)/100) | AE47: =IF($C47="","",$E47*VLOOKUP($C47,aliments!$B$2:$AZ$70,27,0)/100) | AF47: =IF($C47="","",$E47*VLOOKUP($C47,aliments!$B$2:$AZ$70,28,0)/100) | AG47: =IF($C47="","",$E47*VLOOKUP($C47,aliments!$B$2:$AZ$70,29,0)/100) | AH47: =IF($C47="","",$E47*VLOOKUP($C47,aliments!$B$2:$AZ$70,30,0)/100) | AI47: =IF($C47="","",$E47*VLOOKUP($C47,aliments!$B$2:$AZ$70,31,0)/100) | AJ47: =IF($C47="","",$E47*VLOOKUP($C47,aliments!$B$2:$AZ$70,32,0)/100) | AK47: =IF($C47="","",$E47*VLOOKUP($C47,aliments!$B$2:$AZ$70,33,0)/100) | AL47: =IF($C47="","",$E47*VLOOKUP($C47,aliments!$B$2:$AZ$70,34,0)/100) | AM47: =IF($C47="","",$E47*VLOOKUP($C47,aliments!$B$2:$AZ$70,35,0)/100) | AN47: =IF($C47="","",$E47*VLOOKUP($C47,aliments!$B$2:$AZ$70,36,0)/100) | AO47: =IF($C47="","",$E47*VLOOKUP($C47,aliments!$B$2:$AZ$70,37,0)/100) | CA47: Œufs_et_dérivés
F48: =IF($C48="","",$E48*VLOOKUP($C48,aliments!$B$2:$AZ$70,2,0)/100) | G48: =IF($C48="","",$E48*VLOOKUP($C48,aliments!$B$2:$AZ$70,3,0)/100) | H48: =IF($C48="","",$E48*VLOOKUP($C48,aliments!$B$2:$AZ$70,4,0)/100) | I48: =IF($C48="","",$E48*VLOOKUP($C48,aliments!$B$2:$AZ$70,5,0)/100) | J48: =IF($C48="","",$E48*VLOOKUP($C48,aliments!$B$2:$AZ$70,6,0)/100) | K48: =IF($C48="","",$E48*VLOOKUP($C48,aliments!$B$2:$AZ$70,7,0)/100) | L48: =IF($C48="","",$E48*VLOOKUP($C48,aliments!$B$2:$AZ$70,8,0)/100) | M48: =IF($C48="","",$E48*VLOOKUP($C48,aliments!$B$2:$AZ$70,9,0)/100) | N48: =IF($C48="","",$E48*VLOOKUP($C48,aliments!$B$2:$AZ$70,10,0)/100) | O48: =IF($C48="","",$E48*VLOOKUP($C48,aliments!$B$2:$AZ$70,11,0)/100) | P48: =IF($C48="","",$E48*VLOOKUP($C48,aliments!$B$2:$AZ$70,12,0)/100) | Q48: =IF($C48="","",$E48*VLOOKUP($C48,aliments!$B$2:$AZ$70,13,0)/100) | R48: =IF($C48="","",$E48*VLOOKUP($C48,aliments!$B$2:$AZ$70,14,0)/100) | S48: =IF($C48="","",$E48*VLOOKUP($C48,aliments!$B$2:$AZ$70,15,0)/100) | T48: =IF($C48="","",$E48*VLOOKUP($C48,aliments!$B$2:$AZ$70,16,0)/100) | U48: =IF($C48="","",$E48*VLOOKUP($C48,aliments!$B$2:$AZ$70,17,0)/100) | V48: =IF($C48="","",$E48*VLOOKUP($C48,aliments!$B$2:$AZ$70,18,0)/100) | W48: =IF($C48="","",$E48*VLOOKUP($C48,aliments!$B$2:$AZ$70,19,0)/100) | X48: =IF($C48="","",$E48*VLOOKUP($C48,aliments!$B$2:$AZ$70,20,0)/100) | Y48: =IF($C48="","",$E48*VLOOKUP($C48,aliments!$B$2:$AZ$70,21,0)/100) | Z48: =IF($C48="","",$E48*VLOOKUP($C48,aliments!$B$2:$AZ$70,22,0)/100) | AA48: =IF($C48="","",$E48*VLOOKUP($C48,aliments!$B$2:$AZ$70,23,0)/100) | AB48: =IF($C48="","",$E48*VLOOKUP($C48,aliments!$B$2:$AZ$70,24,0)/100) | AC48: =IF($C48="","",$E48*VLOOKUP($C48,aliments!$B$2:$AZ$70,25,0)/100) | AD48: =IF($C48="","",$E48*VLOOKUP($C48,aliments!$B$2:$AZ$70,26,0)/100) | AE48: =IF($C48="","",$E48*VLOOKUP($C48,aliments!$B$2:$AZ$70,27,0)/100) | AF48: =IF($C48="","",$E48*VLOOKUP($C48,aliments!$B$2:$AZ$70,28,0)/100) | AG48: =IF($C48="","",$E48*VLOOKUP($C48,aliments!$B$2:$AZ$70,29,0)/100) | AH48: =IF($C48="","",$E48*VLOOKUP($C48,aliments!$B$2:$AZ$70,30,0)/100) | AI48: =IF($C48="","",$E48*VLOOKUP($C48,aliments!$B$2:$AZ$70,31,0)/100) | AJ48: =IF($C48="","",$E48*VLOOKUP($C48,aliments!$B$2:$AZ$70,32,0)/100) | AK48: =IF($C48="","",$E48*VLOOKUP($C48,aliments!$B$2:$AZ$70,33,0)/100) | AL48: =IF($C48="","",$E48*VLOOKUP($C48,aliments!$B$2:$AZ$70,34,0)/100) | AM48: =IF($C48="","",$E48*VLOOKUP($C48,aliments!$B$2:$AZ$70,35,0)/100) | AN48: =IF($C48="","",$E48*VLOOKUP($C48,aliments!$B$2:$AZ$70,36,0)/100) | AO48: =IF($C48="","",$E48*VLOOKUP($C48,aliments!$B$2:$AZ$70,37,0)/100) | CA48: Pains
F49: =IF($C49="","",$E49*VLOOKUP($C49,aliments!$B$2:$AZ$70,2,0)/100) | G49: =IF($C49="","",$E49*VLOOKUP($C49,aliments!$B$2:$AZ$70,3,0)/100) | H49: =IF($C49="","",$E49*VLOOKUP($C49,aliments!$B$2:$AZ$70,4,0)/100) | I49: =IF($C49="","",$E49*VLOOKUP($C49,aliments!$B$2:$AZ$70,5,0)/100) | J49: =IF($C49="","",$E49*VLOOKUP($C49,aliments!$B$2:$AZ$70,6,0)/100) | K49: =IF($C49="","",$E49*VLOOKUP($C49,aliments!$B$2:$AZ$70,7,0)/100) | L49: =IF($C49="","",$E49*VLOOKUP($C49,aliments!$B$2:$AZ$70,8,0)/100) | M49: =IF($C49="","",$E49*VLOOKUP($C49,aliments!$B$2:$AZ$70,9,0)/100) | N49: =IF($C49="","",$E49*VLOOKUP($C49,aliments!$B$2:$AZ$70,10,0)/100) | O49: =IF($C49="","",$E49*VLOOKUP($C49,aliments!$B$2:$AZ$70,11,0)/100) | P49: =IF($C49="","",$E49*VLOOKUP($C49,aliments!$B$2:$AZ$70,12,0)/100) | Q49: =IF($C49="","",$E49*VLOOKUP($C49,aliments!$B$2:$AZ$70,13,0)/100) | R49: =IF($C49="","",$E49*VLOOKUP($C49,aliments!$B$2:$AZ$70,14,0)/100) | S49: =IF($C49="","",$E49*VLOOKUP($C49,aliments!$B$2:$AZ$70,15,0)/100) | T49: =IF($C49="","",$E49*VLOOKUP($C49,aliments!$B$2:$AZ$70,16,0)/100) | U49: =IF($C49="","",$E49*VLOOKUP($C49,aliments!$B$2:$AZ$70,17,0)/100) | V49: =IF($C49="","",$E49*VLOOKUP($C49,aliments!$B$2:$AZ$70,18,0)/100) | W49: =IF($C49="","",$E49*VLOOKUP($C49,aliments!$B$2:$AZ$70,19,0)/100) | X49: =IF($C49="","",$E49*VLOOKUP($C49,aliments!$B$2:$AZ$70,20,0)/100) | Y49: =IF($C49="","",$E49*VLOOKUP($C49,aliments!$B$2:$AZ$70,21,0)/100) | Z49: =IF($C49="","",$E49*VLOOKUP($C49,aliments!$B$2:$AZ$70,22,0)/100) | AA49: =IF($C49="","",$E49*VLOOKUP($C49,aliments!$B$2:$AZ$70,23,0)/100) | AB49: =IF($C49="","",$E49*VLOOKUP($C49,aliments!$B$2:$AZ$70,24,0)/100) | AC49: =IF($C49="","",$E49*VLOOKUP($C49,aliments!$B$2:$AZ$70,25,0)/100) | AD49: =IF($C49="","",$E49*VLOOKUP($C49,aliments!$B$2:$AZ$70,26,0)/100) | AE49: =IF($C49="","",$E49*VLOOKUP($C49,aliments!$B$2:$AZ$70,27,0)/100) | AF49: =IF($C49="","",$E49*VLOOKUP($C49,aliments!$B$2:$AZ$70,28,0)/100) | AG49: =IF($C49="","",$E49*VLOOKUP($C49,aliments!$B$2:$AZ$70,29,0)/100) | AH49: =IF($C49="","",$E49*VLOOKUP($C49,aliments!$B$2:$AZ$70,30,0)/100) | AI49: =IF($C49="","",$E49*VLOOKUP($C49,aliments!$B$2:$AZ$70,31,0)/100) | AJ49: =IF($C49="","",$E49*VLOOKUP($C49,aliments!$B$2:$AZ$70,32,0)/100) | AK49: =IF($C49="","",$E49*VLOOKUP($C49,aliments!$B$2:$AZ$70,33,0)/100) | AL49: =IF($C49="","",$E49*VLOOKUP($C49,aliments!$B$2:$AZ$70,34,0)/100) | AM49: =IF($C49="","",$E49*VLOOKUP($C49,aliments!$B$2:$AZ$70,35,0)/100) | AN49: =IF($C49="","",$E49*VLOOKUP($C49,aliments!$B$2:$AZ$70,36,0)/100) | AO49: =IF($C49="","",$E49*VLOOKUP($C49,aliments!$B$2:$AZ$70,37,0)/100) | CA49: Pâtes_et_semoules
A50: Sous total | F50: =IF(SUM(F43:F49)=0,"",AVERAGE(F43:F49)) | G50: =SUM(G43:G49) -> 0 | H50: =SUM(H43:H49) -> 0 | I50: =SUM(I43:I49) -> 0 | J50: =SUM(J43:J49) -> 0 | K50: =SUM(K43:K49) -> 0 | L50: =SUM(L43:L49) -> 0 | M50: =SUM(M43:M49) -> 0 | N50: =SUM(N43:N49) -> 0 | ... AO50: =SUM(AO43:AO49) -> 0 | CA50: Pizzas_crêpes_et_tartes_salées
CA51: Plats_à_base_de_céréales_ou_pâtes
A52: Total journalier | F52: =IF(ISERROR(AVERAGE(F10,F20,F30,F40,F50)),"",AVERAGE(F10,F20,F30,F40,F50)) | G52: =SUM(G10+G20+G30+G40+G50) -> #N/A | H52: =SUM(H10+H20+H30+H40+H50) -> #N/A | I52: =SUM(I10+I20+I30+I40+I50) -> #N/A | J52: =SUM(J10+J20+J30+J40+J50) -> #N/A | K52: =SUM(K10+K20+K30+K40+K50) -> #N/A | L52: =SUM(L10+L20+L30+L40+L50) -> #N/A | M52: =SUM(M10+M20+M30+M40+M50) -> #N/A | N52: =SUM(N10+N20+N30+N40+N50) -> #N/A | ... AO52: =SUM(AO10+AO20+AO30+AO40+AO50) -> #N/A | CA52: Plats_à_base_de_fromage
CA53: Plats_à_base_de_légumes_ou_légumineuses
A54: Mardi | CA54: Plats_à_base_de_poisson_ou_produits_aquatiques
A55: Petit déj | C55: Aliments | E55: Quantité( g) | F55: CG | G55: Pral | H55: Protides ( g) | I55: Glucides ( g) | J55: Lipides (g) | K55: Calories | L55: VitA (µg) | M55: Beta-Car. (µg) | N55: Vit D (µg) | O55: Vit E (mg) | P55: Vit K (µg) | Q55: VitC (mg) | R55: Vit B1 (mg) | S55: Vit B2 (mg) | T55: Vit B3 (mg) | U55: Vit B5 (mg) | V55: Vit B6 (mg) | W55: Vit B9 (µg) | X55: Vit B12 (µg) | Y55: Calcium (mg) | Z55: Cuivre (mg) | AA55: Fer (mg) | AB55: Iode (µg) | AC55: Magnésium (mg) | AD55: Manganèse (mg) | AE55: Phosphore (mg) | AF55: Potassium (mg) | AG55: Sélénium (µg) | AH55: Sodium (mg) | AI55: Zinc (mg) | AJ55: Fibres (g) | AK55: AG saturés (g) | AL55: AG monoinsaturés (g) | AM55: Polyols totaux (g) | AN55: AG polyinsaturés (g) | AO55: Cholestérol (mg) | CA55: Plats_à_base_de_viande_ou_volaille
F56: =IF($C56="","",$E56*VLOOKUP($C56,aliments!$B$2:$AZ$70,2,0)/100) | G56: =IF($C56="","",$E56*VLOOKUP($C56,aliments!$B$2:$AZ$70,3,0)/100) | H56: =IF($C56="","",$E56*VLOOKUP($C56,aliments!$B$2:$AZ$70,4,0)/100) | I56: =IF($C56="","",$E56*VLOOKUP($C56,aliments!$B$2:$AZ$70,5,0)/100) | J56: =IF($C56="","",$E56*VLOOKUP($C56,aliments!$B$2:$AZ$70,6,0)/100) | K56: =IF($C56="","",$E56*VLOOKUP($C56,aliments!$B$2:$AZ$70,7,0)/100) | L56: =IF($C56="","",$E56*VLOOKUP($C56,aliments!$B$2:$AZ$70,8,0)/100) | M56: =IF($C56="","",$E56*VLOOKUP($C56,aliments!$B$2:$AZ$70,9,0)/100) | N56: =IF($C56="","",$E56*VLOOKUP($C56,aliments!$B$2:$AZ$70,10,0)/100) | O56: =IF($C56="","",$E56*VLOOKUP($C56,aliments!$B$2:$AZ$70,11,0)/100) | P56: =IF($C56="","",$E56*VLOOKUP($C56,aliments!$B$2:$AZ$70,12,0)/100) | Q56: =IF($C56="","",$E56*VLOOKUP($C56,aliments!$B$2:$AZ$70,13,0)/100) | R56: =IF($C56="","",$E56*VLOOKUP($C56,aliments!$B$2:$AZ$70,14,0)/100) | S56: =IF($C56="","",$E56*VLOOKUP($C56,aliments!$B$2:$AZ$70,15,0)/100) | T56: =IF($C56="","",$E56*VLOOKUP($C56,aliments!$B$2:$AZ$70,16,0)/100) | U56: =IF($C56="","",$E56*VLOOKUP($C56,aliments!$B$2:$AZ$70,17,0)/100) | V56: =IF($C56="","",$E56*VLOOKUP($C56,aliments!$B$2:$AZ$70,18,0)/100) | W56: =IF($C56="","",$E56*VLOOKUP($C56,aliments!$B$2:$AZ$70,19,0)/100) | X56: =IF($C56="","",$E56*VLOOKUP($C56,aliments!$B$2:$AZ$70,20,0)/100) | Y56: =IF($C56="","",$E56*VLOOKUP($C56,aliments!$B$2:$AZ$70,21,0)/100) | Z56: =IF($C56="","",$E56*VLOOKUP($C56,aliments!$B$2:$AZ$70,22,0)/100) | AA56: =IF($C56="","",$E56*VLOOKUP($C56,aliments!$B$2:$AZ$70,23,0)/100) | AB56: =IF($C56="","",$E56*VLOOKUP($C56,aliments!$B$2:$AZ$70,24,0)/100) | AC56: =IF($C56="","",$E56*VLOOKUP($C56,aliments!$B$2:$AZ$70,25,0)/100) | AD56: =IF($C56="","",$E56*VLOOKUP($C56,aliments!$B$2:$AZ$70,26,0)/100) | AE56: =IF($C56="","",$E56*VLOOKUP($C56,aliments!$B$2:$AZ$70,27,0)/100) | AF56: =IF($C56="","",$E56*VLOOKUP($C56,aliments!$B$2:$AZ$70,28,0)/100) | AG56: =IF($C56="","",$E56*VLOOKUP($C56,aliments!$B$2:$AZ$70,29,0)/100) | AH56: =IF($C56="","",$E56*VLOOKUP($C56,aliments!$B$2:$AZ$70,30,0)/100) | AI56: =IF($C56="","",$E56*VLOOKUP($C56,aliments!$B$2:$AZ$70,31,0)/100) | AJ56: =IF($C56="","",$E56*VLOOKUP($C56,aliments!$B$2:$AZ$70,32,0)/100) | AK56: =IF($C56="","",$E56*VLOOKUP($C56,aliments!$B$2:$AZ$70,33,0)/100) | AL56: =IF($C56="","",$E56*VLOOKUP($C56,aliments!$B$2:$AZ$70,34,0)/100) | AM56: =IF($C56="","",$E56*VLOOKUP($C56,aliments!$B$2:$AZ$70,35,0)/100) | AN56: =IF($C56="","",$E56*VLOOKUP($C56,aliments!$B$2:$AZ$70,36,0)/100) | AO56: =IF($C56="","",$E56*VLOOKUP($C56,aliments!$B$2:$AZ$70,37,0)/100) | CA56: Plats_composés
F57: =IF($C57="","",$E57*VLOOKUP($C57,aliments!$B$2:$AZ$70,2,0)/100) | G57: =IF($C57="","",$E57*VLOOKUP($C57,aliments!$B$2:$AZ$70,3,0)/100) | H57: =IF($C57="","",$E57*VLOOKUP($C57,aliments!$B$2:$AZ$70,4,0)/100) | I57: =IF($C57="","",$E57*VLOOKUP($C57,aliments!$B$2:$AZ$70,5,0)/100) | J57: =IF($C57="","",$E57*VLOOKUP($C57,aliments!$B$2:$AZ$70,6,0)/100) | K57: =IF($C57="","",$E57*VLOOKUP($C57,aliments!$B$2:$AZ$70,7,0)/100) | L57: =IF($C57="","",$E57*VLOOKUP($C57,aliments!$B$2:$AZ$70,8,0)/100) | M57: =IF($C57="","",$E57*VLOOKUP($C57,aliments!$B$2:$AZ$70,9,0)/100) | N57: =IF($C57="","",$E57*VLOOKUP($C57,aliments!$B$2:$AZ$70,10,0)/100) | O57: =IF($C57="","",$E57*VLOOKUP($C57,aliments!$B$2:$AZ$70,11,0)/100) | P57: =IF($C57="","",$E57*VLOOKUP($C57,aliments!$B$2:$AZ$70,12,0)/100) | Q57: =IF($C57="","",$E57*VLOOKUP($C57,aliments!$B$2:$AZ$70,13,0)/100) | R57: =IF($C57="","",$E57*VLOOKUP($C57,aliments!$B$2:$AZ$70,14,0)/100) | S57: =IF($C57="","",$E57*VLOOKUP($C57,aliments!$B$2:$AZ$70,15,0)/100) | T57: =IF($C57="","",$E57*VLOOKUP($C57,aliments!$B$2:$AZ$70,16,0)/100) | U57: =IF($C57="","",$E57*VLOOKUP($C57,aliments!$B$2:$AZ$70,17,0)/100) | V57: =IF($C57="","",$E57*VLOOKUP($C57,aliments!$B$2:$AZ$70,18,0)/100) | W57: =IF($C57="","",$E57*VLOOKUP($C57,aliments!$B$2:$AZ$70,19,0)/100) | X57: =IF($C57="","",$E57*VLOOKUP($C57,aliments!$B$2:$AZ$70,20,0)/100) | Y57: =IF($C57="","",$E57*VLOOKUP($C57,aliments!$B$2:$AZ$70,21,0)/100) | Z57: =IF($C57="","",$E57*VLOOKUP($C57,aliments!$B$2:$AZ$70,22,0)/100) | AA57: =IF($C57="","",$E57*VLOOKUP($C57,aliments!$B$2:$AZ$70,23,0)/100) | AB57: =IF($C57="","",$E57*VLOOKUP($C57,aliments!$B$2:$AZ$70,24,0)/100) | AC57: =IF($C57="","",$E57*VLOOKUP($C57,aliments!$B$2:$AZ$70,25,0)/100) | AD57: =IF($C57="","",$E57*VLOOKUP($C57,aliments!$B$2:$AZ$70,26,0)/100) | AE57: =IF($C57="","",$E57*VLOOKUP($C57,aliments!$B$2:$AZ$70,27,0)/100) | AF57: =IF($C57="","",$E57*VLOOKUP($C57,aliments!$B$2:$AZ$70,28,0)/100) | AG57: =IF($C57="","",$E57*VLOOKUP($C57,aliments!$B$2:$AZ$70,29,0)/100) | AH57: =IF($C57="","",$E57*VLOOKUP($C57,aliments!$B$2:$AZ$70,30,0)/100) | AI57: =IF($C57="","",$E57*VLOOKUP($C57,aliments!$B$2:$AZ$70,31,0)/100) | AJ57: =IF($C57="","",$E57*VLOOKUP($C57,aliments!$B$2:$AZ$70,32,0)/100) | AK57: =IF($C57="","",$E57*VLOOKUP($C57,aliments!$B$2:$AZ$70,33,0)/100) | AL57: =IF($C57="","",$E57*VLOOKUP($C57,aliments!$B$2:$AZ$70,34,0)/100) | AM57: =IF($C57="","",$E57*VLOOKUP($C57,aliments!$B$2:$AZ$70,35,0)/100) | AN57: =IF($C57="","",$E57*VLOOKUP($C57,aliments!$B$2:$AZ$70,36,0)/100) | AO57: =IF($C57="","",$E57*VLOOKUP($C57,aliments!$B$2:$AZ$70,37,0)/100) | CA57: Poissons_et_batraciens_non_transformés
F58: =IF($C58="","",$E58*VLOOKUP($C58,aliments!$B$2:$AZ$70,2,0)/100) | G58: =IF($C58="","",$E58*VLOOKUP($C58,aliments!$B$2:$AZ$70,3,0)/100) | H58: =IF($C58="","",$E58*VLOOKUP($C58,aliments!$B$2:$AZ$70,4,0)/100) | I58: =IF($C58="","",$E58*VLOOKUP($C58,aliments!$B$2:$AZ$70,5,0)/100) | J58: =IF($C58="","",$E58*VLOOKUP($C58,aliments!$B$2:$AZ$70,6,0)/100) | K58: =IF($C58="","",$E58*VLOOKUP($C58,aliments!$B$2:$AZ$70,7,0)/100) | L58: =IF($C58="","",$E58*VLOOKUP($C58,aliments!$B$2:$AZ$70,8,0)/100) | M58: =IF($C58="","",$E58*VLOOKUP($C58,aliments!$B$2:$AZ$70,9,0)/100) | N58: =IF($C58="","",$E58*VLOOKUP($C58,aliments!$B$2:$AZ$70,10,0)/100) | O58: =IF($C58="","",$E58*VLOOKUP($C58,aliments!$B$2:$AZ$70,11,0)/100) | P58: =IF($C58="","",$E58*VLOOKUP($C58,aliments!$B$2:$AZ$70,12,0)/100) | Q58: =IF($C58="","",$E58*VLOOKUP($C58,aliments!$B$2:$AZ$70,13,0)/100) | R58: =IF($C58="","",$E58*VLOOKUP($C58,aliments!$B$2:$AZ$70,14,0)/100) | S58: =IF($C58="","",$E58*VLOOKUP($C58,aliments!$B$2:$AZ$70,15,0)/100) | T58: =IF($C58="","",$E58*VLOOKUP($C58,aliments!$B$2:$AZ$70,16,0)/100) | U58: =IF($C58="","",$E58*VLOOKUP($C58,aliments!$B$2:$AZ$70,17,0)/100) | V58: =IF($C58="","",$E58*VLOOKUP($C58,aliments!$B$2:$AZ$70,18,0)/100) | W58: =IF($C58="","",$E58*VLOOKUP($C58,aliments!$B$2:$AZ$70,19,0)/100) | X58: =IF($C58="","",$E58*VLOOKUP($C58,aliments!$B$2:$AZ$70,20,0)/100) | Y58: =IF($C58="","",$E58*VLOOKUP($C58,aliments!$B$2:$AZ$70,21,0)/100) | Z58: =IF($C58="","",$E58*VLOOKUP($C58,aliments!$B$2:$AZ$70,22,0)/100) | AA58: =IF($C58="","",$E58*VLOOKUP($C58,aliments!$B$2:$AZ$70,23,0)/100) | AB58: =IF($C58="","",$E58*VLOOKUP($C58,aliments!$B$2:$AZ$70,24,0)/100) | AC58: =IF($C58="","",$E58*VLOOKUP($C58,aliments!$B$2:$AZ$70,25,0)/100) | AD58: =IF($C58="","",$E58*VLOOKUP($C58,aliments!$B$2:$AZ$70,26,0)/100) | AE58: =IF($C58="","",$E58*VLOOKUP($C58,aliments!$B$2:$AZ$70,27,0)/100) | AF58: =IF($C58="","",$E58*VLOOKUP($C58,aliments!$B$2:$AZ$70,28,0)/100) | AG58: =IF($C58="","",$E58*VLOOKUP($C58,aliments!$B$2:$AZ$70,29,0)/100) | AH58: =IF($C58="","",$E58*VLOOKUP($C58,aliments!$B$2:$AZ$70,30,0)/100) | AI58: =IF($C58="","",$E58*VLOOKUP($C58,aliments!$B$2:$AZ$70,31,0)/100) | AJ58: =IF($C58="","",$E58*VLOOKUP($C58,aliments!$B$2:$AZ$70,32,0)/100) | AK58: =IF($C58="","",$E58*VLOOKUP($C58,aliments!$B$2:$AZ$70,33,0)/100) | AL58: =IF($C58="","",$E58*VLOOKUP($C58,aliments!$B$2:$AZ$70,34,0)/100) | AM58: =IF($C58="","",$E58*VLOOKUP($C58,aliments!$B$2:$AZ$70,35,0)/100) | AN58: =IF($C58="","",$E58*VLOOKUP($C58,aliments!$B$2:$AZ$70,36,0)/100) | AO58: =IF($C58="","",$E58*VLOOKUP($C58,aliments!$B$2:$AZ$70,37,0)/100) | CA58: Pommes_de_terre_et_apparentés
F59: =IF($C59="","",$E59*VLOOKUP($C59,aliments!$B$2:$AZ$70,2,0)/100) | G59: =IF($C59="","",$E59*VLOOKUP($C59,aliments!$B$2:$AZ$70,3,0)/100) | H59: =IF($C59="","",$E59*VLOOKUP($C59,aliments!$B$2:$AZ$70,4,0)/100) | I59: =IF($C59="","",$E59*VLOOKUP($C59,aliments!$B$2:$AZ$70,5,0)/100) | J59: =IF($C59="","",$E59*VLOOKUP($C59,aliments!$B$2:$AZ$70,6,0)/100) | K59: =IF($C59="","",$E59*VLOOKUP($C59,aliments!$B$2:$AZ$70,7,0)/100) | L59: =IF($C59="","",$E59*VLOOKUP($C59,aliments!$B$2:$AZ$70,8,0)/100) | M59: =IF($C59="","",$E59*VLOOKUP($C59,aliments!$B$2:$AZ$70,9,0)/100) | N59: =IF($C59="","",$E59*VLOOKUP($C59,aliments!$B$2:$AZ$70,10,0)/100) | O59: =IF($C59="","",$E59*VLOOKUP($C59,aliments!$B$2:$AZ$70,11,0)/100) | P59: =IF($C59="","",$E59*VLOOKUP($C59,aliments!$B$2:$AZ$70,12,0)/100) | Q59: =IF($C59="","",$E59*VLOOKUP($C59,aliments!$B$2:$AZ$70,13,0)/100) | R59: =IF($C59="","",$E59*VLOOKUP($C59,aliments!$B$2:$AZ$70,14,0)/100) | S59: =IF($C59="","",$E59*VLOOKUP($C59,aliments!$B$2:$AZ$70,15,0)/100) | T59: =IF($C59="","",$E59*VLOOKUP($C59,aliments!$B$2:$AZ$70,16,0)/100) | U59: =IF($C59="","",$E59*VLOOKUP($C59,aliments!$B$2:$AZ$70,17,0)/100) | V59: =IF($C59="","",$E59*VLOOKUP($C59,aliments!$B$2:$AZ$70,18,0)/100) | W59: =IF($C59="","",$E59*VLOOKUP($C59,aliments!$B$2:$AZ$70,19,0)/100) | X59: =IF($C59="","",$E59*VLOOKUP($C59,aliments!$B$2:$AZ$70,20,0)/100) | Y59: =IF($C59="","",$E59*VLOOKUP($C59,aliments!$B$2:$AZ$70,21,0)/100) | Z59: =IF($C59="","",$E59*VLOOKUP($C59,aliments!$B$2:$AZ$70,22,0)/100) | AA59: =IF($C59="","",$E59*VLOOKUP($C59,aliments!$B$2:$AZ$70,23,0)/100) | AB59: =IF($C59="","",$E59*VLOOKUP($C59,aliments!$B$2:$AZ$70,24,0)/100) | AC59: =IF($C59="","",$E59*VLOOKUP($C59,aliments!$B$2:$AZ$70,25,0)/100) | AD59: =IF($C59="","",$E59*VLOOKUP($C59,aliments!$B$2:$AZ$70,26,0)/100) | AE59: =IF($C59="","",$E59*VLOOKUP($C59,aliments!$B$2:$AZ$70,27,0)/100) | AF59: =IF($C59="","",$E59*VLOOKUP($C59,aliments!$B$2:$AZ$70,28,0)/100) | AG59: =IF($C59="","",$E59*VLOOKUP($C59,aliments!$B$2:$AZ$70,29,0)/100) | AH59: =IF($C59="","",$E59*VLOOKUP($C59,aliments!$B$2:$AZ$70,30,0)/100) | AI59: =IF($C59="","",$E59*VLOOKUP($C59,aliments!$B$2:$AZ$70,31,0)/100) | AJ59: =IF($C59="","",$E59*VLOOKUP($C59,aliments!$B$2:$AZ$70,32,0)/100) | AK59: =IF($C59="","",$E59*VLOOKUP($C59,aliments!$B$2:$AZ$70,33,0)/100) | AL59: =IF($C59="","",$E59*VLOOKUP($C59,aliments!$B$2:$AZ$70,34,0)/100) | AM59: =IF($C59="","",$E59*VLOOKUP($C59,aliments!$B$2:$AZ$70,35,0)/100) | AN59: =IF($C59="","",$E59*VLOOKUP($C59,aliments!$B$2:$AZ$70,36,0)/100) | AO59: =IF($C59="","",$E59*VLOOKUP($C59,aliments!$B$2:$AZ$70,37,0)/100) | CA59: Préparations_pour_boissons_sans_alcool
F60: =IF($C60="","",$E60*VLOOKUP($C60,aliments!$B$2:$AZ$70,2,0)/100) | G60: =IF($C60="","",$E60*VLOOKUP($C60,aliments!$B$2:$AZ$70,3,0)/100) | H60: =IF($C60="","",$E60*VLOOKUP($C60,aliments!$B$2:$AZ$70,4,0)/100) | I60: =IF($C60="","",$E60*VLOOKUP($C60,aliments!$B$2:$AZ$70,5,0)/100) | J60: =IF($C60="","",$E60*VLOOKUP($C60,aliments!$B$2:$AZ$70,6,0)/100) | K60: =IF($C60="","",$E60*VLOOKUP($C60,aliments!$B$2:$AZ$70,7,0)/100) | L60: =IF($C60="","",$E60*VLOOKUP($C60,aliments!$B$2:$AZ$70,8,0)/100) | M60: =IF($C60="","",$E60*VLOOKUP($C60,aliments!$B$2:$AZ$70,9,0)/100) | N60: =IF($C60="","",$E60*VLOOKUP($C60,aliments!$B$2:$AZ$70,10,0)/100) | O60: =IF($C60="","",$E60*VLOOKUP($C60,aliments!$B$2:$AZ$70,11,0)/100) | P60: =IF($C60="","",$E60*VLOOKUP($C60,aliments!$B$2:$AZ$70,12,0)/100) | Q60: =IF($C60="","",$E60*VLOOKUP($C60,aliments!$B$2:$AZ$70,13,0)/100) | R60: =IF($C60="","",$E60*VLOOKUP($C60,aliments!$B$2:$AZ$70,14,0)/100) | S60: =IF($C60="","",$E60*VLOOKUP($C60,aliments!$B$2:$AZ$70,15,0)/100) | T60: =IF($C60="","",$E60*VLOOKUP($C60,aliments!$B$2:$AZ$70,16,0)/100) | U60: =IF($C60="","",$E60*VLOOKUP($C60,aliments!$B$2:$AZ$70,17,0)/100) | V60: =IF($C60="","",$E60*VLOOKUP($C60,aliments!$B$2:$AZ$70,18,0)/100) | W60: =IF($C60="","",$E60*VLOOKUP($C60,aliments!$B$2:$AZ$70,19,0)/100) | X60: =IF($C60="","",$E60*VLOOKUP($C60,aliments!$B$2:$AZ$70,20,0)/100) | Y60: =IF($C60="","",$E60*VLOOKUP($C60,aliments!$B$2:$AZ$70,21,0)/100) | Z60: =IF($C60="","",$E60*VLOOKUP($C60,aliments!$B$2:$AZ$70,22,0)/100) | AA60: =IF($C60="","",$E60*VLOOKUP($C60,aliments!$B$2:$AZ$70,23,0)/100) | AB60: =IF($C60="","",$E60*VLOOKUP($C60,aliments!$B$2:$AZ$70,24,0)/100) | AC60: =IF($C60="","",$E60*VLOOKUP($C60,aliments!$B$2:$AZ$70,25,0)/100) | AD60: =IF($C60="","",$E60*VLOOKUP($C60,aliments!$B$2:$AZ$70,26,0)/100) | AE60: =IF($C60="","",$E60*VLOOKUP($C60,aliments!$B$2:$AZ$70,27,0)/100) | AF60: =IF($C60="","",$E60*VLOOKUP($C60,aliments!$B$2:$AZ$70,28,0)/100) | AG60: =IF($C60="","",$E60*VLOOKUP($C60,aliments!$B$2:$AZ$70,29,0)/100) | AH60: =IF($C60="","",$E60*VLOOKUP($C60,aliments!$B$2:$AZ$70,30,0)/100) | AI60: =IF($C60="","",$E60*VLOOKUP($C60,aliments!$B$2:$AZ$70,31,0)/100) | AJ60: =IF($C60="","",$E60*VLOOKUP($C60,aliments!$B$2:$AZ$70,32,0)/100) | AK60: =IF($C60="","",$E60*VLOOKUP($C60,aliments!$B$2:$AZ$70,33,0)/100) | AL60: =IF($C60="","",$E60*VLOOKUP($C60,aliments!$B$2:$AZ$70,34,0)/100) | AM60: =IF($C60="","",$E60*VLOOKUP($C60,aliments!$B$2:$AZ$70,35,0)/100) | AN60: =IF($C60="","",$E60*VLOOKUP($C60,aliments!$B$2:$AZ$70,36,0)/100) | AO60: =IF($C60="","",$E60*VLOOKUP($C60,aliments!$B$2:$AZ$70,37,0)/100) | CA60: Préparations_pour_pâtisseries
F61: =IF($C61="","",$E61*VLOOKUP($C61,aliments!$B$2:$AZ$70,2,0)/100) | G61: =IF($C61="","",$E61*VLOOKUP($C61,aliments!$B$2:$AZ$70,3,0)/100) | H61: =IF($C61="","",$E61*VLOOKUP($C61,aliments!$B$2:$AZ$70,4,0)/100) | I61: =IF($C61="","",$E61*VLOOKUP($C61,aliments!$B$2:$AZ$70,5,0)/100) | J61: =IF($C61="","",$E61*VLOOKUP($C61,aliments!$B$2:$AZ$70,6,0)/100) | K61: =IF($C61="","",$E61*VLOOKUP($C61,aliments!$B$2:$AZ$70,7,0)/100) | L61: =IF($C61="","",$E61*VLOOKUP($C61,aliments!$B$2:$AZ$70,8,0)/100) | M61: =IF($C61="","",$E61*VLOOKUP($C61,aliments!$B$2:$AZ$70,9,0)/100) | N61: =IF($C61="","",$E61*VLOOKUP($C61,aliments!$B$2:$AZ$70,10,0)/100) | O61: =IF($C61="","",$E61*VLOOKUP($C61,aliments!$B$2:$AZ$70,11,0)/100) | P61: =IF($C61="","",$E61*VLOOKUP($C61,aliments!$B$2:$AZ$70,12,0)/100) | Q61: =IF($C61="","",$E61*VLOOKUP($C61,aliments!$B$2:$AZ$70,13,0)/100) | R61: =IF($C61="","",$E61*VLOOKUP($C61,aliments!$B$2:$AZ$70,14,0)/100) | S61: =IF($C61="","",$E61*VLOOKUP($C61,aliments!$B$2:$AZ$70,15,0)/100) | T61: =IF($C61="","",$E61*VLOOKUP($C61,aliments!$B$2:$AZ$70,16,0)/100) | U61: =IF($C61="","",$E61*VLOOKUP($C61,aliments!$B$2:$AZ$70,17,0)/100) | V61: =IF($C61="","",$E61*VLOOKUP($C61,aliments!$B$2:$AZ$70,18,0)/100) | W61: =IF($C61="","",$E61*VLOOKUP($C61,aliments!$B$2:$AZ$70,19,0)/100) | X61: =IF($C61="","",$E61*VLOOKUP($C61,aliments!$B$2:$AZ$70,20,0)/100) | Y61: =IF($C61="","",$E61*VLOOKUP($C61,aliments!$B$2:$AZ$70,21,0)/100) | Z61: =IF($C61="","",$E61*VLOOKUP($C61,aliments!$B$2:$AZ$70,22,0)/100) | AA61: =IF($C61="","",$E61*VLOOKUP($C61,aliments!$B$2:$AZ$70,23,0)/100) | AB61: =IF($C61="","",$E61*VLOOKUP($C61,aliments!$B$2:$AZ$70,24,0)/100) | AC61: =IF($C61="","",$E61*VLOOKUP($C61,aliments!$B$2:$AZ$70,25,0)/100) | AD61: =IF($C61="","",$E61*VLOOKUP($C61,aliments!$B$2:$AZ$70,26,0)/100) | AE61: =IF($C61="","",$E61*VLOOKUP($C61,aliments!$B$2:$AZ$70,27,0)/100) | AF61: =IF($C61="","",$E61*VLOOKUP($C61,aliments!$B$2:$AZ$70,28,0)/100) | AG61: =IF($C61="","",$E61*VLOOKUP($C61,aliments!$B$2:$AZ$70,29,0)/100) | AH61: =IF($C61="","",$E61*VLOOKUP($C61,aliments!$B$2:$AZ$70,30,0)/100) | AI61: =IF($C61="","",$E61*VLOOKUP($C61,aliments!$B$2:$AZ$70,31,0)/100) | AJ61: =IF($C61="","",$E61*VLOOKUP($C61,aliments!$B$2:$AZ$70,32,0)/100) | AK61: =IF($C61="","",$E61*VLOOKUP($C61,aliments!$B$2:$AZ$70,33,0)/100) | AL61: =IF($C61="","",$E61*VLOOKUP($C61,aliments!$B$2:$AZ$70,34,0)/100) | AM61: =IF($C61="","",$E61*VLOOKUP($C61,aliments!$B$2:$AZ$70,35,0)/100) | AN61: =IF($C61="","",$E61*VLOOKUP($C61,aliments!$B$2:$AZ$70,36,0)/100) | AO61: =IF($C61="","",$E61*VLOOKUP($C61,aliments!$B$2:$AZ$70,37,0)/100) | CA61: Produits_à_base_de_crustacés_et_mollusques
F62: =IF($C62="","",$E62*VLOOKUP($C62,aliments!$B$2:$AZ$70,2,0)/100) | G62: =IF($C62="","",$E62*VLOOKUP($C62,aliments!$B$2:$AZ$70,3,0)/100) | H62: =IF($C62="","",$E62*VLOOKUP($C62,aliments!$B$2:$AZ$70,4,0)/100) | I62: =IF($C62="","",$E62*VLOOKUP($C62,aliments!$B$2:$AZ$70,5,0)/100) | J62: =IF($C62="","",$E62*VLOOKUP($C62,aliments!$B$2:$AZ$70,6,0)/100) | K62: =IF($C62="","",$E62*VLOOKUP($C62,aliments!$B$2:$AZ$70,7,0)/100) | L62: =IF($C62="","",$E62*VLOOKUP($C62,aliments!$B$2:$AZ$70,8,0)/100) | M62: =IF($C62="","",$E62*VLOOKUP($C62,aliments!$B$2:$AZ$70,9,0)/100) | N62: =IF($C62="","",$E62*VLOOKUP($C62,aliments!$B$2:$AZ$70,10,0)/100) | O62: =IF($C62="","",$E62*VLOOKUP($C62,aliments!$B$2:$AZ$70,11,0)/100) | P62: =IF($C62="","",$E62*VLOOKUP($C62,aliments!$B$2:$AZ$70,12,0)/100) | Q62: =IF($C62="","",$E62*VLOOKUP($C62,aliments!$B$2:$AZ$70,13,0)/100) | R62: =IF($C62="","",$E62*VLOOKUP($C62,aliments!$B$2:$AZ$70,14,0)/100) | S62: =IF($C62="","",$E62*VLOOKUP($C62,aliments!$B$2:$AZ$70,15,0)/100) | T62: =IF($C62="","",$E62*VLOOKUP($C62,aliments!$B$2:$AZ$70,16,0)/100) | U62: =IF($C62="","",$E62*VLOOKUP($C62,aliments!$B$2:$AZ$70,17,0)/100) | V62: =IF($C62="","",$E62*VLOOKUP($C62,aliments!$B$2:$AZ$70,18,0)/100) | W62: =IF($C62="","",$E62*VLOOKUP($C62,aliments!$B$2:$AZ$70,19,0)/100) | X62: =IF($C62="","",$E62*VLOOKUP($C62,aliments!$B$2:$AZ$70,20,0)/100) | Y62: =IF($C62="","",$E62*VLOOKUP($C62,aliments!$B$2:$AZ$70,21,0)/100) | Z62: =IF($C62="","",$E62*VLOOKUP($C62,aliments!$B$2:$AZ$70,22,0)/100) | AA62: =IF($C62="","",$E62*VLOOKUP($C62,aliments!$B$2:$AZ$70,23,0)/100) | AB62: =IF($C62="","",$E62*VLOOKUP($C62,aliments!$B$2:$AZ$70,24,0)/100) | AC62: =IF($C62="","",$E62*VLOOKUP($C62,aliments!$B$2:$AZ$70,25,0)/100) | AD62: =IF($C62="","",$E62*VLOOKUP($C62,aliments!$B$2:$AZ$70,26,0)/100) | AE62: =IF($C62="","",$E62*VLOOKUP($C62,aliments!$B$2:$AZ$70,27,0)/100) | AF62: =IF($C62="","",$E62*VLOOKUP($C62,aliments!$B$2:$AZ$70,28,0)/100) | AG62: =IF($C62="","",$E62*VLOOKUP($C62,aliments!$B$2:$AZ$70,29,0)/100) | AH62: =IF($C62="","",$E62*VLOOKUP($C62,aliments!$B$2:$AZ$70,30,0)/100) | AI62: =IF($C62="","",$E62*VLOOKUP($C62,aliments!$B$2:$AZ$70,31,0)/100) | AJ62: =IF($C62="","",$E62*VLOOKUP($C62,aliments!$B$2:$AZ$70,32,0)/100) | AK62: =IF($C62="","",$E62*VLOOKUP($C62,aliments!$B$2:$AZ$70,33,0)/100) | AL62: =IF($C62="","",$E62*VLOOKUP($C62,aliments!$B$2:$AZ$70,34,0)/100) | AM62: =IF($C62="","",$E62*VLOOKUP($C62,aliments!$B$2:$AZ$70,35,0)/100) | AN62: =IF($C62="","",$E62*VLOOKUP($C62,aliments!$B$2:$AZ$70,36,0)/100) | AO62: =IF($C62="","",$E62*VLOOKUP($C62,aliments!$B$2:$AZ$70,37,0)/100) | CA62: Produits_à_base_de_poissons
A63: Sous total | F63: =IF(SUM(F56:F62)=0,"",AVERAGE(F56:F62)) | G63: =SUM(G56:G62) -> 0 | H63: =SUM(H56:H62) -> 0 | I63: =SUM(I56:I62) -> 0 | J63: =SUM(J56:J62) -> 0 | K63: =SUM(K56:K62) -> 0 | L63: =SUM(L56:L62) -> 0 | M63: =SUM(M56:M62) -> 0 | N63: =SUM(N56:N62) -> 0 | ... AO63: =SUM(AO56:AO62) -> 0 | CA63: Riz_et_autres_graines
CA64: Salades_composées_et_crudités
A65: Collation du matin | C65: Aliments | E65: Quantité( g) | F65: CG | G65: Pral | H65: Protides ( g) | I65: Glucides ( g) | J65: Lipides (g) | K65: Calories | L65: VitA (µg) | M65: Beta-Car. (µg) | N65: Vit D (µg) | O65: Vit E (mg) | P65: Vit K (µg) | Q65: VitC (mg) | R65: Vit B1 (mg) | S65: Vit B2 (mg) | T65: Vit B3 (mg) | U65: Vit B5 (mg) | V65: Vit B6 (mg) | W65: Vit B9 (µg) | X65: Vit B12 (µg) | Y65: Calcium (mg) | Z65: Cuivre (mg) | AA65: Fer (mg) | AB65: Iode (µg) | AC65: Magnésium (mg) | AD65: Manganèse (mg) | AE65: Phosphore (mg) | AF65: Potassium (mg) | AG65: Sélénium (µg) | AH65: Sodium (mg) | AI65: Zinc (mg) | AJ65: Fibres (g) | AK65: AG saturés (g) | AL65: AG monoinsaturés (g) | AM65: Polyols totaux (g) | AN65: AG polyinsaturés (g) | AO65: Cholestérol (mg) | CA65: Sandwichs
F66: =IF($C66="","",$E66*VLOOKUP($C66,aliments!$B$2:$AZ$70,2,0)/100) | G66: =IF($C66="","",$E66*VLOOKUP($C66,aliments!$B$2:$AZ$70,3,0)/100) | H66: =IF($C66="","",$E66*VLOOKUP($C66,aliments!$B$2:$AZ$70,4,0)/100) | I66: =IF($C66="","",$E66*VLOOKUP($C66,aliments!$B$2:$AZ$70,5,0)/100) | J66: =IF($C66="","",$E66*VLOOKUP($C66,aliments!$B$2:$AZ$70,6,0)/100) | K66: =IF($C66="","",$E66*VLOOKUP($C66,aliments!$B$2:$AZ$70,7,0)/100) | L66: =IF($C66="","",$E66*VLOOKUP($C66,aliments!$B$2:$AZ$70,8,0)/100) | M66: =IF($C66="","",$E66*VLOOKUP($C66,aliments!$B$2:$AZ$70,9,0)/100) | N66: =IF($C66="","",$E66*VLOOKUP($C66,aliments!$B$2:$AZ$70,10,0)/100) | O66: =IF($C66="","",$E66*VLOOKUP($C66,aliments!$B$2:$AZ$70,11,0)/100) | P66: =IF($C66="","",$E66*VLOOKUP($C66,aliments!$B$2:$AZ$70,12,0)/100) | Q66: =IF($C66="","",$E66*VLOOKUP($C66,aliments!$B$2:$AZ$70,13,0)/100) | R66: =IF($C66="","",$E66*VLOOKUP($C66,aliments!$B$2:$AZ$70,14,0)/100) | S66: =IF($C66="","",$E66*VLOOKUP($C66,aliments!$B$2:$AZ$70,15,0)/100) | T66: =IF($C66="","",$E66*VLOOKUP($C66,aliments!$B$2:$AZ$70,16,0)/100) | U66: =IF($C66="","",$E66*VLOOKUP($C66,aliments!$B$2:$AZ$70,17,0)/100) | V66: =IF($C66="","",$E66*VLOOKUP($C66,aliments!$B$2:$AZ$70,18,0)/100) | W66: =IF($C66="","",$E66*VLOOKUP($C66,aliments!$B$2:$AZ$70,19,0)/100) | X66: =IF($C66="","",$E66*VLOOKUP($C66,aliments!$B$2:$AZ$70,20,0)/100) | Y66: =IF($C66="","",$E66*VLOOKUP($C66,aliments!$B$2:$AZ$70,21,0)/100) | Z66: =IF($C66="","",$E66*VLOOKUP($C66,aliments!$B$2:$AZ$70,22,0)/100) | AA66: =IF($C66="","",$E66*VLOOKUP($C66,aliments!$B$2:$AZ$70,23,0)/100) | AB66: =IF($C66="","",$E66*VLOOKUP($C66,aliments!$B$2:$AZ$70,24,0)/100) | AC66: =IF($C66="","",$E66*VLOOKUP($C66,aliments!$B$2:$AZ$70,25,0)/100) | AD66: =IF($C66="","",$E66*VLOOKUP($C66,aliments!$B$2:$AZ$70,26,0)/100) | AE66: =IF($C66="","",$E66*VLOOKUP($C66,aliments!$B$2:$AZ$70,27,0)/100) | AF66: =IF($C66="","",$E66*VLOOKUP($C66,aliments!$B$2:$AZ$70,28,0)/100) | AG66: =IF($C66="","",$E66*VLOOKUP($C66,aliments!$B$2:$AZ$70,29,0)/100) | AH66: =IF($C66="","",$E66*VLOOKUP($C66,aliments!$B$2:$AZ$70,30,0)/100) | AI66: =IF($C66="","",$E66*VLOOKUP($C66,aliments!$B$2:$AZ$70,31,0)/100) | AJ66: =IF($C66="","",$E66*VLOOKUP($C66,aliments!$B$2:$AZ$70,32,0)/100) | AK66: =IF($C66="","",$E66*VLOOKUP($C66,aliments!$B$2:$AZ$70,33,0)/100) | AL66: =IF($C66="","",$E66*VLOOKUP($C66,aliments!$B$2:$AZ$70,34,0)/100) | AM66: =IF($C66="","",$E66*VLOOKUP($C66,aliments!$B$2:$AZ$70,35,0)/100) | AN66: =IF($C66="","",$E66*VLOOKUP($C66,aliments!$B$2:$AZ$70,36,0)/100) | AO66: =IF($C66="","",$E66*VLOOKUP($C66,aliments!$B$2:$AZ$70,37,0)/100) | CA66: Sauces_salées_et_condiments
F67: =IF($C67="","",$E67*VLOOKUP($C67,aliments!$B$2:$AZ$70,2,0)/100) | G67: =IF($C67="","",$E67*VLOOKUP($C67,aliments!$B$2:$AZ$70,3,0)/100) | H67: =IF($C67="","",$E67*VLOOKUP($C67,aliments!$B$2:$AZ$70,4,0)/100) | I67: =IF($C67="","",$E67*VLOOKUP($C67,aliments!$B$2:$AZ$70,5,0)/100) | J67: =IF($C67="","",$E67*VLOOKUP($C67,aliments!$B$2:$AZ$70,6,0)/100) | K67: =IF($C67="","",$E67*VLOOKUP($C67,aliments!$B$2:$AZ$70,7,0)/100) | L67: =IF($C67="","",$E67*VLOOKUP($C67,aliments!$B$2:$AZ$70,8,0)/100) | M67: =IF($C67="","",$E67*VLOOKUP($C67,aliments!$B$2:$AZ$70,9,0)/100) | N67: =IF($C67="","",$E67*VLOOKUP($C67,aliments!$B$2:$AZ$70,10,0)/100) | O67: =IF($C67="","",$E67*VLOOKUP($C67,aliments!$B$2:$AZ$70,11,0)/100) | P67: =IF($C67="","",$E67*VLOOKUP($C67,aliments!$B$2:$AZ$70,12,0)/100) | Q67: =IF($C67="","",$E67*VLOOKUP($C67,aliments!$B$2:$AZ$70,13,0)/100) | R67: =IF($C67="","",$E67*VLOOKUP($C67,aliments!$B$2:$AZ$70,14,0)/100) | S67: =IF($C67="","",$E67*VLOOKUP($C67,aliments!$B$2:$AZ$70,15,0)/100) | T67: =IF($C67="","",$E67*VLOOKUP($C67,aliments!$B$2:$AZ$70,16,0)/100) | U67: =IF($C67="","",$E67*VLOOKUP($C67,aliments!$B$2:$AZ$70,17,0)/100) | V67: =IF($C67="","",$E67*VLOOKUP($C67,aliments!$B$2:$AZ$70,18,0)/100) | W67: =IF($C67="","",$E67*VLOOKUP($C67,aliments!$B$2:$AZ$70,19,0)/100) | X67: =IF($C67="","",$E67*VLOOKUP($C67,aliments!$B$2:$AZ$70,20,0)/100) | Y67: =IF($C67="","",$E67*VLOOKUP($C67,aliments!$B$2:$AZ$70,21,0)/100) | Z67: =IF($C67="","",$E67*VLOOKUP($C67,aliments!$B$2:$AZ$70,22,0)/100) | AA67: =IF($C67="","",$E67*VLOOKUP($C67,aliments!$B$2:$AZ$70,23,0)/100) | AB67: =IF($C67="","",$E67*VLOOKUP($C67,aliments!$B$2:$AZ$70,24,0)/100) | AC67: =IF($C67="","",$E67*VLOOKUP($C67,aliments!$B$2:$AZ$70,25,0)/100) | AD67: =IF($C67="","",$E67*VLOOKUP($C67,aliments!$B$2:$AZ$70,26,0)/100) | AE67: =IF($C67="","",$E67*VLOOKUP($C67,aliments!$B$2:$AZ$70,27,0)/100) | AF67: =IF($C67="","",$E67*VLOOKUP($C67,aliments!$B$2:$AZ$70,28,0)/100) | AG67: =IF($C67="","",$E67*VLOOKUP($C67,aliments!$B$2:$AZ$70,29,0)/100) | AH67: =IF($C67="","",$E67*VLOOKUP($C67,aliments!$B$2:$AZ$70,30,0)/100) | AI67: =IF($C67="","",$E67*VLOOKUP($C67,aliments!$B$2:$AZ$70,31,0)/100) | AJ67: =IF($C67="","",$E67*VLOOKUP($C67,aliments!$B$2:$AZ$70,32,0)/100) | AK67: =IF($C67="","",$E67*VLOOKUP($C67,aliments!$B$2:$AZ$70,33,0)/100) | AL67: =IF($C67="","",$E67*VLOOKUP($C67,aliments!$B$2:$AZ$70,34,0)/100) | AM67: =IF($C67="","",$E67*VLOOKUP($C67,aliments!$B$2:$AZ$70,35,0)/100) | AN67: =IF($C67="","",$E67*VLOOKUP($C67,aliments!$B$2:$AZ$70,36,0)/100) | AO67: =IF($C67="","",$E67*VLOOKUP($C67,aliments!$B$2:$AZ$70,37,0)/100) | CA67: Soupes_prêtes_à_consommer
F68: =IF($C68="","",$E68*VLOOKUP($C68,aliments!$B$2:$AZ$70,2,0)/100) | G68: =IF($C68="","",$E68*VLOOKUP($C68,aliments!$B$2:$AZ$70,3,0)/100) | H68: =IF($C68="","",$E68*VLOOKUP($C68,aliments!$B$2:$AZ$70,4,0)/100) | I68: =IF($C68="","",$E68*VLOOKUP($C68,aliments!$B$2:$AZ$70,5,0)/100) | J68: =IF($C68="","",$E68*VLOOKUP($C68,aliments!$B$2:$AZ$70,6,0)/100) | K68: =IF($C68="","",$E68*VLOOKUP($C68,aliments!$B$2:$AZ$70,7,0)/100) | L68: =IF($C68="","",$E68*VLOOKUP($C68,aliments!$B$2:$AZ$70,8,0)/100) | M68: =IF($C68="","",$E68*VLOOKUP($C68,aliments!$B$2:$AZ$70,9,0)/100) | N68: =IF($C68="","",$E68*VLOOKUP($C68,aliments!$B$2:$AZ$70,10,0)/100) | O68: =IF($C68="","",$E68*VLOOKUP($C68,aliments!$B$2:$AZ$70,11,0)/100) | P68: =IF($C68="","",$E68*VLOOKUP($C68,aliments!$B$2:$AZ$70,12,0)/100) | Q68: =IF($C68="","",$E68*VLOOKUP($C68,aliments!$B$2:$AZ$70,13,0)/100) | R68: =IF($C68="","",$E68*VLOOKUP($C68,aliments!$B$2:$AZ$70,14,0)/100) | S68: =IF($C68="","",$E68*VLOOKUP($C68,aliments!$B$2:$AZ$70,15,0)/100) | T68: =IF($C68="","",$E68*VLOOKUP($C68,aliments!$B$2:$AZ$70,16,0)/100) | U68: =IF($C68="","",$E68*VLOOKUP($C68,aliments!$B$2:$AZ$70,17,0)/100) | V68: =IF($C68="","",$E68*VLOOKUP($C68,aliments!$B$2:$AZ$70,18,0)/100) | W68: =IF($C68="","",$E68*VLOOKUP($C68,aliments!$B$2:$AZ$70,19,0)/100) | X68: =IF($C68="","",$E68*VLOOKUP($C68,aliments!$B$2:$AZ$70,20,0)/100) | Y68: =IF($C68="","",$E68*VLOOKUP($C68,aliments!$B$2:$AZ$70,21,0)/100) | Z68: =IF($C68="","",$E68*VLOOKUP($C68,aliments!$B$2:$AZ$70,22,0)/100) | AA68: =IF($C68="","",$E68*VLOOKUP($C68,aliments!$B$2:$AZ$70,23,0)/100) | AB68: =IF($C68="","",$E68*VLOOKUP($C68,aliments!$B$2:$AZ$70,24,0)/100) | AC68: =IF($C68="","",$E68*VLOOKUP($C68,aliments!$B$2:$AZ$70,25,0)/100) | AD68: =IF($C68="","",$E68*VLOOKUP($C68,aliments!$B$2:$AZ$70,26,0)/100) | AE68: =IF($C68="","",$E68*VLOOKUP($C68,aliments!$B$2:$AZ$70,27,0)/100) | AF68: =IF($C68="","",$E68*VLOOKUP($C68,aliments!$B$2:$AZ$70,28,0)/100) | AG68: =IF($C68="","",$E68*VLOOKUP($C68,aliments!$B$2:$AZ$70,29,0)/100) | AH68: =IF($C68="","",$E68*VLOOKUP($C68,aliments!$B$2:$AZ$70,30,0)/100) | AI68: =IF($C68="","",$E68*VLOOKUP($C68,aliments!$B$2:$AZ$70,31,0)/100) | AJ68: =IF($C68="","",$E68*VLOOKUP($C68,aliments!$B$2:$AZ$70,32,0)/100) | AK68: =IF($C68="","",$E68*VLOOKUP($C68,aliments!$B$2:$AZ$70,33,0)/100) | AL68: =IF($C68="","",$E68*VLOOKUP($C68,aliments!$B$2:$AZ$70,34,0)/100) | AM68: =IF($C68="","",$E68*VLOOKUP($C68,aliments!$B$2:$AZ$70,35,0)/100) | AN68: =IF($C68="","",$E68*VLOOKUP($C68,aliments!$B$2:$AZ$70,36,0)/100) | AO68: =IF($C68="","",$E68*VLOOKUP($C68,aliments!$B$2:$AZ$70,37,0)/100) | CA68: Sucres_miels_sirops
F69: =IF($C69="","",$E69*VLOOKUP($C69,aliments!$B$2:$AZ$70,2,0)/100) | G69: =IF($C69="","",$E69*VLOOKUP($C69,aliments!$B$2:$AZ$70,3,0)/100) | H69: =IF($C69="","",$E69*VLOOKUP($C69,aliments!$B$2:$AZ$70,4,0)/100) | I69: =IF($C69="","",$E69*VLOOKUP($C69,aliments!$B$2:$AZ$70,5,0)/100) | J69: =IF($C69="","",$E69*VLOOKUP($C69,aliments!$B$2:$AZ$70,6,0)/100) | K69: =IF($C69="","",$E69*VLOOKUP($C69,aliments!$B$2:$AZ$70,7,0)/100) | L69: =IF($C69="","",$E69*VLOOKUP($C69,aliments!$B$2:$AZ$70,8,0)/100) | M69: =IF($C69="","",$E69*VLOOKUP($C69,aliments!$B$2:$AZ$70,9,0)/100) | N69: =IF($C69="","",$E69*VLOOKUP($C69,aliments!$B$2:$AZ$70,10,0)/100) | O69: =IF($C69="","",$E69*VLOOKUP($C69,aliments!$B$2:$AZ$70,11,0)/100) | P69: =IF($C69="","",$E69*VLOOKUP($C69,aliments!$B$2:$AZ$70,12,0)/100) | Q69: =IF($C69="","",$E69*VLOOKUP($C69,aliments!$B$2:$AZ$70,13,0)/100) | R69: =IF($C69="","",$E69*VLOOKUP($C69,aliments!$B$2:$AZ$70,14,0)/100) | S69: =IF($C69="","",$E69*VLOOKUP($C69,aliments!$B$2:$AZ$70,15,0)/100) | T69: =IF($C69="","",$E69*VLOOKUP($C69,aliments!$B$2:$AZ$70,16,0)/100) | U69: =IF($C69="","",$E69*VLOOKUP($C69,aliments!$B$2:$AZ$70,17,0)/100) | V69: =IF($C69="","",$E69*VLOOKUP($C69,aliments!$B$2:$AZ$70,18,0)/100) | W69: =IF($C69="","",$E69*VLOOKUP($C69,aliments!$B$2:$AZ$70,19,0)/100) | X69: =IF($C69="","",$E69*VLOOKUP($C69,aliments!$B$2:$AZ$70,20,0)/100) | Y69: =IF($C69="","",$E69*VLOOKUP($C69,aliments!$B$2:$AZ$70,21,0)/100) | Z69: =IF($C69="","",$E69*VLOOKUP($C69,aliments!$B$2:$AZ$70,22,0)/100) | AA69: =IF($C69="","",$E69*VLOOKUP($C69,aliments!$B$2:$AZ$70,23,0)/100) | AB69: =IF($C69="","",$E69*VLOOKUP($C69,aliments!$B$2:$AZ$70,24,0)/100) | AC69: =IF($C69="","",$E69*VLOOKUP($C69,aliments!$B$2:$AZ$70,25,0)/100) | AD69: =IF($C69="","",$E69*VLOOKUP($C69,aliments!$B$2:$AZ$70,26,0)/100) | AE69: =IF($C69="","",$E69*VLOOKUP($C69,aliments!$B$2:$AZ$70,27,0)/100) | AF69: =IF($C69="","",$E69*VLOOKUP($C69,aliments!$B$2:$AZ$70,28,0)/100) | AG69: =IF($C69="","",$E69*VLOOKUP($C69,aliments!$B$2:$AZ$70,29,0)/100) | AH69: =IF($C69="","",$E69*VLOOKUP($C69,aliments!$B$2:$AZ$70,30,0)/100) | AI69: =IF($C69="","",$E69*VLOOKUP($C69,aliments!$B$2:$AZ$70,31,0)/100) | AJ69: =IF($C69="","",$E69*VLOOKUP($C69,aliments!$B$2:$AZ$70,32,0)/100) | AK69: =IF($C69="","",$E69*VLOOKUP($C69,aliments!$B$2:$AZ$70,33,0)/100) | AL69: =IF($C69="","",$E69*VLOOKUP($C69,aliments!$B$2:$AZ$70,34,0)/100) | AM69: =IF($C69="","",$E69*VLOOKUP($C69,aliments!$B$2:$AZ$70,35,0)/100) | AN69: =IF($C69="","",$E69*VLOOKUP($C69,aliments!$B$2:$AZ$70,36,0)/100) | AO69: =IF($C69="","",$E69*VLOOKUP($C69,aliments!$B$2:$AZ$70,37,0)/100) | CA69: Viandes
F70: =IF($C70="","",$E70*VLOOKUP($C70,aliments!$B$2:$AZ$70,2,0)/100) | G70: =IF($C70="","",$E70*VLOOKUP($C70,aliments!$B$2:$AZ$70,3,0)/100) | H70: =IF($C70="","",$E70*VLOOKUP($C70,aliments!$B$2:$AZ$70,4,0)/100) | I70: =IF($C70="","",$E70*VLOOKUP($C70,aliments!$B$2:$AZ$70,5,0)/100) | J70: =IF($C70="","",$E70*VLOOKUP($C70,aliments!$B$2:$AZ$70,6,0)/100) | K70: =IF($C70="","",$E70*VLOOKUP($C70,aliments!$B$2:$AZ$70,7,0)/100) | L70: =IF($C70="","",$E70*VLOOKUP($C70,aliments!$B$2:$AZ$70,8,0)/100) | M70: =IF($C70="","",$E70*VLOOKUP($C70,aliments!$B$2:$AZ$70,9,0)/100) | N70: =IF($C70="","",$E70*VLOOKUP($C70,aliments!$B$2:$AZ$70,10,0)/100) | O70: =IF($C70="","",$E70*VLOOKUP($C70,aliments!$B$2:$AZ$70,11,0)/100) | P70: =IF($C70="","",$E70*VLOOKUP($C70,aliments!$B$2:$AZ$70,12,0)/100) | Q70: =IF($C70="","",$E70*VLOOKUP($C70,aliments!$B$2:$AZ$70,13,0)/100) | R70: =IF($C70="","",$E70*VLOOKUP($C70,aliments!$B$2:$AZ$70,14,0)/100) | S70: =IF($C70="","",$E70*VLOOKUP($C70,aliments!$B$2:$AZ$70,15,0)/100) | T70: =IF($C70="","",$E70*VLOOKUP($C70,aliments!$B$2:$AZ$70,16,0)/100) | U70: =IF($C70="","",$E70*VLOOKUP($C70,aliments!$B$2:$AZ$70,17,0)/100) | V70: =IF($C70="","",$E70*VLOOKUP($C70,aliments!$B$2:$AZ$70,18,0)/100) | W70: =IF($C70="","",$E70*VLOOKUP($C70,aliments!$B$2:$AZ$70,19,0)/100) | X70: =IF($C70="","",$E70*VLOOKUP($C70,aliments!$B$2:$AZ$70,20,0)/100) | Y70: =IF($C70="","",$E70*VLOOKUP($C70,aliments!$B$2:$AZ$70,21,0)/100) | Z70: =IF($C70="","",$E70*VLOOKUP($C70,aliments!$B$2:$AZ$70,22,0)/100) | AA70: =IF($C70="","",$E70*VLOOKUP($C70,aliments!$B$2:$AZ$70,23,0)/100) | AB70: =IF($C70="","",$E70*VLOOKUP($C70,aliments!$B$2:$AZ$70,24,0)/100) | AC70: =IF($C70="","",$E70*VLOOKUP($C70,aliments!$B$2:$AZ$70,25,0)/100) | AD70: =IF($C70="","",$E70*VLOOKUP($C70,aliments!$B$2:$AZ$70,26,0)/100) | AE70: =IF($C70="","",$E70*VLOOKUP($C70,aliments!$B$2:$AZ$70,27,0)/100) | AF70: =IF($C70="","",$E70*VLOOKUP($C70,aliments!$B$2:$AZ$70,28,0)/100) | AG70: =IF($C70="","",$E70*VLOOKUP($C70,aliments!$B$2:$AZ$70,29,0)/100) | AH70: =IF($C70="","",$E70*VLOOKUP($C70,aliments!$B$2:$AZ$70,30,0)/100) | AI70: =IF($C70="","",$E70*VLOOKUP($C70,aliments!$B$2:$AZ$70,31,0)/100) | AJ70: =IF($C70="","",$E70*VLOOKUP($C70,aliments!$B$2:$AZ$70,32,0)/100) | AK70: =IF($C70="","",$E70*VLOOKUP($C70,aliments!$B$2:$AZ$70,33,0)/100) | AL70: =IF($C70="","",$E70*VLOOKUP($C70,aliments!$B$2:$AZ$70,34,0)/100) | AM70: =IF($C70="","",$E70*VLOOKUP($C70,aliments!$B$2:$AZ$70,35,0)/100) | AN70: =IF($C70="","",$E70*VLOOKUP($C70,aliments!$B$2:$AZ$70,36,0)/100) | AO70: =IF($C70="","",$E70*VLOOKUP($C70,aliments!$B$2:$AZ$70,37,0)/100) | CA70: Viennoiseries_et_brioches
F71: =IF($C71="","",$E71*VLOOKUP($C71,aliments!$B$2:$AZ$70,2,0)/100) | G71: =IF($C71="","",$E71*VLOOKUP($C71,aliments!$B$2:$AZ$70,3,0)/100) | H71: =IF($C71="","",$E71*VLOOKUP($C71,aliments!$B$2:$AZ$70,4,0)/100) | I71: =IF($C71="","",$E71*VLOOKUP($C71,aliments!$B$2:$AZ$70,5,0)/100) | J71: =IF($C71="","",$E71*VLOOKUP($C71,aliments!$B$2:$AZ$70,6,0)/100) | K71: =IF($C71="","",$E71*VLOOKUP($C71,aliments!$B$2:$AZ$70,7,0)/100) | L71: =IF($C71="","",$E71*VLOOKUP($C71,aliments!$B$2:$AZ$70,8,0)/100) | M71: =IF($C71="","",$E71*VLOOKUP($C71,aliments!$B$2:$AZ$70,9,0)/100) | N71: =IF($C71="","",$E71*VLOOKUP($C71,aliments!$B$2:$AZ$70,10,0)/100) | O71: =IF($C71="","",$E71*VLOOKUP($C71,aliments!$B$2:$AZ$70,11,0)/100) | P71: =IF($C71="","",$E71*VLOOKUP($C71,aliments!$B$2:$AZ$70,12,0)/100) | Q71: =IF($C71="","",$E71*VLOOKUP($C71,aliments!$B$2:$AZ$70,13,0)/100) | R71: =IF($C71="","",$E71*VLOOKUP($C71,aliments!$B$2:$AZ$70,14,0)/100) | S71: =IF($C71="","",$E71*VLOOKUP($C71,aliments!$B$2:$AZ$70,15,0)/100) | T71: =IF($C71="","",$E71*VLOOKUP($C71,aliments!$B$2:$AZ$70,16,0)/100) | U71: =IF($C71="","",$E71*VLOOKUP($C71,aliments!$B$2:$AZ$70,17,0)/100) | V71: =IF($C71="","",$E71*VLOOKUP($C71,aliments!$B$2:$AZ$70,18,0)/100) | W71: =IF($C71="","",$E71*VLOOKUP($C71,aliments!$B$2:$AZ$70,19,0)/100) | X71: =IF($C71="","",$E71*VLOOKUP($C71,aliments!$B$2:$AZ$70,20,0)/100) | Y71: =IF($C71="","",$E71*VLOOKUP($C71,aliments!$B$2:$AZ$70,21,0)/100) | Z71: =IF($C71="","",$E71*VLOOKUP($C71,aliments!$B$2:$AZ$70,22,0)/100) | AA71: =IF($C71="","",$E71*VLOOKUP($C71,aliments!$B$2:$AZ$70,23,0)/100) | AB71: =IF($C71="","",$E71*VLOOKUP($C71,aliments!$B$2:$AZ$70,24,0)/100) | AC71: =IF($C71="","",$E71*VLOOKUP($C71,aliments!$B$2:$AZ$70,25,0)/100) | AD71: =IF($C71="","",$E71*VLOOKUP($C71,aliments!$B$2:$AZ$70,26,0)/100) | AE71: =IF($C71="","",$E71*VLOOKUP($C71,aliments!$B$2:$AZ$70,27,0)/100) | AF71: =IF($C71="","",$E71*VLOOKUP($C71,aliments!$B$2:$AZ$70,28,0)/100) | AG71: =IF($C71="","",$E71*VLOOKUP($C71,aliments!$B$2:$AZ$70,29,0)/100) | AH71: =IF($C71="","",$E71*VLOOKUP($C71,aliments!$B$2:$AZ$70,30,0)/100) | AI71: =IF($C71="","",$E71*VLOOKUP($C71,aliments!$B$2:$AZ$70,31,0)/100) | AJ71: =IF($C71="","",$E71*VLOOKUP($C71,aliments!$B$2:$AZ$70,32,0)/100) | AK71: =IF($C71="","",$E71*VLOOKUP($C71,aliments!$B$2:$AZ$70,33,0)/100) | AL71: =IF($C71="","",$E71*VLOOKUP($C71,aliments!$B$2:$AZ$70,34,0)/100) | AM71: =IF($C71="","",$E71*VLOOKUP($C71,aliments!$B$2:$AZ$70,35,0)/100) | AN71: =IF($C71="","",$E71*VLOOKUP($C71,aliments!$B$2:$AZ$70,36,0)/100) | AO71: =IF($C71="","",$E71*VLOOKUP($C71,aliments!$B$2:$AZ$70,37,0)/100) | CA71: Vins
F72: =IF($C72="","",$E72*VLOOKUP($C72,aliments!$B$2:$AZ$70,2,0)/100) | G72: =IF($C72="","",$E72*VLOOKUP($C72,aliments!$B$2:$AZ$70,3,0)/100) | H72: =IF($C72="","",$E72*VLOOKUP($C72,aliments!$B$2:$AZ$70,4,0)/100) | I72: =IF($C72="","",$E72*VLOOKUP($C72,aliments!$B$2:$AZ$70,5,0)/100) | J72: =IF($C72="","",$E72*VLOOKUP($C72,aliments!$B$2:$AZ$70,6,0)/100) | K72: =IF($C72="","",$E72*VLOOKUP($C72,aliments!$B$2:$AZ$70,7,0)/100) | L72: =IF($C72="","",$E72*VLOOKUP($C72,aliments!$B$2:$AZ$70,8,0)/100) | M72: =IF($C72="","",$E72*VLOOKUP($C72,aliments!$B$2:$AZ$70,9,0)/100) | N72: =IF($C72="","",$E72*VLOOKUP($C72,aliments!$B$2:$AZ$70,10,0)/100) | O72: =IF($C72="","",$E72*VLOOKUP($C72,aliments!$B$2:$AZ$70,11,0)/100) | P72: =IF($C72="","",$E72*VLOOKUP($C72,aliments!$B$2:$AZ$70,12,0)/100) | Q72: =IF($C72="","",$E72*VLOOKUP($C72,aliments!$B$2:$AZ$70,13,0)/100) | R72: =IF($C72="","",$E72*VLOOKUP($C72,aliments!$B$2:$AZ$70,14,0)/100) | S72: =IF($C72="","",$E72*VLOOKUP($C72,aliments!$B$2:$AZ$70,15,0)/100) | T72: =IF($C72="","",$E72*VLOOKUP($C72,aliments!$B$2:$AZ$70,16,0)/100) | U72: =IF($C72="","",$E72*VLOOKUP($C72,aliments!$B$2:$AZ$70,17,0)/100) | V72: =IF($C72="","",$E72*VLOOKUP($C72,aliments!$B$2:$AZ$70,18,0)/100) | W72: =IF($C72="","",$E72*VLOOKUP($C72,aliments!$B$2:$AZ$70,19,0)/100) | X72: =IF($C72="","",$E72*VLOOKUP($C72,aliments!$B$2:$AZ$70,20,0)/100) | Y72: =IF($C72="","",$E72*VLOOKUP($C72,aliments!$B$2:$AZ$70,21,0)/100) | Z72: =IF($C72="","",$E72*VLOOKUP($C72,aliments!$B$2:$AZ$70,22,0)/100) | AA72: =IF($C72="","",$E72*VLOOKUP($C72,aliments!$B$2:$AZ$70,23,0)/100) | AB72: =IF($C72="","",$E72*VLOOKUP($C72,aliments!$B$2:$AZ$70,24,0)/100) | AC72: =IF($C72="","",$E72*VLOOKUP($C72,aliments!$B$2:$AZ$70,25,0)/100) | AD72: =IF($C72="","",$E72*VLOOKUP($C72,aliments!$B$2:$AZ$70,26,0)/100) | AE72: =IF($C72="","",$E72*VLOOKUP($C72,aliments!$B$2:$AZ$70,27,0)/100) | AF72: =IF($C72="","",$E72*VLOOKUP($C72,aliments!$B$2:$AZ$70,28,0)/100) | AG72: =IF($C72="","",$E72*VLOOKUP($C72,aliments!$B$2:$AZ$70,29,0)/100) | AH72: =IF($C72="","",$E72*VLOOKUP($C72,aliments!$B$2:$AZ$70,30,0)/100) | AI72: =IF($C72="","",$E72*VLOOKUP($C72,aliments!$B$2:$AZ$70,31,0)/100) | AJ72: =IF($C72="","",$E72*VLOOKUP($C72,aliments!$B$2:$AZ$70,32,0)/100) | AK72: =IF($C72="","",$E72*VLOOKUP($C72,aliments!$B$2:$AZ$70,33,0)/100) | AL72: =IF($C72="","",$E72*VLOOKUP($C72,aliments!$B$2:$AZ$70,34,0)/100) | AM72: =IF($C72="","",$E72*VLOOKUP($C72,aliments!$B$2:$AZ$70,35,0)/100) | AN72: =IF($C72="","",$E72*VLOOKUP($C72,aliments!$B$2:$AZ$70,36,0)/100) | AO72: =IF($C72="","",$E72*VLOOKUP($C72,aliments!$B$2:$AZ$70,37,0)/100) | CA72: Volailles
A73: Sous total | F73: =IF(SUM(F66:F72)=0,"",AVERAGE(F66:F72)) | G73: =SUM(G66:G72) -> 0 | H73: =SUM(H66:H72) -> 0 | I73: =SUM(I66:I72) -> 0 | J73: =SUM(J66:J72) -> 0 | K73: =SUM(K66:K72) -> 0 | L73: =SUM(L66:L72) -> 0 | M73: =SUM(M66:M72) -> 0 | N73: =SUM(N66:N72) -> 0 | ... AO73: =SUM(AO66:AO72) -> 0 | CA73: Yaourts_et_spécialités_laitières_type_yaourts
A75: Déjeuné | C75: Aliments | E75: Quantité( g) | F75: CG | G75: Pral | H75: Protides ( g) | I75: Glucides ( g) | J75: Lipides (g) | K75: Calories | L75: VitA (µg) | M75: Beta-Car. (µg) | N75: Vit D (µg) | O75: Vit E (mg) | P75: Vit K (µg) | Q75: VitC (mg) | R75: Vit B1 (mg) | S75: Vit B2 (mg) | T75: Vit B3 (mg) | U75: Vit B5 (mg) | V75: Vit B6 (mg) | W75: Vit B9 (µg) | X75: Vit B12 (µg) | Y75: Calcium (mg) | Z75: Cuivre (mg) | AA75: Fer (mg) | AB75: Iode (µg) | AC75: Magnésium (mg) | AD75: Manganèse (mg) | AE75: Phosphore (mg) | AF75: Potassium (mg) | AG75: Sélénium (µg) | AH75: Sodium (mg) | AI75: Zinc (mg) | AJ75: Fibres (g) | AK75: AG saturés (g) | AL75: AG monoinsaturés (g) | AM75: Polyols totaux (g) | AN75: AG polyinsaturés (g) | AO75: Cholestérol (mg)
F76: =IF($C76="","",$E76*VLOOKUP($C76,aliments!$B$2:$AZ$70,2,0)/100) | G76: =IF($C76="","",$E76*VLOOKUP($C76,aliments!$B$2:$AZ$70,3,0)/100) | H76: =IF($C76="","",$E76*VLOOKUP($C76,aliments!$B$2:$AZ$70,4,0)/100) | I76: =IF($C76="","",$E76*VLOOKUP($C76,aliments!$B$2:$AZ$70,5,0)/100) | J76: =IF($C76="","",$E76*VLOOKUP($C76,aliments!$B$2:$AZ$70,6,0)/100) | K76: =IF($C76="","",$E76*VLOOKUP($C76,aliments!$B$2:$AZ$70,7,0)/100) | L76: =IF($C76="","",$E76*VLOOKUP($C76,aliments!$B$2:$AZ$70,8,0)/100) | M76: =IF($C76="","",$E76*VLOOKUP($C76,aliments!$B$2:$AZ$70,9,0)/100) | N76: =IF($C76="","",$E76*VLOOKUP($C76,aliments!$B$2:$AZ$70,10,0)/100) | O76: =IF($C76="","",$E76*VLOOKUP($C76,aliments!$B$2:$AZ$70,11,0)/100) | P76: =IF($C76="","",$E76*VLOOKUP($C76,aliments!$B$2:$AZ$70,12,0)/100) | Q76: =IF($C76="","",$E76*VLOOKUP($C76,aliments!$B$2:$AZ$70,13,0)/100) | R76: =IF($C76="","",$E76*VLOOKUP($C76,aliments!$B$2:$AZ$70,14,0)/100) | S76: =IF($C76="","",$E76*VLOOKUP($C76,aliments!$B$2:$AZ$70,15,0)/100) | T76: =IF($C76="","",$E76*VLOOKUP($C76,aliments!$B$2:$AZ$70,16,0)/100) | U76: =IF($C76="","",$E76*VLOOKUP($C76,aliments!$B$2:$AZ$70,17,0)/100) | V76: =IF($C76="","",$E76*VLOOKUP($C76,aliments!$B$2:$AZ$70,18,0)/100) | W76: =IF($C76="","",$E76*VLOOKUP($C76,aliments!$B$2:$AZ$70,19,0)/100) | X76: =IF($C76="","",$E76*VLOOKUP($C76,aliments!$B$2:$AZ$70,20,0)/100) | Y76: =IF($C76="","",$E76*VLOOKUP($C76,aliments!$B$2:$AZ$70,21,0)/100) | Z76: =IF($C76="","",$E76*VLOOKUP($C76,aliments!$B$2:$AZ$70,22,0)/100) | AA76: =IF($C76="","",$E76*VLOOKUP($C76,aliments!$B$2:$AZ$70,23,0)/100) | AB76: =IF($C76="","",$E76*VLOOKUP($C76,aliments!$B$2:$AZ$70,24,0)/100) | AC76: =IF($C76="","",$E76*VLOOKUP($C76,aliments!$B$2:$AZ$70,25,0)/100) | AD76: =IF($C76="","",$E76*VLOOKUP($C76,aliments!$B$2:$AZ$70,26,0)/100) | AE76: =IF($C76="","",$E76*VLOOKUP($C76,aliments!$B$2:$AZ$70,27,0)/100) | AF76: =IF($C76="","",$E76*VLOOKUP($C76,aliments!$B$2:$AZ$70,28,0)/100) | AG76: =IF($C76="","",$E76*VLOOKUP($C76,aliments!$B$2:$AZ$70,29,0)/100) | AH76: =IF($C76="","",$E76*VLOOKUP($C76,aliments!$B$2:$AZ$70,30,0)/100) | AI76: =IF($C76="","",$E76*VLOOKUP($C76,aliments!$B$2:$AZ$70,31,0)/100) | AJ76: =IF($C76="","",$E76*VLOOKUP($C76,aliments!$B$2:$AZ$70,32,0)/100) | AK76: =IF($C76="","",$E76*VLOOKUP($C76,aliments!$B$2:$AZ$70,33,0)/100) | AL76: =IF($C76="","",$E76*VLOOKUP($C76,aliments!$B$2:$AZ$70,34,0)/100) | AM76: =IF($C76="","",$E76*VLOOKUP($C76,aliments!$B$2:$AZ$70,35,0)/100) | AN76: =IF($C76="","",$E76*VLOOKUP($C76,aliments!$B$2:$AZ$70,36,0)/100) | AO76: =IF($C76="","",$E76*VLOOKUP($C76,aliments!$B$2:$AZ$70,37,0)/100)
F77: =IF($C77="","",$E77*VLOOKUP($C77,aliments!$B$2:$AZ$70,2,0)/100) | G77: =IF($C77="","",$E77*VLOOKUP($C77,aliments!$B$2:$AZ$70,3,0)/100) | H77: =IF($C77="","",$E77*VLOOKUP($C77,aliments!$B$2:$AZ$70,4,0)/100) | I77: =IF($C77="","",$E77*VLOOKUP($C77,aliments!$B$2:$AZ$70,5,0)/100) | J77: =IF($C77="","",$E77*VLOOKUP($C77,aliments!$B$2:$AZ$70,6,0)/100) | K77: =IF($C77="","",$E77*VLOOKUP($C77,aliments!$B$2:$AZ$70,7,0)/100) | L77: =IF($C77="","",$E77*VLOOKUP($C77,aliments!$B$2:$AZ$70,8,0)/100) | M77: =IF($C77="","",$E77*VLOOKUP($C77,aliments!$B$2:$AZ$70,9,0)/100) | N77: =IF($C77="","",$E77*VLOOKUP($C77,aliments!$B$2:$AZ$70,10,0)/100) | O77: =IF($C77="","",$E77*VLOOKUP($C77,aliments!$B$2:$AZ$70,11,0)/100) | P77: =IF($C77="","",$E77*VLOOKUP($C77,aliments!$B$2:$AZ$70,12,0)/100) | Q77: =IF($C77="","",$E77*VLOOKUP($C77,aliments!$B$2:$AZ$70,13,0)/100) | R77: =IF($C77="","",$E77*VLOOKUP($C77,aliments!$B$2:$AZ$70,14,0)/100) | S77: =IF($C77="","",$E77*VLOOKUP($C77,aliments!$B$2:$AZ$70,15,0)/100) | T77: =IF($C77="","",$E77*VLOOKUP($C77,aliments!$B$2:$AZ$70,16,0)/100) | U77: =IF($C77="","",$E77*VLOOKUP($C77,aliments!$B$2:$AZ$70,17,0)/100) | V77: =IF($C77="","",$E77*VLOOKUP($C77,aliments!$B$2:$AZ$70,18,0)/100) | W77: =IF($C77="","",$E77*VLOOKUP($C77,aliments!$B$2:$AZ$70,19,0)/100) | X77: =IF($C77="","",$E77*VLOOKUP($C77,aliments!$B$2:$AZ$70,20,0)/100) | Y77: =IF($C77="","",$E77*VLOOKUP($C77,aliments!$B$2:$AZ$70,21,0)/100) | Z77: =IF($C77="","",$E77*VLOOKUP($C77,aliments!$B$2:$AZ$70,22,0)/100) | AA77: =IF($C77="","",$E77*VLOOKUP($C77,aliments!$B$2:$AZ$70,23,0)/100) | AB77: =IF($C77="","",$E77*VLOOKUP($C77,aliments!$B$2:$AZ$70,24,0)/100) | AC77: =IF($C77="","",$E77*VLOOKUP($C77,aliments!$B$2:$AZ$70,25,0)/100) | AD77: =IF($C77="","",$E77*VLOOKUP($C77,aliments!$B$2:$AZ$70,26,0)/100) | AE77: =IF($C77="","",$E77*VLOOKUP($C77,aliments!$B$2:$AZ$70,27,0)/100) | AF77: =IF($C77="","",$E77*VLOOKUP($C77,aliments!$B$2:$AZ$70,28,0)/100) | AG77: =IF($C77="","",$E77*VLOOKUP($C77,aliments!$B$2:$AZ$70,29,0)/100) | AH77: =IF($C77="","",$E77*VLOOKUP($C77,aliments!$B$2:$AZ$70,30,0)/100) | AI77: =IF($C77="","",$E77*VLOOKUP($C77,aliments!$B$2:$AZ$70,31,0)/100) | AJ77: =IF($C77="","",$E77*VLOOKUP($C77,aliments!$B$2:$AZ$70,32,0)/100) | AK77: =IF($C77="","",$E77*VLOOKUP($C77,aliments!$B$2:$AZ$70,33,0)/100) | AL77: =IF($C77="","",$E77*VLOOKUP($C77,aliments!$B$2:$AZ$70,34,0)/100) | AM77: =IF($C77="","",$E77*VLOOKUP($C77,aliments!$B$2:$AZ$70,35,0)/100) | AN77: =IF($C77="","",$E77*VLOOKUP($C77,aliments!$B$2:$AZ$70,36,0)/100) | AO77: =IF($C77="","",$E77*VLOOKUP($C77,aliments!$B$2:$AZ$70,37,0)/100)
F78: =IF($C78="","",$E78*VLOOKUP($C78,aliments!$B$2:$AZ$70,2,0)/100) | G78: =IF($C78="","",$E78*VLOOKUP($C78,aliments!$B$2:$AZ$70,3,0)/100) | H78: =IF($C78="","",$E78*VLOOKUP($C78,aliments!$B$2:$AZ$70,4,0)/100) | I78: =IF($C78="","",$E78*VLOOKUP($C78,aliments!$B$2:$AZ$70,5,0)/100) | J78: =IF($C78="","",$E78*VLOOKUP($C78,aliments!$B$2:$AZ$70,6,0)/100) | K78: =IF($C78="","",$E78*VLOOKUP($C78,aliments!$B$2:$AZ$70,7,0)/100) | L78: =IF($C78="","",$E78*VLOOKUP($C78,aliments!$B$2:$AZ$70,8,0)/100) | M78: =IF($C78="","",$E78*VLOOKUP($C78,aliments!$B$2:$AZ$70,9,0)/100) | N78: =IF($C78="","",$E78*VLOOKUP($C78,aliments!$B$2:$AZ$70,10,0)/100) | O78: =IF($C78="","",$E78*VLOOKUP($C78,aliments!$B$2:$AZ$70,11,0)/100) | P78: =IF($C78="","",$E78*VLOOKUP($C78,aliments!$B$2:$AZ$70,12,0)/100) | Q78: =IF($C78="","",$E78*VLOOKUP($C78,aliments!$B$2:$AZ$70,13,0)/100) | R78: =IF($C78="","",$E78*VLOOKUP($C78,aliments!$B$2:$AZ$70,14,0)/100) | S78: =IF($C78="","",$E78*VLOOKUP($C78,aliments!$B$2:$AZ$70,15,0)/100) | T78: =IF($C78="","",$E78*VLOOKUP($C78,aliments!$B$2:$AZ$70,16,0)/100) | U78: =IF($C78="","",$E78*VLOOKUP($C78,aliments!$B$2:$AZ$70,17,0)/100) | V78: =IF($C78="","",$E78*VLOOKUP($C78,aliments!$B$2:$AZ$70,18,0)/100) | W78: =IF($C78="","",$E78*VLOOKUP($C78,aliments!$B$2:$AZ$70,19,0)/100) | X78: =IF($C78="","",$E78*VLOOKUP($C78,aliments!$B$2:$AZ$70,20,0)/100) | Y78: =IF($C78="","",$E78*VLOOKUP($C78,aliments!$B$2:$AZ$70,21,0)/100) | Z78: =IF($C78="","",$E78*VLOOKUP($C78,aliments!$B$2:$AZ$70,22,0)/100) | AA78: =IF($C78="","",$E78*VLOOKUP($C78,aliments!$B$2:$AZ$70,23,0)/100) | AB78: =IF($C78="","",$E78*VLOOKUP($C78,aliments!$B$2:$AZ$70,24,0)/100) | AC78: =IF($C78="","",$E78*VLOOKUP($C78,aliments!$B$2:$AZ$70,25,0)/100) | AD78: =IF($C78="","",$E78*VLOOKUP($C78,aliments!$B$2:$AZ$70,26,0)/100) | AE78: =IF($C78="","",$E78*VLOOKUP($C78,aliments!$B$2:$AZ$70,27,0)/100) | AF78: =IF($C78="","",$E78*VLOOKUP($C78,aliments!$B$2:$AZ$70,28,0)/100) | AG78: =IF($C78="","",$E78*VLOOKUP($C78,aliments!$B$2:$AZ$70,29,0)/100) | AH78: =IF($C78="","",$E78*VLOOKUP($C78,aliments!$B$2:$AZ$70,30,0)/100) | AI78: =IF($C78="","",$E78*VLOOKUP($C78,aliments!$B$2:$AZ$70,31,0)/100) | AJ78: =IF($C78="","",$E78*VLOOKUP($C78,aliments!$B$2:$AZ$70,32,0)/100) | AK78: =IF($C78="","",$E78*VLOOKUP($C78,aliments!$B$2:$AZ$70,33,0)/100) | AL78: =IF($C78="","",$E78*VLOOKUP($C78,aliments!$B$2:$AZ$70,34,0)/100) | AM78: =IF($C78="","",$E78*VLOOKUP($C78,aliments!$B$2:$AZ$70,35,0)/100) | AN78: =IF($C78="","",$E78*VLOOKUP($C78,aliments!$B$2:$AZ$70,36,0)/100) | AO78: =IF($C78="","",$E78*VLOOKUP($C78,aliments!$B$2:$AZ$70,37,0)/100)
F79: =IF($C79="","",$E79*VLOOKUP($C79,aliments!$B$2:$AZ$70,2,0)/100) | G79: =IF($C79="","",$E79*VLOOKUP($C79,aliments!$B$2:$AZ$70,3,0)/100) | H79: =IF($C79="","",$E79*VLOOKUP($C79,aliments!$B$2:$AZ$70,4,0)/100) | I79: =IF($C79="","",$E79*VLOOKUP($C79,aliments!$B$2:$AZ$70,5,0)/100) | J79: =IF($C79="","",$E79*VLOOKUP($C79,aliments!$B$2:$AZ$70,6,0)/100) | K79: =IF($C79="","",$E79*VLOOKUP($C79,aliments!$B$2:$AZ$70,7,0)/100) | L79: =IF($C79="","",$E79*VLOOKUP($C79,aliments!$B$2:$AZ$70,8,0)/100) | M79: =IF($C79="","",$E79*VLOOKUP($C79,aliments!$B$2:$AZ$70,9,0)/100) | N79: =IF($C79="","",$E79*VLOOKUP($C79,aliments!$B$2:$AZ$70,10,0)/100) | O79: =IF($C79="","",$E79*VLOOKUP($C79,aliments!$B$2:$AZ$70,11,0)/100) | P79: =IF($C79="","",$E79*VLOOKUP($C79,aliments!$B$2:$AZ$70,12,0)/100) | Q79: =IF($C79="","",$E79*VLOOKUP($C79,aliments!$B$2:$AZ$70,13,0)/100) | R79: =IF($C79="","",$E79*VLOOKUP($C79,aliments!$B$2:$AZ$70,14,0)/100) | S79: =IF($C79="","",$E79*VLOOKUP($C79,aliments!$B$2:$AZ$70,15,0)/100) | T79: =IF($C79="","",$E79*VLOOKUP($C79,aliments!$B$2:$AZ$70,16,0)/100) | U79: =IF($C79="","",$E79*VLOOKUP($C79,aliments!$B$2:$AZ$70,17,0)/100) | V79: =IF($C79="","",$E79*VLOOKUP($C79,aliments!$B$2:$AZ$70,18,0)/100) | W79: =IF($C79="","",$E79*VLOOKUP($C79,aliments!$B$2:$AZ$70,19,0)/100) | X79: =IF($C79="","",$E79*VLOOKUP($C79,aliments!$B$2:$AZ$70,20,0)/100) | Y79: =IF($C79="","",$E79*VLOOKUP($C79,aliments!$B$2:$AZ$70,21,0)/100) | Z79: =IF($C79="","",$E79*VLOOKUP($C79,aliments!$B$2:$AZ$70,22,0)/100) | AA79: =IF($C79="","",$E79*VLOOKUP($C79,aliments!$B$2:$AZ$70,23,0)/100) | AB79: =IF($C79="","",$E79*VLOOKUP($C79,aliments!$B$2:$AZ$70,24,0)/100) | AC79: =IF($C79="","",$E79*VLOOKUP($C79,aliments!$B$2:$AZ$70,25,0)/100) | AD79: =IF($C79="","",$E79*VLOOKUP($C79,aliments!$B$2:$AZ$70,26,0)/100) | AE79: =IF($C79="","",$E79*VLOOKUP($C79,aliments!$B$2:$AZ$70,27,0)/100) | AF79: =IF($C79="","",$E79*VLOOKUP($C79,aliments!$B$2:$AZ$70,28,0)/100) | AG79: =IF($C79="","",$E79*VLOOKUP($C79,aliments!$B$2:$AZ$70,29,0)/100) | AH79: =IF($C79="","",$E79*VLOOKUP($C79,aliments!$B$2:$AZ$70,30,0)/100) | AI79: =IF($C79="","",$E79*VLOOKUP($C79,aliments!$B$2:$AZ$70,31,0)/100) | AJ79: =IF($C79="","",$E79*VLOOKUP($C79,aliments!$B$2:$AZ$70,32,0)/100) | AK79: =IF($C79="","",$E79*VLOOKUP($C79,aliments!$B$2:$AZ$70,33,0)/100) | AL79: =IF($C79="","",$E79*VLOOKUP($C79,aliments!$B$2:$AZ$70,34,0)/100) | AM79: =IF($C79="","",$E79*VLOOKUP($C79,aliments!$B$2:$AZ$70,35,0)/100) | AN79: =IF($C79="","",$E79*VLOOKUP($C79,aliments!$B$2:$AZ$70,36,0)/100) | AO79: =IF($C79="","",$E79*VLOOKUP($C79,aliments!$B$2:$AZ$70,37,0)/100)
F80: =IF($C80="","",$E80*VLOOKUP($C80,aliments!$B$2:$AZ$70,2,0)/100) | G80: =IF($C80="","",$E80*VLOOKUP($C80,aliments!$B$2:$AZ$70,3,0)/100) | H80: =IF($C80="","",$E80*VLOOKUP($C80,aliments!$B$2:$AZ$70,4,0)/100) | I80: =IF($C80="","",$E80*VLOOKUP($C80,aliments!$B$2:$AZ$70,5,0)/100) | J80: =IF($C80="","",$E80*VLOOKUP($C80,aliments!$B$2:$AZ$70,6,0)/100) | K80: =IF($C80="","",$E80*VLOOKUP($C80,aliments!$B$2:$AZ$70,7,0)/100) | L80: =IF($C80="","",$E80*VLOOKUP($C80,aliments!$B$2:$AZ$70,8,0)/100) | M80: =IF($C80="","",$E80*VLOOKUP($C80,aliments!$B$2:$AZ$70,9,0)/100) | N80: =IF($C80="","",$E80*VLOOKUP($C80,aliments!$B$2:$AZ$70,10,0)/100) | O80: =IF($C80="","",$E80*VLOOKUP($C80,aliments!$B$2:$AZ$70,11,0)/100) | P80: =IF($C80="","",$E80*VLOOKUP($C80,aliments!$B$2:$AZ$70,12,0)/100) | Q80: =IF($C80="","",$E80*VLOOKUP($C80,aliments!$B$2:$AZ$70,13,0)/100) | R80: =IF($C80="","",$E80*VLOOKUP($C80,aliments!$B$2:$AZ$70,14,0)/100) | S80: =IF($C80="","",$E80*VLOOKUP($C80,aliments!$B$2:$AZ$70,15,0)/100) | T80: =IF($C80="","",$E80*VLOOKUP($C80,aliments!$B$2:$AZ$70,16,0)/100) | U80: =IF($C80="","",$E80*VLOOKUP($C80,aliments!$B$2:$AZ$70,17,0)/100) | V80: =IF($C80="","",$E80*VLOOKUP($C80,aliments!$B$2:$AZ$70,18,0)/100) | W80: =IF($C80="","",$E80*VLOOKUP($C80,aliments!$B$2:$AZ$70,19,0)/100) | X80: =IF($C80="","",$E80*VLOOKUP($C80,aliments!$B$2:$AZ$70,20,0)/100) | Y80: =IF($C80="","",$E80*VLOOKUP($C80,aliments!$B$2:$AZ$70,21,0)/100) | Z80: =IF($C80="","",$E80*VLOOKUP($C80,aliments!$B$2:$AZ$70,22,0)/100) | AA80: =IF($C80="","",$E80*VLOOKUP($C80,aliments!$B$2:$AZ$70,23,0)/100) | AB80: =IF($C80="","",$E80*VLOOKUP($C80,aliments!$B$2:$AZ$70,24,0)/100) | AC80: =IF($C80="","",$E80*VLOOKUP($C80,aliments!$B$2:$AZ$70,25,0)/100) | AD80: =IF($C80="","",$E80*VLOOKUP($C80,aliments!$B$2:$AZ$70,26,0)/100) | AE80: =IF($C80="","",$E80*VLOOKUP($C80,aliments!$B$2:$AZ$70,27,0)/100) | AF80: =IF($C80="","",$E80*VLOOKUP($C80,aliments!$B$2:$AZ$70,28,0)/100) | AG80: =IF($C80="","",$E80*VLOOKUP($C80,aliments!$B$2:$AZ$70,29,0)/100) | AH80: =IF($C80="","",$E80*VLOOKUP($C80,aliments!$B$2:$AZ$70,30,0)/100) | AI80: =IF($C80="","",$E80*VLOOKUP($C80,aliments!$B$2:$AZ$70,31,0)/100) | AJ80: =IF($C80="","",$E80*VLOOKUP($C80,aliments!$B$2:$AZ$70,32,0)/100) | AK80: =IF($C80="","",$E80*VLOOKUP($C80,aliments!$B$2:$AZ$70,33,0)/100) | AL80: =IF($C80="","",$E80*VLOOKUP($C80,aliments!$B$2:$AZ$70,34,0)/100) | AM80: =IF($C80="","",$E80*VLOOKUP($C80,aliments!$B$2:$AZ$70,35,0)/100) | AN80: =IF($C80="","",$E80*VLOOKUP($C80,aliments!$B$2:$AZ$70,36,0)/100) | AO80: =IF($C80="","",$E80*VLOOKUP($C80,aliments!$B$2:$AZ$70,37,0)/100)
F81: =IF($C81="","",$E81*VLOOKUP($C81,aliments!$B$2:$AZ$70,2,0)/100) | G81: =IF($C81="","",$E81*VLOOKUP($C81,aliments!$B$2:$AZ$70,3,0)/100) | H81: =IF($C81="","",$E81*VLOOKUP($C81,aliments!$B$2:$AZ$70,4,0)/100) | I81: =IF($C81="","",$E81*VLOOKUP($C81,aliments!$B$2:$AZ$70,5,0)/100) | J81: =IF($C81="","",$E81*VLOOKUP($C81,aliments!$B$2:$AZ$70,6,0)/100) | K81: =IF($C81="","",$E81*VLOOKUP($C81,aliments!$B$2:$AZ$70,7,0)/100) | L81: =IF($C81="","",$E81*VLOOKUP($C81,aliments!$B$2:$AZ$70,8,0)/100) | M81: =IF($C81="","",$E81*VLOOKUP($C81,aliments!$B$2:$AZ$70,9,0)/100) | N81: =IF($C81="","",$E81*VLOOKUP($C81,aliments!$B$2:$AZ$70,10,0)/100) | O81: =IF($C81="","",$E81*VLOOKUP($C81,aliments!$B$2:$AZ$70,11,0)/100) | P81: =IF($C81="","",$E81*VLOOKUP($C81,aliments!$B$2:$AZ$70,12,0)/100) | Q81: =IF($C81="","",$E81*VLOOKUP($C81,aliments!$B$2:$AZ$70,13,0)/100) | R81: =IF($C81="","",$E81*VLOOKUP($C81,aliments!$B$2:$AZ$70,14,0)/100) | S81: =IF($C81="","",$E81*VLOOKUP($C81,aliments!$B$2:$AZ$70,15,0)/100) | T81: =IF($C81="","",$E81*VLOOKUP($C81,aliments!$B$2:$AZ$70,16,0)/100) | U81: =IF($C81="","",$E81*VLOOKUP($C81,aliments!$B$2:$AZ$70,17,0)/100) | V81: =IF($C81="","",$E81*VLOOKUP($C81,aliments!$B$2:$AZ$70,18,0)/100) | W81: =IF($C81="","",$E81*VLOOKUP($C81,aliments!$B$2:$AZ$70,19,0)/100) | X81: =IF($C81="","",$E81*VLOOKUP($C81,aliments!$B$2:$AZ$70,20,0)/100) | Y81: =IF($C81="","",$E81*VLOOKUP($C81,aliments!$B$2:$AZ$70,21,0)/100) | Z81: =IF($C81="","",$E81*VLOOKUP($C81,aliments!$B$2:$AZ$70,22,0)/100) | AA81: =IF($C81="","",$E81*VLOOKUP($C81,aliments!$B$2:$AZ$70,23,0)/100) | AB81: =IF($C81="","",$E81*VLOOKUP($C81,aliments!$B$2:$AZ$70,24,0)/100) | AC81: =IF($C81="","",$E81*VLOOKUP($C81,aliments!$B$2:$AZ$70,25,0)/100) | AD81: =IF($C81="","",$E81*VLOOKUP($C81,aliments!$B$2:$AZ$70,26,0)/100) | AE81: =IF($C81="","",$E81*VLOOKUP($C81,aliments!$B$2:$AZ$70,27,0)/100) | AF81: =IF($C81="","",$E81*VLOOKUP($C81,aliments!$B$2:$AZ$70,28,0)/100) | AG81: =IF($C81="","",$E81*VLOOKUP($C81,aliments!$B$2:$AZ$70,29,0)/100) | AH81: =IF($C81="","",$E81*VLOOKUP($C81,aliments!$B$2:$AZ$70,30,0)/100) | AI81: =IF($C81="","",$E81*VLOOKUP($C81,aliments!$B$2:$AZ$70,31,0)/100) | AJ81: =IF($C81="","",$E81*VLOOKUP($C81,aliments!$B$2:$AZ$70,32,0)/100) | AK81: =IF($C81="","",$E81*VLOOKUP($C81,aliments!$B$2:$AZ$70,33,0)/100) | AL81: =IF($C81="","",$E81*VLOOKUP($C81,aliments!$B$2:$AZ$70,34,0)/100) | AM81: =IF($C81="","",$E81*VLOOKUP($C81,aliments!$B$2:$AZ$70,35,0)/100) | AN81: =IF($C81="","",$E81*VLOOKUP($C81,aliments!$B$2:$AZ$70,36,0)/100) | AO81: =IF($C81="","",$E81*VLOOKUP($C81,aliments!$B$2:$AZ$70,37,0)/100)
F82: =IF($C82="","",$E82*VLOOKUP($C82,aliments!$B$2:$AZ$70,2,0)/100) | G82: =IF($C82="","",$E82*VLOOKUP($C82,aliments!$B$2:$AZ$70,3,0)/100) | H82: =IF($C82="","",$E82*VLOOKUP($C82,aliments!$B$2:$AZ$70,4,0)/100) | I82: =IF($C82="","",$E82*VLOOKUP($C82,aliments!$B$2:$AZ$70,5,0)/100) | J82: =IF($C82="","",$E82*VLOOKUP($C82,aliments!$B$2:$AZ$70,6,0)/100) | K82: =IF($C82="","",$E82*VLOOKUP($C82,aliments!$B$2:$AZ$70,7,0)/100) | L82: =IF($C82="","",$E82*VLOOKUP($C82,aliments!$B$2:$AZ$70,8,0)/100) | M82: =IF($C82="","",$E82*VLOOKUP($C82,aliments!$B$2:$AZ$70,9,0)/100) | N82: =IF($C82="","",$E82*VLOOKUP($C82,aliments!$B$2:$AZ$70,10,0)/100) | O82: =IF($C82="","",$E82*VLOOKUP($C82,aliments!$B$2:$AZ$70,11,0)/100) | P82: =IF($C82="","",$E82*VLOOKUP($C82,aliments!$B$2:$AZ$70,12,0)/100) | Q82: =IF($C82="","",$E82*VLOOKUP($C82,aliments!$B$2:$AZ$70,13,0)/100) | R82: =IF($C82="","",$E82*VLOOKUP($C82,aliments!$B$2:$AZ$70,14,0)/100) | S82: =IF($C82="","",$E82*VLOOKUP($C82,aliments!$B$2:$AZ$70,15,0)/100) | T82: =IF($C82="","",$E82*VLOOKUP($C82,aliments!$B$2:$AZ$70,16,0)/100) | U82: =IF($C82="","",$E82*VLOOKUP($C82,aliments!$B$2:$AZ$70,17,0)/100) | V82: =IF($C82="","",$E82*VLOOKUP($C82,aliments!$B$2:$AZ$70,18,0)/100) | W82: =IF($C82="","",$E82*VLOOKUP($C82,aliments!$B$2:$AZ$70,19,0)/100) | X82: =IF($C82="","",$E82*VLOOKUP($C82,aliments!$B$2:$AZ$70,20,0)/100) | Y82: =IF($C82="","",$E82*VLOOKUP($C82,aliments!$B$2:$AZ$70,21,0)/100) | Z82: =IF($C82="","",$E82*VLOOKUP($C82,aliments!$B$2:$AZ$70,22,0)/100) | AA82: =IF($C82="","",$E82*VLOOKUP($C82,aliments!$B$2:$AZ$70,23,0)/100) | AB82: =IF($C82="","",$E82*VLOOKUP($C82,aliments!$B$2:$AZ$70,24,0)/100) | AC82: =IF($C82="","",$E82*VLOOKUP($C82,aliments!$B$2:$AZ$70,25,0)/100) | AD82: =IF($C82="","",$E82*VLOOKUP($C82,aliments!$B$2:$AZ$70,26,0)/100) | AE82: =IF($C82="","",$E82*VLOOKUP($C82,aliments!$B$2:$AZ$70,27,0)/100) | AF82: =IF($C82="","",$E82*VLOOKUP($C82,aliments!$B$2:$AZ$70,28,0)/100) | AG82: =IF($C82="","",$E82*VLOOKUP($C82,aliments!$B$2:$AZ$70,29,0)/100) | AH82: =IF($C82="","",$E82*VLOOKUP($C82,aliments!$B$2:$AZ$70,30,0)/100) | AI82: =IF($C82="","",$E82*VLOOKUP($C82,aliments!$B$2:$AZ$70,31,0)/100) | AJ82: =IF($C82="","",$E82*VLOOKUP($C82,aliments!$B$2:$AZ$70,32,0)/100) | AK82: =IF($C82="","",$E82*VLOOKUP($C82,aliments!$B$2:$AZ$70,33,0)/100) | AL82: =IF($C82="","",$E82*VLOOKUP($C82,aliments!$B$2:$AZ$70,34,0)/100) | AM82: =IF($C82="","",$E82*VLOOKUP($C82,aliments!$B$2:$AZ$70,35,0)/100) | AN82: =IF($C82="","",$E82*VLOOKUP($C82,aliments!$B$2:$AZ$70,36,0)/100) | AO82: =IF($C82="","",$E82*VLOOKUP($C82,aliments!$B$2:$AZ$70,37,0)/100)
A83: Sous total | F83: =IF(SUM(F76:F82)=0,"",AVERAGE(F76:F82)) | G83: =SUM(G76:G82) -> 0 | H83: =SUM(H76:H82) -> 0 | I83: =SUM(I76:I82) -> 0 | J83: =SUM(J76:J82) -> 0 | K83: =SUM(K76:K82) -> 0 | L83: =SUM(L76:L82) -> 0 | M83: =SUM(M76:M82) -> 0 | N83: =SUM(N76:N82) -> 0 | ... AO83: =SUM(AO76:AO82) -> 0
A85: Collation Après-midi | C85: Aliments | E85: Quantité( g) | F85: CG | G85: Pral | H85: Protides ( g) | I85: Glucides ( g) | J85: Lipides (g) | K85: Calories | L85: VitA (µg) | M85: Beta-Car. (µg) | N85: Vit D (µg) | O85: Vit E (mg) | P85: Vit K (µg) | Q85: VitC (mg) | R85: Vit B1 (mg) | S85: Vit B2 (mg) | T85: Vit B3 (mg) | U85: Vit B5 (mg) | V85: Vit B6 (mg) | W85: Vit B9 (µg) | X85: Vit B12 (µg) | Y85: Calcium (mg) | Z85: Cuivre (mg) | AA85: Fer (mg) | AB85: Iode (µg) | AC85: Magnésium (mg) | AD85: Manganèse (mg) | AE85: Phosphore (mg) | AF85: Potassium (mg) | AG85: Sélénium (µg) | AH85: Sodium (mg) | AI85: Zinc (mg) | AJ85: Fibres (g) | AK85: AG saturés (g) | AL85: AG monoinsaturés (g) | AM85: Polyols totaux (g) | AN85: AG polyinsaturés (g) | AO85: Cholestérol (mg)
F86: =IF($C86="","",$E86*VLOOKUP($C86,aliments!$B$2:$AZ$70,2,0)/100) | G86: =IF($C86="","",$E86*VLOOKUP($C86,aliments!$B$2:$AZ$70,3,0)/100) | H86: =IF($C86="","",$E86*VLOOKUP($C86,aliments!$B$2:$AZ$70,4,0)/100) | I86: =IF($C86="","",$E86*VLOOKUP($C86,aliments!$B$2:$AZ$70,5,0)/100) | J86: =IF($C86="","",$E86*VLOOKUP($C86,aliments!$B$2:$AZ$70,6,0)/100) | K86: =IF($C86="","",$E86*VLOOKUP($C86,aliments!$B$2:$AZ$70,7,0)/100) | L86: =IF($C86="","",$E86*VLOOKUP($C86,aliments!$B$2:$AZ$70,8,0)/100) | M86: =IF($C86="","",$E86*VLOOKUP($C86,aliments!$B$2:$AZ$70,9,0)/100) | N86: =IF($C86="","",$E86*VLOOKUP($C86,aliments!$B$2:$AZ$70,10,0)/100) | O86: =IF($C86="","",$E86*VLOOKUP($C86,aliments!$B$2:$AZ$70,11,0)/100) | P86: =IF($C86="","",$E86*VLOOKUP($C86,aliments!$B$2:$AZ$70,12,0)/100) | Q86: =IF($C86="","",$E86*VLOOKUP($C86,aliments!$B$2:$AZ$70,13,0)/100) | R86: =IF($C86="","",$E86*VLOOKUP($C86,aliments!$B$2:$AZ$70,14,0)/100) | S86: =IF($C86="","",$E86*VLOOKUP($C86,aliments!$B$2:$AZ$70,15,0)/100) | T86: =IF($C86="","",$E86*VLOOKUP($C86,aliments!$B$2:$AZ$70,16,0)/100) | U86: =IF($C86="","",$E86*VLOOKUP($C86,aliments!$B$2:$AZ$70,17,0)/100) | V86: =IF($C86="","",$E86*VLOOKUP($C86,aliments!$B$2:$AZ$70,18,0)/100) | W86: =IF($C86="","",$E86*VLOOKUP($C86,aliments!$B$2:$AZ$70,19,0)/100) | X86: =IF($C86="","",$E86*VLOOKUP($C86,aliments!$B$2:$AZ$70,20,0)/100) | Y86: =IF($C86="","",$E86*VLOOKUP($C86,aliments!$B$2:$AZ$70,21,0)/100) | Z86: =IF($C86="","",$E86*VLOOKUP($C86,aliments!$B$2:$AZ$70,22,0)/100) | AA86: =IF($C86="","",$E86*VLOOKUP($C86,aliments!$B$2:$AZ$70,23,0)/100) | AB86: =IF($C86="","",$E86*VLOOKUP($C86,aliments!$B$2:$AZ$70,24,0)/100) | AC86: =IF($C86="","",$E86*VLOOKUP($C86,aliments!$B$2:$AZ$70,25,0)/100) | AD86: =IF($C86="","",$E86*VLOOKUP($C86,aliments!$B$2:$AZ$70,26,0)/100) | AE86: =IF($C86="","",$E86*VLOOKUP($C86,aliments!$B$2:$AZ$70,27,0)/100) | AF86: =IF($C86="","",$E86*VLOOKUP($C86,aliments!$B$2:$AZ$70,28,0)/100) | AG86: =IF($C86="","",$E86*VLOOKUP($C86,aliments!$B$2:$AZ$70,29,0)/100) | AH86: =IF($C86="","",$E86*VLOOKUP($C86,aliments!$B$2:$AZ$70,30,0)/100) | AI86: =IF($C86="","",$E86*VLOOKUP($C86,aliments!$B$2:$AZ$70,31,0)/100) | AJ86: =IF($C86="","",$E86*VLOOKUP($C86,aliments!$B$2:$AZ$70,32,0)/100) | AK86: =IF($C86="","",$E86*VLOOKUP($C86,aliments!$B$2:$AZ$70,33,0)/100) | AL86: =IF($C86="","",$E86*VLOOKUP($C86,aliments!$B$2:$AZ$70,34,0)/100) | AM86: =IF($C86="","",$E86*VLOOKUP($C86,aliments!$B$2:$AZ$70,35,0)/100) | AN86: =IF($C86="","",$E86*VLOOKUP($C86,aliments!$B$2:$AZ$70,36,0)/100) | AO86: =IF($C86="","",$E86*VLOOKUP($C86,aliments!$B$2:$AZ$70,37,0)/100)
F87: =IF($C87="","",$E87*VLOOKUP($C87,aliments!$B$2:$AZ$70,2,0)/100) | G87: =IF($C87="","",$E87*VLOOKUP($C87,aliments!$B$2:$AZ$70,3,0)/100) | H87: =IF($C87="","",$E87*VLOOKUP($C87,aliments!$B$2:$AZ$70,4,0)/100) | I87: =IF($C87="","",$E87*VLOOKUP($C87,aliments!$B$2:$AZ$70,5,0)/100) | J87: =IF($C87="","",$E87*VLOOKUP($C87,aliments!$B$2:$AZ$70,6,0)/100) | K87: =IF($C87="","",$E87*VLOOKUP($C87,aliments!$B$2:$AZ$70,7,0)/100) | L87: =IF($C87="","",$E87*VLOOKUP($C87,aliments!$B$2:$AZ$70,8,0)/100) | M87: =IF($C87="","",$E87*VLOOKUP($C87,aliments!$B$2:$AZ$70,9,0)/100) | N87: =IF($C87="","",$E87*VLOOKUP($C87,aliments!$B$2:$AZ$70,10,0)/100) | O87: =IF($C87="","",$E87*VLOOKUP($C87,aliments!$B$2:$AZ$70,11,0)/100) | P87: =IF($C87="","",$E87*VLOOKUP($C87,aliments!$B$2:$AZ$70,12,0)/100) | Q87: =IF($C87="","",$E87*VLOOKUP($C87,aliments!$B$2:$AZ$70,13,0)/100) | R87: =IF($C87="","",$E87*VLOOKUP($C87,aliments!$B$2:$AZ$70,14,0)/100) | S87: =IF($C87="","",$E87*VLOOKUP($C87,aliments!$B$2:$AZ$70,15,0)/100) | T87: =IF($C87="","",$E87*VLOOKUP($C87,aliments!$B$2:$AZ$70,16,0)/100) | U87: =IF($C87="","",$E87*VLOOKUP($C87,aliments!$B$2:$AZ$70,17,0)/100) | V87: =IF($C87="","",$E87*VLOOKUP($C87,aliments!$B$2:$AZ$70,18,0)/100) | W87: =IF($C87="","",$E87*VLOOKUP($C87,aliments!$B$2:$AZ$70,19,0)/100) | X87: =IF($C87="","",$E87*VLOOKUP($C87,aliments!$B$2:$AZ$70,20,0)/100) | Y87: =IF($C87="","",$E87*VLOOKUP($C87,aliments!$B$2:$AZ$70,21,0)/100) | Z87: =IF($C87="","",$E87*VLOOKUP($C87,aliments!$B$2:$AZ$70,22,0)/100) | AA87: =IF($C87="","",$E87*VLOOKUP($C87,aliments!$B$2:$AZ$70,23,0)/100) | AB87: =IF($C87="","",$E87*VLOOKUP($C87,aliments!$B$2:$AZ$70,24,0)/100) | AC87: =IF($C87="","",$E87*VLOOKUP($C87,aliments!$B$2:$AZ$70,25,0)/100) | AD87: =IF($C87="","",$E87*VLOOKUP($C87,aliments!$B$2:$AZ$70,26,0)/100) | AE87: =IF($C87="","",$E87*VLOOKUP($C87,aliments!$B$2:$AZ$70,27,0)/100) | AF87: =IF($C87="","",$E87*VLOOKUP($C87,aliments!$B$2:$AZ$70,28,0)/100) | AG87: =IF($C87="","",$E87*VLOOKUP($C87,aliments!$B$2:$AZ$70,29,0)/100) | AH87: =IF($C87="","",$E87*VLOOKUP($C87,aliments!$B$2:$AZ$70,30,0)/100) | AI87: =IF($C87="","",$E87*VLOOKUP($C87,aliments!$B$2:$AZ$70,31,0)/100) | AJ87: =IF($C87="","",$E87*VLOOKUP($C87,aliments!$B$2:$AZ$70,32,0)/100) | AK87: =IF($C87="","",$E87*VLOOKUP($C87,aliments!$B$2:$AZ$70,33,0)/100) | AL87: =IF($C87="","",$E87*VLOOKUP($C87,aliments!$B$2:$AZ$70,34,0)/100) | AM87: =IF($C87="","",$E87*VLOOKUP($C87,aliments!$B$2:$AZ$70,35,0)/100) | AN87: =IF($C87="","",$E87*VLOOKUP($C87,aliments!$B$2:$AZ$70,36,0)/100) | AO87: =IF($C87="","",$E87*VLOOKUP($C87,aliments!$B$2:$AZ$70,37,0)/100)
F88: =IF($C88="","",$E88*VLOOKUP($C88,aliments!$B$2:$AZ$70,2,0)/100) | G88: =IF($C88="","",$E88*VLOOKUP($C88,aliments!$B$2:$AZ$70,3,0)/100) | H88: =IF($C88="","",$E88*VLOOKUP($C88,aliments!$B$2:$AZ$70,4,0)/100) | I88: =IF($C88="","",$E88*VLOOKUP($C88,aliments!$B$2:$AZ$70,5,0)/100) | J88: =IF($C88="","",$E88*VLOOKUP($C88,aliments!$B$2:$AZ$70,6,0)/100) | K88: =IF($C88="","",$E88*VLOOKUP($C88,aliments!$B$2:$AZ$70,7,0)/100) | L88: =IF($C88="","",$E88*VLOOKUP($C88,aliments!$B$2:$AZ$70,8,0)/100) | M88: =IF($C88="","",$E88*VLOOKUP($C88,aliments!$B$2:$AZ$70,9,0)/100) | N88: =IF($C88="","",$E88*VLOOKUP($C88,aliments!$B$2:$AZ$70,10,0)/100) | O88: =IF($C88="","",$E88*VLOOKUP($C88,aliments!$B$2:$AZ$70,11,0)/100) | P88: =IF($C88="","",$E88*VLOOKUP($C88,aliments!$B$2:$AZ$70,12,0)/100) | Q88: =IF($C88="","",$E88*VLOOKUP($C88,aliments!$B$2:$AZ$70,13,0)/100) | R88: =IF($C88="","",$E88*VLOOKUP($C88,aliments!$B$2:$AZ$70,14,0)/100) | S88: =IF($C88="","",$E88*VLOOKUP($C88,aliments!$B$2:$AZ$70,15,0)/100) | T88: =IF($C88="","",$E88*VLOOKUP($C88,aliments!$B$2:$AZ$70,16,0)/100) | U88: =IF($C88="","",$E88*VLOOKUP($C88,aliments!$B$2:$AZ$70,17,0)/100) | V88: =IF($C88="","",$E88*VLOOKUP($C88,aliments!$B$2:$AZ$70,18,0)/100) | W88: =IF($C88="","",$E88*VLOOKUP($C88,aliments!$B$2:$AZ$70,19,0)/100) | X88: =IF($C88="","",$E88*VLOOKUP($C88,aliments!$B$2:$AZ$70,20,0)/100) | Y88: =IF($C88="","",$E88*VLOOKUP($C88,aliments!$B$2:$AZ$70,21,0)/100) | Z88: =IF($C88="","",$E88*VLOOKUP($C88,aliments!$B$2:$AZ$70,22,0)/100) | AA88: =IF($C88="","",$E88*VLOOKUP($C88,aliments!$B$2:$AZ$70,23,0)/100) | AB88: =IF($C88="","",$E88*VLOOKUP($C88,aliments!$B$2:$AZ$70,24,0)/100) | AC88: =IF($C88="","",$E88*VLOOKUP($C88,aliments!$B$2:$AZ$70,25,0)/100) | AD88: =IF($C88="","",$E88*VLOOKUP($C88,aliments!$B$2:$AZ$70,26,0)/100) | AE88: =IF($C88="","",$E88*VLOOKUP($C88,aliments!$B$2:$AZ$70,27,0)/100) | AF88: =IF($C88="","",$E88*VLOOKUP($C88,aliments!$B$2:$AZ$70,28,0)/100) | AG88: =IF($C88="","",$E88*VLOOKUP($C88,aliments!$B$2:$AZ$70,29,0)/100) | AH88: =IF($C88="","",$E88*VLOOKUP($C88,aliments!$B$2:$AZ$70,30,0)/100) | AI88: =IF($C88="","",$E88*VLOOKUP($C88,aliments!$B$2:$AZ$70,31,0)/100) | AJ88: =IF($C88="","",$E88*VLOOKUP($C88,aliments!$B$2:$AZ$70,32,0)/100) | AK88: =IF($C88="","",$E88*VLOOKUP($C88,aliments!$B$2:$AZ$70,33,0)/100) | AL88: =IF($C88="","",$E88*VLOOKUP($C88,aliments!$B$2:$AZ$70,34,0)/100) | AM88: =IF($C88="","",$E88*VLOOKUP($C88,aliments!$B$2:$AZ$70,35,0)/100) | AN88: =IF($C88="","",$E88*VLOOKUP($C88,aliments!$B$2:$AZ$70,36,0)/100) | AO88: =IF($C88="","",$E88*VLOOKUP($C88,aliments!$B$2:$AZ$70,37,0)/100)
F89: =IF($C89="","",$E89*VLOOKUP($C89,aliments!$B$2:$AZ$70,2,0)/100) | G89: =IF($C89="","",$E89*VLOOKUP($C89,aliments!$B$2:$AZ$70,3,0)/100) | H89: =IF($C89="","",$E89*VLOOKUP($C89,aliments!$B$2:$AZ$70,4,0)/100) | I89: =IF($C89="","",$E89*VLOOKUP($C89,aliments!$B$2:$AZ$70,5,0)/100) | J89: =IF($C89="","",$E89*VLOOKUP($C89,aliments!$B$2:$AZ$70,6,0)/100) | K89: =IF($C89="","",$E89*VLOOKUP($C89,aliments!$B$2:$AZ$70,7,0)/100) | L89: =IF($C89="","",$E89*VLOOKUP($C89,aliments!$B$2:$AZ$70,8,0)/100) | M89: =IF($C89="","",$E89*VLOOKUP($C89,aliments!$B$2:$AZ$70,9,0)/100) | N89: =IF($C89="","",$E89*VLOOKUP($C89,aliments!$B$2:$AZ$70,10,0)/100) | O89: =IF($C89="","",$E89*VLOOKUP($C89,aliments!$B$2:$AZ$70,11,0)/100) | P89: =IF($C89="","",$E89*VLOOKUP($C89,aliments!$B$2:$AZ$70,12,0)/100) | Q89: =IF($C89="","",$E89*VLOOKUP($C89,aliments!$B$2:$AZ$70,13,0)/100) | R89: =IF($C89="","",$E89*VLOOKUP($C89,aliments!$B$2:$AZ$70,14,0)/100) | S89: =IF($C89="","",$E89*VLOOKUP($C89,aliments!$B$2:$AZ$70,15,0)/100) | T89: =IF($C89="","",$E89*VLOOKUP($C89,aliments!$B$2:$AZ$70,16,0)/100) | U89: =IF($C89="","",$E89*VLOOKUP($C89,aliments!$B$2:$AZ$70,17,0)/100) | V89: =IF($C89="","",$E89*VLOOKUP($C89,aliments!$B$2:$AZ$70,18,0)/100) | W89: =IF($C89="","",$E89*VLOOKUP($C89,aliments!$B$2:$AZ$70,19,0)/100) | X89: =IF($C89="","",$E89*VLOOKUP($C89,aliments!$B$2:$AZ$70,20,0)/100) | Y89: =IF($C89="","",$E89*VLOOKUP($C89,aliments!$B$2:$AZ$70,21,0)/100) | Z89: =IF($C89="","",$E89*VLOOKUP($C89,aliments!$B$2:$AZ$70,22,0)/100) | AA89: =IF($C89="","",$E89*VLOOKUP($C89,aliments!$B$2:$AZ$70,23,0)/100) | AB89: =IF($C89="","",$E89*VLOOKUP($C89,aliments!$B$2:$AZ$70,24,0)/100) | AC89: =IF($C89="","",$E89*VLOOKUP($C89,aliments!$B$2:$AZ$70,25,0)/100) | AD89: =IF($C89="","",$E89*VLOOKUP($C89,aliments!$B$2:$AZ$70,26,0)/100) | AE89: =IF($C89="","",$E89*VLOOKUP($C89,aliments!$B$2:$AZ$70,27,0)/100) | AF89: =IF($C89="","",$E89*VLOOKUP($C89,aliments!$B$2:$AZ$70,28,0)/100) | AG89: =IF($C89="","",$E89*VLOOKUP($C89,aliments!$B$2:$AZ$70,29,0)/100) | AH89: =IF($C89="","",$E89*VLOOKUP($C89,aliments!$B$2:$AZ$70,30,0)/100) | AI89: =IF($C89="","",$E89*VLOOKUP($C89,aliments!$B$2:$AZ$70,31,0)/100) | AJ89: =IF($C89="","",$E89*VLOOKUP($C89,aliments!$B$2:$AZ$70,32,0)/100) | AK89: =IF($C89="","",$E89*VLOOKUP($C89,aliments!$B$2:$AZ$70,33,0)/100) | AL89: =IF($C89="","",$E89*VLOOKUP($C89,aliments!$B$2:$AZ$70,34,0)/100) | AM89: =IF($C89="","",$E89*VLOOKUP($C89,aliments!$B$2:$AZ$70,35,0)/100) | AN89: =IF($C89="","",$E89*VLOOKUP($C89,aliments!$B$2:$AZ$70,36,0)/100) | AO89: =IF($C89="","",$E89*VLOOKUP($C89,aliments!$B$2:$AZ$70,37,0)/100)
F90: =IF($C90="","",$E90*VLOOKUP($C90,aliments!$B$2:$AZ$70,2,0)/100) | G90: =IF($C90="","",$E90*VLOOKUP($C90,aliments!$B$2:$AZ$70,3,0)/100) | H90: =IF($C90="","",$E90*VLOOKUP($C90,aliments!$B$2:$AZ$70,4,0)/100) | I90: =IF($C90="","",$E90*VLOOKUP($C90,aliments!$B$2:$AZ$70,5,0)/100) | J90: =IF($C90="","",$E90*VLOOKUP($C90,aliments!$B$2:$AZ$70,6,0)/100) | K90: =IF($C90="","",$E90*VLOOKUP($C90,aliments!$B$2:$AZ$70,7,0)/100) | L90: =IF($C90="","",$E90*VLOOKUP($C90,aliments!$B$2:$AZ$70,8,0)/100) | M90: =IF($C90="","",$E90*VLOOKUP($C90,aliments!$B$2:$AZ$70,9,0)/100) | N90: =IF($C90="","",$E90*VLOOKUP($C90,aliments!$B$2:$AZ$70,10,0)/100) | O90: =IF($C90="","",$E90*VLOOKUP($C90,aliments!$B$2:$AZ$70,11,0)/100) | P90: =IF($C90="","",$E90*VLOOKUP($C90,aliments!$B$2:$AZ$70,12,0)/100) | Q90: =IF($C90="","",$E90*VLOOKUP($C90,aliments!$B$2:$AZ$70,13,0)/100) | R90: =IF($C90="","",$E90*VLOOKUP($C90,aliments!$B$2:$AZ$70,14,0)/100) | S90: =IF($C90="","",$E90*VLOOKUP($C90,aliments!$B$2:$AZ$70,15,0)/100) | T90: =IF($C90="","",$E90*VLOOKUP($C90,aliments!$B$2:$AZ$70,16,0)/100) | U90: =IF($C90="","",$E90*VLOOKUP($C90,aliments!$B$2:$AZ$70,17,0)/100) | V90: =IF($C90="","",$E90*VLOOKUP($C90,aliments!$B$2:$AZ$70,18,0)/100) | W90: =IF($C90="","",$E90*VLOOKUP($C90,aliments!$B$2:$AZ$70,19,0)/100) | X90: =IF($C90="","",$E90*VLOOKUP($C90,aliments!$B$2:$AZ$70,20,0)/100) | Y90: =IF($C90="","",$E90*VLOOKUP($C90,aliments!$B$2:$AZ$70,21,0)/100) | Z90: =IF($C90="","",$E90*VLOOKUP($C90,aliments!$B$2:$AZ$70,22,0)/100) | AA90: =IF($C90="","",$E90*VLOOKUP($C90,aliments!$B$2:$AZ$70,23,0)/100) | AB90: =IF($C90="","",$E90*VLOOKUP($C90,aliments!$B$2:$AZ$70,24,0)/100) | AC90: =IF($C90="","",$E90*VLOOKUP($C90,aliments!$B$2:$AZ$70,25,0)/100) | AD90: =IF($C90="","",$E90*VLOOKUP($C90,aliments!$B$2:$AZ$70,26,0)/100) | AE90: =IF($C90="","",$E90*VLOOKUP($C90,aliments!$B$2:$AZ$70,27,0)/100) | AF90: =IF($C90="","",$E90*VLOOKUP($C90,aliments!$B$2:$AZ$70,28,0)/100) | AG90: =IF($C90="","",$E90*VLOOKUP($C90,aliments!$B$2:$AZ$70,29,0)/100) | AH90: =IF($C90="","",$E90*VLOOKUP($C90,aliments!$B$2:$AZ$70,30,0)/100) | AI90: =IF($C90="","",$E90*VLOOKUP($C90,aliments!$B$2:$AZ$70,31,0)/100) | AJ90: =IF($C90="","",$E90*VLOOKUP($C90,aliments!$B$2:$AZ$70,32,0)/100) | AK90: =IF($C90="","",$E90*VLOOKUP($C90,aliments!$B$2:$AZ$70,33,0)/100) | AL90: =IF($C90="","",$E90*VLOOKUP($C90,aliments!$B$2:$AZ$70,34,0)/100) | AM90: =IF($C90="","",$E90*VLOOKUP($C90,aliments!$B$2:$AZ$70,35,0)/100) | AN90: =IF($C90="","",$E90*VLOOKUP($C90,aliments!$B$2:$AZ$70,36,0)/100) | AO90: =IF($C90="","",$E90*VLOOKUP($C90,aliments!$B$2:$AZ$70,37,0)/100)
F91: =IF($C91="","",$E91*VLOOKUP($C91,aliments!$B$2:$AZ$70,2,0)/100) | G91: =IF($C91="","",$E91*VLOOKUP($C91,aliments!$B$2:$AZ$70,3,0)/100) | H91: =IF($C91="","",$E91*VLOOKUP($C91,aliments!$B$2:$AZ$70,4,0)/100) | I91: =IF($C91="","",$E91*VLOOKUP($C91,aliments!$B$2:$AZ$70,5,0)/100) | J91: =IF($C91="","",$E91*VLOOKUP($C91,aliments!$B$2:$AZ$70,6,0)/100) | K91: =IF($C91="","",$E91*VLOOKUP($C91,aliments!$B$2:$AZ$70,7,0)/100) | L91: =IF($C91="","",$E91*VLOOKUP($C91,aliments!$B$2:$AZ$70,8,0)/100) | M91: =IF($C91="","",$E91*VLOOKUP($C91,aliments!$B$2:$AZ$70,9,0)/100) | N91: =IF($C91="","",$E91*VLOOKUP($C91,aliments!$B$2:$AZ$70,10,0)/100) | O91: =IF($C91="","",$E91*VLOOKUP($C91,aliments!$B$2:$AZ$70,11,0)/100) | P91: =IF($C91="","",$E91*VLOOKUP($C91,aliments!$B$2:$AZ$70,12,0)/100) | Q91: =IF($C91="","",$E91*VLOOKUP($C91,aliments!$B$2:$AZ$70,13,0)/100) | R91: =IF($C91="","",$E91*VLOOKUP($C91,aliments!$B$2:$AZ$70,14,0)/100) | S91: =IF($C91="","",$E91*VLOOKUP($C91,aliments!$B$2:$AZ$70,15,0)/100) | T91: =IF($C91="","",$E91*VLOOKUP($C91,aliments!$B$2:$AZ$70,16,0)/100) | U91: =IF($C91="","",$E91*VLOOKUP($C91,aliments!$B$2:$AZ$70,17,0)/100) | V91: =IF($C91="","",$E91*VLOOKUP($C91,aliments!$B$2:$AZ$70,18,0)/100) | W91: =IF($C91="","",$E91*VLOOKUP($C91,aliments!$B$2:$AZ$70,19,0)/100) | X91: =IF($C91="","",$E91*VLOOKUP($C91,aliments!$B$2:$AZ$70,20,0)/100) | Y91: =IF($C91="","",$E91*VLOOKUP($C91,aliments!$B$2:$AZ$70,21,0)/100) | Z91: =IF($C91="","",$E91*VLOOKUP($C91,aliments!$B$2:$AZ$70,22,0)/100) | AA91: =IF($C91="","",$E91*VLOOKUP($C91,aliments!$B$2:$AZ$70,23,0)/100) | AB91: =IF($C91="","",$E91*VLOOKUP($C91,aliments!$B$2:$AZ$70,24,0)/100) | AC91: =IF($C91="","",$E91*VLOOKUP($C91,aliments!$B$2:$AZ$70,25,0)/100) | AD91: =IF($C91="","",$E91*VLOOKUP($C91,aliments!$B$2:$AZ$70,26,0)/100) | AE91: =IF($C91="","",$E91*VLOOKUP($C91,aliments!$B$2:$AZ$70,27,0)/100) | AF91: =IF($C91="","",$E91*VLOOKUP($C91,aliments!$B$2:$AZ$70,28,0)/100) | AG91: =IF($C91="","",$E91*VLOOKUP($C91,aliments!$B$2:$AZ$70,29,0)/100) | AH91: =IF($C91="","",$E91*VLOOKUP($C91,aliments!$B$2:$AZ$70,30,0)/100) | AI91: =IF($C91="","",$E91*VLOOKUP($C91,aliments!$B$2:$AZ$70,31,0)/100) | AJ91: =IF($C91="","",$E91*VLOOKUP($C91,aliments!$B$2:$AZ$70,32,0)/100) | AK91: =IF($C91="","",$E91*VLOOKUP($C91,aliments!$B$2:$AZ$70,33,0)/100) | AL91: =IF($C91="","",$E91*VLOOKUP($C91,aliments!$B$2:$AZ$70,34,0)/100) | AM91: =IF($C91="","",$E91*VLOOKUP($C91,aliments!$B$2:$AZ$70,35,0)/100) | AN91: =IF($C91="","",$E91*VLOOKUP($C91,aliments!$B$2:$AZ$70,36,0)/100) | AO91: =IF($C91="","",$E91*VLOOKUP($C91,aliments!$B$2:$AZ$70,37,0)/100)
F92: =IF($C92="","",$E92*VLOOKUP($C92,aliments!$B$2:$AZ$70,2,0)/100) | G92: =IF($C92="","",$E92*VLOOKUP($C92,aliments!$B$2:$AZ$70,3,0)/100) | H92: =IF($C92="","",$E92*VLOOKUP($C92,aliments!$B$2:$AZ$70,4,0)/100) | I92: =IF($C92="","",$E92*VLOOKUP($C92,aliments!$B$2:$AZ$70,5,0)/100) | J92: =IF($C92="","",$E92*VLOOKUP($C92,aliments!$B$2:$AZ$70,6,0)/100) | K92: =IF($C92="","",$E92*VLOOKUP($C92,aliments!$B$2:$AZ$70,7,0)/100) | L92: =IF($C92="","",$E92*VLOOKUP($C92,aliments!$B$2:$AZ$70,8,0)/100) | M92: =IF($C92="","",$E92*VLOOKUP($C92,aliments!$B$2:$AZ$70,9,0)/100) | N92: =IF($C92="","",$E92*VLOOKUP($C92,aliments!$B$2:$AZ$70,10,0)/100) | O92: =IF($C92="","",$E92*VLOOKUP($C92,aliments!$B$2:$AZ$70,11,0)/100) | P92: =IF($C92="","",$E92*VLOOKUP($C92,aliments!$B$2:$AZ$70,12,0)/100) | Q92: =IF($C92="","",$E92*VLOOKUP($C92,aliments!$B$2:$AZ$70,13,0)/100) | R92: =IF($C92="","",$E92*VLOOKUP($C92,aliments!$B$2:$AZ$70,14,0)/100) | S92: =IF($C92="","",$E92*VLOOKUP($C92,aliments!$B$2:$AZ$70,15,0)/100) | T92: =IF($C92="","",$E92*VLOOKUP($C92,aliments!$B$2:$AZ$70,16,0)/100) | U92: =IF($C92="","",$E92*VLOOKUP($C92,aliments!$B$2:$AZ$70,17,0)/100) | V92: =IF($C92="","",$E92*VLOOKUP($C92,aliments!$B$2:$AZ$70,18,0)/100) | W92: =IF($C92="","",$E92*VLOOKUP($C92,aliments!$B$2:$AZ$70,19,0)/100) | X92: =IF($C92="","",$E92*VLOOKUP($C92,aliments!$B$2:$AZ$70,20,0)/100) | Y92: =IF($C92="","",$E92*VLOOKUP($C92,aliments!$B$2:$AZ$70,21,0)/100) | Z92: =IF($C92="","",$E92*VLOOKUP($C92,aliments!$B$2:$AZ$70,22,0)/100) | AA92: =IF($C92="","",$E92*VLOOKUP($C92,aliments!$B$2:$AZ$70,23,0)/100) | AB92: =IF($C92="","",$E92*VLOOKUP($C92,aliments!$B$2:$AZ$70,24,0)/100) | AC92: =IF($C92="","",$E92*VLOOKUP($C92,aliments!$B$2:$AZ$70,25,0)/100) | AD92: =IF($C92="","",$E92*VLOOKUP($C92,aliments!$B$2:$AZ$70,26,0)/100) | AE92: =IF($C92="","",$E92*VLOOKUP($C92,aliments!$B$2:$AZ$70,27,0)/100) | AF92: =IF($C92="","",$E92*VLOOKUP($C92,aliments!$B$2:$AZ$70,28,0)/100) | AG92: =IF($C92="","",$E92*VLOOKUP($C92,aliments!$B$2:$AZ$70,29,0)/100) | AH92: =IF($C92="","",$E92*VLOOKUP($C92,aliments!$B$2:$AZ$70,30,0)/100) | AI92: =IF($C92="","",$E92*VLOOKUP($C92,aliments!$B$2:$AZ$70,31,0)/100) | AJ92: =IF($C92="","",$E92*VLOOKUP($C92,aliments!$B$2:$AZ$70,32,0)/100) | AK92: =IF($C92="","",$E92*VLOOKUP($C92,aliments!$B$2:$AZ$70,33,0)/100) | AL92: =IF($C92="","",$E92*VLOOKUP($C92,aliments!$B$2:$AZ$70,34,0)/100) | AM92: =IF($C92="","",$E92*VLOOKUP($C92,aliments!$B$2:$AZ$70,35,0)/100) | AN92: =IF($C92="","",$E92*VLOOKUP($C92,aliments!$B$2:$AZ$70,36,0)/100) | AO92: =IF($C92="","",$E92*VLOOKUP($C92,aliments!$B$2:$AZ$70,37,0)/100)
A93: Sous total | F93: =IF(SUM(F86:F92)=0,"",AVERAGE(F86:F92)) | G93: =SUM(G86:G92) -> 0 | H93: =SUM(H86:H92) -> 0 | I93: =SUM(I86:I92) -> 0 | J93: =SUM(J86:J92) -> 0 | K93: =SUM(K86:K92) -> 0 | L93: =SUM(L86:L92) -> 0 | M93: =SUM(M86:M92) -> 0 | N93: =SUM(N86:N92) -> 0 | ... AO93: =SUM(AO86:AO92) -> 0
A95: Diné | C95: Aliments | E95: Quantité( g) | F95: CG | G95: Pral | H95: Protides ( g) | I95: Glucides ( g) | J95: Lipides (g) | K95: Calories | L95: VitA (µg) | M95: Beta-Car. (µg) | N95: Vit D (µg) | O95: Vit E (mg) | P95: Vit K (µg) | Q95: VitC (mg) | R95: Vit B1 (mg) | S95: Vit B2 (mg) | T95: Vit B3 (mg) | U95: Vit B5 (mg) | V95: Vit B6 (mg) | W95: Vit B9 (µg) | X95: Vit B12 (µg) | Y95: Calcium (mg) | Z95: Cuivre (mg) | AA95: Fer (mg) | AB95: Iode (µg) | AC95: Magnésium (mg) | AD95: Manganèse (mg) | AE95: Phosphore (mg) | AF95: Potassium (mg) | AG95: Sélénium (µg) | AH95: Sodium (mg) | AI95: Zinc (mg) | AJ95: Fibres (g) | AK95: AG saturés (g) | AL95: AG monoinsaturés (g) | AM95: Polyols totaux (g) | AN95: AG polyinsaturés (g) | AO95: Cholestérol (mg)
F96: =IF($C96="","",$E96*VLOOKUP($C96,aliments!$B$2:$AZ$70,2,0)/100) | G96: =IF($C96="","",$E96*VLOOKUP($C96,aliments!$B$2:$AZ$70,3,0)/100) | H96: =IF($C96="","",$E96*VLOOKUP($C96,aliments!$B$2:$AZ$70,4,0)/100) | I96: =IF($C96="","",$E96*VLOOKUP($C96,aliments!$B$2:$AZ$70,5,0)/100) | J96: =IF($C96="","",$E96*VLOOKUP($C96,aliments!$B$2:$AZ$70,6,0)/100) | K96: =IF($C96="","",$E96*VLOOKUP($C96,aliments!$B$2:$AZ$70,7,0)/100) | L96: =IF($C96="","",$E96*VLOOKUP($C96,aliments!$B$2:$AZ$70,8,0)/100) | M96: =IF($C96="","",$E96*VLOOKUP($C96,aliments!$B$2:$AZ$70,9,0)/100) | N96: =IF($C96="","",$E96*VLOOKUP($C96,aliments!$B$2:$AZ$70,10,0)/100) | O96: =IF($C96="","",$E96*VLOOKUP($C96,aliments!$B$2:$AZ$70,11,0)/100) | P96: =IF($C96="","",$E96*VLOOKUP($C96,aliments!$B$2:$AZ$70,12,0)/100) | Q96: =IF($C96="","",$E96*VLOOKUP($C96,aliments!$B$2:$AZ$70,13,0)/100) | R96: =IF($C96="","",$E96*VLOOKUP($C96,aliments!$B$2:$AZ$70,14,0)/100) | S96: =IF($C96="","",$E96*VLOOKUP($C96,aliments!$B$2:$AZ$70,15,0)/100) | T96: =IF($C96="","",$E96*VLOOKUP($C96,aliments!$B$2:$AZ$70,16,0)/100) | U96: =IF($C96="","",$E96*VLOOKUP($C96,aliments!$B$2:$AZ$70,17,0)/100) | V96: =IF($C96="","",$E96*VLOOKUP($C96,aliments!$B$2:$AZ$70,18,0)/100) | W96: =IF($C96="","",$E96*VLOOKUP($C96,aliments!$B$2:$AZ$70,19,0)/100) | X96: =IF($C96="","",$E96*VLOOKUP($C96,aliments!$B$2:$AZ$70,20,0)/100) | Y96: =IF($C96="","",$E96*VLOOKUP($C96,aliments!$B$2:$AZ$70,21,0)/100) | Z96: =IF($C96="","",$E96*VLOOKUP($C96,aliments!$B$2:$AZ$70,22,0)/100) | AA96: =IF($C96="","",$E96*VLOOKUP($C96,aliments!$B$2:$AZ$70,23,0)/100) | AB96: =IF($C96="","",$E96*VLOOKUP($C96,aliments!$B$2:$AZ$70,24,0)/100) | AC96: =IF($C96="","",$E96*VLOOKUP($C96,aliments!$B$2:$AZ$70,25,0)/100) | AD96: =IF($C96="","",$E96*VLOOKUP($C96,aliments!$B$2:$AZ$70,26,0)/100) | AE96: =IF($C96="","",$E96*VLOOKUP($C96,aliments!$B$2:$AZ$70,27,0)/100) | AF96: =IF($C96="","",$E96*VLOOKUP($C96,aliments!$B$2:$AZ$70,28,0)/100) | AG96: =IF($C96="","",$E96*VLOOKUP($C96,aliments!$B$2:$AZ$70,29,0)/100) | AH96: =IF($C96="","",$E96*VLOOKUP($C96,aliments!$B$2:$AZ$70,30,0)/100) | AI96: =IF($C96="","",$E96*VLOOKUP($C96,aliments!$B$2:$AZ$70,31,0)/100) | AJ96: =IF($C96="","",$E96*VLOOKUP($C96,aliments!$B$2:$AZ$70,32,0)/100) | AK96: =IF($C96="","",$E96*VLOOKUP($C96,aliments!$B$2:$AZ$70,33,0)/100) | AL96: =IF($C96="","",$E96*VLOOKUP($C96,aliments!$B$2:$AZ$70,34,0)/100) | AM96: =IF($C96="","",$E96*VLOOKUP($C96,aliments!$B$2:$AZ$70,35,0)/100) | AN96: =IF($C96="","",$E96*VLOOKUP($C96,aliments!$B$2:$AZ$70,36,0)/100) | AO96: =IF($C96="","",$E96*VLOOKUP($C96,aliments!$B$2:$AZ$70,37,0)/100)
F97: =IF($C97="","",$E97*VLOOKUP($C97,aliments!$B$2:$AZ$70,2,0)/100) | G97: =IF($C97="","",$E97*VLOOKUP($C97,aliments!$B$2:$AZ$70,3,0)/100) | H97: =IF($C97="","",$E97*VLOOKUP($C97,aliments!$B$2:$AZ$70,4,0)/100) | I97: =IF($C97="","",$E97*VLOOKUP($C97,aliments!$B$2:$AZ$70,5,0)/100) | J97: =IF($C97="","",$E97*VLOOKUP($C97,aliments!$B$2:$AZ$70,6,0)/100) | K97: =IF($C97="","",$E97*VLOOKUP($C97,aliments!$B$2:$AZ$70,7,0)/100) | L97: =IF($C97="","",$E97*VLOOKUP($C97,aliments!$B$2:$AZ$70,8,0)/100) | M97: =IF($C97="","",$E97*VLOOKUP($C97,aliments!$B$2:$AZ$70,9,0)/100) | N97: =IF($C97="","",$E97*VLOOKUP($C97,aliments!$B$2:$AZ$70,10,0)/100) | O97: =IF($C97="","",$E97*VLOOKUP($C97,aliments!$B$2:$AZ$70,11,0)/100) | P97: =IF($C97="","",$E97*VLOOKUP($C97,aliments!$B$2:$AZ$70,12,0)/100) | Q97: =IF($C97="","",$E97*VLOOKUP($C97,aliments!$B$2:$AZ$70,13,0)/100) | R97: =IF($C97="","",$E97*VLOOKUP($C97,aliments!$B$2:$AZ$70,14,0)/100) | S97: =IF($C97="","",$E97*VLOOKUP($C97,aliments!$B$2:$AZ$70,15,0)/100) | T97: =IF($C97="","",$E97*VLOOKUP($C97,aliments!$B$2:$AZ$70,16,0)/100) | U97: =IF($C97="","",$E97*VLOOKUP($C97,aliments!$B$2:$AZ$70,17,0)/100) | V97: =IF($C97="","",$E97*VLOOKUP($C97,aliments!$B$2:$AZ$70,18,0)/100) | W97: =IF($C97="","",$E97*VLOOKUP($C97,aliments!$B$2:$AZ$70,19,0)/100) | X97: =IF($C97="","",$E97*VLOOKUP($C97,aliments!$B$2:$AZ$70,20,0)/100) | Y97: =IF($C97="","",$E97*VLOOKUP($C97,aliments!$B$2:$AZ$70,21,0)/100) | Z97: =IF($C97="","",$E97*VLOOKUP($C97,aliments!$B$2:$AZ$70,22,0)/100) | AA97: =IF($C97="","",$E97*VLOOKUP($C97,aliments!$B$2:$AZ$70,23,0)/100) | AB97: =IF($C97="","",$E97*VLOOKUP($C97,aliments!$B$2:$AZ$70,24,0)/100) | AC97: =IF($C97="","",$E97*VLOOKUP($C97,aliments!$B$2:$AZ$70,25,0)/100) | AD97: =IF($C97="","",$E97*VLOOKUP($C97,aliments!$B$2:$AZ$70,26,0)/100) | AE97: =IF($C97="","",$E97*VLOOKUP($C97,aliments!$B$2:$AZ$70,27,0)/100) | AF97: =IF($C97="","",$E97*VLOOKUP($C97,aliments!$B$2:$AZ$70,28,0)/100) | AG97: =IF($C97="","",$E97*VLOOKUP($C97,aliments!$B$2:$AZ$70,29,0)/100) | AH97: =IF($C97="","",$E97*VLOOKUP($C97,aliments!$B$2:$AZ$70,30,0)/100) | AI97: =IF($C97="","",$E97*VLOOKUP($C97,aliments!$B$2:$AZ$70,31,0)/100) | AJ97: =IF($C97="","",$E97*VLOOKUP($C97,aliments!$B$2:$AZ$70,32,0)/100) | AK97: =IF($C97="","",$E97*VLOOKUP($C97,aliments!$B$2:$AZ$70,33,0)/100) | AL97: =IF($C97="","",$E97*VLOOKUP($C97,aliments!$B$2:$AZ$70,34,0)/100) | AM97: =IF($C97="","",$E97*VLOOKUP($C97,aliments!$B$2:$AZ$70,35,0)/100) | AN97: =IF($C97="","",$E97*VLOOKUP($C97,aliments!$B$2:$AZ$70,36,0)/100) | AO97: =IF($C97="","",$E97*VLOOKUP($C97,aliments!$B$2:$AZ$70,37,0)/100)
F98: =IF($C98="","",$E98*VLOOKUP($C98,aliments!$B$2:$AZ$70,2,0)/100) | G98: =IF($C98="","",$E98*VLOOKUP($C98,aliments!$B$2:$AZ$70,3,0)/100) | H98: =IF($C98="","",$E98*VLOOKUP($C98,aliments!$B$2:$AZ$70,4,0)/100) | I98: =IF($C98="","",$E98*VLOOKUP($C98,aliments!$B$2:$AZ$70,5,0)/100) | J98: =IF($C98="","",$E98*VLOOKUP($C98,aliments!$B$2:$AZ$70,6,0)/100) | K98: =IF($C98="","",$E98*VLOOKUP($C98,aliments!$B$2:$AZ$70,7,0)/100) | L98: =IF($C98="","",$E98*VLOOKUP($C98,aliments!$B$2:$AZ$70,8,0)/100) | M98: =IF($C98="","",$E98*VLOOKUP($C98,aliments!$B$2:$AZ$70,9,0)/100) | N98: =IF($C98="","",$E98*VLOOKUP($C98,aliments!$B$2:$AZ$70,10,0)/100) | O98: =IF($C98="","",$E98*VLOOKUP($C98,aliments!$B$2:$AZ$70,11,0)/100) | P98: =IF($C98="","",$E98*VLOOKUP($C98,aliments!$B$2:$AZ$70,12,0)/100) | Q98: =IF($C98="","",$E98*VLOOKUP($C98,aliments!$B$2:$AZ$70,13,0)/100) | R98: =IF($C98="","",$E98*VLOOKUP($C98,aliments!$B$2:$AZ$70,14,0)/100) | S98: =IF($C98="","",$E98*VLOOKUP($C98,aliments!$B$2:$AZ$70,15,0)/100) | T98: =IF($C98="","",$E98*VLOOKUP($C98,aliments!$B$2:$AZ$70,16,0)/100) | U98: =IF($C98="","",$E98*VLOOKUP($C98,aliments!$B$2:$AZ$70,17,0)/100) | V98: =IF($C98="","",$E98*VLOOKUP($C98,aliments!$B$2:$AZ$70,18,0)/100) | W98: =IF($C98="","",$E98*VLOOKUP($C98,aliments!$B$2:$AZ$70,19,0)/100) | X98: =IF($C98="","",$E98*VLOOKUP($C98,aliments!$B$2:$AZ$70,20,0)/100) | Y98: =IF($C98="","",$E98*VLOOKUP($C98,aliments!$B$2:$AZ$70,21,0)/100) | Z98: =IF($C98="","",$E98*VLOOKUP($C98,aliments!$B$2:$AZ$70,22,0)/100) | AA98: =IF($C98="","",$E98*VLOOKUP($C98,aliments!$B$2:$AZ$70,23,0)/100) | AB98: =IF($C98="","",$E98*VLOOKUP($C98,aliments!$B$2:$AZ$70,24,0)/100) | AC98: =IF($C98="","",$E98*VLOOKUP($C98,aliments!$B$2:$AZ$70,25,0)/100) | AD98: =IF($C98="","",$E98*VLOOKUP($C98,aliments!$B$2:$AZ$70,26,0)/100) | AE98: =IF($C98="","",$E98*VLOOKUP($C98,aliments!$B$2:$AZ$70,27,0)/100) | AF98: =IF($C98="","",$E98*VLOOKUP($C98,aliments!$B$2:$AZ$70,28,0)/100) | AG98: =IF($C98="","",$E98*VLOOKUP($C98,aliments!$B$2:$AZ$70,29,0)/100) | AH98: =IF($C98="","",$E98*VLOOKUP($C98,aliments!$B$2:$AZ$70,30,0)/100) | AI98: =IF($C98="","",$E98*VLOOKUP($C98,aliments!$B$2:$AZ$70,31,0)/100) | AJ98: =IF($C98="","",$E98*VLOOKUP($C98,aliments!$B$2:$AZ$70,32,0)/100) | AK98: =IF($C98="","",$E98*VLOOKUP($C98,aliments!$B$2:$AZ$70,33,0)/100) | AL98: =IF($C98="","",$E98*VLOOKUP($C98,aliments!$B$2:$AZ$70,34,0)/100) | AM98: =IF($C98="","",$E98*VLOOKUP($C98,aliments!$B$2:$AZ$70,35,0)/100) | AN98: =IF($C98="","",$E98*VLOOKUP($C98,aliments!$B$2:$AZ$70,36,0)/100) | AO98: =IF($C98="","",$E98*VLOOKUP($C98,aliments!$B$2:$AZ$70,37,0)/100)
F99: =IF($C99="","",$E99*VLOOKUP($C99,aliments!$B$2:$AZ$70,2,0)/100) | G99: =IF($C99="","",$E99*VLOOKUP($C99,aliments!$B$2:$AZ$70,3,0)/100) | H99: =IF($C99="","",$E99*VLOOKUP($C99,aliments!$B$2:$AZ$70,4,0)/100) | I99: =IF($C99="","",$E99*VLOOKUP($C99,aliments!$B$2:$AZ$70,5,0)/100) | J99: =IF($C99="","",$E99*VLOOKUP($C99,aliments!$B$2:$AZ$70,6,0)/100) | K99: =IF($C99="","",$E99*VLOOKUP($C99,aliments!$B$2:$AZ$70,7,0)/100) | L99: =IF($C99="","",$E99*VLOOKUP($C99,aliments!$B$2:$AZ$70,8,0)/100) | M99: =IF($C99="","",$E99*VLOOKUP($C99,aliments!$B$2:$AZ$70,9,0)/100) | N99: =IF($C99="","",$E99*VLOOKUP($C99,aliments!$B$2:$AZ$70,10,0)/100) | O99: =IF($C99="","",$E99*VLOOKUP($C99,aliments!$B$2:$AZ$70,11,0)/100) | P99: =IF($C99="","",$E99*VLOOKUP($C99,aliments!$B$2:$AZ$70,12,0)/100) | Q99: =IF($C99="","",$E99*VLOOKUP($C99,aliments!$B$2:$AZ$70,13,0)/100) | R99: =IF($C99="","",$E99*VLOOKUP($C99,aliments!$B$2:$AZ$70,14,0)/100) | S99: =IF($C99="","",$E99*VLOOKUP($C99,aliments!$B$2:$AZ$70,15,0)/100) | T99: =IF($C99="","",$E99*VLOOKUP($C99,aliments!$B$2:$AZ$70,16,0)/100) | U99: =IF($C99="","",$E99*VLOOKUP($C99,aliments!$B$2:$AZ$70,17,0)/100) | V99: =IF($C99="","",$E99*VLOOKUP($C99,aliments!$B$2:$AZ$70,18,0)/100) | W99: =IF($C99="","",$E99*VLOOKUP($C99,aliments!$B$2:$AZ$70,19,0)/100) | X99: =IF($C99="","",$E99*VLOOKUP($C99,aliments!$B$2:$AZ$70,20,0)/100) | Y99: =IF($C99="","",$E99*VLOOKUP($C99,aliments!$B$2:$AZ$70,21,0)/100) | Z99: =IF($C99="","",$E99*VLOOKUP($C99,aliments!$B$2:$AZ$70,22,0)/100) | AA99: =IF($C99="","",$E99*VLOOKUP($C99,aliments!$B$2:$AZ$70,23,0)/100) | AB99: =IF($C99="","",$E99*VLOOKUP($C99,aliments!$B$2:$AZ$70,24,0)/100) | AC99: =IF($C99="","",$E99*VLOOKUP($C99,aliments!$B$2:$AZ$70,25,0)/100) | AD99: =IF($C99="","",$E99*VLOOKUP($C99,aliments!$B$2:$AZ$70,26,0)/100) | AE99: =IF($C99="","",$E99*VLOOKUP($C99,aliments!$B$2:$AZ$70,27,0)/100) | AF99: =IF($C99="","",$E99*VLOOKUP($C99,aliments!$B$2:$AZ$70,28,0)/100) | AG99: =IF($C99="","",$E99*VLOOKUP($C99,aliments!$B$2:$AZ$70,29,0)/100) | AH99: =IF($C99="","",$E99*VLOOKUP($C99,aliments!$B$2:$AZ$70,30,0)/100) | AI99: =IF($C99="","",$E99*VLOOKUP($C99,aliments!$B$2:$AZ$70,31,0)/100) | AJ99: =IF($C99="","",$E99*VLOOKUP($C99,aliments!$B$2:$AZ$70,32,0)/100) | AK99: =IF($C99="","",$E99*VLOOKUP($C99,aliments!$B$2:$AZ$70,33,0)/100) | AL99: =IF($C99="","",$E99*VLOOKUP($C99,aliments!$B$2:$AZ$70,34,0)/100) | AM99: =IF($C99="","",$E99*VLOOKUP($C99,aliments!$B$2:$AZ$70,35,0)/100) | AN99: =IF($C99="","",$E99*VLOOKUP($C99,aliments!$B$2:$AZ$70,36,0)/100) | AO99: =IF($C99="","",$E99*VLOOKUP($C99,aliments!$B$2:$AZ$70,37,0)/100)
F100: =IF($C100="","",$E100*VLOOKUP($C100,aliments!$B$2:$AZ$70,2,0)/100) | G100: =IF($C100="","",$E100*VLOOKUP($C100,aliments!$B$2:$AZ$70,3,0)/100) | H100: =IF($C100="","",$E100*VLOOKUP($C100,aliments!$B$2:$AZ$70,4,0)/100) | I100: =IF($C100="","",$E100*VLOOKUP($C100,aliments!$B$2:$AZ$70,5,0)/100) | J100: =IF($C100="","",$E100*VLOOKUP($C100,aliments!$B$2:$AZ$70,6,0)/100) | K100: =IF($C100="","",$E100*VLOOKUP($C100,aliments!$B$2:$AZ$70,7,0)/100) | L100: =IF($C100="","",$E100*VLOOKUP($C100,aliments!$B$2:$AZ$70,8,0)/100) | M100: =IF($C100="","",$E100*VLOOKUP($C100,aliments!$B$2:$AZ$70,9,0)/100) | N100: =IF($C100="","",$E100*VLOOKUP($C100,aliments!$B$2:$AZ$70,10,0)/100) | O100: =IF($C100="","",$E100*VLOOKUP($C100,aliments!$B$2:$AZ$70,11,0)/100) | P100: =IF($C100="","",$E100*VLOOKUP($C100,aliments!$B$2:$AZ$70,12,0)/100) | Q100: =IF($C100="","",$E100*VLOOKUP($C100,aliments!$B$2:$AZ$70,13,0)/100) | R100: =IF($C100="","",$E100*VLOOKUP($C100,aliments!$B$2:$AZ$70,14,0)/100) | S100: =IF($C100="","",$E100*VLOOKUP($C100,aliments!$B$2:$AZ$70,15,0)/100) | T100: =IF($C100="","",$E100*VLOOKUP($C100,aliments!$B$2:$AZ$70,16,0)/100) | U100: =IF($C100="","",$E100*VLOOKUP($C100,aliments!$B$2:$AZ$70,17,0)/100) | V100: =IF($C100="","",$E100*VLOOKUP($C100,aliments!$B$2:$AZ$70,18,0)/100) | W100: =IF($C100="","",$E100*VLOOKUP($C100,aliments!$B$2:$AZ$70,19,0)/100) | X100: =IF($C100="","",$E100*VLOOKUP($C100,aliments!$B$2:$AZ$70,20,0)/100) | Y100: =IF($C100="","",$E100*VLOOKUP($C100,aliments!$B$2:$AZ$70,21,0)/100) | Z100: =IF($C100="","",$E100*VLOOKUP($C100,aliments!$B$2:$AZ$70,22,0)/100) | AA100: =IF($C100="","",$E100*VLOOKUP($C100,aliments!$B$2:$AZ$70,23,0)/100) | AB100: =IF($C100="","",$E100*VLOOKUP($C100,aliments!$B$2:$AZ$70,24,0)/100) | AC100: =IF($C100="","",$E100*VLOOKUP($C100,aliments!$B$2:$AZ$70,25,0)/100) | AD100: =IF($C100="","",$E100*VLOOKUP($C100,aliments!$B$2:$AZ$70,26,0)/100) | AE100: =IF($C100="","",$E100*VLOOKUP($C100,aliments!$B$2:$AZ$70,27,0)/100) | AF100: =IF($C100="","",$E100*VLOOKUP($C100,aliments!$B$2:$AZ$70,28,0)/100) | AG100: =IF($C100="","",$E100*VLOOKUP($C100,aliments!$B$2:$AZ$70,29,0)/100) | AH100: =IF($C100="","",$E100*VLOOKUP($C100,aliments!$B$2:$AZ$70,30,0)/100) | AI100: =IF($C100="","",$E100*VLOOKUP($C100,aliments!$B$2:$AZ$70,31,0)/100) | AJ100: =IF($C100="","",$E100*VLOOKUP($C100,aliments!$B$2:$AZ$70,32,0)/100) | AK100: =IF($C100="","",$E100*VLOOKUP($C100,aliments!$B$2:$AZ$70,33,0)/100) | AL100: =IF($C100="","",$E100*VLOOKUP($C100,aliments!$B$2:$AZ$70,34,0)/100) | AM100: =IF($C100="","",$E100*VLOOKUP($C100,aliments!$B$2:$AZ$70,35,0)/100) | AN100: =IF($C100="","",$E100*VLOOKUP($C100,aliments!$B$2:$AZ$70,36,0)/100) | AO100: =IF($C100="","",$E100*VLOOKUP($C100,aliments!$B$2:$AZ$70,37,0)/100)
F101: =IF($C101="","",$E101*VLOOKUP($C101,aliments!$B$2:$AZ$70,2,0)/100) | G101: =IF($C101="","",$E101*VLOOKUP($C101,aliments!$B$2:$AZ$70,3,0)/100) | H101: =IF($C101="","",$E101*VLOOKUP($C101,aliments!$B$2:$AZ$70,4,0)/100) | I101: =IF($C101="","",$E101*VLOOKUP($C101,aliments!$B$2:$AZ$70,5,0)/100) | J101: =IF($C101="","",$E101*VLOOKUP($C101,aliments!$B$2:$AZ$70,6,0)/100) | K101: =IF($C101="","",$E101*VLOOKUP($C101,aliments!$B$2:$AZ$70,7,0)/100) | L101: =IF($C101="","",$E101*VLOOKUP($C101,aliments!$B$2:$AZ$70,8,0)/100) | M101: =IF($C101="","",$E101*VLOOKUP($C101,aliments!$B$2:$AZ$70,9,0)/100) | N101: =IF($C101="","",$E101*VLOOKUP($C101,aliments!$B$2:$AZ$70,10,0)/100) | O101: =IF($C101="","",$E101*VLOOKUP($C101,aliments!$B$2:$AZ$70,11,0)/100) | P101: =IF($C101="","",$E101*VLOOKUP($C101,aliments!$B$2:$AZ$70,12,0)/100) | Q101: =IF($C101="","",$E101*VLOOKUP($C101,aliments!$B$2:$AZ$70,13,0)/100) | R101: =IF($C101="","",$E101*VLOOKUP($C101,aliments!$B$2:$AZ$70,14,0)/100) | S101: =IF($C101="","",$E101*VLOOKUP($C101,aliments!$B$2:$AZ$70,15,0)/100) | T101: =IF($C101="","",$E101*VLOOKUP($C101,aliments!$B$2:$AZ$70,16,0)/100) | U101: =IF($C101="","",$E101*VLOOKUP($C101,aliments!$B$2:$AZ$70,17,0)/100) | V101: =IF($C101="","",$E101*VLOOKUP($C101,aliments!$B$2:$AZ$70,18,0)/100) | W101: =IF($C101="","",$E101*VLOOKUP($C101,aliments!$B$2:$AZ$70,19,0)/100) | X101: =IF($C101="","",$E101*VLOOKUP($C101,aliments!$B$2:$AZ$70,20,0)/100) | Y101: =IF($C101="","",$E101*VLOOKUP($C101,aliments!$B$2:$AZ$70,21,0)/100) | Z101: =IF($C101="","",$E101*VLOOKUP($C101,aliments!$B$2:$AZ$70,22,0)/100) | AA101: =IF($C101="","",$E101*VLOOKUP($C101,aliments!$B$2:$AZ$70,23,0)/100) | AB101: =IF($C101="","",$E101*VLOOKUP($C101,aliments!$B$2:$AZ$70,24,0)/100) | AC101: =IF($C101="","",$E101*VLOOKUP($C101,aliments!$B$2:$AZ$70,25,0)/100) | AD101: =IF($C101="","",$E101*VLOOKUP($C101,aliments!$B$2:$AZ$70,26,0)/100) | AE101: =IF($C101="","",$E101*VLOOKUP($C101,aliments!$B$2:$AZ$70,27,0)/100) | AF101: =IF($C101="","",$E101*VLOOKUP($C101,aliments!$B$2:$AZ$70,28,0)/100) | AG101: =IF($C101="","",$E101*VLOOKUP($C101,aliments!$B$2:$AZ$70,29,0)/100) | AH101: =IF($C101="","",$E101*VLOOKUP($C101,aliments!$B$2:$AZ$70,30,0)/100) | AI101: =IF($C101="","",$E101*VLOOKUP($C101,aliments!$B$2:$AZ$70,31,0)/100) | AJ101: =IF($C101="","",$E101*VLOOKUP($C101,aliments!$B$2:$AZ$70,32,0)/100) | AK101: =IF($C101="","",$E101*VLOOKUP($C101,aliments!$B$2:$AZ$70,33,0)/100) | AL101: =IF($C101="","",$E101*VLOOKUP($C101,aliments!$B$2:$AZ$70,34,0)/100) | AM101: =IF($C101="","",$E101*VLOOKUP($C101,aliments!$B$2:$AZ$70,35,0)/100) | AN101: =IF($C101="","",$E101*VLOOKUP($C101,aliments!$B$2:$AZ$70,36,0)/100) | AO101: =IF($C101="","",$E101*VLOOKUP($C101,aliments!$B$2:$AZ$70,37,0)/100)
F102: =IF($C102="","",$E102*VLOOKUP($C102,aliments!$B$2:$AZ$70,2,0)/100) | G102: =IF($C102="","",$E102*VLOOKUP($C102,aliments!$B$2:$AZ$70,3,0)/100) | H102: =IF($C102="","",$E102*VLOOKUP($C102,aliments!$B$2:$AZ$70,4,0)/100) | I102: =IF($C102="","",$E102*VLOOKUP($C102,aliments!$B$2:$AZ$70,5,0)/100) | J102: =IF($C102="","",$E102*VLOOKUP($C102,aliments!$B$2:$AZ$70,6,0)/100) | K102: =IF($C102="","",$E102*VLOOKUP($C102,aliments!$B$2:$AZ$70,7,0)/100) | L102: =IF($C102="","",$E102*VLOOKUP($C102,aliments!$B$2:$AZ$70,8,0)/100) | M102: =IF($C102="","",$E102*VLOOKUP($C102,aliments!$B$2:$AZ$70,9,0)/100) | N102: =IF($C102="","",$E102*VLOOKUP($C102,aliments!$B$2:$AZ$70,10,0)/100) | O102: =IF($C102="","",$E102*VLOOKUP($C102,aliments!$B$2:$AZ$70,11,0)/100) | P102: =IF($C102="","",$E102*VLOOKUP($C102,aliments!$B$2:$AZ$70,12,0)/100) | Q102: =IF($C102="","",$E102*VLOOKUP($C102,aliments!$B$2:$AZ$70,13,0)/100) | R102: =IF($C102="","",$E102*VLOOKUP($C102,aliments!$B$2:$AZ$70,14,0)/100) | S102: =IF($C102="","",$E102*VLOOKUP($C102,aliments!$B$2:$AZ$70,15,0)/100) | T102: =IF($C102="","",$E102*VLOOKUP($C102,aliments!$B$2:$AZ$70,16,0)/100) | U102: =IF($C102="","",$E102*VLOOKUP($C102,aliments!$B$2:$AZ$70,17,0)/100) | V102: =IF($C102="","",$E102*VLOOKUP($C102,aliments!$B$2:$AZ$70,18,0)/100) | W102: =IF($C102="","",$E102*VLOOKUP($C102,aliments!$B$2:$AZ$70,19,0)/100) | X102: =IF($C102="","",$E102*VLOOKUP($C102,aliments!$B$2:$AZ$70,20,0)/100) | Y102: =IF($C102="","",$E102*VLOOKUP($C102,aliments!$B$2:$AZ$70,21,0)/100) | Z102: =IF($C102="","",$E102*VLOOKUP($C102,aliments!$B$2:$AZ$70,22,0)/100) | AA102: =IF($C102="","",$E102*VLOOKUP($C102,aliments!$B$2:$AZ$70,23,0)/100) | AB102: =IF($C102="","",$E102*VLOOKUP($C102,aliments!$B$2:$AZ$70,24,0)/100) | AC102: =IF($C102="","",$E102*VLOOKUP($C102,aliments!$B$2:$AZ$70,25,0)/100) | AD102: =IF($C102="","",$E102*VLOOKUP($C102,aliments!$B$2:$AZ$70,26,0)/100) | AE102: =IF($C102="","",$E102*VLOOKUP($C102,aliments!$B$2:$AZ$70,27,0)/100) | AF102: =IF($C102="","",$E102*VLOOKUP($C102,aliments!$B$2:$AZ$70,28,0)/100) | AG102: =IF($C102="","",$E102*VLOOKUP($C102,aliments!$B$2:$AZ$70,29,0)/100) | AH102: =IF($C102="","",$E102*VLOOKUP($C102,aliments!$B$2:$AZ$70,30,0)/100) | AI102: =IF($C102="","",$E102*VLOOKUP($C102,aliments!$B$2:$AZ$70,31,0)/100) | AJ102: =IF($C102="","",$E102*VLOOKUP($C102,aliments!$B$2:$AZ$70,32,0)/100) | AK102: =IF($C102="","",$E102*VLOOKUP($C102,aliments!$B$2:$AZ$70,33,0)/100) | AL102: =IF($C102="","",$E102*VLOOKUP($C102,aliments!$B$2:$AZ$70,34,0)/100) | AM102: =IF($C102="","",$E102*VLOOKUP($C102,aliments!$B$2:$AZ$70,35,0)/100) | AN102: =IF($C102="","",$E102*VLOOKUP($C102,aliments!$B$2:$AZ$70,36,0)/100) | AO102: =IF($C102="","",$E102*VLOOKUP($C102,aliments!$B$2:$AZ$70,37,0)/100)
A103: Sous total | F103: =IF(SUM(F96:F102)=0,"",AVERAGE(F96:F102)) | G103: =SUM(G96:G102) -> 0 | H103: =SUM(H96:H102) -> 0 | I103: =SUM(I96:I102) -> 0 | J103: =SUM(J96:J102) -> 0 | K103: =SUM(K96:K102) -> 0 | L103: =SUM(L96:L102) -> 0 | M103: =SUM(M96:M102) -> 0 | N103: =SUM(N96:N102) -> 0 | ... AO103: =SUM(AO96:AO102) -> 0
...

Sheet aliments
