Workbook
Name Abats: aliments!$B$2:$B$31
Name Aliments_lactés_diététiques: aliments!$B$32
Name Autres_matières_grasses_animales: aliments!$B$33:$B$38
Name Beurres_et_matières_grasses_animales: aliments!$B$39:$B$47
Name Beurres_et_matières_grasses_laitières: aliments!$B$39:$B$47
Name Bières_et_similaires: aliments!$B$48:$B$53
Name Biscottes_et_pains_non_levés: aliments!$B$54:$B$67
Name Biscuit_apéritif_à_base_de_pomme_de_terre__type_tuile_salée: aliments!$B$68:$B$70
Name Biscuit_secs_sucrés: aliments!#REF!
Name Biscuits_salés_apéritifs: aliments!$B$68:$B$70
Name Biscuits_secs_sucrés: aliments!#REF!
Name Boissons_rafraîchissantes_sans_alcool: aliments!#REF!
Name Bouillons_prêts_à_consommer: aliments!#REF!
Name Café_thé_infusions_boissons_au_cacao: aliments!#REF!
Name Catégories: tableau!$CA$2:$CA$73
Name Céréales_petit_déjeuner_et_barres_céréalières: aliments!#REF!
Name Charcuteries_et_salaisons: aliments!#REF!
Name Chocolats_et_produits_à_base_de_chocolat: aliments!#REF!
Name Cidres_et_similaires: aliments!#REF!
Name Cocktails: aliments!#REF!
Name Compléments_alimentaires: aliments!#REF!
Name Confiseries_non_chocolatées: aliments!#REF!
Name Confitures: aliments!#REF!
Name Crèmes_et_spécialités_à_base_de_crème: aliments!#REF!
Name Crustacés_et_mollusques_non_transformés: aliments!#REF!
Name Denrées_destinées_à_une_alimentation_particulière: aliments!#REF!
Name Desserts_lactés_frais_ou_UHT: aliments!#REF!
Name Eaux: aliments!#REF!
Name Entremets_et_glaces: aliments!#REF!
Name Farines_et_amidons: aliments!#REF!
Name Fromages: aliments!#REF!
Name Fromages_affinés_à_pâte_dure: aliments!#REF!
Name Fromages_affinés_à_pâte_ferme: aliments!#REF!
Name Fromages_affinés_à_pâte_molle: aliments!#REF!
Name Fromages_affinés_à_pâte_persillée: aliments!#REF!
Name Fromages_blancs_ultrafrais: aliments!#REF!
Name Fromages_fondus: aliments!#REF!
Name Fromages_non_affinés_et_spécialités_fromagères: aliments!#REF!
Name Fruits: aliments!#REF!
Name Gâteaux_et_pâtisseries: aliments!#REF!
Name Graines_oléagineuses_et_châtaignes: aliments!#REF!
Name Herbes_épices_et_assaisonnements: aliments!#REF!
Name Huiles_et_graisses_végétales: aliments!#REF!
Name Jus_et_nectars: aliments!#REF!
Name Lait_de_croissance_infantile: aliments!$B$32
Name Laits: aliments!#REF!
Name Légumes: aliments!#REF!
Name Légumes_secs: aliments!#REF!
Name Liqueurs_et_alcools: aliments!#REF!
Name Margarines_et_matières_grasses_composées: aliments!#REF!
Name Oeufs_et_dérivés: aliments!#REF!
Name Pains: aliments!#REF!
Name Pâtes_et_semoules: aliments!#REF!
Name Pizzas_crêpes_et_tartes_salées: aliments!#REF!
Name Plats_à_base_de_céréales_ou_pâtes: aliments!#REF!
Name Plats_à_base_de_fromage: aliments!#REF!
Name Plats_à_base_de_légumes_ou_légumineuses: aliments!#REF!
Name Plats_à_base_de_poisson_ou_produits_aquatiques: aliments!#REF!
Name Plats_à_base_de_viande_ou_volaille: aliments!#REF!
Name Plats_composés: aliments!#REF!

Sheet tableau
A1: Lundi | CA1: Catégories
A2: Petit déj | B2: Catégorie | C2: Aliments | D2: Portion( g) | E2: Quantité( g) | F2: CG | G2: Pral | H2: Protides ( g) | I2: Glucides ( g) | J2: Lipides (g) | K2: Calories | L2: VitA (µg) | M2: Beta-Car. (µg) | N2: Vit D (µg) | O2: Vit E (mg) | P2: Vit K (µg) | Q2: VitC (mg) | R2: Vit B1 (mg) | S2: Vit B2 (mg) | T2: Vit B3 (mg) | U2: Vit B5 (mg) | V2: Vit B6 (mg) | W2: Vit B9 (µg) | X2: Vit B12 (µg) | Y2: Calcium (mg) | Z2: Cuivre (mg) | AA2: Fer (mg) | AB2: Iode (µg) | AC2: Magnésium (mg) | AD2: Manganèse (mg) | AE2: Phosphore (mg) | AF2: Potassium (mg) | AG2: Sélénium (µg) | AH2: Sodium (mg) | AI2: Zinc (mg) | AJ2: Fibres (g) | AK2: AG saturés (g) | AL2: AG monoinsaturés (g) | AM2: Polyols totaux (g) | AN2: AG polyinsaturés (g) | AO2: Cholestérol (mg) | CA2: Abats
B3: Abats | C3: Cervelle, agneau, cuite | E3: 100 | F3: =IF($C3="","",$E3*VLOOKUP($C3,aliments!$B$2:$AZ$70,2,0)/100) -> 0.008 | G3: =IF($C3="","",$E3*VLOOKUP($C3,aliments!$B$2:$AZ$70,3,0)/100) -> 18.27 | H3: =IF($C3="","",$E3*VLOOKUP($C3,aliments!$B$2:$AZ$70,4,0)/100) -> 10.8 | I3: =IF($C3="","",$E3*VLOOKUP($C3,aliments!$B$2:$AZ$70,5,0)/100) -> 0.8 | J3: =IF($C3="","",$E3*VLOOKUP($C3,aliments!$B$2:$AZ$70,6,0)/100) -> 8.8 | K3: =IF($C3="","",$E3*VLOOKUP($C3,aliments!$B$2:$AZ$70,7,0)/100) -> 126 | L3: =IF($C3="","",$E3*VLOOKUP($C3,aliments!$B$2:$AZ$70,8,0)/100) -> 0 | M3: =IF($C3="","",$E3*VLOOKUP($C3,aliments!$B$2:$AZ$70,9,0)/100) -> 0 | N3: =IF($C3="","",$E3*VLOOKUP($C3,aliments!$B$2:$AZ$70,10,0)/100) -> 0 | O3: =IF($C3="","",$E3*VLOOKUP($C3,aliments!$B$2:$AZ$70,11,0)/100) -> 0 | P3: =IF($C3="","",$E3*VLOOKUP($C3,aliments!$B$2:$AZ$70,12,0)/100) -> 0 | Q3: =IF($C3="","",$E3*VLOOKUP($C3,aliments!$B$2:$AZ$70,13,0)/100) -> 12 | R3: =IF($C3="","",$E3*VLOOKUP($C3,aliments!$B$2:$AZ$70,14,0)/100) -> 0.11 | S3: =IF($C3="","",$E3*VLOOKUP($C3,aliments!$B$2:$AZ$70,15,0)/100) -> 0.24 | T3: =IF($C3="","",$E3*VLOOKUP($C3,aliments!$B$2:$AZ$70,16,0)/100) -> 2.47 | U3: =IF($C3="","",$E3*VLOOKUP($C3,aliments!$B$2:$AZ$70,17,0)/100) -> 0.99 | V3: =IF($C3="","",$E3*VLOOKUP($C3,aliments!$B$2:$AZ$70,18,0)/100) -> 0.11 | W3: =IF($C3="","",$E3*VLOOKUP($C3,aliments!$B$2:$AZ$70,19,0)/100) -> 5 | X3: =IF($C3="","",$E3*VLOOKUP($C3,aliments!$B$2:$AZ$70,20,0)/100) -> 9.25 | Y3: =IF($C3="","",$E3*VLOOKUP($C3,aliments!$B$2:$AZ$70,21,0)/100) -> 6.93 | Z3: =IF($C3="","",$E3*VLOOKUP($C3,aliments!$B$2:$AZ$70,22,0)/100) -> 0.21 | AA3: =IF($C3="","",$E3*VLOOKUP($C3,aliments!$B$2:$AZ$70,23,0)/100) -> 3.53 | AB3: =IF($C3="","",$E3*VLOOKUP($C3,aliments!$B$2:$AZ$70,24,0)/100) -> 1 | AC3: =IF($C3="","",$E3*VLOOKUP($C3,aliments!$B$2:$AZ$70,25,0)/100) -> 15.9 | AD3: =IF($C3="","",$E3*VLOOKUP($C3,aliments!$B$2:$AZ$70,26,0)/100) -> 0.059 | AE3: =IF($C3="","",$E3*VLOOKUP($C3,aliments!$B$2:$AZ$70,27,0)/100) -> 316 | AF3: =IF($C3="","",$E3*VLOOKUP($C3,aliments!$B$2:$AZ$70,28,0)/100) -> 205 | AG3: =IF($C3="","",$E3*VLOOKUP($C3,aliments!$B$2:$AZ$70,29,0)/100) -> 0 | AH3: =IF($C3="","",$E3*VLOOKUP($C3,aliments!$B$2:$AZ$70,30,0)/100) -> 130 | AI3: =IF($C3="","",$E3*VLOOKUP($C3,aliments!$B$2:$AZ$70,31,0)/100) -> 1.36 | AJ3: =IF($C3="","",$E3*VLOOKUP($C3,aliments!$B$2:$AZ$70,32,0)/100) -> 0 | AK3: =IF($C3="","",$E3*VLOOKUP($C3,aliments!$B$2:$AZ$70,33,0)/100) -> 2.6 | AL3: =IF($C3="","",$E3*VLOOKUP($C3,aliments!$B$2:$AZ$70,34,0)/100) -> 1.84 | AM3: =IF($C3="","",$E3*VLOOKUP($C3,aliments!$B$2:$AZ$70,35,0)/100) -> 0 | AN3: =IF($C3="","",$E3*VLOOKUP($C3,aliments!$B$2:$AZ$70,36,0)/100) -> 1.04 | AO3: =IF($C3="","",$E3*VLOOKUP($C3,aliments!$B$2:$AZ$70,37,0)/100) -> 2080 | CA3: Aliments_lactés_diététiques
E4: 100 | F4: =IF($C4="","",$E4*VLOOKUP($C4,aliments!$B$2:$AZ$70,2,0)/100) | G4: =IF($C4="","",$E4*VLOOKUP($C4,aliments!$B$2:$AZ$70,3,0)/100) | H4: =IF($C4="","",$E4*VLOOKUP($C4,aliments!$B$2:$AZ$70,4,0)/100) | I4: =IF($C4="","",$E4*VLOOKUP($C4,aliments!$B$2:$AZ$70,5,0)/100) | J4: =IF($C4="","",$E4*VLOOKUP($C4,aliments!$B$2:$AZ$70,6,0)/100) | K4: =IF($C4="","",$E4*VLOOKUP($C4,aliments!$B$2:$AZ$70,7,0)/100) | L4: =IF($C4="","",$E4*VLOOKUP($C4,aliments!$B$2:$AZ$70,8,0)/100) | M4: =IF($C4="","",$E4*VLOOKUP($C4,aliments!$B$2:$AZ$70,9,0)/100) | N4: =IF($C4="","",$E4*VLOOKUP($C4,aliments!$B$2:$AZ$70,10,0)/100) | O4: =IF($C4="","",$E4*VLOOKUP($C4,aliments!$B$2:$AZ$70,11,0)/100) | P4: =IF($C4="","",$E4*VLOOKUP($C4,aliments!$B$2:$AZ$70,12,0)/100) | Q4: =IF($C4="","",$E4*VLOOKUP($C4,aliments!$B$2:$AZ$70,13,0)/100) | R4: =IF($C4="","",$E4*VLOOKUP($C4,aliments!$B$2:$AZ$70,14,0)/100) | S4: =IF($C4="","",$E4*VLOOKUP($C4,aliments!$B$2:$AZ$70,15,0)/100) | T4: =IF($C4="","",$E4*VLOOKUP($C4,aliments!$B$2:$AZ$70,16,0)/100) | U4: =IF($C4="","",$E4*VLOOKUP($C4,aliments!$B$2:$AZ$70,17,0)/100) | V4: =IF($C4="","",$E4*VLOOKUP($C4,aliments!$B$2:$AZ$70,18,0)/100) | W4: =IF($C4="","",$E4*VLOOKUP($C4,aliments!$B$2:$AZ$70,19,0)/100) | X4: =IF($C4="","",$E4*VLOOKUP($C4,aliments!$B$2:$AZ$70,20,0)/100) | Y4: =IF($C4="","",$E4*VLOOKUP($C4,aliments!$B$2:$AZ$70,21,0)/100) | Z4: =IF($C4="","",$E4*VLOOKUP($C4,aliments!$B$2:$AZ$70,22,0)/100) | AA4: =IF($C4="","",$E4*VLOOKUP($C4,aliments!$B$2:$AZ$70,23,0)/100) | AB4: =IF($C4="","",$E4*VLOOKUP($C4,aliments!$B$2:$AZ$70,24,0)/100) | AC4: =IF($C4="","",$E4*VLOOKUP($C4,aliments!$B$2:$AZ$70,25,0)/100) | AD4: =IF($C4="","",$E4*VLOOKUP($C4,aliments!$B$2:$AZ$70,26,0)/100) | AE4: =IF($C4="","",$E4*VLOOKUP($C4,aliments!$B$2:$AZ$70,27,0)/100) | AF4: =IF($C4="","",$E4*VLOOKUP($C4,aliments!$B$2:$AZ$70,28,0)/100) | AG4: =IF($C4="","",$E4*VLOOKUP($C4,aliments!$B$2:$AZ$70,29,0)/100) | AH4: =IF($C4="","",$E4*VLOOKUP($C4,aliments!$B$2:$AZ$70,30,0)/100) | AI4: =IF($C4="","",$E4*VLOOKUP($C4,aliments!$B$2:$AZ$70,31,0)/100) | AJ4: =IF($C4="","",$E4*VLOOKUP($C4,aliments!$B$2:$AZ$70,32,0)/100) | AK4: =IF($C4="","",$E4*VLOOKUP($C4,aliments!$B$2:$AZ$70,33,0)/100) | AL4: =IF($C4="","",$E4*VLOOKUP($C4,aliments!$B$2:$AZ$70,34,0)/100) | AM4: =IF($C4="","",$E4*VLOOKUP($C4,aliments!$B$2:$AZ$70,35,0)/100) | AN4: =IF($C4="","",$E4*VLOOKUP($C4,aliments!$B$2:$AZ$70,36,0)/100) | AO4: =IF($C4="","",$E4*VLOOKUP($C4,aliments!$B$2:$AZ$70,37,0)/100) | CA4: Autres_matières_grasses_animales
E5: 100 | F5: =IF($C5="","",$E5*VLOOKUP($C5,aliments!$B$2:$AZ$70,2,0)/100) | G5: =IF($C5="","",$E5*VLOOKUP($C5,aliments!$B$2:$AZ$70,3,0)/100) | H5: =IF($C5="","",$E5*VLOOKUP($C5,aliments!$B$2:$AZ$70,4,0)/100) | I5: =IF($C5="","",$E5*VLOOKUP($C5,aliments!$B$2:$AZ$70,5,0)/100) | J5: =IF($C5="","",$E5*VLOOKUP($C5,aliments!$B$2:$AZ$70,6,0)/100) | K5: =IF($C5="","",$E5*VLOOKUP($C5,aliments!$B$2:$AZ$70,7,0)/100) | L5: =IF($C5="","",$E5*VLOOKUP($C5,aliments!$B$2:$AZ$70,8,0)/100) | M5: =IF($C5="","",$E5*VLOOKUP($C5,aliments!$B$2:$AZ$70,9,0)/100) | N5: =IF($C5="","",$E5*VLOOKUP($C5,aliments!$B$2:$AZ$70,10,0)/100) | O5: =IF($C5="","",$E5*VLOOKUP($C5,aliments!$B$2:$AZ$70,11,0)/100) | P5: =IF($C5="","",$E5*VLOOKUP($C5,aliments!$B$2:$AZ$70,12,0)/100) | Q5: =IF($C5="","",$E5*VLOOKUP($C5,aliments!$B$2:$AZ$70,13,0)/100) | R5: =IF($C5="","",$E5*VLOOKUP($C5,aliments!$B$2:$AZ$70,14,0)/100) | S5: =IF($C5="","",$E5*VLOOKUP($C5,aliments!$B$2:$AZ$70,15,0)/100) | T5: =IF($C5="","",$E5*VLOOKUP($C5,aliments!$B$2:$AZ$70,16,0)/100) | U5: =IF($C5="","",$E5*VLOOKUP($C5,aliments!$B$2:$AZ$70,17,0)/100) | V5: =IF($C5="","",$E5*VLOOKUP($C5,aliments!$B$2:$AZ$70,18,0)/100) | W5: =IF($C5="","",$E5*VLOOKUP($C5,aliments!$B$2:$AZ$70,19,0)/100) | X5: =IF($C5="","",$E5*VLOOKUP($C5,aliments!$B$2:$AZ$70,20,0)/100) | Y5: =IF($C5="","",$E5*VLOOKUP($C5,aliments!$B$2:$AZ$70,21,0)/100) | Z5: =IF($C5="","",$E5*VLOOKUP($C5,aliments!$B$2:$AZ$70,22,0)/100) | AA5: =IF($C5="","",$E5*VLOOKUP($C5,aliments!$B$2:$AZ$70,23,0)/100) | AB5: =IF($C5="","",$E5*VLOOKUP($C5,aliments!$B$2:$AZ$70,24,0)/100) | AC5: =IF($C5="","",$E5*VLOOKUP($C5,aliments!$B$2:$AZ$70,25,0)/100) | AD5: =IF($C5="","",$E5*VLOOKUP($C5,aliments!$B$2:$AZ$70,26,0)/100) | AE5: =IF($C5="","",$E5*VLOOKUP($C5,aliments!$B$2:$AZ$70,27,0)/100) | AF5: =IF($C5="","",$E5*VLOOKUP($C5,aliments!$B$2:$AZ$70,28,0)/100) | AG5: =IF($C5="","",$E5*VLOOKUP($C5,aliments!$B$2:$AZ$70,29,0)/100) | AH5: =IF($C5="","",$E5*VLOOKUP($C5,aliments!$B$2:$AZ$70,30,0)/100) | AI5: =IF($C5="","",$E5*VLOOKUP($C5,aliments!$B$2:$AZ$70,31,0)/100) | AJ5: =IF($C5="","",$E5*VLOOKUP($C5,aliments!$B$2:$AZ$70,32,0)/100) | AK5: =IF($C5="","",$E5*VLOOKUP($C5,aliments!$B$2:$AZ$70,33,0)/100) | AL5: =IF($C5="","",$E5*VLOOKUP($C5,aliments!$B$2:$AZ$70,34,0)/100) | AM5: =IF($C5="","",$E5*VLOOKUP($C5,aliments!$B$2:$AZ$70,35,0)/100) | AN5: =IF($C5="","",$E5*VLOOKUP($C5,aliments!$B$2:$AZ$70,36,0)/100) | AO5: =IF($C5="","",$E5*VLOOKUP($C5,aliments!$B$2:$AZ$70,37,0)/100) | CA5: Beurres_et_matières_grasses_laitières
F6: =IF($C6="","",$E6*VLOOKUP($C6,aliments!$B$2:$AZ$70,2,0)/100) | G6: =IF($C6="","",$E6*VLOOKUP($C6,aliments!$B$2:$AZ$70,3,0)/100) | H6: =IF($C6="","",$E6*VLOOKUP($C6,aliments!$B$2:$AZ$70,4,0)/100) | I6: =IF($C6="","",$E6*VLOOKUP($C6,aliments!$B$2:$AZ$70,5,0)/100) | J6: =IF($C6="","",$E6*VLOOKUP($C6,aliments!$B$2:$AZ$70,6,0)/100) | K6: =IF($C6="","",$E6*VLOOKUP($C6,aliments!$B$2:$AZ$70,7,0)/100) | L6: =IF($C6="","",$E6*VLOOKUP($C6,aliments!$B$2:$AZ$70,8,0)/100) | M6: =IF($C6="","",$E6*VLOOKUP($C6,aliments!$B$2:$AZ$70,9,0)/100) | N6: =IF($C6="","",$E6*VLOOKUP($C6,aliments!$B$2:$AZ$70,10,0)/100) | O6: =IF($C6="","",$E6*VLOOKUP($C6,aliments!$B$2:$AZ$70,11,0)/100) | P6: =IF($C6="","",$E6*VLOOKUP($C6,aliments!$B$2:$AZ$70,12,0)/100) | Q6: =IF($C6="","",$E6*VLOOKUP($C6,aliments!$B$2:$AZ$70,13,0)/100) | R6: =IF($C6="","",$E6*VLOOKUP($C6,aliments!$B$2:$AZ$70,14,0)/100) | S6: =IF($C6="","",$E6*VLOOKUP($C6,aliments!$B$2:$AZ$70,15,0)/100) | T6: =IF($C6="","",$E6*VLOOKUP($C6,aliments!$B$2:$AZ$70,16,0)/100) | U6: =IF($C6="","",$E6*VLOOKUP($C6,aliments!$B$2:$AZ$70,17,0)/100) | V6: =IF($C6="","",$E6*VLOOKUP($C6,aliments!$B$2:$AZ$70,18,0)/100) | W6: =IF($C6="","",$E6*VLOOKUP($C6,aliments!$B$2:$AZ$70,19,0)/100) | X6: =IF($C6="","",$E6*VLOOKUP($C6,aliments!$B$2:$AZ$70,20,0)/100) | Y6: =IF($C6="","",$E6*VLOOKUP($C6,aliments!$B$2:$AZ$70,21,0)/100) | Z6: =IF($C6="","",$E6*VLOOKUP($C6,aliments!$B$2:$AZ$70,22,0)/100) | AA6: =IF($C6="","",$E6*VLOOKUP($C6,aliments!$B$2:$AZ$70,23,0)/100) | AB6: =IF($C6="","",$E6*VLOOKUP($C6,aliments!$B$2:$AZ$70,24,0)/100) | AC6: =IF($C6="","",$E6*VLOOKUP($C6,aliments!$B$2:$AZ$70,25,0)/100) | AD6: =IF($C6="","",$E6*VLOOKUP($C6,aliments!$B$2:$AZ$70,26,0)/100) | AE6: =IF($C6="","",$E6*VLOOKUP($C6,aliments!$B$2:$AZ$70,27,0)/100) | AF6: =IF($C6="","",$E6*VLOOKUP($C6,aliments!$B$2:$AZ$70,28,0)/100) | AG6: =IF($C6="","",$E6*VLOOKUP($C6,aliments!$B$2:$AZ$70,29,0)/100) | AH6: =IF($C6="","",$E6*VLOOKUP($C6,aliments!$B$2:$AZ$70,30,0)/100) | AI6: =IF($C6="","",$E6*VLOOKUP($C6,aliments!$B$2:$AZ$70,31,0)/100) | AJ6: =IF($C6="","",$E6*VLOOKUP($C6,aliments!$B$2:$AZ$70,32,0)/100) | AK6: =IF($C6="","",$E6*VLOOKUP($C6,aliments!$B$2:$AZ$70,33,0)/100) | AL6: =IF($C6="","",$E6*VLOOKUP($C6,aliments!$B$2:$AZ$70,34,0)/100) | AM6: =IF($C6="","",$E6*VLOOKUP($C6,aliments!$B$2:$AZ$70,35,0)/100) | AN6: =IF($C6="","",$E6*VLOOKUP($C6,aliments!$B$2:$AZ$70,36,0)/100) | AO6: =IF($C6="","",$E6*VLOOKUP($C6,aliments!$B$2:$AZ$70,37,0)/100) | CA6: Bières_et_similaires
F7: =IF($C7="","",$E7*VLOOKUP($C7,aliments!$B$2:$AZ$70,2,0)/100) | G7: =IF($C7="","",$E7*VLOOKUP($C7,aliments!$B$2:$AZ$70,3,0)/100) | H7: =IF($C7="","",$E7*VLOOKUP($C7,aliments!$B$2:$AZ$70,4,0)/100) | I7: =IF($C7="","",$E7*VLOOKUP($C7,aliments!$B$2:$AZ$70,5,0)/100) | J7: =IF($C7="","",$E7*VLOOKUP($C7,aliments!$B$2:$AZ$70,6,0)/100) | K7: =IF($C7="","",$E7*VLOOKUP($C7,aliments!$B$2:$AZ$70,7,0)/100) | L7: =IF($C7="","",$E7*VLOOKUP($C7,aliments!$B$2:$AZ$70,8,0)/100) | M7: =IF($C7="","",$E7*VLOOKUP($C7,aliments!$B$2:$AZ$70,9,0)/100) | N7: =IF($C7="","",$E7*VLOOKUP($C7,aliments!$B$2:$AZ$70,10,0)/100) | O7: =IF($C7="","",$E7*VLOOKUP($C7,aliments!$B$2:$AZ$70,11,0)/100) | P7: =IF($C7="","",$E7*VLOOKUP($C7,aliments!$B$2:$AZ$70,12,0)/100) | Q7: =IF($C7="","",$E7*VLOOKUP($C7,aliments!$B$2:$AZ$70,13,0)/100) | R7: =IF($C7="","",$E7*VLOOKUP($C7,aliments!$B$2:$AZ$70,14,0)/100) | S7: =IF($C7="","",$E7*VLOOKUP($C7,aliments!$B$2:$AZ$70,15,0)/100) | T7: =IF($C7="","",$E7*VLOOKUP($C7,aliments!$B$2:$AZ$70,16,0)/100) | U7: =IF($C7="","",$E7*VLOOKUP($C7,aliments!$B$2:$AZ$70,17,0)/100) | V7: =IF($C7="","",$E7*VLOOKUP($C7,aliments!$B$2:$AZ$70,18,0)/100) | W7: =IF($C7="","",$E7*VLOOKUP($C7,aliments!$B$2:$AZ$70,19,0)/100) | X7: =IF($C7="","",$E7*VLOOKUP($C7,aliments!$B$2:$AZ$70,20,0)/100) | Y7: =IF($C7="","",$E7*VLOOKUP($C7,aliments!$B$2:$AZ$70,21,0)/100) | Z7: =IF($C7="","",$E7*VLOOKUP($C7,aliments!$B$2:$AZ$70,22,0)/100) | AA7: =IF($C7="","",$E7*VLOOKUP($C7,aliments!$B$2:$AZ$70,23,0)/100) | AB7: =IF($C7="","",$E7*VLOOKUP($C7,aliments!$B$2:$AZ$70,24,0)/100) | AC7: =IF($C7="","",$E7*VLOOKUP($C7,aliments!$B$2:$AZ$70,25,0)/100) | AD7: =IF($C7="","",$E7*VLOOKUP($C7,aliments!$B$2:$AZ$70,26,0)/100) | AE7: =IF($C7="","",$E7*VLOOKUP($C7,aliments!$B$2:$AZ$70,27,0)/100) | AF7: =IF($C7="","",$E7*VLOOKUP($C7,aliments!$B$2:$AZ$70,28,0)/100) | AG7: =IF($C7="","",$E7*VLOOKUP($C7,aliments!$B$2:$AZ$70,29,0)/100) | AH7: =IF($C7="","",$E7*VLOOKUP($C7,aliments!$B$2:$AZ$70,30,0)/100) | AI7: =IF($C7="","",$E7*VLOOKUP($C7,aliments!$B$2:$AZ$70,31,0)/100) | AJ7: =IF($C7="","",$E7*VLOOKUP($C7,aliments!$B$2:$AZ$70,32,0)/100) | AK7: =IF($C7="","",$E7*VLOOKUP($C7,aliments!$B$2:$AZ$70,33,0)/100) | AL7: =IF($C7="","",$E7*VLOOKUP($C7,aliments!$B$2:$AZ$70,34,0)/100) | AM7: =IF($C7="","",$E7*VLOOKUP($C7,aliments!$B$2:$AZ$70,35,0)/100) | AN7: =IF($C7="","",$E7*VLOOKUP($C7,aliments!$B$2:$AZ$70,36,0)/100) | AO7: =IF($C7="","",$E7*VLOOKUP($C7,aliments!$B$2:$AZ$70,37,0)/100) | CA7: Biscottes_et_pains_non_levés
F8: =IF($C8="","",$E8*VLOOKUP($C8,aliments!$B$2:$AZ$70,2,0)/100) | G8: =IF($C8="","",$E8*VLOOKUP($C8,aliments!$B$2:$AZ$70,3,0)/100) | H8: =IF($C8="","",$E8*VLOOKUP($C8,aliments!$B$2:$AZ$70,4,0)/100) | I8: =IF($C8="","",$E8*VLOOKUP($C8,aliments!$B$2:$AZ$70,5,0)/100) | J8: =IF($C8="","",$E8*VLOOKUP($C8,aliments!$B$2:$AZ$70,6,0)/100) | K8: =IF($C8="","",$E8*VLOOKUP($C8,aliments!$B$2:$AZ$70,7,0)/100) | L8: =IF($C8="","",$E8*VLOOKUP($C8,aliments!$B$2:$AZ$70,8,0)/100) | M8: =IF($C8="","",$E8*VLOOKUP($C8,aliments!$B$2:$AZ$70,9,0)/100) | N8: =IF($C8="","",$E8*VLOOKUP($C8,aliments!$B$2:$AZ$70,10,0)/100) | O8: =IF($C8="","",$E8*VLOOKUP($C8,aliments!$B$2:$AZ$70,11,0)/100) | P8: =IF($C8="","",$E8*VLOOKUP($C8,aliments!$B$2:$AZ$70,12,0)/100) | Q8: =IF($C8="","",$E8*VLOOKUP($C8,aliments!$B$2:$AZ$70,13,0)/100) | R8: =IF($C8="","",$E8*VLOOKUP($C8,aliments!$B$2:$AZ$70,14,0)/100) | S8: =IF($C8="","",$E8*VLOOKUP($C8,aliments!$B$2:$AZ$70,15,0)/100) | T8: =IF($C8="","",$E8*VLOOKUP($C8,aliments!$B$2:$AZ$70,16,0)/100) | U8: =IF($C8="","",$E8*VLOOKUP($C8,aliments!$B$2:$AZ$70,17,0)/100) | V8: =IF($C8="","",$E8*VLOOKUP($C8,aliments!$B$2:$AZ$70,18,0)/100) | W8: =IF($C8="","",$E8*VLOOKUP($C8,aliments!$B$2:$AZ$70,19,0)/100) | X8: =IF($C8="","",$E8*VLOOKUP($C8,aliments!$B$2:$AZ$70,20,0)/100) | Y8: =IF($C8="","",$E8*VLOOKUP($C8,aliments!$B$2:$AZ$70,21,0)/100) | Z8: =IF($C8="","",$E8*VLOOKUP($C8,aliments!$B$2:$AZ$70,22,0)/100) | AA8: =IF($C8="","",$E8*VLOOKUP($C8,aliments!$B$2:$AZ$70,23,0)/100) | AB8: =IF($C8="","",$E8*VLOOKUP($C8,aliments!$B$2:$AZ$70,24,0)/100) | AC8: =IF($C8="","",$E8*VLOOKUP($C8,aliments!$B$2:$AZ$70,25,0)/100) | AD8: =IF($C8="","",$E8*VLOOKUP($C8,aliments!$B$2:$AZ$70,26,0)/100) | AE8: =IF($C8="","",$E8*VLOOKUP($C8,aliments!$B$2:$AZ$70,27,0)/100) | AF8: =IF($C8="","",$E8*VLOOKUP($C8,aliments!$B$2:$AZ$70,28,0)/100) | AG8: =IF($C8="","",$E8*VLOOKUP($C8,aliments!$B$2:$AZ$70,29,0)/100) | AH8: =IF($C8="","",$E8*VLOOKUP($C8,aliments!$B$2:$AZ$70,30,0)/100) | AI8: =IF($C8="","",$E8*VLOOKUP($C8,aliments!$B$2:$AZ$70,31,0)/100) | AJ8: =IF($C8="","",$E8*VLOOKUP($C8,aliments!$B$2:$AZ$70,32,0)/100) | AK8: =IF($C8="","",$E8*VLOOKUP($C8,aliments!$B$2:$AZ$70,33,0)/100) | AL8: =IF($C8="","",$E8*VLOOKUP($C8,aliments!$B$2:$AZ$70,34,0)/100) | AM8: =IF($C8="","",$E8*VLOOKUP($C8,aliments!$B$2:$AZ$70,35,0)/100) | AN8: =IF($C8="","",$E8*VLOOKUP($C8,aliments!$B$2:$AZ$70,36,0)/100) | AO8: =IF($C8="","",$E8*VLOOKUP($C8,aliments!$B$2:$AZ$70,37,0)/100) | CA8: Biscuits_salés_apéritifs
F9: =IF($C9="","",$E9*VLOOKUP($C9,aliments!$B$2:$AZ$70,2,0)/100) | G9: =IF($C9="","",$E9*VLOOKUP($C9,aliments!$B$2:$AZ$70,3,0)/100) | H9: =IF($C9="","",$E9*VLOOKUP($C9,aliments!$B$2:$AZ$70,4,0)/100) | I9: =IF($C9="","",$E9*VLOOKUP($C9,aliments!$B$2:$AZ$70,5,0)/100) | J9: =IF($C9="","",$E9*VLOOKUP($C9,aliments!$B$2:$AZ$70,6,0)/100) | K9: =IF($C9="","",$E9*VLOOKUP($C9,aliments!$B$2:$AZ$70,7,0)/100) | L9: =IF($C9="","",$E9*VLOOKUP($C9,aliments!$B$2:$AZ$70,8,0)/100) | M9: =IF($C9="","",$E9*VLOOKUP($C9,aliments!$B$2:$AZ$70,9,0)/100) | N9: =IF($C9="","",$E9*VLOOKUP($C9,aliments!$B$2:$AZ$70,10,0)/100) | O9: =IF($C9="","",$E9*VLOOKUP($C9,aliments!$B$2:$AZ$70,11,0)/100) | P9: =IF($C9="","",$E9*VLOOKUP($C9,aliments!$B$2:$AZ$70,12,0)/100) | Q9: =IF($C9="","",$E9*VLOOKUP($C9,aliments!$B$2:$AZ$70,13,0)/100) | R9: =IF($C9="","",$E9*VLOOKUP($C9,aliments!$B$2:$AZ$70,14,0)/100) | S9: =IF($C9="","",$E9*VLOOKUP($C9,aliments!$B$2:$AZ$70,15,0)/100) | T9: =IF($C9="","",$E9*VLOOKUP($C9,aliments!$B$2:$AZ$70,16,0)/100) | U9: =IF($C9="","",$E9*VLOOKUP($C9,aliments!$B$2:$AZ$70,17,0)/100) | V9: =IF($C9="","",$E9*VLOOKUP($C9,aliments!$B$2:$AZ$70,18,0)/100) | W9: =IF($C9="","",$E9*VLOOKUP($C9,aliments!$B$2:$AZ$70,19,0)/100) | X9: =IF($C9="","",$E9*VLOOKUP($C9,aliments!$B$2:$AZ$70,20,0)/100) | Y9: =IF($C9="","",$E9*VLOOKUP($C9,aliments!$B$2:$AZ$70,21,0)/100) | Z9: =IF($C9="","",$E9*VLOOKUP($C9,aliments!$B$2:$AZ$70,22,0)/100) | AA9: =IF($C9="","",$E9*VLOOKUP($C9,aliments!$B$2:$AZ$70,23,0)/100) | AB9: =IF($C9="","",$E9*VLOOKUP($C9,aliments!$B$2:$AZ$70,24,0)/100) | AC9: =IF($C9="","",$E9*VLOOKUP($C9,aliments!$B$2:$AZ$70,25,0)/100) | AD9: =IF($C9="","",$E9*VLOOKUP($C9,aliments!$B$2:$AZ$70,26,0)/100) | AE9: =IF($C9="","",$E9*VLOOKUP($C9,aliments!$B$2:$AZ$70,27,0)/100) | AF9: =IF($C9="","",$E9*VLOOKUP($C9,aliments!$B$2:$AZ$70,28,0)/100) | AG9: =IF($C9="","",$E9*VLOOKUP($C9,aliments!$B$2:$AZ$70,29,0)/100) | AH9: =IF($C9="","",$E9*VLOOKUP($C9,aliments!$B$2:$AZ$70,30,0)/100) | AI9: =IF($C9="","",$E9*VLOOKUP($C9,aliments!$B$2:$AZ$70,31,0)/100) | AJ9: =IF($C9="","",$E9*VLOOKUP($C9,aliments!$B$2:$AZ$70,32,0)/100) | AK9: =IF($C9="","",$E9*VLOOKUP($C9,aliments!$B$2:$AZ$70,33,0)/100) | AL9: =IF($C9="","",$E9*VLOOKUP($C9,aliments!$B$2:$AZ$70,34,0)/100) | AM9: =IF($C9="","",$E9*VLOOKUP($C9,aliments!$B$2:$AZ$70,35,0)/100) | AN9: =IF($C9="","",$E9*VLOOKUP($C9,aliments!$B$2:$AZ$70,36,0)/100) | AO9: =IF($C9="","",$E9*VLOOKUP($C9,aliments!$B$2:$AZ$70,37,0)/100) | CA9: Biscuits_secs_sucrés
A10: Sous total | F10: =IF(SUM(F3:F9)=0,"",AVERAGE(F3:F9)) -> 0.008 | G10: =SUM(G3:G9) -> 18.27 | H10: =SUM(H3:H9) -> 10.8 | I10: =SUM(I3:I9) -> 0.8 | J10: =SUM(J3:J9) -> 8.8 | K10: =SUM(K3:K9) -> 126 | L10: =SUM(L3:L9) -> 0 | M10: =SUM(M3:M9) -> 0 | N10: =SUM(N3:N9) -> 0 | ... AO10: =SUM(AO3:AO9) -> 2080 | CA10: Boissons_rafraîchissantes_sans_alcool
CA11: Bouillons_prêts_à_consommer
A12: Collation du matin | C12: Aliments | E12: Quantité( g) | F12: CG | G12: Pral | H12: Protides ( g) | I12: Glucides ( g) | J12: Lipides (g) | K12: Calories | L12: VitA (µg) | M12: Beta-Car. (µg) | N12: Vit D (µg) | O12: Vit E (mg) | P12: Vit K (µg) | Q12: VitC (mg) | R12: Vit B1 (mg) | S12: Vit B2 (mg) | T12: Vit B3 (mg) | U12: Vit B5 (mg) | V12: Vit B6 (mg) | W12: Vit B9 (µg) | X12: Vit B12 (µg) | Y12: Calcium (mg) | Z12: Cuivre (mg) | AA12: Fer (mg) | AB12: Iode (µg) | AC12: Magnésium (mg) | AD12: Manganèse (mg) | AE12: Phosphore (mg) | AF12: Potassium (mg) | AG12: Sélénium (µg) | AH12: Sodium (mg) | AI12: Zinc (mg) | AJ12: Fibres (g) | AK12: AG saturés (g) | AL12: AG monoinsaturés (g) | AM12: Polyols totaux (g) | AN12: AG polyinsaturés (g) | AO12: Cholestérol (mg) | CA12: Café_thé_infusions_boissons_au_cacao
B13: Viandes | C13: Agneau, gigot, cru | E13: 100 | F13: =IF($C13="","",$E13*VLOOKUP($C13,aliments!$B$2:$AZ$70,2,0)/100) -> #N/A | G13: =IF($C13="","",$E13*VLOOKUP($C13,aliments!$B$2:$AZ$70,3,0)/100) -> #N/A | H13: =IF($C13="","",$E13*VLOOKUP($C13,aliments!$B$2:$AZ$70,4,0)/100) -> #N/A | I13: =IF($C13="","",$E13*VLOOKUP($C13,aliments!$B$2:$AZ$70,5,0)/100) -> #N/A | J13: =IF($C13="","",$E13*VLOOKUP($C13,aliments!$B$2:$AZ$70,6,0)/100) -> #N/A | K13: =IF($C13="","",$E13*VLOOKUP($C13,aliments!$B$2:$AZ$70,7,0)/100) -> #N/A | L13: =IF($C13="","",$E13*VLOOKUP($C13,aliments!$B$2:$AZ$70,8,0)/100) -> #N/A | M13: =IF($C13="","",$E13*VLOOKUP($C13,aliments!$B$2:$AZ$70,9,0)/100) -> #N/A | N13: =IF($C13="","",$E13*VLOOKUP($C13,aliments!$B$2:$AZ$70,10,0)/100) -> #N/A | O13: =IF($C13="","",$E13*VLOOKUP($C13,aliments!$B$2:$AZ$70,11,0)/100) -> #N/A | P13: =IF($C13="","",$E13*VLOOKUP($C13,aliments!$B$2:$AZ$70,12,0)/100) -> #N/A | Q13: =IF($C13="","",$E13*VLOOKUP($C13,aliments!$B$2:$AZ$70,13,0)/100) -> #N/A | R13: =IF($C13="","",$E13*VLOOKUP($C13,aliments!$B$2:$AZ$70,14,0)/100) -> #N/A | S13: =IF($C13="","",$E13*VLOOKUP($C13,aliments!$B$2:$AZ$70,15,0)/100) -> #N/A | T13: =IF($C13="","",$E13*VLOOKUP($C13,aliments!$B$2:$AZ$70,16,0)/100) -> #N/A | U13: =IF($C13="","",$E13*VLOOKUP($C13,aliments!$B$2:$AZ$70,17,0)/100) -> #N/A | V13: =IF($C13="","",$E13*VLOOKUP($C13,aliments!$B$2:$AZ$70,18,0)/100) -> #N/A | W13: =IF($C13="","",$E13*VLOOKUP($C13,aliments!$B$2:$AZ$70,19,0)/100) -> #N/A | X13: =IF($C13="","",$E13*VLOOKUP($C13,aliments!$B$2:$AZ$70,20,0)/100) -> #N/A | Y13: =IF($C13="","",$E13*VLOOKUP($C13,aliments!$B$2:$AZ$70,21,0)/100) -> #N/A | Z13: =IF($C13="","",$E13*VLOOKUP($C13,aliments!$B$2:$AZ$70,22,0)/100) -> #N/A | AA13: =IF($C13="","",$E13*VLOOKUP($C13,aliments!$B$2:$AZ$70,23,0)/100) -> #N/A | AB13: =IF($C13="","",$E13*VLOOKUP($C13,aliments!$B$2:$AZ$70,24,0)/100) -> #N/A | AC13: =IF($C13="","",$E13*VLOOKUP($C13,aliments!$B$2:$AZ$70,25,0)/100) -> #N/A | AD13: =IF($C13="","",$E13*VLOOKUP($C13,aliments!$B$2:$AZ$70,26,0)/100) -> #N/A | AE13: =IF($C13="","",$E13*VLOOKUP($C13,aliments!$B$2:$AZ$70,27,0)/100) -> #N/A | AF13: =IF($C13="","",$E13*VLOOKUP($C13,aliments!$B$2:$AZ$70,28,0)/100) -> #N/A | AG13: =IF($C13="","",$E13*VLOOKUP($C13,aliments!$B$2:$AZ$70,29,0)/100) -> #N/A | AH13: =IF($C13="","",$E13*VLOOKUP($C13,aliments!$B$2:$AZ$70,30,0)/100) -> #N/A | AI13: =IF($C13="","",$E13*VLOOKUP($C13,aliments!$B$2:$AZ$70,31,0)/100) -> #N/A | AJ13: =IF($C13="","",$E13*VLOOKUP($C13,aliments!$B$2:$AZ$70,32,0)/100) -> #N/A | AK13: =IF($C13="","",$E13*VLOOKUP($C13,aliments!$B$2:$AZ$70,33,0)/100) -> #N/A | AL13: =IF($C13="","",$E13*VLOOKUP($C13,aliments!$B$2:$AZ$70,34,0)/100) -> #N/A | AM13: =IF($C13="","",$E13*VLOOKUP($C13,aliments!$B$2:$AZ$70,35,0)/100) -> #N/A | AN13: =IF($C13="","",$E13*VLOOKUP($C13,aliments!$B$2:$AZ$70,36,0)/100) -> #N/A | AO13: =IF($C13="","",$E13*VLOOKUP($C13,aliments!$B$2:$AZ$70,37,0)/100) -> #N/A | CA13: Céréales_petit_déjeuner_et_barres_céréalières
B14: Riz_et_autres_graines | C14: Riz blanc, cuit | E14: 50 | F14: =IF($C14="","",$E14*VLOOKUP($C14,aliments!$B$2:$AZ$70,2,0)/100) -> #N/A | G14: =IF($C14="","",$E14*VLOOKUP($C14,aliments!$B$2:$AZ$70,3,0)/100) -> #N/A | H14: =IF($C14="","",$E14*VLOOKUP($C14,aliments!$B$2:$AZ$70,4,0)/100) -> #N/A | I14: =IF($C14="","",$E14*VLOOKUP($C14,aliments!$B$2:$AZ$70,5,0)/100) -> #N/A | J14: =IF($C14="","",$E14*VLOOKUP($C14,aliments!$B$2:$AZ$70,6,0)/100) -> #N/A | K14: =IF($C14="","",$E14*VLOOKUP($C14,aliments!$B$2:$AZ$70,7,0)/100) -> #N/A | L14: =IF($C14="","",$E14*VLOOKUP($C14,aliments!$B$2:$AZ$70,8,0)/100) -> #N/A | M14: =IF($C14="","",$E14*VLOOKUP($C14,aliments!$B$2:$AZ$70,9,0)/100) -> #N/A | N14: =IF($C14="","",$E14*VLOOKUP($C14,aliments!$B$2:$AZ$70,10,0)/100) -> #N/A | O14: =IF($C14="","",$E14*VLOOKUP($C14,aliments!$B$2:$AZ$70,11,0)/100) -> #N/A | P14: =IF($C14="","",$E14*VLOOKUP($C14,aliments!$B$2:$AZ$70,12,0)/100) -> #N/A | Q14: =IF($C14="","",$E14*VLOOKUP($C14,aliments!$B$2:$AZ$70,13,0)/100) -> #N/A | R14: =IF($C14="","",$E14*VLOOKUP($C14,aliments!$B$2:$AZ$70,14,0)/100) -> #N/A | S14: =IF($C14="","",$E14*VLOOKUP($C14,aliments!$B$2:$AZ$70,15,0)/100) -> #N/A | T14: =IF($C14="","",$E14*VLOOKUP($C14,aliments!$B$2:$AZ$70,16,0)/100) -> #N/A | U14: =IF($C14="","",$E14*VLOOKUP($C14,aliments!$B$2:$AZ$70,17,0)/100) -> #N/A | V14: =IF($C14="","",$E14*VLOOKUP($C14,aliments!$B$2:$AZ$70,18,0)/100) -> #N/A | W14: =IF($C14="","",$E14*VLOOKUP($C14,aliments!$B$2:$AZ$70,19,0)/100) -> #N/A | X14: =IF($C14="","",$E14*VLOOKUP($C14,aliments!$B$2:$AZ$70,20,0)/100) -> #N/A | Y14: =IF($C14="","",$E14*VLOOKUP($C14,aliments!$B$2:$AZ$70,21,0)/100) -> #N/A | Z14: =IF($C14="","",$E14*VLOOKUP($C14,aliments!$B$2:$AZ$70,22,0)/100) -> #N/A | AA14: =IF($C14="","",$E14*VLOOKUP($C14,aliments!$B$2:$AZ$70,23,0)/100) -> #N/A | AB14: =IF($C14="","",$E14*VLOOKUP($C14,aliments!$B$2:$AZ$70,24,0)/100) -> #N/A | AC14: =IF($C14="","",$E14*VLOOKUP($C14,aliments!$B$2:$AZ$70,25,0)/100) -> #N/A | AD14: =IF($C14="","",$E14*VLOOKUP($C14,aliments!$B$2:$AZ$70,26,0)/100) -> #N/A | AE14: =IF($C14="","",$E14*VLOOKUP($C14,aliments!$B$2:$AZ$70,27,0)/100) -> #N/A | AF14: =IF($C14="","",$E14*VLOOKUP($C14,aliments!$B$2:$AZ$70,28,0)/100) -> #N/A | AG14: =IF($C14="","",$E14*VLOOKUP($C14,aliments!$B$2:$AZ$70,29,0)/100) -> #N/A | AH14: =IF($C14="","",$E14*VLOOKUP($C14,aliments!$B$2:$AZ$70,30,0)/100) -> #N/A | AI14: =IF($C14="","",$E14*VLOOKUP($C14,aliments!$B$2:$AZ$70,31,0)/100) -> #N/A | AJ14: =IF($C14="","",$E14*VLOOKUP($C14,aliments!$B$2:$AZ$70,32,0)/100) -> #N/A | AK14: =IF($C14="","",$E14*VLOOKUP($C14,aliments!$B$2:$AZ$70,33,0)/100) -> #N/A | AL14: =IF($C14="","",$E14*VLOOKUP($C14,aliments!$B$2:$AZ$70,34,0)/100) -> #N/A | AM14: =IF($C14="","",$E14*VLOOKUP($C14,aliments!$B$2:$AZ$70,35,0)/100) -> #N/A | AN14: =IF($C14="","",$E14*VLOOKUP($C14,aliments!$B$2:$AZ$70,36,0)/100) -> #N/A | AO14: =IF($C14="","",$E14*VLOOKUP($C14,aliments!$B$2:$AZ$70,37,0)/100) -> #N/A | CA14: Charcuteries_et_salaisons
B15: Légumes | C15: Carotte, crue | E15: 200 | F15: =IF($C15="","",$E15*VLOOKUP($C15,aliments!$B$2:$AZ$70,2,0)/100) -> #N/A | G15: =IF($C15="","",$E15*VLOOKUP($C15,aliments!$B$2:$AZ$70,3,0)/100) -> #N/A | H15: =IF($C15="","",$E15*VLOOKUP($C15,aliments!$B$2:$AZ$70,4,0)/100) -> #N/A | I15: =IF($C15="","",$E15*VLOOKUP($C15,aliments!$B$2:$AZ$70,5,0)/100) -> #N/A | J15: =IF($C15="","",$E15*VLOOKUP($C15,aliments!$B$2:$AZ$70,6,0)/100) -> #N/A | K15: =IF($C15="","",$E15*VLOOKUP($C15,aliments!$B$2:$AZ$70,7,0)/100) -> #N/A | L15: =IF($C15="","",$E15*VLOOKUP($C15,aliments!$B$2:$AZ$70,8,0)/100) -> #N/A | M15: =IF($C15="","",$E15*VLOOKUP($C15,aliments!$B$2:$AZ$70,9,0)/100) -> #N/A | N15: =IF($C15="","",$E15*VLOOKUP($C15,aliments!$B$2:$AZ$70,10,0)/100) -> #N/A | O15: =IF($C15="","",$E15*VLOOKUP($C15,aliments!$B$2:$AZ$70,11,0)/100) -> #N/A | P15: =IF($C15="","",$E15*VLOOKUP($C15,aliments!$B$2:$AZ$70,12,0)/100) -> #N/A | Q15: =IF($C15="","",$E15*VLOOKUP($C15,aliments!$B$2:$AZ$70,13,0)/100) -> #N/A | R15: =IF($C15="","",$E15*VLOOKUP($C15,aliments!$B$2:$AZ$70,14,0)/100) -> #N/A | S15: =IF($C15="","",$E15*VLOOKUP($C15,aliments!$B$2:$AZ$70,15,0)/100) -> #N/A | T15: =IF($C15="","",$E15*VLOOKUP($C15,aliments!$B$2:$AZ$70,16,0)/100) -> #N/A | U15: =IF($C15="","",$E15*VLOOKUP($C15,aliments!$B$2:$AZ$70,17,0)/100) -> #N/A | V15: =IF($C15="","",$E15*VLOOKUP($C15,aliments!$B$2:$AZ$70,18,0)/100) -> #N/A | W15: =IF($C15="","",$E15*VLOOKUP($C15,aliments!$B$2:$AZ$70,19,0)/100) -> #N/A | X15: =IF($C15="","",$E15*VLOOKUP($C15,aliments!$B$2:$AZ$70,20,0)/100) -> #N/A | Y15: =IF($C15="","",$E15*VLOOKUP($C15,aliments!$B$2:$AZ$70,21,0)/100) -> #N/A | Z15: =IF($C15="","",$E15*VLOOKUP($C15,aliments!$B$2:$AZ$70,22,0)/100) -> #N/A | AA15: =IF($C15="","",$E15*VLOOKUP($C15,aliments!$B$2:$AZ$70,23,0)/100) -> #N/A | AB15: =IF($C15="","",$E15*VLOOKUP($C15,aliments!$B$2:$AZ$70,24,0)/100) -> #N/A | AC15: =IF($C15="","",$E15*VLOOKUP($C15,aliments!$B$2:$AZ$70,25,0)/100) -> #N/A | AD15: =IF($C15="","",$E15*VLOOKUP($C15,aliments!$B$2:$AZ$70,26,0)/100) -> #N/A | AE15: =IF($C15="","",$E15*VLOOKUP($C15,aliments!$B$2:$AZ$70,27,0)/100) -> #N/A | AF15: =IF($C15="","",$E15*VLOOKUP($C15,aliments!$B$2:$AZ$70,28,0)/100) -> #N/A | AG15: =IF($C15="","",$E15*VLOOKUP($C15,aliments!$B$2:$AZ$70,29,0)/100) -> #N/A | AH15: =IF($C15="","",$E15*VLOOKUP($C15,aliments!$B$2:$AZ$70,30,0)/100) -> #N/A | AI15: =IF($C15="","",$E15*VLOOKUP($C15,aliments!$B$2:$AZ$70,31,0)/100) -> #N/A | AJ15: =IF($C15="","",$E15*VLOOKUP($C15,aliments!$B$2:$AZ$70,32,0)/100) -> #N/A | AK15: =IF($C15="","",$E15*VLOOKUP($C15,aliments!$B$2:$AZ$70,33,0)/100) -> #N/A | AL15: =IF($C15="","",$E15*VLOOKUP($C15,aliments!$B$2:$AZ$70,34,0)/100) -> #N/A | AM15: =IF($C15="","",$E15*VLOOKUP($C15,aliments!$B$2:$AZ$70,35,0)/100) -> #N/A | AN15: =IF($C15="","",$E15*VLOOKUP($C15,aliments!$B$2:$AZ$70,36,0)/100) -> #N/A | AO15: =IF($C15="","",$E15*VLOOKUP($C15,aliments!$B$2:$AZ$70,37,0)/100) -> #N/A | CA15: Chocolats_et_produits_à_base_de_chocolat
F16: =IF($C16="","",$E16*VLOOKUP($C16,aliments!$B$2:$AZ$70,2,0)/100) | G16: =IF($C16="","",$E16*VLOOKUP($C16,aliments!$B$2:$AZ$70,3,0)/100) | H16: =IF($C16="","",$E16*VLOOKUP($C16,aliments!$B$2:$AZ$70,4,0)/100) | I16: =IF($C16="","",$E16*VLOOKUP($C16,aliments!$B$2:$AZ$70,5,0)/100) | J16: =IF($C16="","",$E16*VLOOKUP($C16,aliments!$B$2:$AZ$70,6,0)/100) | K16: =IF($C16="","",$E16*VLOOKUP($C16,aliments!$B$2:$AZ$70,7,0)/100) | L16: =IF($C16="","",$E16*VLOOKUP($C16,aliments!$B$2:$AZ$70,8,0)/100) | M16: =IF($C16="","",$E16*VLOOKUP($C16,aliments!$B$2:$AZ$70,9,0)/100) | N16: =IF($C16="","",$E16*VLOOKUP($C16,aliments!$B$2:$AZ$70,10,0)/100) | O16: =IF($C16="","",$E16*VLOOKUP($C16,aliments!$B$2:$AZ$70,11,0)/100) | P16: =IF($C16="","",$E16*VLOOKUP($C16,aliments!$B$2:$AZ$70,12,0)/100) | Q16: =IF($C16="","",$E16*VLOOKUP($C16,aliments!$B$2:$AZ$70,13,0)/100) | R16: =IF($C16="","",$E16*VLOOKUP($C16,aliments!$B$2:$AZ$70,14,0)/100) | S16: =IF($C16="","",$E16*VLOOKUP($C16,aliments!$B$2:$AZ$70,15,0)/100) | T16: =IF($C16="","",$E16*VLOOKUP($C16,aliments!$B$2:$AZ$70,16,0)/100) | U16: =IF($C16="","",$E16*VLOOKUP($C16,aliments!$B$2:$AZ$70,17,0)/100) | V16: =IF($C16="","",$E16*VLOOKUP($C16,aliments!$B$2:$AZ$70,18,0)/100) | W16: =IF($C16="","",$E16*VLOOKUP($C16,aliments!$B$2:$AZ$70,19,0)/100) | X16: =IF($C16="","",$E16*VLOOKUP($C16,aliments!$B$2:$AZ$70,20,0)/100) | Y16: =IF($C16="","",$E16*VLOOKUP($C16,aliments!$B$2:$AZ$70,21,0)/100) | Z16: =IF($C16="","",$E16*VLOOKUP($C16,aliments!$B$2:$AZ$70,22,0)/100) | AA16: =IF($C16="","",$E16*VLOOKUP($C16,aliments!$B$2:$AZ$70,23,0)/100) | AB16: =IF($C16="","",$E16*VLOOKUP($C16,aliments!$B$2:$AZ$70,24,0)/100) | AC16: =IF($C16="","",$E16*VLOOKUP($C16,aliments!$B$2:$AZ$70,25,0)/100) | AD16: =IF($C16="","",$E16*VLOOKUP($C16,aliments!$B$2:$AZ$70,26,0)/100) | AE16: =IF($C16="","",$E16*VLOOKUP($C16,aliments!$B$2:$AZ$70,27,0)/100) | AF16: =IF($C16="","",$E16*VLOOKUP($C16,aliments!$B$2:$AZ$70,28,0)/100) | AG16: =IF($C16="","",$E16*VLOOKUP($C16,aliments!$B$2:$AZ$70,29,0)/100) | AH16: =IF($C16="","",$E16*VLOOKUP($C16,aliments!$B$2:$AZ$70,30,0)/100) | AI16: =IF($C16="","",$E16*VLOOKUP($C16,aliments!$B$2:$AZ$70,31,0)/100) | AJ16: =IF($C16="","",$E16*VLOOKUP($C16,aliments!$B$2:$AZ$70,32,0)/100) | AK16: =IF($C16="","",$E16*VLOOKUP($C16,aliments!$B$2:$AZ$70,33,0)/100) | AL16: =IF($C16="","",$E16*VLOOKUP($C16,aliments!$B$2:$AZ$70,34,0)/100) | AM16: =IF($C16="","",$E16*VLOOKUP($C16,aliments!$B$2:$AZ$70,35,0)/100) | AN16: =IF($C16="","",$E16*VLOOKUP($C16,aliments!$B$2:$AZ$70,36,0)/100) | AO16: =IF($C16="","",$E16*VLOOKUP($C16,aliments!$B$2:$AZ$70,37,0)/100) | CA16: Cidres_et_similaires
F17: =IF($C17="","",$E17*VLOOKUP($C17,aliments!$B$2:$AZ$70,2,0)/100) | G17: =IF($C17="","",$E17*VLOOKUP($C17,aliments!$B$2:$AZ$70,3,0)/100) | H17: =IF($C17="","",$E17*VLOOKUP($C17,aliments!$B$2:$AZ$70,4,0)/100) | I17: =IF($C17="","",$E17*VLOOKUP($C17,aliments!$B$2:$AZ$70,5,0)/100) | J17: =IF($C17="","",$E17*VLOOKUP($C17,aliments!$B$2:$AZ$70,6,0)/100) | K17: =IF($C17="","",$E17*VLOOKUP($C17,aliments!$B$2:$AZ$70,7,0)/100) | L17: =IF($C17="","",$E17*VLOOKUP($C17,aliments!$B$2:$AZ$70,8,0)/100) | M17: =IF($C17="","",$E17*VLOOKUP($C17,aliments!$B$2:$AZ$70,9,0)/100) | N17: =IF($C17="","",$E17*VLOOKUP($C17,aliments!$B$2:$AZ$70,10,0)/100) | O17: =IF($C17="","",$E17*VLOOKUP($C17,aliments!$B$2:$AZ$70,11,0)/100) | P17: =IF($C17="","",$E17*VLOOKUP($C17,aliments!$B$2:$AZ$70,12,0)/100) | Q17: =IF($C17="","",$E17*VLOOKUP($C17,aliments!$B$2:$AZ$70,13,0)/100) | R17: =IF($C17="","",$E17*VLOOKUP($C17,aliments!$B$2:$AZ$70,14,0)/100) | S17: =IF($C17="","",$E17*VLOOKUP($C17,aliments!$B$2:$AZ$70,15,0)/100) | T17: =IF($C17="","",$E17*VLOOKUP($C17,aliments!$B$2:$AZ$70,16,0)/100) | U17: =IF($C17="","",$E17*VLOOKUP($C17,aliments!$B$2:$AZ$70,17,0)/100) | V17: =IF($C17="","",$E17*VLOOKUP($C17,aliments!$B$2:$AZ$70,18,0)/100) | W17: =IF($C17="","",$E17*VLOOKUP($C17,aliments!$B$2:$AZ$70,19,0)/100) | X17: =IF($C17="","",$E17*VLOOKUP($C17,aliments!$B$2:$AZ$70,20,0)/100) | Y17: =IF($C17="","",$E17*VLOOKUP($C17,aliments!$B$2:$AZ$70,21,0)/100) | Z17: =IF($C17="","",$E17*VLOOKUP($C17,aliments!$B$2:$AZ$70,22,0)/100) | AA17: =IF($C17="","",$E17*VLOOKUP($C17,aliments!$B$2:$AZ$70,23,0)/100) | AB17: =IF($C17="","",$E17*VLOOKUP($C17,aliments!$B$2:$AZ$70,24,0)/100) | AC17: =IF($C17="","",$E17*VLOOKUP($C17,aliments!$B$2:$AZ$70,25,0)/100) | AD17: =IF($C17="","",$E17*VLOOKUP($C17,aliments!$B$2:$AZ$70,26,0)/100) | AE17: =IF($C17="","",$E17*VLOOKUP($C17,aliments!$B$2:$AZ$70,27,0)/100) | AF17: =IF($C17="","",$E17*VLOOKUP($C17,aliments!$B$2:$AZ$70,28,0)/100) | AG17: =IF($C17="","",$E17*VLOOKUP($C17,aliments!$B$2:$AZ$70,29,0)/100) | AH17: =IF($C17="","",$E17*VLOOKUP($C17,aliments!$B$2:$AZ$70,30,0)/100) | AI17: =IF($C17="","",$E17*VLOOKUP($C17,aliments!$B$2:$AZ$70,31,0)/100) | AJ17: =IF($C17="","",$E17*VLOOKUP($C17,aliments!$B$2:$AZ$70,32,0)/100) | AK17: =IF($C17="","",$E17*VLOOKUP($C17,aliments!$B$2:$AZ$70,33,0)/100) | AL17: =IF($C17="","",$E17*VLOOKUP($C17,aliments!$B$2:$AZ$70,34,0)/100) | AM17: =IF($C17="","",$E17*VLOOKUP($C17,aliments!$B$2:$AZ$70,35,0)/100) | AN17: =IF($C17="","",$E17*VLOOKUP($C17,aliments!$B$2:$AZ$70,36,0)/100) | AO17: =IF($C17="","",$E17*VLOOKUP($C17,aliments!$B$2:$AZ$70,37,0)/100) | CA17: Cocktails
F18: =IF($C18="","",$E18*VLOOKUP($C18,aliments!$B$2:$AZ$70,2,0)/100) | G18: =IF($C18="","",$E18*VLOOKUP($C18,aliments!$B$2:$AZ$70,3,0)/100) | H18: =IF($C18="","",$E18*VLOOKUP($C18,aliments!$B$2:$AZ$70,4,0)/100) | I18: =IF($C18="","",$E18*VLOOKUP($C18,aliments!$B$2:$AZ$70,5,0)/100) | J18: =IF($C18="","",$E18*VLOOKUP($C18,aliments!$B$2:$AZ$70,6,0)/100) | K18: =IF($C18="","",$E18*VLOOKUP($C18,aliments!$B$2:$AZ$70,7,0)/100) | L18: =IF($C18="","",$E18*VLOOKUP($C18,aliments!$B$2:$AZ$70,8,0)/100) | M18: =IF($C18="","",$E18*VLOOKUP($C18,aliments!$B$2:$AZ$70,9,0)/100) | N18: =IF($C18="","",$E18*VLOOKUP($C18,aliments!$B$2:$AZ$70,10,0)/100) | O18: =IF($C18="","",$E18*VLOOKUP($C18,aliments!$B$2:$AZ$70,11,0)/100) | P18: =IF($C18="","",$E18*VLOOKUP($C18,aliments!$B$2:$AZ$70,12,0)/100) | Q18: =IF($C18="","",$E18*VLOOKUP($C18,aliments!$B$2:$AZ$70,13,0)/100) | R18: =IF($C18="","",$E18*VLOOKUP($C18,aliments!$B$2:$AZ$70,14,0)/100) | S18: =IF($C18="","",$E18*VLOOKUP($C18,aliments!$B$2:$AZ$70,15,0)/100) | T18: =IF($C18="","",$E18*VLOOKUP($C18,aliments!$B$2:$AZ$70,16,0)/100) | U18: =IF($C18="","",$E18*VLOOKUP($C18,aliments!$B$2:$AZ$70,17,0)/100) | V18: =IF($C18="","",$E18*VLOOKUP($C18,aliments!$B$2:$AZ$70,18,0)/100) | W18: =IF($C18="","",$E18*VLOOKUP($C18,aliments!$B$2:$AZ$70,19,0)/100) | X18: =IF($C18="","",$E18*VLOOKUP($C18,aliments!$B$2:$AZ$70,20,0)/100) | Y18: =IF($C18="","",$E18*VLOOKUP($C18,aliments!$B$2:$AZ$70,21,0)/100) | Z18: =IF($C18="","",$E18*VLOOKUP($C18,aliments!$B$2:$AZ$70,22,0)/100) | AA18: =IF($C18="","",$E18*VLOOKUP($C18,aliments!$B$2:$AZ$70,23,0)/100) | AB18: =IF($C18="","",$E18*VLOOKUP($C18,aliments!$B$2:$AZ$70,24,0)/100) | AC18: =IF($C18="","",$E18*VLOOKUP($C18,aliments!$B$2:$AZ$70,25,0)/100) | AD18: =IF($C18="","",$E18*VLOOKUP($C18,aliments!$B$2:$AZ$70,26,0)/100) | AE18: =IF($C18="","",$E18*VLOOKUP($C18,aliments!$B$2:$AZ$70,27,0)/100) | AF18: =IF($C18="","",$E18*VLOOKUP($C18,aliments!$B$2:$AZ$70,28,0)/100) | AG18: =IF($C18="","",$E18*VLOOKUP($C18,aliments!$B$2:$AZ$70,29,0)/100) | AH18: =IF($C18="","",$E18*VLOOKUP($C18,aliments!$B$2:$AZ$70,30,0)/100) | AI18: =IF($C18="","",$E18*VLOOKUP($C18,aliments!$B$2:$AZ$70,31,0)/100) | AJ18: =IF($C18="","",$E18*VLOOKUP($C18,aliments!$B$2:$AZ$70,32,0)/100) | AK18: =IF($C18="","",$E18*VLOOKUP($C18,aliments!$B$2:$AZ$70,33,0)/100) | AL18: =IF($C18="","",$E18*VLOOKUP($C18,aliments!$B$2:$AZ$70,34,0)/100) | AM18: =IF($C18="","",$E18*VLOOKUP($C18,aliments!$B$2:$AZ$70,35,0)/100) | AN18: =IF($C18="","",$E18*VLOOKUP($C18,aliments!$B$2:$AZ$70,36,0)/100) | AO18: =IF($C18="","",$E18*VLOOKUP($C18,aliments!$B$2:$AZ$70,37,0)/100) | CA18: Compléments_alimentaires
F19: =IF($C19="","",$E19*VLOOKUP($C19,aliments!$B$2:$AZ$70,2,0)/100) | G19: =IF($C19="","",$E19*VLOOKUP($C19,aliments!$B$2:$AZ$70,3,0)/100) | H19: =IF($C19="","",$E19*VLOOKUP($C19,aliments!$B$2:$AZ$70,4,0)/100) | I19: =IF($C19="","",$E19*VLOOKUP($C19,aliments!$B$2:$AZ$70,5,0)/100) | J19: =IF($C19="","",$E19*VLOOKUP($C19,aliments!$B$2:$AZ$70,6,0)/100) | K19: =IF($C19="","",$E19*VLOOKUP($C19,aliments!$B$2:$AZ$70,7,0)/100) | L19: =IF($C19="","",$E19*VLOOKUP($C19,aliments!$B$2:$AZ$70,8,0)/100) | M19: =IF($C19="","",$E19*VLOOKUP($C19,aliments!$B$2:$AZ$70,9,0)/100) | N19: =IF($C19="","",$E19*VLOOKUP($C19,aliments!$B$2:$AZ$70,10,0)/100) | O19: =IF($C19="","",$E19*VLOOKUP($C19,aliments!$B$2:$AZ$70,11,0)/100) | P19: =IF($C19="","",$E19*VLOOKUP($C19,aliments!$B$2:$AZ$70,12,0)/100) | Q19: =IF($C19="","",$E19*VLOOKUP($C19,aliments!$B$2:$AZ$70,13,0)/100) | R19: =IF($C19="","",$E19*VLOOKUP($C19,aliments!$B$2:$AZ$70,14,0)/100) | S19: =IF($C19="","",$E19*VLOOKUP($C19,aliments!$B$2:$AZ$70,15,0)/100) | T19: =IF($C19="","",$E19*VLOOKUP($C19,aliments!$B$2:$AZ$70,16,0)/100) | U19: =IF($C19="","",$E19*VLOOKUP($C19,aliments!$B$2:$AZ$70,17,0)/100) | V19: =IF($C19="","",$E19*VLOOKUP($C19,aliments!$B$2:$AZ$70,18,0)/100) | W19: =IF($C19="","",$E19*VLOOKUP($C19,aliments!$B$2:$AZ$70,19,0)/100) | X19: =IF($C19="","",$E19*VLOOKUP($C19,aliments!$B$2:$AZ$70,20,0)/100) | Y19: =IF($C19="","",$E19*VLOOKUP($C19,aliments!$B$2:$AZ$70,21,0)/100) | Z19: =IF($C19="","",$E19*VLOOKUP($C19,aliments!$B$2:$AZ$70,22,0)/100) | AA19: =IF($C19="","",$E19*VLOOKUP($C19,aliments!$B$2:$AZ$70,23,0)/100) | AB19: =IF($C19="","",$E19*VLOOKUP($C19,aliments!$B$2:$AZ$70,24,0)/100) | AC19: =IF($C19="","",$E19*VLOOKUP($C19,aliments!$B$2:$AZ$70,25,0)/100) | AD19: =IF($C19="","",$E19*VLOOKUP($C19,aliments!$B$2:$AZ$70,26,0)/100) | AE19: =IF($C19="","",$E19*VLOOKUP($C19,aliments!$B$2:$AZ$70,27,0)/100) | AF19: =IF($C19="","",$E19*VLOOKUP($C19,aliments!$B$2:$AZ$70,28,0)/100) | AG19: =IF($C19="","",$E19*VLOOKUP($C19,aliments!$B$2:$AZ$70,29,0)/100) | AH19: =IF($C19="","",$E19*VLOOKUP($C19,aliments!$B$2:$AZ$70,30,0)/100) | AI19: =IF($C19="","",$E19*VLOOKUP($C19,aliments!$B$2:$AZ$70,31,0)/100) | AJ19: =IF($C19="","",$E19*VLOOKUP($C19,aliments!$B$2:$AZ$70,32,0)/100) | AK19: =IF($C19="","",$E19*VLOOKUP($C19,aliments!$B$2:$AZ$70,33,0)/100) | AL19: =IF($C19="","",$E19*VLOOKUP($C19,aliments!$B$2:$AZ$70,34,0)/100) | AM19: =IF($C19="","",$E19*VLOOKUP($C19,aliments!$B$2:$AZ$70,35,0)/100) | AN19: =IF($C19="","",$E19*VLOOKUP($C19,aliments!$B$2:$AZ$70,36,0)/100) | AO19: =IF($C19="","",$E19*VLOOKUP($C19,aliments!$B$2:$AZ$70,37,0)/100) | CA19: Confiseries_non_chocolatées
A20: Sous total | F20: =IF(SUM(F13:F19)=0,"",AVERAGE(F13:F19)) -> #N/A | G20: =SUM(G13:G19) -> #N/A | H20: =SUM(H13:H19) -> #N/A | I20: =SUM(I13:I19) -> #N/A | J20: =SUM(J13:J19) -> #N/A | K20: =SUM(K13:K19) -> #N/A | L20: =SUM(L13:L19) -> #N/A | M20: =SUM(M13:M19) -> #N/A | N20: =SUM(N13:N19) -> #N/A | ... AO20: =SUM(AO13:AO19) -> #N/A | CA20: Confitures
CA21: Crèmes_et_spécialités_à_base_de_crème
A22: Déjeuné | C22: Aliments | E22: Quantité( g) | F22: CG | G22: Pral | H22: Protides ( g) | I22: Glucides ( g) | J22: Lipides (g) | K22: Calories | L22: VitA (µg) | M22: Beta-Car. (µg) | N22: Vit D (µg) | O22: Vit E (mg) | P22: Vit K (µg) | Q22: VitC (mg) | R22: Vit B1 (mg) | S22: Vit B2 (mg) | T22: Vit B3 (mg) | U22: Vit B5 (mg) | V22: Vit B6 (mg) | W22: Vit B9 (µg) | X22: Vit B12 (µg) | Y22: Calcium (mg) | Z22: Cuivre (mg) | AA22: Fer (mg) | AB22: Iode (µg) | AC22: Magnésium (mg) | AD22: Manganèse (mg) | AE22: Phosphore (mg) | AF22: Potassium (mg) | AG22: Sélénium (µg) | AH22: Sodium (mg) | AI22: Zinc (mg) | AJ22: Fibres (g) | AK22: AG saturés (g) | AL22: AG monoinsaturés (g) | AM22: Polyols totaux (g) | AN22: AG polyinsaturés (g) | AO22: Cholestérol (mg) | CA22: Crustacés_et_mollusques_non_transformés
F23: =IF($C23="","",$E23*VLOOKUP($C23,aliments!$B$2:$AZ$70,2,0)/100) | G23: =IF($C23="","",$E23*VLOOKUP($C23,aliments!$B$2:$AZ$70,3,0)/100) | H23: =IF($C23="","",$E23*VLOOKUP($C23,aliments!$B$2:$AZ$70,4,0)/100) | I23: =IF($C23="","",$E23*VLOOKUP($C23,aliments!$B$2:$AZ$70,5,0)/100) | J23: =IF($C23="","",$E23*VLOOKUP($C23,aliments!$B$2:$AZ$70,6,0)/100) | K23: =IF($C23="","",$E23*VLOOKUP($C23,aliments!$B$2:$AZ$70,7,0)/100) | L23: =IF($C23="","",$E23*VLOOKUP($C23,aliments!$B$2:$AZ$70,8,0)/100) | M23: =IF($C23="","",$E23*VLOOKUP($C23,aliments!$B$2:$AZ$70,9,0)/100) | N23: =IF($C23="","",$E23*VLOOKUP($C23,aliments!$B$2:$AZ$70,10,0)/100) | O23: =IF($C23="","",$E23*VLOOKUP($C23,aliments!$B$2:$AZ$70,11,0)/100) | P23: =IF($C23="","",$E23*VLOOKUP($C23,aliments!$B$2:$AZ$70,12,0)/100) | Q23: =IF($C23="","",$E23*VLOOKUP($C23,aliments!$B$2:$AZ$70,13,0)/100) | R23: =IF($C23="","",$E23*VLOOKUP($C23,aliments!$B$2:$AZ$70,14,0)/100) | S23: =IF($C23="","",$E23*VLOOKUP($C23,aliments!$B$2:$AZ$70,15,0)/100) | T23: =IF($C23="","",$E23*VLOOKUP($C23,aliments!$B$2:$AZ$70,16,0)/100) | U23: =IF($C23="","",$E23*VLOOKUP($C23,aliments!$B$2:$AZ$70,17,0)/100) | V23: =IF($C23="","",$E23*VLOOKUP($C23,aliments!$B$2:$AZ$70,18,0)/100) | W23: =IF($C23="","",$E23*VLOOKUP($C23,aliments!$B$2:$AZ$70,19,0)/100) | X23: =IF($C23="","",$E23*VLOOKUP($C23,aliments!$B$2:$AZ$70,20,0)/100) | Y23: =IF($C23="","",$E23*VLOOKUP($C23,aliments!$B$2:$AZ$70,21,0)/100) | Z23: =IF($C23="","",$E23*VLOOKUP($C23,aliments!$B$2:$AZ$70,22,0)/100) | AA23: =IF($C23="","",$E23*VLOOKUP($C23,aliments!$B$2:$AZ$70,23,0)/100) | AB23: =IF($C23="","",$E23*VLOOKUP($C23,aliments!$B$2:$AZ$70,24,0)/100) | AC23: =IF($C23="","",$E23*VLOOKUP($C23,aliments!$B$2:$AZ$70,25,0)/100) | AD23: =IF($C23="","",$E23*VLOOKUP($C23,aliments!$B$2:$AZ$70,26,0)/100) | AE23: =IF($C23="","",$E23*VLOOKUP($C23,aliments!$B$2:$AZ$70,27,0)/100) | AF23: =IF($C23="","",$E23*VLOOKUP($C23,aliments!$B$2:$AZ$70,28,0)/100) | AG23: =IF($C23="","",$E23*VLOOKUP($C23,aliments!$B$2:$AZ$70,29,0)/100) | AH23: =IF($C23="","",$E23*VLOOKUP($C23,aliments!$B$2:$AZ$70,30,0)/100) | AI23: =IF($C23="","",$E23*VLOOKUP($C23,aliments!$B$2:$AZ$70,31,0)/100) | AJ23: =IF($C23="","",$E23*VLOOKUP($C23,aliments!$B$2:$AZ$70,32,0)/100) | AK23: =IF($C23="","",$E23*VLOOKUP($C23,aliments!$B$2:$AZ$70,33,0)/100) | AL23: =IF($C23="","",$E23*VLOOKUP($C23,aliments!$B$2:$AZ$70,34,0)/100) | AM23: =IF($C23="","",$E23*VLOOKUP($C23,aliments!$B$2:$AZ$70,35,0)/100) | AN23: =IF($C23="","",$E23*VLOOKUP($C23,aliments!$B$2:$AZ$70,36,0)/100) | AO23: =IF($C23="","",$E23*VLOOKUP($C23,aliments!$B$2:$AZ$70,37,0)/100) | CA23: Denrées_destinées_à_une_alimentation_particulière
F24: =IF($C24="","",$E24*VLOOKUP($C24,aliments!$B$2:$AZ$70,2,0)/100) | G24: =IF($C24="","",$E24*VLOOKUP($C24,aliments!$B$2:$AZ$70,3,0)/100) | H24: =IF($C24="","",$E24*VLOOKUP($C24,aliments!$B$2:$AZ$70,4,0)/100) | I24: =IF($C24="","",$E24*VLOOKUP($C24,aliments!$B$2:$AZ$70,5,0)/100) | J24: =IF($C24="","",$E24*VLOOKUP($C24,aliments!$B$2:$AZ$70,6,0)/100) | K24: =IF($C24="","",$E24*VLOOKUP($C24,aliments!$B$2:$AZ$70,7,0)/100) | L24: =IF($C24="","",$E24*VLOOKUP($C24,aliments!$B$2:$AZ$70,8,0)/100) | M24: =IF($C24="","",$E24*VLOOKUP($C24,aliments!$B$2:$AZ$70,9,0)/100) | N24: =IF($C24="","",$E24*VLOOKUP($C24,aliments!$B$2:$AZ$70,10,0)/100) | O24: =IF($C24="","",$E24*VLOOKUP($C24,aliments!$B$2:$AZ$70,11,0)/100) | P24: =IF($C24="","",$E24*VLOOKUP($C24,aliments!$B$2:$AZ$70,12,0)/100) | Q24: =IF($C24="","",$E24*VLOOKUP($C24,aliments!$B$2:$AZ$70,13,0)/100) | R24: =IF($C24="","",$E24*VLOOKUP($C24,aliments!$B$2:$AZ$70,14,0)/100) | S24: =IF($C24="","",$E24*VLOOKUP($C24,aliments!$B$2:$AZ$70,15,0)/100) | T24: =IF($C24="","",$E24*VLOOKUP($C24,aliments!$B$2:$AZ$70,16,0)/100) | U24: =IF($C24="","",$E24*VLOOKUP($C24,aliments!$B$2:$AZ$70,17,0)/100) | V24: =IF($C24="","",$E24*VLOOKUP($C24,aliments!$B$2:$AZ$70,18,0)/100) | W24: =IF($C24="","",$E24*VLOOKUP($C24,aliments!$B$2:$AZ$70,19,0)/100) | X24: =IF($C24="","",$E24*VLOOKUP($C24,aliments!$B$2:$AZ$70,20,0)/100) | Y24: =IF($C24="","",$E24*VLOOKUP($C24,aliments!$B$2:$AZ$70,21,0)/100) | Z24: =IF($C24="","",$E24*VLOOKUP($C24,aliments!$B$2:$AZ$70,22,0)/100) | AA24: =IF($C24="","",$E24*VLOOKUP($C24,aliments!$B$2:$AZ$70,23,0)/100) | AB24: =IF($C24="","",$E24*VLOOKUP($C24,aliments!$B$2:$AZ$70,24,0)/100) | AC24: =IF($C24="","",$E24*VLOOKUP($C24,aliments!$B$2:$AZ$70,25,0)/100) | AD24: =IF($C24="","",$E24*VLOOKUP($C24,aliments!$B$2:$AZ$70,26,0)/100) | AE24: =IF($C24="","",$E24*VLOOKUP($C24,aliments!$B$2:$AZ$70,27,0)/100) | AF24: =IF($C24="","",$E24*VLOOKUP($C24,aliments!$B$2:$AZ$70,28,0)/100) | AG24: =IF($C24="","",$E24*VLOOKUP($C24,aliments!$B$2:$AZ$70,29,0)/100) | AH24: =IF($C24="","",$E24*VLOOKUP($C24,aliments!$B$2:$AZ$70,30,0)/100) | AI24: =IF($C24="","",$E24*VLOOKUP($C24,aliments!$B$2:$AZ$70,31,0)/100) | AJ24: =IF($C24="","",$E24*VLOOKUP($C24,aliments!$B$2:$AZ$70,32,0)/100) | AK24: =IF($C24="","",$E24*VLOOKUP($C24,aliments!$B$2:$AZ$70,33,0)/100) | AL24: =IF($C24="","",$E24*VLOOKUP($C24,aliments!$B$2:$AZ$70,34,0)/100) | AM24: =IF($C24="","",$E24*VLOOKUP($C24,aliments!$B$2:$AZ$70,35,0)/100) | AN24: =IF($C24="","",$E24*VLOOKUP($C24,aliments!$B$2:$AZ$70,36,0)/100) | AO24: =IF($C24="","",$E24*VLOOKUP($C24,aliments!$B$2:$AZ$70,37,0)/100) | CA24: Desserts_lactés_frais_ou_UHT
F25: =IF($C25="","",$E25*VLOOKUP($C25,aliments!$B$2:$AZ$70,2,0)/100) | G25: =IF($C25="","",$E25*VLOOKUP($C25,aliments!$B$2:$AZ$70,3,0)/100) | H25: =IF($C25="","",$E25*VLOOKUP($C25,aliments!$B$2:$AZ$70,4,0)/100) | I25: =IF($C25="","",$E25*VLOOKUP($C25,aliments!$B$2:$AZ$70,5,0)/100) | J25: =IF($C25="","",$E25*VLOOKUP($C25,aliments!$B$2:$AZ$70,6,0)/100) | K25: =IF($C25="","",$E25*VLOOKUP($C25,aliments!$B$2:$AZ$70,7,0)/100) | L25: =IF($C25="","",$E25*VLOOKUP($C25,aliments!$B$2:$AZ$70,8,0)/100) | M25: =IF($C25="","",$E25*VLOOKUP($C25,aliments!$B$2:$AZ$70,9,0)/100) | N25: =IF($C25="","",$E25*VLOOKUP($C25,aliments!$B$2:$AZ$70,10,0)/100) | O25: =IF($C25="","",$E25*VLOOKUP($C25,aliments!$B$2:$AZ$70,11,0)/100) | P25: =IF($C25="","",$E25*VLOOKUP($C25,aliments!$B$2:$AZ$70,12,0)/100) | Q25: =IF($C25="","",$E25*VLOOKUP($C25,aliments!$B$2:$AZ$70,13,0)/100) | R25: =IF($C25="","",$E25*VLOOKUP($C25,aliments!$B$2:$AZ$70,14,0)/100) | S25: =IF($C25="","",$E25*VLOOKUP($C25,aliments!$B$2:$AZ$70,15,0)/100) | T25: =IF($C25="","",$E25*VLOOKUP($C25,aliments!$B$2:$AZ$70,16,0)/100) | U25: =IF($C25="","",$E25*VLOOKUP($C25,aliments!$B$2:$AZ$70,17,0)/100) | V25: =IF($C25="","",$E25*VLOOKUP($C25,aliments!$B$2:$AZ$70,18,0)/100) | W25: =IF($C25="","",$E25*VLOOKUP($C25,aliments!$B$2:$AZ$70,19,0)/100) | X25: =IF($C25="","",$E25*VLOOKUP($C25,aliments!$B$2:$AZ$70,20,0)/100) | Y25: =IF($C25="","",$E25*VLOOKUP($C25,aliments!$B$2:$AZ$70,21,0)/100) | Z25: =IF($C25="","",$E25*VLOOKUP($C25,aliments!$B$2:$AZ$70,22,0)/100) | AA25: =IF($C25="","",$E25*VLOOKUP($C25,aliments!$B$2:$AZ$70,23,0)/100) | AB25: =IF($C25="","",$E25*VLOOKUP($C25,aliments!$B$2:$AZ$70,24,0)/100) | AC25: =IF($C25="","",$E25*VLOOKUP($C25,aliments!$B$2:$AZ$70,25,0)/100) | AD25: =IF($C25="","",$E25*VLOOKUP($C25,aliments!$B$2:$AZ$70,26,0)/100) | AE25: =IF($C25="","",$E25*VLOOKUP($C25,aliments!$B$2:$AZ$70,27,0)/100) | AF25: =IF($C25="","",$E25*VLOOKUP($C25,aliments!$B$2:$AZ$70,28,0)/100) | AG25: =IF($C25="","",$E25*VLOOKUP($C25,aliments!$B$2:$AZ$70,29,0)/100) | AH25: =IF($C25="","",$E25*VLOOKUP($C25,aliments!$B$2:$AZ$70,30,0)/100) | AI25: =IF($C25="","",$E25*VLOOKUP($C25,aliments!$B$2:$AZ$70,31,0)/100) | AJ25: =IF($C25="","",$E25*VLOOKUP($C25,aliments!$B$2:$AZ$70,32,0)/100) | AK25: =IF($C25="","",$E25*VLOOKUP($C25,aliments!$B$2:$AZ$70,33,0)/100) | AL25: =IF($C25="","",$E25*VLOOKUP($C25,aliments!$B$2:$AZ$70,34,0)/100) | AM25: =IF($C25="","",$E25*VLOOKUP($C25,aliments!$B$2:$AZ$70,35,0)/100) | AN25: =IF($C25="","",$E25*VLOOKUP($C25,aliments!$B$2:$AZ$70,36,0)/100) | AO25: =IF($C25="","",$E25*VLOOKUP($C25,aliments!$B$2:$AZ$70,37,0)/100) | CA25: Eaux
F26: =IF($C26="","",$E26*VLOOKUP($C26,aliments!$B$2:$AZ$70,2,0)/100) | G26: =IF($C26="","",$E26*VLOOKUP($C26,aliments!$B$2:$AZ$70,3,0)/100) | H26: =IF($C26="","",$E26*VLOOKUP($C26,aliments!$B$2:$AZ$70,4,0)/100) | I26: =IF($C26="","",$E26*VLOOKUP($C26,aliments!$B$2:$AZ$70,5,0)/100) | J26: =IF($C26="","",$E26*VLOOKUP($C26,aliments!$B$2:$AZ$70,6,0)/100) | K26: =IF($C26="","",$E26*VLOOKUP($C26,aliments!$B$2:$AZ$70,7,0)/100) | L26: =IF($C26="","",$E26*VLOOKUP($C26,aliments!$B$2:$AZ$70,8,0)/100) | M26: =IF($C26="","",$E26*VLOOKUP($C26,aliments!$B$2:$AZ$70,9,0)/100) | N26: =IF($C26="","",$E26*VLOOKUP($C26,aliments!$B$2:$AZ$70,10,0)/100) | O26: =IF($C26="","",$E26*VLOOKUP($C26,aliments!$B$2:$AZ$70,11,0)/100) | P26: =IF($C26="","",$E26*VLOOKUP($C26,aliments!$B$2:$AZ$70,12,0)/100) | Q26: =IF($C26="","",$E26*VLOOKUP($C26,aliments!$B$2:$AZ$70,13,0)/100) | R26: =IF($C26="","",$E26*VLOOKUP($C26,aliments!$B$2:$AZ$70,14,0)/100) | S26: =IF($C26="","",$E26*VLOOKUP($C26,aliments!$B$2:$AZ$70,15,0)/100) | T26: =IF($C26="","",$E26*VLOOKUP($C26,aliments!$B$2:$AZ$70,16,0)/100) | U26: =IF($C26="","",$E26*VLOOKUP($C26,aliments!$B$2:$AZ$70,17,0)/100) | V26: =IF($C26="","",$E26*VLOOKUP($C26,aliments!$B$2:$AZ$70,18,0)/100) | W26: =IF($C26="","",$E26*VLOOKUP($C26,aliments!$B$2:$AZ$70,19,0)/100) | X26: =IF($C26="","",$E26*VLOOKUP($C26,aliments!$B$2:$AZ$70,20,0)/100) | Y26: =IF($C26="","",$E26*VLOOKUP($C26,aliments!$B$2:$AZ$70,21,0)/100) | Z26: =IF($C26="","",$E26*VLOOKUP($C26,aliments!$B$2:$AZ$70,22,0)/100) | AA26: =IF($C26="","",$E26*VLOOKUP($C26,aliments!$B$2:$AZ$70,23,0)/100) | AB26: =IF($C26="","",$E26*VLOOKUP($C26,aliments!$B$2:$AZ$70,24,0)/100) | AC26: =IF($C26="","",$E26*VLOOKUP($C26,aliments!$B$2:$AZ$70,25,0)/100) | AD26: =IF($C26="","",$E26*VLOOKUP($C26,aliments!$B$2:$AZ$70,26,0)/100) | AE26: =IF($C26="","",$E26*VLOOKUP($C26,aliments!$B$2:$AZ$70,27,0)/100) | AF26: =IF($C26="","",$E26*VLOOKUP($C26,aliments!$B$2:$AZ$70,28,0)/100) | AG26: =IF($C26="","",$E26*VLOOKUP($C26,aliments!$B$2:$AZ$70,29,0)/100) | AH26: =IF($C26="","",$E26*VLOOKUP($C26,aliments!$B$2:$AZ$70,30,0)/100) | AI26: =IF($C26="","",$E26*VLOOKUP($C26,aliments!$B$2:$AZ$70,31,0)/100) | AJ26: =IF($C26="","",$E26*VLOOKUP($C26,aliments!$B$2:$AZ$70,32,0)/100) | AK26: =IF($C26="","",$E26*VLOOKUP($C26,aliments!$B$2:$AZ$70,33,0)/100) | AL26: =IF($C26="","",$E26*VLOOKUP($C26,aliments!$B$2:$AZ$70,34,0)/100) | AM26: =IF($C26="","",$E26*VLOOKUP($C26,aliments!$B$2:$AZ$70,35,0)/100) | AN26: =IF($C26="","",$E26*VLOOKUP($C26,aliments!$B$2:$AZ$70,36,0)/100) | AO26: =IF($C26="","",$E26*VLOOKUP($C26,aliments!$B$2:$AZ$70,37,0)/100) | CA26: Entremets_et_glaces
F27: =IF($C27="","",$E27*VLOOKUP($C27,aliments!$B$2:$AZ$70,2,0)/100) | G27: =IF($C27="","",$E27*VLOOKUP($C27,aliments!$B$2:$AZ$70,3,0)/100) | H27: =IF($C27="","",$E27*VLOOKUP($C27,aliments!$B$2:$AZ$70,4,0)/100) | I27: =IF($C27="","",$E27*VLOOKUP($C27,aliments!$B$2:$AZ$70,5,0)/100) | J27: =IF($C27="","",$E27*VLOOKUP($C27,aliments!$B$2:$AZ$70,6,0)/100) | K27: =IF($C27="","",$E27*VLOOKUP($C27,aliments!$B$2:$AZ$70,7,0)/100) | L27: =IF($C27="","",$E27*VLOOKUP($C27,aliments!$B$2:$AZ$70,8,0)/100) | M27: =IF($C27="","",$E27*VLOOKUP($C27,aliments!$B$2:$AZ$70,9,0)/100) | N27: =IF($C27="","",$E27*VLOOKUP($C27,aliments!$B$2:$AZ$70,10,0)/100) | O27: =IF($C27="","",$E27*VLOOKUP($C27,aliments!$B$2:$AZ$70,11,0)/100) | P27: =IF($C27="","",$E27*VLOOKUP($C27,aliments!$B$2:$AZ$70,12,0)/100) | Q27: =IF($C27="","",$E27*VLOOKUP($C27,aliments!$B$2:$AZ$70,13,0)/100) | R27: =IF($C27="","",$E27*VLOOKUP($C27,aliments!$B$2:$AZ$70,14,0)/100) | S27: =IF($C27="","",$E27*VLOOKUP($C27,aliments!$B$2:$AZ$70,15,0)/100) | T27: =IF($C27="","",$E27*VLOOKUP($C27,aliments!$B$2:$AZ$70,16,0)/100) | U27: =IF($C27="","",$E27*VLOOKUP($C27,aliments!$B$2:$AZ$70,17,0)/100) | V27: =IF($C27="","",$E27*VLOOKUP($C27,aliments!$B$2:$AZ$70,18,0)/100) | W27: =IF($C27="","",$E27*VLOOKUP($C27,aliments!$B$2:$AZ$70,19,0)/100) | X27: =IF($C27="","",$E27*VLOOKUP($C27,aliments!$B$2:$AZ$70,20,0)/100) | Y27: =IF($C27="","",$E27*VLOOKUP($C27,aliments!$B$2:$AZ$70,21,0)/100) | Z27: =IF($C27="","",$E27*VLOOKUP($C27,aliments!$B$2:$AZ$70,22,0)/100) | AA27: =IF($C27="","",$E27*VLOOKUP($C27,aliments!$B$2:$AZ$70,23,0)/100) | AB27: =IF($C27="","",$E27*VLOOKUP($C27,aliments!$B$2:$AZ$70,24,0)/100) | AC27: =IF($C27="","",$E27*VLOOKUP($C27,aliments!$B$2:$AZ$70,25,0)/100) | AD27: =IF($C27="","",$E27*VLOOKUP($C27,aliments!$B$2:$AZ$70,26,0)/100) | AE27: =IF($C27="","",$E27*VLOOKUP($C27,aliments!$B$2:$AZ$70,27,0)/100) | AF27: =IF($C27="","",$E27*VLOOKUP($C27,aliments!$B$2:$AZ$70,28,0)/100) | AG27: =IF($C27="","",$E27*VLOOKUP($C27,aliments!$B$2:$AZ$70,29,0)/100) | AH27: =IF($C27="","",$E27*VLOOKUP($C27,aliments!$B$2:$AZ$70,30,0)/100) | AI27: =IF($C27="","",$E27*VLOOKUP($C27,aliments!$B$2:$AZ$70,31,0)/100) | AJ27: =IF($C27="","",$E27*VLOOKUP($C27,aliments!$B$2:$AZ$70,32,0)/100) | AK27: =IF($C27="","",$E27*VLOOKUP($C27,aliments!$B$2:$AZ$70,33,0)/100) | AL27: =IF($C27="","",$E27*VLOOKUP($C27,aliments!$B$2:$AZ$70,34,0)/100) | AM27: =IF($C27="","",$E27*VLOOKUP($C27,aliments!$B$2:$AZ$70,35,0)/100) | AN27: =IF($C27="","",$E27*VLOOKUP($C27,aliments!$B$2:$AZ$70,36,0)/100) | AO27: =IF($C27="","",$E27*VLOOKUP($C27,aliments!$B$2:$AZ$70,37,0)/100) | CA27: Farines_et_amidons
F28: =IF($C28="","",$E28*VLOOKUP($C28,aliments!$B$2:$AZ$70,2,0)/100) | G28: =IF($C28="","",$E28*VLOOKUP($C28,aliments!$B$2:$AZ$70,3,0)/100) | H28: =IF($C28="","",$E28*VLOOKUP($C28,aliments!$B$2:$AZ$70,4,0)/100) | I28: =IF($C28="","",$E28*VLOOKUP($C28,aliments!$B$2:$AZ$70,5,0)/100) | J28: =IF($C28="","",$E28*VLOOKUP($C28,aliments!$B$2:$AZ$70,6,0)/100) | K28: =IF($C28="","",$E28*VLOOKUP($C28,aliments!$B$2:$AZ$70,7,0)/100) | L28: =IF($C28="","",$E28*VLOOKUP($C28,aliments!$B$2:$AZ$70,8,0)/100) | M28: =IF($C28="","",$E28*VLOOKUP($C28,aliments!$B$2:$AZ$70,9,0)/100) | N28: =IF($C28="","",$E28*VLOOKUP($C28,aliments!$B$2:$AZ$70,10,0)/100) | O28: =IF($C28="","",$E28*VLOOKUP($C28,aliments!$B$2:$AZ$70,11,0)/100) | P28: =IF($C28="","",$E28*VLOOKUP($C28,aliments!$B$2:$AZ$70,12,0)/100) | Q28: =IF($C28="","",$E28*VLOOKUP($C28,aliments!$B$2:$AZ$70,13,0)/100) | R28: =IF($C28="","",$E28*VLOOKUP($C28,aliments!$B$2:$AZ$70,14,0)/100) | S28: =IF($C28="","",$E28*VLOOKUP($C28,aliments!$B$2:$AZ$70,15,0)/100) | T28: =IF($C28="","",$E28*VLOOKUP($C28,aliments!$B$2:$AZ$70,16,0)/100) | U28: =IF($C28="","",$E28*VLOOKUP($C28,aliments!$B$2:$AZ$70,17,0)/100) | V28: =IF($C28="","",$E28*VLOOKUP($C28,aliments!$B$2:$AZ$70,18,0)/100) | W28: =IF($C28="","",$E28*VLOOKUP($C28,aliments!$B$2:$AZ$70,19,0)/100) | X28: =IF($C28="","",$E28*VLOOKUP($C28,aliments!$B$2:$AZ$70,20,0)/100) | Y28: =IF($C28="","",$E28*VLOOKUP($C28,aliments!$B$2:$AZ$70,21,0)/100) | Z28: =IF($C28="","",$E28*VLOOKUP($C28,aliments!$B$2:$AZ$70,22,0)/100) | AA28: =IF($C28="","",$E28*VLOOKUP($C28,aliments!$B$2:$AZ$70,23,0)/100) | AB28: =IF($C28="","",$E28*VLOOKUP($C28,aliments!$B$2:$AZ$70,24,0)/100) | AC28: =IF($C28="","",$E28*VLOOKUP($C28,aliments!$B$2:$AZ$70,25,0)/100) | AD28: =IF($C28="","",$E28*VLOOKUP($C28,aliments!$B$2:$AZ$70,26,0)/100) | AE28: =IF($C28="","",$E28*VLOOKUP($C28,aliments!$B$2:$AZ$70,27,0)/100) | AF28: =IF($C28="","",$E28*VLOOKUP($C28,aliments!$B$2:$AZ$70,28,0)/100) | AG28: =IF($C28="","",$E28*VLOOKUP($C28,aliments!$B$2:$AZ$70,29,0)/100) | AH28: =IF($C28="","",$E28*VLOOKUP($C28,aliments!$B$2:$AZ$70,30,0)/100) | AI28: =IF($C28="","",$E28*VLOOKUP($C28,aliments!$B$2:$AZ$70,31,0)/100) | AJ28: =IF($C28="","",$E28*VLOOKUP($C28,aliments!$B$2:$AZ$70,32,0)/100) | AK28: =IF($C28="","",$E28*VLOOKUP($C28,aliments!$B$2:$AZ$70,33,0)/100) | AL28: =IF($C28="","",$E28*VLOOKUP($C28,aliments!$B$2:$AZ$70,34,0)/100) | AM28: =IF($C28="","",$E28*VLOOKUP($C28,aliments!$B$2:$AZ$70,35,0)/100) | AN28: =IF($C28="","",$E28*VLOOKUP($C28,aliments!$B$2:$AZ$70,36,0)/100) | AO28: =IF($C28="","",$E28*VLOOKUP($C28,aliments!$B$2:$AZ$70,37,0)/100) | CA28: Fromages
