Workbook
Name choix: '[1]calendrier vertical'!$AH$6:$AH$17

Sheet 01
A1: MALADIE
A2: CP
A3: NON JUSTIFIE | E3: Année | G3: Mois
E4: 2013 | G4: =MONTH(1&L4) -> 5 | L4: mai
A7: nom | B7: =DATE(E4,G4,1) -> 41395 | C7: =B7+1 -> 41396 | D7: =C7+1 -> 41397 | E7: =D7+1 -> 41398 | F7: =E7+1 -> 41399 | G7: =F7+1 -> 41400 | H7: =G7+1 -> 41401 | I7: =H7+1 -> 41402 | J7: =I7+1 -> 41403 | ... AC7: =AB7+1 -> 41422 | AD7: =IF(AC7="","",IF(MONTH(AC7+1)=MONTH(AC7),AC7+1,"")) -> 41423 | AE7: =IF(AD7="","",IF(MONTH(AD7+1)=MONTH(AD7),AD7+1,"")) -> 41424 | AF7: =IF(AE7="","",IF(MONTH(AE7+1)=MONTH(AE7),AE7+1,"")) -> 41425
A8: BELKIR | AG8: =SUM(B8:AF8) -> 0
A9: BONAMY | AG9: =SUM(B9:AF9) -> 0
A10: CAVALIN | AG10: =SUM(B10:AF10) -> 0
A11: CHARPENTIER | AG11: =SUM(B11:AF11) -> 0
A12: GROUSSIN | AG12: =SUM(B12:AF12) -> 0
A13: MATHIEU | AG13: =SUM(B13:AF13) -> 0
B16: ABSENCES
B18: D | C18: L | D18: M | E18: M | F18: J | G18: V | H18: S | I18: D | J18: L | K18: M | L18: M | M18: J | N18: V | O18: S | P18: D | Q18: L | R18: M | S18: M | T18: J | U18: V | V18: S | W18: D | X18: L | Y18: M | Z18: M | AA18: J | AB18: V | AC18: S | AD18: D | AE18: L | AF18: M
A19: nom | B19: =DATE(E4,G4,1) -> 41395 | C19: =B19+1 -> 41396 | D19: =C19+1 -> 41397 | E19: =D19+1 -> 41398 | F19: =E19+1 -> 41399 | G19: =F19+1 -> 41400 | H19: =G19+1 -> 41401 | I19: =H19+1 -> 41402 | J19: =I19+1 -> 41403 | ... AC19: =AB19+1 -> 41422 | AD19: =IF(AC19="","",IF(MONTH(AC19+1)=MONTH(AC19),AC19+1,"")) -> 41423 | AE19: =IF(AD7="","",IF(MONTH(AD7+1)=MONTH(AD7),AD7+1,"")) -> 41424 | AF19: =IF(AE7="","",IF(MONTH(AE7+1)=MONTH(AE7),AE7+1,"")) -> 41425
A20: BELKIR | AG20: =SUM(B20:AF20) -> 0
A21: BONAMY | AG21: =SUM(B21:AF21) -> 0
A22: CAVALIN
A23: CHARPENTIER | AG23: =SUM(B23:AF23) -> 0
A24: GROUSSIN | AG24: 0
A25: MATHIEU
B34: HEURES SUPPLEMENTAIRES LAVAGE
B36: D | C36: L | D36: M | E36: M | F36: J | G36: V | H36: S | I36: D | J36: L | K36: M | L36: M | M36: J | N36: V | O36: S | P36: D | Q36: L | R36: M | S36: M | T36: J | U36: V | V36: S | W36: D | X36: L | Y36: M | Z36: M | AA36: J | AB36: V | AC36: S | AD36: D | AE36: L | AF36: M
B37: =DATE(E4,G4,1) -> 41395 | C37: =B37+1 -> 41396 | D37: =C37+1 -> 41397 | E37: =D37+1 -> 41398 | F37: =E37+1 -> 41399 | G37: =F37+1 -> 41400 | H37: =G37+1 -> 41401 | I37: =H37+1 -> 41402 | J37: =I37+1 -> 41403 | ... AC37: =AB37+1 -> 41422 | AD37: =IF(AC37="","",IF(MONTH(AC37+1)=MONTH(AC37),AC37+1,"")) -> 41423 | AE37: =IF(AD25="","",IF(MONTH(AD25+1)=MONTH(AD25),AD25+1,"")) | AF37: =IF(AE25="","",IF(MONTH(AE25+1)=MONTH(AE25),AE25+1,""))
A38: BOCHET | AG38: =SUM(B38:AF38) -> 0
A39: LANGLOIS | AG39: =SUM(B39:AF39) -> 0
A40: SALDOT | AG40: =SUM(B40:AF40) -> 0
B43: ABSENCES
B45: D | C45: L | D45: M | E45: M | F45: J | G45: V | H45: S | I45: D | J45: L | K45: M | L45: M | M45: J | N45: V | O45: S | P45: D | Q45: L | R45: M | S45: M | T45: J | U45: V | V45: S | W45: D | X45: L | Y45: M | Z45: M | AA45: J | AB45: V | AC45: S | AD45: D | AE45: L | AF45: M
B46: =DATE(E4,G4,1) -> 41395 | C46: =B46+1 -> 41396 | D46: =C46+1 -> 41397 | E46: =D46+1 -> 41398 | F46: =E46+1 -> 41399 | G46: =F46+1 -> 41400 | H46: =G46+1 -> 41401 | I46: =H46+1 -> 41402 | J46: =I46+1 -> 41403 | ... AC46: =AB46+1 -> 41422 | AD46: =IF(AC46="","",IF(MONTH(AC46+1)=MONTH(AC46),AC46+1,"")) -> 41423 | AE46: =IF(AD34="","",IF(MONTH(AD34+1)=MONTH(AD34),AD34+1,"")) | AF46: =IF(AE34="","",IF(MONTH(AE34+1)=MONTH(AE34),AE34+1,""))
A47: BOCHET | AG47: =SUM(B47:AF47) -> 0
A48: LANGLOIS | AG48: =SUM(B48:AF48) -> 0
A49: SALDOT | AG49: =SUM(B49:AF49) -> 0
A53: MALADIE
A54: CP
A55: NON JUSTIFIE

Sheet GBA01
A1: CEPL
A2: 92 AV AUSTIN CONTE
A3: 33560 CARBON BLANC
E5: =MONTH(1)+1 -> 2 | G5: 2013
A9: NOM | B9: HORAIRE | C9: HEURES | D9: ACOMPTE | E9: ABSENCES
A10: SALARIE | B10: MENSUEL | C10: SUP | E10: MALADIE | F10: SUBROGATION | G10: RAISONS | H10: ACCIDENT | I10: Congés Payés | J10: Prévions CP | K10: Commentaires
B11: 169 H | G11: PERSO | H11: TRAVAIL | I11: du - au | J11: du - au
A13: BELKIR B | B13: 70H | F13: OUI
A15: BIES F | B15: x | F15: OUI
A17: BOCHET J | B17: x | C17: =SUM('01'!AG38) -> 0 | F17: OUI
A19: BONAMY M | B19: x | C19: =SUM('01'!B9:AF9) -> 0 | F19: OUI
A21: CAVALIN | C21: =SUM('01'!B10:AG10) -> 0 | F21: OUI
A23: CHARPENTIER E | B23: x | C23: =SUM('01'!B11:AF11) -> 0 | F23: OUI
A25: GROUSSIN F | B25: x | C25: =SUM('01'!B12:AF12) -> 0 | F25: OUI
B26: x
A27: LANGLOIS S | B27: x | C27: =SUM('01'!AG39) -> 0 | F27: OUI
A29: MATHIEU
A31: SALDOT F | B31: x | C31: =SUM('01'!AG40) -> 0 | F31: OUI

Sheet GBA02
A1: CEPL
A2: 92 AV AUSTIN CONTE
A3: 33560 CARBON BLANC
E5: Février | G5: 2013
A9: NOM | B9: HORAIRE | C9: HEURES | D9: ACOMPTE | E9: ABSENCES
A10: SALARIE | B10: MENSUEL | C10: SUP | E10: MALADIE | F10: SUBROGATION | G10: RAISONS | H10: ACCIDENT | I10: Congés Payés | J10: Prévions CP | K10: Commentaires
B11: 169 H | G11: PERSO | H11: TRAVAIL | I11: du - au | J11: du - au
A13: BELKIR B | B13: 70H | F13: OUI
A15: BIES F | B15: x | F15: OUI
A17: BOCHET J | B17: x | C17: 26H | F17: OUI
A19: BONAMY M | B19: x | F19: OUI
A21: CAVALIN | C21: 4,5H | F21: OUI
A23: CHARPENTIER E | B23: x | C23: 20H | F23: OUI
A25: GROUSSIN F | B25: x | C25: 26H | F25: OUI
B26: x
A27: LANGLOIS S | B27: x | C27: 21H | F27: OUI
A29: MATHIEU
A31: SALDOT F | B31: x | C31: 24H | F31: OUI

Sheet GBA03
A1: CEPL
A2: 92 AV AUSTIN CONTE
A3: 33560 CARBON BLANC
E5: Mars | G5: 2013
A9: NOM | B9: HORAIRE | C9: HEURES | D9: ACOMPTE | E9: ABSENCES
A10: SALARIE | B10: MENSUEL | C10: SUP | E10: MALADIE | F10: SUBROGATION | G10: RAISONS | H10: ACCIDENT | I10: Congés Payés | J10: Prévions CP | K10: Commentaires
B11: 169 H | G11: PERSO | H11: TRAVAIL | I11: du - au | J11: du - au
A13: BELKIR B | B13: 70H | F13: OUI
A15: BIES F | B15: x | F15: OUI
A17: BOCHET J | B17: x | C17: 26H | F17: OUI
A19: BONAMY M | B19: x | F19: OUI
A21: CAVALIN | C21: 4,5H | F21: OUI
A23: CHARPENTIER E | B23: x | C23: 20H | F23: OUI
A25: GROUSSIN F | B25: x | C25: 26H | F25: OUI
B26: x
A27: LANGLOIS S | B27: x | C27: 21H | F27: OUI
A29: MATHIEU
A31: SALDOT F | B31: x | C31: 24H | F31: OUI

Sheet GBA04
A1: CEPL
A2: 92 AV AUSTIN CONTE
A3: 33560 CARBON BLANC
E5: Avril | G5: 2013
A9: NOM | B9: HORAIRE | C9: HEURES | D9: ACOMPTE | E9: ABSENCES
A10: SALARIE | B10: MENSUEL | C10: SUP | E10: MALADIE | F10: SUBROGATION | G10: RAISONS | H10: ACCIDENT | I10: Congés Payés | J10: Prévions CP | K10: Commentaires
B11: 169 H | G11: PERSO | H11: TRAVAIL | I11: du - au | J11: du - au
A13: BELKIR B | B13: 70H | F13: OUI
A15: BIES F | B15: x | F15: OUI
A17: BOCHET J | B17: x | C17: 26H | F17: OUI
A19: BONAMY M | B19: x | F19: OUI
A21: CAVALIN | C21: 4,5H | F21: OUI
A23: CHARPENTIER E | B23: x | C23: 20H | F23: OUI
A25: GROUSSIN F | B25: x | C25: 26H | F25: OUI
B26: x
A27: LANGLOIS S | B27: x | C27: 21H | F27: OUI
A29: MATHIEU
A31: SALDOT F | B31: x | C31: 24H | F31: OUI

Sheet GBA05
A1: CEPL
A2: 92 AV AUSTIN CONTE
A3: 33560 CARBON BLANC
E5: Mai | G5: 2013
A9: NOM | B9: HORAIRE | C9: HEURES | D9: ACOMPTE | E9: ABSENCES
A10: SALARIE | B10: MENSUEL | C10: SUP | E10: MALADIE | F10: SUBROGATION | G10: RAISONS | H10: ACCIDENT | I10: Congés Payés | J10: Prévions CP | K10: Commentaires
B11: 169 H | G11: PERSO | H11: TRAVAIL | I11: du - au | J11: du - au
A13: BELKIR B | B13: 70H | F13: OUI
A15: BIES F | B15: x | F15: OUI
A17: BOCHET J | B17: x | C17: 26H | F17: OUI
A19: BONAMY M | B19: x | F19: OUI
A21: CAVALIN | C21: 4,5H | F21: OUI
A23: CHARPENTIER E | B23: x | C23: 20H | F23: OUI
A25: GROUSSIN F | B25: x | C25: 26H | F25: OUI
B26: x
A27: LANGLOIS S | B27: x | C27: 21H | F27: OUI
A29: MATHIEU
A31: SALDOT F | B31: x | C31: 24H | F31: OUI

Sheet GBA06
A1: CEPL
A2: 92 AV AUSTIN CONTE
A3: 33560 CARBON BLANC
E5: Juin | G5: 2013
A9: NOM | B9: HORAIRE | C9: HEURES | D9: ACOMPTE | E9: ABSENCES
A10: SALARIE | B10: MENSUEL | C10: SUP | E10: MALADIE | F10: SUBROGATION | G10: RAISONS | H10: ACCIDENT | I10: Congés Payés | J10: Prévions CP | K10: Commentaires
B11: 169 H | G11: PERSO | H11: TRAVAIL | I11: du - au | J11: du - au
A13: BELKIR B | B13: 70H | F13: OUI
A15: BIES F | B15: x | F15: OUI
A17: BOCHET J | B17: x | C17: 26H | F17: OUI
A19: BONAMY M | B19: x | F19: OUI
A21: CAVALIN | C21: 4,5H | F21: OUI
A23: CHARPENTIER E | B23: x | C23: 20H | F23: OUI
A25: GROUSSIN F | B25: x | C25: 26H | F25: OUI
B26: x
A27: LANGLOIS S | B27: x | C27: 21H | F27: OUI
A29: MATHIEU
A31: SALDOT F | B31: x | C31: 24H | F31: OUI

Sheet GBA07
A1: CEPL
A2: 92 AV AUSTIN CONTE
A3: 33560 CARBON BLANC
E5: Juillet | G5: 2013
A9: NOM | B9: HORAIRE | C9: HEURES | D9: ACOMPTE | E9: ABSENCES
A10: SALARIE | B10: MENSUEL | C10: SUP | E10: MALADIE | F10: SUBROGATION | G10: RAISONS | H10: ACCIDENT | I10: Congés Payés | J10: Prévions CP | K10: Commentaires
B11: 169 H | G11: PERSO | H11: TRAVAIL | I11: du - au | J11: du - au
A13: BELKIR B | B13: 70H | F13: OUI
A15: BIES F | B15: x | F15: OUI
A17: BOCHET J | B17: x | C17: 26H | F17: OUI
A19: BONAMY M | B19: x | F19: OUI
A21: CAVALIN | C21: 4,5H | F21: OUI
A23: CHARPENTIER E | B23: x | C23: 20H | F23: OUI
A25: GROUSSIN F | B25: x | C25: 26H | F25: OUI
B26: x
A27: LANGLOIS S | B27: x | C27: 21H | F27: OUI
A29: MATHIEU
A31: SALDOT F | B31: x | C31: 24H | F31: OUI

Sheet GBA08
A1: CEPL
A2: 92 AV AUSTIN CONTE
A3: 33560 CARBON BLANC
E5: Aout | G5: 2013
A9: NOM | B9: HORAIRE | C9: HEURES | D9: ACOMPTE | E9: ABSENCES
A10: SALARIE | B10: MENSUEL | C10: SUP | E10: MALADIE | F10: SUBROGATION | G10: RAISONS | H10: ACCIDENT | I10: Congés Payés | J10: Prévions CP | K10: Commentaires
B11: 169 H | G11: PERSO | H11: TRAVAIL | I11: du - au | J11: du - au
A13: BELKIR B | B13: 70H | F13: OUI
A15: BIES F | B15: x | F15: OUI
A17: BOCHET J | B17: x | C17: 26H | F17: OUI
A19: BONAMY M | B19: x | F19: OUI
A21: CAVALIN | C21: 4,5H | F21: OUI
A23: CHARPENTIER E | B23: x | C23: 20H | F23: OUI
A25: GROUSSIN F | B25: x | C25: 26H | F25: OUI
B26: x
A27: LANGLOIS S | B27: x | C27: 21H | F27: OUI
A29: MATHIEU
A31: SALDOT F | B31: x | C31: 24H | F31: OUI

Sheet GBA09
A1: CEPL
A2: 92 AV AUSTIN CONTE
A3: 33560 CARBON BLANC
E5: Septembre | G5: 2013
A9: NOM | B9: HORAIRE | C9: HEURES | D9: ACOMPTE | E9: ABSENCES
A10: SALARIE | B10: MENSUEL | C10: SUP | E10: MALADIE | F10: SUBROGATION | G10: RAISONS | H10: ACCIDENT | I10: Congés Payés | J10: Prévions CP | K10: Commentaires
B11: 169 H | G11: PERSO | H11: TRAVAIL | I11: du - au | J11: du - au
A13: BELKIR B | B13: 70H | F13: OUI
A15: BIES F | B15: x | F15: OUI
A17: BOCHET J | B17: x | C17: 26H | F17: OUI
A19: BONAMY M | B19: x | F19: OUI
A21: CAVALIN | C21: 4,5H | F21: OUI
A23: CHARPENTIER E | B23: x | C23: 20H | F23: OUI
A25: GROUSSIN F | B25: x | C25: 26H | F25: OUI
B26: x
A27: LANGLOIS S | B27: x | C27: 21H | F27: OUI
A29: MATHIEU
A31: SALDOT F | B31: x | C31: 24H | F31: OUI

Sheet GBA10
A1: CEPL
A2: 92 AV AUSTIN CONTE
A3: 33560 CARBON BLANC
E5: Octobre | G5: 2013
A9: NOM | B9: HORAIRE | C9: HEURES | D9: ACOMPTE | E9: ABSENCES
A10: SALARIE | B10: MENSUEL | C10: SUP | E10: MALADIE | F10: SUBROGATION | G10: RAISONS | H10: ACCIDENT | I10: Congés Payés | J10: Prévions CP | K10: Commentaires
B11: 169 H | G11: PERSO | H11: TRAVAIL | I11: du - au | J11: du - au
A13: BELKIR B | B13: 70H | F13: OUI
A15: BIES F | B15: x | F15: OUI
A17: BOCHET J | B17: x | C17: 26H | F17: OUI
A19: BONAMY M | B19: x | F19: OUI
A21: CAVALIN | C21: 4,5H | F21: OUI
A23: CHARPENTIER E | B23: x | C23: 20H | F23: OUI
A25: GROUSSIN F | B25: x | C25: 26H | F25: OUI
B26: x
A27: LANGLOIS S | B27: x | C27: 21H | F27: OUI
A29: MATHIEU
A31: SALDOT F | B31: x | C31: 24H | F31: OUI

Sheet GBA11
A1: CEPL
A2: 92 AV AUSTIN CONTE
A3: 33560 CARBON BLANC
E5: Novembre | G5: 2013
A9: NOM | B9: HORAIRE | C9: HEURES | D9: ACOMPTE | E9: ABSENCES
A10: SALARIE | B10: MENSUEL | C10: SUP | E10: MALADIE | F10: SUBROGATION | G10: RAISONS | H10: ACCIDENT | I10: Congés Payés | J10: Prévions CP | K10: Commentaires
B11: 169 H | G11: PERSO | H11: TRAVAIL | I11: du - au | J11: du - au
A13: BELKIR B | B13: 70H | F13: OUI
A15: BIES F | B15: x | F15: OUI
A17: BOCHET J | B17: x | C17: 26H | F17: OUI
A19: BONAMY M | B19: x | F19: OUI
A21: CAVALIN | C21: 4,5H | F21: OUI
A23: CHARPENTIER E | B23: x | C23: 20H | F23: OUI
A25: GROUSSIN F | B25: x | C25: 26H | F25: OUI
B26: x
A27: LANGLOIS S | B27: x | C27: 21H | F27: OUI
A29: MATHIEU
A31: SALDOT F | B31: x | C31: 24H | F31: OUI

Sheet GBA12
A1: CEPL
A2: 92 AV AUSTIN CONTE
A3: 33560 CARBON BLANC
E5: Décembre | G5: 2013
A9: NOM | B9: HORAIRE | C9: HEURES | D9: ACOMPTE | E9: ABSENCES
A10: SALARIE | B10: MENSUEL | C10: SUP | E10: MALADIE | F10: SUBROGATION | G10: RAISONS | H10: ACCIDENT | I10: Congés Payés | J10: Prévions CP | K10: Commentaires
B11: 169 H | G11: PERSO | H11: TRAVAIL | I11: du - au | J11: du - au
A13: BELKIR B | B13: 70H | F13: OUI
A15: BIES F | B15: x | F15: OUI
A17: BOCHET J | B17: x | C17: 26H | F17: OUI
A19: BONAMY M | B19: x | F19: OUI
A21: CAVALIN | C21: 4,5H | F21: OUI
A23: CHARPENTIER E | B23: x | C23: 20H | F23: OUI
A25: GROUSSIN F | B25: x | C25: 26H | F25: OUI
B26: x
A27: LANGLOIS S | B27: x | C27: 21H | F27: OUI
A29: MATHIEU
A31: SALDOT F | B31: x | C31: 24H | F31: OUI

Sheet Feuil10
B4: FEVRIER
B5: MARS
B6: AVRIL
B7: MAI
B8: JUIN
B9: JUILLET
B10: AOÛT
B11: OCTOBRE
B12: NOVEMBRE
B13: DÉCEMBRE

Sheet Feuil1
F3: juin
A4: Année | B4: Mois
A5: 2011 | B5: =MONTH(1&F3) -> 6
A6: nom | B6: =DATE(A5,B5,1) -> 40695 | C6: =B6+1 -> 40696 | D6: =C6+1 -> 40697 | E6: =D6+1 -> 40698 | F6: =E6+1 -> 40699 | G6: =F6+1 -> 40700 | H6: =G6+1 -> 40701 | I6: =H6+1 -> 40702 | J6: =I6+1 -> 40703 | ... AC6: =AB6+1 -> 40722 | AD6: =IF(AC6="","",IF(MONTH(AC6+1)=MONTH(AC6),AC6+1,"")) -> 40723 | AE6: =IF(AD6="","",IF(MONTH(AD6+1)=MONTH(AD6),AD6+1,"")) -> 40724 | AF6: =IF(AE6="","",IF(MONTH(AE6+1)=MONTH(AE6),AE6+1,""))
