Workbook

Sheet Encodage
A1: Clé | B1: Nom | C1: Prénom | D1: Fonction | E1: Equipe | F1: N° Licence | G1: Adresse mail | H1: GSM | I1: Adresse postale | J1: Code postal | K1: Ville | L1: Date de naissance | M1: Age
A2: =IF(B2>0,ROW()-1,"") -> 1 | B2: Sante | C2: Kevin | D2: Entraîneur | E2: N3M | F2: 112077 | G2: santekevin@gmail.com | H2: 0495893634 | I2: 99, Avenue François Cornesse | J2: 4920 | K2: Aywaille | L2: 32575 | M2: =(TODAY()-L2)/365 -> 24.082192
A3: 1000 | E3: N3M
A4: =IF(B4>0,ROW()-1,"")
A5: =IF(B5>0,ROW()-1,"")
A6: =IF(B6>0,ROW()-1,"")
A7: =IF(B7>0,ROW()-1,"")
A8: =IF(B8>0,ROW()-1,"")
A9: =IF(B9>0,ROW()-1,"")
A10: =IF(B10>0,ROW()-1,"")
A11: =IF(B11>0,ROW()-1,"")
A12: =IF(B12>0,ROW()-1,"")
A13: =IF(B13>0,ROW()-1,"")
A14: =IF(B14>0,ROW()-1,"")
A15: =IF(B15>0,ROW()-1,"")
... A151: =IF(B151>0,ROW()-1,"")

Sheet Equipes
A1: N3M
A2: Clé | B2: Fonction | C2: Nom | D2: Prénom | E2: N° Licence | F2: Adresse mail | G2: GSM
A3: =INDEX(Encodage!$A$2:$M$1000,MATCH($A$1,Encodage!$E$2:$E$1000,0),1) -> 1 | B3: =INDEX(Encodage!$A$2:$M$1000,MATCH($A$1,Encodage!$E$2:$E$1000,0),4) -> Entraîneur | C3: =INDEX(Encodage!$A$2:$M$1000,MATCH($A$1,Encodage!$E$2:$E$1000,0),2) -> Sante | D3: =INDEX(Encodage!$A$2:$M$1000,MATCH($A$1,Encodage!$E$2:$E$1000,0),3) -> Kevin | E3: =INDEX(Encodage!$A$2:$M$1000,MATCH($A$1,Encodage!$E$2:$E$1000,0),6) -> 112077 | F3: =INDEX(Encodage!$A$2:$M$1000,MATCH($A$1,Encodage!$E$2:$E$1000,0),7) -> santekevin@gmail.com | G3: =INDEX(Encodage!$A$2:$M$1000,MATCH($A$1,Encodage!$E$2:$E$1000,0),8) -> 0495893634
A4: =INDEX(Encodage!$A$2:$M$1000,MATCH($A$1,Encodage!$E$2:$E$1000,0),1) -> 1
A5: =INDEX(Encodage!$A$2:$M$1000,MATCH($A$1,Encodage!$E$2:$E$1000,0),1) -> 1
A6: =INDEX(Encodage!$A$2:$M$1000,MATCH($A$1,Encodage!$E$2:$E$1000,0),1) -> 1
A7: =INDEX(Encodage!$A$2:$M$1000,MATCH($A$1,Encodage!$E$2:$E$1000,0),1) -> 1
A8: =INDEX(Encodage!$A$2:$M$1000,MATCH($A$1,Encodage!$E$2:$E$1000,0),1) -> 1
A9: =INDEX(Encodage!$A$2:$M$1000,MATCH($A$1,Encodage!$E$2:$E$1000,0),1) -> 1
A10: =INDEX(Encodage!$A$2:$M$1000,MATCH($A$1,Encodage!$E$2:$E$1000,0),1) -> 1
A11: =INDEX(Encodage!$A$2:$M$1000,MATCH($A$1,Encodage!$E$2:$E$1000,0),1) -> 1
A12: =INDEX(Encodage!$A$2:$M$1000,MATCH($A$1,Encodage!$E$2:$E$1000,0),1) -> 1
A13: =INDEX(Encodage!$A$2:$M$1000,MATCH($A$1,Encodage!$E$2:$E$1000,0),1) -> 1
A14: =INDEX(Encodage!$A$2:$M$1000,MATCH($A$1,Encodage!$E$2:$E$1000,0),1) -> 1
A15: =INDEX(Encodage!$A$2:$M$1000,MATCH($A$1,Encodage!$E$2:$E$1000,0),1) -> 1
... A17: =INDEX(Encodage!$A$2:$M$1000,MATCH($A$1,Encodage!$E$2:$E$1000,0),1) -> 1
A18: P1M
