Workbook
Name Chauffeurs: Salaires!$B$5:$B$74
Name OuiNon: Calculs!$C$47:$C$48
Name Permis: Calculs!$B$62:$B$65
Name remorques: Calculs!$C$50:$C$54

Sheet Calculs
E1: Calculateur prix de revient
F3: Date d'aujourd'hui: | G3: =TODAY() -> 41278
F4: Saison : | G4: =IF(AND(DATE(YEAR(G3),3,21)<=G3,DATE(YEAR(G3),6,21)>G3),"Printemps",IF(AND(DATE(YEAR(G3),6,21)<=G3,DATE(YEAR(G3),9,21)>G3),"Ete",IF(AND(DATE(YEAR(G3),9,21)<=G3,DATE(YEAR(G3),12,21)>G3),"Automne","Hiver"))) -> Hiver
B6: Informations générales | E6: Cumulatifs des coûts de revient
B8: Millage Moyen / semaine | C8: 2000
B9: Prix du carburant : | C9: ='[1]Prix essences par station'!$B$2 -> 1.1175789
B10: Type de remorque : | C10: B-train | E10: Salaire
B11: Millage total : | C11: 750 | E11: # emp. | F11: chauffeur | H11: taux mile | I11: taux hr régulier
B12: Millage US : | C12: 400 | E12: =VLOOKUP(F12,Salaires!$B$5:$U$74,20,FALSE) -> 3794 | F12: Berube Michel | H12: =VLOOKUP(F12,Salaires!$B$5:$U$74,18,FALSE) -> 0.536424 | I12: =VLOOKUP(F12,Salaires!$B$5:$V$74,21,FALSE) -> 20.8
B13: Camion à l'urée? : | C13: Oui
G14: Taux au miles : | H14: =H12*C11 -> 402.318
B15: Section salaire | G15: Taux à l'heure : | H15: =C28*I12 -> 20.8
G16: Prime US : | H16: =C12*(0.04*1.3) -> 20.8
B17: Nb de chargement (65$) : | G17: Revenus accessoires : | H17: =(C17*(65*1.3))+(C18*(45*1.3))+(C19*(30*1.3))+(C20*(22.5*1.3))+(C21*(15*1.3))+(C22*(75*1.3))+(C23*(50*1.3))+(C24*(120*1.3))+(C25*(10*1.3))+(C26*(5*1.3)) -> 97.5
B18: Nb de chargement (45$) : | H18: =SUM(H14:H17) -> 541.418 | I18: =H18 -> 541.418
B19: Nb de chargement (30$) : | E19: Carburant
B20: Nb de chargement (22,5$) :
B21: Nb de chargement (15$) : | G21: Dépense de Fuel : | H21: =C11/C59*C9 -> 832.67242
B22: Nb de 1/2 Lay Over (75$): | C22: 1 | G22: Dépense d'Urée : | H22: =IF(C13="Oui",C11*0.019*0.7,0) -> 9.975
B23: Nb de 1/4 Lay Over (50$): | H23: =SUM(H21:H22) -> 842.64742 | I23: =H23 -> 842.64742
B24: Nb de Lay Over (120$): | E24: Équipements
B25: Nb de Rack (10$): | G25: Camion : | H25: =Informations!B13/Calculs!C8*Calculs!C11 -> 233.65385
B26: Nb de Switch (5$): | G26: Remorque : | H26: =IF(C10="B-train",C11*Informations!B20,C11*Informations!B27) -> 45.672448
B28: Nb hr attente/manœuvre | C28: 1
B30: Info. supplémentaires
B32: Nb hr de shuntage : | C32: 4
B33: Permis :
B34: Permis :
B35: Permis :
B36: Ponts :
B37: Ponts :
B38: Ponts :
B39: Homme de cours :
B40: Autres :
B44: dernière mise-à-jour: | C44: 41270
C47: Oui
C48: Non
C50: B-train
C51: FB 4 ess.
C55: B-train | D55: FB 4 ess.
...

Sheet Informations
A1: Carburant
A2: Consommation de carburant selon équipement et saison
B4: BT | C4: FB
A5: printemps | B5: 1.8 | C5: 1.87 | D5: km/l | E5: =B5*0.62137 -> 1.118466 | F5: =C5*0.62137 -> 1.1619619 | G5: m/l
A6: été | B6: 1.99 | C6: 2.1 | D6: km/l | E6: =B6*0.62137 -> 1.2365263 | F6: =C6*0.62137 -> 1.304877 | G6: m/l
A7: automne | B7: 1.8 | C7: 1.87 | D7: km/l | E7: =B7*0.62137 -> 1.118466 | F7: =C7*0.62137 -> 1.1619619 | G7: m/l
A8: hiver | B8: 1.62 | C8: 1.65 | D8: km/l | E8: =B8*0.62137 -> 1.0066194 | F8: =C8*0.62137 -> 1.0252605 | G8: m/l
A10: Coût des équipements
A12: Camion | B12: 2700 | C12: / mois
B13: =B12*12/52 -> 623.07692 | C13: / semaine
A15: B-Train | B15: Tous
A16: Coûts : | B16: 13062.32 | C16: / mois
B17: =B16*12/52 -> 3014.3815 | C17: / semaine
A18: Millage moy. | B18: =D18/26 -> 49472.523 | D18: =2070080*0.62137 -> 1286285.6 | E18: miles en mois de juillet à décembre
A19: arrondie : | B19: =MROUND(B18,500) -> 49500
B20: =B17/B19 -> 0.060896597 | C20: / miles
A22: Flat Bed
A23: Coûts : | B23: 11574.24 | C23: / mois
B24: =B23*12/52 -> 2670.9785 | C24: / semaine
A25: Millage moy. | B25: =D25/26 -> 35088.071 | D25: =1468191*0.62137 -> 912289.84 | E25: miles en mois de juillet à décembre
A26: arrondie : | B26: =MROUND(B25,500) -> 35000
B27: =B24/B26 -> 0.07631367 | C27: / miles
A29: Entretien
A31: Camion

Sheet Salaires
A1: CHAUFFEURS
H2: AS.CH | I2: R.R.Q. | J2: F.S.S. | K2: R.Q.A.P | L2: REPAS | M2: CNT | N2: FORM. | O2: C.S.S.T. | P2: ASS. GR. | Q2: VET. | R2: Congé | S2: Total
A3: NO | B3: NOM | C3: Taux Miles | D3: Hrs Wide | E3: taux / hrs | F3: % de vacance | G3: taux miles avec vacances | H3: 0.02128 | I3: 0.051 | J3: 0.0426 | K3: 0.00782 | L3: 0.055 | M3: 0.0008 | N3: 0.01 | O3: 0.0575 | P3: 0.02 | Q3: 700$ 2 aNS | R3: Fériés (10) | S3: Coût / mile
U4: # emp. | V4: taux hr av. ben marg
A5: 3807 | B5: Aubry François | C5: 0.335 | E5: 14 | F5: 0.04 | G5: 0.3484 | H5: 0.007413952 | I5: 0.0177684 | J5: 0.01484184 | K5: 0.002724488 | L5: 0.0572 | M5: 0.00027872 | N5: 0.003484 | O5: 0.020033 | P5: 0.02 | Q5: 0.0067 | R5: 0.019 | S5: 0.5178444 | T5: 0.54580418 | U5: 3807 | V5: =E5*1.3 -> 18.2
A6: 3802 | B6: Bergeron Johnny | C6: 0.315 | D6: 18 | E6: 18 | F6: 0.04 | G6: 0.3276 | H6: 0.006971328 | I6: 0.0167076 | J6: 0.01395576 | K6: 0.002561832 | L6: 0.0572 | M6: 0.00026208 | N6: 0.003276 | O6: 0.018837 | P6: 0.02 | Q6: 0.0067 | R6: 0.019 | S6: 0.4930716 | T6: 0.56530667 | U6: 3802 | V6: =E6*1.3 -> 23.4
A7: 3400 | B7: Bernard Boudreault | C7: 0.355 | E7: 24.48 | F7: 0.06 | G7: 0.3763 | H7: 0.008007664 | I7: 0.0191913 | J7: 0.01603038 | K7: 0.002942666 | L7: 0.0206965 | M7: 0.00030104 | N7: 0.003763 | O7: 0.02163725 | P7: 0.02 | Q7: 0.0067 | R7: 0.019 | S7: 0.5145698 | T7: 0.44949239 | U7: 3400 | V7: =E7*1.3 -> 31.824
A8: 3794 | B8: Berube Michel | C8: 0.35 | E8: 16 | F8: 0.04 | G8: 0.364 | H8: 0.00774592 | I8: 0.018564 | J8: 0.0155064 | K8: 0.00284648 | L8: 0.0572 | M8: 0.0002912 | N8: 0.00364 | O8: 0.02093 | P8: 0.02 | Q8: 0.0067 | R8: 0.019 | S8: 0.536424 | T8: 0.53264 | U8: 3794 | V8: =E8*1.3 -> 20.8
A9: 3671 | B9: Blagdon Jessie | C9: 0.335 | D9: 17.68 | E9: 14 | F9: 0.04 | G9: 0.3484 | H9: 0.007413952 | I9: 0.0177684 | J9: 0.01484184 | K9: 0.002724488 | L9: 0.0572 | M9: 0.00027872 | N9: 0.003484 | O9: 0.020033 | P9: 0.02 | Q9: 0.0067 | R9: 0.019 | S9: 0.5178444 | T9: 0.54580418 | U9: 3671 | V9: =E9*1.3 -> 18.2
A10: 3688 | B10: Boivin Sylvain | C10: 0.315 | D10: 17.37 | E10: 13.25 | F10: 0.04 | G10: 0.3276 | H10: 0.006971328 | I10: 0.0167076 | J10: 0.01395576 | K10: 0.002561832 | L10: 0.0572 | M10: 0.00026208 | N10: 0.003276 | O10: 0.018837 | P10: 0.02 | Q10: 0.0067 | R10: 0.019 | S10: 0.4930716 | T10: 0.56530667 | U10: 3688 | V10: =E10*1.3 -> 17.225
A11: 3808 | B11: Bonsant Guillaume | C11: 0.34 | E11: 14 | F11: 0.04 | G11: 0.3536 | H11: 0.007524608 | I11: 0.0180336 | J11: 0.01506336 | K11: 0.002765152 | L11: 0.0572 | M11: 0.00028288 | N11: 0.003536 | O11: 0.020332 | P11: 0.02 | Q11: 0.0067 | R11: 0.019 | S11: 0.5240376 | T11: 0.54128706 | U11: 3808 | V11: =E11*1.3 -> 18.2
A12: 3227 | B12: Bouchard Louis | C12: 0.36 | E12: 14.85 | F12: 0.09 | G12: 0.3924 | H12: 0.008350272 | I12: 0.0200124 | J12: 0.01671624 | K12: 0.003068568 | L12: 0.05995 | M12: 0.00031392 | N12: 0.003924 | O12: 0.022563 | P12: 0.02 | Q12: 0.0067 | R12: 0.019 | S12: 0.5729984 | T12: 0.59166222 | U12: 3227 | V12: =E12*1.3 -> 19.305
A13: 3789 | B13: Boucher Luc | C13: 0.335 | E13: 13.65 | F13: 0.04 | G13: 0.3484 | H13: 0.007413952 | I13: 0.0177684 | J13: 0.01484184 | K13: 0.002724488 | L13: 0.0572 | M13: 0.00027872 | N13: 0.003484 | O13: 0.020033 | P13: 0.02 | Q13: 0.0067 | R13: 0.019 | S13: 0.5178444 | T13: 0.54580418 | U13: 3789 | V13: =E13*1.3 -> 17.745
A14: 1504 | B14: Boucher Maxime | C14: 0.36 | E14: 14.85 | F14: 0.09 | G14: 0.3924 | H14: 0.008350272 | I14: 0.0200124 | J14: 0.01671624 | K14: 0.003068568 | L14: 0.05995 | M14: 0.00031392 | N14: 0.003924 | O14: 0.022563 | P14: 0.02 | Q14: 0.0067 | R14: 0.019 | S14: 0.5729984 | T14: 0.59166222 | U14: 1504 | V14: =E14*1.3 -> 19.305
A15: 651 | B15: Brisson Paul-René | C15: 0.36 | E15: 14.85 | F15: 0.09 | G15: 0.3924 | H15: 0.008350272 | I15: 0.0200124 | J15: 0.01671624 | K15: 0.003068568 | L15: 0.05995 | M15: 0.00031392 | N15: 0.003924 | O15: 0.022563 | P15: 0.02 | Q15: 0.0067 | R15: 0.019 | S15: 0.5729984 | T15: 0.59166222 | U15: 651 | V15: =E15*1.3 -> 19.305
A16: 3691 | B16: Castonguay Tommy | C16: 0.315 | D16: 18 | E16: 16 | F16: 0.04 | G16: 0.3276 | H16: 0.006971328 | I16: 0.0167076 | J16: 0.01395576 | K16: 0.002561832 | L16: 0.0572 | M16: 0.00026208 | N16: 0.003276 | O16: 0.018837 | P16: 0.02 | Q16: 0.0067 | R16: 0.019 | S16: 0.4930716 | T16: 0.56530667 | U16: 3691 | V16: =E16*1.3 -> 20.8
A17: 3522 | B17: Claveau Francis | C17: 0.335 | D17: 20 | E17: 20 | F17: 0.06 | G17: 0.3551 | H17: 0.007556528 | I17: 0.0181101 | J17: 0.01512726 | K17: 0.002776882 | L17: 0.0583 | M17: 0.00028408 | N17: 0.003551 | O17: 0.02041825 | P17: 0.02 | Q17: 0.0067 | R17: 0.019 | S17: 0.5269241 | T17: 0.57290776 | U17: 3522 | V17: =E17*1.3 -> 26
A18: 3647 | B18: Côté Pierre Luc | C18: 0.347 | D18: 18 | E18: 18 | F18: 0.06 | G18: 0.36782 | H18: 0.0078272096 | I18: 0.01875882 | J18: 0.015669132 | K18: 0.0028763524 | L18: 0.0583 | M18: 0.000294256 | N18: 0.0036782 | O18: 0.02114965 | P18: 0.02 | Q18: 0.0067 | R18: 0.019 | S18: 0.54207362 | T18: 0.56217182 | U18: 3647 | V18: =E18*1.3 -> 23.4
A19: 3755 | B19: Côté Serge | C19: 0.325 | D19: 18 | E19: 14 | F19: 0.04 | G19: 0.338 | H19: 0.00719264 | I19: 0.017238 | J19: 0.0143988 | K19: 0.00264316 | L19: 0.01859 | M19: 0.0002704 | N19: 0.00338 | O19: 0.019435 | P19: 0.02 | Q19: 0.0067 | R19: 0.019 | S19: 0.466848 | T19: 0.43645538 | U19: 3755 | V19: =E19*1.3 -> 18.2
A20: 3634 | B20: Dallaire Kathy | C20: 0.335 | D20: 18 | E20: 13.65 | F20: 0.04 | G20: 0.3484 | H20: 0.007413952 | I20: 0.0177684 | J20: 0.01484184 | K20: 0.002724488 | L20: 0.0572 | M20: 0.00027872 | N20: 0.003484 | O20: 0.020033 | P20: 0.02 | Q20: 0.0067 | R20: 0.019 | S20: 0.5178444 | T20: 0.54580418 | U20: 3634 | V20: =E20*1.3 -> 17.745
A21: 3812 | B21: Dube Jocelyn | C21: 0.325 | E21: 14 | F21: 0.04 | G21: 0.338 | H21: 0.00719264 | I21: 0.017238 | J21: 0.0143988 | K21: 0.00264316 | L21: 0.0572 | M21: 0.0002704 | N21: 0.00338 | O21: 0.019435 | P21: 0.02 | Q21: 0.0067 | R21: 0.019 | S21: 0.505458 | T21: 0.55525538 | U21: 3812 | V21: =E21*1.3 -> 18.2
A22: 3803 | B22: Dubois Luc | C22: 0.34 | E22: 14.5 | F22: 0.04 | G22: 0.3536 | H22: 0.007524608 | I22: 0.0180336 | J22: 0.01506336 | K22: 0.002765152 | L22: 0.0572 | M22: 0.00028288 | N22: 0.003536 | O22: 0.020332 | P22: 0.02 | Q22: 0.0067 | R22: 0.019 | S22: 0.5240376 | T22: 0.54128706 | U22: 3803 | V22: =E22*1.3 -> 18.85
A23: 3520 | B23: Dumont Jacques | C23: 0.335 | E23: 14 | F23: 0.06 | G23: 0.3551 | H23: 0.007556528 | I23: 0.0181101 | J23: 0.01512726 | K23: 0.002776882 | L23: 0.0583 | M23: 0.00028408 | N23: 0.003551 | O23: 0.02041825 | P23: 0.02 | Q23: 0.0067 | R23: 0.019 | S23: 0.5269241 | T23: 0.57290776 | U23: 3520 | V23: =E23*1.3 -> 18.2
A24: 3763 | B24: Emmanuel Roland | C24: 0.335 | E24: 20 | F24: 0.06 | G24: 0.3551 | H24: 0.007556528 | I24: 0.0181101 | J24: 0.01512726 | K24: 0.002776882 | L24: 0.0583 | M24: 0.00028408 | N24: 0.003551 | O24: 0.02041825 | P24: 0.02 | Q24: 0.0067 | R24: 0.019 | S24: 0.5269241 | T24: 0.57290776 | U24: 3763 | V24: =E24*1.3 -> 26
A25: 3762 | B25: Fillion Coté Francois | C25: 0.325 | D25: 18 | E25: 18 | F25: 0.04 | G25: 0.338 | H25: 0.00719264 | I25: 0.017238 | J25: 0.0143988 | K25: 0.00264316 | L25: 0.0572 | M25: 0.0002704 | N25: 0.00338 | O25: 0.019435 | P25: 0.02 | Q25: 0.0067 | R25: 0.019 | S25: 0.505458 | T25: 0.55525538 | U25: 3762 | V25: =E25*1.3 -> 23.4
A26: 3797 | B26: Forgues Steves | C26: 0.34 | E26: 16 | F26: 0.04 | G26: 0.3536 | H26: 0.007524608 | I26: 0.0180336 | J26: 0.01506336 | K26: 0.002765152 | L26: 0.0572 | M26: 0.00028288 | N26: 0.003536 | O26: 0.020332 | P26: 0.02 | Q26: 0.0067 | R26: 0.019 | S26: 0.5240376 | T26: 0.54128706 | U26: 3797 | V26: =E26*1.3 -> 20.8
A27: 537 | B27: Fortin Denis | C27: 0.36 | E27: 14.85 | F27: 0.09 | G27: 0.3924 | H27: 0.008350272 | I27: 0.0200124 | J27: 0.01671624 | K27: 0.003068568 | L27: 0.05995 | M27: 0.00031392 | N27: 0.003924 | O27: 0.022563 | P27: 0.02 | Q27: 0.0067 | R27: 0.019 | S27: 0.5729984 | T27: 0.59166222 | U27: 537 | V27: =E27*1.3 -> 19.305
A28: 3811 | B28: Fortin Marc-Etienne | E28: 16 | F28: 0.04 | G28: 0 | H28: 0 | I28: 0 | J28: 0 | K28: 0 | L28: 0.0572 | M28: 0 | N28: 0 | O28: 0 | P28: 0.02 | Q28: 0.0067 | R28: 0.019 | S28: 0.1029 | U28: 3811 | V28: =E28*1.3 -> 20.8
A29: 3820 | B29: Gagné Alexandre | C29: 0.325 | E29: 14 | F29: 0.04 | G29: 0.338 | H29: 0.00719264 | I29: 0.017238 | J29: 0.0143988 | K29: 0.00264316 | L29: 0.0572 | M29: 0.0002704 | N29: 0.00338 | O29: 0.019435 | P29: 0.02 | Q29: 0.0067 | R29: 0.019 | S29: 0.505458 | T29: 0.55525538 | U29: 3820 | V29: =E29*1.3 -> 18.2
A30: 3743 | B30: Gagné André | C30: 0.345 | D30: 17.37 | E30: 14.5 | F30: 0.04 | G30: 0.3588 | H30: 0.007635264 | I30: 0.0182988 | J30: 0.01528488 | K30: 0.002805816 | L30: 0.0572 | M30: 0.00028704 | N30: 0.003588 | O30: 0.020631 | P30: 0.02 | Q30: 0.0067 | R30: 0.019 | S30: 0.5302308 | T30: 0.53690087 | U30: 3743 | V30: =E30*1.3 -> 18.85
A31: 3814 | B31: Gagné Roger | E31: 17 | F31: 0.04 | G31: 0 | H31: 0 | I31: 0 | J31: 0 | K31: 0 | L31: 0.0572 | M31: 0 | N31: 0 | O31: 0 | P31: 0.02 | Q31: 0.0067 | R31: 0.019 | S31: 0.1029 | U31: 3814 | V31: =E31*1.3 -> 22.1
A32: 3501 | B32: Gagnon Guy | C32: 0.335 | D32: 18 | E32: 18 | F32: 0.06 | G32: 0.3551 | H32: 0.007556528 | I32: 0.0181101 | J32: 0.01512726 | K32: 0.002776882 | L32: 0.0583 | M32: 0.00028408 | N32: 0.003551 | O32: 0.02041825 | P32: 0.02 | Q32: 0.0067 | R32: 0.019 | S32: 0.5269241 | T32: 0.57290776 | U32: 3501 | V32: =E32*1.3 -> 23.4
A33: 3750 | B33: Gareau Louis | C33: 0.335 | D33: 17.37 | E33: 14.5 | F33: 0.04 | G33: 0.3484 | H33: 0.007413952 | I33: 0.0177684 | J33: 0.01484184 | K33: 0.002724488 | L33: 0.0572 | M33: 0.00027872 | N33: 0.003484 | O33: 0.020033 | P33: 0.02 | Q33: 0.0067 | R33: 0.019 | S33: 0.5178444 | T33: 0.54580418 | U33: 3750 | V33: =E33*1.3 -> 18.85
A34: 3539 | B34: Garneau Jonathan | C34: 0.335 | D34: 20 | E34: 20 | F34: 0.06 | G34: 0.3551 | H34: 0.007556528 | I34: 0.0181101 | J34: 0.01512726 | K34: 0.002776882 | L34: 0.0583 | M34: 0.00028408 | N34: 0.003551 | O34: 0.02041825 | P34: 0.02 | Q34: 0.0067 | R34: 0.019 | S34: 0.5269241 | T34: 0.57290776 | U34: 3539 | V34: =E34*1.3 -> 26
A35: 3256 | B35: Gaudreault Mario | C35: 0.36 | E35: 14.85 | F35: 0.08 | G35: 0.3888 | H35: 0.008273664 | I35: 0.0198288 | J35: 0.01656288 | K35: 0.003040416 | L35: 0.0594 | M35: 0.00031104 | N35: 0.003888 | O35: 0.022356 | P35: 0.02 | Q35: 0.0067 | R35: 0.019 | S35: 0.5681608 | T35: 0.57822444 | U35: 3256 | V35: =E35*1.3 -> 19.305
A36: 3656 | B36: Gauthier Michel | C36: 0.325 | D36: 17.68 | E36: 13.25 | F36: 0.04 | G36: 0.338 | H36: 0.00719264 | I36: 0.017238 | J36: 0.0143988 | K36: 0.00264316 | L36: 0.0572 | M36: 0.0002704 | N36: 0.00338 | O36: 0.019435 | P36: 0.02 | Q36: 0.0067 | R36: 0.019 | S36: 0.505458 | T36: 0.55525538 | U36: 3656 | V36: =E36*1.3 -> 17.225
A37: 3678 | B37: Gilbert Alan | C37: 0.335 | D37: 18 | E37: 18 | F37: 0.04 | G37: 0.3484 | H37: 0.007413952 | I37: 0.0177684 | J37: 0.01484184 | K37: 0.002724488 | L37: 0.0572 | M37: 0.00027872 | N37: 0.003484 | O37: 0.020033 | P37: 0.02 | Q37: 0.0067 | R37: 0.019 | S37: 0.5178444 | T37: 0.54580418 | U37: 3678 | V37: =E37*1.3 -> 23.4
A38: 3737 | B38: Girard Dominique | C38: 0.305 | E38: 12.85 | F38: 0.04 | G38: 0.3172 | H38: 0.006750016 | I38: 0.0161772 | J38: 0.01351272 | K38: 0.002480504 | L38: 0.0572 | M38: 0.00025376 | N38: 0.003172 | O38: 0.018239 | P38: 0.02 | Q38: 0.0067 | R38: 0.019 | S38: 0.4806852 | T38: 0.57601705 | U38: 3737 | V38: =E38*1.3 -> 16.705
A39: 3821 | B39: Girard Étienne | G39: 0 | H39: 0 | I39: 0 | J39: 0 | K39: 0 | M39: 0 | N39: 0 | O39: 0 | U39: 3821 | V39: =E39*1.3 -> 0
A40: 3816 | B40: Houle Daniel | C40: 0.305 | E40: 13.65 | F40: 0.04 | G40: 0.3172 | H40: 0.006750016 | I40: 0.0161772 | J40: 0.01351272 | K40: 0.002480504 | L40: 0.0572 | M40: 0.00025376 | N40: 0.003172 | O40: 0.018239 | P40: 0.02 | Q40: 0.0067 | R40: 0.019 | S40: 0.4806852 | T40: 0.57601705 | U40: 3816 | V40: =E40*1.3 -> 17.745
...

Sheet Entretien
A1: Total pour le véhicule: 461 | C1: $5,261.77 | E1: 10.8300
A2: Total pour le véhicule: 471 | C2: $4,189.96 | E2: 21.5900
A3: Total pour le véhicule: 475 | C3: $27,735.65 | E3: 213.0200
A4: Total pour le véhicule: 489 | C4: $0.00 | E4: 0.0000
A5: Total pour le véhicule: 490 | C5: $0.00 | E5: 0.0000
A6: Total pour le véhicule: 491 | C6: $0.00 | E6: 0.0000
A7: Total pour le véhicule: 495 | C7: $0.00 | E7: 0.0000
A8: Total pour le véhicule: 484 | C8: $0.00 | E8: 0.0000
A9: Total pour le véhicule: 492 | C9: $4,102.80 | E9: 53.6800
A10: Total pour le véhicule: 494 | C10: $7,551.51 | E10: 13.1000
A11: Total pour le véhicule: 496 | C11: $100.70 | E11: 0.0000
A12: Total pour le véhicule: 497 | C12: $303.56 | E12: 0.0000
... A23: Total pour le véhicule: 521 | C23: $4,534.54 | E23: 26.4100
A26: 523 | B26: CARROSSERI | C26: $194.67 | E26: 2.1600
B27: EXHAUST | C27: $21.00 | E27: 0.0000
B28: Frais acc. | C28: $297.68 | E28: 0.0000
B29: FREINS | C29: $368.31 | E29: 2.3100
B30: HUILE | C30: $291.90 | E30: 0.0000
B31: MAINTENAN | C31: $182.02 | E31: 4.7900
B32: MOTEUR | C32: $1,982.49 | E32: 8.8700
B33: PNEUS | C33: $0.00 | E33: 0.0000
B34: REP_GEN | C34: $1,927.60 | E34: 33.3400
B35: REPEXT | C35: $515.40 | E35: 0.0000
B36: REPEXT_PAR | C36: $224.58 | E36: 0.0000
B37: SYST_REFRO | C37: $137.06 | E37: 0.0000
A41: Total pour le véhicule: 523 | C41: $6,142.71 | E41: 51.4700
A44: 524 | B44: ACC_EXT | C44: $144.02 | E44: 3.7900
A45: Jules Savard Inc.
A46: GILLES BOUCHARD | B46: Coûts des véhicules par catégorie et par code de réparation
A47: 41277.641 | B47: No de vehicule : (1 ==> TEXP - Pour la compagnie: 1 Jules Savard Inc., Période de traitement du: 01-MAR-2012 au: 22-DÉC-2012 | C47: Page : 8
A50: Code du véhicule | B50: Rubrique | C50: Coût | E50: Qté
B53: CARROSSERI | C53: $250.89 | E53: 0.0000
B54: DIFFÉRENTI | C54: $229.95 | E54: 4.3200
B55: Frais acc. | C55: $305.92 | E55: 0.0000
B56: FREINS | C56: $770.28 | E56: 6.6200
B57: HUILE | C57: $414.40 | E57: 0.0000
B58: MAINTENAN | C58: $356.44 | E58: 9.3800
B59: MOTEUR | C59: $1,692.00 | E59: 0.0000
B60: PNEUS | C60: $20.00 | E60: 0.0000
B61: REMORQUAGE | C61: $390.00 | E61: 0.0000
...
