Workbook
Name Nolicam: 'Rapport Nolicam'!$B$27:$B$30
Name Nolicam1: 'Rapport Nolicam'!$B$27:$B$32

Sheet Rapport Nolicam
A1: CHAUFFEUR | D1: SEMAINE DU 10 AU 17 MARS | I1: 4 DERNIÈRES SEMAINES | L1: MOTEUR / HP / TRANSMISSION | M1: DIMINUTION / AUGMENTATION
A2: ID | B2: Nom | C2: # Camion | D2: Distance | E2: L/100 km | F2: Intertrip Idle | G2: Short Idle | H2: VOYAGE | I2: L/100 km | J2: Intertrip Idle | K2: Short Idle | M2: L/100 km | N2: Intertrip Idle | O2: Short Idle
A3: ='Semaine Dernière'!B2 -> 1183 | B3: =VLOOKUP(A3,Chauffeur!$A$2:$B$201,2,FALSE) -> SÉBASTIEN GAGNÉ | C3: =VLOOKUP($A$3,'Semaine Dernière'!$B$2:$O$18,14,FALSE) -> 44 | D3: =VLOOKUP(A3,'Semaine Dernière'!$B$2:$O$18,2,FALSE) -> 2653 | E3: =VLOOKUP(A3,'Semaine Dernière'!$B$2:$O$18,5,FALSE) -> 47.11 | F3: =VLOOKUP(A3,'Semaine Dernière'!$B$2:$O$18,6,FALSE) -> 4.3 | G3: =VLOOKUP(A3,'Semaine Dernière'!$B$2:$O$18,7,FALSE) -> 3.7 | H3: Ville et Ont. | I3: =VLOOKUP(A3,'4 Dernières semaines'!$C$2:$P$110,5,FALSE) -> 55.95 | J3: =VLOOKUP(A3,'4 Dernières semaines'!$C$2:$P$110,6,FALSE) -> 6.3 | K3: =VLOOKUP(A3,'4 Dernières semaines'!$C$2:$P$110,7,FALSE) -> 6 | L3: =VLOOKUP(C3,Type!$A$1:$E$96,5,FALSE) -> Cummins/500/10V | M3: =E3-I3 -> -8.84 | N3: =F3-J3 -> -2 | O3: =G3-K3 -> -2.3
A4: ='Semaine Dernière'!B3 -> 1157 | B4: =VLOOKUP(A4,Chauffeur!$A$2:$B$201,2,FALSE) -> PATRICK VAILLANCOURT | C4: =VLOOKUP(A4,'Semaine Dernière'!$B$2:$O$18,14,FALSE) -> 44 | D4: =VLOOKUP(A4,'Semaine Dernière'!$B$2:$O$18,2,FALSE) -> 1652 | E4: =VLOOKUP(A4,'Semaine Dernière'!$B$2:$O$18,5,FALSE) -> 50.51 | F4: =VLOOKUP(A4,'Semaine Dernière'!$B$2:$O$18,6,FALSE) -> 31.7 | G4: =VLOOKUP(A4,'Semaine Dernière'!$B$2:$O$18,7,FALSE) -> 4.7 | H4: Qc - Ont | I4: =VLOOKUP(A4,'4 Dernières semaines'!$C$2:$P$110,5,FALSE) -> 54.22 | J4: =VLOOKUP(A4,'4 Dernières semaines'!$C$2:$P$110,6,FALSE) -> 27.3 | K4: =VLOOKUP(A4,'4 Dernières semaines'!$C$2:$P$110,7,FALSE) -> 3.8 | L4: =VLOOKUP(C4,Type!$A$1:$E$96,5,FALSE) -> Cummins/500/10V | M4: =E4-I4 -> -3.71 | N4: =F4-J4 -> 4.4 | O4: =G4-K4 -> 0.9
A5: ='Semaine Dernière'!B4 -> 1164 | B5: =VLOOKUP(A5,Chauffeur!$A$2:$B$201,2,FALSE) -> JONATHAN COTE | C5: =VLOOKUP(A5,'Semaine Dernière'!$B$2:$O$18,14,FALSE) -> 53 | D5: =VLOOKUP(A5,'Semaine Dernière'!$B$2:$O$18,2,FALSE) -> 3274 | E5: =VLOOKUP(A5,'Semaine Dernière'!$B$2:$O$18,5,FALSE) -> 50.83 | F5: =VLOOKUP(A5,'Semaine Dernière'!$B$2:$O$18,6,FALSE) -> 3.8 | G5: =VLOOKUP(A5,'Semaine Dernière'!$B$2:$O$18,7,FALSE) -> 3.8 | H5: Qc - Ont | I5: =VLOOKUP(A5,'4 Dernières semaines'!$C$2:$P$110,5,FALSE) -> 52.29 | J5: =VLOOKUP(A5,'4 Dernières semaines'!$C$2:$P$110,6,FALSE) -> 7.6 | K5: =VLOOKUP(A5,'4 Dernières semaines'!$C$2:$P$110,7,FALSE) -> 3.1 | L5: =VLOOKUP(C5,Type!$A$1:$E$96,5,FALSE) -> CumminsTurbo/500/10V | M5: =E5-I5 -> -1.46 | N5: =F5-J5 -> -3.8 | O5: =G5-K5 -> 0.7
A6: ='Semaine Dernière'!B5 -> 1155 | B6: =VLOOKUP(A6,Chauffeur!$A$2:$B$201,2,FALSE) -> JEANPIERRE BOUDREAULT | C6: =VLOOKUP(A6,'Semaine Dernière'!$B$2:$O$18,14,FALSE) -> 597 | D6: =VLOOKUP(A6,'Semaine Dernière'!$B$2:$O$18,2,FALSE) -> 4082 | E6: =VLOOKUP(A6,'Semaine Dernière'!$B$2:$O$18,5,FALSE) -> 51.08 | F6: =VLOOKUP(A6,'Semaine Dernière'!$B$2:$O$18,6,FALSE) -> 8.6 | G6: =VLOOKUP(A6,'Semaine Dernière'!$B$2:$O$18,7,FALSE) -> 5.4 | H6: Qc - Ont | I6: =VLOOKUP(A6,'4 Dernières semaines'!$C$2:$P$110,5,FALSE) -> 53.34 | J6: =VLOOKUP(A6,'4 Dernières semaines'!$C$2:$P$110,6,FALSE) -> 12.8 | K6: =VLOOKUP(A6,'4 Dernières semaines'!$C$2:$P$110,7,FALSE) -> 7.1 | L6: =VLOOKUP(C6,Type!$A$1:$E$96,5,FALSE) -> Cummins/500/10V | M6: =E6-I6 -> -2.26 | N6: =F6-J6 -> -4.2 | O6: =G6-K6 -> -1.7
A7: ='Semaine Dernière'!B6 -> 579 | B7: =VLOOKUP(A7,Chauffeur!$A$2:$B$201,2,FALSE) -> DOMINIQUE BOILY | C7: =VLOOKUP(A7,'Semaine Dernière'!$B$2:$O$18,14,FALSE) -> 52 | D7: =VLOOKUP(A7,'Semaine Dernière'!$B$2:$O$18,2,FALSE) -> 3514 | E7: =VLOOKUP(A7,'Semaine Dernière'!$B$2:$O$18,5,FALSE) -> 51.27 | F7: =VLOOKUP(A7,'Semaine Dernière'!$B$2:$O$18,6,FALSE) -> 5.3 | G7: =VLOOKUP(A7,'Semaine Dernière'!$B$2:$O$18,7,FALSE) -> 5.3 | H7: Qc - Ont | I7: =VLOOKUP(A7,'4 Dernières semaines'!$C$2:$P$110,5,FALSE) -> 52.24 | J7: =VLOOKUP(A7,'4 Dernières semaines'!$C$2:$P$110,6,FALSE) -> 19 | K7: =VLOOKUP(A7,'4 Dernières semaines'!$C$2:$P$110,7,FALSE) -> 2.3 | L7: =VLOOKUP(C7,Type!$A$1:$E$96,5,FALSE) -> Cummins/500/10V | M7: =E7-I7 -> -0.97 | N7: =F7-J7 -> -13.7 | O7: =G7-K7 -> 3
A8: ='Semaine Dernière'!B7 -> 1103 | B8: =VLOOKUP(A8,Chauffeur!$A$2:$B$201,2,FALSE) -> RAYMOND JOBIN | C8: =VLOOKUP(A8,'Semaine Dernière'!$B$2:$O$18,14,FALSE) -> 51 | D8: =VLOOKUP(A8,'Semaine Dernière'!$B$2:$O$18,2,FALSE) -> 3760 | E8: =VLOOKUP(A8,'Semaine Dernière'!$B$2:$O$18,5,FALSE) -> 51.6 | F8: =VLOOKUP(A8,'Semaine Dernière'!$B$2:$O$18,6,FALSE) -> 9 | G8: =VLOOKUP(A8,'Semaine Dernière'!$B$2:$O$18,7,FALSE) -> 0.9 | H8: Québec | I8: =VLOOKUP(A8,'4 Dernières semaines'!$C$2:$P$110,5,FALSE) -> 54.1 | J8: =VLOOKUP(A8,'4 Dernières semaines'!$C$2:$P$110,6,FALSE) -> 11.4 | K8: =VLOOKUP(A8,'4 Dernières semaines'!$C$2:$P$110,7,FALSE) -> 1.4 | L8: =VLOOKUP(C8,Type!$A$1:$E$96,5,FALSE) -> Cummins/500/10V | M8: =E8-I8 -> -2.5 | N8: =F8-J8 -> -2.4 | O8: =G8-K8 -> -0.5
A9: ='Semaine Dernière'!B8 -> 1129 | B9: =VLOOKUP(A9,Chauffeur!$A$2:$B$201,2,FALSE) -> CARL RIVERIN | C9: =VLOOKUP(A9,'Semaine Dernière'!$B$2:$O$18,14,FALSE) -> 49 | D9: =VLOOKUP(A9,'Semaine Dernière'!$B$2:$O$18,2,FALSE) -> 4276 | E9: =VLOOKUP(A9,'Semaine Dernière'!$B$2:$O$18,5,FALSE) -> 51.71 | F9: =VLOOKUP(A9,'Semaine Dernière'!$B$2:$O$18,6,FALSE) -> 4.5 | G9: =VLOOKUP(A9,'Semaine Dernière'!$B$2:$O$18,7,FALSE) -> 4.4 | H9: Québec | I9: =VLOOKUP(A9,'4 Dernières semaines'!$C$2:$P$110,5,FALSE) -> 55.07 | J9: =VLOOKUP(A9,'4 Dernières semaines'!$C$2:$P$110,6,FALSE) -> 20 | K9: =VLOOKUP(A9,'4 Dernières semaines'!$C$2:$P$110,7,FALSE) -> 2.4 | L9: =VLOOKUP(C9,Type!$A$1:$E$96,5,FALSE) -> Cummins/500/10V | M9: =E9-I9 -> -3.36 | N9: =F9-J9 -> -15.5 | O9: =G9-K9 -> 2
A10: ='Semaine Dernière'!B9 -> 1130 | B10: =VLOOKUP(A10,Chauffeur!$A$2:$B$201,2,FALSE) -> REJEAN TREMBLAY | C10: =VLOOKUP(A10,'Semaine Dernière'!$B$2:$O$18,14,FALSE) -> 49 | D10: =VLOOKUP(A10,'Semaine Dernière'!$B$2:$O$18,2,FALSE) -> 4461 | E10: =VLOOKUP(A10,'Semaine Dernière'!$B$2:$O$18,5,FALSE) -> 52.15 | F10: =VLOOKUP(A10,'Semaine Dernière'!$B$2:$O$18,6,FALSE) -> 5.4 | G10: =VLOOKUP(A10,'Semaine Dernière'!$B$2:$O$18,7,FALSE) -> 1.6 | H10: Québec | I10: =VLOOKUP(A10,'4 Dernières semaines'!$C$2:$P$110,5,FALSE) -> 53.34 | J10: =VLOOKUP(A10,'4 Dernières semaines'!$C$2:$P$110,6,FALSE) -> 10.6 | K10: =VLOOKUP(A10,'4 Dernières semaines'!$C$2:$P$110,7,FALSE) -> 3.5 | L10: =VLOOKUP(C10,Type!$A$1:$E$96,5,FALSE) -> Cummins/500/10V | M10: =E10-I10 -> -1.19 | N10: =F10-J10 -> -5.2 | O10: =G10-K10 -> -1.9
A11: ='Semaine Dernière'!B10 -> 1205 | B11: =VLOOKUP(A11,Chauffeur!$A$2:$B$201,2,FALSE) -> REJEAN BOILY | C11: =VLOOKUP(A11,'Semaine Dernière'!$B$2:$O$18,14,FALSE) -> 48 | D11: =VLOOKUP(A11,'Semaine Dernière'!$B$2:$O$18,2,FALSE) -> 3996 | E11: =VLOOKUP(A11,'Semaine Dernière'!$B$2:$O$18,5,FALSE) -> 53.07 | F11: =VLOOKUP(A11,'Semaine Dernière'!$B$2:$O$18,6,FALSE) -> 8.9 | G11: =VLOOKUP(A11,'Semaine Dernière'!$B$2:$O$18,7,FALSE) -> 3.7 | H11: Québec | I11: =VLOOKUP(A11,'4 Dernières semaines'!$C$2:$P$110,5,FALSE) -> 52 | J11: =VLOOKUP(A11,'4 Dernières semaines'!$C$2:$P$110,6,FALSE) -> 11.8 | K11: =VLOOKUP(A11,'4 Dernières semaines'!$C$2:$P$110,7,FALSE) -> 4.7 | L11: =VLOOKUP(C11,Type!$A$1:$E$96,5,FALSE) -> Cummins/500/10V | M11: =E11-I11 -> 1.07 | N11: =F11-J11 -> -2.9 | O11: =G11-K11 -> -1
A12: ='Semaine Dernière'!B11 -> 1111 | B12: =VLOOKUP(A12,Chauffeur!$A$2:$B$201,2,FALSE) -> PATRICK FORTIN | C12: =VLOOKUP(A12,'Semaine Dernière'!$B$2:$O$18,14,FALSE) -> 50 | D12: =VLOOKUP(A12,'Semaine Dernière'!$B$2:$O$18,2,FALSE) -> 4268 | E12: =VLOOKUP(A12,'Semaine Dernière'!$B$2:$O$18,5,FALSE) -> 53.55 | F12: =VLOOKUP(A12,'Semaine Dernière'!$B$2:$O$18,6,FALSE) -> 4.1 | G12: =VLOOKUP(A12,'Semaine Dernière'!$B$2:$O$18,7,FALSE) -> 4.1 | H12: Québec | I12: =VLOOKUP(A12,'4 Dernières semaines'!$C$2:$P$110,5,FALSE) -> 55.67 | J12: =VLOOKUP(A12,'4 Dernières semaines'!$C$2:$P$110,6,FALSE) -> 18.9 | K12: =VLOOKUP(A12,'4 Dernières semaines'!$C$2:$P$110,7,FALSE) -> 3.5 | L12: =VLOOKUP(C12,Type!$A$1:$E$96,5,FALSE) -> Cummins/500/10V | M12: =E12-I12 -> -2.12 | N12: =F12-J12 -> -14.8 | O12: =G12-K12 -> 0.6
A13: ='Semaine Dernière'!B12 -> 1170 | B13: =VLOOKUP(A13,Chauffeur!$A$2:$B$201,2,FALSE) -> DENIS DUFOUR | C13: =VLOOKUP(A13,'Semaine Dernière'!$B$2:$O$18,14,FALSE) -> 45 | D13: =VLOOKUP(A13,'Semaine Dernière'!$B$2:$O$18,2,FALSE) -> 3998 | E13: =VLOOKUP(A13,'Semaine Dernière'!$B$2:$O$18,5,FALSE) -> 53.71 | F13: =VLOOKUP(A13,'Semaine Dernière'!$B$2:$O$18,6,FALSE) -> 21 | G13: =VLOOKUP(A13,'Semaine Dernière'!$B$2:$O$18,7,FALSE) -> 5 | H13: Québec | I13: =VLOOKUP(A13,'4 Dernières semaines'!$C$2:$P$110,5,FALSE) -> 57.03 | J13: =VLOOKUP(A13,'4 Dernières semaines'!$C$2:$P$110,6,FALSE) -> 33.4 | K13: =VLOOKUP(A13,'4 Dernières semaines'!$C$2:$P$110,7,FALSE) -> 3.9 | L13: =VLOOKUP(C13,Type!$A$1:$E$96,5,FALSE) -> Cummins/500/10V | M13: =E13-I13 -> -3.32 | N13: =F13-J13 -> -12.4 | O13: =G13-K13 -> 1.1
A14: ='Semaine Dernière'!B13 -> 1185 | B14: =VLOOKUP(A14,Chauffeur!$A$2:$B$201,2,FALSE) -> BRUNO MIVILLE | C14: =VLOOKUP(A14,'Semaine Dernière'!$B$2:$O$18,14,FALSE) -> 46 | D14: =VLOOKUP(A14,'Semaine Dernière'!$B$2:$O$18,2,FALSE) -> 4656 | E14: =VLOOKUP(A14,'Semaine Dernière'!$B$2:$O$18,5,FALSE) -> 56.57 | F14: =VLOOKUP(A14,'Semaine Dernière'!$B$2:$O$18,6,FALSE) -> 15.2 | G14: =VLOOKUP(A14,'Semaine Dernière'!$B$2:$O$18,7,FALSE) -> 2.2 | H14: Québec | I14: =VLOOKUP(A14,'4 Dernières semaines'!$C$2:$P$110,5,FALSE) -> 58.36 | J14: =VLOOKUP(A14,'4 Dernières semaines'!$C$2:$P$110,6,FALSE) -> 30.6 | K14: =VLOOKUP(A14,'4 Dernières semaines'!$C$2:$P$110,7,FALSE) -> 4.7 | L14: =VLOOKUP(C14,Type!$A$1:$E$96,5,FALSE) -> Cummins/500/10V | M14: =E14-I14 -> -1.79 | N14: =F14-J14 -> -15.4 | O14: =G14-K14 -> -2.5
A15: ='Semaine Dernière'!B14 -> 1120 | B15: =VLOOKUP(A15,Chauffeur!$A$2:$B$201,2,FALSE) -> DANIEL DUBREUIL | C15: =VLOOKUP(A15,'Semaine Dernière'!$B$2:$O$18,14,FALSE) -> 579 | D15: =VLOOKUP(A15,'Semaine Dernière'!$B$2:$O$18,2,FALSE) -> 3483 | E15: =VLOOKUP(A15,'Semaine Dernière'!$B$2:$O$18,5,FALSE) -> 56.84 | F15: =VLOOKUP(A15,'Semaine Dernière'!$B$2:$O$18,6,FALSE) -> 18.6 | G15: =VLOOKUP(A15,'Semaine Dernière'!$B$2:$O$18,7,FALSE) -> 6.9 | H15: Qc - Ont | I15: =VLOOKUP(A15,'4 Dernières semaines'!$C$2:$P$110,5,FALSE) -> 56.51 | J15: =VLOOKUP(A15,'4 Dernières semaines'!$C$2:$P$110,6,FALSE) -> 26.9 | K15: =VLOOKUP(A15,'4 Dernières semaines'!$C$2:$P$110,7,FALSE) -> 5.4 | L15: =VLOOKUP(C15,Type!$A$1:$E$96,5,FALSE) -> Caterpillar/470/10V | M15: =E15-I15 -> 0.33 | N15: =F15-J15 -> -8.3 | O15: =G15-K15 -> 1.5
A16: ='Semaine Dernière'!B15 -> 1192 | B16: JOCELYN DUBÉ | C16: =VLOOKUP(A16,'Semaine Dernière'!$B$2:$O$18,14,FALSE) -> 51 | D16: =VLOOKUP(A16,'Semaine Dernière'!$B$2:$O$18,2,FALSE) -> 1287 | E16: =VLOOKUP(A16,'Semaine Dernière'!$B$2:$O$18,5,FALSE) -> 57.08 | F16: =VLOOKUP(A16,'Semaine Dernière'!$B$2:$O$18,6,FALSE) -> 34.4 | G16: =VLOOKUP(A16,'Semaine Dernière'!$B$2:$O$18,7,FALSE) -> 3.8 | H16: Côte Nord | I16: =VLOOKUP(A16,'4 Dernières semaines'!$C$2:$P$110,5,FALSE) -> 54.58 | J16: =VLOOKUP(A16,'4 Dernières semaines'!$C$2:$P$110,6,FALSE) -> 9.5 | K16: =VLOOKUP(A16,'4 Dernières semaines'!$C$2:$P$110,7,FALSE) -> 5.1 | L16: =VLOOKUP(C16,Type!$A$1:$E$96,5,FALSE) -> Cummins/500/10V | M16: =E16-I16 -> 2.5 | N16: =F16-J16 -> 24.9 | O16: =G16-K16 -> -1.3
A17: ='Semaine Dernière'!B16 -> 1034 | B17: =VLOOKUP(A17,Chauffeur!$A$2:$B$201,2,FALSE) -> MARTIN BRASSARD | C17: =VLOOKUP(A17,'Semaine Dernière'!$B$2:$O$18,14,FALSE) -> 43 | D17: =VLOOKUP(A17,'Semaine Dernière'!$B$2:$O$18,2,FALSE) -> 3232 | E17: =VLOOKUP(A17,'Semaine Dernière'!$B$2:$O$18,5,FALSE) -> 58.56 | F17: =VLOOKUP(A17,'Semaine Dernière'!$B$2:$O$18,6,FALSE) -> 2.3 | G17: =VLOOKUP(A17,'Semaine Dernière'!$B$2:$O$18,7,FALSE) -> 2.3 | H17: Québec | I17: =VLOOKUP(A17,'4 Dernières semaines'!$C$2:$P$110,5,FALSE) -> 59.54 | J17: =VLOOKUP(A17,'4 Dernières semaines'!$C$2:$P$110,6,FALSE) -> 9 | K17: =VLOOKUP(A17,'4 Dernières semaines'!$C$2:$P$110,7,FALSE) -> 6 | L17: =VLOOKUP(C17,Type!$A$1:$E$96,5,FALSE) -> Cummins/500/18V | M17: =E17-I17 -> -0.98 | N17: =F17-J17 -> -6.7 | O17: =G17-K17 -> -3.7
A18: ='Semaine Dernière'!B17 -> 1074 | B18: =VLOOKUP(A18,Chauffeur!$A$2:$B$201,2,FALSE) -> STÉPHANE HELMS | C18: =VLOOKUP(A18,'Semaine Dernière'!$B$2:$O$18,14,FALSE) -> 36 | D18: =VLOOKUP(A18,'Semaine Dernière'!$B$2:$O$18,2,FALSE) -> 3171 | E18: =VLOOKUP(A18,'Semaine Dernière'!$B$2:$O$18,5,FALSE) -> 59.56 | F18: =VLOOKUP(A18,'Semaine Dernière'!$B$2:$O$18,6,FALSE) -> 14.4 | G18: =VLOOKUP(A18,'Semaine Dernière'!$B$2:$O$18,7,FALSE) -> 11.8 | H18: Québec | I18: =VLOOKUP(A18,'4 Dernières semaines'!$C$2:$P$110,5,FALSE) -> 61.19 | J18: =VLOOKUP(A18,'4 Dernières semaines'!$C$2:$P$110,6,FALSE) -> 15.8 | K18: =VLOOKUP(A18,'4 Dernières semaines'!$C$2:$P$110,7,FALSE) -> 8.8 | L18: =VLOOKUP(C18,Type!$A$1:$E$96,5,FALSE) -> Paccar/485/18V | M18: =E18-I18 -> -1.63 | N18: =F18-J18 -> -1.4 | O18: =G18-K18 -> 3
A19: ='Semaine Dernière'!B18 -> 1172 | B19: =VLOOKUP(A19,Chauffeur!$A$2:$B$201,2,FALSE) -> DOMINIC FORTIN | C19: =VLOOKUP(A19,'Semaine Dernière'!$B$2:$O$18,14,FALSE) -> 37 | D19: =VLOOKUP(A19,'Semaine Dernière'!$B$2:$O$18,2,FALSE) -> 3798 | E19: =VLOOKUP(A19,'Semaine Dernière'!$B$2:$O$18,5,FALSE) -> 64.1 | F19: =VLOOKUP(A19,'Semaine Dernière'!$B$2:$O$18,6,FALSE) -> 5.2 | G19: =VLOOKUP(A19,'Semaine Dernière'!$B$2:$O$18,7,FALSE) -> 5 | H19: Québec | I19: =VLOOKUP(A19,'4 Dernières semaines'!$C$2:$P$110,5,FALSE) -> 59.92 | J19: =VLOOKUP(A19,'4 Dernières semaines'!$C$2:$P$110,6,FALSE) -> 20.4 | K19: =VLOOKUP(A19,'4 Dernières semaines'!$C$2:$P$110,7,FALSE) -> 3.7 | L19: =VLOOKUP(C19,Type!$A$1:$E$96,5,FALSE) -> Paccar/485/18V | M19: =E19-I19 -> 4.18 | N19: =F19-J19 -> -15.2 | O19: =G19-K19 -> 1.3
B27: Québec
B28: Qc - Ont
B29: Côte Nord
B30: Ville
B31: Ville et Qc.
B32: Ville et Ont.

Sheet Rapport Flat-BT

Sheet Semaine Dernière
A1: Vehicle ID | B1: Driver ID | C1: Distance | D1: Eng Time(min) | E1: Fuel | F1: L/ 100 Km | G1: Intrtrp Idle% | H1: Short Idle% | I1: OvrSpd% | J1: OvRev% | K1: Shift OvrRev% | L1: TotalOvrRng% | M1: TopGear% | N1: CruiseCtl% | O1: CAMION
A2: 44 | B2: 1183 | C2: 2653 | D2: 2348 | E2: 1250 | F2: 47.11 | G2: 4.3 | H2: 3.7 | I2: 0.1 | J2: 0.3 | K2: 0.2 | L2: 4.7 | M2: 71.6 | N2: 15.9 | O2: =A2 -> 44
A3: 44 | B3: 1157 | C3: 1652 | D3: 1967 | E3: 835 | F3: 50.51 | G3: 31.7 | H3: 4.7 | I3: 2.3 | J3: 1.5 | K3: 0 | L3: 34.6 | M3: 74.1 | N3: 37.3 | O3: =A3 -> 44
A4: 53 | B4: 1164 | C4: 3274 | D4: 2604 | E4: 1664 | F4: 50.83 | G4: 3.8 | H4: 3.8 | I4: 0.7 | J4: 2.6 | K4: 2 | L4: 7 | M4: 74.1 | N4: 49.2 | O4: =A4 -> 53
A5: 597 | B5: 1155 | C5: 4082 | D5: 3351 | E5: 2085 | F5: 51.08 | G5: 8.6 | H5: 5.4 | I5: 1.7 | J5: 0.4 | K5: 0 | L5: 10.4 | M5: 79.7 | N5: 63.6 | O5: =A5 -> 597
A6: 52 | B6: 579 | C6: 3514 | D6: 2953 | E6: 1802 | F6: 51.27 | G6: 5.3 | H6: 5.3 | I6: 0.6 | J6: 3.7 | K6: 3.1 | L6: 9.5 | M6: 74.3 | N6: 56 | O6: =A6 -> 52
A7: 51 | B7: 1103 | C7: 3760 | D7: 3112 | E7: 1940 | F7: 51.6 | G7: 9 | H7: 0.9 | I7: 2.3 | J7: 7.7 | K7: 5.7 | L7: 18.7 | M7: 70.3 | N7: 48.5 | O7: =A7 -> 51
A8: 49 | B8: 1129 | C8: 4276 | D8: 3381 | E8: 2211 | F8: 51.71 | G8: 4.5 | H8: 4.4 | I8: 2.8 | J8: 3.5 | K8: 0.9 | L8: 10.5 | M8: 74.1 | N8: 20.2 | O8: =A8 -> 49
A9: 49 | B9: 1130 | C9: 4461 | D9: 3603 | E9: 2327 | F9: 52.15 | G9: 5.4 | H9: 1.6 | I9: 2.2 | J9: 5.5 | K9: 3.5 | L9: 12.9 | M9: 73 | N9: 27.7 | O9: =A9 -> 49
A10: 48 | B10: 1205 | C10: 3996 | D10: 3529 | E10: 2121 | F10: 53.07 | G10: 8.9 | H10: 3.7 | I10: 1.7 | J10: 3.2 | K10: 1.8 | L10: 13.5 | M10: 71.1 | N10: 32.8 | O10: =A10 -> 48
A11: 50 | B11: 1111 | C11: 4268 | D11: 3304 | E11: 2286 | F11: 53.55 | G11: 4.1 | H11: 4.1 | I11: 3.1 | J11: 0.5 | K11: 0 | L11: 7.5 | M11: 77.2 | N11: 28.7 | O11: =A11 -> 50
A12: 45 | B12: 1170 | C12: 3998 | D12: 3981 | E12: 2148 | F12: 53.71 | G12: 21 | H12: 5 | I12: 3.3 | J12: 3.3 | K12: 0.9 | L12: 26.8 | M12: 70.6 | N12: 31.3 | O12: =A12 -> 45
A13: 46 | B13: 1185 | C13: 4656 | D13: 4157 | E13: 2634 | F13: 56.57 | G13: 15.2 | H13: 2.2 | I13: 3.1 | J13: 3.6 | K13: 1.1 | L13: 21.4 | M13: 71.5 | N13: 22.9 | O13: =A13 -> 46
... A18: 37 | B18: 1172 | C18: 3798 | D18: 3162 | E18: 2435 | F18: 64.1 | G18: 5.2 | H18: 5 | I18: 2.3 | J18: 7.4 | K18: 5.3 | L18: 14.7 | M18: 54.4 | N18: 30.4 | O18: =A18 -> 37

Sheet 4 Dernières semaines
A1: Manager | B1: Vehicle ID | C1: Driver ID | D1: Distance | E1: Eng Time(min) | F1: Fuel | G1: L/ 100 Km | H1: Intrtrp Idle% | I1: Short Idle% | J1: OvrSpd% | K1: OvRev% | L1: Shift OvrRev% | M1: TotalOvrRng% | N1: TopGear% | O1: CruiseCtl% | P1: CAMION
B2: 574 | C2: 3874 | D2: 8379 | E2: 10322 | F2: 3847 | G2: 45.9 | H2: 18.1 | I2: 9.5 | J2: 0.1 | K2: 2.9 | L2: 2.8 | M2: 21.1 | N2: 62 | O2: 28 | P2: =B2 -> 574
B3: 600 | C3: 3857 | D3: 11306 | E3: 9762 | F3: 5368 | G3: 47.48 | H3: 5 | I3: 4.7 | J3: 1.3 | K3: 6.1 | L3: 4.9 | M3: 12.2 | N3: 66.3 | O3: 1.8 | P3: =B3 -> 600
B4: 4016 | C4: 3864 | D4: 12629 | E4: 11630 | F4: 6023 | G4: 47.69 | H4: 11.2 | I4: 7.4 | J4: 1.2 | K4: 0.3 | L4: 0 | M4: 12.5 | N4: 76 | O4: 57.4 | P4: =B4 -> 4016
B5: 577 | C5: 3508 | D5: 6773 | E5: 8340 | F5: 3237 | G5: 47.78 | H5: 13.8 | I5: 12.5 | J5: 0.1 | K5: 1.6 | L5: 1.5 | M5: 15.5 | N5: 54.1 | O5: 10.9 | P5: =B5 -> 577
B6: 4011 | C6: 3227 | D6: 21005 | E6: 16638 | F6: 10042 | G6: 47.81 | H6: 6.9 | I6: 2.9 | J6: 1.3 | K6: 3 | L6: 1.9 | M6: 11.2 | N6: 77 | O6: 63.7 | P6: =B6 -> 4011
B7: 605 | C7: 101 | D7: 3982 | E7: 4999 | F7: 1919 | G7: 48.19 | H7: 31.6 | I7: 13 | J7: 0.7 | K7: 0.6 | L7: 0.2 | M7: 32.7 | N7: 68.7 | O7: 23.7 | P7: =B7 -> 605
B8: 4006 | C8: 3208 | D8: 11745 | E8: 10840 | F8: 5667 | G8: 48.24 | H8: 19.2 | I8: 3.8 | J8: 1.1 | K8: 1.3 | L8: 0.5 | M8: 21.3 | N8: 79.8 | O8: 49.2 | P8: =B8 -> 4006
B9: 4001 | C9: 488 | D9: 16804 | E9: 18345 | F9: 8114 | G9: 48.28 | H9: 26.3 | I9: 14.4 | J9: 1 | K9: 0.3 | L9: 0 | M9: 27.2 | N9: 76.4 | O9: 55.4 | P9: =B9 -> 4001
B10: 556 | C10: 3882 | D10: 963 | E10: 1893 | F10: 468 | G10: 48.6 | H10: 51.6 | I10: 5.8 | J10: 0.5 | K10: 0.1 | L10: 0 | M10: 51.9 | N10: 71.8 | O10: 52.1 | P10: =B10 -> 556
B11: 4008 | C11: 1504 | D11: 16062 | E11: 14472 | F11: 7866 | G11: 48.97 | H11: 17.4 | I11: 3.3 | J11: 2.7 | K11: 2 | L11: 0 | M11: 21.6 | N11: 78.9 | O11: 12.7 | P11: =B11 -> 4008
B12: 595 | C12: 3256 | D12: 18043 | E12: 19617 | F12: 8939 | G12: 49.54 | H12: 26.7 | I12: 11.8 | J12: 1.5 | K12: 2.8 | L12: 1.8 | M12: 30.4 | N12: 75.9 | O12: 58.4 | P12: =B12 -> 595
B13: 576 | C13: 3855 | D13: 16445 | E13: 16704 | F13: 8202 | G13: 49.87 | H13: 19.2 | I13: 7.9 | J13: 0.9 | K13: 1.1 | L13: 0.4 | M13: 21 | N13: 72.3 | O13: 57 | P13: =B13 -> 576
... B42: 51 | C42: 1103 | D42: 21102 | E42: 17444 | F42: 11417 | G42: 54.1 | H42: 11.4 | I42: 1.4 | J42: 2.6 | K42: 9.5 | L42: 7.3 | M42: 23.1 | N42: 70.2 | O42: 55.1 | P42: =B42 -> 51
A43: * | B43: 560 | C43: 1199 | D43: 40 | E43: 77 | F43: 22 | G43: 54.11 | H43: 22.1 | I43: 22.1 | J43: 0 | K43: 1.3 | L43: 1.3 | M43: 23.4 | N43: 14.3 | O43: 0 | P43: =B43 -> 560
B44: 44 | C44: 1157 | D44: 20003 | E44: 21173 | F44: 10845 | G44: 54.22 | H44: 27.3 | I44: 3.8 | J44: 3.2 | K44: 1.8 | L44: 0 | M44: 31.3 | N44: 76.5 | O44: 31.2 | P44: =B44 -> 44
B45: 53 | C45: 1192 | D45: 8794 | E45: 8337 | F45: 4800 | G45: 54.58 | H45: 9.5 | I45: 5.1 | J45: 0.8 | K45: 5.3 | L45: 4.7 | M45: 15.5 | N45: 56.8 | O45: 3.7 | P45: =B45 -> 53
B46: 607 | C46: 3168 | D46: 12117 | E46: 11556 | F46: 6615 | G46: 54.59 | H46: 10.6 | I46: 4.8 | J46: 1.5 | K46: 3.7 | L46: 2.5 | M46: 15.5 | N46: 66.9 | O46: 54.6 | P46: =B46 -> 607
B47: 4013 | C47: 3271 | D47: 14698 | E47: 14170 | F47: 8029 | G47: 54.63 | H47: 16.9 | I47: 3.8 | J47: 1.7 | K47: 1.7 | L47: 0.3 | M47: 19.9 | N47: 72.8 | O47: 38.5 | P47: =B47 -> 4013
B48: 604 | C48: 3691 | D48: 13637 | E48: 20579 | F48: 7454 | G48: 54.66 | H48: 45.8 | I48: 5.6 | J48: 1.5 | K48: 0 | L48: 0 | M48: 46.6 | N48: 60 | O48: 12.7 | P48: =B48 -> 604
B49: 562 | C49: 3825 | D49: 15624 | E49: 22384 | F49: 8598 | G49: 55.02 | H49: 44.2 | I49: 6.6 | J49: 1.6 | K49: 2.9 | L49: 2.1 | M49: 47.9 | N49: 72.3 | O49: 59.5 | P49: =B49 -> 562
B50: 49 | C50: 1129 | D50: 16830 | E50: 16108 | F50: 9269 | G50: 55.07 | H50: 20 | I50: 2.4 | J50: 2.8 | K50: 4.3 | L50: 2.2 | M50: 26.5 | N50: 70.6 | O50: 24.9 | P50: =B50 -> 49
B51: 587 | C51: 3174 | D51: 14435 | E51: 13796 | F51: 7989 | G51: 55.34 | H51: 13.5 | I51: 7.1 | J51: 3 | K51: 6.4 | L51: 4 | M51: 22.2 | N51: 70.5 | O51: 40.2 | P51: =B51 -> 587
B52: 570 | C52: 3742 | D52: 11171 | E52: 12586 | F52: 6187 | G52: 55.38 | H52: 29.6 | I52: 7.5 | J52: 1.6 | K52: 0 | L52: 0 | M52: 30.7 | N52: 52.7 | O52: 18.9 | P52: =B52 -> 570
B53: 590 | C53: 3808 | D53: 17306 | E53: 25195 | F53: 9594 | G53: 55.43 | H53: 41.3 | I53: 12.2 | J53: 1.3 | K53: 1.9 | L53: 1.2 | M53: 43.9 | N53: 72.5 | O53: 10.4 | P53: =B53 -> 590
B54: 597 | C54: 60 | D54: 6857 | E54: 7546 | F54: 3811 | G54: 55.57 | H54: 27.7 | I54: 6.4 | J54: 2.8 | K54: 3.6 | L54: 1.7 | M54: 33.2 | N54: 71.9 | O54: 18.2 | P54: =B54 -> 597
B55: 4013 | C55: 3878 | D55: 7504 | E55: 6822 | F55: 4176 | G55: 55.65 | H55: 9.6 | I55: 4.8 | J55: 2.3 | K55: 4.3 | L55: 2.4 | M55: 15.7 | N55: 67.5 | O55: 33.7 | P55: =B55 -> 4013
... B102: 591 | C102: 3400 | D102: 265 | E102: 539 | F102: 192 | G102: 72.18 | H102: 24.7 | I102: 24.7 | J102: 0.3 | K102: 2.2 | L102: 2 | M102: 27.1 | N102: 31.8 | O102: 0 | P102: =B102 -> 591
B103: 567 | C103: DIV.ANODE | D103: 7187 | E103: 13480 | F103: 5264 | G103: 73.25 | H103: 23.3 | I103: 14.7 | J103: 5 | K103: 3 | L103: 0 | M103: 29.2 | N103: 29.2 | O103: 2.8 | P103: =B103 -> 567
B104: 584 | C104: 1186 | D104: 513 | E104: 702 | F104: 383 | G104: 74.66 | H104: 0.7 | I104: 0.7 | J104: 0.5 | K104: 5.8 | L104: 5.4 | M104: 7 | N104: 34.9 | O104: 8.5 | P104: =B104 -> 584
B105: 552 | C105: 1195 | D105: 3913 | E105: 8875 | F105: 2960 | G105: 75.64 | H105: 20.7 | I105: 13 | J105: 0.1 | K105: 8 | L105: 8 | M105: 28.8 | N105: 25 | O105: 4.3 | P105: =B105 -> 552
B106: 591 | C106: 2005 | D106: 574 | E106: 1489 | F106: 444 | G106: 77.26 | H106: 42.8 | I106: 21.1 | J106: 0.5 | K106: 4.2 | L106: 4 | M106: 47.1 | N106: 30.5 | O106: 0 | P106: =B106 -> 591
B107: 584 | C107: DIV. BAIN | D107: 2540 | E107: 5809 | F107: 1981 | G107: 77.99 | H107: 30.1 | I107: 13.7 | J107: 1.3 | K107: 4.4 | L107: 3.8 | M107: 35.2 | N107: 28.9 | O107: 1 | P107: =B107 -> 584
B108: 558 | C108: 3879 | D108: 999 | E108: 2935 | F108: 786 | G108: 78.65 | H108: 12 | I108: 11.3 | J108: 0.1 | K108: 2.6 | L108: 2.6 | M108: 14.6 | N108: 11.5 | O108: 0 | P108: =B108 -> 558
B109: 550 | C109: 3844 | D109: 297 | E109: 1261 | F109: 268 | G109: 90.12 | H109: 49.2 | I109: 10.4 | J109: 0 | K109: 1.1 | L109: 1.1 | M109: 50.4 | N109: 15.4 | O109: 6.5 | P109: =B109 -> 550
B110: 581 | C110: 3866 | D110: 3 | E110: 83 | F110: 7 | G110: 205.83 | H110: 21.7 | I110: 21.7 | J110: 0 | K110: 0 | L110: 0 | M110: 21.7 | N110: 0 | O110: 0 | P110: =B110 -> 581

Sheet Chauffeur
A1: ID | B1: NOM
A2: 1074 | B2: STÉPHANE HELMS
A3: 1172 | B3: DOMINIC FORTIN
A4: 1034 | B4: MARTIN BRASSARD
A5: 1157 | B5: PATRICK VAILLANCOURT
A6: 1170 | B6: DENIS DUFOUR
A7: 1185 | B7: BRUNO MIVILLE
A8: 1130 | B8: REJEAN TREMBLAY
A9: 1205 | B9: REJEAN BOILY
A10: 1129 | B10: CARL RIVERIN
A11: 1111 | B11: PATRICK FORTIN
A12: 1103 | B12: RAYMOND JOBIN
A13: 579 | B13: DOMINIQUE BOILY
... A80: 1192 | B80: JOCELYN DUBÉ

Sheet Type
A1: 340 | B1: Caterpillar | C1: 550 | D1: 18V | E1: =B1&"/"&C1&"/"&D1 -> Caterpillar/550/18V
A2: 475 | B2: Caterpillar | C2: 550 | D2: 18V | E2: =B2&"/"&C2&"/"&D2 -> Caterpillar/550/18V
A3: 485 | B3: Caterpillar | C3: 470 | D3: 10V | E3: =B3&"/"&C3&"/"&D3 -> Caterpillar/470/10V
A4: 492 | B4: Caterpillar | C4: 550 | D4: 18V | E4: =B4&"/"&C4&"/"&D4 -> Caterpillar/550/18V
A5: 506 | B5: Cummins | C5: 500 | D5: 18V | E5: =B5&"/"&C5&"/"&D5 -> Cummins/500/18V
A6: 550 | B6: Caterpillar | C6: 470 | D6: 18V | E6: =B6&"/"&C6&"/"&D6 -> Caterpillar/470/18V
A7: 551 | B7: Caterpillar | C7: 470 | D7: 18V | E7: =B7&"/"&C7&"/"&D7 -> Caterpillar/470/18V
A8: 552 | B8: Caterpillar | C8: 470 | D8: 18V | E8: =B8&"/"&C8&"/"&D8 -> Caterpillar/470/18V
A9: 553 | B9: Caterpillar | C9: 470 | D9: 18V | E9: =B9&"/"&C9&"/"&D9 -> Caterpillar/470/18V
A10: 554 | B10: Caterpillar | C10: 470 | D10: 18V | E10: =B10&"/"&C10&"/"&D10 -> Caterpillar/470/18V
A11: 555 | B11: Caterpillar | C11: 470 | D11: 10V | E11: =B11&"/"&C11&"/"&D11 -> Caterpillar/470/10V
A12: 556 | B12: Caterpillar | C12: 470 | D12: 10V | E12: =B12&"/"&C12&"/"&D12 -> Caterpillar/470/10V
... A96: 53 | B96: CumminsTurbo | C96: 500 | D96: 10V | E96: =B96&"/"&C96&"/"&D96 -> CumminsTurbo/500/10V
