Workbook

Sheet Fichier Intégration Offre
A2: Données obligatoires | O2: Données optionnelles | U2: Données obligatoires si mécanique commerciale
A3: Votre référence | B3: EAN | C3: Sous état du produit | D3: Stock | E3: Prix (€)(TTC) | F3: TVA (%) | G3: Eco Part(€) | H3: Délai livraison min (nb de jour) | I3: Délai livraison max (nb de jour) | J3: Frais de livraison mode "Normal" (€)(TTC) | K3: Frais de livraison mode "Suivi" (€)(TTC) | L3: Frais de livraison mode "Recommandé" (€)(TTC) | M3: visibilité | N3: statut | O3: Commentaire offre | P3: Frais de livraison additionnel mode "Normal" (€)(TTC) | Q3: Frais de livraison additionnel mode "Suivi" (€)(TTC) | R3: Frais de livraison additionnel mode "Recommandé" (€)(TTC) | S3: Prix de référence (€) TTC | T3: Mécanique commerciale | U3: Date de début (jj/mm/aaaa) | V3: Heure de début (hh:mm) | W3: Date de fin (jj/mm/aaaa) | X3: Heure de fin (hh:mm) | Y3: Remise (%) | Z3: Prix de référence J-30 Soldes
A4: 0170BATV | B4: 3480940164616 | C4: Neuf - Neuf | D4: 100 | E4: =VLOOKUP(A4,Feuil2!$1:$1048576,3,FALSE) -> 289.9900 | F4: 19.6 | G4: 0 | H4: =VLOOKUP(A4,Feuil2!$1:$1048576,4,FALSE) -> 15 | I4: =VLOOKUP(A4,Feuil2!$1:$1048576,5,FALSE) -> 20 | J4: 0 | K4: 0 | L4: 0 | M4: =VLOOKUP(B4,Feuil3!A2:F2264,5) -> 4 | N4: =VLOOKUP(B4,Feuil3!A2:F2264,4) -> 1
A5: 0170ENFI | B5: 3480940164654 | C5: Neuf - Neuf | D5: 100 | E5: =VLOOKUP(A5,Feuil2!$1:$1048576,3,FALSE) -> 429.9900 | F5: 19.6 | G5: 0 | H5: =VLOOKUP(A5,Feuil2!$1:$1048576,4,FALSE) -> 15 | I5: =VLOOKUP(A5,Feuil2!$1:$1048576,5,FALSE) -> 20 | J5: 0 | K5: 0 | L5: 0 | M5: =VLOOKUP(B5,Feuil3!A3:F2264,5) -> 4 | N5: =VLOOKUP(B5,Feuil3!A3:F2264,4) -> 1
A6: 0170TARE | B6: 3480940164623 | C6: Neuf - Neuf | D6: 100 | E6: =VLOOKUP(A6,Feuil2!$1:$1048576,3,FALSE) -> 379.9900 | F6: 19.6 | G6: 0 | H6: =VLOOKUP(A6,Feuil2!$1:$1048576,4,FALSE) -> 15 | I6: =VLOOKUP(A6,Feuil2!$1:$1048576,5,FALSE) -> 20 | J6: 0 | K6: 0 | L6: 0 | M6: =VLOOKUP(B6,Feuil3!A4:F2264,5) -> 4 | N6: =VLOOKUP(B6,Feuil3!A4:F2264,4) -> 1
A7: 0171TARE | B7: 3480940165972 | C7: Neuf - Neuf | D7: 100 | E7: =VLOOKUP(A7,Feuil2!$1:$1048576,3,FALSE) -> 379.9900 | F7: 19.6 | G7: 0 | H7: =VLOOKUP(A7,Feuil2!$1:$1048576,4,FALSE) -> 15 | I7: =VLOOKUP(A7,Feuil2!$1:$1048576,5,FALSE) -> 20 | J7: 0 | K7: 0 | L7: 0 | M7: =VLOOKUP(B7,Feuil3!A5:F2264,5) -> 4 | N7: =VLOOKUP(B7,Feuil3!A5:F2264,4) -> 1
A8: 0180BATV | B8: 3480940174233 | C8: Neuf - Neuf | D8: 100 | E8: =VLOOKUP(A8,Feuil2!$1:$1048576,3,FALSE) -> 299.9900 | F8: 19.6 | G8: 0 | H8: =VLOOKUP(A8,Feuil2!$1:$1048576,4,FALSE) -> 15 | I8: =VLOOKUP(A8,Feuil2!$1:$1048576,5,FALSE) -> 20 | J8: 0 | K8: 0 | L8: 0 | M8: =VLOOKUP(B8,Feuil3!A6:F2264,5) -> 4 | N8: =VLOOKUP(B8,Feuil3!A6:F2264,4) -> 1
A9: 0180ENFI | B9: 3480940174240 | C9: Neuf - Neuf | D9: 100 | E9: =VLOOKUP(A9,Feuil2!$1:$1048576,3,FALSE) -> 319.9900 | F9: 19.6 | G9: 0 | H9: =VLOOKUP(A9,Feuil2!$1:$1048576,4,FALSE) -> 15 | I9: =VLOOKUP(A9,Feuil2!$1:$1048576,5,FALSE) -> 20 | J9: 0 | K9: 0 | L9: 0 | M9: =VLOOKUP(B9,Feuil3!A7:F2264,5) -> 4 | N9: =VLOOKUP(B9,Feuil3!A7:F2264,4) -> 1
A10: 0180TACA | B10: 3480940173489 | C10: Neuf - Neuf | D10: 100 | E10: =VLOOKUP(A10,Feuil2!$1:$1048576,3,FALSE) -> 319.9900 | F10: 19.6 | G10: 0 | H10: =VLOOKUP(A10,Feuil2!$1:$1048576,4,FALSE) -> 15 | I10: =VLOOKUP(A10,Feuil2!$1:$1048576,5,FALSE) -> 20 | J10: 0 | K10: 0 | L10: 0 | M10: =VLOOKUP(B10,Feuil3!A8:F2264,5) -> 4 | N10: =VLOOKUP(B10,Feuil3!A8:F2264,4) -> 1
A11: 0181BA2P | B11: 3480940175377 | C11: Neuf - Neuf | D11: 100 | E11: =VLOOKUP(A11,Feuil2!$1:$1048576,3,FALSE) -> 429.9900 | F11: 19.6 | G11: 0 | H11: =VLOOKUP(A11,Feuil2!$1:$1048576,4,FALSE) -> 15 | I11: =VLOOKUP(A11,Feuil2!$1:$1048576,5,FALSE) -> 20 | J11: 0 | K11: 0 | L11: 0 | M11: =VLOOKUP(B11,Feuil3!A9:F2264,5) -> 4 | N11: =VLOOKUP(B11,Feuil3!A9:F2264,4) -> 1
A12: 0181BATV | B12: 3480940175391 | C12: Neuf - Neuf | D12: 100 | E12: =VLOOKUP(A12,Feuil2!$1:$1048576,3,FALSE) -> 339.9900 | F12: 19.6 | G12: 0 | H12: =VLOOKUP(A12,Feuil2!$1:$1048576,4,FALSE) -> 15 | I12: =VLOOKUP(A12,Feuil2!$1:$1048576,5,FALSE) -> 20 | J12: 0 | K12: 0 | L12: 0 | M12: =VLOOKUP(B12,Feuil3!A10:F2264,5) -> 4 | N12: =VLOOKUP(B12,Feuil3!A10:F2264,4) -> 1
A13: 0181ETAG | B13: 3480940175384 | C13: Neuf - Neuf | D13: 100 | E13: =VLOOKUP(A13,Feuil2!$1:$1048576,3,FALSE) -> 129.9900 | F13: 19.6 | G13: 0 | H13: =VLOOKUP(A13,Feuil2!$1:$1048576,4,FALSE) -> 15 | I13: =VLOOKUP(A13,Feuil2!$1:$1048576,5,FALSE) -> 20 | J13: 0 | K13: 0 | L13: 0 | M13: =VLOOKUP(B13,Feuil3!A11:F2265,5) -> 4 | N13: =VLOOKUP(B13,Feuil3!A11:F2265,4) -> 1
A14: 0181SURM | B14: 3480940175360 | C14: Neuf - Neuf | D14: 100 | E14: =VLOOKUP(A14,Feuil2!$1:$1048576,3,FALSE) -> 179.9900 | F14: 19.6 | G14: 0 | H14: =VLOOKUP(A14,Feuil2!$1:$1048576,4,FALSE) -> 15 | I14: =VLOOKUP(A14,Feuil2!$1:$1048576,5,FALSE) -> 20 | J14: 0 | K14: 0 | L14: 0 | M14: =VLOOKUP(B14,Feuil3!A12:F2266,5) -> 4 | N14: =VLOOKUP(B14,Feuil3!A12:F2266,4) -> 1
A15: 0181TABA | B15: 3480940175407 | C15: Neuf - Neuf | D15: 100 | E15: =VLOOKUP(A15,Feuil2!$1:$1048576,3,FALSE) -> 239.9900 | F15: 19.6 | G15: 0 | H15: =VLOOKUP(A15,Feuil2!$1:$1048576,4,FALSE) -> 15 | I15: =VLOOKUP(A15,Feuil2!$1:$1048576,5,FALSE) -> 20 | J15: 0 | K15: 0 | L15: 0 | M15: =VLOOKUP(B15,Feuil3!A13:F2267,5) -> 4 | N15: =VLOOKUP(B15,Feuil3!A13:F2267,4) -> 1
A16: 0181TARE | B16: 3480940175131 | C16: Neuf - Neuf | D16: 100 | E16: =VLOOKUP(A16,Feuil2!$1:$1048576,3,FALSE) -> 299.9900 | F16: 19.6 | G16: 0 | H16: =VLOOKUP(A16,Feuil2!$1:$1048576,4,FALSE) -> 15 | I16: =VLOOKUP(A16,Feuil2!$1:$1048576,5,FALSE) -> 20 | J16: 0 | K16: 0 | L16: 0 | M16: =VLOOKUP(B16,Feuil3!A14:F2268,5) -> 4 | N16: =VLOOKUP(B16,Feuil3!A14:F2268,4) -> 1
A17: 0206ARGE | B17: 3480940190554 | C17: Neuf - Neuf | D17: 100 | E17: =VLOOKUP(A17,Feuil2!$1:$1048576,3,FALSE) -> 249.9900 | F17: 19.6 | G17: 0 | H17: =VLOOKUP(A17,Feuil2!$1:$1048576,4,FALSE) -> 15 | I17: =VLOOKUP(A17,Feuil2!$1:$1048576,5,FALSE) -> 20 | J17: 0 | K17: 0 | L17: 0 | M17: =VLOOKUP(B17,Feuil3!A15:F2269,5) -> 4 | N17: =VLOOKUP(B17,Feuil3!A15:F2269,4) -> 1
A18: 0264PATV | B18: 3480940193647 | C18: Neuf - Neuf | D18: 100 | E18: =VLOOKUP(A18,Feuil2!$1:$1048576,3,FALSE) -> 389.9900 | F18: 19.6 | G18: 0 | H18: =VLOOKUP(A18,Feuil2!$1:$1048576,4,FALSE) -> 15 | I18: =VLOOKUP(A18,Feuil2!$1:$1048576,5,FALSE) -> 20 | J18: 0 | K18: 0 | L18: 0 | M18: =VLOOKUP(B18,Feuil3!A16:F2270,5) -> 4 | N18: =VLOOKUP(B18,Feuil3!A16:F2270,4) -> 1
A19: NIEL0191100 | B19: 3760151448331 | C19: Neuf - Neuf | D19: 100 | E19: 99.9900 | F19: 19.6 | G19: 0 | H19: =VLOOKUP(A19,Feuil2!$1:$1048576,4,FALSE) -> #N/A | I19: =VLOOKUP(A19,Feuil2!$1:$1048576,5,FALSE) -> #N/A | J19: 0 | K19: 0 | L19: 0 | M19: =VLOOKUP(B19,Feuil3!A17:F2271,5) -> 4 | N19: =VLOOKUP(B19,Feuil3!A17:F2271,4) -> 1
A20: NIEL0192000 | B20: 3760151448348 | C20: Neuf - Neuf | D20: 100 | E20: 99.9900 | F20: 19.6 | G20: 0 | H20: 5 | I20: 10 | J20: 0 | K20: 0 | L20: 0 | M20: =VLOOKUP(B20,Feuil3!A18:F2272,5) -> 4 | N20: =VLOOKUP(B20,Feuil3!A18:F2272,4) -> 1
A21: 088BAGCH | B21: 3480180459985 | C21: Neuf - Neuf | D21: 100 | E21: =VLOOKUP(A21,Feuil2!$1:$1048576,3,FALSE) -> 549.9900 | F21: 19.6 | G21: 0 | H21: =VLOOKUP(A21,Feuil2!$1:$1048576,4,FALSE) -> 5 | I21: =VLOOKUP(A21,Feuil2!$1:$1048576,5,FALSE) -> 10 | J21: 0 | K21: 0 | L21: 0 | M21: =VLOOKUP(B21,Feuil3!A19:F2273,5) -> 4 | N21: =VLOOKUP(B21,Feuil3!A19:F2273,4) -> 1
A22: 088BZAGN | B22: 3480180459992 | C22: Neuf - Neuf | D22: 100 | E22: =VLOOKUP(A22,Feuil2!$1:$1048576,3,FALSE) -> 549.9900 | F22: 19.6 | G22: 0 | H22: =VLOOKUP(A22,Feuil2!$1:$1048576,4,FALSE) -> 5 | I22: =VLOOKUP(A22,Feuil2!$1:$1048576,5,FALSE) -> 10 | J22: 0 | K22: 0 | L22: 0 | M22: =VLOOKUP(B22,Feuil3!A20:F2274,5) -> 4 | N22: =VLOOKUP(B22,Feuil3!A20:F2274,4) -> 1
A23: 1040198 | B23: 3269031166186 | C23: Neuf - Neuf | D23: 100 | E23: =VLOOKUP(A23,Feuil2!$1:$1048576,3,FALSE) -> 729.9900 | F23: 19.6 | G23: 0 | H23: =VLOOKUP(A23,Feuil2!$1:$1048576,4,FALSE) -> 5 | I23: =VLOOKUP(A23,Feuil2!$1:$1048576,5,FALSE) -> 10 | J23: 0 | K23: 0 | L23: 0 | M23: =VLOOKUP(B23,Feuil3!A21:F2275,5) -> 4 | N23: =VLOOKUP(B23,Feuil3!A21:F2275,4) -> 1
A24: 1040199 | B24: 3269031166193 | C24: Neuf - Neuf | D24: 100 | E24: =VLOOKUP(A24,Feuil2!$1:$1048576,3,FALSE) -> 899.9900 | F24: 19.6 | G24: 0 | H24: =VLOOKUP(A24,Feuil2!$1:$1048576,4,FALSE) -> 5 | I24: =VLOOKUP(A24,Feuil2!$1:$1048576,5,FALSE) -> 10 | J24: 0 | K24: 0 | L24: 0 | M24: =VLOOKUP(B24,Feuil3!A22:F2276,5) -> 4 | N24: =VLOOKUP(B24,Feuil3!A22:F2276,4) -> 1
A25: 1040200 | B25: 3269031166209 | C25: Neuf - Neuf | D25: 100 | E25: =VLOOKUP(A25,Feuil2!$1:$1048576,3,FALSE) -> 999.9900 | F25: 19.6 | G25: 0 | H25: =VLOOKUP(A25,Feuil2!$1:$1048576,4,FALSE) -> 5 | I25: =VLOOKUP(A25,Feuil2!$1:$1048576,5,FALSE) -> 10 | J25: 0 | K25: 0 | L25: 0 | M25: =VLOOKUP(B25,Feuil3!A23:F2277,5) -> 4 | N25: =VLOOKUP(B25,Feuil3!A23:F2277,4) -> 1
A26: 1322CO6T | B26: 3480940168294 | C26: Neuf - Neuf | D26: 100 | E26: =VLOOKUP(A26,Feuil2!$1:$1048576,3,FALSE) -> 199.9900 | F26: 19.6 | G26: 0 | H26: =VLOOKUP(A26,Feuil2!$1:$1048576,4,FALSE) -> 15 | I26: =VLOOKUP(A26,Feuil2!$1:$1048576,5,FALSE) -> 20 | J26: 0 | K26: 0 | L26: 0 | M26: =VLOOKUP(B26,Feuil3!A24:F2278,5) -> 4 | N26: =VLOOKUP(B26,Feuil3!A24:F2278,4) -> 1
A27: 1322L141 | B27: 3480940167822 | C27: Neuf - Neuf | D27: 100 | E27: 259.99 | F27: 19.6 | G27: 0 | H27: =VLOOKUP(A27,Feuil2!$1:$1048576,4,FALSE) -> 15 | I27: =VLOOKUP(A27,Feuil2!$1:$1048576,5,FALSE) -> 20 | J27: 0 | K27: 0 | L27: 0 | M27: =VLOOKUP(B27,Feuil3!A25:F2279,5) -> 4 | N27: =VLOOKUP(B27,Feuil3!A25:F2279,4) -> 1
A28: 1322RANG | B28: 3480940172895 | C28: Neuf - Neuf | D28: 100 | E28: =VLOOKUP(A28,Feuil2!$1:$1048576,3,FALSE) -> 379.9900 | F28: 19.6 | G28: 0 | H28: =VLOOKUP(A28,Feuil2!$1:$1048576,4,FALSE) -> 15 | I28: =VLOOKUP(A28,Feuil2!$1:$1048576,5,FALSE) -> 20 | J28: 0 | K28: 0 | L28: 0 | M28: =VLOOKUP(B28,Feuil3!A26:F2280,5) -> 4 | N28: =VLOOKUP(B28,Feuil3!A26:F2280,4) -> 1
A29: 1323CHE1 | B29: 3480940192275 | C29: Neuf - Neuf | D29: 100 | E29: =VLOOKUP(A29,Feuil2!$1:$1048576,3,FALSE) -> 129.9900 | F29: 19.6 | G29: 0 | H29: =VLOOKUP(A29,Feuil2!$1:$1048576,4,FALSE) -> 15 | I29: =VLOOKUP(A29,Feuil2!$1:$1048576,5,FALSE) -> 20 | J29: 0 | K29: 0 | L29: 0 | M29: =VLOOKUP(B29,Feuil3!A27:F2281,5) -> 4 | N29: =VLOOKUP(B29,Feuil3!A27:F2281,4) -> 1
A30: 1323COM1 | B30: 3480940192244 | C30: Neuf - Neuf | D30: 100 | E30: =VLOOKUP(A30,Feuil2!$1:$1048576,3,FALSE) -> 229.9900 | F30: 19.6 | G30: 0 | H30: =VLOOKUP(A30,Feuil2!$1:$1048576,4,FALSE) -> 15 | I30: =VLOOKUP(A30,Feuil2!$1:$1048576,5,FALSE) -> 20 | J30: 0 | K30: 0 | L30: 0 | M30: =VLOOKUP(B30,Feuil3!A28:F2282,5) -> 4 | N30: =VLOOKUP(B30,Feuil3!A28:F2282,4) -> 1
A31: 1323ENV3 | B31: 3480940192299 | C31: Neuf - Neuf | D31: 100 | E31: =VLOOKUP(A31,Feuil2!$1:$1048576,3,FALSE) -> 279.9900 | F31: 19.6 | G31: 0 | H31: =VLOOKUP(A31,Feuil2!$1:$1048576,4,FALSE) -> 15 | I31: =VLOOKUP(A31,Feuil2!$1:$1048576,5,FALSE) -> 20 | J31: 0 | K31: 0 | L31: 0 | M31: =VLOOKUP(B31,Feuil3!A29:F2283,5) -> 4 | N31: =VLOOKUP(B31,Feuil3!A29:F2283,4) -> 1
A32: 1323L141 | B32: 3480940192374 | C32: Neuf - Neuf | D32: 100 | E32: =VLOOKUP(A32,Feuil2!$1:$1048576,3,FALSE) -> 349.9900 | F32: 19.6 | G32: 0 | H32: =VLOOKUP(A32,Feuil2!$1:$1048576,4,FALSE) -> 15 | I32: =VLOOKUP(A32,Feuil2!$1:$1048576,5,FALSE) -> 20 | J32: 0 | K32: 0 | L32: 0 | M32: =VLOOKUP(B32,Feuil3!A30:F2284,5) -> 4 | N32: =VLOOKUP(B32,Feuil3!A30:F2284,4) -> 1
A33: 1323L261 | B33: 3480940192428 | C33: Neuf - Neuf | D33: 100 | E33: =VLOOKUP(A33,Feuil2!$1:$1048576,3,FALSE) -> 369.9900 | F33: 19.6 | G33: 0 | H33: =VLOOKUP(A33,Feuil2!$1:$1048576,4,FALSE) -> 15 | I33: =VLOOKUP(A33,Feuil2!$1:$1048576,5,FALSE) -> 20 | J33: 0 | K33: 0 | L33: 0 | M33: =VLOOKUP(B33,Feuil3!A31:F2285,5) -> 4 | N33: =VLOOKUP(B33,Feuil3!A31:F2285,4) -> 1
A34: 1323RAN1 | B34: 3480940192213 | C34: Neuf - Neuf | D34: 100 | E34: =VLOOKUP(A34,Feuil2!$1:$1048576,3,FALSE) -> 579.9900 | F34: 19.6 | G34: 0 | H34: =VLOOKUP(A34,Feuil2!$1:$1048576,4,FALSE) -> 15 | I34: =VLOOKUP(A34,Feuil2!$1:$1048576,5,FALSE) -> 20 | J34: 0 | K34: 0 | L34: 0 | M34: =VLOOKUP(B34,Feuil3!A32:F2286,5) -> 4 | N34: =VLOOKUP(B34,Feuil3!A32:F2286,4) -> 1
A35: 137226 | B35: 3397701372268 | C35: Neuf - Neuf | D35: 100 | E35: =VLOOKUP(A35,Feuil2!$1:$1048576,3,FALSE) -> 109.9900 | F35: 19.6 | G35: 0 | H35: =VLOOKUP(A35,Feuil2!$1:$1048576,4,FALSE) -> 15 | I35: =VLOOKUP(A35,Feuil2!$1:$1048576,5,FALSE) -> 20 | J35: 0 | K35: 0 | L35: 0 | M35: =VLOOKUP(B35,Feuil3!A33:F2287,5) -> 4 | N35: =VLOOKUP(B35,Feuil3!A33:F2287,4) -> 1
A36: 137228 | B36: 3397701372282 | C36: Neuf - Neuf | D36: 100 | E36: =VLOOKUP(A36,Feuil2!$1:$1048576,3,FALSE) -> 109.9900 | F36: 19.6 | G36: 0 | H36: =VLOOKUP(A36,Feuil2!$1:$1048576,4,FALSE) -> 15 | I36: =VLOOKUP(A36,Feuil2!$1:$1048576,5,FALSE) -> 20 | J36: 0 | K36: 0 | L36: 0 | M36: =VLOOKUP(B36,Feuil3!A34:F2288,5) -> 4 | N36: =VLOOKUP(B36,Feuil3!A34:F2288,4) -> 1
A37: 2004COMB | B37: 3480940186489 | C37: Neuf - Neuf | D37: 100 | E37: =VLOOKUP(A37,Feuil2!$1:$1048576,3,FALSE) -> 499.9900 | F37: 19.6 | G37: 0 | H37: =VLOOKUP(A37,Feuil2!$1:$1048576,4,FALSE) -> 15 | I37: =VLOOKUP(A37,Feuil2!$1:$1048576,5,FALSE) -> 20 | J37: 0 | K37: 0 | L37: 0 | M37: =VLOOKUP(B37,Feuil3!A35:F2289,5) -> 4 | N37: =VLOOKUP(B37,Feuil3!A35:F2289,4) -> 1
A38: 2028L24T | B38: 3480940184881 | C38: Neuf - Neuf | D38: 100 | E38: =VLOOKUP(A38,Feuil2!$1:$1048576,3,FALSE) -> 144.9900 | F38: 19.6 | G38: 0 | H38: =VLOOKUP(A38,Feuil2!$1:$1048576,4,FALSE) -> 15 | I38: =VLOOKUP(A38,Feuil2!$1:$1048576,5,FALSE) -> 20 | J38: 0 | K38: 0 | L38: 0 | M38: =VLOOKUP(B38,Feuil3!A36:F2290,5) -> 4 | N38: =VLOOKUP(B38,Feuil3!A36:F2290,4) -> 1
A39: 2609974 | B39: 3700603904534 | C39: Neuf - Neuf | D39: 100 | E39: =VLOOKUP(A39,Feuil2!$1:$1048576,3,FALSE) -> 429.9900 | F39: 19.6 | G39: 0 | H39: =VLOOKUP(A39,Feuil2!$1:$1048576,4,FALSE) -> 5 | I39: =VLOOKUP(A39,Feuil2!$1:$1048576,5,FALSE) -> 10 | J39: 0 | K39: 0 | L39: 0 | M39: =VLOOKUP(B39,Feuil3!A37:F2291,5) -> 4 | N39: =VLOOKUP(B39,Feuil3!A37:F2291,4) -> 1
A40: 20900260 | B40: 4010340292603 | C40: Neuf - Neuf | D40: 100 | E40: =VLOOKUP(A40,Feuil2!$1:$1048576,3,FALSE) -> 269.9900 | F40: 19.6 | G40: 0 | H40: =VLOOKUP(A40,Feuil2!$1:$1048576,4,FALSE) -> 5 | I40: =VLOOKUP(A40,Feuil2!$1:$1048576,5,FALSE) -> 10 | J40: 0 | K40: 0 | L40: 0 | M40: =VLOOKUP(B40,Feuil3!A38:F2292,5) -> 4 | N40: =VLOOKUP(B40,Feuil3!A38:F2292,4) -> 1
A41: 20900750 | B41: 4010340297509 | C41: Neuf - Neuf | D41: 100 | E41: =VLOOKUP(A41,Feuil2!$1:$1048576,3,FALSE) -> 189.9900 | F41: 19.6 | G41: 0 | H41: =VLOOKUP(A41,Feuil2!$1:$1048576,4,FALSE) -> 5 | I41: =VLOOKUP(A41,Feuil2!$1:$1048576,5,FALSE) -> 10 | J41: 0 | K41: 0 | L41: 0 | M41: =VLOOKUP(B41,Feuil3!A39:F2293,5) -> 4 | N41: =VLOOKUP(B41,Feuil3!A39:F2293,4) -> 1
...

Sheet Feuil1
A1: 5
A2: 6
A3: 7
A4: 8
A5: 9
A6: 10
A7: 11
A8: 12
A9: 13
A10: 14
A11: 15
A12: 16
... A95: 99

Sheet Feuil2
A1: SKU | B1: EAN | C1: Prix | D1: Délais min | E1: Délais max
A2: 178 | B2: 3170720548384 | C2: 159.9900 | D2: 10 | E2: 15
A3: 428 | B3: 3170720548377 | C3: 179.9900 | D3: 10 | E3: 15
A4: 2435 | B4: 3170720050931 | C4: 79.9900 | D4: 10 | E4: 15
A5: 3000 | B5: 7290103111014 | C5: 995.0000 | D5: 15 | E5: 20
A6: 3222 | B6: 3397700032224 | C6: 59.9900 | D6: 15 | E6: 20
A7: 3228 | B7: 3170720548124 | C7: 169.9900 | D7: 10 | E7: 15
A8: 3232 | B8: 3170720548346 | C8: 229.9900 | D8: 10 | E8: 15
A9: 3238 | B9: 3170720550257 | C9: 179.9900 | D9: 10 | E9: 15
A10: 3241 | B10: 3170720556174 | C10: 159.9900 | D10: 10 | E10: 15
A11: 3256 | B11: 3170720553975 | C11: 199.9900 | D11: 10 | E11: 15
A12: 3259 | B12: 3170720554002 | C12: 199.9900 | D12: 10 | E12: 15
A13: 3264 | B13: 3170720554026 | C13: 199.9900 | D13: 10 | E13: 15
... A324: 89320 | B324: 4001070893208 | C324: 59.9900 | D324: 5 | E324: 10
A325: 89455 | B325: 5028735894553Â | C325: 1299.9900 | D325: 5 | E325: 10
A326: 89456 | B326: Â Â 5028735894560 | C326: 1399.9900 | D326: 5 | E326: 10
A327: 89458 | B327: 5028735894584 | C327: 1299.9900 | D327: 5 | E327: 10
A328: 89459 | B328: Â 5028735894591 | C328: 1399.9900 | D328: 5 | E328: 10
A329: 89461 | B329: 5028735894614 | C329: 219.9900 | D329: 5 | E329: 10
A330: 89462 | B330: 5028735894621 | C330: 219.9900 | D330: 5 | E330: 10
A331: 89463 | B331: 5028735894638 | C331: 599.9900 | D331: 5 | E331: 10
A332: 89464 | B332: 5028735894645 | C332: 649.9900 | D332: 5 | E332: 10
A333: 89465 | B333: 5028735894652 | C333: 749.9900 | D333: 5 | E333: 10
A334: 89508 | B334: 5028735895253 | C334: 259.9900 | D334: 5 | E334: 10
A335: 89520 | B335: 5028735895208 | C335: 899.9900 | D335: 5 | E335: 10
A336: 89522 | B336: 5028735895222 | C336: 899.9900 | D336: 5 | E336: 10
A337: 89523 | B337: 5028735895246 | C337: 599.9900 | D337: 5 | E337: 10
A338: 89524 | B338: 5028735895239 | C338: 499.9900 | D338: 5 | E338: 10
A339: 89527 | B339: 5028735895277 | C339: 799.9900 | D339: 5 | E339: 10
A340: 89528 | B340: 5028735895284 | C340: 849.9900 | D340: 5 | E340: 10
... A937: 2610130 | B937: 3700603906057 | C937: 219.9900 | D937: 15 | E937: 20
A938: 2610131 | B938: 3700603906057X | C938: 299.9900 | D938: 15 | E938: 20
A939: 2610132 | B939: 3700603906095 | C939: 339.9900 | D939: 15 | E939: 20
A940: 2610133 | B940: 3700603906514 | C940: 379.9900 | D940: 15 | E940: 20
A941: 2610134 | B941: 3700603906118 | C941: 309.9900 | D941: 15 | E941: 20
A942: 2610135 | B942: 3700603906132 | C942: 359.9900 | D942: 15 | E942: 20
A943: 2610136 | B943: 3700603906156 | C943: 229.9900 | D943: 15 | E943: 20
A944: 2610137 | B944: 3700603906163 | C944: 339.9900 | D944: 15 | E944: 20
A945: 2610138 | B945: 3700603906231 | C945: 259.9900 | D945: 15 | E945: 20
A946: 2610139 | B946: 3700603906248 | C946: 379.9900 | D946: 15 | E946: 20
...

Sheet Feuil3
A1: SKU | B1: Délais | C1: Prix | D1: Statut | E1: visibilité | F1: EAN
A2: 3760174441340 | B2: 15 Ã 20 jours | C2: 799.9900 | D2: 1 | E2: 4 | F2: 3760174441340
A3: 2.83e+15 | B3: 15 Ã 20 jours | C3: 549.9900 | D3: 1 | E3: 4 | F3: 3700603907986
A4: 613861E30146 | B4: 15 Ã 20 jours | C4: 789.9900 | D4: 1 | E4: 4 | F4: 3760174440718
A5: A421160200 | B5: 5 Ã 10 jours | C5: 459.9900 | D5: 1 | E5: 4 | F5: 3133613073752
A6: 3760174441623 | B6: 15 Ã 20 jours | C6: 899.9900 | D6: 1 | E6: 4 | F6: 3760174441623
A7: solide140 | B7: 5 Ã 10 jours | C7: 169.9900 | D7: 1 | E7: 4 | F7: 5413181986295
A8: 895711E1738 | B8: 15 Ã 20 jours | C8: 899.9900 | D8: 1 | E8: 4 | F8: 3760174441630
A9: 895710E1741 | B9: 15 Ã 20 jours | C9: 899.9900 | D9: 1 | E9: 4 | F9: 3760174441654
A10: DATTROUGE | B10: 15 Ã 20 jours | C10: 999.9900 | D10: 1 | E10: 4 | F10: 1234567898765
A11: EMPI.601.19.00 | B11: 5 Ã 10 jours | C11: 1199.9900 | D11: 1 | E11: 4 | F11: 3700590414115
A12: luxaflex+visco ocÃ©an | B12: 15 Ã 20 jours | C12: 1279.9900 | D12: 1 | E12: 4 | F12: 5413181698068
A13: CLEV.500.12.19 | C13: 39.9900 | D13: 1 | E13: 4 | F13: 3700590401375
A14: FRIE.250.38.70 | B14: 5 Ã 10 jours | C14: 359.9900 | D14: 1 | E14: 4 | F14: 3700590401139
A15: COMB.210.19.00 | B15: 5 Ã 10 jours | C15: 289.9900 | D15: 1 | E15: 4 | F15: 3700590411336
A16: FRED.039.12.00 | B16: 5 Ã 10 jours | C16: 279.9900 | D16: 1 | E16: 4 | F16: 3700395802094
A17: Crocus140 | B17: 5 Ã 10 jours | C17: 169.9900 | D17: 1 | E17: 4 | F17: 5413181571453
A18: Viscoprotect180 | B18: 15 Ã 20 jours | C18: 249.9900 | D18: 1 | E18: 4 | F18: 5413181981368
A19: SANF.511.11.00 | B19: 5 Ã 10 jours | C19: 439.9900 | D19: 1 | E19: 4 | F19: 3760151442063
A20: GROO.630.20.00 | B20: 5 Ã 10 jours | C20: 54.9900 | D20: 1 | E20: 4 | F20: 3700590414733
A21: LEA2.244.15.19 | B21: 5 Ã 10 jours | C21: 124.9900 | D21: 1 | E21: 4 | F21: 3700590416270
A22: BOHS8007 | B22: 5 Ã 10 jours | C22: 949.9900 | D22: 1 | E22: 4 | F22: 3700746700017
A23: 772001217-3-2 | B23: 5 Ã 10 jours | C23: 890.0000 | D23: 1 | E23: 4 | F23: 772001217-3-2
A24: 50100115 | B24: 5 Ã 10 jours | C24: 179.9900 | D24: 1 | E24: 4 | F24: 4010340511155
A25: BENDIGO140NOIR | B25: 5 Ã 10 jours | C25: 599.9900 | D25: 2 | E25: 4 | F25: BENDIGO140NOIR
A26: 361436 | B26: 15 Ã 20 jours | C26: 769.9900 | D26: 1 | E26: 4 | F26: 3661853614362
A27: A9184 | B27: 5 Ã 10 jours | C27: 399.9900 | D27: 1 | E27: 4 | F27: A9184
A28: AZIMUTNOIR | B28: 15 Ã 20 jours | C28: 1999.9900 | D28: 1 | E28: 4 | F28: AZIMUTNOIR
A29: 99869 | B29: 15 Ã 20 jours | C29: 549.9900 | D29: 2 | E29: 4 | F29: 3397700998698
A30: 170344 | B30: 15 Ã 20 jours | C30: 359.9900 | D30: 1 | E30: 4 | F30: 3397701703444
A31: 2.83e+21 | B31: 15 Ã 20 jours | C31: 549.9900 | D31: 1 | E31: 4 | F31: 3700603907955
A32: 2.83e+70 | B32: 15 Ã 20 jours | C32: 549.9900 | D32: 1 | E32: 4 | F32: 3700603908013
A33: 28300E011/017 | B33: 15 Ã 20 jours | C33: 549.9900 | D33: 1 | E33: 4 | F33: 3700603908044
A34: 28200E011/017 | B34: 15 Ã 20 jours | C34: 499.9900 | D34: 1 | E34: 4 | F34: 3700603908051
A35: 2.82e+70 | B35: 15 Ã 20 jours | C35: 499.9900 | D35: 1 | E35: 4 | F35: 3700603908020
A36: 2.82e+15 | B36: 15 Ã 20 jours | C36: 499.9900 | D36: 1 | E36: 4 | F36: 3700603907993
A37: 2.82e+21 | B37: 15 Ã 20 jours | C37: 499.9900 | D37: 1 | E37: 4 | F37: 3700603907962
A38: 613860E30146 | B38: 15 Ã 20 jours | C38: 789.9900 | D38: 1 | E38: 4 | F38: 3760174440725
A39: 613860E2594 | B39: 15 Ã 20 jours | C39: 789.9900 | D39: 1 | E39: 4 | F39: 3760174441432
A40: 613861E2594 | B40: 15 Ã 20 jours | C40: 789.9900 | D40: 1 | E40: 4 | F40: 3760174441449
...
