Workbook

Sheet brut
A1: 2013 | B1: http://forum.excel-pratique.com/excel/creer-un-fichier-avec-remplissage-automatique-avec-formules-t47727.html
A3: BATIMENT 1
A4: Déchets | B4: Contenant | C4: Mois | D4: Opération | E4: date | F4: Rotation | G4: Tonnage
A5: Archives | B5: CR 350L | C5: 1 | D5: Echange | E5: 41289 | F5: 11 | G5: 0.25 | J5: Je cherche le moyen qu'à partir ce fichier brut je puisse remplir les onglets registres et récapitulatifs automatiquement. Toutefois je n'y parviens pas. En effet, j'ai plusieurs contraintes. 1/ Je souhaite que le termes "Archives" de l'onglet brut se transforme en "Papiers" dans les onglets registres. Il en est de même pour "Periphériques Informatiques", je souhaite que cela devienne "DEEE". Enfin, que le terme "HUMIDITE" se transforme en "Déclassement". 2/ Je souhaite ensuite que les onglets registres se remplissent automatiquement à partir des données de l'onglet brut. -Le transporteur pour le papier est MICA (adresse : A) -Le transporteur pour les DEEE et Déclassement est ALIJ (adresse : B) -Exutoire Papier est nommé AA -Exutoire DEEE est nommé BB -Exutoire Déclassement est nommé CC -Code traitement Papier est 123 -code traitement DEEE est 125 -Code traitement Déclassement es 024 -Type valorisation Papier c'est recyclage -Type valorisation DEEE c'est manuel -Type valorisation Déclassement c'est décharge
B6: CR 350L | C6: 2 | D6: Echange | E6: 41317 | F6: 19 | G6: 0.36
B7: CR 350L | C7: 2 | D7: Echange | E7: 41318 | F7: 6 | G7: 0.28
B8: CR 350L | C8: 2 | D8: Echange | E8: 41319 | F8: 5 | G8: 0.24
B9: CR 350L | C9: 3 | D9: Echange | E9: 41352 | F9: 18 | G9: 0.12
B10: CR 350L | C10: 4 | D10: Echange | E10: 41384 | F10: 18 | G10: 0.2
B11: CR 350L | C11: 4 | D11: Echange | E11: 41386 | F11: 3 | G11: 0.89
B12: CR 350L | C12: 4 | D12: Echange | E12: 41387 | F12: 8 | G12: 0.95
B13: CR 350L | C13: 5 | D13: Echange | E13: 41404 | F13: 9 | G13: 1.2
E14: SOMME: | F14: =SUM(F5:F13) -> 97 | G14: =SUM(G5:G13) -> 4.49
F15: moyenne | G15: =AVERAGE(G5:G13) -> 0.49888889
A16: BATIMENT2
A17: Déchets | B17: Contenant | C17: Mois | D17: Opération | E17: date | F17: Rotation | G17: Tonnage
A18: PERIPHERIQUES INFORMATIQUES | B18: BNN 10M3 | C18: 2 | D18: Echange | E18: 41317 | F18: 1 | G18: 12.5
B19: BNN 10M3 | C19: 5 | D19: Echange | E19: 41399 | F19: 1 | G19: 1.5
B20: BNN 10M3 | C20: 6 | D20: Echange | E20: 41426 | F20: 1 | G20: 3.5
B21: BNN 10M3 | C21: 8 | D21: Echange | E21: 41494 | F21: 0 | G21: 6.8
B22: BNN 10M3 | C22: 9 | D22: Echange | E22: 41520 | F22: 2 | G22: 1.2
E23: SOMME: | F23: =SUM(F14:F22) -> 102 | G23: =SUM(G14:G22) -> 30.488889
F24: moyenne | G24: =AVERAGE(G14:G22) -> 4.3555556
A26: Déchets | B26: Contenant | C26: Mois | D26: Opération | E26: date | F26: Rotation | G26: Tonnage
A27: HUMIDITE | B27: EUR 5M3 | C27: 10 | D27: Echange | E27: 41569 | F27: 0 | G27: 0.85

Sheet registre batiment1
A3: date de prise en charge | B3: Type de déchet | C3: Transporteur | D3: Adresse Transporteur | E3: Quantité | F3: Nom de l'exutoire | G3: Adresse Exutoire | H3: Code traitement | I3: Type de Valorisation

Sheet registre batiment2
A3: date de prise en charge | B3: Type de déchet | C3: Transporteur | D3: Adresse Transporteur | E3: Quantité | F3: Nom de l'exutoire | G3: Code traitement | H3: Type de Valorisation

Sheet récapitulatif batiment1
A2: Tonnages | B2: Janvier | C2: Février | D2: Mars | E2: Avril | F2: Mai | G2: Juin | H2: Juillet | I2: Août | J2: Septembre | K2: Octobre | L2: Novembre | M2: Décembre
A3: Type de déchets
A4: Archives | B4: =SUMPRODUCT((MONTH(brut!$E$5:$E$13)=MONTH(1&'récapitulatif batiment1'!B2))*(brut!$G$5:$G$13)) -> 0.25 | C4: =SUMPRODUCT((MONTH(brut!$E$5:$E$13)=MONTH(1&'récapitulatif batiment1'!C2))*(brut!$G$5:$G$13)) -> 0.88 | D4: =SUMPRODUCT((MONTH(brut!$E$5:$E$13)=MONTH(1&'récapitulatif batiment1'!D2))*(brut!$G$5:$G$13)) -> 0.12 | E4: =SUMPRODUCT((MONTH(brut!$E$5:$E$13)=MONTH(1&'récapitulatif batiment1'!E2))*(brut!$G$5:$G$13)) -> 2.04 | F4: =SUMPRODUCT((MONTH(brut!$E$5:$E$13)=MONTH(1&'récapitulatif batiment1'!F2))*(brut!$G$5:$G$13)) -> 1.2 | G4: =SUMPRODUCT((MONTH(brut!$E$5:$E$13)=MONTH(1&'récapitulatif batiment1'!G2))*(brut!$G$5:$G$13)) -> 0 | H4: =SUMPRODUCT((MONTH(brut!$E$5:$E$13)=MONTH(1&'récapitulatif batiment1'!H2))*(brut!$G$5:$G$13)) -> 0 | I4: =SUMPRODUCT((MONTH(brut!$E$5:$E$13)=MONTH(1&'récapitulatif batiment1'!I2))*(brut!$G$5:$G$13)) -> 0 | ... M4: =SUMPRODUCT((MONTH(brut!$E$5:$E$13)=MONTH(1&'récapitulatif batiment1'!M2))*(brut!$G$5:$G$13)) -> 0
A15: Somme quantités déchets produits | B15: =SUM(B3:B14) -> 0.25 | C15: =SUM(C3:C14) -> 0.88 | D15: =SUM(D3:D14) -> 0.12 | E15: =SUM(E3:E14) -> 2.04 | F15: =SUM(F3:F14) -> 1.2 | G15: =SUM(G3:G14) -> 0 | H15: =SUM(H3:H14) -> 0 | I15: =SUM(I3:I14) -> 0 | ... M15: =SUM(M3:M14) -> 0

Sheet récapitulatif batiment2
A2: Tonnages | B2: Janvier | C2: Février | D2: Mars | E2: Avril | F2: Mai | G2: Juin | H2: Juillet | I2: Août | J2: Septembre | K2: Octobre | L2: Novembre | M2: Décembre
A3: Type de déchets
A15: Somme quantités déchets produits | B15: =SUM(B3:B14) -> 0 | C15: =SUM(C3:C14) -> 0 | D15: =SUM(D3:D14) -> 0 | E15: =SUM(E3:E14) -> 0 | F15: =SUM(F3:F14) -> 0 | G15: =SUM(G3:G14) -> 0 | H15: =SUM(H3:H14) -> 0 | I15: =SUM(I3:I14) -> 0 | ... M15: =SUM(M3:M14) -> 0
