Workbook
Name an: BDD!$B$1
Name Anniv: BDD!#REF!
Name data: #REF!
Name data1: Calendrier!$AX$4:$AX$23
Name data2: Calendrier!$BA$4:$BA$23
Name Feries: OFFSET(BDD!$A$2,,,Calendrier!$A$42)
Name Feries1: BDD!#REF!
Name Feries2: BDD!#REF!
Name Feries3: BDD!#REF!
Name Feries4: BDD!#REF!
Name ListeAn: BDD!#REF!
Name ListeMois: BDD!#REF!
Name ListeMois2: BDD!#REF!
Name lllll: [1]BDD!$D$2:$F$157
Name Pâques: BDD!$A$3
Name Pâques1: BDD!#REF!
Name Pâques2: BDD!#REF!
Name Pâques3: BDD!#REF!
Name saints: BDD!$G$2:$I$366
Name Saints2: BDD!#REF!
Name Saints3: BDD!#REF!
Name Stock: BDD!#REF!
Name ZONEA: #REF!
Name ZONEB: #REF!
Name ZONEC: #REF!

Sheet Calendrier
A2: 2013 | AR2: =data -> #REF! | AS2: =data -> #REF! | AT2: =data -> #REF! | AU2: =data -> #REF!
A3: =WEEKNUM(F3,2)-(WEEKDAY(DATE(YEAR(F3),1,1),2)>4) -> 1 | E3: 1 | F3: =PROPER(TEXT(DATE($A$2,1,1),"mmmm aaa")) -> Janvier 2013 | P3: =PROPER(TEXT(DATE($A$2,2,1),"mmmm aaa")) -> Février 2013 | Z3: =PROPER(TEXT(DATE($A$2,3,1),"mmmm aaa")) -> Mars 2013 | AJ3: =PROPER(TEXT(DATE($A$2,4,1),"mmmm aaa")) -> Avril 2013 | AR3: =MONTH(F3) -> 1 | AS3: =MONTH(P3) -> 2 | AT3: =MONTH(Z3) -> 3 | AU3: =MONTH(AJ3) -> 4
A4: =WEEKNUM(P3,2)-(WEEKDAY(DATE(YEAR(P3),1,1),2)>4) -> 5 | E4: 1 | F4: L | G4: M | H4: Me | I4: J | J4: V | K4: S | L4: D | O4: 2 | P4: L | Q4: M | R4: Me | S4: J | T4: V | U4: S | V4: D | Y4: 3 | Z4: L | AA4: M | AB4: Me | AC4: J | AD4: V | AE4: S | AF4: D | AI4: 4 | AJ4: L | AK4: M | AL4: Me | AM4: J | AN4: V | AO4: S | AP4: D | AR4: =DATE(A2,AR3,1) -> 41275 | AS4: =DATE(A2,AS3,1) -> 41306 | AT4: =DATE(A2,AT3,1) -> 41334 | AU4: =DATE(A2,AU3,1) -> 41365 | AV4: =IF(#REF!>0,DAY(#REF!),"") -> #REF! | AW4: =IF(#REF!>0,MONTH(#REF!),"") -> #REF! | AX4: =IF(#REF!>0,DATE($A$2,AW4,AV4),"") -> #REF! | AY4: =IF(#REF!>0,DAY(#REF!),"") -> #REF! | AZ4: =IF(#REF!>0,MONTH(#REF!),"") -> #REF! | BA4: =IF(#REF!>0,DATE($A$2,AZ4,AY4),"") -> #REF!
A5: =WEEKNUM(Z3,2)-(WEEKDAY(DATE(YEAR(Z3),1,1),2)>4) -> 9 | D5: =IF($A$38=1,INT((F5-SUM(MOD(DATE(YEAR(F5-MOD(F5-2,7)+3),1,2),{1E+99;7})*{1;-1})+5)/7),"") | F5: =7*$A$3+DATE(A2,1,3)-WEEKDAY(DATE(A2,1,3))-5 -> 41274 | G5: =F5+1 -> 41275 | H5: =G5+1 -> 41276 | I5: =H5+1 -> 41277 | J5: =I5+1 -> 41278 | K5: =J5+1 -> 41279 | L5: =K5+1 -> 41280 | N5: =IF($A$38=1,INT((P5-SUM(MOD(DATE(YEAR(P5-MOD(P5-2,7)+3),1,2),{1E+99;7})*{1;-1})+5)/7),"") | P5: =7*$A$4+DATE(A2,1,3)-WEEKDAY(DATE(A2,1,3))-5 -> 41302 | Q5: =P5+1 -> 41303 | R5: =Q5+1 -> 41304 | S5: =R5+1 -> 41305 | T5: =S5+1 -> 41306 | U5: =T5+1 -> 41307 | V5: =U5+1 -> 41308 | X5: =IF($A$38=1,INT((Z5-SUM(MOD(DATE(YEAR(Z5-MOD(Z5-2,7)+3),1,2),{1E+99;7})*{1;-1})+5)/7),"") | Z5: =7*$A$5+DATE($A$2,1,3)-WEEKDAY(DATE($A$2,1,3))-5 -> 41330 | AA5: =Z5+1 -> 41331 | AB5: =AA5+1 -> 41332 | AC5: =AB5+1 -> 41333 | AD5: =AC5+1 -> 41334 | AE5: =AD5+1 -> 41335 | AF5: =AE5+1 -> 41336 | AH5: =IF($A$38=1,INT((AJ5-SUM(MOD(DATE(YEAR(AJ5-MOD(AJ5-2,7)+3),1,2),{1E+99;7})*{1;-1})+5)/7),"") | AJ5: =7*$A$6+DATE($A$2,1,3)-WEEKDAY(DATE($A$2,1,3))-5 -> 41365 | AK5: =AJ5+1 -> 41366 | AL5: =AK5+1 -> 41367 | AM5: =AL5+1 -> 41368 | AN5: =AM5+1 -> 41369 | AO5: =AN5+1 -> 41370 | AP5: =AO5+1 -> 41371 | AR5: =EOMONTH(AR4,0) -> 41305 | AS5: =EOMONTH(AS4,0) -> 41333 | AT5: =EOMONTH(AT4,0) -> 41364 | AU5: =EOMONTH(AU4,0) -> 41394 | AV5: =IF(#REF!>0,DAY(#REF!),"") -> #REF! | AW5: =IF(#REF!>0,MONTH(#REF!),"") -> #REF! | AX5: =IF(#REF!>0,DATE($A$2,AW5,AV5),"") -> #REF! | AY5: =IF(#REF!>0,DAY(#REF!),"") -> #REF! | AZ5: =IF(#REF!>0,MONTH(#REF!),"") -> #REF! | BA5: =IF(#REF!>0,DATE($A$2,AZ5,AY5),"") -> #REF!
A6: =WEEKNUM(AJ3,2)-(WEEKDAY(DATE(YEAR(AJ3),1,1),2)>4) -> 14 | D6: =IF($A$38=1,INT((F6-SUM(MOD(DATE(YEAR(F6-MOD(F6-2,7)+3),1,2),{1E+99;7})*{1;-1})+5)/7),"") | F6: =L5+1 -> 41281 | G6: =F6+1 -> 41282 | H6: =G6+1 -> 41283 | I6: =H6+1 -> 41284 | J6: =I6+1 -> 41285 | K6: =J6+1 -> 41286 | L6: =K6+1 -> 41287 | N6: =IF($A$38=1,INT((P6-SUM(MOD(DATE(YEAR(P6-MOD(P6-2,7)+3),1,2),{1E+99;7})*{1;-1})+5)/7),"") | P6: =V5+1 -> 41309 | Q6: =P6+1 -> 41310 | R6: =Q6+1 -> 41311 | S6: =R6+1 -> 41312 | T6: =S6+1 -> 41313 | U6: =T6+1 -> 41314 | V6: =U6+1 -> 41315 | X6: =IF($A$38=1,INT((Z6-SUM(MOD(DATE(YEAR(Z6-MOD(Z6-2,7)+3),1,2),{1E+99;7})*{1;-1})+5)/7),"") | Z6: =AF5+1 -> 41337 | AA6: =Z6+1 -> 41338 | AB6: =AA6+1 -> 41339 | AC6: =AB6+1 -> 41340 | AD6: =AC6+1 -> 41341 | AE6: =AD6+1 -> 41342 | AF6: =AE6+1 -> 41343 | AH6: =IF($A$38=1,INT((AJ6-SUM(MOD(DATE(YEAR(AJ6-MOD(AJ6-2,7)+3),1,2),{1E+99;7})*{1;-1})+5)/7),"") | AJ6: =AP5+1 -> 41372 | AK6: =AJ6+1 -> 41373 | AL6: =AK6+1 -> 41374 | AM6: =AL6+1 -> 41375 | AN6: =AM6+1 -> 41376 | AO6: =AN6+1 -> 41377 | AP6: =AO6+1 -> 41378 | AV6: =IF(#REF!>0,DAY(#REF!),"") -> #REF! | AW6: =IF(#REF!>0,MONTH(#REF!),"") -> #REF! | AX6: =IF(#REF!>0,DATE($A$2,AW6,AV6),"") -> #REF! | AY6: =IF(#REF!>0,DAY(#REF!),"") -> #REF! | AZ6: =IF(#REF!>0,MONTH(#REF!),"") -> #REF! | BA6: =IF(#REF!>0,DATE($A$2,AZ6,AY6),"") -> #REF!
D7: =IF($A$38=1,INT((F7-SUM(MOD(DATE(YEAR(F7-MOD(F7-2,7)+3),1,2),{1E+99;7})*{1;-1})+5)/7),"") | F7: =L6+1 -> 41288 | G7: =F7+1 -> 41289 | H7: =G7+1 -> 41290 | I7: =H7+1 -> 41291 | J7: =I7+1 -> 41292 | K7: =J7+1 -> 41293 | L7: =K7+1 -> 41294 | N7: =IF($A$38=1,INT((P7-SUM(MOD(DATE(YEAR(P7-MOD(P7-2,7)+3),1,2),{1E+99;7})*{1;-1})+5)/7),"") | P7: =V6+1 -> 41316 | Q7: =P7+1 -> 41317 | R7: =Q7+1 -> 41318 | S7: =R7+1 -> 41319 | T7: =S7+1 -> 41320 | U7: =T7+1 -> 41321 | V7: =U7+1 -> 41322 | X7: =IF($A$38=1,INT((Z7-SUM(MOD(DATE(YEAR(Z7-MOD(Z7-2,7)+3),1,2),{1E+99;7})*{1;-1})+5)/7),"") | Z7: =AF6+1 -> 41344 | AA7: =Z7+1 -> 41345 | AB7: =AA7+1 -> 41346 | AC7: =AB7+1 -> 41347 | AD7: =AC7+1 -> 41348 | AE7: =AD7+1 -> 41349 | AF7: =AE7+1 -> 41350 | AH7: =IF($A$38=1,INT((AJ7-SUM(MOD(DATE(YEAR(AJ7-MOD(AJ7-2,7)+3),1,2),{1E+99;7})*{1;-1})+5)/7),"") | AJ7: =AP6+1 -> 41379 | AK7: =AJ7+1 -> 41380 | AL7: =AK7+1 -> 41381 | AM7: =AL7+1 -> 41382 | AN7: =AM7+1 -> 41383 | AO7: =AN7+1 -> 41384 | AP7: =AO7+1 -> 41385 | AV7: =IF(#REF!>0,DAY(#REF!),"") -> #REF! | AW7: =IF(#REF!>0,MONTH(#REF!),"") -> #REF! | AX7: =IF(#REF!>0,DATE($A$2,AW7,AV7),"") -> #REF! | AY7: =IF(#REF!>0,DAY(#REF!),"") -> #REF! | AZ7: =IF(#REF!>0,MONTH(#REF!),"") -> #REF! | BA7: =IF(#REF!>0,DATE($A$2,AZ7,AY7),"") -> #REF!
D8: =IF($A$38=1,INT((F8-SUM(MOD(DATE(YEAR(F8-MOD(F8-2,7)+3),1,2),{1E+99;7})*{1;-1})+5)/7),"") | F8: =L7+1 -> 41295 | G8: =F8+1 -> 41296 | H8: =G8+1 -> 41297 | I8: =H8+1 -> 41298 | J8: =I8+1 -> 41299 | K8: =J8+1 -> 41300 | L8: =K8+1 -> 41301 | N8: =IF($A$38=1,INT((P8-SUM(MOD(DATE(YEAR(P8-MOD(P8-2,7)+3),1,2),{1E+99;7})*{1;-1})+5)/7),"") | P8: =V7+1 -> 41323 | Q8: =P8+1 -> 41324 | R8: =Q8+1 -> 41325 | S8: =R8+1 -> 41326 | T8: =S8+1 -> 41327 | U8: =T8+1 -> 41328 | V8: =U8+1 -> 41329 | X8: =IF($A$38=1,INT((Z8-SUM(MOD(DATE(YEAR(Z8-MOD(Z8-2,7)+3),1,2),{1E+99;7})*{1;-1})+5)/7),"") | Z8: =AF7+1 -> 41351 | AA8: =Z8+1 -> 41352 | AB8: =AA8+1 -> 41353 | AC8: =AB8+1 -> 41354 | AD8: =AC8+1 -> 41355 | AE8: =AD8+1 -> 41356 | AF8: =AE8+1 -> 41357 | AH8: =IF($A$38=1,INT((AJ8-SUM(MOD(DATE(YEAR(AJ8-MOD(AJ8-2,7)+3),1,2),{1E+99;7})*{1;-1})+5)/7),"") | AJ8: =AP7+1 -> 41386 | AK8: =AJ8+1 -> 41387 | AL8: =AK8+1 -> 41388 | AM8: =AL8+1 -> 41389 | AN8: =AM8+1 -> 41390 | AO8: =AN8+1 -> 41391 | AP8: =AO8+1 -> 41392 | AV8: =IF(#REF!>0,DAY(#REF!),"") -> #REF! | AW8: =IF(#REF!>0,MONTH(#REF!),"") -> #REF! | AX8: =IF(#REF!>0,DATE($A$2,AW8,AV8),"") -> #REF! | AY8: =IF(#REF!>0,DAY(#REF!),"") -> #REF! | AZ8: =IF(#REF!>0,MONTH(#REF!),"") -> #REF! | BA8: =IF(#REF!>0,DATE($A$2,AZ8,AY8),"") -> #REF!
D9: =IF($A$38=1,INT((F9-SUM(MOD(DATE(YEAR(F9-MOD(F9-2,7)+3),1,2),{1E+99;7})*{1;-1})+5)/7),"") | F9: =L8+1 -> 41302 | G9: =F9+1 -> 41303 | H9: =G9+1 -> 41304 | I9: =H9+1 -> 41305 | J9: =I9+1 -> 41306 | K9: =J9+1 -> 41307 | L9: =K9+1 -> 41308 | N9: =IF($A$38=1,INT((P9-SUM(MOD(DATE(YEAR(P9-MOD(P9-2,7)+3),1,2),{1E+99;7})*{1;-1})+5)/7),"") | P9: =V8+1 -> 41330 | Q9: =P9+1 -> 41331 | R9: =Q9+1 -> 41332 | S9: =R9+1 -> 41333 | T9: =S9+1 -> 41334 | U9: =T9+1 -> 41335 | V9: =U9+1 -> 41336 | X9: =IF($A$38=1,INT((Z9-SUM(MOD(DATE(YEAR(Z9-MOD(Z9-2,7)+3),1,2),{1E+99;7})*{1;-1})+5)/7),"") | Z9: =AF8+1 -> 41358 | AA9: =Z9+1 -> 41359 | AB9: =AA9+1 -> 41360 | AC9: =AB9+1 -> 41361 | AD9: =AC9+1 -> 41362 | AE9: =AD9+1 -> 41363 | AF9: =AE9+1 -> 41364 | AH9: =IF($A$38=1,INT((AJ9-SUM(MOD(DATE(YEAR(AJ9-MOD(AJ9-2,7)+3),1,2),{1E+99;7})*{1;-1})+5)/7),"") | AJ9: =AP8+1 -> 41393 | AK9: =AJ9+1 -> 41394 | AL9: =AK9+1 -> 41395 | AM9: =AL9+1 -> 41396 | AN9: =AM9+1 -> 41397 | AO9: =AN9+1 -> 41398 | AP9: =AO9+1 -> 41399 | AV9: =IF(#REF!>0,DAY(#REF!),"") -> #REF! | AW9: =IF(#REF!>0,MONTH(#REF!),"") -> #REF! | AX9: =IF(#REF!>0,DATE($A$2,AW9,AV9),"") -> #REF! | AY9: =IF(#REF!>0,DAY(#REF!),"") -> #REF! | AZ9: =IF(#REF!>0,MONTH(#REF!),"") -> #REF! | BA9: =IF(#REF!>0,DATE($A$2,AZ9,AY9),"") -> #REF!
D10: =IF(OR($A$38=0,F10>DATE($A$2,E4,31)),"",INT((F10-SUM(MOD(DATE(YEAR(F10-MOD(F10-2,7)+3),1,2),{1E+99;7})*{1;-1})+5)/7)) | F10: =L9+1 -> 41309 | G10: =F10+1 -> 41310 | H10: =G10+1 -> 41311 | I10: =H10+1 -> 41312 | J10: =I10+1 -> 41313 | K10: =J10+1 -> 41314 | L10: =K10+1 -> 41315 | N10: =IF(OR($A$38=0,P10>DATE($A$2,O4,A29)),"",INT((P10-SUM(MOD(DATE(YEAR(P10-MOD(P10-2,7)+3),1,2),{1E+99;7})*{1;-1})+5)/7)) | P10: =V9+1 -> 41337 | Q10: =P10+1 -> 41338 | R10: =Q10+1 -> 41339 | S10: =R10+1 -> 41340 | T10: =S10+1 -> 41341 | U10: =T10+1 -> 41342 | V10: =U10+1 -> 41343 | X10: =IF(OR($A$38=0,Z10>DATE($A$2,Y4,31)),"",INT((Z10-SUM(MOD(DATE(YEAR(Z10-MOD(Z10-2,7)+3),1,2),{1E+99;7})*{1;-1})+5)/7)) | Z10: =AF9+1 -> 41365 | AA10: =Z10+1 -> 41366 | AB10: =AA10+1 -> 41367 | AC10: =AB10+1 -> 41368 | AD10: =AC10+1 -> 41369 | AE10: =AD10+1 -> 41370 | AF10: =AE10+1 -> 41371 | AH10: =IF(OR($A$38=0,AJ10>DATE($A$2,AI4,30)),"",INT((AJ10-SUM(MOD(DATE(YEAR(AJ10-MOD(AJ10-2,7)+3),1,2),{1E+99;7})*{1;-1})+5)/7)) | AJ10: =AP9+1 -> 41400 | AK10: =AJ10+1 -> 41401 | AL10: =AK10+1 -> 41402 | AM10: =AL10+1 -> 41403 | AN10: =AM10+1 -> 41404 | AO10: =AN10+1 -> 41405 | AP10: =AO10+1 -> 41406 | AV10: =IF(#REF!>0,DAY(#REF!),"") -> #REF! | AW10: =IF(#REF!>0,MONTH(#REF!),"") -> #REF! | AX10: =IF(#REF!>0,DATE($A$2,AW10,AV10),"") -> #REF! | AY10: =IF(#REF!>0,DAY(#REF!),"") -> #REF! | AZ10: =IF(#REF!>0,MONTH(#REF!),"") -> #REF! | BA10: =IF(#REF!>0,DATE($A$2,AZ10,AY10),"") -> #REF!
AV11: =IF(#REF!>0,DAY(#REF!),"") -> #REF! | AW11: =IF(#REF!>0,MONTH(#REF!),"") -> #REF! | AX11: =IF(#REF!>0,DATE($A$2,AW11,AV11),"") -> #REF! | AY11: =IF(#REF!>0,DAY(#REF!),"") -> #REF! | AZ11: =IF(#REF!>0,MONTH(#REF!),"") -> #REF! | BA11: =IF(#REF!>0,DATE($A$2,AZ11,AY11),"") -> #REF!
B12: Aujourd'hui | F12: =PROPER(TEXT(DATE($A$2,5,1),"mmmm aaa")) -> Mai 2013 | P12: =PROPER(TEXT(DATE($A$2,6,1),"mmmm aaa")) -> Juin 2013 | Z12: =PROPER(TEXT(DATE($A$2,7,1),"mmmm aaa")) -> Juillet 2013 | AJ12: =PROPER(TEXT(DATE($A$2,8,1),"mmmm aaa")) -> Août 2013 | AR12: =$A$2 -> 2013 | AS12: =$A$2 -> 2013 | AT12: =$A$2 -> 2013 | AU12: =$A$2 -> 2013 | AV12: =IF(#REF!>0,DAY(#REF!),"") -> #REF! | AW12: =IF(#REF!>0,MONTH(#REF!),"") -> #REF! | AX12: =IF(#REF!>0,DATE($A$2,AW12,AV12),"") -> #REF! | AY12: =IF(#REF!>0,DAY(#REF!),"") -> #REF! | AZ12: =IF(#REF!>0,MONTH(#REF!),"") -> #REF! | BA12: =IF(#REF!>0,DATE($A$2,AZ12,AY12),"") -> #REF!
B13: =PROPER(TEXT(TODAY(),"jjjj jj mmmm aaaa")) -> Dimanche 28 Juillet 2013 | E13: 5 | F13: L | G13: M | H13: Me | I13: J | J13: V | K13: S | L13: D | O13: 6 | P13: L | Q13: M | R13: Me | S13: J | T13: V | U13: S | V13: D | Y13: 7 | Z13: L | AA13: M | AB13: Me | AC13: J | AD13: V | AE13: S | AF13: D | AI13: 8 | AJ13: L | AK13: M | AL13: Me | AM13: J | AN13: V | AO13: S | AP13: D | AR13: =MONTH(F12) -> 5 | AS13: =MONTH(P12) -> 6 | AT13: =MONTH(Z12) -> 7 | AU13: =MONTH(AJ12) -> 8 | AV13: =IF(#REF!>0,DAY(#REF!),"") -> #REF! | AW13: =IF(#REF!>0,MONTH(#REF!),"") -> #REF! | AX13: =IF(#REF!>0,DATE($A$2,AW13,AV13),"") -> #REF! | AY13: =IF(#REF!>0,DAY(#REF!),"") -> #REF! | AZ13: =IF(#REF!>0,MONTH(#REF!),"") -> #REF! | BA13: =IF(#REF!>0,DATE($A$2,AZ13,AY13),"") -> #REF!
A14: =WEEKNUM(F12,2)-(WEEKDAY(DATE(YEAR(F12),1,1),2)>4) -> 18 | B14: =IF(COUNTIF(Feries,A55)>0,VLOOKUP(A55,BDD!$A$2:$B$15,2,0),"Fête de "&VLOOKUP(A55,saints,3,0)) -> Fête de Samson | D14: =IF($A$38=1,INT((F14-SUM(MOD(DATE(YEAR(F14-MOD(F14-2,7)+3),1,2),{1E+99;7})*{1;-1})+5)/7),"") | F14: =7*A14+DATE($A$2,1,3)-WEEKDAY(DATE(A2,1,3))-5 -> 41393 | G14: =F14+1 -> 41394 | H14: =G14+1 -> 41395 | I14: =H14+1 -> 41396 | J14: =I14+1 -> 41397 | K14: =J14+1 -> 41398 | L14: =K14+1 -> 41399 | N14: =IF($A$38=1,INT((P14-SUM(MOD(DATE(YEAR(P14-MOD(P14-2,7)+3),1,2),{1E+99;7})*{1;-1})+5)/7),"") | P14: =7*A15+DATE($A$2,1,3)-WEEKDAY(DATE($A$2,1,3))-5 -> 41421 | Q14: =P14+1 -> 41422 | R14: =Q14+1 -> 41423 | S14: =R14+1 -> 41424 | T14: =S14+1 -> 41425 | U14: =T14+1 -> 41426 | V14: =U14+1 -> 41427 | X14: =IF($A$38=1,INT((Z14-SUM(MOD(DATE(YEAR(Z14-MOD(Z14-2,7)+3),1,2),{1E+99;7})*{1;-1})+5)/7),"") | Z14: =7*A16+DATE($A$2,1,3)-WEEKDAY(DATE($A$2,1,3))-5 -> 41456 | AA14: =Z14+1 -> 41457 | AB14: =AA14+1 -> 41458 | AC14: =AB14+1 -> 41459 | AD14: =AC14+1 -> 41460 | AE14: =AD14+1 -> 41461 | AF14: =AE14+1 -> 41462 | AH14: =IF($A$38=1,INT((AJ14-SUM(MOD(DATE(YEAR(AJ14-MOD(AJ14-2,7)+3),1,2),{1E+99;7})*{1;-1})+5)/7),"") | AJ14: =7*A17+DATE($A$2,1,3)-WEEKDAY(DATE($A$2,1,3))-5 -> 41484 | AK14: =AJ14+1 -> 41485 | AL14: =AK14+1 -> 41486 | AM14: =AL14+1 -> 41487 | AN14: =AM14+1 -> 41488 | AO14: =AN14+1 -> 41489 | AP14: =AO14+1 -> 41490 | AR14: =DATE(AR12,AR13,1) -> 41395 | AS14: =DATE(AS12,AS13,1) -> 41426 | AT14: =DATE(AT12,AT13,1) -> 41456 | AU14: =DATE(AU12,AU13,1) -> 41487 | AV14: =IF(#REF!>0,DAY(#REF!),"") -> #REF! | AW14: =IF(#REF!>0,MONTH(#REF!),"") -> #REF! | AX14: =IF(#REF!>0,DATE($A$2,AW14,AV14),"") -> #REF! | AY14: =IF(#REF!>0,DAY(#REF!),"") -> #REF! | AZ14: =IF(#REF!>0,MONTH(#REF!),"") -> #REF! | BA14: =IF(#REF!>0,DATE($A$2,AZ14,AY14),"") -> #REF!
A15: =WEEKNUM(P12,2)-(WEEKDAY(DATE(YEAR(P12),1,1),2)>4) -> 22 | D15: =IF($A$38=1,INT((F15-SUM(MOD(DATE(YEAR(F15-MOD(F15-2,7)+3),1,2),{1E+99;7})*{1;-1})+5)/7),"") | F15: =L14+1 -> 41400 | G15: =F15+1 -> 41401 | H15: =G15+1 -> 41402 | I15: =H15+1 -> 41403 | J15: =I15+1 -> 41404 | K15: =J15+1 -> 41405 | L15: =K15+1 -> 41406 | N15: =IF($A$38=1,INT((P15-SUM(MOD(DATE(YEAR(P15-MOD(P15-2,7)+3),1,2),{1E+99;7})*{1;-1})+5)/7),"") | P15: =V14+1 -> 41428 | Q15: =P15+1 -> 41429 | R15: =Q15+1 -> 41430 | S15: =R15+1 -> 41431 | T15: =S15+1 -> 41432 | U15: =T15+1 -> 41433 | V15: =U15+1 -> 41434 | X15: =IF($A$38=1,INT((Z15-SUM(MOD(DATE(YEAR(Z15-MOD(Z15-2,7)+3),1,2),{1E+99;7})*{1;-1})+5)/7),"") | Z15: =AF14+1 -> 41463 | AA15: =Z15+1 -> 41464 | AB15: =AA15+1 -> 41465 | AC15: =AB15+1 -> 41466 | AD15: =AC15+1 -> 41467 | AE15: =AD15+1 -> 41468 | AF15: =AE15+1 -> 41469 | AH15: =IF($A$38=1,INT((AJ15-SUM(MOD(DATE(YEAR(AJ15-MOD(AJ15-2,7)+3),1,2),{1E+99;7})*{1;-1})+5)/7),"") | AJ15: =AP14+1 -> 41491 | AK15: =AJ15+1 -> 41492 | AL15: =AK15+1 -> 41493 | AM15: =AL15+1 -> 41494 | AN15: =AM15+1 -> 41495 | AO15: =AN15+1 -> 41496 | AP15: =AO15+1 -> 41497 | AR15: =EOMONTH(AR14,0) -> 41425 | AS15: =EOMONTH(AS14,0) -> 41455 | AT15: =EOMONTH(AT14,0) -> 41486 | AU15: =EOMONTH(AU14,0) -> 41517 | AV15: =IF(#REF!>0,DAY(#REF!),"") -> #REF! | AW15: =IF(#REF!>0,MONTH(#REF!),"") -> #REF! | AX15: =IF(#REF!>0,DATE($A$2,AW15,AV15),"") -> #REF! | AY15: =IF(#REF!>0,DAY(#REF!),"") -> #REF! | AZ15: =IF(#REF!>0,MONTH(#REF!),"") -> #REF! | BA15: =IF(#REF!>0,DATE($A$2,AZ15,AY15),"") -> #REF!
A16: =WEEKNUM(Z12,2)-(WEEKDAY(DATE(YEAR(Z12),1,1),2)>4) -> 27 | D16: =IF($A$38=1,INT((F16-SUM(MOD(DATE(YEAR(F16-MOD(F16-2,7)+3),1,2),{1E+99;7})*{1;-1})+5)/7),"") | F16: =L15+1 -> 41407 | G16: =F16+1 -> 41408 | H16: =G16+1 -> 41409 | I16: =H16+1 -> 41410 | J16: =I16+1 -> 41411 | K16: =J16+1 -> 41412 | L16: =K16+1 -> 41413 | N16: =IF($A$38=1,INT((P16-SUM(MOD(DATE(YEAR(P16-MOD(P16-2,7)+3),1,2),{1E+99;7})*{1;-1})+5)/7),"") | P16: =V15+1 -> 41435 | Q16: =P16+1 -> 41436 | R16: =Q16+1 -> 41437 | S16: =R16+1 -> 41438 | T16: =S16+1 -> 41439 | U16: =T16+1 -> 41440 | V16: =U16+1 -> 41441 | X16: =IF($A$38=1,INT((Z16-SUM(MOD(DATE(YEAR(Z16-MOD(Z16-2,7)+3),1,2),{1E+99;7})*{1;-1})+5)/7),"") | Z16: =AF15+1 -> 41470 | AA16: =Z16+1 -> 41471 | AB16: =AA16+1 -> 41472 | AC16: =AB16+1 -> 41473 | AD16: =AC16+1 -> 41474 | AE16: =AD16+1 -> 41475 | AF16: =AE16+1 -> 41476 | AH16: =IF($A$38=1,INT((AJ16-SUM(MOD(DATE(YEAR(AJ16-MOD(AJ16-2,7)+3),1,2),{1E+99;7})*{1;-1})+5)/7),"") | AJ16: =AP15+1 -> 41498 | AK16: =AJ16+1 -> 41499 | AL16: =AK16+1 -> 41500 | AM16: =AL16+1 -> 41501 | AN16: =AM16+1 -> 41502 | AO16: =AN16+1 -> 41503 | AP16: =AO16+1 -> 41504 | AV16: =IF(#REF!>0,DAY(#REF!),"") -> #REF! | AW16: =IF(#REF!>0,MONTH(#REF!),"") -> #REF! | AX16: =IF(#REF!>0,DATE($A$2,AW16,AV16),"") -> #REF! | AY16: =IF(#REF!>0,DAY(#REF!),"") -> #REF! | AZ16: =IF(#REF!>0,MONTH(#REF!),"") -> #REF! | BA16: =IF(#REF!>0,DATE($A$2,AZ16,AY16),"") -> #REF!
A17: =WEEKNUM(AJ12,2)-(WEEKDAY(DATE(YEAR(AJ12),1,1),2)>4) -> 31 | D17: =IF($A$38=1,INT((F17-SUM(MOD(DATE(YEAR(F17-MOD(F17-2,7)+3),1,2),{1E+99;7})*{1;-1})+5)/7),"") | F17: =L16+1 -> 41414 | G17: =F17+1 -> 41415 | H17: =G17+1 -> 41416 | I17: =H17+1 -> 41417 | J17: =I17+1 -> 41418 | K17: =J17+1 -> 41419 | L17: =K17+1 -> 41420 | N17: =IF($A$38=1,INT((P17-SUM(MOD(DATE(YEAR(P17-MOD(P17-2,7)+3),1,2),{1E+99;7})*{1;-1})+5)/7),"") | P17: =V16+1 -> 41442 | Q17: =P17+1 -> 41443 | R17: =Q17+1 -> 41444 | S17: =R17+1 -> 41445 | T17: =S17+1 -> 41446 | U17: =T17+1 -> 41447 | V17: =U17+1 -> 41448 | X17: =IF($A$38=1,INT((Z17-SUM(MOD(DATE(YEAR(Z17-MOD(Z17-2,7)+3),1,2),{1E+99;7})*{1;-1})+5)/7),"") | Z17: =AF16+1 -> 41477 | AA17: =Z17+1 -> 41478 | AB17: =AA17+1 -> 41479 | AC17: =AB17+1 -> 41480 | AD17: =AC17+1 -> 41481 | AE17: =AD17+1 -> 41482 | AF17: =AE17+1 -> 41483 | AH17: =IF($A$38=1,INT((AJ17-SUM(MOD(DATE(YEAR(AJ17-MOD(AJ17-2,7)+3),1,2),{1E+99;7})*{1;-1})+5)/7),"") | AJ17: =AP16+1 -> 41505 | AK17: =AJ17+1 -> 41506 | AL17: =AK17+1 -> 41507 | AM17: =AL17+1 -> 41508 | AN17: =AM17+1 -> 41509 | AO17: =AN17+1 -> 41510 | AP17: =AO17+1 -> 41511 | AV17: =IF(#REF!>0,DAY(#REF!),"") -> #REF! | AW17: =IF(#REF!>0,MONTH(#REF!),"") -> #REF! | AX17: =IF(#REF!>0,DATE($A$2,AW17,AV17),"") -> #REF! | AY17: =IF(#REF!>0,DAY(#REF!),"") -> #REF! | AZ17: =IF(#REF!>0,MONTH(#REF!),"") -> #REF! | BA17: =IF(#REF!>0,DATE($A$2,AZ17,AY17),"") -> #REF!
D18: =IF($A$38=1,INT((F18-SUM(MOD(DATE(YEAR(F18-MOD(F18-2,7)+3),1,2),{1E+99;7})*{1;-1})+5)/7),"") | F18: =L17+1 -> 41421 | G18: =F18+1 -> 41422 | H18: =G18+1 -> 41423 | I18: =H18+1 -> 41424 | J18: =I18+1 -> 41425 | K18: =J18+1 -> 41426 | L18: =K18+1 -> 41427 | N18: =IF($A$38=1,INT((P18-SUM(MOD(DATE(YEAR(P18-MOD(P18-2,7)+3),1,2),{1E+99;7})*{1;-1})+5)/7),"") | P18: =V17+1 -> 41449 | Q18: =P18+1 -> 41450 | R18: =Q18+1 -> 41451 | S18: =R18+1 -> 41452 | T18: =S18+1 -> 41453 | U18: =T18+1 -> 41454 | V18: =U18+1 -> 41455 | X18: =IF($A$38=1,INT((Z18-SUM(MOD(DATE(YEAR(Z18-MOD(Z18-2,7)+3),1,2),{1E+99;7})*{1;-1})+5)/7),"") | Z18: =AF17+1 -> 41484 | AA18: =Z18+1 -> 41485 | AB18: =AA18+1 -> 41486 | AC18: =AB18+1 -> 41487 | AD18: =AC18+1 -> 41488 | AE18: =AD18+1 -> 41489 | AF18: =AE18+1 -> 41490 | AH18: =IF($A$38=1,INT((AJ18-SUM(MOD(DATE(YEAR(AJ18-MOD(AJ18-2,7)+3),1,2),{1E+99;7})*{1;-1})+5)/7),"") | AJ18: =AP17+1 -> 41512 | AK18: =AJ18+1 -> 41513 | AL18: =AK18+1 -> 41514 | AM18: =AL18+1 -> 41515 | AN18: =AM18+1 -> 41516 | AO18: =AN18+1 -> 41517 | AP18: =AO18+1 -> 41518 | AV18: =IF(#REF!>0,DAY(#REF!),"") -> #REF! | AW18: =IF(#REF!>0,MONTH(#REF!),"") -> #REF! | AX18: =IF(#REF!>0,DATE($A$2,AW18,AV18),"") -> #REF! | AY18: =IF(#REF!>0,DAY(#REF!),"") -> #REF! | AZ18: =IF(#REF!>0,MONTH(#REF!),"") -> #REF! | BA18: =IF(#REF!>0,DATE($A$2,AZ18,AY18),"") -> #REF!
D19: =IF(OR($A$38=0,F19>DATE($A$2,E13,31)),"",INT((F19-SUM(MOD(DATE(YEAR(F19-MOD(F19-2,7)+3),1,2),{1E+99;7})*{1;-1})+5)/7)) | F19: =L18+1 -> 41428 | G19: =F19+1 -> 41429 | H19: =G19+1 -> 41430 | I19: =H19+1 -> 41431 | J19: =I19+1 -> 41432 | K19: =J19+1 -> 41433 | L19: =K19+1 -> 41434 | N19: =IF(OR($A$38=0,P19>DATE($A$2,O13,30)),"",INT((P19-SUM(MOD(DATE(YEAR(P19-MOD(P19-2,7)+3),1,2),{1E+99;7})*{1;-1})+5)/7)) | P19: =V18+1 -> 41456 | Q19: =P19+1 -> 41457 | R19: =Q19+1 -> 41458 | S19: =R19+1 -> 41459 | T19: =S19+1 -> 41460 | U19: =T19+1 -> 41461 | V19: =U19+1 -> 41462 | X19: =IF(OR($A$38=0,Z19>DATE($A$2,Y13,31)),"",INT((Z19-SUM(MOD(DATE(YEAR(Z19-MOD(Z19-2,7)+3),1,2),{1E+99;7})*{1;-1})+5)/7)) | Z19: =AF18+1 -> 41491 | AA19: =Z19+1 -> 41492 | AB19: =AA19+1 -> 41493 | AC19: =AB19+1 -> 41494 | AD19: =AC19+1 -> 41495 | AE19: =AD19+1 -> 41496 | AF19: =AE19+1 -> 41497 | AH19: =IF(OR($A$38=0,AJ19>DATE($A$2,AI13,31)),"",INT((AJ19-SUM(MOD(DATE(YEAR(AJ19-MOD(AJ19-2,7)+3),1,2),{1E+99;7})*{1;-1})+5)/7)) | AJ19: =AP18+1 -> 41519 | AK19: =AJ19+1 -> 41520 | AL19: =AK19+1 -> 41521 | AM19: =AL19+1 -> 41522 | AN19: =AM19+1 -> 41523 | AO19: =AN19+1 -> 41524 | AP19: =AO19+1 -> 41525 | AV19: =IF(#REF!>0,DAY(#REF!),"") -> #REF! | AW19: =IF(#REF!>0,MONTH(#REF!),"") -> #REF! | AX19: =IF(#REF!>0,DATE($A$2,AW19,AV19),"") -> #REF! | AY19: =IF(#REF!>0,DAY(#REF!),"") -> #REF! | AZ19: =IF(#REF!>0,MONTH(#REF!),"") -> #REF! | BA19: =IF(#REF!>0,DATE($A$2,AZ19,AY19),"") -> #REF!
AV20: =IF(#REF!>0,DAY(#REF!),"") -> #REF! | AW20: =IF(#REF!>0,MONTH(#REF!),"") -> #REF! | AX20: =IF(#REF!>0,DATE($A$2,AW20,AV20),"") -> #REF! | AY20: =IF(#REF!>0,DAY(#REF!),"") -> #REF! | AZ20: =IF(#REF!>0,MONTH(#REF!),"") -> #REF! | BA20: =IF(#REF!>0,DATE($A$2,AZ20,AY20),"") -> #REF!
F21: =PROPER(TEXT(DATE($A$2,9,1),"mmmm aaa")) -> Septembre 2013 | P21: =PROPER(TEXT(DATE($A$2,10,1),"mmmm aaa")) -> Octobre 2013 | Z21: =PROPER(TEXT(DATE($A$2,11,1),"mmmm aaa")) -> Novembre 2013 | AJ21: =PROPER(TEXT(DATE($A$2,12,1),"mmmm aaa")) -> Décembre 2013 | AR21: =$A$2 -> 2013 | AS21: =$A$2 -> 2013 | AT21: =$A$2 -> 2013 | AU21: =$A$2 -> 2013 | AV21: =IF(#REF!>0,DAY(#REF!),"") -> #REF! | AW21: =IF(#REF!>0,MONTH(#REF!),"") -> #REF! | AX21: =IF(#REF!>0,DATE($A$2,AW21,AV21),"") -> #REF! | AY21: =IF(#REF!>0,DAY(#REF!),"") -> #REF! | AZ21: =IF(#REF!>0,MONTH(#REF!),"") -> #REF! | BA21: =IF(#REF!>0,DATE($A$2,AZ21,AY21),"") -> #REF!
A22: =WEEKNUM(F21,2)-(WEEKDAY(DATE(YEAR(F21),1,1),2)>4) -> 35 | B22: =IF(DATEDIF(DATE($A$2,1,1),DATE($A$2,12,31),"d")>364,"Année bissextile, 366 jours",DATEDIF(DATE($A$2,1,1),DATE($A$2,12,31),"d")+1&" jours dans l'année") -> 365 jours dans l'année | E22: 9 | F22: L | G22: M | H22: Me | I22: J | J22: V | K22: S | L22: D | O22: 10 | P22: L | Q22: M | R22: Me | S22: J | T22: V | U22: S | V22: D | Y22: 11 | Z22: L | AA22: M | AB22: Me | AC22: J | AD22: V | AE22: S | AF22: D | AI22: 12 | AJ22: L | AK22: M | AL22: Me | AM22: J | AN22: V | AO22: S | AP22: D | AR22: =MONTH(F21) -> 9 | AS22: =MONTH(P21) -> 10 | AT22: =MONTH(Z21) -> 11 | AU22: =MONTH(AJ21) -> 12 | AV22: =IF(#REF!>0,DAY(#REF!),"") -> #REF! | AW22: =IF(#REF!>0,MONTH(#REF!),"") -> #REF! | AX22: =IF(#REF!>0,DATE($A$2,AW22,AV22),"") -> #REF! | AY22: =IF(#REF!>0,DAY(#REF!),"") -> #REF! | AZ22: =IF(#REF!>0,MONTH(#REF!),"") -> #REF! | BA22: =IF(#REF!>0,DATE($A$2,AZ22,AY22),"") -> #REF!
A23: =WEEKNUM(P21,2)-(WEEKDAY(DATE(YEAR(P21),1,1),2)>4) -> 40 | B23: =NETWORKDAYS.INTL(DATE($A$2,1,1),DATE($A$2,12,31),1,Feries)&" jours ouvrés" -> 251 jours ouvrés | D23: =IF($A$38=1,INT((F23-SUM(MOD(DATE(YEAR(F23-MOD(F23-2,7)+3),1,2),{1E+99;7})*{1;-1})+5)/7),"") | F23: =7*A22+DATE($A$2,1,3)-WEEKDAY(DATE($A$2,1,3))-5 -> 41512 | G23: =F23+1 -> 41513 | H23: =G23+1 -> 41514 | I23: =H23+1 -> 41515 | J23: =I23+1 -> 41516 | K23: =J23+1 -> 41517 | L23: =K23+1 -> 41518 | N23: =IF($A$38=1,INT((P23-SUM(MOD(DATE(YEAR(P23-MOD(P23-2,7)+3),1,2),{1E+99;7})*{1;-1})+5)/7),"") | P23: =7*A23+DATE($A$2,1,3)-WEEKDAY(DATE($A$2,1,3))-5 -> 41547 | Q23: =P23+1 -> 41548 | R23: =Q23+1 -> 41549 | S23: =R23+1 -> 41550 | T23: =S23+1 -> 41551 | U23: =T23+1 -> 41552 | V23: =U23+1 -> 41553 | X23: =IF($A$38=1,INT((Z23-SUM(MOD(DATE(YEAR(Z23-MOD(Z23-2,7)+3),1,2),{1E+99;7})*{1;-1})+5)/7),"") | Z23: =7*A24+DATE($A$2,1,3)-WEEKDAY(DATE($A$2,1,3))-5 -> 41575 | AA23: =Z23+1 -> 41576 | AB23: =AA23+1 -> 41577 | AC23: =AB23+1 -> 41578 | AD23: =AC23+1 -> 41579 | AE23: =AD23+1 -> 41580 | AF23: =AE23+1 -> 41581 | AH23: =IF($A$38=1,INT((AJ23-SUM(MOD(DATE(YEAR(AJ23-MOD(AJ23-2,7)+3),1,2),{1E+99;7})*{1;-1})+5)/7),"") | AJ23: =7*A25+DATE($A$2,1,3)-WEEKDAY(DATE($A$2,1,3))-5 -> 41603 | AK23: =AJ23+1 -> 41604 | AL23: =AK23+1 -> 41605 | AM23: =AL23+1 -> 41606 | AN23: =AM23+1 -> 41607 | AO23: =AN23+1 -> 41608 | AP23: =AO23+1 -> 41609 | AR23: =DATE(AR21,AR22,1) -> 41518 | AS23: =DATE(AS21,AS22,1) -> 41548 | AT23: =DATE(AT21,AT22,1) -> 41579 | AU23: =DATE(AU21,AU22,1) -> 41609 | AV23: =IF(#REF!>0,DAY(#REF!),"") -> #REF! | AW23: =IF(#REF!>0,MONTH(#REF!),"") -> #REF! | AX23: =IF(#REF!>0,DATE($A$2,AW23,AV23),"") -> #REF! | AY23: =IF(#REF!>0,DAY(#REF!),"") -> #REF! | AZ23: =IF(#REF!>0,MONTH(#REF!),"") -> #REF! | BA23: =IF(#REF!>0,DATE($A$2,AZ23,AY23),"") -> #REF!
A24: =WEEKNUM(Z21,2)-(WEEKDAY(DATE(YEAR(Z21),1,1),2)>4) -> 44 | B24: =NETWORKDAYS.INTL(DATE($A$2,1,1),DATE($A$2,12,31),1,Feries)-BDD!C18&" jours ouvrés travaillables" -> 244 jours ouvrés travaillables | D24: =IF($A$38=1,INT((F24-SUM(MOD(DATE(YEAR(F24-MOD(F24-2,7)+3),1,2),{1E+99;7})*{1;-1})+5)/7),"") | F24: =L23+1 -> 41519 | G24: =F24+1 -> 41520 | H24: =G24+1 -> 41521 | I24: =H24+1 -> 41522 | J24: =I24+1 -> 41523 | K24: =J24+1 -> 41524 | L24: =K24+1 -> 41525 | N24: =IF($A$38=1,INT((P24-SUM(MOD(DATE(YEAR(P24-MOD(P24-2,7)+3),1,2),{1E+99;7})*{1;-1})+5)/7),"") | P24: =V23+1 -> 41554 | Q24: =P24+1 -> 41555 | R24: =Q24+1 -> 41556 | S24: =R24+1 -> 41557 | T24: =S24+1 -> 41558 | U24: =T24+1 -> 41559 | V24: =U24+1 -> 41560 | X24: =IF($A$38=1,INT((Z24-SUM(MOD(DATE(YEAR(Z24-MOD(Z24-2,7)+3),1,2),{1E+99;7})*{1;-1})+5)/7),"") | Z24: =AF23+1 -> 41582 | AA24: =Z24+1 -> 41583 | AB24: =AA24+1 -> 41584 | AC24: =AB24+1 -> 41585 | AD24: =AC24+1 -> 41586 | AE24: =AD24+1 -> 41587 | AF24: =AE24+1 -> 41588 | AH24: =IF($A$38=1,INT((AJ24-SUM(MOD(DATE(YEAR(AJ24-MOD(AJ24-2,7)+3),1,2),{1E+99;7})*{1;-1})+5)/7),"") | AJ24: =AP23+1 -> 41610 | AK24: =AJ24+1 -> 41611 | AL24: =AK24+1 -> 41612 | AM24: =AL24+1 -> 41613 | AN24: =AM24+1 -> 41614 | AO24: =AN24+1 -> 41615 | AP24: =AO24+1 -> 41616 | AR24: =EOMONTH(AR23,0) -> 41547 | AS24: =EOMONTH(AS23,0) -> 41578 | AT24: =EOMONTH(AT23,0) -> 41608 | AU24: =EOMONTH(AU23,0) -> 41639
A25: =WEEKNUM(AJ21,2)-(WEEKDAY(DATE(YEAR(AJ21),1,1),2)>4) -> 48 | B25: =IF(A42=14,BDD!C18+2&" fériés en semaine",BDD!C18&" fériés en semaine") -> 7 fériés en semaine | D25: =IF($A$38=1,INT((F25-SUM(MOD(DATE(YEAR(F25-MOD(F25-2,7)+3),1,2),{1E+99;7})*{1;-1})+5)/7),"") | F25: =L24+1 -> 41526 | G25: =F25+1 -> 41527 | H25: =G25+1 -> 41528 | I25: =H25+1 -> 41529 | J25: =I25+1 -> 41530 | K25: =J25+1 -> 41531 | L25: =K25+1 -> 41532 | N25: =IF($A$38=1,INT((P25-SUM(MOD(DATE(YEAR(P25-MOD(P25-2,7)+3),1,2),{1E+99;7})*{1;-1})+5)/7),"") | P25: =V24+1 -> 41561 | Q25: =P25+1 -> 41562 | R25: =Q25+1 -> 41563 | S25: =R25+1 -> 41564 | T25: =S25+1 -> 41565 | U25: =T25+1 -> 41566 | V25: =U25+1 -> 41567 | X25: =IF($A$38=1,INT((Z25-SUM(MOD(DATE(YEAR(Z25-MOD(Z25-2,7)+3),1,2),{1E+99;7})*{1;-1})+5)/7),"") | Z25: =AF24+1 -> 41589 | AA25: =Z25+1 -> 41590 | AB25: =AA25+1 -> 41591 | AC25: =AB25+1 -> 41592 | AD25: =AC25+1 -> 41593 | AE25: =AD25+1 -> 41594 | AF25: =AE25+1 -> 41595 | AH25: =IF($A$38=1,INT((AJ25-SUM(MOD(DATE(YEAR(AJ25-MOD(AJ25-2,7)+3),1,2),{1E+99;7})*{1;-1})+5)/7),"") | AJ25: =AP24+1 -> 41617 | AK25: =AJ25+1 -> 41618 | AL25: =AK25+1 -> 41619 | AM25: =AL25+1 -> 41620 | AN25: =AM25+1 -> 41621 | AO25: =AN25+1 -> 41622 | AP25: =AO25+1 -> 41623
B26: =BDD!D18&" fériés en week-end" -> 5 fériés en week-end | D26: =IF($A$38=1,INT((F26-SUM(MOD(DATE(YEAR(F26-MOD(F26-2,7)+3),1,2),{1E+99;7})*{1;-1})+5)/7),"") | F26: =L25+1 -> 41533 | G26: =F26+1 -> 41534 | H26: =G26+1 -> 41535 | I26: =H26+1 -> 41536 | J26: =I26+1 -> 41537 | K26: =J26+1 -> 41538 | L26: =K26+1 -> 41539 | N26: =IF($A$38=1,INT((P26-SUM(MOD(DATE(YEAR(P26-MOD(P26-2,7)+3),1,2),{1E+99;7})*{1;-1})+5)/7),"") | P26: =V25+1 -> 41568 | Q26: =P26+1 -> 41569 | R26: =Q26+1 -> 41570 | S26: =R26+1 -> 41571 | T26: =S26+1 -> 41572 | U26: =T26+1 -> 41573 | V26: =U26+1 -> 41574 | X26: =IF($A$38=1,INT((Z26-SUM(MOD(DATE(YEAR(Z26-MOD(Z26-2,7)+3),1,2),{1E+99;7})*{1;-1})+5)/7),"") | Z26: =AF25+1 -> 41596 | AA26: =Z26+1 -> 41597 | AB26: =AA26+1 -> 41598 | AC26: =AB26+1 -> 41599 | AD26: =AC26+1 -> 41600 | AE26: =AD26+1 -> 41601 | AF26: =AE26+1 -> 41602 | AH26: =IF($A$38=1,INT((AJ26-SUM(MOD(DATE(YEAR(AJ26-MOD(AJ26-2,7)+3),1,2),{1E+99;7})*{1;-1})+5)/7),"") | AJ26: =AP25+1 -> 41624 | AK26: =AJ26+1 -> 41625 | AL26: =AK26+1 -> 41626 | AM26: =AL26+1 -> 41627 | AN26: =AM26+1 -> 41628 | AO26: =AN26+1 -> 41629 | AP26: =AO26+1 -> 41630
D27: =IF($A$38=1,INT((F27-SUM(MOD(DATE(YEAR(F27-MOD(F27-2,7)+3),1,2),{1E+99;7})*{1;-1})+5)/7),"") | F27: =L26+1 -> 41540 | G27: =F27+1 -> 41541 | H27: =G27+1 -> 41542 | I27: =H27+1 -> 41543 | J27: =I27+1 -> 41544 | K27: =J27+1 -> 41545 | L27: =K27+1 -> 41546 | N27: =IF($A$38=1,INT((P27-SUM(MOD(DATE(YEAR(P27-MOD(P27-2,7)+3),1,2),{1E+99;7})*{1;-1})+5)/7),"") | P27: =V26+1 -> 41575 | Q27: =P27+1 -> 41576 | R27: =Q27+1 -> 41577 | S27: =R27+1 -> 41578 | T27: =S27+1 -> 41579 | U27: =T27+1 -> 41580 | V27: =U27+1 -> 41581 | X27: =IF($A$38=1,INT((Z27-SUM(MOD(DATE(YEAR(Z27-MOD(Z27-2,7)+3),1,2),{1E+99;7})*{1;-1})+5)/7),"") | Z27: =AF26+1 -> 41603 | AA27: =Z27+1 -> 41604 | AB27: =AA27+1 -> 41605 | AC27: =AB27+1 -> 41606 | AD27: =AC27+1 -> 41607 | AE27: =AD27+1 -> 41608 | AF27: =AE27+1 -> 41609 | AH27: =IF($A$38=1,INT((AJ27-SUM(MOD(DATE(YEAR(AJ27-MOD(AJ27-2,7)+3),1,2),{1E+99;7})*{1;-1})+5)/7),"") | AJ27: =AP26+1 -> 41631 | AK27: =AJ27+1 -> 41632 | AL27: =AK27+1 -> 41633 | AM27: =AL27+1 -> 41634 | AN27: =AM27+1 -> 41635 | AO27: =AN27+1 -> 41636 | AP27: =AO27+1 -> 41637
D28: =IF(OR($A$38=0,F28>DATE($A$2,E22,30)),"",INT((F28-SUM(MOD(DATE(YEAR(F28-MOD(F28-2,7)+3),1,2),{1E+99;7})*{1;-1})+5)/7)) | F28: =L27+1 -> 41547 | G28: =F28+1 -> 41548 | H28: =G28+1 -> 41549 | I28: =H28+1 -> 41550 | J28: =I28+1 -> 41551 | K28: =J28+1 -> 41552 | L28: =K28+1 -> 41553 | N28: =IF(OR($A$38=0,P28>DATE($A$2,O22,31)),"",INT((P28-SUM(MOD(DATE(YEAR(P28-MOD(P28-2,7)+3),1,2),{1E+99;7})*{1;-1})+5)/7)) | P28: =V27+1 -> 41582 | Q28: =P28+1 -> 41583 | R28: =Q28+1 -> 41584 | S28: =R28+1 -> 41585 | T28: =S28+1 -> 41586 | U28: =T28+1 -> 41587 | V28: =U28+1 -> 41588 | X28: =IF(OR($A$38=0,Z28>DATE($A$2,Y22,30)),"",INT((Z28-SUM(MOD(DATE(YEAR(Z28-MOD(Z28-2,7)+3),1,2),{1E+99;7})*{1;-1})+5)/7)) | Z28: =AF27+1 -> 41610 | AA28: =Z28+1 -> 41611 | AB28: =AA28+1 -> 41612 | AC28: =AB28+1 -> 41613 | AD28: =AC28+1 -> 41614 | AE28: =AD28+1 -> 41615 | AF28: =AE28+1 -> 41616 | AH28: =IF(OR($A$38=0,AJ28>DATE($A$2,AI22,31)),"",INT((AJ28-SUM(MOD(DATE(YEAR(AJ28-MOD(AJ28-2,7)+3),1,2),{1E+99;7})*{1;-1})+5)/7)) | AJ28: =AP27+1 -> 41638 | AK28: =AJ28+1 -> 41639 | AL28: =AK28+1 -> 41640 | AM28: =AL28+1 -> 41641 | AN28: =AM28+1 -> 41642 | AO28: =AN28+1 -> 41643 | AP28: =AO28+1 -> 41644
A29: =IF(DATEDIF(DATE($A$2,1,1),DATE($A$2,12,31),"d")>364,29,28) -> 28
A30: JF
A31: =IF(A32=TRUE,1,0) -> 0
A32: FALSE
A33: WE
A34: =IF(A35=TRUE,1,0) -> 0
A35: FALSE
A37: N° semaine
A38: =IF(A39=TRUE,1,0) -> 0
A39: FALSE
A41: fériés alsace
A42: =IF(A43=TRUE,14,12) -> 12
A43: FALSE
...

Sheet BDD
A1: Fériés | B1: =Calendrier!A2 -> 2013 | G1: SAINTS | H1: =YEAR(TODAY()) -> 2013
A2: =DATE(an,1,1) -> 41275 | B2: Jour de l'an | C2: =IF(OR(WEEKDAY(A2,2)=7,WEEKDAY(A2,2)=1),0,1) -> 1 | D2: =IF(OR(WEEKDAY(A2,2)=7,WEEKDAY(A2,2)=1),1,0) -> 0 | E2: =WEEKDAY(A2,2) -> 2 | F2: =WEEKDAY(A2,2) -> 2 | G2: =DATE(H1,1,1) -> 41275 | H2: Jour de l'an | I2: =IF(COUNTIF(Feries,G2)>0,VLOOKUP(G2,$A$2:$B$18,2,0),H2) -> Jour de l'an
A3: =DATE(an,IF((25-MOD((11*MOD(an-1900,19)+4-INT((7*MOD(an-1900,19)+1)/19)),29)-MOD(an-1900+INT((an-1900)/4)+31-MOD((11*MOD(an-1900,19)+4-INT((7*MOD(an-1900,19)+1)/19)),29),7))>0,4,3),IF((25-MOD((11*MOD(an-1900,19)+4-INT((7*MOD(an-1900,19)+1)/19)),29)-MOD(an-1900+INT((an-1900)/4)+31-MOD((11*MOD(an-1900,19)+4-INT((7*MOD(an-1900,19)+1)/19)),29),7))>0,(25-MOD((11*MOD(an-1900,19)+4-INT((7*MOD(an-1900,19)+1)/19)),29)-MOD(an-1900+INT((an-1900)/4)+31-MOD((11*MOD(an-1900,19)+4-INT((7*MOD(an-1900,19)+1)/19)),29),7)),31+(25-MOD((11*MOD(an-1900,19)+4-INT((7*MOD(an-1900,19)+1)/19)),29)-MOD(an-1900+INT((an-1900)/4)+31-MOD((11*MOD(an-1900,19)+4-INT((7*MOD(an-1900,19)+1)/19)),29),7)))) -> 41364 | B3: Pâques | C3: =IF(OR(WEEKDAY(A3,2)=7,WEEKDAY(A3,2)=1),0,1) -> 0 | D3: =IF(OR(WEEKDAY(A3,2)=7,WEEKDAY(A3,2)=1),1,0) -> 1 | E3: =WEEKDAY(A3,2) -> 7 | F3: =WEEKDAY(A3,2) -> 7 | G3: =G2+1 -> 41276 | H3: Basile | I3: =IF(COUNTIF(Feries,G3)>0,VLOOKUP(G3,$A$2:$B$18,2,0),H3) -> Basile
A4: =Pâques+1 -> 41365 | B4: Lundi de Pâques | C4: =IF(OR(WEEKDAY(A4,2)=7,WEEKDAY(A4,2)=1),0,1) -> 0 | D4: =IF(OR(WEEKDAY(A4,2)=7,WEEKDAY(A4,2)=1),1,0) -> 1 | E4: =WEEKDAY(A4,2) -> 1 | F4: =WEEKDAY(A4,2) -> 1 | G4: =G3+1 -> 41277 | H4: Geneviève | I4: =IF(COUNTIF(Feries,G4)>0,VLOOKUP(G4,$A$2:$B$18,2,0),H4) -> Geneviève
A5: =DATE(an,5,1) -> 41395 | B5: Fête du travail | C5: =IF(OR(WEEKDAY(A5,2)=7,WEEKDAY(A5,2)=1),0,1) -> 1 | D5: =IF(OR(WEEKDAY(A5,2)=7,WEEKDAY(A5,2)=1),1,0) -> 0 | E5: =WEEKDAY(A5,2) -> 3 | F5: =WEEKDAY(A5,2) -> 3 | G5: =G4+1 -> 41278 | H5: Odilon | I5: =IF(COUNTIF(Feries,G5)>0,VLOOKUP(G5,$A$2:$B$18,2,0),H5) -> Odilon
A6: =DATE(an,5,8) -> 41402 | B6: Victoire 1945 | C6: =IF(OR(WEEKDAY(A6,2)=7,WEEKDAY(A6,2)=1),0,1) -> 1 | D6: =IF(OR(WEEKDAY(A6,2)=7,WEEKDAY(A6,2)=1),1,0) -> 0 | E6: =WEEKDAY(A6,2) -> 3 | F6: =WEEKDAY(A6,2) -> 3 | G6: =G5+1 -> 41279 | H6: Edouard | I6: =IF(COUNTIF(Feries,G6)>0,VLOOKUP(G6,$A$2:$B$18,2,0),H6) -> Edouard
A7: =Pâques+39 -> 41403 | B7: Ascension | C7: =IF(OR(WEEKDAY(A7,2)=7,WEEKDAY(A7,2)=1),0,1) -> 1 | D7: =IF(OR(WEEKDAY(A7,2)=7,WEEKDAY(A7,2)=1),1,0) -> 0 | E7: =WEEKDAY(A7,2) -> 4 | F7: =WEEKDAY(A7,2) -> 4 | G7: =G6+1 -> 41280 | H7: Mélaine | I7: =IF(COUNTIF(Feries,G7)>0,VLOOKUP(G7,$A$2:$B$18,2,0),H7) -> Mélaine
A8: =Pâques+50 -> 41414 | B8: Pentecôte | C8: =IF(OR(WEEKDAY(A8,2)=7,WEEKDAY(A8,2)=1),0,1) -> 0 | D8: =IF(OR(WEEKDAY(A8,2)=7,WEEKDAY(A8,2)=1),1,0) -> 1 | E8: =WEEKDAY(A8,2) -> 1 | F8: =WEEKDAY(A8,2) -> 1 | G8: =G7+1 -> 41281 | H8: Raymond | I8: =IF(COUNTIF(Feries,G8)>0,VLOOKUP(G8,$A$2:$B$18,2,0),H8) -> Raymond
A9: =DATE(an,7,14) -> 41469 | B9: Fête nationale | C9: =IF(OR(WEEKDAY(A9,2)=7,WEEKDAY(A9,2)=1),0,1) -> 0 | D9: =IF(OR(WEEKDAY(A9,2)=7,WEEKDAY(A9,2)=1),1,0) -> 1 | E9: =WEEKDAY(A9,2) -> 7 | F9: =WEEKDAY(A9,2) -> 7 | G9: =G8+1 -> 41282 | H9: Lucien | I9: =IF(COUNTIF(Feries,G9)>0,VLOOKUP(G9,$A$2:$B$18,2,0),H9) -> Lucien
A10: =DATE(an,8,15) -> 41501 | B10: Assomption | C10: =IF(OR(WEEKDAY(A10,2)=7,WEEKDAY(A10,2)=1),0,1) -> 1 | D10: =IF(OR(WEEKDAY(A10,2)=7,WEEKDAY(A10,2)=1),1,0) -> 0 | E10: =WEEKDAY(A10,2) -> 4 | F10: =WEEKDAY(A10,2) -> 4 | G10: =G9+1 -> 41283 | H10: Alix | I10: =IF(COUNTIF(Feries,G10)>0,VLOOKUP(G10,$A$2:$B$18,2,0),H10) -> Alix
A11: =DATE(an,11,1) -> 41579 | B11: Toussaint | C11: =IF(OR(WEEKDAY(A11,2)=7,WEEKDAY(A11,2)=1),0,1) -> 1 | D11: =IF(OR(WEEKDAY(A11,2)=7,WEEKDAY(A11,2)=1),1,0) -> 0 | E11: =WEEKDAY(A11,2) -> 5 | F11: =WEEKDAY(A11,2) -> 5 | G11: =G10+1 -> 41284 | H11: Guillaume | I11: =IF(COUNTIF(Feries,G11)>0,VLOOKUP(G11,$A$2:$B$18,2,0),H11) -> Guillaume
A12: =DATE(an,11,11) -> 41589 | B12: Armistice | C12: =IF(OR(WEEKDAY(A12,2)=7,WEEKDAY(A12,2)=1),0,1) -> 0 | D12: =IF(OR(WEEKDAY(A12,2)=7,WEEKDAY(A12,2)=1),1,0) -> 1 | E12: =WEEKDAY(A12,2) -> 1 | F12: =WEEKDAY(A12,2) -> 1 | G12: =G11+1 -> 41285 | H12: Paulin | I12: =IF(COUNTIF(Feries,G12)>0,VLOOKUP(G12,$A$2:$B$18,2,0),H12) -> Paulin
A13: =DATE(an,12,25) -> 41633 | B13: Noël | C13: =IF(OR(WEEKDAY(A13,2)=7,WEEKDAY(A13,2)=1),0,1) -> 1 | D13: =IF(OR(WEEKDAY(A13,2)=7,WEEKDAY(A13,2)=1),1,0) -> 0 | E13: =WEEKDAY(A13,2) -> 3 | F13: =WEEKDAY(A13,2) -> 3 | G13: =G12+1 -> 41286 | H13: Tatiana | I13: =IF(COUNTIF(Feries,G13)>0,VLOOKUP(G13,$A$2:$B$18,2,0),H13) -> Tatiana
A14: =DATE(an,12,26) -> 41634 | B14: St Etienne | G14: =G13+1 -> 41287 | H14: Yvette | I14: =IF(COUNTIF(Feries,G14)>0,VLOOKUP(G14,$A$2:$B$18,2,0),H14) -> Yvette
A15: =A4-3 -> 41362 | B15: Vendredi Saint | G15: =G14+1 -> 41288 | H15: Nina | I15: =IF(COUNTIF(Feries,G15)>0,VLOOKUP(G15,$A$2:$B$18,2,0),H15) -> Nina
G16: =G15+1 -> 41289 | H16: Rémi | I16: =IF(COUNTIF(Feries,G16)>0,VLOOKUP(G16,$A$2:$B$18,2,0),H16) -> Rémi
G17: =G16+1 -> 41290 | H17: Marcel | I17: =IF(COUNTIF(Feries,G17)>0,VLOOKUP(G17,$A$2:$B$18,2,0),H17) -> Marcel
C18: =SUM(C2:C17) -> 7 | D18: =SUM(D2:D17) -> 5 | G18: =G17+1 -> 41291 | H18: Roseline | I18: =IF(COUNTIF(Feries,G18)>0,VLOOKUP(G18,$A$2:$B$18,2,0),H18) -> Roseline
G19: =G18+1 -> 41292 | H19: Prisca | I19: =IF(COUNTIF(Feries,G19)>0,VLOOKUP(G19,$A$2:$B$18,2,0),H19) -> Prisca
G20: =G19+1 -> 41293 | H20: Marius | I20: =IF(COUNTIF(Feries,G20)>0,VLOOKUP(G20,$A$2:$B$18,2,0),H20) -> Marius
G21: =G20+1 -> 41294 | H21: Sébastien | I21: =IF(COUNTIF(Feries,G21)>0,VLOOKUP(G21,$A$2:$B$18,2,0),H21) -> Sébastien
G22: =G21+1 -> 41295 | H22: Agnès | I22: =IF(COUNTIF(Feries,G22)>0,VLOOKUP(G22,$A$2:$B$18,2,0),H22) -> Agnès
G23: =G22+1 -> 41296 | H23: Vincent | I23: =IF(COUNTIF(Feries,G23)>0,VLOOKUP(G23,$A$2:$B$18,2,0),H23) -> Vincent
G24: =G23+1 -> 41297 | H24: Barnard | I24: =IF(COUNTIF(Feries,G24)>0,VLOOKUP(G24,$A$2:$B$18,2,0),H24) -> Barnard
G25: =G24+1 -> 41298 | H25: François de Salle | I25: =IF(COUNTIF(Feries,G25)>0,VLOOKUP(G25,$A$2:$B$18,2,0),H25) -> François de Salle
G26: =G25+1 -> 41299 | H26: Paul | I26: =IF(COUNTIF(Feries,G26)>0,VLOOKUP(G26,$A$2:$B$18,2,0),H26) -> Paul
G27: =G26+1 -> 41300 | H27: Paule | I27: =IF(COUNTIF(Feries,G27)>0,VLOOKUP(G27,$A$2:$B$18,2,0),H27) -> Paule
G28: =G27+1 -> 41301 | H28: Angèle | I28: =IF(COUNTIF(Feries,G28)>0,VLOOKUP(G28,$A$2:$B$18,2,0),H28) -> Angèle
G29: =G28+1 -> 41302 | H29: Thérèse | I29: =IF(COUNTIF(Feries,G29)>0,VLOOKUP(G29,$A$2:$B$18,2,0),H29) -> Thérèse
G30: =G29+1 -> 41303 | H30: Gildas | I30: =IF(COUNTIF(Feries,G30)>0,VLOOKUP(G30,$A$2:$B$18,2,0),H30) -> Gildas
... G366: =G365+1 -> 41639 | H366: Sylvestre | I366: =IF(COUNTIF(Feries,G366)>0,VLOOKUP(G366,$A$2:$B$18,2,0),H366) -> Sylvestre
