Workbook

Sheet Feuil1
A1: http://forum.excel-pratique.com/excel/filtres-elabores-avec-cellule-vides-t44075.html | I1: 1
A6: =OFFSET(Feuil3!C6,MATCH(Feuil1!D11,Feuil3!B7:B12,0),,,) -> 1893
D7: Villes :
A9: annee | B9: mois
A11: annee | B11: mois | C11: jour | D11: =VLOOKUP(I1,Feuil3!A7:C81,2,0) -> Le Grand Sambuc
A12: =IFERROR(INDEX(Feuil2!A$10:A$31,SMALL(Feuil2!$M$10:$M$31,COUNTIF(Feuil2!$M$10:$M$31,0)+ROW()-11)-9,0),"") -> 1881 | B12: =IFERROR(INDEX(Feuil2!B$10:B$31,SMALL(Feuil2!$M$10:$M$31,COUNTIF(Feuil2!$M$10:$M$31,0)+ROW()-11)-9,0),"") -> 12 | C12: =IFERROR(INDEX(Feuil2!C$10:C$31,SMALL(Feuil2!$M$10:$M$31,COUNTIF(Feuil2!$M$10:$M$31,0)+ROW()-11)-9,0),"") -> 11 | D12: =IFERROR(INDEX(OFFSET(INDEX(Feuil2!$D$9:$I$9,MATCH(Feuil1!$D$11,Feuil2!$D$9:$I$9,0)),1,,COUNTA(Feuil2!$C$10:$C$35)),SMALL(Feuil2!$M$9:$M$39,COUNTIF(Feuil2!$M$9:$M$39,0)+ROW()-11)-9,0),"") -> 27
A13: =IFERROR(INDEX(Feuil2!A$10:A$31,SMALL(Feuil2!$M$10:$M$31,COUNTIF(Feuil2!$M$10:$M$31,0)+ROW()-11)-9,0),"") -> 1881 | B13: =IFERROR(INDEX(Feuil2!B$10:B$31,SMALL(Feuil2!$M$10:$M$31,COUNTIF(Feuil2!$M$10:$M$31,0)+ROW()-11)-9,0),"") -> 12 | C13: =IFERROR(INDEX(Feuil2!C$10:C$31,SMALL(Feuil2!$M$10:$M$31,COUNTIF(Feuil2!$M$10:$M$31,0)+ROW()-11)-9,0),"") -> 12 | D13: =IFERROR(INDEX(OFFSET(INDEX(Feuil2!$D$9:$I$9,MATCH(Feuil1!$D$11,Feuil2!$D$9:$I$9,0)),1,,COUNTA(Feuil2!$C$10:$C$35)),SMALL(Feuil2!$M$9:$M$39,COUNTIF(Feuil2!$M$9:$M$39,0)+ROW()-11)-9,0),"") -> 24
A14: =IFERROR(INDEX(Feuil2!A$10:A$31,SMALL(Feuil2!$M$10:$M$31,COUNTIF(Feuil2!$M$10:$M$31,0)+ROW()-11)-9,0),"") -> 1881 | B14: =IFERROR(INDEX(Feuil2!B$10:B$31,SMALL(Feuil2!$M$10:$M$31,COUNTIF(Feuil2!$M$10:$M$31,0)+ROW()-11)-9,0),"") -> 12 | C14: =IFERROR(INDEX(Feuil2!C$10:C$31,SMALL(Feuil2!$M$10:$M$31,COUNTIF(Feuil2!$M$10:$M$31,0)+ROW()-11)-9,0),"") -> 17 | D14: =IFERROR(INDEX(OFFSET(INDEX(Feuil2!$D$9:$I$9,MATCH(Feuil1!$D$11,Feuil2!$D$9:$I$9,0)),1,,COUNTA(Feuil2!$C$10:$C$35)),SMALL(Feuil2!$M$9:$M$39,COUNTIF(Feuil2!$M$9:$M$39,0)+ROW()-11)-9,0),"") -> 1
A15: =IFERROR(INDEX(Feuil2!A$10:A$31,SMALL(Feuil2!$M$10:$M$31,COUNTIF(Feuil2!$M$10:$M$31,0)+ROW()-11)-9,0),"") -> 1881 | B15: =IFERROR(INDEX(Feuil2!B$10:B$31,SMALL(Feuil2!$M$10:$M$31,COUNTIF(Feuil2!$M$10:$M$31,0)+ROW()-11)-9,0),"") -> 12 | C15: =IFERROR(INDEX(Feuil2!C$10:C$31,SMALL(Feuil2!$M$10:$M$31,COUNTIF(Feuil2!$M$10:$M$31,0)+ROW()-11)-9,0),"") -> 18 | D15: =IFERROR(INDEX(OFFSET(INDEX(Feuil2!$D$9:$I$9,MATCH(Feuil1!$D$11,Feuil2!$D$9:$I$9,0)),1,,COUNTA(Feuil2!$C$10:$C$35)),SMALL(Feuil2!$M$9:$M$39,COUNTIF(Feuil2!$M$9:$M$39,0)+ROW()-11)-9,0),"") -> 1
A16: =IFERROR(INDEX(Feuil2!A$10:A$31,SMALL(Feuil2!$M$10:$M$31,COUNTIF(Feuil2!$M$10:$M$31,0)+ROW()-11)-9,0),"") -> 1881 | B16: =IFERROR(INDEX(Feuil2!B$10:B$31,SMALL(Feuil2!$M$10:$M$31,COUNTIF(Feuil2!$M$10:$M$31,0)+ROW()-11)-9,0),"") -> 12 | C16: =IFERROR(INDEX(Feuil2!C$10:C$31,SMALL(Feuil2!$M$10:$M$31,COUNTIF(Feuil2!$M$10:$M$31,0)+ROW()-11)-9,0),"") -> 20 | D16: =IFERROR(INDEX(OFFSET(INDEX(Feuil2!$D$9:$I$9,MATCH(Feuil1!$D$11,Feuil2!$D$9:$I$9,0)),1,,COUNTA(Feuil2!$C$10:$C$35)),SMALL(Feuil2!$M$9:$M$39,COUNTIF(Feuil2!$M$9:$M$39,0)+ROW()-11)-9,0),"") -> 1
A17: =IFERROR(INDEX(Feuil2!A$10:A$31,SMALL(Feuil2!$M$10:$M$31,COUNTIF(Feuil2!$M$10:$M$31,0)+ROW()-11)-9,0),"") -> 1881 | B17: =IFERROR(INDEX(Feuil2!B$10:B$31,SMALL(Feuil2!$M$10:$M$31,COUNTIF(Feuil2!$M$10:$M$31,0)+ROW()-11)-9,0),"") -> 12 | C17: =IFERROR(INDEX(Feuil2!C$10:C$31,SMALL(Feuil2!$M$10:$M$31,COUNTIF(Feuil2!$M$10:$M$31,0)+ROW()-11)-9,0),"") -> 21 | D17: =IFERROR(INDEX(OFFSET(INDEX(Feuil2!$D$9:$I$9,MATCH(Feuil1!$D$11,Feuil2!$D$9:$I$9,0)),1,,COUNTA(Feuil2!$C$10:$C$35)),SMALL(Feuil2!$M$9:$M$39,COUNTIF(Feuil2!$M$9:$M$39,0)+ROW()-11)-9,0),"") -> 3
A18: =IFERROR(INDEX(Feuil2!A$10:A$31,SMALL(Feuil2!$M$10:$M$31,COUNTIF(Feuil2!$M$10:$M$31,0)+ROW()-11)-9,0),"") -> 1881 | B18: =IFERROR(INDEX(Feuil2!B$10:B$31,SMALL(Feuil2!$M$10:$M$31,COUNTIF(Feuil2!$M$10:$M$31,0)+ROW()-11)-9,0),"") -> 12 | C18: =IFERROR(INDEX(Feuil2!C$10:C$31,SMALL(Feuil2!$M$10:$M$31,COUNTIF(Feuil2!$M$10:$M$31,0)+ROW()-11)-9,0),"") -> 23 | D18: =IFERROR(INDEX(OFFSET(INDEX(Feuil2!$D$9:$I$9,MATCH(Feuil1!$D$11,Feuil2!$D$9:$I$9,0)),1,,COUNTA(Feuil2!$C$10:$C$35)),SMALL(Feuil2!$M$9:$M$39,COUNTIF(Feuil2!$M$9:$M$39,0)+ROW()-11)-9,0),"") -> 18
A19: =IFERROR(INDEX(Feuil2!A$10:A$31,SMALL(Feuil2!$M$10:$M$31,COUNTIF(Feuil2!$M$10:$M$31,0)+ROW()-11)-9,0),"") -> 1881 | B19: =IFERROR(INDEX(Feuil2!B$10:B$31,SMALL(Feuil2!$M$10:$M$31,COUNTIF(Feuil2!$M$10:$M$31,0)+ROW()-11)-9,0),"") -> 12 | C19: =IFERROR(INDEX(Feuil2!C$10:C$31,SMALL(Feuil2!$M$10:$M$31,COUNTIF(Feuil2!$M$10:$M$31,0)+ROW()-11)-9,0),"") -> 31 | D19: =IFERROR(INDEX(OFFSET(INDEX(Feuil2!$D$9:$I$9,MATCH(Feuil1!$D$11,Feuil2!$D$9:$I$9,0)),1,,COUNTA(Feuil2!$C$10:$C$35)),SMALL(Feuil2!$M$9:$M$39,COUNTIF(Feuil2!$M$9:$M$39,0)+ROW()-11)-9,0),"") -> 4
A20: =IFERROR(INDEX(Feuil2!A$10:A$31,SMALL(Feuil2!$M$10:$M$31,COUNTIF(Feuil2!$M$10:$M$31,0)+ROW()-11)-9,0),"") -> 1882 | B20: =IFERROR(INDEX(Feuil2!B$10:B$31,SMALL(Feuil2!$M$10:$M$31,COUNTIF(Feuil2!$M$10:$M$31,0)+ROW()-11)-9,0),"") -> 1 | C20: =IFERROR(INDEX(Feuil2!C$10:C$31,SMALL(Feuil2!$M$10:$M$31,COUNTIF(Feuil2!$M$10:$M$31,0)+ROW()-11)-9,0),"") -> 1 | D20: =IFERROR(INDEX(OFFSET(INDEX(Feuil2!$D$9:$I$9,MATCH(Feuil1!$D$11,Feuil2!$D$9:$I$9,0)),1,,COUNTA(Feuil2!$C$10:$C$35)),SMALL(Feuil2!$M$9:$M$39,COUNTIF(Feuil2!$M$9:$M$39,0)+ROW()-11)-9,0),"") -> 31
A21: =IFERROR(INDEX(Feuil2!A$10:A$31,SMALL(Feuil2!$M$10:$M$31,COUNTIF(Feuil2!$M$10:$M$31,0)+ROW()-11)-9,0),"") -> 1882 | B21: =IFERROR(INDEX(Feuil2!B$10:B$31,SMALL(Feuil2!$M$10:$M$31,COUNTIF(Feuil2!$M$10:$M$31,0)+ROW()-11)-9,0),"") -> 1 | C21: =IFERROR(INDEX(Feuil2!C$10:C$31,SMALL(Feuil2!$M$10:$M$31,COUNTIF(Feuil2!$M$10:$M$31,0)+ROW()-11)-9,0),"") -> 4 | D21: =IFERROR(INDEX(OFFSET(INDEX(Feuil2!$D$9:$I$9,MATCH(Feuil1!$D$11,Feuil2!$D$9:$I$9,0)),1,,COUNTA(Feuil2!$C$10:$C$35)),SMALL(Feuil2!$M$9:$M$39,COUNTIF(Feuil2!$M$9:$M$39,0)+ROW()-11)-9,0),"") -> 18
A22: =IFERROR(INDEX(Feuil2!A$10:A$31,SMALL(Feuil2!$M$10:$M$31,COUNTIF(Feuil2!$M$10:$M$31,0)+ROW()-11)-9,0),"") -> 1882 | B22: =IFERROR(INDEX(Feuil2!B$10:B$31,SMALL(Feuil2!$M$10:$M$31,COUNTIF(Feuil2!$M$10:$M$31,0)+ROW()-11)-9,0),"") -> 1 | C22: =IFERROR(INDEX(Feuil2!C$10:C$31,SMALL(Feuil2!$M$10:$M$31,COUNTIF(Feuil2!$M$10:$M$31,0)+ROW()-11)-9,0),"") -> 5 | D22: =IFERROR(INDEX(OFFSET(INDEX(Feuil2!$D$9:$I$9,MATCH(Feuil1!$D$11,Feuil2!$D$9:$I$9,0)),1,,COUNTA(Feuil2!$C$10:$C$35)),SMALL(Feuil2!$M$9:$M$39,COUNTIF(Feuil2!$M$9:$M$39,0)+ROW()-11)-9,0),"") -> 14
A23: =IFERROR(INDEX(Feuil2!A$10:A$31,SMALL(Feuil2!$M$10:$M$31,COUNTIF(Feuil2!$M$10:$M$31,0)+ROW()-11)-9,0),"") -> 1882 | B23: =IFERROR(INDEX(Feuil2!B$10:B$31,SMALL(Feuil2!$M$10:$M$31,COUNTIF(Feuil2!$M$10:$M$31,0)+ROW()-11)-9,0),"") -> 2 | C23: =IFERROR(INDEX(Feuil2!C$10:C$31,SMALL(Feuil2!$M$10:$M$31,COUNTIF(Feuil2!$M$10:$M$31,0)+ROW()-11)-9,0),"") -> 27 | D23: =IFERROR(INDEX(OFFSET(INDEX(Feuil2!$D$9:$I$9,MATCH(Feuil1!$D$11,Feuil2!$D$9:$I$9,0)),1,,COUNTA(Feuil2!$C$10:$C$35)),SMALL(Feuil2!$M$9:$M$39,COUNTIF(Feuil2!$M$9:$M$39,0)+ROW()-11)-9,0),"") -> 13
A24: =IFERROR(INDEX(Feuil2!A$10:A$31,SMALL(Feuil2!$M$10:$M$31,COUNTIF(Feuil2!$M$10:$M$31,0)+ROW()-11)-9,0),"") | B24: =IFERROR(INDEX(Feuil2!B$10:B$31,SMALL(Feuil2!$M$10:$M$31,COUNTIF(Feuil2!$M$10:$M$31,0)+ROW()-11)-9,0),"") | C24: =IFERROR(INDEX(Feuil2!C$10:C$31,SMALL(Feuil2!$M$10:$M$31,COUNTIF(Feuil2!$M$10:$M$31,0)+ROW()-11)-9,0),"") | D24: =IFERROR(INDEX(OFFSET(INDEX(Feuil2!$D$9:$I$9,MATCH(Feuil1!$D$11,Feuil2!$D$9:$I$9,0)),1,,COUNTA(Feuil2!$C$10:$C$35)),SMALL(Feuil2!$M$9:$M$39,COUNTIF(Feuil2!$M$9:$M$39,0)+ROW()-11)-9,0),"")

Sheet Feuil2
M8: =COUNTIF(M10:M31,">0") -> 12
A9: annee | B9: mois | C9: jour | D9: Le Grand Sambuc | E9: Saint-Antonin | F9: Venelles | G9: Rognes | H9: Gréasque | I9: Les Taillades
A10: 1881 | B10: 12 | C10: 10 | M10: =IF(AND(OR(Feuil2!A10=Feuil1!$A$10,Feuil1!$A$10=""),OR(Feuil2!B10=Feuil1!$B$10,Feuil1!$B$10=""),ISNUMBER(OFFSET(INDEX($D$9:$I$9,MATCH(Feuil1!$D$11,Feuil2!$D$9:$I$9,0)),ROW()-9,,,))),ROW(),0) -> 0 | O10: {=INDEX(A10:A32,MIN(IF(A10:A32<>"",IF(COUNTIF(O$9:O9,A10:A32)=0,ROW(INDIRECT("1:"&ROWS(A10:A32))),ROWS(A10:A32)))))} -> 1881 | P10: =IF(AND(A10=Feuil1!$A$10,M10<>0),ROW(),0) -> 0 | Q10: =IF(ISERROR(INDEX($B$10:$B$31,SMALL($P$10:$P$31,COUNTIF($P$10:$P$31,0)+ROW()-9)-9,0)),0,INDEX($B$10:$B$31,SMALL($P$10:$P$31,COUNTIF($P$10:$P$31,0)+ROW()-9)-9,0)) -> 0 | R10: {=INDEX($Q$10:$Q$31,MIN(IF($Q$10:$Q$31<>"",IF(COUNTIF(R$9:R9,$Q$10:$Q$31)=0,ROW(INDIRECT("1:"&ROWS($Q$10:$Q$31))),ROWS($Q$10:$Q$31)))))} -> 0
A11: 1881 | B11: 12 | C11: 11 | D11: 27 | E11: 30 | F11: 30 | G11: 18 | H11: 40 | I11: 40 | M11: =IF(AND(OR(Feuil2!A11=Feuil1!$A$10,Feuil1!$A$10=""),OR(Feuil2!B11=Feuil1!$B$10,Feuil1!$B$10=""),ISNUMBER(OFFSET(INDEX($D$9:$I$9,MATCH(Feuil1!$D$11,Feuil2!$D$9:$I$9,0)),ROW()-9,,,))),ROW(),0) -> 11 | O11: {=INDEX(A11:A33,MIN(IF(A11:A33<>"",IF(COUNTIF(O$9:O10,A11:A33)=0,ROW(INDIRECT("1:"&ROWS(A11:A33))),ROWS(A11:A33)))))} -> 1882 | P11: =IF(AND(A11=Feuil1!$A$10,M11<>0),ROW(),0) -> 0 | Q11: =IF(ISERROR(INDEX($B$10:$B$31,SMALL($P$10:$P$31,COUNTIF($P$10:$P$31,0)+ROW()-9)-9,0)),0,INDEX($B$10:$B$31,SMALL($P$10:$P$31,COUNTIF($P$10:$P$31,0)+ROW()-9)-9,0)) -> 0 | R11: {=INDEX($Q$10:$Q$31,MIN(IF($Q$10:$Q$31<>"",IF(COUNTIF(R$9:R10,$Q$10:$Q$31)=0,ROW(INDIRECT("1:"&ROWS($Q$10:$Q$31))),ROWS($Q$10:$Q$31)))))} -> 0
A12: 1881 | B12: 12 | C12: 12 | D12: 24 | E12: 5 | F12: 7 | G12: 12 | H12: 9 | I12: 6 | M12: =IF(AND(OR(Feuil2!A12=Feuil1!$A$10,Feuil1!$A$10=""),OR(Feuil2!B12=Feuil1!$B$10,Feuil1!$B$10=""),ISNUMBER(OFFSET(INDEX($D$9:$I$9,MATCH(Feuil1!$D$11,Feuil2!$D$9:$I$9,0)),ROW()-9,,,))),ROW(),0) -> 12 | O12: {=INDEX(A12:A34,MIN(IF(A12:A34<>"",IF(COUNTIF(O$9:O11,A12:A34)=0,ROW(INDIRECT("1:"&ROWS(A12:A34))),ROWS(A12:A34)))))} -> 0 | P12: =IF(AND(A12=Feuil1!$A$10,M12<>0),ROW(),0) -> 0 | Q12: =IF(ISERROR(INDEX($B$10:$B$31,SMALL($P$10:$P$31,COUNTIF($P$10:$P$31,0)+ROW()-9)-9,0)),0,INDEX($B$10:$B$31,SMALL($P$10:$P$31,COUNTIF($P$10:$P$31,0)+ROW()-9)-9,0)) -> 0 | R12: {=INDEX($Q$10:$Q$31,MIN(IF($Q$10:$Q$31<>"",IF(COUNTIF(R$9:R11,$Q$10:$Q$31)=0,ROW(INDIRECT("1:"&ROWS($Q$10:$Q$31))),ROWS($Q$10:$Q$31)))))} -> 0
A13: 1881 | B13: 12 | C13: 17 | D13: 1 | F13: 3 | G13: 2 | H13: 2 | M13: =IF(AND(OR(Feuil2!A13=Feuil1!$A$10,Feuil1!$A$10=""),OR(Feuil2!B13=Feuil1!$B$10,Feuil1!$B$10=""),ISNUMBER(OFFSET(INDEX($D$9:$I$9,MATCH(Feuil1!$D$11,Feuil2!$D$9:$I$9,0)),ROW()-9,,,))),ROW(),0) -> 13 | O13: {=INDEX(A13:A35,MIN(IF(A13:A35<>"",IF(COUNTIF(O$9:O12,A13:A35)=0,ROW(INDIRECT("1:"&ROWS(A13:A35))),ROWS(A13:A35)))))} -> 0 | P13: =IF(AND(A13=Feuil1!$A$10,M13<>0),ROW(),0) -> 0 | Q13: =IF(ISERROR(INDEX($B$10:$B$31,SMALL($P$10:$P$31,COUNTIF($P$10:$P$31,0)+ROW()-9)-9,0)),0,INDEX($B$10:$B$31,SMALL($P$10:$P$31,COUNTIF($P$10:$P$31,0)+ROW()-9)-9,0)) -> 0 | R13: {=INDEX($Q$10:$Q$31,MIN(IF($Q$10:$Q$31<>"",IF(COUNTIF(R$9:R12,$Q$10:$Q$31)=0,ROW(INDIRECT("1:"&ROWS($Q$10:$Q$31))),ROWS($Q$10:$Q$31)))))} -> 0
A14: 1881 | B14: 12 | C14: 18 | D14: 1 | M14: =IF(AND(OR(Feuil2!A14=Feuil1!$A$10,Feuil1!$A$10=""),OR(Feuil2!B14=Feuil1!$B$10,Feuil1!$B$10=""),ISNUMBER(OFFSET(INDEX($D$9:$I$9,MATCH(Feuil1!$D$11,Feuil2!$D$9:$I$9,0)),ROW()-9,,,))),ROW(),0) -> 14 | O14: {=INDEX(A14:A36,MIN(IF(A14:A36<>"",IF(COUNTIF(O$9:O13,A14:A36)=0,ROW(INDIRECT("1:"&ROWS(A14:A36))),ROWS(A14:A36)))))} -> 0 | P14: =IF(AND(A14=Feuil1!$A$10,M14<>0),ROW(),0) -> 0 | Q14: =IF(ISERROR(INDEX($B$10:$B$31,SMALL($P$10:$P$31,COUNTIF($P$10:$P$31,0)+ROW()-9)-9,0)),0,INDEX($B$10:$B$31,SMALL($P$10:$P$31,COUNTIF($P$10:$P$31,0)+ROW()-9)-9,0)) -> 0 | R14: {=INDEX($Q$10:$Q$31,MIN(IF($Q$10:$Q$31<>"",IF(COUNTIF(R$9:R13,$Q$10:$Q$31)=0,ROW(INDIRECT("1:"&ROWS($Q$10:$Q$31))),ROWS($Q$10:$Q$31)))))} -> 0
A15: 1881 | B15: 12 | C15: 19 | M15: =IF(AND(OR(Feuil2!A15=Feuil1!$A$10,Feuil1!$A$10=""),OR(Feuil2!B15=Feuil1!$B$10,Feuil1!$B$10=""),ISNUMBER(OFFSET(INDEX($D$9:$I$9,MATCH(Feuil1!$D$11,Feuil2!$D$9:$I$9,0)),ROW()-9,,,))),ROW(),0) -> 0 | P15: =IF(AND(A15=Feuil1!$A$10,M15<>0),ROW(),0) -> 0 | Q15: =IF(ISERROR(INDEX($B$10:$B$31,SMALL($P$10:$P$31,COUNTIF($P$10:$P$31,0)+ROW()-9)-9,0)),0,INDEX($B$10:$B$31,SMALL($P$10:$P$31,COUNTIF($P$10:$P$31,0)+ROW()-9)-9,0)) -> 0
A16: 1881 | B16: 12 | C16: 20 | D16: 1 | F16: 2 | H16: 2 | M16: =IF(AND(OR(Feuil2!A16=Feuil1!$A$10,Feuil1!$A$10=""),OR(Feuil2!B16=Feuil1!$B$10,Feuil1!$B$10=""),ISNUMBER(OFFSET(INDEX($D$9:$I$9,MATCH(Feuil1!$D$11,Feuil2!$D$9:$I$9,0)),ROW()-9,,,))),ROW(),0) -> 16 | P16: =IF(AND(A16=Feuil1!$A$10,M16<>0),ROW(),0) -> 0 | Q16: =IF(ISERROR(INDEX($B$10:$B$31,SMALL($P$10:$P$31,COUNTIF($P$10:$P$31,0)+ROW()-9)-9,0)),0,INDEX($B$10:$B$31,SMALL($P$10:$P$31,COUNTIF($P$10:$P$31,0)+ROW()-9)-9,0)) -> 0
A17: 1881 | B17: 12 | C17: 21 | D17: 3 | E17: 4 | F17: 5 | H17: 1 | M17: =IF(AND(OR(Feuil2!A17=Feuil1!$A$10,Feuil1!$A$10=""),OR(Feuil2!B17=Feuil1!$B$10,Feuil1!$B$10=""),ISNUMBER(OFFSET(INDEX($D$9:$I$9,MATCH(Feuil1!$D$11,Feuil2!$D$9:$I$9,0)),ROW()-9,,,))),ROW(),0) -> 17 | P17: =IF(AND(A17=Feuil1!$A$10,M17<>0),ROW(),0) -> 0 | Q17: =IF(ISERROR(INDEX($B$10:$B$31,SMALL($P$10:$P$31,COUNTIF($P$10:$P$31,0)+ROW()-9)-9,0)),0,INDEX($B$10:$B$31,SMALL($P$10:$P$31,COUNTIF($P$10:$P$31,0)+ROW()-9)-9,0)) -> 0
A18: 1881 | B18: 12 | C18: 22 | F18: 21 | M18: =IF(AND(OR(Feuil2!A18=Feuil1!$A$10,Feuil1!$A$10=""),OR(Feuil2!B18=Feuil1!$B$10,Feuil1!$B$10=""),ISNUMBER(OFFSET(INDEX($D$9:$I$9,MATCH(Feuil1!$D$11,Feuil2!$D$9:$I$9,0)),ROW()-9,,,))),ROW(),0) -> 0 | P18: =IF(AND(A18=Feuil1!$A$10,M18<>0),ROW(),0) -> 0 | Q18: =IF(ISERROR(INDEX($B$10:$B$31,SMALL($P$10:$P$31,COUNTIF($P$10:$P$31,0)+ROW()-9)-9,0)),0,INDEX($B$10:$B$31,SMALL($P$10:$P$31,COUNTIF($P$10:$P$31,0)+ROW()-9)-9,0)) -> 0
A19: 1881 | B19: 12 | C19: 23 | D19: 18 | E19: 11 | G19: 19 | H19: 19 | I19: 19 | M19: =IF(AND(OR(Feuil2!A19=Feuil1!$A$10,Feuil1!$A$10=""),OR(Feuil2!B19=Feuil1!$B$10,Feuil1!$B$10=""),ISNUMBER(OFFSET(INDEX($D$9:$I$9,MATCH(Feuil1!$D$11,Feuil2!$D$9:$I$9,0)),ROW()-9,,,))),ROW(),0) -> 19 | P19: =IF(AND(A19=Feuil1!$A$10,M19<>0),ROW(),0) -> 0 | Q19: =IF(ISERROR(INDEX($B$10:$B$31,SMALL($P$10:$P$31,COUNTIF($P$10:$P$31,0)+ROW()-9)-9,0)),0,INDEX($B$10:$B$31,SMALL($P$10:$P$31,COUNTIF($P$10:$P$31,0)+ROW()-9)-9,0)) -> 0
A20: 1881 | B20: 12 | C20: 24 | M20: =IF(AND(OR(Feuil2!A20=Feuil1!$A$10,Feuil1!$A$10=""),OR(Feuil2!B20=Feuil1!$B$10,Feuil1!$B$10=""),ISNUMBER(OFFSET(INDEX($D$9:$I$9,MATCH(Feuil1!$D$11,Feuil2!$D$9:$I$9,0)),ROW()-9,,,))),ROW(),0) -> 0 | P20: =IF(AND(A20=Feuil1!$A$10,M20<>0),ROW(),0) -> 0 | Q20: =IF(ISERROR(INDEX($B$10:$B$31,SMALL($P$10:$P$31,COUNTIF($P$10:$P$31,0)+ROW()-9)-9,0)),0,INDEX($B$10:$B$31,SMALL($P$10:$P$31,COUNTIF($P$10:$P$31,0)+ROW()-9)-9,0)) -> 0
A21: 1881 | B21: 12 | C21: 31 | D21: 4 | E21: 8 | H21: 7 | I21: 5 | M21: =IF(AND(OR(Feuil2!A21=Feuil1!$A$10,Feuil1!$A$10=""),OR(Feuil2!B21=Feuil1!$B$10,Feuil1!$B$10=""),ISNUMBER(OFFSET(INDEX($D$9:$I$9,MATCH(Feuil1!$D$11,Feuil2!$D$9:$I$9,0)),ROW()-9,,,))),ROW(),0) -> 21 | P21: =IF(AND(A21=Feuil1!$A$10,M21<>0),ROW(),0) -> 0 | Q21: =IF(ISERROR(INDEX($B$10:$B$31,SMALL($P$10:$P$31,COUNTIF($P$10:$P$31,0)+ROW()-9)-9,0)),0,INDEX($B$10:$B$31,SMALL($P$10:$P$31,COUNTIF($P$10:$P$31,0)+ROW()-9)-9,0)) -> 0
A22: 1882 | B22: 1 | C22: 1 | D22: 31 | E22: 1 | F22: 20 | G22: 15 | H22: 15 | I22: 3 | M22: =IF(AND(OR(Feuil2!A22=Feuil1!$A$10,Feuil1!$A$10=""),OR(Feuil2!B22=Feuil1!$B$10,Feuil1!$B$10=""),ISNUMBER(OFFSET(INDEX($D$9:$I$9,MATCH(Feuil1!$D$11,Feuil2!$D$9:$I$9,0)),ROW()-9,,,))),ROW(),0) -> 22 | P22: =IF(AND(A22=Feuil1!$A$10,M22<>0),ROW(),0) -> 0 | Q22: =IF(ISERROR(INDEX($B$10:$B$31,SMALL($P$10:$P$31,COUNTIF($P$10:$P$31,0)+ROW()-9)-9,0)),0,INDEX($B$10:$B$31,SMALL($P$10:$P$31,COUNTIF($P$10:$P$31,0)+ROW()-9)-9,0)) -> 0
A23: 1882 | B23: 1 | C23: 2 | H23: 1 | M23: =IF(AND(OR(Feuil2!A23=Feuil1!$A$10,Feuil1!$A$10=""),OR(Feuil2!B23=Feuil1!$B$10,Feuil1!$B$10=""),ISNUMBER(OFFSET(INDEX($D$9:$I$9,MATCH(Feuil1!$D$11,Feuil2!$D$9:$I$9,0)),ROW()-9,,,))),ROW(),0) -> 0 | P23: =IF(AND(A23=Feuil1!$A$10,M23<>0),ROW(),0) -> 0 | Q23: =IF(ISERROR(INDEX($B$10:$B$31,SMALL($P$10:$P$31,COUNTIF($P$10:$P$31,0)+ROW()-9)-9,0)),0,INDEX($B$10:$B$31,SMALL($P$10:$P$31,COUNTIF($P$10:$P$31,0)+ROW()-9)-9,0)) -> 0
A24: 1882 | B24: 1 | C24: 3 | M24: =IF(AND(OR(Feuil2!A24=Feuil1!$A$10,Feuil1!$A$10=""),OR(Feuil2!B24=Feuil1!$B$10,Feuil1!$B$10=""),ISNUMBER(OFFSET(INDEX($D$9:$I$9,MATCH(Feuil1!$D$11,Feuil2!$D$9:$I$9,0)),ROW()-9,,,))),ROW(),0) -> 0 | P24: =IF(AND(A24=Feuil1!$A$10,M24<>0),ROW(),0) -> 0 | Q24: =IF(ISERROR(INDEX($B$10:$B$31,SMALL($P$10:$P$31,COUNTIF($P$10:$P$31,0)+ROW()-9)-9,0)),0,INDEX($B$10:$B$31,SMALL($P$10:$P$31,COUNTIF($P$10:$P$31,0)+ROW()-9)-9,0)) -> 0
A25: 1882 | B25: 1 | C25: 4 | D25: 18 | E25: 6 | F25: 14 | G25: 21 | H25: 11 | I25: 16 | M25: =IF(AND(OR(Feuil2!A25=Feuil1!$A$10,Feuil1!$A$10=""),OR(Feuil2!B25=Feuil1!$B$10,Feuil1!$B$10=""),ISNUMBER(OFFSET(INDEX($D$9:$I$9,MATCH(Feuil1!$D$11,Feuil2!$D$9:$I$9,0)),ROW()-9,,,))),ROW(),0) -> 25 | P25: =IF(AND(A25=Feuil1!$A$10,M25<>0),ROW(),0) -> 0 | Q25: =IF(ISERROR(INDEX($B$10:$B$31,SMALL($P$10:$P$31,COUNTIF($P$10:$P$31,0)+ROW()-9)-9,0)),0,INDEX($B$10:$B$31,SMALL($P$10:$P$31,COUNTIF($P$10:$P$31,0)+ROW()-9)-9,0)) -> 0
A26: 1882 | B26: 1 | C26: 5 | D26: 14 | F26: 7 | G26: 16 | H26: 13 | I26: 17 | M26: =IF(AND(OR(Feuil2!A26=Feuil1!$A$10,Feuil1!$A$10=""),OR(Feuil2!B26=Feuil1!$B$10,Feuil1!$B$10=""),ISNUMBER(OFFSET(INDEX($D$9:$I$9,MATCH(Feuil1!$D$11,Feuil2!$D$9:$I$9,0)),ROW()-9,,,))),ROW(),0) -> 26 | P26: =IF(AND(A26=Feuil1!$A$10,M26<>0),ROW(),0) -> 0 | Q26: =IF(ISERROR(INDEX($B$10:$B$31,SMALL($P$10:$P$31,COUNTIF($P$10:$P$31,0)+ROW()-9)-9,0)),0,INDEX($B$10:$B$31,SMALL($P$10:$P$31,COUNTIF($P$10:$P$31,0)+ROW()-9)-9,0)) -> 0
A27: 1882 | B27: 2 | C27: 1 | M27: =IF(AND(OR(Feuil2!A27=Feuil1!$A$10,Feuil1!$A$10=""),OR(Feuil2!B27=Feuil1!$B$10,Feuil1!$B$10=""),ISNUMBER(OFFSET(INDEX($D$9:$I$9,MATCH(Feuil1!$D$11,Feuil2!$D$9:$I$9,0)),ROW()-9,,,))),ROW(),0) -> 0 | P27: =IF(AND(A27=Feuil1!$A$10,M27<>0),ROW(),0) -> 0 | Q27: =IF(ISERROR(INDEX($B$10:$B$31,SMALL($P$10:$P$31,COUNTIF($P$10:$P$31,0)+ROW()-9)-9,0)),0,INDEX($B$10:$B$31,SMALL($P$10:$P$31,COUNTIF($P$10:$P$31,0)+ROW()-9)-9,0)) -> 0
A28: 1882 | B28: 2 | C28: 11 | M28: =IF(AND(OR(Feuil2!A28=Feuil1!$A$10,Feuil1!$A$10=""),OR(Feuil2!B28=Feuil1!$B$10,Feuil1!$B$10=""),ISNUMBER(OFFSET(INDEX($D$9:$I$9,MATCH(Feuil1!$D$11,Feuil2!$D$9:$I$9,0)),ROW()-9,,,))),ROW(),0) -> 0 | P28: =IF(AND(A28=Feuil1!$A$10,M28<>0),ROW(),0) -> 0 | Q28: =IF(ISERROR(INDEX($B$10:$B$31,SMALL($P$10:$P$31,COUNTIF($P$10:$P$31,0)+ROW()-9)-9,0)),0,INDEX($B$10:$B$31,SMALL($P$10:$P$31,COUNTIF($P$10:$P$31,0)+ROW()-9)-9,0)) -> 0
A29: 1882 | B29: 2 | C29: 12 | M29: =IF(AND(OR(Feuil2!A29=Feuil1!$A$10,Feuil1!$A$10=""),OR(Feuil2!B29=Feuil1!$B$10,Feuil1!$B$10=""),ISNUMBER(OFFSET(INDEX($D$9:$I$9,MATCH(Feuil1!$D$11,Feuil2!$D$9:$I$9,0)),ROW()-9,,,))),ROW(),0) -> 0 | P29: =IF(AND(A29=Feuil1!$A$10,M29<>0),ROW(),0) -> 0 | Q29: =IF(ISERROR(INDEX($B$10:$B$31,SMALL($P$10:$P$31,COUNTIF($P$10:$P$31,0)+ROW()-9)-9,0)),0,INDEX($B$10:$B$31,SMALL($P$10:$P$31,COUNTIF($P$10:$P$31,0)+ROW()-9)-9,0)) -> 0
A30: 1882 | B30: 2 | C30: 26 | M30: =IF(AND(OR(Feuil2!A30=Feuil1!$A$10,Feuil1!$A$10=""),OR(Feuil2!B30=Feuil1!$B$10,Feuil1!$B$10=""),ISNUMBER(OFFSET(INDEX($D$9:$I$9,MATCH(Feuil1!$D$11,Feuil2!$D$9:$I$9,0)),ROW()-9,,,))),ROW(),0) -> 0 | P30: =IF(AND(A30=Feuil1!$A$10,M30<>0),ROW(),0) -> 0 | Q30: =IF(ISERROR(INDEX($B$10:$B$31,SMALL($P$10:$P$31,COUNTIF($P$10:$P$31,0)+ROW()-9)-9,0)),0,INDEX($B$10:$B$31,SMALL($P$10:$P$31,COUNTIF($P$10:$P$31,0)+ROW()-9)-9,0)) -> 0
A31: 1882 | B31: 2 | C31: 27 | D31: 13 | E31: 6 | F31: 7 | G31: 4 | H31: 10 | M31: =IF(AND(OR(Feuil2!A31=Feuil1!$A$10,Feuil1!$A$10=""),OR(Feuil2!B31=Feuil1!$B$10,Feuil1!$B$10=""),ISNUMBER(OFFSET(INDEX($D$9:$I$9,MATCH(Feuil1!$D$11,Feuil2!$D$9:$I$9,0)),ROW()-9,,,))),ROW(),0) -> 31 | P31: =IF(AND(A31=Feuil1!$A$10,M31<>0),ROW(),0) -> 0 | Q31: =IF(ISERROR(INDEX($B$10:$B$31,SMALL($P$10:$P$31,COUNTIF($P$10:$P$31,0)+ROW()-9)-9,0)),0,INDEX($B$10:$B$31,SMALL($P$10:$P$31,COUNTIF($P$10:$P$31,0)+ROW()-9)-9,0)) -> 0

Sheet Feuil3
A7: 1 | B7: Le Grand Sambuc | C7: 1893
A8: 2 | B8: Saint-Antonin | C8: 1893
A9: 3 | B9: Venelles | C9: 1881
A10: 4 | B10: Rognes | C10: 1898
A11: 5 | B11: Gréasque | C11: 1881
A12: 6 | B12: Les Taillades | C12: 1881
