Workbook

Sheet matrice
A1: Code courrier | B1: date | C1: region
A2: 140129_CH_Renouvellement | B2: 41668 | C2: national | D2: =CONCATENATE(C2,B2) -> national41668
A3: 140129_AT_Renouvellement | B3: 41668 | C3: national | D3: =CONCATENATE(C3,B3) -> national41668
A4: 140129_DE_Renouvellement | B4: 41668 | C4: national | D4: =CONCATENATE(C4,B4) -> national41668
A5: 140129_RU_Nouveaux Clients | B5: 41668 | C5: INT | D5: =CONCATENATE(C5,B5) -> INT41668
A6: 140129_SE_Nouveaux Clients | B6: 41668 | C6: INT | D6: =CONCATENATE(C6,B6) -> INT41668
A7: 140129_FR_Nouveaux Clients | B7: 41668 | C7: INT | D7: =CONCATENATE(C7,B7) -> INT41668
A8: 140129_NL_Nouveaux Clients | B8: 41668 | C8: INT | D8: =CONCATENATE(C8,B8) -> INT41668
A9: 140129_ES_Nouveaux Clients | B9: 41668 | C9: INT | D9: =CONCATENATE(C9,B9) -> INT41668
A10: 140129_GB_Nouveaux Clients | B10: 41668 | C10: INT | D10: =CONCATENATE(C10,B10) -> INT41668
A11: 140129_DK_Nouveaux Clients | B11: 41668 | C11: INT | D11: =CONCATENATE(C11,B11) -> INT41668
A12: 140129_ROW_Nouveaux Clients | B12: 41668 | C12: INT | D12: =CONCATENATE(C12,B12) -> INT41668
A13: 140130_AT_Welcome | B13: 41669 | C13: national | D13: =CONCATENATE(C13,B13) -> national41669
... A21: 140131_AT_Extra Austria | B21: 41670 | C21: national | D21: =CONCATENATE(C21,B21) -> national41670
A24: http://forum.excel-pratique.com/excel/recherche-valeur-selon-plusieurs-criteres-t47693.html

Sheet resultats
A1: region | B1: date | C1: nom du courrier ? | D1: NB de courriers
A2: INT | B2: 41668 | C2: =IFERROR(MID(H2,SEARCH("_",H2,SEARCH("_",H2,1))+4,LEN(H2)-SEARCH("_",H2,SEARCH("_",H2,1))-1),"Pas de correspondance date et région") -> Nouveaux Clients | D2: =SUMPRODUCT(ISNUMBER(SEARCH(C2,matrice!$A$2:$A$21))*1) -> 8 | H2: =IFERROR(INDEX(matrice!A2:A21,MATCH(CONCATENATE(resultats!A2,resultats!B2),matrice!$D$2:$D$21,0)),"pas de correspondance de date et région") -> 140129_RU_Nouveaux Clients
A3: National | B3: 41669 | C3: =IFERROR(MID(H3,SEARCH("_",H3,SEARCH("_",H3,1))+4,LEN(H3)-SEARCH("_",H3,SEARCH("_",H3,1))-1),"Pas de correspondance date et région") -> Welcome | D3: =SUMPRODUCT(ISNUMBER(SEARCH(C3,matrice!$A$2:$A$21))*1) -> 3 | H3: =IFERROR(INDEX(matrice!A3:A22,MATCH(CONCATENATE(resultats!A3,resultats!B3),matrice!$D$2:$D$21,0)),"pas de correspondance de date et région") -> 140130_CH_Welcome
A4: INT | B4: 41670 | C4: =IFERROR(MID(H4,SEARCH("_",H4,SEARCH("_",H4,1))+4,LEN(H4)-SEARCH("_",H4,SEARCH("_",H4,1))-1),"Pas de correspondance date et région") -> First Offer | D4: =SUMPRODUCT(ISNUMBER(SEARCH(C4,matrice!$A$2:$A$21))*1) -> 4 | H4: =IFERROR(INDEX(matrice!A4:A23,MATCH(CONCATENATE(resultats!A4,resultats!B4),matrice!$D$2:$D$21,0)),"pas de correspondance de date et région") -> 140131_SE_First Offer
A5: National | B5: 41671 | C5: =IFERROR(MID(H5,SEARCH("_",H5,SEARCH("_",H5,1))+4,LEN(H5)-SEARCH("_",H5,SEARCH("_",H5,1))-1),"Pas de correspondance date et région") -> Pas de correspondance date et région | D5: =SUMPRODUCT(ISNUMBER(SEARCH(C5,matrice!$A$2:$A$21))*1) -> 0 | H5: =IFERROR(INDEX(matrice!A5:A24,MATCH(CONCATENATE(resultats!A5,resultats!B5),matrice!$D$2:$D$21,0)),"pas de correspondance de date et région") -> pas de correspondance de date et région
A6: National | B6: 41672 | C6: =IFERROR(MID(H6,SEARCH("_",H6,SEARCH("_",H6,1))+4,LEN(H6)-SEARCH("_",H6,SEARCH("_",H6,1))-1),"Pas de correspondance date et région") -> Pas de correspondance date et région | D6: =SUMPRODUCT(ISNUMBER(SEARCH(C6,matrice!$A$2:$A$21))*1) -> 0 | H6: =IFERROR(INDEX(matrice!A6:A25,MATCH(CONCATENATE(resultats!A6,resultats!B6),matrice!$D$2:$D$21,0)),"pas de correspondance de date et région") -> pas de correspondance de date et région
A7: National | B7: 41673 | C7: =IFERROR(MID(H7,SEARCH("_",H7,SEARCH("_",H7,1))+4,LEN(H7)-SEARCH("_",H7,SEARCH("_",H7,1))-1),"Pas de correspondance date et région") -> Pas de correspondance date et région | D7: =SUMPRODUCT(ISNUMBER(SEARCH(C7,matrice!$A$2:$A$21))*1) -> 0 | H7: =IFERROR(INDEX(matrice!A7:A26,MATCH(CONCATENATE(resultats!A7,resultats!B7),matrice!$D$2:$D$21,0)),"pas de correspondance de date et région") -> pas de correspondance de date et région

Sheet Tabelle3
