Workbook

Sheet Inscriptions
A2: Inscriptions
A5: Nom | B5: Prénom | C5: Date de naissance | D5: Adresse | E5: N° de téléphone | F5: E-mail | G5: Profil | H5: Date

Sheet Fréquentations
Q1: logement
I2: Lundi | Q2: CV
A3: Fréquentions | I3: Mardi | Q3: motivation
I4: Mercredi | Q4: emploi
I5: Jeudi
A7: Nom | B7: Prénom | C7: Motif de la visite | D7: Type d'aide sollicitée | E7: Date | G7: Durée de la visite | J7: Contact T.S.
G8: Heure d'arrivée | H8: Heure de départ | I8: Durée totale
C9: logement | E9: 41732 | F9: =IF(E9="","",WEEKNUM(E9,2)) -> 14 | G9: 0.72916667 | H9: 0.75 | I9: =H9-G9 -> 0.020833333 | J9: =IF(OR(C9="logement",C9="CV",C9="motivation",C9="emploi"),"OUI","") -> OUI
E10: 41732 | F10: =IF(E10="","",WEEKNUM(E10,2)) -> 14 | G10: 0.70833333 | H10: 0.75 | I10: =H10-G10 -> 0.041666667 | J10: =IF(OR(C10="logement",C10="CV",C10="motivation",C10="emploi"),"OUI","")
C11: CV | E11: 41732 | F11: =IF(E11="","",WEEKNUM(E11,2)) -> 14 | G11: 0.71875 | H11: 0.73958333 | I11: =H11-G11 -> 0.020833333 | J11: =IF(OR(C11="logement",C11="CV",C11="motivation",C11="emploi"),"OUI","") -> OUI
E12: 41732 | F12: =IF(E12="","",WEEKNUM(E12,2)) -> 14 | G12: 0.72916667 | H12: 0.75 | I12: =H12-G12 -> 0.020833333 | J12: =IF(OR(C12="logement",C12="CV",C12="motivation",C12="emploi"),"OUI","")
E13: 41737 | F13: =IF(E13="","",WEEKNUM(E13,2)) -> 15 | G13: 0.375 | H13: 0.41666667 | I13: =H13-G13 -> 0.041666667 | J13: =IF(OR(C13="logement",C13="CV",C13="motivation",C13="emploi"),"OUI","")
E14: 41737 | F14: =IF(E14="","",WEEKNUM(E14,2)) -> 15 | G14: 0.5 | H14: 0.52083333 | I14: =H14-G14 -> 0.020833333 | J14: =IF(OR(C14="logement",C14="CV",C14="motivation",C14="emploi"),"OUI","")
E15: 41737 | F15: =IF(E15="","",WEEKNUM(E15,2)) -> 15 | G15: 0.54166667 | H15: 0.5625 | I15: =H15-G15 -> 0.020833333 | J15: =IF(OR(C15="logement",C15="CV",C15="motivation",C15="emploi"),"OUI","")
E16: 41737 | F16: =IF(E16="","",WEEKNUM(E16,2)) -> 15 | G16: 0.39583333 | H16: 0.41666667 | I16: =H16-G16 -> 0.020833333 | J16: =IF(OR(C16="logement",C16="CV",C16="motivation",C16="emploi"),"OUI","")
E17: 41739 | F17: =IF(E17="","",WEEKNUM(E17,2)) -> 15 | G17: 0.70833333 | H17: 0.75 | I17: =H17-G17 -> 0.041666667 | J17: =IF(OR(C17="logement",C17="CV",C17="motivation",C17="emploi"),"OUI","")
E18: 41739 | F18: =IF(E18="","",WEEKNUM(E18,2)) -> 15 | G18: 0.72916667 | H18: 0.75 | I18: =H18-G18 -> 0.020833333 | J18: =IF(OR(C18="logement",C18="CV",C18="motivation",C18="emploi"),"OUI","")
E19: 41743 | F19: =IF(E19="","",WEEKNUM(E19,2)) -> 16 | G19: 0.54166667 | H19: 0.5625 | I19: =H19-G19 -> 0.020833333 | J19: =IF(OR(C19="logement",C19="CV",C19="motivation",C19="emploi"),"OUI","")
E20: 41743 | F20: =IF(E20="","",WEEKNUM(E20,2)) -> 16 | G20: 0.54166667 | H20: 0.5625 | I20: =H20-G20 -> 0.020833333 | J20: =IF(OR(C20="logement",C20="CV",C20="motivation",C20="emploi"),"OUI","")
E21: 41743 | F21: =IF(E21="","",WEEKNUM(E21,2)) -> 16 | G21: 0.54166667 | H21: 0.5625 | I21: =H21-G21 -> 0.020833333 | J21: =IF(OR(C21="logement",C21="CV",C21="motivation",C21="emploi"),"OUI","")
F22: =IF(E22="","",WEEKNUM(E22,2)) | I22: =H22-G22 -> 0 | J22: =IF(OR(C22="logement",C22="CV",C22="motivation",C22="emploi"),"OUI","")
F23: =IF(E23="","",WEEKNUM(E23,2)) | I23: =H23-G23 -> 0 | J23: =IF(OR(C23="logement",C23="CV",C23="motivation",C23="emploi"),"OUI","") | K23: Donc ici, j'ai rajouté une colonne en plus pour la durée totale et j'aimerais bien que dans stat., la durée moyenne apparaisse comme ici h:m.
F24: =IF(E24="","",WEEKNUM(E24,2)) | I24: =H24-G24 -> 0 | J24: =IF(OR(C24="logement",C24="CV",C24="motivation",C24="emploi"),"OUI","")
E25: 42034 | F25: =IF(E25="","",WEEKNUM(E25,2)) -> 5 | G25: 0.41666667 | H25: 0.5 | I25: =H25-G25 -> 0.083333333 | J25: =IF(OR(C25="logement",C25="CV",C25="motivation",C25="emploi"),"OUI","")
E26: 42036 | F26: =IF(E26="","",WEEKNUM(E26,2)) -> 5 | G26: 0.96527778 | H26: 0.99305556 | I26: =H26-G26 -> 0.027777778 | J26: =IF(OR(C26="logement",C26="CV",C26="motivation",C26="emploi"),"OUI","")
F27: =IF(E27="","",WEEKNUM(E27,2)) | I27: =H27-G27 -> 0 | J27: =IF(OR(C27="logement",C27="CV",C27="motivation",C27="emploi"),"OUI","")
F28: =IF(E28="","",WEEKNUM(E28,2)) | I28: =H28-G28 -> 0 | J28: =IF(OR(C28="logement",C28="CV",C28="motivation",C28="emploi"),"OUI","")
F29: =IF(E29="","",WEEKNUM(E29,2)) | I29: =H29-G29 -> 0 | J29: =IF(OR(C29="logement",C29="CV",C29="motivation",C29="emploi"),"OUI","")
F30: =IF(E30="","",WEEKNUM(E30,2)) | I30: =H30-G30 -> 0 | J30: =IF(OR(C30="logement",C30="CV",C30="motivation",C30="emploi"),"OUI","")
F31: =IF(E31="","",WEEKNUM(E31,2)) | I31: =H31-G31 -> 0 | J31: =IF(OR(C31="logement",C31="CV",C31="motivation",C31="emploi"),"OUI","")
F32: =IF(E32="","",WEEKNUM(E32,2)) | I32: =H32-G32 -> 0 | J32: =IF(OR(C32="logement",C32="CV",C32="motivation",C32="emploi"),"OUI","")
F33: =IF(E33="","",WEEKNUM(E33,2)) | I33: =H33-G33 -> 0 | J33: =IF(OR(C33="logement",C33="CV",C33="motivation",C33="emploi"),"OUI","")
F34: =IF(E34="","",WEEKNUM(E34,2)) | I34: =H34-G34 -> 0 | J34: =IF(OR(C34="logement",C34="CV",C34="motivation",C34="emploi"),"OUI","")
F35: =IF(E35="","",WEEKNUM(E35,2)) | I35: =H35-G35 -> 0 | J35: =IF(OR(C35="logement",C35="CV",C35="motivation",C35="emploi"),"OUI","")
F36: =IF(E36="","",WEEKNUM(E36,2)) | I36: =H36-G36 -> 0 | J36: =IF(OR(C36="logement",C36="CV",C36="motivation",C36="emploi"),"OUI","")
F37: =IF(E37="","",WEEKNUM(E37,2)) | I37: =H37-G37 -> 0 | J37: =IF(OR(C37="logement",C37="CV",C37="motivation",C37="emploi"),"OUI","")
F38: =IF(E38="","",WEEKNUM(E38,2)) | I38: =H38-G38 -> 0 | J38: =IF(OR(C38="logement",C38="CV",C38="motivation",C38="emploi"),"OUI","")
... F205: =IF(E205="","",WEEKNUM(E205,2)) | I205: =H205-G205 -> 0 | J205: =IF(OR(C205="logement",C205="CV",C205="motivation",C205="emploi"),"OUI","")
F206: =IF(E206="","",WEEKNUM(E206,2)) | J206: =IF(OR(C206="logement",C206="CV",C206="motivation",C206="emploi"),"OUI","")

Sheet Statistiques par mois
A2: Nombre d'utilisateurs moyen/mois + durée moyenne de la visite
A5: 2014 | D5: Avril | H5: Mai | L5: Juin | P5: Juillet | T5: Août | X5: Septembre | AB5: Octobre | AF5: Novembre | AJ5: Décembre
D6: Fréqu. | E6: Durée moyenne | H6: Fréqu. | I6: Durée moyenne | L6: Fréqu. | M6: Durée moyenne | P6: Fréqu. | Q6: Durée moyenne | T6: Fréqu. | U6: Durée moyenne | X6: Fréqu. | Y6: Durée moyenne | AB6: Fréqu. | AC6: Durée moyenne | AF6: Fréqu. | AG6: Durée moyenne | AJ6: Fréqu. | AK6: Durée moyenne
A7: Sem. 1 | B7: =DATE($A$5,MONTH(1&D$5),1) -> 41730 | C7: =WEEKNUM(B7,2) -> 14 | D7: =SUMPRODUCT(((YEAR(Fréquentations!$E$9:$E$206)='Statistiques par mois'!$A$5)*(MONTH(Fréquentations!$E$9:$E$206)=MONTH(1&D$5)*(Fréquentations!$F$9:$F$206='Statistiques par mois'!C7)))) -> 4 | E7: =IF(ISERROR(SUMPRODUCT(((YEAR(Fréquentations!$E$9:$E$206)=$A$5)*(MONTH(Fréquentations!$E$9:$E$206)=MONTH(1&D$5)*(Fréquentations!$F$9:$F$206=C7))*(Fréquentations!$I$9:$I$206)))/D7),"",SUMPRODUCT(((YEAR(Fréquentations!$E$9:$E$206)=$A$5)*(MONTH(Fréquentations!$E$9:$E$206)=MONTH(1&D$5)*(Fréquentations!$F$9:$F$206=C7))*(Fréquentations!$I$9:$I$206)))/D7) -> 0.026041667 | F7: =DATE($A$5,MONTH(1&H$5),1) -> 41760 | G7: =WEEKNUM(F7,2) -> 18 | H7: =SUMPRODUCT(((YEAR(Fréquentations!$E$9:$E$206)='Statistiques par mois'!$A$5)*(MONTH(Fréquentations!$E$9:$E$206)=MONTH(1&H$5)*(Fréquentations!$F$9:$F$206='Statistiques par mois'!G7)))) -> 0 | I7: =IF(ISERROR(SUMPRODUCT(((YEAR(Fréquentations!$E$9:$E$206)=$A$5)*(MONTH(Fréquentations!$E$9:$E$206)=MONTH(1&H$5)*(Fréquentations!$F$9:$F$206=G7))*(Fréquentations!$I$9:$I$206)))/H7),"",SUMPRODUCT(((YEAR(Fréquentations!$E$9:$E$206)=$A$5)*(MONTH(Fréquentations!$E$9:$E$206)=MONTH(1&H$5)*(Fréquentations!$F$9:$F$206=G7))*(Fréquentations!$I$9:$I$206)))/H7) | J7: =DATE($A$5,MONTH(1&L$5),1) -> 41791 | K7: =WEEKNUM(J7,2) -> 22 | L7: =SUMPRODUCT(((YEAR(Fréquentations!$E$9:$E$206)='Statistiques par mois'!$A$5)*(MONTH(Fréquentations!$E$9:$E$206)=MONTH(1&L$5)*(Fréquentations!$F$9:$F$206='Statistiques par mois'!K7)))) -> 0 | M7: =IF(ISERROR(SUMPRODUCT(((YEAR(Fréquentations!$E$9:$E$206)=$A$5)*(MONTH(Fréquentations!$E$9:$E$206)=MONTH(1&L$5)*(Fréquentations!$F$9:$F$206=K7))*(Fréquentations!$I$9:$I$206)))/L7),"",SUMPRODUCT(((YEAR(Fréquentations!$E$9:$E$206)=$A$5)*(MONTH(Fréquentations!$E$9:$E$206)=MONTH(1&L$5)*(Fréquentations!$F$9:$F$206=K7))*(Fréquentations!$I$9:$I$206)))/L7) | N7: =DATE($A$5,MONTH(1&P$5),1) -> 41821 | O7: =WEEKNUM(N7,2) -> 27 | P7: =SUMPRODUCT(((YEAR(Fréquentations!$E$9:$E$206)='Statistiques par mois'!$A$5)*(MONTH(Fréquentations!$E$9:$E$206)=MONTH(1&P$5)*(Fréquentations!$F$9:$F$206='Statistiques par mois'!O7)))) -> 0 | Q7: =IF(ISERROR(SUMPRODUCT(((YEAR(Fréquentations!$E$9:$E$206)=$A$5)*(MONTH(Fréquentations!$E$9:$E$206)=MONTH(1&P$5)*(Fréquentations!$F$9:$F$206=O7))*(Fréquentations!$I$9:$I$206)))/P7),"",SUMPRODUCT(((YEAR(Fréquentations!$E$9:$E$206)=$A$5)*(MONTH(Fréquentations!$E$9:$E$206)=MONTH(1&P$5)*(Fréquentations!$F$9:$F$206=O7))*(Fréquentations!$I$9:$I$206)))/P7) | R7: =DATE($A$5,MONTH(1&T$5),1) -> 41852 | S7: =WEEKNUM(R7,2) -> 31 | T7: =SUMPRODUCT(((YEAR(Fréquentations!$E$9:$E$206)='Statistiques par mois'!$A$5)*(MONTH(Fréquentations!$E$9:$E$206)=MONTH(1&T$5)*(Fréquentations!$F$9:$F$206='Statistiques par mois'!S7)))) -> 0 | U7: =IF(ISERROR(SUMPRODUCT(((YEAR(Fréquentations!$E$9:$E$206)=$A$5)*(MONTH(Fréquentations!$E$9:$E$206)=MONTH(1&T$5)*(Fréquentations!$F$9:$F$206=S7))*(Fréquentations!$I$9:$I$206)))/T7),"",SUMPRODUCT(((YEAR(Fréquentations!$E$9:$E$206)=$A$5)*(MONTH(Fréquentations!$E$9:$E$206)=MONTH(1&T$5)*(Fréquentations!$F$9:$F$206=S7))*(Fréquentations!$I$9:$I$206)))/T7) | V7: =DATE($A$5,MONTH(1&X$5),1) -> 41883 | W7: =WEEKNUM(V7,2) -> 36 | X7: =SUMPRODUCT(((YEAR(Fréquentations!$E$9:$E$206)='Statistiques par mois'!$A$5)*(MONTH(Fréquentations!$E$9:$E$206)=MONTH(1&X$5)*(Fréquentations!$F$9:$F$206='Statistiques par mois'!W7)))) -> 0 | Y7: =IF(ISERROR(SUMPRODUCT(((YEAR(Fréquentations!$E$9:$E$206)=$A$5)*(MONTH(Fréquentations!$E$9:$E$206)=MONTH(1&X$5)*(Fréquentations!$F$9:$F$206=W7))*(Fréquentations!$I$9:$I$206)))/X7),"",SUMPRODUCT(((YEAR(Fréquentations!$E$9:$E$206)=$A$5)*(MONTH(Fréquentations!$E$9:$E$206)=MONTH(1&X$5)*(Fréquentations!$F$9:$F$206=W7))*(Fréquentations!$I$9:$I$206)))/X7) | Z7: =DATE($A$5,MONTH(1&AB$5),1) -> 41913 | AA7: =WEEKNUM(Z7,2) -> 40 | AB7: =SUMPRODUCT(((YEAR(Fréquentations!$E$9:$E$206)='Statistiques par mois'!$A$5)*(MONTH(Fréquentations!$E$9:$E$206)=MONTH(1&AB$5)*(Fréquentations!$F$9:$F$206='Statistiques par mois'!AA7)))) -> 0 | AC7: =IF(ISERROR(SUMPRODUCT(((YEAR(Fréquentations!$E$9:$E$206)=$A$5)*(MONTH(Fréquentations!$E$9:$E$206)=MONTH(1&AB$5)*(Fréquentations!$F$9:$F$206=AA7))*(Fréquentations!$I$9:$I$206)))/AB7),"",SUMPRODUCT(((YEAR(Fréquentations!$E$9:$E$206)=$A$5)*(MONTH(Fréquentations!$E$9:$E$206)=MONTH(1&AB$5)*(Fréquentations!$F$9:$F$206=AA7))*(Fréquentations!$I$9:$I$206)))/AB7) | AD7: =DATE($A$5,MONTH(1&AF$5),1) -> 41944 | AE7: =WEEKNUM(AD7,2) -> 44 | AF7: =SUMPRODUCT(((YEAR(Fréquentations!$E$9:$E$206)='Statistiques par mois'!$A$5)*(MONTH(Fréquentations!$E$9:$E$206)=MONTH(1&AF$5)*(Fréquentations!$F$9:$F$206='Statistiques par mois'!AE7)))) -> 0 | AG7: =IF(ISERROR(SUMPRODUCT(((YEAR(Fréquentations!$E$9:$E$206)=$A$5)*(MONTH(Fréquentations!$E$9:$E$206)=MONTH(1&AF$5)*(Fréquentations!$F$9:$F$206=AE7))*(Fréquentations!$I$9:$I$206)))/AF7),"",SUMPRODUCT(((YEAR(Fréquentations!$E$9:$E$206)=$A$5)*(MONTH(Fréquentations!$E$9:$E$206)=MONTH(1&AF$5)*(Fréquentations!$F$9:$F$206=AE7))*(Fréquentations!$I$9:$I$206)))/AF7) | AH7: =DATE($A$5,MONTH(1&AJ$5),1) -> 41974 | AI7: =WEEKNUM(AH7,2) -> 49 | AJ7: =SUMPRODUCT(((YEAR(Fréquentations!$E$9:$E$206)='Statistiques par mois'!$A$5)*(MONTH(Fréquentations!$E$9:$E$206)=MONTH(1&AJ$5)*(Fréquentations!$F$9:$F$206='Statistiques par mois'!AI7)))) -> 0 | AK7: =IF(ISERROR(SUMPRODUCT(((YEAR(Fréquentations!$E$9:$E$206)=$A$5)*(MONTH(Fréquentations!$E$9:$E$206)=MONTH(1&AJ$5)*(Fréquentations!$F$9:$F$206=AI7))*(Fréquentations!$I$9:$I$206)))/AJ7),"",SUMPRODUCT(((YEAR(Fréquentations!$E$9:$E$206)=$A$5)*(MONTH(Fréquentations!$E$9:$E$206)=MONTH(1&AJ$5)*(Fréquentations!$F$9:$F$206=AI7))*(Fréquentations!$I$9:$I$206)))/AJ7)
A8: Sem. 2 | B8: =B7+7 -> 41737 | C8: =WEEKNUM(B8,2) -> 15 | D8: =SUMPRODUCT(((YEAR(Fréquentations!$E$9:$E$206)='Statistiques par mois'!$A$5)*(MONTH(Fréquentations!$E$9:$E$206)=MONTH(1&D$5)*(Fréquentations!$F$9:$F$206='Statistiques par mois'!C8)))) -> 6 | E8: =IF(ISERROR(SUMPRODUCT(((YEAR(Fréquentations!$E$9:$E$206)=$A$5)*(MONTH(Fréquentations!$E$9:$E$206)=MONTH(1&D$5)*(Fréquentations!$F$9:$F$206=C8))*(Fréquentations!$I$9:$I$206)))/D8),"",SUMPRODUCT(((YEAR(Fréquentations!$E$9:$E$206)=$A$5)*(MONTH(Fréquentations!$E$9:$E$206)=MONTH(1&D$5)*(Fréquentations!$F$9:$F$206=C8))*(Fréquentations!$I$9:$I$206)))/D8) -> 0.027777778 | F8: =F7+7 -> 41767 | G8: =WEEKNUM(F8,2) -> 19 | H8: =SUMPRODUCT(((YEAR(Fréquentations!$E$9:$E$206)='Statistiques par mois'!$A$5)*(MONTH(Fréquentations!$E$9:$E$206)=MONTH(1&H$5)*(Fréquentations!$F$9:$F$206='Statistiques par mois'!G8)))) -> 0 | I8: =IF(ISERROR(SUMPRODUCT(((YEAR(Fréquentations!$E$9:$E$206)=$A$5)*(MONTH(Fréquentations!$E$9:$E$206)=MONTH(1&H$5)*(Fréquentations!$F$9:$F$206=G8))*(Fréquentations!$I$9:$I$206)))/H8),"",SUMPRODUCT(((YEAR(Fréquentations!$E$9:$E$206)=$A$5)*(MONTH(Fréquentations!$E$9:$E$206)=MONTH(1&H$5)*(Fréquentations!$F$9:$F$206=G8))*(Fréquentations!$I$9:$I$206)))/H8) | J8: =J7+7 -> 41798 | K8: =WEEKNUM(J8,2) -> 23 | L8: =SUMPRODUCT(((YEAR(Fréquentations!$E$9:$E$206)='Statistiques par mois'!$A$5)*(MONTH(Fréquentations!$E$9:$E$206)=MONTH(1&L$5)*(Fréquentations!$F$9:$F$206='Statistiques par mois'!K8)))) -> 0 | M8: =IF(ISERROR(SUMPRODUCT(((YEAR(Fréquentations!$E$9:$E$206)=$A$5)*(MONTH(Fréquentations!$E$9:$E$206)=MONTH(1&L$5)*(Fréquentations!$F$9:$F$206=K8))*(Fréquentations!$I$9:$I$206)))/L8),"",SUMPRODUCT(((YEAR(Fréquentations!$E$9:$E$206)=$A$5)*(MONTH(Fréquentations!$E$9:$E$206)=MONTH(1&L$5)*(Fréquentations!$F$9:$F$206=K8))*(Fréquentations!$I$9:$I$206)))/L8) | N8: =N7+7 -> 41828 | O8: =WEEKNUM(N8,2) -> 28 | P8: =SUMPRODUCT(((YEAR(Fréquentations!$E$9:$E$206)='Statistiques par mois'!$A$5)*(MONTH(Fréquentations!$E$9:$E$206)=MONTH(1&P$5)*(Fréquentations!$F$9:$F$206='Statistiques par mois'!O8)))) -> 0 | Q8: =IF(ISERROR(SUMPRODUCT(((YEAR(Fréquentations!$E$9:$E$206)=$A$5)*(MONTH(Fréquentations!$E$9:$E$206)=MONTH(1&P$5)*(Fréquentations!$F$9:$F$206=O8))*(Fréquentations!$I$9:$I$206)))/P8),"",SUMPRODUCT(((YEAR(Fréquentations!$E$9:$E$206)=$A$5)*(MONTH(Fréquentations!$E$9:$E$206)=MONTH(1&P$5)*(Fréquentations!$F$9:$F$206=O8))*(Fréquentations!$I$9:$I$206)))/P8) | R8: =R7+7 -> 41859 | S8: =WEEKNUM(R8,2) -> 32 | T8: =SUMPRODUCT(((YEAR(Fréquentations!$E$9:$E$206)='Statistiques par mois'!$A$5)*(MONTH(Fréquentations!$E$9:$E$206)=MONTH(1&T$5)*(Fréquentations!$F$9:$F$206='Statistiques par mois'!S8)))) -> 0 | U8: =IF(ISERROR(SUMPRODUCT(((YEAR(Fréquentations!$E$9:$E$206)=$A$5)*(MONTH(Fréquentations!$E$9:$E$206)=MONTH(1&T$5)*(Fréquentations!$F$9:$F$206=S8))*(Fréquentations!$I$9:$I$206)))/T8),"",SUMPRODUCT(((YEAR(Fréquentations!$E$9:$E$206)=$A$5)*(MONTH(Fréquentations!$E$9:$E$206)=MONTH(1&T$5)*(Fréquentations!$F$9:$F$206=S8))*(Fréquentations!$I$9:$I$206)))/T8) | V8: =V7+7 -> 41890 | W8: =WEEKNUM(V8,2) -> 37 | X8: =SUMPRODUCT(((YEAR(Fréquentations!$E$9:$E$206)='Statistiques par mois'!$A$5)*(MONTH(Fréquentations!$E$9:$E$206)=MONTH(1&X$5)*(Fréquentations!$F$9:$F$206='Statistiques par mois'!W8)))) -> 0 | Y8: =IF(ISERROR(SUMPRODUCT(((YEAR(Fréquentations!$E$9:$E$206)=$A$5)*(MONTH(Fréquentations!$E$9:$E$206)=MONTH(1&X$5)*(Fréquentations!$F$9:$F$206=W8))*(Fréquentations!$I$9:$I$206)))/X8),"",SUMPRODUCT(((YEAR(Fréquentations!$E$9:$E$206)=$A$5)*(MONTH(Fréquentations!$E$9:$E$206)=MONTH(1&X$5)*(Fréquentations!$F$9:$F$206=W8))*(Fréquentations!$I$9:$I$206)))/X8) | Z8: =Z7+7 -> 41920 | AA8: =WEEKNUM(Z8,2) -> 41 | AB8: =SUMPRODUCT(((YEAR(Fréquentations!$E$9:$E$206)='Statistiques par mois'!$A$5)*(MONTH(Fréquentations!$E$9:$E$206)=MONTH(1&AB$5)*(Fréquentations!$F$9:$F$206='Statistiques par mois'!AA8)))) -> 0 | AC8: =IF(ISERROR(SUMPRODUCT(((YEAR(Fréquentations!$E$9:$E$206)=$A$5)*(MONTH(Fréquentations!$E$9:$E$206)=MONTH(1&AB$5)*(Fréquentations!$F$9:$F$206=AA8))*(Fréquentations!$I$9:$I$206)))/AB8),"",SUMPRODUCT(((YEAR(Fréquentations!$E$9:$E$206)=$A$5)*(MONTH(Fréquentations!$E$9:$E$206)=MONTH(1&AB$5)*(Fréquentations!$F$9:$F$206=AA8))*(Fréquentations!$I$9:$I$206)))/AB8) | AD8: =AD7+7 -> 41951 | AE8: =WEEKNUM(AD8,2) -> 45 | AF8: =SUMPRODUCT(((YEAR(Fréquentations!$E$9:$E$206)='Statistiques par mois'!$A$5)*(MONTH(Fréquentations!$E$9:$E$206)=MONTH(1&AF$5)*(Fréquentations!$F$9:$F$206='Statistiques par mois'!AE8)))) -> 0 | AG8: =IF(ISERROR(SUMPRODUCT(((YEAR(Fréquentations!$E$9:$E$206)=$A$5)*(MONTH(Fréquentations!$E$9:$E$206)=MONTH(1&AF$5)*(Fréquentations!$F$9:$F$206=AE8))*(Fréquentations!$I$9:$I$206)))/AF8),"",SUMPRODUCT(((YEAR(Fréquentations!$E$9:$E$206)=$A$5)*(MONTH(Fréquentations!$E$9:$E$206)=MONTH(1&AF$5)*(Fréquentations!$F$9:$F$206=AE8))*(Fréquentations!$I$9:$I$206)))/AF8) | AH8: =AH7+7 -> 41981 | AI8: =WEEKNUM(AH8,2) -> 50 | AJ8: =SUMPRODUCT(((YEAR(Fréquentations!$E$9:$E$206)='Statistiques par mois'!$A$5)*(MONTH(Fréquentations!$E$9:$E$206)=MONTH(1&AJ$5)*(Fréquentations!$F$9:$F$206='Statistiques par mois'!AI8)))) -> 0 | AK8: =IF(ISERROR(SUMPRODUCT(((YEAR(Fréquentations!$E$9:$E$206)=$A$5)*(MONTH(Fréquentations!$E$9:$E$206)=MONTH(1&AJ$5)*(Fréquentations!$F$9:$F$206=AI8))*(Fréquentations!$I$9:$I$206)))/AJ8),"",SUMPRODUCT(((YEAR(Fréquentations!$E$9:$E$206)=$A$5)*(MONTH(Fréquentations!$E$9:$E$206)=MONTH(1&AJ$5)*(Fréquentations!$F$9:$F$206=AI8))*(Fréquentations!$I$9:$I$206)))/AJ8)
A9: Sem. 3 | B9: =B8+7 -> 41744 | C9: =WEEKNUM(B9,2) -> 16 | D9: =SUMPRODUCT(((YEAR(Fréquentations!$E$9:$E$206)='Statistiques par mois'!$A$5)*(MONTH(Fréquentations!$E$9:$E$206)=MONTH(1&D$5)*(Fréquentations!$F$9:$F$206='Statistiques par mois'!C9)))) -> 3 | E9: =IF(ISERROR(SUMPRODUCT(((YEAR(Fréquentations!$E$9:$E$206)=$A$5)*(MONTH(Fréquentations!$E$9:$E$206)=MONTH(1&D$5)*(Fréquentations!$F$9:$F$206=C9))*(Fréquentations!$I$9:$I$206)))/D9),"",SUMPRODUCT(((YEAR(Fréquentations!$E$9:$E$206)=$A$5)*(MONTH(Fréquentations!$E$9:$E$206)=MONTH(1&D$5)*(Fréquentations!$F$9:$F$206=C9))*(Fréquentations!$I$9:$I$206)))/D9) -> 0.020833333 | F9: =F8+7 -> 41774 | G9: =WEEKNUM(F9,2) -> 20 | H9: =SUMPRODUCT(((YEAR(Fréquentations!$E$9:$E$206)='Statistiques par mois'!$A$5)*(MONTH(Fréquentations!$E$9:$E$206)=MONTH(1&H$5)*(Fréquentations!$F$9:$F$206='Statistiques par mois'!G9)))) -> 0 | I9: =IF(ISERROR(SUMPRODUCT(((YEAR(Fréquentations!$E$9:$E$206)=$A$5)*(MONTH(Fréquentations!$E$9:$E$206)=MONTH(1&H$5)*(Fréquentations!$F$9:$F$206=G9))*(Fréquentations!$I$9:$I$206)))/H9),"",SUMPRODUCT(((YEAR(Fréquentations!$E$9:$E$206)=$A$5)*(MONTH(Fréquentations!$E$9:$E$206)=MONTH(1&H$5)*(Fréquentations!$F$9:$F$206=G9))*(Fréquentations!$I$9:$I$206)))/H9) | J9: =J8+7 -> 41805 | K9: =WEEKNUM(J9,2) -> 24 | L9: =SUMPRODUCT(((YEAR(Fréquentations!$E$9:$E$206)='Statistiques par mois'!$A$5)*(MONTH(Fréquentations!$E$9:$E$206)=MONTH(1&L$5)*(Fréquentations!$F$9:$F$206='Statistiques par mois'!K9)))) -> 0 | M9: =IF(ISERROR(SUMPRODUCT(((YEAR(Fréquentations!$E$9:$E$206)=$A$5)*(MONTH(Fréquentations!$E$9:$E$206)=MONTH(1&L$5)*(Fréquentations!$F$9:$F$206=K9))*(Fréquentations!$I$9:$I$206)))/L9),"",SUMPRODUCT(((YEAR(Fréquentations!$E$9:$E$206)=$A$5)*(MONTH(Fréquentations!$E$9:$E$206)=MONTH(1&L$5)*(Fréquentations!$F$9:$F$206=K9))*(Fréquentations!$I$9:$I$206)))/L9) | N9: =N8+7 -> 41835 | O9: =WEEKNUM(N9,2) -> 29 | P9: =SUMPRODUCT(((YEAR(Fréquentations!$E$9:$E$206)='Statistiques par mois'!$A$5)*(MONTH(Fréquentations!$E$9:$E$206)=MONTH(1&P$5)*(Fréquentations!$F$9:$F$206='Statistiques par mois'!O9)))) -> 0 | Q9: =IF(ISERROR(SUMPRODUCT(((YEAR(Fréquentations!$E$9:$E$206)=$A$5)*(MONTH(Fréquentations!$E$9:$E$206)=MONTH(1&P$5)*(Fréquentations!$F$9:$F$206=O9))*(Fréquentations!$I$9:$I$206)))/P9),"",SUMPRODUCT(((YEAR(Fréquentations!$E$9:$E$206)=$A$5)*(MONTH(Fréquentations!$E$9:$E$206)=MONTH(1&P$5)*(Fréquentations!$F$9:$F$206=O9))*(Fréquentations!$I$9:$I$206)))/P9) | R9: =R8+7 -> 41866 | S9: =WEEKNUM(R9,2) -> 33 | T9: =SUMPRODUCT(((YEAR(Fréquentations!$E$9:$E$206)='Statistiques par mois'!$A$5)*(MONTH(Fréquentations!$E$9:$E$206)=MONTH(1&T$5)*(Fréquentations!$F$9:$F$206='Statistiques par mois'!S9)))) -> 0 | U9: =IF(ISERROR(SUMPRODUCT(((YEAR(Fréquentations!$E$9:$E$206)=$A$5)*(MONTH(Fréquentations!$E$9:$E$206)=MONTH(1&T$5)*(Fréquentations!$F$9:$F$206=S9))*(Fréquentations!$I$9:$I$206)))/T9),"",SUMPRODUCT(((YEAR(Fréquentations!$E$9:$E$206)=$A$5)*(MONTH(Fréquentations!$E$9:$E$206)=MONTH(1&T$5)*(Fréquentations!$F$9:$F$206=S9))*(Fréquentations!$I$9:$I$206)))/T9) | V9: =V8+7 -> 41897 | W9: =WEEKNUM(V9,2) -> 38 | X9: =SUMPRODUCT(((YEAR(Fréquentations!$E$9:$E$206)='Statistiques par mois'!$A$5)*(MONTH(Fréquentations!$E$9:$E$206)=MONTH(1&X$5)*(Fréquentations!$F$9:$F$206='Statistiques par mois'!W9)))) -> 0 | Y9: =IF(ISERROR(SUMPRODUCT(((YEAR(Fréquentations!$E$9:$E$206)=$A$5)*(MONTH(Fréquentations!$E$9:$E$206)=MONTH(1&X$5)*(Fréquentations!$F$9:$F$206=W9))*(Fréquentations!$I$9:$I$206)))/X9),"",SUMPRODUCT(((YEAR(Fréquentations!$E$9:$E$206)=$A$5)*(MONTH(Fréquentations!$E$9:$E$206)=MONTH(1&X$5)*(Fréquentations!$F$9:$F$206=W9))*(Fréquentations!$I$9:$I$206)))/X9) | Z9: =Z8+7 -> 41927 | AA9: =WEEKNUM(Z9,2) -> 42 | AB9: =SUMPRODUCT(((YEAR(Fréquentations!$E$9:$E$206)='Statistiques par mois'!$A$5)*(MONTH(Fréquentations!$E$9:$E$206)=MONTH(1&AB$5)*(Fréquentations!$F$9:$F$206='Statistiques par mois'!AA9)))) -> 0 | AC9: =IF(ISERROR(SUMPRODUCT(((YEAR(Fréquentations!$E$9:$E$206)=$A$5)*(MONTH(Fréquentations!$E$9:$E$206)=MONTH(1&AB$5)*(Fréquentations!$F$9:$F$206=AA9))*(Fréquentations!$I$9:$I$206)))/AB9),"",SUMPRODUCT(((YEAR(Fréquentations!$E$9:$E$206)=$A$5)*(MONTH(Fréquentations!$E$9:$E$206)=MONTH(1&AB$5)*(Fréquentations!$F$9:$F$206=AA9))*(Fréquentations!$I$9:$I$206)))/AB9) | AD9: =AD8+7 -> 41958 | AE9: =WEEKNUM(AD9,2) -> 46 | AF9: =SUMPRODUCT(((YEAR(Fréquentations!$E$9:$E$206)='Statistiques par mois'!$A$5)*(MONTH(Fréquentations!$E$9:$E$206)=MONTH(1&AF$5)*(Fréquentations!$F$9:$F$206='Statistiques par mois'!AE9)))) -> 0 | AG9: =IF(ISERROR(SUMPRODUCT(((YEAR(Fréquentations!$E$9:$E$206)=$A$5)*(MONTH(Fréquentations!$E$9:$E$206)=MONTH(1&AF$5)*(Fréquentations!$F$9:$F$206=AE9))*(Fréquentations!$I$9:$I$206)))/AF9),"",SUMPRODUCT(((YEAR(Fréquentations!$E$9:$E$206)=$A$5)*(MONTH(Fréquentations!$E$9:$E$206)=MONTH(1&AF$5)*(Fréquentations!$F$9:$F$206=AE9))*(Fréquentations!$I$9:$I$206)))/AF9) | AH9: =AH8+7 -> 41988 | AI9: =WEEKNUM(AH9,2) -> 51 | AJ9: =SUMPRODUCT(((YEAR(Fréquentations!$E$9:$E$206)='Statistiques par mois'!$A$5)*(MONTH(Fréquentations!$E$9:$E$206)=MONTH(1&AJ$5)*(Fréquentations!$F$9:$F$206='Statistiques par mois'!AI9)))) -> 0 | AK9: =IF(ISERROR(SUMPRODUCT(((YEAR(Fréquentations!$E$9:$E$206)=$A$5)*(MONTH(Fréquentations!$E$9:$E$206)=MONTH(1&AJ$5)*(Fréquentations!$F$9:$F$206=AI9))*(Fréquentations!$I$9:$I$206)))/AJ9),"",SUMPRODUCT(((YEAR(Fréquentations!$E$9:$E$206)=$A$5)*(MONTH(Fréquentations!$E$9:$E$206)=MONTH(1&AJ$5)*(Fréquentations!$F$9:$F$206=AI9))*(Fréquentations!$I$9:$I$206)))/AJ9)
A10: Sem. 4 | B10: =B9+7 -> 41751 | C10: =WEEKNUM(B10,2) -> 17 | D10: =SUMPRODUCT(((YEAR(Fréquentations!$E$9:$E$206)='Statistiques par mois'!$A$5)*(MONTH(Fréquentations!$E$9:$E$206)=MONTH(1&D$5)*(Fréquentations!$F$9:$F$206='Statistiques par mois'!C10)))) -> 0 | E10: =IF(ISERROR(SUMPRODUCT(((YEAR(Fréquentations!$E$9:$E$206)=$A$5)*(MONTH(Fréquentations!$E$9:$E$206)=MONTH(1&D$5)*(Fréquentations!$F$9:$F$206=C10))*(Fréquentations!$I$9:$I$206)))/D10),"",SUMPRODUCT(((YEAR(Fréquentations!$E$9:$E$206)=$A$5)*(MONTH(Fréquentations!$E$9:$E$206)=MONTH(1&D$5)*(Fréquentations!$F$9:$F$206=C10))*(Fréquentations!$I$9:$I$206)))/D10) | F10: =F9+7 -> 41781 | G10: =WEEKNUM(F10,2) -> 21 | H10: =SUMPRODUCT(((YEAR(Fréquentations!$E$9:$E$206)='Statistiques par mois'!$A$5)*(MONTH(Fréquentations!$E$9:$E$206)=MONTH(1&H$5)*(Fréquentations!$F$9:$F$206='Statistiques par mois'!G10)))) -> 0 | I10: =IF(ISERROR(SUMPRODUCT(((YEAR(Fréquentations!$E$9:$E$206)=$A$5)*(MONTH(Fréquentations!$E$9:$E$206)=MONTH(1&H$5)*(Fréquentations!$F$9:$F$206=G10))*(Fréquentations!$I$9:$I$206)))/H10),"",SUMPRODUCT(((YEAR(Fréquentations!$E$9:$E$206)=$A$5)*(MONTH(Fréquentations!$E$9:$E$206)=MONTH(1&H$5)*(Fréquentations!$F$9:$F$206=G10))*(Fréquentations!$I$9:$I$206)))/H10) | J10: =J9+7 -> 41812 | K10: =WEEKNUM(J10,2) -> 25 | L10: =SUMPRODUCT(((YEAR(Fréquentations!$E$9:$E$206)='Statistiques par mois'!$A$5)*(MONTH(Fréquentations!$E$9:$E$206)=MONTH(1&L$5)*(Fréquentations!$F$9:$F$206='Statistiques par mois'!K10)))) -> 0 | M10: =IF(ISERROR(SUMPRODUCT(((YEAR(Fréquentations!$E$9:$E$206)=$A$5)*(MONTH(Fréquentations!$E$9:$E$206)=MONTH(1&L$5)*(Fréquentations!$F$9:$F$206=K10))*(Fréquentations!$I$9:$I$206)))/L10),"",SUMPRODUCT(((YEAR(Fréquentations!$E$9:$E$206)=$A$5)*(MONTH(Fréquentations!$E$9:$E$206)=MONTH(1&L$5)*(Fréquentations!$F$9:$F$206=K10))*(Fréquentations!$I$9:$I$206)))/L10) | N10: =N9+7 -> 41842 | O10: =WEEKNUM(N10,2) -> 30 | P10: =SUMPRODUCT(((YEAR(Fréquentations!$E$9:$E$206)='Statistiques par mois'!$A$5)*(MONTH(Fréquentations!$E$9:$E$206)=MONTH(1&P$5)*(Fréquentations!$F$9:$F$206='Statistiques par mois'!O10)))) -> 0 | Q10: =IF(ISERROR(SUMPRODUCT(((YEAR(Fréquentations!$E$9:$E$206)=$A$5)*(MONTH(Fréquentations!$E$9:$E$206)=MONTH(1&P$5)*(Fréquentations!$F$9:$F$206=O10))*(Fréquentations!$I$9:$I$206)))/P10),"",SUMPRODUCT(((YEAR(Fréquentations!$E$9:$E$206)=$A$5)*(MONTH(Fréquentations!$E$9:$E$206)=MONTH(1&P$5)*(Fréquentations!$F$9:$F$206=O10))*(Fréquentations!$I$9:$I$206)))/P10) | R10: =R9+7 -> 41873 | S10: =WEEKNUM(R10,2) -> 34 | T10: =SUMPRODUCT(((YEAR(Fréquentations!$E$9:$E$206)='Statistiques par mois'!$A$5)*(MONTH(Fréquentations!$E$9:$E$206)=MONTH(1&T$5)*(Fréquentations!$F$9:$F$206='Statistiques par mois'!S10)))) -> 0 | U10: =IF(ISERROR(SUMPRODUCT(((YEAR(Fréquentations!$E$9:$E$206)=$A$5)*(MONTH(Fréquentations!$E$9:$E$206)=MONTH(1&T$5)*(Fréquentations!$F$9:$F$206=S10))*(Fréquentations!$I$9:$I$206)))/T10),"",SUMPRODUCT(((YEAR(Fréquentations!$E$9:$E$206)=$A$5)*(MONTH(Fréquentations!$E$9:$E$206)=MONTH(1&T$5)*(Fréquentations!$F$9:$F$206=S10))*(Fréquentations!$I$9:$I$206)))/T10) | V10: =V9+7 -> 41904 | W10: =WEEKNUM(V10,2) -> 39 | X10: =SUMPRODUCT(((YEAR(Fréquentations!$E$9:$E$206)='Statistiques par mois'!$A$5)*(MONTH(Fréquentations!$E$9:$E$206)=MONTH(1&X$5)*(Fréquentations!$F$9:$F$206='Statistiques par mois'!W10)))) -> 0 | Y10: =IF(ISERROR(SUMPRODUCT(((YEAR(Fréquentations!$E$9:$E$206)=$A$5)*(MONTH(Fréquentations!$E$9:$E$206)=MONTH(1&X$5)*(Fréquentations!$F$9:$F$206=W10))*(Fréquentations!$I$9:$I$206)))/X10),"",SUMPRODUCT(((YEAR(Fréquentations!$E$9:$E$206)=$A$5)*(MONTH(Fréquentations!$E$9:$E$206)=MONTH(1&X$5)*(Fréquentations!$F$9:$F$206=W10))*(Fréquentations!$I$9:$I$206)))/X10) | Z10: =Z9+7 -> 41934 | AA10: =WEEKNUM(Z10,2) -> 43 | AB10: =SUMPRODUCT(((YEAR(Fréquentations!$E$9:$E$206)='Statistiques par mois'!$A$5)*(MONTH(Fréquentations!$E$9:$E$206)=MONTH(1&AB$5)*(Fréquentations!$F$9:$F$206='Statistiques par mois'!AA10)))) -> 0 | AC10: =IF(ISERROR(SUMPRODUCT(((YEAR(Fréquentations!$E$9:$E$206)=$A$5)*(MONTH(Fréquentations!$E$9:$E$206)=MONTH(1&AB$5)*(Fréquentations!$F$9:$F$206=AA10))*(Fréquentations!$I$9:$I$206)))/AB10),"",SUMPRODUCT(((YEAR(Fréquentations!$E$9:$E$206)=$A$5)*(MONTH(Fréquentations!$E$9:$E$206)=MONTH(1&AB$5)*(Fréquentations!$F$9:$F$206=AA10))*(Fréquentations!$I$9:$I$206)))/AB10) | AD10: =AD9+7 -> 41965 | AE10: =WEEKNUM(AD10,2) -> 47 | AF10: =SUMPRODUCT(((YEAR(Fréquentations!$E$9:$E$206)='Statistiques par mois'!$A$5)*(MONTH(Fréquentations!$E$9:$E$206)=MONTH(1&AF$5)*(Fréquentations!$F$9:$F$206='Statistiques par mois'!AE10)))) -> 0 | AG10: =IF(ISERROR(SUMPRODUCT(((YEAR(Fréquentations!$E$9:$E$206)=$A$5)*(MONTH(Fréquentations!$E$9:$E$206)=MONTH(1&AF$5)*(Fréquentations!$F$9:$F$206=AE10))*(Fréquentations!$I$9:$I$206)))/AF10),"",SUMPRODUCT(((YEAR(Fréquentations!$E$9:$E$206)=$A$5)*(MONTH(Fréquentations!$E$9:$E$206)=MONTH(1&AF$5)*(Fréquentations!$F$9:$F$206=AE10))*(Fréquentations!$I$9:$I$206)))/AF10) | AH10: =AH9+7 -> 41995 | AI10: =WEEKNUM(AH10,2) -> 52 | AJ10: =SUMPRODUCT(((YEAR(Fréquentations!$E$9:$E$206)='Statistiques par mois'!$A$5)*(MONTH(Fréquentations!$E$9:$E$206)=MONTH(1&AJ$5)*(Fréquentations!$F$9:$F$206='Statistiques par mois'!AI10)))) -> 0 | AK10: =IF(ISERROR(SUMPRODUCT(((YEAR(Fréquentations!$E$9:$E$206)=$A$5)*(MONTH(Fréquentations!$E$9:$E$206)=MONTH(1&AJ$5)*(Fréquentations!$F$9:$F$206=AI10))*(Fréquentations!$I$9:$I$206)))/AJ10),"",SUMPRODUCT(((YEAR(Fréquentations!$E$9:$E$206)=$A$5)*(MONTH(Fréquentations!$E$9:$E$206)=MONTH(1&AJ$5)*(Fréquentations!$F$9:$F$206=AI10))*(Fréquentations!$I$9:$I$206)))/AJ10)
A11: Sem. 5 | B11: =B10+7 -> 41758 | C11: =WEEKNUM(B11,2) -> 18 | D11: =SUMPRODUCT(((YEAR(Fréquentations!$E$9:$E$206)='Statistiques par mois'!$A$5)*(MONTH(Fréquentations!$E$9:$E$206)=MONTH(1&D$5)*(Fréquentations!$F$9:$F$206='Statistiques par mois'!C11)))) -> 0 | E11: =IF(ISERROR(SUMPRODUCT(((YEAR(Fréquentations!$E$9:$E$206)=$A$5)*(MONTH(Fréquentations!$E$9:$E$206)=MONTH(1&D$5)*(Fréquentations!$F$9:$F$206=C11))*(Fréquentations!$I$9:$I$206)))/D11),"",SUMPRODUCT(((YEAR(Fréquentations!$E$9:$E$206)=$A$5)*(MONTH(Fréquentations!$E$9:$E$206)=MONTH(1&D$5)*(Fréquentations!$F$9:$F$206=C11))*(Fréquentations!$I$9:$I$206)))/D11) | F11: =F10+7 -> 41788 | G11: =WEEKNUM(F11,2) -> 22 | H11: =SUMPRODUCT(((YEAR(Fréquentations!$E$9:$E$206)='Statistiques par mois'!$A$5)*(MONTH(Fréquentations!$E$9:$E$206)=MONTH(1&H$5)*(Fréquentations!$F$9:$F$206='Statistiques par mois'!G11)))) -> 0 | I11: =IF(ISERROR(SUMPRODUCT(((YEAR(Fréquentations!$E$9:$E$206)=$A$5)*(MONTH(Fréquentations!$E$9:$E$206)=MONTH(1&H$5)*(Fréquentations!$F$9:$F$206=G11))*(Fréquentations!$I$9:$I$206)))/H11),"",SUMPRODUCT(((YEAR(Fréquentations!$E$9:$E$206)=$A$5)*(MONTH(Fréquentations!$E$9:$E$206)=MONTH(1&H$5)*(Fréquentations!$F$9:$F$206=G11))*(Fréquentations!$I$9:$I$206)))/H11) | J11: =J10+7 -> 41819 | K11: =WEEKNUM(J11,2) -> 26 | L11: =SUMPRODUCT(((YEAR(Fréquentations!$E$9:$E$206)='Statistiques par mois'!$A$5)*(MONTH(Fréquentations!$E$9:$E$206)=MONTH(1&L$5)*(Fréquentations!$F$9:$F$206='Statistiques par mois'!K11)))) -> 0 | M11: =IF(ISERROR(SUMPRODUCT(((YEAR(Fréquentations!$E$9:$E$206)=$A$5)*(MONTH(Fréquentations!$E$9:$E$206)=MONTH(1&L$5)*(Fréquentations!$F$9:$F$206=K11))*(Fréquentations!$I$9:$I$206)))/L11),"",SUMPRODUCT(((YEAR(Fréquentations!$E$9:$E$206)=$A$5)*(MONTH(Fréquentations!$E$9:$E$206)=MONTH(1&L$5)*(Fréquentations!$F$9:$F$206=K11))*(Fréquentations!$I$9:$I$206)))/L11) | N11: =N10+7 -> 41849 | O11: =WEEKNUM(N11,2) -> 31 | P11: =SUMPRODUCT(((YEAR(Fréquentations!$E$9:$E$206)='Statistiques par mois'!$A$5)*(MONTH(Fréquentations!$E$9:$E$206)=MONTH(1&P$5)*(Fréquentations!$F$9:$F$206='Statistiques par mois'!O11)))) -> 0 | Q11: =IF(ISERROR(SUMPRODUCT(((YEAR(Fréquentations!$E$9:$E$206)=$A$5)*(MONTH(Fréquentations!$E$9:$E$206)=MONTH(1&P$5)*(Fréquentations!$F$9:$F$206=O11))*(Fréquentations!$I$9:$I$206)))/P11),"",SUMPRODUCT(((YEAR(Fréquentations!$E$9:$E$206)=$A$5)*(MONTH(Fréquentations!$E$9:$E$206)=MONTH(1&P$5)*(Fréquentations!$F$9:$F$206=O11))*(Fréquentations!$I$9:$I$206)))/P11) | R11: =R10+7 -> 41880 | S11: =WEEKNUM(R11,2) -> 35 | T11: =SUMPRODUCT(((YEAR(Fréquentations!$E$9:$E$206)='Statistiques par mois'!$A$5)*(MONTH(Fréquentations!$E$9:$E$206)=MONTH(1&T$5)*(Fréquentations!$F$9:$F$206='Statistiques par mois'!S11)))) -> 0 | U11: =IF(ISERROR(SUMPRODUCT(((YEAR(Fréquentations!$E$9:$E$206)=$A$5)*(MONTH(Fréquentations!$E$9:$E$206)=MONTH(1&T$5)*(Fréquentations!$F$9:$F$206=S11))*(Fréquentations!$I$9:$I$206)))/T11),"",SUMPRODUCT(((YEAR(Fréquentations!$E$9:$E$206)=$A$5)*(MONTH(Fréquentations!$E$9:$E$206)=MONTH(1&T$5)*(Fréquentations!$F$9:$F$206=S11))*(Fréquentations!$I$9:$I$206)))/T11) | V11: =V10+7 -> 41911 | W11: =WEEKNUM(V11,2) -> 40 | X11: =SUMPRODUCT(((YEAR(Fréquentations!$E$9:$E$206)='Statistiques par mois'!$A$5)*(MONTH(Fréquentations!$E$9:$E$206)=MONTH(1&X$5)*(Fréquentations!$F$9:$F$206='Statistiques par mois'!W11)))) -> 0 | Y11: =IF(ISERROR(SUMPRODUCT(((YEAR(Fréquentations!$E$9:$E$206)=$A$5)*(MONTH(Fréquentations!$E$9:$E$206)=MONTH(1&X$5)*(Fréquentations!$F$9:$F$206=W11))*(Fréquentations!$I$9:$I$206)))/X11),"",SUMPRODUCT(((YEAR(Fréquentations!$E$9:$E$206)=$A$5)*(MONTH(Fréquentations!$E$9:$E$206)=MONTH(1&X$5)*(Fréquentations!$F$9:$F$206=W11))*(Fréquentations!$I$9:$I$206)))/X11) | Z11: =Z10+7 -> 41941 | AA11: =WEEKNUM(Z11,2) -> 44 | AB11: =SUMPRODUCT(((YEAR(Fréquentations!$E$9:$E$206)='Statistiques par mois'!$A$5)*(MONTH(Fréquentations!$E$9:$E$206)=MONTH(1&AB$5)*(Fréquentations!$F$9:$F$206='Statistiques par mois'!AA11)))) -> 0 | AC11: =IF(ISERROR(SUMPRODUCT(((YEAR(Fréquentations!$E$9:$E$206)=$A$5)*(MONTH(Fréquentations!$E$9:$E$206)=MONTH(1&AB$5)*(Fréquentations!$F$9:$F$206=AA11))*(Fréquentations!$I$9:$I$206)))/AB11),"",SUMPRODUCT(((YEAR(Fréquentations!$E$9:$E$206)=$A$5)*(MONTH(Fréquentations!$E$9:$E$206)=MONTH(1&AB$5)*(Fréquentations!$F$9:$F$206=AA11))*(Fréquentations!$I$9:$I$206)))/AB11) | AD11: =AD10+7 -> 41972 | AE11: =WEEKNUM(AD11,2) -> 48 | AF11: =SUMPRODUCT(((YEAR(Fréquentations!$E$9:$E$206)='Statistiques par mois'!$A$5)*(MONTH(Fréquentations!$E$9:$E$206)=MONTH(1&AF$5)*(Fréquentations!$F$9:$F$206='Statistiques par mois'!AE11)))) -> 0 | AG11: =IF(ISERROR(SUMPRODUCT(((YEAR(Fréquentations!$E$9:$E$206)=$A$5)*(MONTH(Fréquentations!$E$9:$E$206)=MONTH(1&AF$5)*(Fréquentations!$F$9:$F$206=AE11))*(Fréquentations!$I$9:$I$206)))/AF11),"",SUMPRODUCT(((YEAR(Fréquentations!$E$9:$E$206)=$A$5)*(MONTH(Fréquentations!$E$9:$E$206)=MONTH(1&AF$5)*(Fréquentations!$F$9:$F$206=AE11))*(Fréquentations!$I$9:$I$206)))/AF11) | AH11: =AH10+7 -> 42002 | AI11: =WEEKNUM(AH11,2) -> 53 | AJ11: =SUMPRODUCT(((YEAR(Fréquentations!$E$9:$E$206)='Statistiques par mois'!$A$5)*(MONTH(Fréquentations!$E$9:$E$206)=MONTH(1&AJ$5)*(Fréquentations!$F$9:$F$206='Statistiques par mois'!AI11)))) -> 0 | AK11: =IF(ISERROR(SUMPRODUCT(((YEAR(Fréquentations!$E$9:$E$206)=$A$5)*(MONTH(Fréquentations!$E$9:$E$206)=MONTH(1&AJ$5)*(Fréquentations!$F$9:$F$206=AI11))*(Fréquentations!$I$9:$I$206)))/AJ11),"",SUMPRODUCT(((YEAR(Fréquentations!$E$9:$E$206)=$A$5)*(MONTH(Fréquentations!$E$9:$E$206)=MONTH(1&AJ$5)*(Fréquentations!$F$9:$F$206=AI11))*(Fréquentations!$I$9:$I$206)))/AJ11)
A12: Total
A14: 2015 | D14: Janvier | H14: Février | L14: Mars | P14: Avril | T14: Mai | X14: Juin | AB14: Juillet | AF14: Août | AJ14: Septembre | AN14: Octobre | AR14: Novembre | AV14: Décembre
D15: Fréqu. | E15: Durée moyenne | H15: Fréqu. | I15: Durée moyenne | L15: Fréqu. | M15: Durée moyenne | P15: Fréqu. | Q15: Durée moyenne | T15: Fréqu. | U15: Durée moyenne | X15: Fréqu. | Y15: Durée moyenne | AB15: Fréqu. | AC15: Durée moyenne | AF15: Fréqu. | AG15: Durée moyenne | AJ15: Fréqu. | AK15: Durée moyenne | AN15: Fréqu. | AO15: Durée moyenne | AR15: Fréqu. | AS15: Durée moyenne | AV15: Fréqu. | AW15: Durée moyenne
A16: Sem. 1 | B16: =DATE($A$14,MONTH(1&D$14),1) -> 42005 | C16: =WEEKNUM(B16,2) -> 1 | D16: =SUMPRODUCT(((YEAR(Fréquentations!$E$9:$E$206)='Statistiques par mois'!$A$14)*(MONTH(Fréquentations!$E$9:$E$206)=MONTH(1&D$14)*(Fréquentations!$F$9:$F$206='Statistiques par mois'!C16)))) -> 0 | E16: =IF(ISERROR(SUMPRODUCT(((YEAR(Fréquentations!$E$9:$E$206)=$A$14)*(MONTH(Fréquentations!$E$9:$E$206)=MONTH(1&D$14)*(Fréquentations!$F$9:$F$206=C16))*(Fréquentations!$I$9:$I$206)))/D16),"",SUMPRODUCT(((YEAR(Fréquentations!$E$9:$E$206)=$A$14)*(MONTH(Fréquentations!$E$9:$E$206)=MONTH(1&D$14)*(Fréquentations!$F$9:$F$206=C16))*(Fréquentations!$I$9:$I$206)))/D16) | F16: =DATE($A$14,MONTH(1&H$14),1) -> 42036 | G16: =WEEKNUM(F16,2) -> 5 | H16: =SUMPRODUCT(((YEAR(Fréquentations!$E$9:$E$206)='Statistiques par mois'!$A$14)*(MONTH(Fréquentations!$E$9:$E$206)=MONTH(1&H$14)*(Fréquentations!$F$9:$F$206='Statistiques par mois'!G16)))) -> 1 | I16: =IF(ISERROR(SUMPRODUCT(((YEAR(Fréquentations!$E$9:$E$206)=$A$14)*(MONTH(Fréquentations!$E$9:$E$206)=MONTH(1&H$14)*(Fréquentations!$F$9:$F$206=G16))*(Fréquentations!$I$9:$I$206)))/H16),"",SUMPRODUCT(((YEAR(Fréquentations!$E$9:$E$206)=$A$14)*(MONTH(Fréquentations!$E$9:$E$206)=MONTH(1&H$14)*(Fréquentations!$F$9:$F$206=G16))*(Fréquentations!$I$9:$I$206)))/H16) -> 0.027777778 | J16: =DATE($A$14,MONTH(1&L$14),1) -> 42064 | K16: =WEEKNUM(J16,2) -> 9 | L16: =SUMPRODUCT(((YEAR(Fréquentations!$E$9:$E$206)='Statistiques par mois'!$A$14)*(MONTH(Fréquentations!$E$9:$E$206)=MONTH(1&L$14)*(Fréquentations!$F$9:$F$206='Statistiques par mois'!K16)))) -> 0 | M16: =IF(ISERROR(SUMPRODUCT(((YEAR(Fréquentations!$E$9:$E$206)=$A$14)*(MONTH(Fréquentations!$E$9:$E$206)=MONTH(1&L$14)*(Fréquentations!$F$9:$F$206=K16))*(Fréquentations!$I$9:$I$206)))/L16),"",SUMPRODUCT(((YEAR(Fréquentations!$E$9:$E$206)=$A$14)*(MONTH(Fréquentations!$E$9:$E$206)=MONTH(1&L$14)*(Fréquentations!$F$9:$F$206=K16))*(Fréquentations!$I$9:$I$206)))/L16) | N16: =DATE($A$14,MONTH(1&P$14),1) -> 42095 | O16: =WEEKNUM(N16,2) -> 14 | P16: =SUMPRODUCT(((YEAR(Fréquentations!$E$9:$E$206)='Statistiques par mois'!$A$14)*(MONTH(Fréquentations!$E$9:$E$206)=MONTH(1&P$14)*(Fréquentations!$F$9:$F$206='Statistiques par mois'!O16)))) -> 0 | Q16: =IF(ISERROR(SUMPRODUCT(((YEAR(Fréquentations!$E$9:$E$206)=$A$14)*(MONTH(Fréquentations!$E$9:$E$206)=MONTH(1&P$14)*(Fréquentations!$F$9:$F$206=O16))*(Fréquentations!$I$9:$I$206)))/P16),"",SUMPRODUCT(((YEAR(Fréquentations!$E$9:$E$206)=$A$14)*(MONTH(Fréquentations!$E$9:$E$206)=MONTH(1&P$14)*(Fréquentations!$F$9:$F$206=O16))*(Fréquentations!$I$9:$I$206)))/P16) | R16: =DATE($A$14,MONTH(1&T$14),1) -> 42125 | S16: =WEEKNUM(R16,2) -> 18 | T16: =SUMPRODUCT(((YEAR(Fréquentations!$E$9:$E$206)='Statistiques par mois'!$A$14)*(MONTH(Fréquentations!$E$9:$E$206)=MONTH(1&T$14)*(Fréquentations!$F$9:$F$206='Statistiques par mois'!S16)))) -> 0 | U16: =IF(ISERROR(SUMPRODUCT(((YEAR(Fréquentations!$E$9:$E$206)=$A$14)*(MONTH(Fréquentations!$E$9:$E$206)=MONTH(1&T$14)*(Fréquentations!$F$9:$F$206=S16))*(Fréquentations!$I$9:$I$206)))/T16),"",SUMPRODUCT(((YEAR(Fréquentations!$E$9:$E$206)=$A$14)*(MONTH(Fréquentations!$E$9:$E$206)=MONTH(1&T$14)*(Fréquentations!$F$9:$F$206=S16))*(Fréquentations!$I$9:$I$206)))/T16) | V16: =DATE($A$14,MONTH(1&X$14),1) -> 42156 | W16: =WEEKNUM(V16,2) -> 23 | X16: =SUMPRODUCT(((YEAR(Fréquentations!$E$9:$E$206)='Statistiques par mois'!$A$14)*(MONTH(Fréquentations!$E$9:$E$206)=MONTH(1&X$14)*(Fréquentations!$F$9:$F$206='Statistiques par mois'!W16)))) -> 0 | Y16: =IF(ISERROR(SUMPRODUCT(((YEAR(Fréquentations!$E$9:$E$206)=$A$14)*(MONTH(Fréquentations!$E$9:$E$206)=MONTH(1&X$14)*(Fréquentations!$F$9:$F$206=W16))*(Fréquentations!$I$9:$I$206)))/X16),"",SUMPRODUCT(((YEAR(Fréquentations!$E$9:$E$206)=$A$14)*(MONTH(Fréquentations!$E$9:$E$206)=MONTH(1&X$14)*(Fréquentations!$F$9:$F$206=W16))*(Fréquentations!$I$9:$I$206)))/X16) | Z16: =DATE($A$14,MONTH(1&AB$14),1) -> 42186 | AA16: =WEEKNUM(Z16,2) -> 27 | AB16: =SUMPRODUCT(((YEAR(Fréquentations!$E$9:$E$206)='Statistiques par mois'!$A$14)*(MONTH(Fréquentations!$E$9:$E$206)=MONTH(1&AB$14)*(Fréquentations!$F$9:$F$206='Statistiques par mois'!AA16)))) -> 0 | AC16: =IF(ISERROR(SUMPRODUCT(((YEAR(Fréquentations!$E$9:$E$206)=$A$14)*(MONTH(Fréquentations!$E$9:$E$206)=MONTH(1&AB$14)*(Fréquentations!$F$9:$F$206=AA16))*(Fréquentations!$I$9:$I$206)))/AB16),"",SUMPRODUCT(((YEAR(Fréquentations!$E$9:$E$206)=$A$14)*(MONTH(Fréquentations!$E$9:$E$206)=MONTH(1&AB$14)*(Fréquentations!$F$9:$F$206=AA16))*(Fréquentations!$I$9:$I$206)))/AB16) | AD16: =DATE($A$14,MONTH(1&AF$14),1) -> 42217 | AE16: =WEEKNUM(AD16,2) -> 31 | AF16: =SUMPRODUCT(((YEAR(Fréquentations!$E$9:$E$206)='Statistiques par mois'!$A$14)*(MONTH(Fréquentations!$E$9:$E$206)=MONTH(1&AF$14)*(Fréquentations!$F$9:$F$206='Statistiques par mois'!AE16)))) -> 0 | AG16: =IF(ISERROR(SUMPRODUCT(((YEAR(Fréquentations!$E$9:$E$206)=$A$14)*(MONTH(Fréquentations!$E$9:$E$206)=MONTH(1&AF$14)*(Fréquentations!$F$9:$F$206=AE16))*(Fréquentations!$I$9:$I$206)))/AF16),"",SUMPRODUCT(((YEAR(Fréquentations!$E$9:$E$206)=$A$14)*(MONTH(Fréquentations!$E$9:$E$206)=MONTH(1&AF$14)*(Fréquentations!$F$9:$F$206=AE16))*(Fréquentations!$I$9:$I$206)))/AF16) | AH16: =DATE($A$14,MONTH(1&AJ$14),1) -> 42248 | AI16: =WEEKNUM(AH16,2) -> 36 | AJ16: =SUMPRODUCT(((YEAR(Fréquentations!$E$9:$E$206)='Statistiques par mois'!$A$14)*(MONTH(Fréquentations!$E$9:$E$206)=MONTH(1&AJ$14)*(Fréquentations!$F$9:$F$206='Statistiques par mois'!AI16)))) -> 0 | AK16: =IF(ISERROR(SUMPRODUCT(((YEAR(Fréquentations!$E$9:$E$206)=$A$14)*(MONTH(Fréquentations!$E$9:$E$206)=MONTH(1&AJ$14)*(Fréquentations!$F$9:$F$206=AI16))*(Fréquentations!$I$9:$I$206)))/AJ16),"",SUMPRODUCT(((YEAR(Fréquentations!$E$9:$E$206)=$A$14)*(MONTH(Fréquentations!$E$9:$E$206)=MONTH(1&AJ$14)*(Fréquentations!$F$9:$F$206=AI16))*(Fréquentations!$I$9:$I$206)))/AJ16) | AL16: =DATE($A$14,MONTH(1&AN$14),1) -> 42278 | AM16: =WEEKNUM(AL16,2) -> 40 | AN16: =SUMPRODUCT(((YEAR(Fréquentations!$E$9:$E$206)='Statistiques par mois'!$A$14)*(MONTH(Fréquentations!$E$9:$E$206)=MONTH(1&AN$14)*(Fréquentations!$F$9:$F$206='Statistiques par mois'!AM16)))) -> 0 | AO16: =IF(ISERROR(SUMPRODUCT(((YEAR(Fréquentations!$E$9:$E$206)=$A$14)*(MONTH(Fréquentations!$E$9:$E$206)=MONTH(1&AN$14)*(Fréquentations!$F$9:$F$206=AM16))*(Fréquentations!$I$9:$I$206)))/AN16),"",SUMPRODUCT(((YEAR(Fréquentations!$E$9:$E$206)=$A$14)*(MONTH(Fréquentations!$E$9:$E$206)=MONTH(1&AN$14)*(Fréquentations!$F$9:$F$206=AM16))*(Fréquentations!$I$9:$I$206)))/AN16) | AP16: =DATE($A$14,MONTH(1&AR$14),1) -> 42309 | AQ16: =WEEKNUM(AP16,2) -> 44 | AR16: =SUMPRODUCT(((YEAR(Fréquentations!$E$9:$E$206)='Statistiques par mois'!$A$14)*(MONTH(Fréquentations!$E$9:$E$206)=MONTH(1&AR$14)*(Fréquentations!$F$9:$F$206='Statistiques par mois'!AQ16)))) -> 0 | AS16: =IF(ISERROR(SUMPRODUCT(((YEAR(Fréquentations!$E$9:$E$206)=$A$14)*(MONTH(Fréquentations!$E$9:$E$206)=MONTH(1&AR$14)*(Fréquentations!$F$9:$F$206=AQ16))*(Fréquentations!$I$9:$I$206)))/AR16),"",SUMPRODUCT(((YEAR(Fréquentations!$E$9:$E$206)=$A$14)*(MONTH(Fréquentations!$E$9:$E$206)=MONTH(1&AR$14)*(Fréquentations!$F$9:$F$206=AQ16))*(Fréquentations!$I$9:$I$206)))/AR16) | AT16: =DATE($A$14,MONTH(1&AV$14),1) -> 42339 | AU16: =WEEKNUM(AT16,2) -> 49 | AV16: =SUMPRODUCT(((YEAR(Fréquentations!$E$9:$E$206)='Statistiques par mois'!$A$14)*(MONTH(Fréquentations!$E$9:$E$206)=MONTH(1&AV$14)*(Fréquentations!$F$9:$F$206='Statistiques par mois'!AU16)))) -> 0 | AW16: =IF(ISERROR(SUMPRODUCT(((YEAR(Fréquentations!$E$9:$E$206)=$A$14)*(MONTH(Fréquentations!$E$9:$E$206)=MONTH(1&AV$14)*(Fréquentations!$F$9:$F$206=AU16))*(Fréquentations!$I$9:$I$206)))/AV16),"",SUMPRODUCT(((YEAR(Fréquentations!$E$9:$E$206)=$A$14)*(MONTH(Fréquentations!$E$9:$E$206)=MONTH(1&AV$14)*(Fréquentations!$F$9:$F$206=AU16))*(Fréquentations!$I$9:$I$206)))/AV16)
A17: Sem. 2 | B17: =B16+7 -> 42012 | C17: =WEEKNUM(B17,2) -> 2 | D17: =SUMPRODUCT(((YEAR(Fréquentations!$E$9:$E$206)='Statistiques par mois'!$A$14)*(MONTH(Fréquentations!$E$9:$E$206)=MONTH(1&D$14)*(Fréquentations!$F$9:$F$206='Statistiques par mois'!C17)))) -> 0 | E17: =IF(ISERROR(SUMPRODUCT(((YEAR(Fréquentations!$E$9:$E$206)=$A$14)*(MONTH(Fréquentations!$E$9:$E$206)=MONTH(1&D$14)*(Fréquentations!$F$9:$F$206=C17))*(Fréquentations!$I$9:$I$206)))/D17),"",SUMPRODUCT(((YEAR(Fréquentations!$E$9:$E$206)=$A$14)*(MONTH(Fréquentations!$E$9:$E$206)=MONTH(1&D$14)*(Fréquentations!$F$9:$F$206=C17))*(Fréquentations!$I$9:$I$206)))/D17) | F17: =F16+7 -> 42043 | G17: =WEEKNUM(F17,2) -> 6 | H17: =SUMPRODUCT(((YEAR(Fréquentations!$E$9:$E$206)='Statistiques par mois'!$A$14)*(MONTH(Fréquentations!$E$9:$E$206)=MONTH(1&H$14)*(Fréquentations!$F$9:$F$206='Statistiques par mois'!G17)))) -> 0 | I17: =IF(ISERROR(SUMPRODUCT(((YEAR(Fréquentations!$E$9:$E$206)=$A$14)*(MONTH(Fréquentations!$E$9:$E$206)=MONTH(1&H$14)*(Fréquentations!$F$9:$F$206=G17))*(Fréquentations!$I$9:$I$206)))/H17),"",SUMPRODUCT(((YEAR(Fréquentations!$E$9:$E$206)=$A$14)*(MONTH(Fréquentations!$E$9:$E$206)=MONTH(1&H$14)*(Fréquentations!$F$9:$F$206=G17))*(Fréquentations!$I$9:$I$206)))/H17) | J17: =J16+7 -> 42071 | K17: =WEEKNUM(J17,2) -> 10 | L17: =SUMPRODUCT(((YEAR(Fréquentations!$E$9:$E$206)='Statistiques par mois'!$A$14)*(MONTH(Fréquentations!$E$9:$E$206)=MONTH(1&L$14)*(Fréquentations!$F$9:$F$206='Statistiques par mois'!K17)))) -> 0 | M17: =IF(ISERROR(SUMPRODUCT(((YEAR(Fréquentations!$E$9:$E$206)=$A$14)*(MONTH(Fréquentations!$E$9:$E$206)=MONTH(1&L$14)*(Fréquentations!$F$9:$F$206=K17))*(Fréquentations!$I$9:$I$206)))/L17),"",SUMPRODUCT(((YEAR(Fréquentations!$E$9:$E$206)=$A$14)*(MONTH(Fréquentations!$E$9:$E$206)=MONTH(1&L$14)*(Fréquentations!$F$9:$F$206=K17))*(Fréquentations!$I$9:$I$206)))/L17) | N17: =N16+7 -> 42102 | O17: =WEEKNUM(N17,2) -> 15 | P17: =SUMPRODUCT(((YEAR(Fréquentations!$E$9:$E$206)='Statistiques par mois'!$A$14)*(MONTH(Fréquentations!$E$9:$E$206)=MONTH(1&P$14)*(Fréquentations!$F$9:$F$206='Statistiques par mois'!O17)))) -> 0 | Q17: =IF(ISERROR(SUMPRODUCT(((YEAR(Fréquentations!$E$9:$E$206)=$A$14)*(MONTH(Fréquentations!$E$9:$E$206)=MONTH(1&P$14)*(Fréquentations!$F$9:$F$206=O17))*(Fréquentations!$I$9:$I$206)))/P17),"",SUMPRODUCT(((YEAR(Fréquentations!$E$9:$E$206)=$A$14)*(MONTH(Fréquentations!$E$9:$E$206)=MONTH(1&P$14)*(Fréquentations!$F$9:$F$206=O17))*(Fréquentations!$I$9:$I$206)))/P17) | R17: =R16+7 -> 42132 | S17: =WEEKNUM(R17,2) -> 19 | T17: =SUMPRODUCT(((YEAR(Fréquentations!$E$9:$E$206)='Statistiques par mois'!$A$14)*(MONTH(Fréquentations!$E$9:$E$206)=MONTH(1&T$14)*(Fréquentations!$F$9:$F$206='Statistiques par mois'!S17)))) -> 0 | U17: =IF(ISERROR(SUMPRODUCT(((YEAR(Fréquentations!$E$9:$E$206)=$A$14)*(MONTH(Fréquentations!$E$9:$E$206)=MONTH(1&T$14)*(Fréquentations!$F$9:$F$206=S17))*(Fréquentations!$I$9:$I$206)))/T17),"",SUMPRODUCT(((YEAR(Fréquentations!$E$9:$E$206)=$A$14)*(MONTH(Fréquentations!$E$9:$E$206)=MONTH(1&T$14)*(Fréquentations!$F$9:$F$206=S17))*(Fréquentations!$I$9:$I$206)))/T17) | V17: =V16+7 -> 42163 | W17: =WEEKNUM(V17,2) -> 24 | X17: =SUMPRODUCT(((YEAR(Fréquentations!$E$9:$E$206)='Statistiques par mois'!$A$14)*(MONTH(Fréquentations!$E$9:$E$206)=MONTH(1&X$14)*(Fréquentations!$F$9:$F$206='Statistiques par mois'!W17)))) -> 0 | Y17: =IF(ISERROR(SUMPRODUCT(((YEAR(Fréquentations!$E$9:$E$206)=$A$14)*(MONTH(Fréquentations!$E$9:$E$206)=MONTH(1&X$14)*(Fréquentations!$F$9:$F$206=W17))*(Fréquentations!$I$9:$I$206)))/X17),"",SUMPRODUCT(((YEAR(Fréquentations!$E$9:$E$206)=$A$14)*(MONTH(Fréquentations!$E$9:$E$206)=MONTH(1&X$14)*(Fréquentations!$F$9:$F$206=W17))*(Fréquentations!$I$9:$I$206)))/X17) | Z17: =Z16+7 -> 42193 | AA17: =WEEKNUM(Z17,2) -> 28 | AB17: =SUMPRODUCT(((YEAR(Fréquentations!$E$9:$E$206)='Statistiques par mois'!$A$14)*(MONTH(Fréquentations!$E$9:$E$206)=MONTH(1&AB$14)*(Fréquentations!$F$9:$F$206='Statistiques par mois'!AA17)))) -> 0 | AC17: =IF(ISERROR(SUMPRODUCT(((YEAR(Fréquentations!$E$9:$E$206)=$A$14)*(MONTH(Fréquentations!$E$9:$E$206)=MONTH(1&AB$14)*(Fréquentations!$F$9:$F$206=AA17))*(Fréquentations!$I$9:$I$206)))/AB17),"",SUMPRODUCT(((YEAR(Fréquentations!$E$9:$E$206)=$A$14)*(MONTH(Fréquentations!$E$9:$E$206)=MONTH(1&AB$14)*(Fréquentations!$F$9:$F$206=AA17))*(Fréquentations!$I$9:$I$206)))/AB17) | AD17: =AD16+7 -> 42224 | AE17: =WEEKNUM(AD17,2) -> 32 | AF17: =SUMPRODUCT(((YEAR(Fréquentations!$E$9:$E$206)='Statistiques par mois'!$A$14)*(MONTH(Fréquentations!$E$9:$E$206)=MONTH(1&AF$14)*(Fréquentations!$F$9:$F$206='Statistiques par mois'!AE17)))) -> 0 | AG17: =IF(ISERROR(SUMPRODUCT(((YEAR(Fréquentations!$E$9:$E$206)=$A$14)*(MONTH(Fréquentations!$E$9:$E$206)=MONTH(1&AF$14)*(Fréquentations!$F$9:$F$206=AE17))*(Fréquentations!$I$9:$I$206)))/AF17),"",SUMPRODUCT(((YEAR(Fréquentations!$E$9:$E$206)=$A$14)*(MONTH(Fréquentations!$E$9:$E$206)=MONTH(1&AF$14)*(Fréquentations!$F$9:$F$206=AE17))*(Fréquentations!$I$9:$I$206)))/AF17) | AH17: =AH16+7 -> 42255 | AI17: =WEEKNUM(AH17,2) -> 37 | AJ17: =SUMPRODUCT(((YEAR(Fréquentations!$E$9:$E$206)='Statistiques par mois'!$A$14)*(MONTH(Fréquentations!$E$9:$E$206)=MONTH(1&AJ$14)*(Fréquentations!$F$9:$F$206='Statistiques par mois'!AI17)))) -> 0 | AK17: =IF(ISERROR(SUMPRODUCT(((YEAR(Fréquentations!$E$9:$E$206)=$A$14)*(MONTH(Fréquentations!$E$9:$E$206)=MONTH(1&AJ$14)*(Fréquentations!$F$9:$F$206=AI17))*(Fréquentations!$I$9:$I$206)))/AJ17),"",SUMPRODUCT(((YEAR(Fréquentations!$E$9:$E$206)=$A$14)*(MONTH(Fréquentations!$E$9:$E$206)=MONTH(1&AJ$14)*(Fréquentations!$F$9:$F$206=AI17))*(Fréquentations!$I$9:$I$206)))/AJ17) | AL17: =AL16+7 -> 42285 | AM17: =WEEKNUM(AL17,2) -> 41 | AN17: =SUMPRODUCT(((YEAR(Fréquentations!$E$9:$E$206)='Statistiques par mois'!$A$14)*(MONTH(Fréquentations!$E$9:$E$206)=MONTH(1&AN$14)*(Fréquentations!$F$9:$F$206='Statistiques par mois'!AM17)))) -> 0 | AO17: =IF(ISERROR(SUMPRODUCT(((YEAR(Fréquentations!$E$9:$E$206)=$A$14)*(MONTH(Fréquentations!$E$9:$E$206)=MONTH(1&AN$14)*(Fréquentations!$F$9:$F$206=AM17))*(Fréquentations!$I$9:$I$206)))/AN17),"",SUMPRODUCT(((YEAR(Fréquentations!$E$9:$E$206)=$A$14)*(MONTH(Fréquentations!$E$9:$E$206)=MONTH(1&AN$14)*(Fréquentations!$F$9:$F$206=AM17))*(Fréquentations!$I$9:$I$206)))/AN17) | AP17: =AP16+7 -> 42316 | AQ17: =WEEKNUM(AP17,2) -> 45 | AR17: =SUMPRODUCT(((YEAR(Fréquentations!$E$9:$E$206)='Statistiques par mois'!$A$14)*(MONTH(Fréquentations!$E$9:$E$206)=MONTH(1&AR$14)*(Fréquentations!$F$9:$F$206='Statistiques par mois'!AQ17)))) -> 0 | AS17: =IF(ISERROR(SUMPRODUCT(((YEAR(Fréquentations!$E$9:$E$206)=$A$14)*(MONTH(Fréquentations!$E$9:$E$206)=MONTH(1&AR$14)*(Fréquentations!$F$9:$F$206=AQ17))*(Fréquentations!$I$9:$I$206)))/AR17),"",SUMPRODUCT(((YEAR(Fréquentations!$E$9:$E$206)=$A$14)*(MONTH(Fréquentations!$E$9:$E$206)=MONTH(1&AR$14)*(Fréquentations!$F$9:$F$206=AQ17))*(Fréquentations!$I$9:$I$206)))/AR17) | AT17: =AT16+7 -> 42346 | AU17: =WEEKNUM(AT17,2) -> 50 | AV17: =SUMPRODUCT(((YEAR(Fréquentations!$E$9:$E$206)='Statistiques par mois'!$A$14)*(MONTH(Fréquentations!$E$9:$E$206)=MONTH(1&AV$14)*(Fréquentations!$F$9:$F$206='Statistiques par mois'!AU17)))) -> 0 | AW17: =IF(ISERROR(SUMPRODUCT(((YEAR(Fréquentations!$E$9:$E$206)=$A$14)*(MONTH(Fréquentations!$E$9:$E$206)=MONTH(1&AV$14)*(Fréquentations!$F$9:$F$206=AU17))*(Fréquentations!$I$9:$I$206)))/AV17),"",SUMPRODUCT(((YEAR(Fréquentations!$E$9:$E$206)=$A$14)*(MONTH(Fréquentations!$E$9:$E$206)=MONTH(1&AV$14)*(Fréquentations!$F$9:$F$206=AU17))*(Fréquentations!$I$9:$I$206)))/AV17)
A18: Sem. 3 | B18: =B17+7 -> 42019 | C18: =WEEKNUM(B18,2) -> 3 | D18: =SUMPRODUCT(((YEAR(Fréquentations!$E$9:$E$206)='Statistiques par mois'!$A$14)*(MONTH(Fréquentations!$E$9:$E$206)=MONTH(1&D$14)*(Fréquentations!$F$9:$F$206='Statistiques par mois'!C18)))) -> 0 | E18: =IF(ISERROR(SUMPRODUCT(((YEAR(Fréquentations!$E$9:$E$206)=$A$14)*(MONTH(Fréquentations!$E$9:$E$206)=MONTH(1&D$14)*(Fréquentations!$F$9:$F$206=C18))*(Fréquentations!$I$9:$I$206)))/D18),"",SUMPRODUCT(((YEAR(Fréquentations!$E$9:$E$206)=$A$14)*(MONTH(Fréquentations!$E$9:$E$206)=MONTH(1&D$14)*(Fréquentations!$F$9:$F$206=C18))*(Fréquentations!$I$9:$I$206)))/D18) | F18: =F17+7 -> 42050 | G18: =WEEKNUM(F18,2) -> 7 | H18: =SUMPRODUCT(((YEAR(Fréquentations!$E$9:$E$206)='Statistiques par mois'!$A$14)*(MONTH(Fréquentations!$E$9:$E$206)=MONTH(1&H$14)*(Fréquentations!$F$9:$F$206='Statistiques par mois'!G18)))) -> 0 | I18: =IF(ISERROR(SUMPRODUCT(((YEAR(Fréquentations!$E$9:$E$206)=$A$14)*(MONTH(Fréquentations!$E$9:$E$206)=MONTH(1&H$14)*(Fréquentations!$F$9:$F$206=G18))*(Fréquentations!$I$9:$I$206)))/H18),"",SUMPRODUCT(((YEAR(Fréquentations!$E$9:$E$206)=$A$14)*(MONTH(Fréquentations!$E$9:$E$206)=MONTH(1&H$14)*(Fréquentations!$F$9:$F$206=G18))*(Fréquentations!$I$9:$I$206)))/H18) | J18: =J17+7 -> 42078 | K18: =WEEKNUM(J18,2) -> 11 | L18: =SUMPRODUCT(((YEAR(Fréquentations!$E$9:$E$206)='Statistiques par mois'!$A$14)*(MONTH(Fréquentations!$E$9:$E$206)=MONTH(1&L$14)*(Fréquentations!$F$9:$F$206='Statistiques par mois'!K18)))) -> 0 | M18: =IF(ISERROR(SUMPRODUCT(((YEAR(Fréquentations!$E$9:$E$206)=$A$14)*(MONTH(Fréquentations!$E$9:$E$206)=MONTH(1&L$14)*(Fréquentations!$F$9:$F$206=K18))*(Fréquentations!$I$9:$I$206)))/L18),"",SUMPRODUCT(((YEAR(Fréquentations!$E$9:$E$206)=$A$14)*(MONTH(Fréquentations!$E$9:$E$206)=MONTH(1&L$14)*(Fréquentations!$F$9:$F$206=K18))*(Fréquentations!$I$9:$I$206)))/L18) | N18: =N17+7 -> 42109 | O18: =WEEKNUM(N18,2) -> 16 | P18: =SUMPRODUCT(((YEAR(Fréquentations!$E$9:$E$206)='Statistiques par mois'!$A$14)*(MONTH(Fréquentations!$E$9:$E$206)=MONTH(1&P$14)*(Fréquentations!$F$9:$F$206='Statistiques par mois'!O18)))) -> 0 | Q18: =IF(ISERROR(SUMPRODUCT(((YEAR(Fréquentations!$E$9:$E$206)=$A$14)*(MONTH(Fréquentations!$E$9:$E$206)=MONTH(1&P$14)*(Fréquentations!$F$9:$F$206=O18))*(Fréquentations!$I$9:$I$206)))/P18),"",SUMPRODUCT(((YEAR(Fréquentations!$E$9:$E$206)=$A$14)*(MONTH(Fréquentations!$E$9:$E$206)=MONTH(1&P$14)*(Fréquentations!$F$9:$F$206=O18))*(Fréquentations!$I$9:$I$206)))/P18) | R18: =R17+7 -> 42139 | S18: =WEEKNUM(R18,2) -> 20 | T18: =SUMPRODUCT(((YEAR(Fréquentations!$E$9:$E$206)='Statistiques par mois'!$A$14)*(MONTH(Fréquentations!$E$9:$E$206)=MONTH(1&T$14)*(Fréquentations!$F$9:$F$206='Statistiques par mois'!S18)))) -> 0 | U18: =IF(ISERROR(SUMPRODUCT(((YEAR(Fréquentations!$E$9:$E$206)=$A$14)*(MONTH(Fréquentations!$E$9:$E$206)=MONTH(1&T$14)*(Fréquentations!$F$9:$F$206=S18))*(Fréquentations!$I$9:$I$206)))/T18),"",SUMPRODUCT(((YEAR(Fréquentations!$E$9:$E$206)=$A$14)*(MONTH(Fréquentations!$E$9:$E$206)=MONTH(1&T$14)*(Fréquentations!$F$9:$F$206=S18))*(Fréquentations!$I$9:$I$206)))/T18) | V18: =V17+7 -> 42170 | W18: =WEEKNUM(V18,2) -> 25 | X18: =SUMPRODUCT(((YEAR(Fréquentations!$E$9:$E$206)='Statistiques par mois'!$A$14)*(MONTH(Fréquentations!$E$9:$E$206)=MONTH(1&X$14)*(Fréquentations!$F$9:$F$206='Statistiques par mois'!W18)))) -> 0 | Y18: =IF(ISERROR(SUMPRODUCT(((YEAR(Fréquentations!$E$9:$E$206)=$A$14)*(MONTH(Fréquentations!$E$9:$E$206)=MONTH(1&X$14)*(Fréquentations!$F$9:$F$206=W18))*(Fréquentations!$I$9:$I$206)))/X18),"",SUMPRODUCT(((YEAR(Fréquentations!$E$9:$E$206)=$A$14)*(MONTH(Fréquentations!$E$9:$E$206)=MONTH(1&X$14)*(Fréquentations!$F$9:$F$206=W18))*(Fréquentations!$I$9:$I$206)))/X18) | Z18: =Z17+7 -> 42200 | AA18: =WEEKNUM(Z18,2) -> 29 | AB18: =SUMPRODUCT(((YEAR(Fréquentations!$E$9:$E$206)='Statistiques par mois'!$A$14)*(MONTH(Fréquentations!$E$9:$E$206)=MONTH(1&AB$14)*(Fréquentations!$F$9:$F$206='Statistiques par mois'!AA18)))) -> 0 | AC18: =IF(ISERROR(SUMPRODUCT(((YEAR(Fréquentations!$E$9:$E$206)=$A$14)*(MONTH(Fréquentations!$E$9:$E$206)=MONTH(1&AB$14)*(Fréquentations!$F$9:$F$206=AA18))*(Fréquentations!$I$9:$I$206)))/AB18),"",SUMPRODUCT(((YEAR(Fréquentations!$E$9:$E$206)=$A$14)*(MONTH(Fréquentations!$E$9:$E$206)=MONTH(1&AB$14)*(Fréquentations!$F$9:$F$206=AA18))*(Fréquentations!$I$9:$I$206)))/AB18) | AD18: =AD17+7 -> 42231 | AE18: =WEEKNUM(AD18,2) -> 33 | AF18: =SUMPRODUCT(((YEAR(Fréquentations!$E$9:$E$206)='Statistiques par mois'!$A$14)*(MONTH(Fréquentations!$E$9:$E$206)=MONTH(1&AF$14)*(Fréquentations!$F$9:$F$206='Statistiques par mois'!AE18)))) -> 0 | AG18: =IF(ISERROR(SUMPRODUCT(((YEAR(Fréquentations!$E$9:$E$206)=$A$14)*(MONTH(Fréquentations!$E$9:$E$206)=MONTH(1&AF$14)*(Fréquentations!$F$9:$F$206=AE18))*(Fréquentations!$I$9:$I$206)))/AF18),"",SUMPRODUCT(((YEAR(Fréquentations!$E$9:$E$206)=$A$14)*(MONTH(Fréquentations!$E$9:$E$206)=MONTH(1&AF$14)*(Fréquentations!$F$9:$F$206=AE18))*(Fréquentations!$I$9:$I$206)))/AF18) | AH18: =AH17+7 -> 42262 | AI18: =WEEKNUM(AH18,2) -> 38 | AJ18: =SUMPRODUCT(((YEAR(Fréquentations!$E$9:$E$206)='Statistiques par mois'!$A$14)*(MONTH(Fréquentations!$E$9:$E$206)=MONTH(1&AJ$14)*(Fréquentations!$F$9:$F$206='Statistiques par mois'!AI18)))) -> 0 | AK18: =IF(ISERROR(SUMPRODUCT(((YEAR(Fréquentations!$E$9:$E$206)=$A$14)*(MONTH(Fréquentations!$E$9:$E$206)=MONTH(1&AJ$14)*(Fréquentations!$F$9:$F$206=AI18))*(Fréquentations!$I$9:$I$206)))/AJ18),"",SUMPRODUCT(((YEAR(Fréquentations!$E$9:$E$206)=$A$14)*(MONTH(Fréquentations!$E$9:$E$206)=MONTH(1&AJ$14)*(Fréquentations!$F$9:$F$206=AI18))*(Fréquentations!$I$9:$I$206)))/AJ18) | AL18: =AL17+7 -> 42292 | AM18: =WEEKNUM(AL18,2) -> 42 | AN18: =SUMPRODUCT(((YEAR(Fréquentations!$E$9:$E$206)='Statistiques par mois'!$A$14)*(MONTH(Fréquentations!$E$9:$E$206)=MONTH(1&AN$14)*(Fréquentations!$F$9:$F$206='Statistiques par mois'!AM18)))) -> 0 | AO18: =IF(ISERROR(SUMPRODUCT(((YEAR(Fréquentations!$E$9:$E$206)=$A$14)*(MONTH(Fréquentations!$E$9:$E$206)=MONTH(1&AN$14)*(Fréquentations!$F$9:$F$206=AM18))*(Fréquentations!$I$9:$I$206)))/AN18),"",SUMPRODUCT(((YEAR(Fréquentations!$E$9:$E$206)=$A$14)*(MONTH(Fréquentations!$E$9:$E$206)=MONTH(1&AN$14)*(Fréquentations!$F$9:$F$206=AM18))*(Fréquentations!$I$9:$I$206)))/AN18) | AP18: =AP17+7 -> 42323 | AQ18: =WEEKNUM(AP18,2) -> 46 | AR18: =SUMPRODUCT(((YEAR(Fréquentations!$E$9:$E$206)='Statistiques par mois'!$A$14)*(MONTH(Fréquentations!$E$9:$E$206)=MONTH(1&AR$14)*(Fréquentations!$F$9:$F$206='Statistiques par mois'!AQ18)))) -> 0 | AS18: =IF(ISERROR(SUMPRODUCT(((YEAR(Fréquentations!$E$9:$E$206)=$A$14)*(MONTH(Fréquentations!$E$9:$E$206)=MONTH(1&AR$14)*(Fréquentations!$F$9:$F$206=AQ18))*(Fréquentations!$I$9:$I$206)))/AR18),"",SUMPRODUCT(((YEAR(Fréquentations!$E$9:$E$206)=$A$14)*(MONTH(Fréquentations!$E$9:$E$206)=MONTH(1&AR$14)*(Fréquentations!$F$9:$F$206=AQ18))*(Fréquentations!$I$9:$I$206)))/AR18) | AT18: =AT17+7 -> 42353 | AU18: =WEEKNUM(AT18,2) -> 51 | AV18: =SUMPRODUCT(((YEAR(Fréquentations!$E$9:$E$206)='Statistiques par mois'!$A$14)*(MONTH(Fréquentations!$E$9:$E$206)=MONTH(1&AV$14)*(Fréquentations!$F$9:$F$206='Statistiques par mois'!AU18)))) -> 0 | AW18: =IF(ISERROR(SUMPRODUCT(((YEAR(Fréquentations!$E$9:$E$206)=$A$14)*(MONTH(Fréquentations!$E$9:$E$206)=MONTH(1&AV$14)*(Fréquentations!$F$9:$F$206=AU18))*(Fréquentations!$I$9:$I$206)))/AV18),"",SUMPRODUCT(((YEAR(Fréquentations!$E$9:$E$206)=$A$14)*(MONTH(Fréquentations!$E$9:$E$206)=MONTH(1&AV$14)*(Fréquentations!$F$9:$F$206=AU18))*(Fréquentations!$I$9:$I$206)))/AV18)
