Workbook
Name BDD: OFFSET(gd!$A$9:$P$9,,,COUNTA(gd!$D:$D))
Name Liste: OFFSET(gd!$Q$9,,,COUNTA(gd!$Q:$Q))
Name lst_ref: OFFSET(gd!$S$9,,,COUNTA(gd!$S:$S)-1)
Name Ref: OFFSET(gd!$C$9:$C$52,,,COUNTA(gd!$D:$D))

Sheet gd
P6: 6832 | T6: http://forum.excel-pratique.com/excel/copier-lignes-d-un-onglet-a-l-autre-suivant-un-critere-t42219.html | V6: =INDEX(Société;MIN(SI(Société<>"";SI(NB.SI($D$1:D1;Société)=0;LIGNE(INDIRECT("1:"&LIGNES(Société)));LIGNES(Société)))))
F7: Deployment | H7: STOCK | J7: URGENCY | L7: WEIGHTS
A8: shared | B8: partial pallet | C8: Destination DC | D8: Material | E8: Material description | F8: pallets to deploy | G8: pallet type | H8: released stock | I8: blocked stock | J8: SSS% | K8: SSS days of supply | L8: pallet weight | M8: weight/pal full pallets | N8: weight/pal partial pallets | O8: Comment 1 | P8: Comment 2 | S8: Ref
B9: No | C9: 4859 | D9: 80236604 | E9: PN PROV NGHT MRCL RPR SERUM 6 4.9Z | F9: 31 | G9: C2 | H9: 31 | I9: 0 | J9: -0.40098765 | K9: 0 | L9: 30 | M9: 0.552 | N9: 0 | O9: 4859 | Q9: =($C$9:$C$52='2461'!$A$2)*ROW() -> 9 | S9: {=INDEX(Ref,MIN(IF(Ref<>"",IF(COUNTIF($S$8:S8,Ref)=0,ROW(INDIRECT("1:"&ROWS(Ref))),ROWS(Ref)))))} -> 4859
B10: Yes | C10: 4859 | D10: 80236604 | E10: PN PROV NGHT MRCL RPR SERUM 6 4.9Z | F10: 0.85 | G10: C2 | H10: 31 | I10: 0 | J10: -0.40098765 | K10: 0 | L10: 30 | M10: 0.552 | N10: 0.4692 | O10: 4859 | Q10: =($C$9:$C$52='2461'!$A$2)*ROW() -> 10 | S10: {=INDEX(Ref,MIN(IF(Ref<>"",IF(COUNTIF($S$8:S9,Ref)=0,ROW(INDIRECT("1:"&ROWS(Ref))),ROWS(Ref)))))} -> 6832
B11: No | C11: 6832 | D11: 80941989 | E11: KOLESTON SINGLE 50 WELLOXON 6% TR | F11: 10 | G11: P2 | H11: 10 | I11: 0 | J11: #N/A | K11: #N/A | L11: 25 | M11: 490 | N11: 0 | O11: 6832 | Q11: =($C$9:$C$52='2461'!$A$2)*ROW() -> 0 | S11: {=INDEX(Ref,MIN(IF(Ref<>"",IF(COUNTIF($S$8:S10,Ref)=0,ROW(INDIRECT("1:"&ROWS(Ref))),ROWS(Ref)))))} -> 7214
B12: Yes | C12: 6832 | D12: 80941989 | E12: KOLESTON SINGLE 50 WELLOXON 6% TR | F12: 0.83 | G12: P2 | H12: 10 | I12: 0 | J12: #N/A | K12: #N/A | L12: 25 | M12: 490 | N12: 406.7 | O12: 6832 | Q12: =($C$9:$C$52='2461'!$A$2)*ROW() -> 0 | S12: {=INDEX(Ref,MIN(IF(Ref<>"",IF(COUNTIF($S$8:S11,Ref)=0,ROW(INDIRECT("1:"&ROWS(Ref))),ROWS(Ref)))))} -> 2461
B13: No | C13: 6832 | D13: 80941989 | E13: KOLESTON SINGLE 50 WELLOXON 6% TR | F13: 2 | G13: P2 | H13: 10 | I13: 0 | J13: #N/A | K13: #N/A | L13: 25 | M13: 490 | N13: 0 | O13: 6832 | Q13: =($C$9:$C$52='2461'!$A$2)*ROW() -> 0 | S13: {=INDEX(Ref,MIN(IF(Ref<>"",IF(COUNTIF($S$8:S12,Ref)=0,ROW(INDIRECT("1:"&ROWS(Ref))),ROWS(Ref)))))} -> 7251
B14: No | C14: 7214 | D14: 81066478 | E14: WF 1000ML 6% GR-GB-PL | F14: 26 | G14: P2 | H14: 26 | I14: 0 | J14: 0.17710583 | K14: 3 | L14: 25 | M14: 463.6 | N14: 0 | O14: 7214 | Q14: =($C$9:$C$52='2461'!$A$2)*ROW() -> 0 | S14: {=INDEX(Ref,MIN(IF(Ref<>"",IF(COUNTIF($S$8:S13,Ref)=0,ROW(INDIRECT("1:"&ROWS(Ref))),ROWS(Ref)))))} -> 7361
B15: No | C15: 2461 | D15: 81066479 | E15: WF 1000ML 6% RO-RUS-TR-UK | F15: 11 | G15: P2 | H15: 11 | I15: 0 | J15: 0.79999949 | K15: 22 | L15: 25 | M15: 463.6 | N15: 0 | O15: 2461 | Q15: =($C$9:$C$52='2461'!$A$2)*ROW() -> 0 | S15: {=INDEX(Ref,MIN(IF(Ref<>"",IF(COUNTIF($S$8:S14,Ref)=0,ROW(INDIRECT("1:"&ROWS(Ref))),ROWS(Ref)))))} -> 9529
B16: Yes | C16: 2461 | D16: 81066479 | E16: WF 1000ML 6% RO-RUS-TR-UK | F16: 0.23 | G16: P2 | H16: 11 | I16: 0 | J16: 0.79999949 | K16: 22 | L16: 25 | M16: 463.6 | N16: 106.628 | O16: 2461 | Q16: =($C$9:$C$52='2461'!$A$2)*ROW() -> 0 | S16: {=INDEX(Ref,MIN(IF(Ref<>"",IF(COUNTIF($S$8:S15,Ref)=0,ROW(INDIRECT("1:"&ROWS(Ref))),ROWS(Ref)))))} -> 7358
B17: No | C17: 2461 | D17: 81066488 | E17: WF 1000ML 12% RO-RUS-TR-UK | F17: 1 | G17: P2 | H17: 3 | I17: 0 | J17: #N/A | K17: #N/A | L17: 25 | M17: 463.6 | N17: 0 | O17: 2461 | Q17: =($C$9:$C$52='2461'!$A$2)*ROW() -> 0 | S17: {=INDEX(Ref,MIN(IF(Ref<>"",IF(COUNTIF($S$8:S16,Ref)=0,ROW(INDIRECT("1:"&ROWS(Ref))),ROWS(Ref)))))} -> 4856
B18: No | C18: 7214 | D18: 81066488 | E18: WF 1000ML 12% RO-RUS-TR-UK | F18: 2 | G18: P2 | H18: 3 | I18: 0 | J18: #N/A | K18: #N/A | L18: 25 | M18: 463.6 | N18: 0 | O18: 7214 | Q18: =($C$9:$C$52='2461'!$A$2)*ROW() -> 0 | S18: {=INDEX(Ref,MIN(IF(Ref<>"",IF(COUNTIF($S$8:S17,Ref)=0,ROW(INDIRECT("1:"&ROWS(Ref))),ROWS(Ref)))))} -> 9429
B19: Yes | D19: 81068119 | E19: SW ULTRA/STR POWER MESS CONSTRUC150MLCEN | F19: 0.98 | G19: P2 | H19: 0 | I19: 0 | J19: #N/A | K19: #N/A | L19: 25 | M19: 625 | N19: 612.5 | O19: 0 | Q19: =($C$9:$C$52='2461'!$A$2)*ROW() -> 0 | S19: {=INDEX(Ref,MIN(IF(Ref<>"",IF(COUNTIF($S$8:S18,Ref)=0,ROW(INDIRECT("1:"&ROWS(Ref))),ROWS(Ref)))))} -> 0
B20: Yes | D20: 81072876 | E20: LONDASTYLE 1000 PERM FORM VOL STAR N RUS | F20: 0.27 | G20: P2 | H20: 2 | I20: 0 | J20: #N/A | K20: #N/A | L20: 25 | M20: 483.04 | N20: 130.4208 | O20: 0 | Q20: =($C$9:$C$52='2461'!$A$2)*ROW() -> 0 | S20: {=INDEX(Ref,MIN(IF(Ref<>"",IF(COUNTIF($S$8:S19,Ref)=0,ROW(INDIRECT("1:"&ROWS(Ref))),ROWS(Ref)))))} -> 0
B21: No | C21: 7214 | D21: 81072896 | E21: LONDASTYLE 1000 PERM FORM VOL 1+4 RUS | F21: 3 | G21: P2 | H21: 4 | I21: 0 | J21: #N/A | K21: #N/A | L21: 25 | M21: 483.04 | N21: 0 | O21: 7214 | Q21: =($C$9:$C$52='2461'!$A$2)*ROW() -> 0
B22: Yes | C22: 7214 | D22: 81072896 | E22: LONDASTYLE 1000 PERM FORM VOL 1+4 RUS | F22: 0.66 | G22: P2 | H22: 4 | I22: 0 | J22: #N/A | K22: #N/A | L22: 25 | M22: 483.04 | N22: 318.8064 | O22: 7214 | Q22: =($C$9:$C$52='2461'!$A$2)*ROW() -> 0
B23: Yes | D23: 81089851 | E23: WELLAFLEX FOR MEN STRONG 150ML PL | F23: 0.42 | G23: P2 | H23: 3 | I23: 0 | J23: #N/A | K23: #N/A | L23: 25 | M23: 426 | N23: 178.92 | O23: 0 | Q23: =($C$9:$C$52='2461'!$A$2)*ROW() -> 0
B24: No | C24: 2461 | D24: 81116291 | E24: CT 1L EMULSION 4% RO | F24: 1 | G24: P2 | H24: 2 | I24: 0 | J24: #N/A | K24: #N/A | L24: 25 | M24: 451.376 | N24: 0 | O24: 2461 | Q24: =($C$9:$C$52='2461'!$A$2)*ROW() -> 0
B25: Yes | C25: 2461 | D25: 81116291 | E25: CT 1L EMULSION 4% RO,RUS,UA,TR | F25: 0.45 | G25: P2 | H25: 2 | I25: 0 | J25: #N/A | K25: #N/A | L25: 25 | M25: 451.376 | N25: 203.1192 | O25: 2461 | Q25: =($C$9:$C$52='2461'!$A$2)*ROW() -> 0
B26: Yes | D26: 81153773 | E26: SP 150ML CLEAR SCALP SHAMPEELING GB,IT | F26: 0.83 | G26: P2 | H26: 1 | I26: 0 | J26: 0.010338242 | K26: 1 | L26: 25 | M26: 432.484 | N26: 358.96172 | O26: 0 | Q26: =($C$9:$C$52='2461'!$A$2)*ROW() -> 0
B27: Yes | D27: 81153775 | E27: SP 150ML CLEAR SCALP SHAMPEELING ES,PT | F27: 0.98 | G27: P2 | H27: 0 | I27: 0 | J27: -2.4642857 | K27: 0 | L27: 25 | M27: 432.484 | N27: 423.83432 | O27: 0 | Q27: =($C$9:$C$52='2461'!$A$2)*ROW() -> 0
B28: No | C28: 7251 | D28: 81153826 | E28: SP 100ML BAL SCALP ENR SER DACH | F28: 3 | G28: P2 | H28: 4 | I28: 0 | J28: #N/A | K28: #N/A | L28: 25 | M28: 574.444 | N28: 0 | O28: 7251 | Q28: =($C$9:$C$52='2461'!$A$2)*ROW() -> 0
B29: Yes | C29: 7251 | D29: 81153826 | E29: SP 100ML BAL SCALP ENR SER DACH,FR,IT,NL | F29: 0.45 | G29: P2 | H29: 4 | I29: 0 | J29: #N/A | K29: #N/A | L29: 25 | M29: 574.444 | N29: 258.4998 | O29: 7251 | Q29: =($C$9:$C$52='2461'!$A$2)*ROW() -> 0
B30: No | C30: 7361 | D30: 81160067 | E30: SEB VOLUPT SPRAY 150ML DE | F30: 1 | G30: P2 | H30: 1 | I30: 0 | J30: 0.74862767 | K30: 12 | L30: 25 | M30: 584.792 | N30: 0 | O30: 7361 | Q30: =($C$9:$C$52='2461'!$A$2)*ROW() -> 0
B31: Yes | C31: 7361 | D31: 81160067 | E31: SEB VOLUPT SPRAY 150ML DE,FR,IT,NL | F31: 0.88 | G31: P2 | H31: 1 | I31: 0 | J31: 0.74862767 | K31: 12 | L31: 25 | M31: 584.792 | N31: 514.61696 | O31: 7361 | Q31: =($C$9:$C$52='2461'!$A$2)*ROW() -> 0
B32: No | C32: 7251 | D32: 81160092 | E32: SEB VOLUPT SPRAY 150ML GB | F32: 1 | G32: P2 | H32: 2 | I32: 0 | J32: 0.63852533 | K32: 12 | L32: 25 | M32: 584.792 | N32: 0 | O32: 7251 | Q32: =($C$9:$C$52='2461'!$A$2)*ROW() -> 0
B33: Yes | C33: 7251 | D33: 81160092 | E33: SEB VOLUPT SPRAY 150ML GB,SCAN | F33: 0.96 | G33: P2 | H33: 2 | I33: 0 | J33: 0.63852533 | K33: 12 | L33: 25 | M33: 584.792 | N33: 561.40032 | O33: 7251 | Q33: =($C$9:$C$52='2461'!$A$2)*ROW() -> 0
B34: No | C34: 9529 | D34: 81160136 | E34: SEB VOLUPT SPRAY 150ML US | F34: 2277 | G34: C2 | H34: 2277 | I34: 0 | J34: -99.99 | K34: 0 | L34: 30 | M34: 0 | N34: 0 | O34: 9529 | Q34: =($C$9:$C$52='2461'!$A$2)*ROW() -> 0
B35: No | C35: 2461 | D35: 81200889 | E35: LONDA 1L EMULSION 1.9% DEM RU | F35: 5 | G35: P2 | H35: 5 | I35: 0 | J35: #N/A | K35: #N/A | L35: 25 | M35: 469.49 | N35: 0 | O35: 2461 | Q35: =($C$9:$C$52='2461'!$A$2)*ROW() -> 0
B36: Yes | C36: 2461 | D36: 81200889 | E36: LONDA 1L EMULSION 1.9% DEM RU,HU,CZ,SK | F36: 0.46 | G36: P2 | H36: 5 | I36: 0 | J36: #N/A | K36: #N/A | L36: 25 | M36: 469.49 | N36: 215.9654 | O36: 2461 | Q36: =($C$9:$C$52='2461'!$A$2)*ROW() -> 0
B37: No | C37: 2461 | D37: 81200892 | E37: LONDA 1L CREAM 6% PMNT RU | F37: 23 | G37: P2 | H37: 35 | I37: 0 | J37: 0.78029445 | K37: 23 | L37: 25 | M37: 469.49 | N37: 0 | O37: 2461 | Q37: =($C$9:$C$52='2461'!$A$2)*ROW() -> 0
B38: No | C38: 7214 | D38: 81200892 | E38: LONDA 1L CREAM 6% PMNT RU | F38: 10 | G38: P2 | H38: 35 | I38: 0 | J38: 0.78029445 | K38: 23 | L38: 25 | M38: 469.49 | N38: 0 | O38: 7214 | Q38: =($C$9:$C$52='2461'!$A$2)*ROW() -> 0
B39: No | C39: 2461 | D39: 81200893 | E39: LONDA 1L CREAM 9% PMNT RU | F39: 14 | G39: P2 | H39: 15 | I39: 0 | J39: 0.72506752 | K39: 22 | L39: 25 | M39: 469.49 | N39: 0 | O39: 2461 | Q39: =($C$9:$C$52='2461'!$A$2)*ROW() -> 0
B40: Yes | C40: 2461 | D40: 81200893 | E40: LONDA 1L CREAM 9% PMNT RU,HU,CZ,SK | F40: 0.12 | G40: P2 | H40: 15 | I40: 0 | J40: 0.72506752 | K40: 22 | L40: 25 | M40: 469.49 | N40: 56.3388 | O40: 2461 | Q40: =($C$9:$C$52='2461'!$A$2)*ROW() -> 0
B41: No | C41: 4859 | D41: 81203935 | E41: WELLOXON 20 V 60ML ISRAEL | F41: 7 | G41: B2 | H41: 8 | I41: 0 | J41: #N/A | K41: #N/A | L41: 25 | M41: 520 | N41: 0 | O41: 4859 | Q41: =($C$9:$C$52='2461'!$A$2)*ROW() -> 41
B42: Yes | C42: 7358 | D42: 81203935 | E42: WELLOXON 20 V 60ML ISRAEL | F42: 0.35 | G42: B2 | H42: 8 | I42: 0 | J42: #N/A | K42: #N/A | L42: 25 | M42: 520 | N42: 182 | O42: 7358 | Q42: =($C$9:$C$52='2461'!$A$2)*ROW() -> 0
B43: Yes | D43: 81236883 | E43: LONDA WAX SPIN OFF 75ML D,PL,UA | F43: 0.98 | G43: P2 | H43: 0 | I43: 0 | J43: #N/A | K43: #N/A | L43: 25 | M43: 454 | N43: 444.92 | O43: 0 | Q43: =($C$9:$C$52='2461'!$A$2)*ROW() -> 0
B44: Yes | C44: 4856 | D44: 81238775 | E44: KADUS GEL LIQUEFY 150ML MULTI LANG | F44: 0.99 | G44: P2 | H44: 1 | I44: 1 | J44: #N/A | K44: #N/A | L44: 25 | M44: 381.048 | N44: 377.23752 | O44: 4856 | Q44: =($C$9:$C$52='2461'!$A$2)*ROW() -> 0
B45: Yes | D45: 81251878 | E45: LON CURL DEF COND LOTION 250ML DE,CEEMEA | F45: 0.5 | G45: P2 | H45: 1 | I45: 0 | J45: #N/A | K45: #N/A | L45: 25 | M45: 706 | N45: 353 | O45: 0 | Q45: =($C$9:$C$52='2461'!$A$2)*ROW() -> 0
...

Sheet 2461
A1: plant | B1: max pals | C1: FTL | D1: LTL | E1: MS
A2: 4859 | B2: =VLOOKUP(A2,[1]overview!C:G,2,0) -> 26 ou 33 | C2: =VLOOKUP(A2,[1]overview!C:G,3,0) -> 2 | D2: =VLOOKUP(A2,[1]overview!C:G,4,0) -> 0 | E2: =VLOOKUP(A2,[1]overview!C:G,5,0) -> 2 | H2: partial pallets | I2: X
H3: sum of pallets | I3: {=IF(I2="X",SUM(IF(#REF!>=1,#REF!,IF(#REF!<=200,0,1))),SUM(IF(#REF!>=1,#REF!,IF(#REF!=0,0,1))))} -> #REF!
H4: remaining pallets | I4: =CEILING(I3,B2)-I3 -> #REF!
H5: number of trucks | I5: =(I3+I4)/B2 -> #REF!
I7: STOCK | K7: URGENCY | M7: WEIGHTS
B8: shared | C8: partial pallet | D8: Destination DC | E8: Material | F8: Material description | G8: pallets to deploy | H8: pallet type | I8: released stock | J8: blocked stock | K8: SSS% | L8: SSS days of supply | M8: pallet weight | N8: weight/pal | O8: weight partial pallets | P8: Comment 1 | Q8: Comment 2
B9: =IFERROR(INDEX(BDD,SMALL(Liste,COUNTIF(Liste,0)+ROW()-8)-8,COLUMN()-1),"") -> 0 | C9: =IFERROR(INDEX(BDD,SMALL(Liste,COUNTIF(Liste,0)+ROW()-8)-8,COLUMN()-1),"") -> No | D9: =IFERROR(INDEX(BDD,SMALL(Liste,COUNTIF(Liste,0)+ROW()-8)-8,COLUMN()-1),"") -> 4859 | E9: =IFERROR(INDEX(BDD,SMALL(Liste,COUNTIF(Liste,0)+ROW()-8)-8,COLUMN()-1),"") -> 80236604 | F9: =IFERROR(INDEX(BDD,SMALL(Liste,COUNTIF(Liste,0)+ROW()-8)-8,COLUMN()-1),"") -> PN PROV NGHT MRCL RPR SERUM 6 4.9Z | G9: =IFERROR(INDEX(BDD,SMALL(Liste,COUNTIF(Liste,0)+ROW()-8)-8,COLUMN()-1),"") -> 31 | H9: =IFERROR(INDEX(BDD,SMALL(Liste,COUNTIF(Liste,0)+ROW()-8)-8,COLUMN()-1),"") -> C2 | I9: =IFERROR(INDEX(BDD,SMALL(Liste,COUNTIF(Liste,0)+ROW()-8)-8,COLUMN()-1),"") -> 31 | ... Q9: =IFERROR(INDEX(BDD,SMALL(Liste,COUNTIF(Liste,0)+ROW()-8)-8,COLUMN()-1),"") -> 0
B10: =IFERROR(INDEX(BDD,SMALL(Liste,COUNTIF(Liste,0)+ROW()-8)-8,COLUMN()-1),"") -> 0 | C10: =IFERROR(INDEX(BDD,SMALL(Liste,COUNTIF(Liste,0)+ROW()-8)-8,COLUMN()-1),"") -> Yes | D10: =IFERROR(INDEX(BDD,SMALL(Liste,COUNTIF(Liste,0)+ROW()-8)-8,COLUMN()-1),"") -> 4859 | E10: =IFERROR(INDEX(BDD,SMALL(Liste,COUNTIF(Liste,0)+ROW()-8)-8,COLUMN()-1),"") -> 80236604 | F10: =IFERROR(INDEX(BDD,SMALL(Liste,COUNTIF(Liste,0)+ROW()-8)-8,COLUMN()-1),"") -> PN PROV NGHT MRCL RPR SERUM 6 4.9Z | G10: =IFERROR(INDEX(BDD,SMALL(Liste,COUNTIF(Liste,0)+ROW()-8)-8,COLUMN()-1),"") -> 0.85 | H10: =IFERROR(INDEX(BDD,SMALL(Liste,COUNTIF(Liste,0)+ROW()-8)-8,COLUMN()-1),"") -> C2 | I10: =IFERROR(INDEX(BDD,SMALL(Liste,COUNTIF(Liste,0)+ROW()-8)-8,COLUMN()-1),"") -> 31 | ... Q10: =IFERROR(INDEX(BDD,SMALL(Liste,COUNTIF(Liste,0)+ROW()-8)-8,COLUMN()-1),"") -> 0
B11: =IFERROR(INDEX(BDD,SMALL(Liste,COUNTIF(Liste,0)+ROW()-8)-8,COLUMN()-1),"") -> 0 | C11: =IFERROR(INDEX(BDD,SMALL(Liste,COUNTIF(Liste,0)+ROW()-8)-8,COLUMN()-1),"") -> No | D11: =IFERROR(INDEX(BDD,SMALL(Liste,COUNTIF(Liste,0)+ROW()-8)-8,COLUMN()-1),"") -> 4859 | E11: =IFERROR(INDEX(BDD,SMALL(Liste,COUNTIF(Liste,0)+ROW()-8)-8,COLUMN()-1),"") -> 81203935 | F11: =IFERROR(INDEX(BDD,SMALL(Liste,COUNTIF(Liste,0)+ROW()-8)-8,COLUMN()-1),"") -> WELLOXON 20 V 60ML ISRAEL | G11: =IFERROR(INDEX(BDD,SMALL(Liste,COUNTIF(Liste,0)+ROW()-8)-8,COLUMN()-1),"") -> 7 | H11: =IFERROR(INDEX(BDD,SMALL(Liste,COUNTIF(Liste,0)+ROW()-8)-8,COLUMN()-1),"") -> B2 | I11: =IFERROR(INDEX(BDD,SMALL(Liste,COUNTIF(Liste,0)+ROW()-8)-8,COLUMN()-1),"") -> 8 | ... Q11: =IFERROR(INDEX(BDD,SMALL(Liste,COUNTIF(Liste,0)+ROW()-8)-8,COLUMN()-1),"") -> 0
B12: =IFERROR(INDEX(BDD,SMALL(Liste,COUNTIF(Liste,0)+ROW()-8)-8,COLUMN()-1),"") -> 0 | C12: =IFERROR(INDEX(BDD,SMALL(Liste,COUNTIF(Liste,0)+ROW()-8)-8,COLUMN()-1),"") -> No | D12: =IFERROR(INDEX(BDD,SMALL(Liste,COUNTIF(Liste,0)+ROW()-8)-8,COLUMN()-1),"") -> 4859 | E12: =IFERROR(INDEX(BDD,SMALL(Liste,COUNTIF(Liste,0)+ROW()-8)-8,COLUMN()-1),"") -> 81256140 | F12: =IFERROR(INDEX(BDD,SMALL(Liste,COUNTIF(Liste,0)+ROW()-8)-8,COLUMN()-1),"") -> NW U/STR POWER MESS CONSTR 150ML BNL/GR | G12: =IFERROR(INDEX(BDD,SMALL(Liste,COUNTIF(Liste,0)+ROW()-8)-8,COLUMN()-1),"") -> 3 | H12: =IFERROR(INDEX(BDD,SMALL(Liste,COUNTIF(Liste,0)+ROW()-8)-8,COLUMN()-1),"") -> B2 | I12: =IFERROR(INDEX(BDD,SMALL(Liste,COUNTIF(Liste,0)+ROW()-8)-8,COLUMN()-1),"") -> 4 | ... Q12: =IFERROR(INDEX(BDD,SMALL(Liste,COUNTIF(Liste,0)+ROW()-8)-8,COLUMN()-1),"") -> 0
B13: =IFERROR(INDEX(BDD,SMALL(Liste,COUNTIF(Liste,0)+ROW()-8)-8,COLUMN()-1),"") -> 0 | C13: =IFERROR(INDEX(BDD,SMALL(Liste,COUNTIF(Liste,0)+ROW()-8)-8,COLUMN()-1),"") -> Yes | D13: =IFERROR(INDEX(BDD,SMALL(Liste,COUNTIF(Liste,0)+ROW()-8)-8,COLUMN()-1),"") -> 4859 | E13: =IFERROR(INDEX(BDD,SMALL(Liste,COUNTIF(Liste,0)+ROW()-8)-8,COLUMN()-1),"") -> 81256140 | F13: =IFERROR(INDEX(BDD,SMALL(Liste,COUNTIF(Liste,0)+ROW()-8)-8,COLUMN()-1),"") -> NW U/STR POWER MESS CONSTR 150ML BNL/GR | G13: =IFERROR(INDEX(BDD,SMALL(Liste,COUNTIF(Liste,0)+ROW()-8)-8,COLUMN()-1),"") -> 0.59 | H13: =IFERROR(INDEX(BDD,SMALL(Liste,COUNTIF(Liste,0)+ROW()-8)-8,COLUMN()-1),"") -> B2 | I13: =IFERROR(INDEX(BDD,SMALL(Liste,COUNTIF(Liste,0)+ROW()-8)-8,COLUMN()-1),"") -> 4 | ... Q13: =IFERROR(INDEX(BDD,SMALL(Liste,COUNTIF(Liste,0)+ROW()-8)-8,COLUMN()-1),"") -> 0
B14: =IFERROR(INDEX(BDD,SMALL(Liste,COUNTIF(Liste,0)+ROW()-8)-8,COLUMN()-1),"") | C14: =IFERROR(INDEX(BDD,SMALL(Liste,COUNTIF(Liste,0)+ROW()-8)-8,COLUMN()-1),"") | D14: =IFERROR(INDEX(BDD,SMALL(Liste,COUNTIF(Liste,0)+ROW()-8)-8,COLUMN()-1),"") | E14: =IFERROR(INDEX(BDD,SMALL(Liste,COUNTIF(Liste,0)+ROW()-8)-8,COLUMN()-1),"") | F14: =IFERROR(INDEX(BDD,SMALL(Liste,COUNTIF(Liste,0)+ROW()-8)-8,COLUMN()-1),"") | G14: =IFERROR(INDEX(BDD,SMALL(Liste,COUNTIF(Liste,0)+ROW()-8)-8,COLUMN()-1),"") | H14: =IFERROR(INDEX(BDD,SMALL(Liste,COUNTIF(Liste,0)+ROW()-8)-8,COLUMN()-1),"") | I14: =IFERROR(INDEX(BDD,SMALL(Liste,COUNTIF(Liste,0)+ROW()-8)-8,COLUMN()-1),"") | ... Q14: =IFERROR(INDEX(BDD,SMALL(Liste,COUNTIF(Liste,0)+ROW()-8)-8,COLUMN()-1),"")
B15: =IFERROR(INDEX(BDD,SMALL(Liste,COUNTIF(Liste,0)+ROW()-8)-8,COLUMN()-1),"") | C15: =IFERROR(INDEX(BDD,SMALL(Liste,COUNTIF(Liste,0)+ROW()-8)-8,COLUMN()-1),"") | D15: =IFERROR(INDEX(BDD,SMALL(Liste,COUNTIF(Liste,0)+ROW()-8)-8,COLUMN()-1),"") | E15: =IFERROR(INDEX(BDD,SMALL(Liste,COUNTIF(Liste,0)+ROW()-8)-8,COLUMN()-1),"") | F15: =IFERROR(INDEX(BDD,SMALL(Liste,COUNTIF(Liste,0)+ROW()-8)-8,COLUMN()-1),"") | G15: =IFERROR(INDEX(BDD,SMALL(Liste,COUNTIF(Liste,0)+ROW()-8)-8,COLUMN()-1),"") | H15: =IFERROR(INDEX(BDD,SMALL(Liste,COUNTIF(Liste,0)+ROW()-8)-8,COLUMN()-1),"") | I15: =IFERROR(INDEX(BDD,SMALL(Liste,COUNTIF(Liste,0)+ROW()-8)-8,COLUMN()-1),"") | ... Q15: =IFERROR(INDEX(BDD,SMALL(Liste,COUNTIF(Liste,0)+ROW()-8)-8,COLUMN()-1),"")
B16: =IFERROR(INDEX(BDD,SMALL(Liste,COUNTIF(Liste,0)+ROW()-8)-8,COLUMN()-1),"") | C16: =IFERROR(INDEX(BDD,SMALL(Liste,COUNTIF(Liste,0)+ROW()-8)-8,COLUMN()-1),"") | D16: =IFERROR(INDEX(BDD,SMALL(Liste,COUNTIF(Liste,0)+ROW()-8)-8,COLUMN()-1),"") | E16: =IFERROR(INDEX(BDD,SMALL(Liste,COUNTIF(Liste,0)+ROW()-8)-8,COLUMN()-1),"") | F16: =IFERROR(INDEX(BDD,SMALL(Liste,COUNTIF(Liste,0)+ROW()-8)-8,COLUMN()-1),"") | G16: =IFERROR(INDEX(BDD,SMALL(Liste,COUNTIF(Liste,0)+ROW()-8)-8,COLUMN()-1),"") | H16: =IFERROR(INDEX(BDD,SMALL(Liste,COUNTIF(Liste,0)+ROW()-8)-8,COLUMN()-1),"") | I16: =IFERROR(INDEX(BDD,SMALL(Liste,COUNTIF(Liste,0)+ROW()-8)-8,COLUMN()-1),"") | ... Q16: =IFERROR(INDEX(BDD,SMALL(Liste,COUNTIF(Liste,0)+ROW()-8)-8,COLUMN()-1),"")
B17: =IFERROR(INDEX(BDD,SMALL(Liste,COUNTIF(Liste,0)+ROW()-8)-8,COLUMN()-1),"") | C17: =IFERROR(INDEX(BDD,SMALL(Liste,COUNTIF(Liste,0)+ROW()-8)-8,COLUMN()-1),"") | D17: =IFERROR(INDEX(BDD,SMALL(Liste,COUNTIF(Liste,0)+ROW()-8)-8,COLUMN()-1),"") | E17: =IFERROR(INDEX(BDD,SMALL(Liste,COUNTIF(Liste,0)+ROW()-8)-8,COLUMN()-1),"") | F17: =IFERROR(INDEX(BDD,SMALL(Liste,COUNTIF(Liste,0)+ROW()-8)-8,COLUMN()-1),"") | G17: =IFERROR(INDEX(BDD,SMALL(Liste,COUNTIF(Liste,0)+ROW()-8)-8,COLUMN()-1),"") | H17: =IFERROR(INDEX(BDD,SMALL(Liste,COUNTIF(Liste,0)+ROW()-8)-8,COLUMN()-1),"") | I17: =IFERROR(INDEX(BDD,SMALL(Liste,COUNTIF(Liste,0)+ROW()-8)-8,COLUMN()-1),"") | ... Q17: =IFERROR(INDEX(BDD,SMALL(Liste,COUNTIF(Liste,0)+ROW()-8)-8,COLUMN()-1),"")
B18: =IFERROR(INDEX(BDD,SMALL(Liste,COUNTIF(Liste,0)+ROW()-8)-8,COLUMN()-1),"") | C18: =IFERROR(INDEX(BDD,SMALL(Liste,COUNTIF(Liste,0)+ROW()-8)-8,COLUMN()-1),"") | D18: =IFERROR(INDEX(BDD,SMALL(Liste,COUNTIF(Liste,0)+ROW()-8)-8,COLUMN()-1),"") | E18: =IFERROR(INDEX(BDD,SMALL(Liste,COUNTIF(Liste,0)+ROW()-8)-8,COLUMN()-1),"") | F18: =IFERROR(INDEX(BDD,SMALL(Liste,COUNTIF(Liste,0)+ROW()-8)-8,COLUMN()-1),"") | G18: =IFERROR(INDEX(BDD,SMALL(Liste,COUNTIF(Liste,0)+ROW()-8)-8,COLUMN()-1),"") | H18: =IFERROR(INDEX(BDD,SMALL(Liste,COUNTIF(Liste,0)+ROW()-8)-8,COLUMN()-1),"") | I18: =IFERROR(INDEX(BDD,SMALL(Liste,COUNTIF(Liste,0)+ROW()-8)-8,COLUMN()-1),"") | ... Q18: =IFERROR(INDEX(BDD,SMALL(Liste,COUNTIF(Liste,0)+ROW()-8)-8,COLUMN()-1),"")
B19: =IFERROR(INDEX(BDD,SMALL(Liste,COUNTIF(Liste,0)+ROW()-8)-8,COLUMN()-1),"") | C19: =IFERROR(INDEX(BDD,SMALL(Liste,COUNTIF(Liste,0)+ROW()-8)-8,COLUMN()-1),"") | D19: =IFERROR(INDEX(BDD,SMALL(Liste,COUNTIF(Liste,0)+ROW()-8)-8,COLUMN()-1),"") | E19: =IFERROR(INDEX(BDD,SMALL(Liste,COUNTIF(Liste,0)+ROW()-8)-8,COLUMN()-1),"") | F19: =IFERROR(INDEX(BDD,SMALL(Liste,COUNTIF(Liste,0)+ROW()-8)-8,COLUMN()-1),"") | G19: =IFERROR(INDEX(BDD,SMALL(Liste,COUNTIF(Liste,0)+ROW()-8)-8,COLUMN()-1),"") | H19: =IFERROR(INDEX(BDD,SMALL(Liste,COUNTIF(Liste,0)+ROW()-8)-8,COLUMN()-1),"") | I19: =IFERROR(INDEX(BDD,SMALL(Liste,COUNTIF(Liste,0)+ROW()-8)-8,COLUMN()-1),"") | ... Q19: =IFERROR(INDEX(BDD,SMALL(Liste,COUNTIF(Liste,0)+ROW()-8)-8,COLUMN()-1),"")
B20: =IFERROR(INDEX(BDD,SMALL(Liste,COUNTIF(Liste,0)+ROW()-8)-8,COLUMN()-1),"") | C20: =IFERROR(INDEX(BDD,SMALL(Liste,COUNTIF(Liste,0)+ROW()-8)-8,COLUMN()-1),"") | D20: =IFERROR(INDEX(BDD,SMALL(Liste,COUNTIF(Liste,0)+ROW()-8)-8,COLUMN()-1),"") | E20: =IFERROR(INDEX(BDD,SMALL(Liste,COUNTIF(Liste,0)+ROW()-8)-8,COLUMN()-1),"") | F20: =IFERROR(INDEX(BDD,SMALL(Liste,COUNTIF(Liste,0)+ROW()-8)-8,COLUMN()-1),"") | G20: =IFERROR(INDEX(BDD,SMALL(Liste,COUNTIF(Liste,0)+ROW()-8)-8,COLUMN()-1),"") | H20: =IFERROR(INDEX(BDD,SMALL(Liste,COUNTIF(Liste,0)+ROW()-8)-8,COLUMN()-1),"") | I20: =IFERROR(INDEX(BDD,SMALL(Liste,COUNTIF(Liste,0)+ROW()-8)-8,COLUMN()-1),"") | ... Q20: =IFERROR(INDEX(BDD,SMALL(Liste,COUNTIF(Liste,0)+ROW()-8)-8,COLUMN()-1),"")
... B30: =IFERROR(INDEX(BDD,SMALL(Liste,COUNTIF(Liste,0)+ROW()-8)-8,COLUMN()-1),"") | C30: =IFERROR(INDEX(BDD,SMALL(Liste,COUNTIF(Liste,0)+ROW()-8)-8,COLUMN()-1),"") | D30: =IFERROR(INDEX(BDD,SMALL(Liste,COUNTIF(Liste,0)+ROW()-8)-8,COLUMN()-1),"") | E30: =IFERROR(INDEX(BDD,SMALL(Liste,COUNTIF(Liste,0)+ROW()-8)-8,COLUMN()-1),"") | F30: =IFERROR(INDEX(BDD,SMALL(Liste,COUNTIF(Liste,0)+ROW()-8)-8,COLUMN()-1),"") | G30: =IFERROR(INDEX(BDD,SMALL(Liste,COUNTIF(Liste,0)+ROW()-8)-8,COLUMN()-1),"") | H30: =IFERROR(INDEX(BDD,SMALL(Liste,COUNTIF(Liste,0)+ROW()-8)-8,COLUMN()-1),"") | I30: =IFERROR(INDEX(BDD,SMALL(Liste,COUNTIF(Liste,0)+ROW()-8)-8,COLUMN()-1),"") | ... Q30: =IFERROR(INDEX(BDD,SMALL(Liste,COUNTIF(Liste,0)+ROW()-8)-8,COLUMN()-1),"")
