Workbook
Name bureaux: Visuel!$CA$2:$CA$12
Name Noms: Visuel!$A$3:$A$24
Name Prenoms: Visuel!$B$3:$B$24
Name pseudo: Visuel!$C$3:$C$24

Sheet horaires
A1: 1 | B1: 2 | C1: 3 | D1: 4 | E1: 5 | F1: 6 | G1: 7 | H1: 8 | I1: 9 | J1: 10 | K1: 11 | L1: 12 | M1: 13 | N1: 14 | O1: 15 | P1: 16 | Q1: 17 | R1: 18 | S1: 19 | T1: 20 | U1: 21 | V1: 22 | W1: 23 | X1: 24 | Y1: 25 | Z1: 26 | AA1: 27 | AB1: 28 | AC1: 29 | AD1: 30 | AE1: 31 | AF1: 32 | AG1: 33 | AH1: 34 | AI1: 35 | AJ1: 36 | AK1: 37 | AL1: 38 | AM1: 39 | AN1: 40 | AO1: 41 | AP1: 42 | AQ1: 43 | AR1: 44 | AS1: 45 | AT1: 46 | AU1: 47 | AV1: 48 | AW1: 49 | AX1: 50 | AY1: 51 | AZ1: 52 | BA1: 53 | BB1: 54 | BC1: 55 | BD1: 56 | BE1: 57 | BF1: 58 | BG1: 59 | BH1: 60 | BI1: 61 | BJ1: 62 | BK1: 63 | BL1: 64 | BM1: 65 | BN1: 66 | BO1: 67 | BP1: 68 | BQ1: 69 | BR1: 71 | BS1: 72 | BT1: 73 | BU1: 74 | BV1: 75 | BW1: 70 | BX1: 76 | BY1: 77
D2: Semaine impaire | X2: Semaine paire
D3: LUNDI | H3: MARDI | L3: MERCREDI | P3: JEUDI | T3: VENDREDI | X3: LUNDI | AB3: MARDI | AF3: MERCREDI | AJ3: JEUDI | AN3: VENDREDI | AS3: LUNDI | AU3: MARDI | AW3: MERCREDI | AY3: JEUDI | BA3: VENDREDI | BC3: LUNDI | BE3: MARDI | BG3: MERCREDI | BI3: JEUDI | BK3: VENDREDI
D4: Matin | F4: Après-midi | H4: Matin | J4: Après-midi | L4: Matin | N4: Après-midi | P4: Matin | R4: Après-midi | T4: Matin | V4: Après-midi | X4: Matin | Z4: Après-midi | AB4: Matin | AD4: Après-midi | AF4: Matin | AH4: Après-midi | AJ4: Matin | AL4: Après-midi | AN4: Matin | AP4: Après-midi | AS4: Matin | AT4: AP | AU4: Matin | AV4: AP | AW4: Matin | AX4: AP | AY4: Matin | AZ4: AP | BA4: Matin | BB4: AP | BC4: Matin | BD4: AP | BE4: Matin | BF4: AP | BG4: Matin | BH4: AP | BI4: Matin | BJ4: AP | BK4: Matin | BL4: AP | BM4: lun | BN4: mar | BO4: mer | BP4: jeu | BQ4: ven | BR4: lun | BS4: mar | BT4: mer | BU4: jeu | BV4: ven
A5: An22 | B5: BIROT | C5: VINCENT | D5: 0.375 | E5: 0.52083333 | F5: 0.58333333 | G5: 0.6875 | H5: 0.375 | I5: 0.5 | J5: 0 | K5: 0 | L5: 0 | M5: 0 | N5: 0.58333333 | O5: 0.83333333 | P5: 0.375 | Q5: 0.5 | R5: 0.58333333 | S5: 0.75 | T5: 0.375 | U5: 0.52083333 | V5: 0.58333333 | W5: 0.6875 | X5: 0.375 | Y5: 0.52083333 | Z5: 0.58333333 | AA5: 0.6875 | AB5: 0.375 | AC5: 0.5 | AD5: 0 | AE5: 0 | AF5: 0 | AG5: 0 | AH5: 0.58333333 | AI5: 0.83333333 | AJ5: 0.375 | AK5: 0.5 | AL5: 0.58333333 | AM5: 0.75 | AN5: 0.375 | AO5: 0.52083333 | AP5: 0.58333333 | AQ5: 0.6875 | AS5: =E5-D5 -> 0.14583333 | AT5: =G5-F5 -> 0.10416667 | AU5: =I5-H5 -> 0.125 | AV5: =K5-J5 -> 0 | AW5: =M5-L5 -> 0 | AX5: =O5-N5 -> 0.25 | AY5: =Q5-P5 -> 0.125 | AZ5: =S5-R5 -> 0.16666667 | BA5: =U5-T5 -> 0.14583333 | BB5: =W5-V5 -> 0.10416667 | BC5: =Y5-X5 -> 0.14583333 | BD5: =AA5-Z5 -> 0.10416667 | BE5: =AC5-AB5 -> 0.125 | BF5: =AE5-AD5 -> 0 | BG5: =AG5-AF5 -> 0 | BH5: =AI5-AH5 -> 0.25 | BI5: =AK5-AJ5 -> 0.125 | BJ5: =AM5-AL5 -> 0.16666667 | BK5: =AO5-AN5 -> 0.14583333 | BL5: =AQ5-AP5 -> 0.10416667 | BM5: =((AS5+AT5)-INT(AS5+AT5))*24 -> 6 | BN5: =((AU5+AV5)-INT(AU5+AV5))*24 -> 3 | BO5: =((AW5+AX5)-INT(AW5+AX5))*24 -> 6 | BP5: =((AY5+AZ5)-INT(AY5+AZ5))*24 -> 7 | BQ5: =((BA5+BB5)-INT(BA5+BB5))*24 -> 6 | BR5: =((BC5+BD5)-INT(BC5+BD5))*24 -> 6 | BS5: =((BE5+BF5)-INT(BE5+BF5))*24 -> 3 | BT5: =((BG5+BH5)-INT(BG5+BH5))*24 -> 6 | BU5: =((BI5+BJ5)-INT(BI5+BJ5))*24 -> 7 | BV5: =((BK5+BL5)-INT(BK5+BL5))*24 -> 6 | BW5: =SUM(BM5:BQ5) -> 28 | BX5: =SUM(BR5:BV5) -> 28 | BY5: =(BW5+BX5)/2 -> 28
A6: An19 | B6: BLANCHARD | C6: JEAN-BAPTISTE | D6: 0.35416667 | E6: 0.52083333 | F6: 0.58333333 | G6: 0.79166667 | H6: 0.35416667 | I6: 0.52083333 | J6: 0.54166667 | K6: 0.75 | L6: 0 | M6: 0 | N6: 0.5625 | O6: 0.75 | P6: 0.35416667 | Q6: 0.52083333 | R6: 0.54166667 | S6: 0.75 | T6: 0.35416667 | U6: 0.52083333 | V6: 0.54166667 | W6: 0.6875 | X6: 0.35416667 | Y6: 0.52083333 | Z6: 0.58333333 | AA6: 0.79166667 | AB6: 0.35416667 | AC6: 0.52083333 | AD6: 0.54166667 | AE6: 0.75 | AF6: 0 | AG6: 0 | AH6: 0.5625 | AI6: 0.75 | AJ6: 0.35416667 | AK6: 0.52083333 | AL6: 0.54166667 | AM6: 0.75 | AN6: 0.35416667 | AO6: 0.52083333 | AP6: 0.54166667 | AQ6: 0.6875 | AS6: =E6-D6 -> 0.16666667 | AT6: =G6-F6 -> 0.20833333 | AU6: =I6-H6 -> 0.16666667 | AV6: =K6-J6 -> 0.20833333 | AW6: =M6-L6 -> 0 | AX6: =O6-N6 -> 0.1875 | AY6: =Q6-P6 -> 0.16666667 | AZ6: =S6-R6 -> 0.20833333 | BA6: =U6-T6 -> 0.16666667 | BB6: =W6-V6 -> 0.14583333 | BC6: =Y6-X6 -> 0.16666667 | BD6: =AA6-Z6 -> 0.20833333 | BE6: =AC6-AB6 -> 0.16666667 | BF6: =AE6-AD6 -> 0.20833333 | BG6: =AG6-AF6 -> 0 | BH6: =AI6-AH6 -> 0.1875 | BI6: =AK6-AJ6 -> 0.16666667 | BJ6: =AM6-AL6 -> 0.20833333 | BK6: =AO6-AN6 -> 0.16666667 | BL6: =AQ6-AP6 -> 0.14583333 | BM6: =((AS6+AT6)-INT(AS6+AT6))*24 -> 9 | BN6: =((AU6+AV6)-INT(AU6+AV6))*24 -> 9 | BO6: =((AW6+AX6)-INT(AW6+AX6))*24 -> 4.5 | BP6: =((AY6+AZ6)-INT(AY6+AZ6))*24 -> 9 | BQ6: =((BA6+BB6)-INT(BA6+BB6))*24 -> 7.5 | BR6: =((BC6+BD6)-INT(BC6+BD6))*24 -> 9 | BS6: =((BE6+BF6)-INT(BE6+BF6))*24 -> 9 | BT6: =((BG6+BH6)-INT(BG6+BH6))*24 -> 4.5 | BU6: =((BI6+BJ6)-INT(BI6+BJ6))*24 -> 9 | BV6: =((BK6+BL6)-INT(BK6+BL6))*24 -> 7.5 | BW6: =SUM(BM6:BQ6) -> 39 | BX6: =SUM(BR6:BV6) -> 39 | BY6: =(BW6+BX6)/2 -> 39
A7: An12 | B7: CARRE | C7: FRANCOISE | D7: 0.45833333 | E7: 0.54166667 | F7: 0.58333333 | G7: 0.83333333 | H7: 0.375 | I7: 0.5 | J7: 0.58333333 | K7: 0.75 | L7: 0 | M7: 0 | N7: 0.54166667 | O7: 0.625 | P7: 0.375 | Q7: 0.5 | R7: 0.58333333 | S7: 0.83333333 | T7: 0.375 | U7: 0.5 | V7: 0.54166667 | W7: 0.75 | X7: 0.45833333 | Y7: 0.54166667 | Z7: 0.58333333 | AA7: 0.83333333 | AB7: 0.375 | AC7: 0.5 | AD7: 0.58333333 | AE7: 0.75 | AF7: 0 | AG7: 0 | AH7: 0.54166667 | AI7: 0.625 | AJ7: 0.375 | AK7: 0.5 | AL7: 0.58333333 | AM7: 0.83333333 | AN7: 0.375 | AO7: 0.5 | AP7: 0.54166667 | AQ7: 0.75 | AS7: =E7-D7 -> 0.083333333 | AT7: =G7-F7 -> 0.25 | AU7: =I7-H7 -> 0.125 | AV7: =K7-J7 -> 0.16666667 | AW7: =M7-L7 -> 0 | AX7: =O7-N7 -> 0.083333333 | AY7: =Q7-P7 -> 0.125 | AZ7: =S7-R7 -> 0.25 | BA7: =U7-T7 -> 0.125 | BB7: =W7-V7 -> 0.20833333 | BC7: =Y7-X7 -> 0.083333333 | BD7: =AA7-Z7 -> 0.25 | BE7: =AC7-AB7 -> 0.125 | BF7: =AE7-AD7 -> 0.16666667 | BG7: =AG7-AF7 -> 0 | BH7: =AI7-AH7 -> 0.083333333 | BI7: =AK7-AJ7 -> 0.125 | BJ7: =AM7-AL7 -> 0.25 | BK7: =AO7-AN7 -> 0.125 | BL7: =AQ7-AP7 -> 0.20833333 | BM7: =((AS7+AT7)-INT(AS7+AT7))*24 -> 8 | BN7: =((AU7+AV7)-INT(AU7+AV7))*24 -> 7 | BO7: =((AW7+AX7)-INT(AW7+AX7))*24 -> 2 | BP7: =((AY7+AZ7)-INT(AY7+AZ7))*24 -> 9 | BQ7: =((BA7+BB7)-INT(BA7+BB7))*24 -> 8 | BR7: =((BC7+BD7)-INT(BC7+BD7))*24 -> 8 | BS7: =((BE7+BF7)-INT(BE7+BF7))*24 -> 7 | BT7: =((BG7+BH7)-INT(BG7+BH7))*24 -> 2 | BU7: =((BI7+BJ7)-INT(BI7+BJ7))*24 -> 9 | BV7: =((BK7+BL7)-INT(BK7+BL7))*24 -> 8 | BW7: =SUM(BM7:BQ7) -> 34 | BX7: =SUM(BR7:BV7) -> 34 | BY7: =(BW7+BX7)/2 -> 34
A8: An38 | B8: COAT-RIVRY | C8: MARYVONNE | D8: 0.375 | E8: 0.5 | F8: 0.5625 | G8: 0.72916667 | H8: 0.375 | I8: 0.5 | J8: 0.5625 | K8: 0.72916667 | L8: 0 | M8: 0 | N8: 0 | O8: 0 | P8: 0.375 | Q8: 0.5 | R8: 0.5625 | S8: 0.72916667 | T8: 0.375 | U8: 0.5 | V8: 0.5625 | W8: 0.72916667 | X8: 0.375 | Y8: 0.5 | Z8: 0.5625 | AA8: 0.72916667 | AB8: 0.375 | AC8: 0.5 | AD8: 0.5625 | AE8: 0.72916667 | AF8: 0 | AG8: 0 | AH8: 0 | AI8: 0 | AJ8: 0.375 | AK8: 0.5 | AL8: 0.5625 | AM8: 0.72916667 | AN8: 0.375 | AO8: 0.5 | AP8: 0.5625 | AQ8: 0.72916667 | AS8: =E8-D8 -> 0.125 | AT8: =G8-F8 -> 0.16666667 | AU8: =I8-H8 -> 0.125 | AV8: =K8-J8 -> 0.16666667 | AW8: =M8-L8 -> 0 | AX8: =O8-N8 -> 0 | AY8: =Q8-P8 -> 0.125 | AZ8: =S8-R8 -> 0.16666667 | BA8: =U8-T8 -> 0.125 | BB8: =W8-V8 -> 0.16666667 | BC8: =Y8-X8 -> 0.125 | BD8: =AA8-Z8 -> 0.16666667 | BE8: =AC8-AB8 -> 0.125 | BF8: =AE8-AD8 -> 0.16666667 | BG8: =AG8-AF8 -> 0 | BH8: =AI8-AH8 -> 0 | BI8: =AK8-AJ8 -> 0.125 | BJ8: =AM8-AL8 -> 0.16666667 | BK8: =AO8-AN8 -> 0.125 | BL8: =AQ8-AP8 -> 0.16666667 | BM8: =((AS8+AT8)-INT(AS8+AT8))*24 -> 7 | BN8: =((AU8+AV8)-INT(AU8+AV8))*24 -> 7 | BO8: =((AW8+AX8)-INT(AW8+AX8))*24 -> 0 | BP8: =((AY8+AZ8)-INT(AY8+AZ8))*24 -> 7 | BQ8: =((BA8+BB8)-INT(BA8+BB8))*24 -> 7 | BR8: =((BC8+BD8)-INT(BC8+BD8))*24 -> 7 | BS8: =((BE8+BF8)-INT(BE8+BF8))*24 -> 7 | BT8: =((BG8+BH8)-INT(BG8+BH8))*24 -> 0 | BU8: =((BI8+BJ8)-INT(BI8+BJ8))*24 -> 7 | BV8: =((BK8+BL8)-INT(BK8+BL8))*24 -> 7 | BW8: =SUM(BM8:BQ8) -> 28 | BX8: =SUM(BR8:BV8) -> 28 | BY8: =(BW8+BX8)/2 -> 28
A9: An29 | B9: CROIX | C9: CHARLOTTE | D9: 3.3541667 | E9: 0.5 | F9: 0.5625 | G9: 0.75 | H9: 0.33333333 | I9: 0.52083333 | J9: 0.5625 | K9: 0.70833333 | L9: 0 | M9: 0 | N9: 0 | O9: 0 | P9: 0.35416667 | Q9: 0.52083333 | R9: 0.5625 | S9: 0.72916667 | T9: 0.35416667 | U9: 0.5 | V9: 0.54166667 | W9: 0.72916667 | X9: 3.3541667 | Y9: 0.5 | Z9: 0.5625 | AA9: 0.75 | AB9: 0.33333333 | AC9: 0.52083333 | AD9: 0.5625 | AE9: 0.70833333 | AF9: 0 | AG9: 0 | AH9: 0 | AI9: 0 | AJ9: 0.35416667 | AK9: 0.52083333 | AL9: 0.5625 | AM9: 0.72916667 | AN9: 0.35416667 | AO9: 0.5 | AP9: 0.54166667 | AQ9: 0.72916667 | AS9: =E9-D9 -> -2.8541667 | AT9: =G9-F9 -> 0.1875 | AU9: =I9-H9 -> 0.1875 | AV9: =K9-J9 -> 0.14583333 | AW9: =M9-L9 -> 0 | AX9: =O9-N9 -> 0 | AY9: =Q9-P9 -> 0.16666667 | AZ9: =S9-R9 -> 0.16666667 | BA9: =U9-T9 -> 0.14583333 | BB9: =W9-V9 -> 0.1875 | BC9: =Y9-X9 -> -2.8541667 | BD9: =AA9-Z9 -> 0.1875 | BE9: =AC9-AB9 -> 0.1875 | BF9: =AE9-AD9 -> 0.14583333 | BG9: =AG9-AF9 -> 0 | BH9: =AI9-AH9 -> 0 | BI9: =AK9-AJ9 -> 0.16666667 | BJ9: =AM9-AL9 -> 0.16666667 | BK9: =AO9-AN9 -> 0.14583333 | BL9: =AQ9-AP9 -> 0.1875 | BM9: =((AS9+AT9)-INT(AS9+AT9))*24 -> 8 | BN9: =((AU9+AV9)-INT(AU9+AV9))*24 -> 8 | BO9: =((AW9+AX9)-INT(AW9+AX9))*24 -> 0 | BP9: =((AY9+AZ9)-INT(AY9+AZ9))*24 -> 8 | BQ9: =((BA9+BB9)-INT(BA9+BB9))*24 -> 8 | BR9: =((BC9+BD9)-INT(BC9+BD9))*24 -> 8 | BS9: =((BE9+BF9)-INT(BE9+BF9))*24 -> 8 | BT9: =((BG9+BH9)-INT(BG9+BH9))*24 -> 0 | BU9: =((BI9+BJ9)-INT(BI9+BJ9))*24 -> 8 | BV9: =((BK9+BL9)-INT(BK9+BL9))*24 -> 8 | BW9: =SUM(BM9:BQ9) -> 32 | BX9: =SUM(BR9:BV9) -> 32 | BY9: =(BW9+BX9)/2 -> 32
A10: An16 | B10: DUMEZ | C10: FANNY | D10: 0.35416667 | E10: 0.54166667 | F10: 0.5625 | G10: 0.75 | H10: 0.35416667 | I10: 0.54166667 | J10: 0.5625 | K10: 0.70833333 | L10: 0.35416667 | M10: 0.5625 | N10: 0.58333333 | O10: 0.75 | P10: 0.35416667 | Q10: 0.54166667 | R10: 0.5625 | S10: 0.75 | T10: 0 | U10: 0 | V10: 0 | W10: 0 | X10: 0.35416667 | Y10: 0.54166667 | Z10: 0.5625 | AA10: 0.75 | AB10: 0.35416667 | AC10: 0.54166667 | AD10: 0.5625 | AE10: 0.70833333 | AF10: 0.35416667 | AG10: 0.5625 | AH10: 0.58333333 | AI10: 0.75 | AJ10: 0.35416667 | AK10: 0.54166667 | AL10: 0.5625 | AM10: 0.75 | AN10: 0 | AO10: 0 | AP10: 0 | AQ10: 0 | AS10: =E10-D10 -> 0.1875 | AT10: =G10-F10 -> 0.1875 | AU10: =I10-H10 -> 0.1875 | AV10: =K10-J10 -> 0.14583333 | AW10: =M10-L10 -> 0.20833333 | AX10: =O10-N10 -> 0.16666667 | AY10: =Q10-P10 -> 0.1875 | AZ10: =S10-R10 -> 0.1875 | BA10: =U10-T10 -> 0 | BB10: =W10-V10 -> 0 | BC10: =Y10-X10 -> 0.1875 | BD10: =AA10-Z10 -> 0.1875 | BE10: =AC10-AB10 -> 0.1875 | BF10: =AE10-AD10 -> 0.14583333 | BG10: =AG10-AF10 -> 0.20833333 | BH10: =AI10-AH10 -> 0.16666667 | BI10: =AK10-AJ10 -> 0.1875 | BJ10: =AM10-AL10 -> 0.1875 | BK10: =AO10-AN10 -> 0 | BL10: =AQ10-AP10 -> 0 | BM10: =((AS10+AT10)-INT(AS10+AT10))*24 -> 9 | BN10: =((AU10+AV10)-INT(AU10+AV10))*24 -> 8 | BO10: =((AW10+AX10)-INT(AW10+AX10))*24 -> 9 | BP10: =((AY10+AZ10)-INT(AY10+AZ10))*24 -> 9 | BQ10: =((BA10+BB10)-INT(BA10+BB10))*24 -> 0 | BR10: =((BC10+BD10)-INT(BC10+BD10))*24 -> 9 | BS10: =((BE10+BF10)-INT(BE10+BF10))*24 -> 8 | BT10: =((BG10+BH10)-INT(BG10+BH10))*24 -> 9 | BU10: =((BI10+BJ10)-INT(BI10+BJ10))*24 -> 9 | BV10: =((BK10+BL10)-INT(BK10+BL10))*24 -> 0 | BW10: =SUM(BM10:BQ10) -> 35 | BX10: =SUM(BR10:BV10) -> 35 | BY10: =(BW10+BX10)/2 -> 35
A11: An18 | B11: FEDERKEIL | C11: FRANCOISE | D11: 0.33333333 | E11: 0.52083333 | F11: 0.58333333 | G11: 0.79166667 | H11: 0.33333333 | I11: 0.54166667 | J11: 0.58333333 | K11: 0.83333333 | L11: 0.33333333 | M11: 0.52083333 | N11: 0 | O11: 0 | P11: 0.33333333 | Q11: 0.52083333 | R11: 0.58333333 | S11: 0.75 | T11: 0 | U11: 0 | V11: 0 | W11: 0 | X11: 0.33333333 | Y11: 0.52083333 | Z11: 0.58333333 | AA11: 0.79166667 | AB11: 0.33333333 | AC11: 0.54166667 | AD11: 0.58333333 | AE11: 0.83333333 | AF11: 0.33333333 | AG11: 0.52083333 | AH11: 0 | AI11: 0 | AJ11: 0.33333333 | AK11: 0.52083333 | AL11: 0.58333333 | AM11: 0.75 | AN11: 0 | AO11: 0 | AP11: 0 | AQ11: 0 | AS11: =E11-D11 -> 0.1875 | AT11: =G11-F11 -> 0.20833333 | AU11: =I11-H11 -> 0.20833333 | AV11: =K11-J11 -> 0.25 | AW11: =M11-L11 -> 0.1875 | AX11: =O11-N11 -> 0 | AY11: =Q11-P11 -> 0.1875 | AZ11: =S11-R11 -> 0.16666667 | BA11: =U11-T11 -> 0 | BB11: =W11-V11 -> 0 | BC11: =Y11-X11 -> 0.1875 | BD11: =AA11-Z11 -> 0.20833333 | BE11: =AC11-AB11 -> 0.20833333 | BF11: =AE11-AD11 -> 0.25 | BG11: =AG11-AF11 -> 0.1875 | BH11: =AI11-AH11 -> 0 | BI11: =AK11-AJ11 -> 0.1875 | BJ11: =AM11-AL11 -> 0.16666667 | BK11: =AO11-AN11 -> 0 | BL11: =AQ11-AP11 -> 0 | BM11: =((AS11+AT11)-INT(AS11+AT11))*24 -> 9.5 | BN11: =((AU11+AV11)-INT(AU11+AV11))*24 -> 11 | BO11: =((AW11+AX11)-INT(AW11+AX11))*24 -> 4.5 | BP11: =((AY11+AZ11)-INT(AY11+AZ11))*24 -> 8.5 | BQ11: =((BA11+BB11)-INT(BA11+BB11))*24 -> 0 | BR11: =((BC11+BD11)-INT(BC11+BD11))*24 -> 9.5 | BS11: =((BE11+BF11)-INT(BE11+BF11))*24 -> 11 | BT11: =((BG11+BH11)-INT(BG11+BH11))*24 -> 4.5 | BU11: =((BI11+BJ11)-INT(BI11+BJ11))*24 -> 8.5 | BV11: =((BK11+BL11)-INT(BK11+BL11))*24 -> 0 | BW11: =SUM(BM11:BQ11) -> 33.5 | BX11: =SUM(BR11:BV11) -> 33.5 | BY11: =(BW11+BX11)/2 -> 33.5
A12: An49 | B12: HEULIN | C12: NICOLAS | D12: 0.375 | E12: 0.5 | F12: 0.54166667 | G12: 0.83333333 | H12: 0.375 | I12: 0.5 | J12: 0.54166667 | K12: 0.83333333 | L12: 0.35416667 | M12: 0.54166667 | N12: 0.58333333 | O12: 0.72916667 | P12: 0.33333333 | Q12: 0.47916667 | R12: 0 | S12: 0 | T12: 0.35416667 | U12: 0.54166667 | V12: 0.58333333 | W12: 0.70833333 | X12: 0.375 | Y12: 0.5 | Z12: 0.54166667 | AA12: 0.83333333 | AB12: 0.375 | AC12: 0.5 | AD12: 0.54166667 | AE12: 0.83333333 | AF12: 0.35416667 | AG12: 0.54166667 | AH12: 0.58333333 | AI12: 0.72916667 | AJ12: 0.33333333 | AK12: 0.47916667 | AL12: 0 | AM12: 0 | AN12: 0.35416667 | AO12: 0.54166667 | AP12: 0.58333333 | AQ12: 0.70833333 | AS12: =E12-D12 -> 0.125 | AT12: =G12-F12 -> 0.29166667 | AU12: =I12-H12 -> 0.125 | AV12: =K12-J12 -> 0.29166667 | AW12: =M12-L12 -> 0.1875 | AX12: =O12-N12 -> 0.14583333 | AY12: =Q12-P12 -> 0.14583333 | AZ12: =S12-R12 -> 0 | BA12: =U12-T12 -> 0.1875 | BB12: =W12-V12 -> 0.125 | BC12: =Y12-X12 -> 0.125 | BD12: =AA12-Z12 -> 0.29166667 | BE12: =AC12-AB12 -> 0.125 | BF12: =AE12-AD12 -> 0.29166667 | BG12: =AG12-AF12 -> 0.1875 | BH12: =AI12-AH12 -> 0.14583333 | BI12: =AK12-AJ12 -> 0.14583333 | BJ12: =AM12-AL12 -> 0 | BK12: =AO12-AN12 -> 0.1875 | BL12: =AQ12-AP12 -> 0.125 | BM12: =((AS12+AT12)-INT(AS12+AT12))*24 -> 10 | BN12: =((AU12+AV12)-INT(AU12+AV12))*24 -> 10 | BO12: =((AW12+AX12)-INT(AW12+AX12))*24 -> 8 | BP12: =((AY12+AZ12)-INT(AY12+AZ12))*24 -> 3.5 | BQ12: =((BA12+BB12)-INT(BA12+BB12))*24 -> 7.5 | BR12: =((BC12+BD12)-INT(BC12+BD12))*24 -> 10 | BS12: =((BE12+BF12)-INT(BE12+BF12))*24 -> 10 | BT12: =((BG12+BH12)-INT(BG12+BH12))*24 -> 8 | BU12: =((BI12+BJ12)-INT(BI12+BJ12))*24 -> 3.5 | BV12: =((BK12+BL12)-INT(BK12+BL12))*24 -> 7.5 | BW12: =SUM(BM12:BQ12) -> 39 | BX12: =SUM(BR12:BV12) -> 39 | BY12: =(BW12+BX12)/2 -> 39
A13: An20 | B13: LEMATELOT | C13: DELPHINE | D13: 0.375 | E13: 0.52083333 | F13: 0.54166667 | G13: 0.6875 | H13: 0.375 | I13: 0.54166667 | J13: 0.5625 | K13: 0.6875 | L13: 0 | M13: 0 | N13: 0 | O13: 0 | P13: 0.375 | Q13: 0.54166667 | R13: 0.5625 | S13: 0.6875 | T13: 0.375 | U13: 0.5 | V13: 0.52083333 | W13: 0.6875 | X13: 0.375 | Y13: 0.52083333 | Z13: 0.54166667 | AA13: 0.6875 | AB13: 0.375 | AC13: 0.54166667 | AD13: 0.5625 | AE13: 0.6875 | AF13: 0 | AG13: 0 | AH13: 0 | AI13: 0 | AJ13: 0.375 | AK13: 0.54166667 | AL13: 0.5625 | AM13: 0.6875 | AN13: 0.375 | AO13: 0.5 | AP13: 0.52083333 | AQ13: 0.6875 | AS13: =E13-D13 -> 0.14583333 | AT13: =G13-F13 -> 0.14583333 | AU13: =I13-H13 -> 0.16666667 | AV13: =K13-J13 -> 0.125 | AW13: =M13-L13 -> 0 | AX13: =O13-N13 -> 0 | AY13: =Q13-P13 -> 0.16666667 | AZ13: =S13-R13 -> 0.125 | BA13: =U13-T13 -> 0.125 | BB13: =W13-V13 -> 0.16666667 | BC13: =Y13-X13 -> 0.14583333 | BD13: =AA13-Z13 -> 0.14583333 | BE13: =AC13-AB13 -> 0.16666667 | BF13: =AE13-AD13 -> 0.125 | BG13: =AG13-AF13 -> 0 | BH13: =AI13-AH13 -> 0 | BI13: =AK13-AJ13 -> 0.16666667 | BJ13: =AM13-AL13 -> 0.125 | BK13: =AO13-AN13 -> 0.125 | BL13: =AQ13-AP13 -> 0.16666667 | BM13: =((AS13+AT13)-INT(AS13+AT13))*24 -> 7 | BN13: =((AU13+AV13)-INT(AU13+AV13))*24 -> 7 | BO13: =((AW13+AX13)-INT(AW13+AX13))*24 -> 0 | BP13: =((AY13+AZ13)-INT(AY13+AZ13))*24 -> 7 | BQ13: =((BA13+BB13)-INT(BA13+BB13))*24 -> 7 | BR13: =((BC13+BD13)-INT(BC13+BD13))*24 -> 7 | BS13: =((BE13+BF13)-INT(BE13+BF13))*24 -> 7 | BT13: =((BG13+BH13)-INT(BG13+BH13))*24 -> 0 | BU13: =((BI13+BJ13)-INT(BI13+BJ13))*24 -> 7 | BV13: =((BK13+BL13)-INT(BK13+BL13))*24 -> 7 | BW13: =SUM(BM13:BQ13) -> 28 | BX13: =SUM(BR13:BV13) -> 28 | BY13: =(BW13+BX13)/2 -> 28
A14: An33 | B14: MARIAS | C14: THIERRY | D14: 0.38541667 | E14: 0.52083333 | F14: 0.55208333 | G14: 0.75 | H14: 0.38541667 | I14: 0.52083333 | J14: 0.55208333 | K14: 0.75 | L14: 0.375 | M14: 0.5 | N14: 0.54166667 | O14: 0.75 | P14: 0.33333333 | Q14: 0.5 | R14: 0.54166667 | S14: 0.66666667 | T14: 0.4375 | U14: 0.52083333 | V14: 0.54166667 | W14: 0.79166667 | X14: 0.38541667 | Y14: 0.52083333 | Z14: 0.55208333 | AA14: 0.75 | AB14: 0.38541667 | AC14: 0.52083333 | AD14: 0.55208333 | AE14: 0.75 | AF14: 0.375 | AG14: 0.5 | AH14: 0.54166667 | AI14: 0.75 | AJ14: 0.33333333 | AK14: 0.5 | AL14: 0.54166667 | AM14: 0.66666667 | AN14: 0.4375 | AO14: 0.52083333 | AP14: 0.54166667 | AQ14: 0.79166667 | AS14: =E14-D14 -> 0.13541667 | AT14: =G14-F14 -> 0.19791667 | AU14: =I14-H14 -> 0.13541667 | AV14: =K14-J14 -> 0.19791667 | AW14: =M14-L14 -> 0.125 | AX14: =O14-N14 -> 0.20833333 | AY14: =Q14-P14 -> 0.16666667 | AZ14: =S14-R14 -> 0.125 | BA14: =U14-T14 -> 0.083333333 | BB14: =W14-V14 -> 0.25 | BC14: =Y14-X14 -> 0.13541667 | BD14: =AA14-Z14 -> 0.19791667 | BE14: =AC14-AB14 -> 0.13541667 | BF14: =AE14-AD14 -> 0.19791667 | BG14: =AG14-AF14 -> 0.125 | BH14: =AI14-AH14 -> 0.20833333 | BI14: =AK14-AJ14 -> 0.16666667 | BJ14: =AM14-AL14 -> 0.125 | BK14: =AO14-AN14 -> 0.083333333 | BL14: =AQ14-AP14 -> 0.25 | BM14: =((AS14+AT14)-INT(AS14+AT14))*24 -> 8 | BN14: =((AU14+AV14)-INT(AU14+AV14))*24 -> 8 | BO14: =((AW14+AX14)-INT(AW14+AX14))*24 -> 8 | BP14: =((AY14+AZ14)-INT(AY14+AZ14))*24 -> 7 | BQ14: =((BA14+BB14)-INT(BA14+BB14))*24 -> 8 | BR14: =((BC14+BD14)-INT(BC14+BD14))*24 -> 8 | BS14: =((BE14+BF14)-INT(BE14+BF14))*24 -> 8 | BT14: =((BG14+BH14)-INT(BG14+BH14))*24 -> 8 | BU14: =((BI14+BJ14)-INT(BI14+BJ14))*24 -> 7 | BV14: =((BK14+BL14)-INT(BK14+BL14))*24 -> 8 | BW14: =SUM(BM14:BQ14) -> 39 | BX14: =SUM(BR14:BV14) -> 39 | BY14: =(BW14+BX14)/2 -> 39
A15: An43 | B15: MERCERON | C15: BLANDINE | D15: 0.35416667 | E15: 0.54166667 | F15: 0.58333333 | G15: 0.75 | H15: 0.375 | I15: 0.54166667 | J15: 0.5625 | K15: 0.75 | L15: 0.375 | M15: 0.5625 | N15: 0.58333333 | O15: 0.83333333 | P15: 0.375 | Q15: 0.54166667 | R15: 0 | S15: 0 | T15: 0 | U15: 0 | V15: 0 | W15: 0 | X15: 0.375 | Y15: 0.54166667 | Z15: 0.58333333 | AA15: 0.75 | AB15: 0.35416667 | AC15: 0.54166667 | AD15: 0.5625 | AE15: 0.75 | AF15: 0.35416667 | AG15: 0.54166667 | AH15: 0.58333333 | AI15: 0.83333333 | AJ15: 0.375 | AK15: 0.54166667 | AL15: 0 | AM15: 0 | AN15: 0 | AO15: 0 | AP15: 0 | AQ15: 0 | AS15: =E15-D15 -> 0.1875 | AT15: =G15-F15 -> 0.16666667 | AU15: =I15-H15 -> 0.16666667 | AV15: =K15-J15 -> 0.1875 | AW15: =M15-L15 -> 0.1875 | AX15: =O15-N15 -> 0.25 | AY15: =Q15-P15 -> 0.16666667 | AZ15: =S15-R15 -> 0 | BA15: =U15-T15 -> 0 | BB15: =W15-V15 -> 0 | BC15: =Y15-X15 -> 0.16666667 | BD15: =AA15-Z15 -> 0.16666667 | BE15: =AC15-AB15 -> 0.1875 | BF15: =AE15-AD15 -> 0.1875 | BG15: =AG15-AF15 -> 0.1875 | BH15: =AI15-AH15 -> 0.25 | BI15: =AK15-AJ15 -> 0.16666667 | BJ15: =AM15-AL15 -> 0 | BK15: =AO15-AN15 -> 0 | BL15: =AQ15-AP15 -> 0 | BM15: =((AS15+AT15)-INT(AS15+AT15))*24 -> 8.5 | BN15: =((AU15+AV15)-INT(AU15+AV15))*24 -> 8.5 | BO15: =((AW15+AX15)-INT(AW15+AX15))*24 -> 10.5 | BP15: =((AY15+AZ15)-INT(AY15+AZ15))*24 -> 4 | BQ15: =((BA15+BB15)-INT(BA15+BB15))*24 -> 0 | BR15: =((BC15+BD15)-INT(BC15+BD15))*24 -> 8 | BS15: =((BE15+BF15)-INT(BE15+BF15))*24 -> 9 | BT15: =((BG15+BH15)-INT(BG15+BH15))*24 -> 10.5 | BU15: =((BI15+BJ15)-INT(BI15+BJ15))*24 -> 4 | BV15: =((BK15+BL15)-INT(BK15+BL15))*24 -> 0 | BW15: =SUM(BM15:BQ15) -> 31.5 | BX15: =SUM(BR15:BV15) -> 31.5 | BY15: =(BW15+BX15)/2 -> 31.5
A16: An30 | B16: POUPIN | C16: GREGOIRE | D16: 0.375 | E16: 0.52083333 | F16: 0.54166667 | G16: 0.6875 | H16: 0.375 | I16: 0.52083333 | J16: 0.54166667 | K16: 0.6875 | L16: 0 | M16: 0 | N16: 0 | O16: 0 | P16: 0.375 | Q16: 0.52083333 | R16: 0.54166667 | S16: 0.6875 | T16: 0.375 | U16: 0.52083333 | V16: 0.54166667 | W16: 0.6875 | X16: 0.375 | Y16: 0.52083333 | Z16: 0.54166667 | AA16: 0.6875 | AB16: 0.375 | AC16: 0.52083333 | AD16: 0.54166667 | AE16: 0.6875 | AF16: 0 | AG16: 0 | AH16: 0 | AI16: 0 | AJ16: 0.375 | AK16: 0.52083333 | AL16: 0.54166667 | AM16: 0.6875 | AN16: 0.375 | AO16: 0.52083333 | AP16: 0.54166667 | AQ16: 0.6875 | AS16: =E16-D16 -> 0.14583333 | AT16: =G16-F16 -> 0.14583333 | AU16: =I16-H16 -> 0.14583333 | AV16: =K16-J16 -> 0.14583333 | AW16: =M16-L16 -> 0 | AX16: =O16-N16 -> 0 | AY16: =Q16-P16 -> 0.14583333 | AZ16: =S16-R16 -> 0.14583333 | BA16: =U16-T16 -> 0.14583333 | BB16: =W16-V16 -> 0.14583333 | BC16: =Y16-X16 -> 0.14583333 | BD16: =AA16-Z16 -> 0.14583333 | BE16: =AC16-AB16 -> 0.14583333 | BF16: =AE16-AD16 -> 0.14583333 | BG16: =AG16-AF16 -> 0 | BH16: =AI16-AH16 -> 0 | BI16: =AK16-AJ16 -> 0.14583333 | BJ16: =AM16-AL16 -> 0.14583333 | BK16: =AO16-AN16 -> 0.14583333 | BL16: =AQ16-AP16 -> 0.14583333 | BM16: =((AS16+AT16)-INT(AS16+AT16))*24 -> 7 | BN16: =((AU16+AV16)-INT(AU16+AV16))*24 -> 7 | BO16: =((AW16+AX16)-INT(AW16+AX16))*24 -> 0 | BP16: =((AY16+AZ16)-INT(AY16+AZ16))*24 -> 7 | BQ16: =((BA16+BB16)-INT(BA16+BB16))*24 -> 7 | BR16: =((BC16+BD16)-INT(BC16+BD16))*24 -> 7 | BS16: =((BE16+BF16)-INT(BE16+BF16))*24 -> 7 | BT16: =((BG16+BH16)-INT(BG16+BH16))*24 -> 0 | BU16: =((BI16+BJ16)-INT(BI16+BJ16))*24 -> 7 | BV16: =((BK16+BL16)-INT(BK16+BL16))*24 -> 7 | BW16: =SUM(BM16:BQ16) -> 28 | BX16: =SUM(BR16:BV16) -> 28 | BY16: =(BW16+BX16)/2 -> 28
... A23: An09 | B23: KETTANI | C23: NADIA | D23: 0.375 | E23: 0.5 | F23: 0 | G23: 0 | H23: 0 | I23: 0 | J23: 0 | K23: 0 | L23: 0 | M23: 0 | N23: 0.625 | O23: 0.77083333 | P23: 0 | Q23: 0 | R23: 0 | S23: 0 | T23: 0 | U23: 0 | V23: 0 | W23: 0 | X23: 0.375 | Y23: 0.5 | Z23: 0 | AA23: 0 | AB23: 0 | AC23: 0 | AD23: 0.64583333 | AE23: 0.72916667 | AF23: 0 | AG23: 0 | AH23: 0.625 | AI23: 0.77083333 | AJ23: 0 | AK23: 0 | AL23: 0 | AM23: 0 | AN23: 0 | AO23: 0 | AP23: 0 | AQ23: 0 | AS23: =E23-D23 -> 0.125 | AT23: =G23-F23 -> 0 | AU23: =I23-H23 -> 0 | AV23: =K23-J23 -> 0 | AW23: =M23-L23 -> 0 | AX23: =O23-N23 -> 0.14583333 | AY23: =Q23-P23 -> 0 | AZ23: =S23-R23 -> 0 | BA23: =U23-T23 -> 0 | BB23: =W23-V23 -> 0 | BC23: =Y23-X23 -> 0.125 | BD23: =AA23-Z23 -> 0 | BE23: =AC23-AB23 -> 0 | BF23: =AE23-AD23 -> 0.083333333 | BG23: =AG23-AF23 -> 0 | BH23: =AI23-AH23 -> 0.14583333 | BI23: =AK23-AJ23 -> 0 | BJ23: =AM23-AL23 -> 0 | BK23: =AO23-AN23 -> 0 | BL23: =AQ23-AP23 -> 0 | BM23: =((AS23+AT23)-INT(AS23+AT23))*24 -> 3 | BN23: =((AU23+AV23)-INT(AU23+AV23))*24 -> 0 | BO23: =((AW23+AX23)-INT(AW23+AX23))*24 -> 3.5 | BP23: =((AY23+AZ23)-INT(AY23+AZ23))*24 -> 0 | BQ23: =((BA23+BB23)-INT(BA23+BB23))*24 -> 0 | BR23: =((BC23+BD23)-INT(BC23+BD23))*24 -> 3 | BS23: =((BE23+BF23)-INT(BE23+BF23))*24 -> 2 | BT23: =((BG23+BH23)-INT(BG23+BH23))*24 -> 3.5 | BU23: =((BI23+BJ23)-INT(BI23+BJ23))*24 -> 0 | BV23: =((BK23+BL23)-INT(BK23+BL23))*24 -> 0 | BW23: =SUM(BM23:BQ23) -> 6.5 | BX23: =SUM(BR23:BV23) -> 8.5 | BY23: =(BW23+BX23)/2 -> 7.5
A24: An32 | B24: PERRIN | C24: JEAN-XAVIER | D24: 0 | E24: 0 | F24: 0 | G24: 0 | H24: 0 | I24: 0 | J24: 0.66666667 | K24: 0.77083333 | L24: 0 | M24: 0 | N24: 0 | O24: 0 | P24: 0 | Q24: 0 | R24: 0 | S24: 0 | T24: 0 | U24: 0 | V24: 0.58333333 | W24: 0.79166667 | X24: 0 | Y24: 0 | Z24: 0 | AA24: 0 | AB24: 0 | AC24: 0 | AD24: 0.66666667 | AE24: 19:00 | AF24: 0 | AG24: 0 | AH24: 0 | AI24: 0 | AJ24: 0 | AK24: 0 | AL24: 0 | AM24: 0 | AN24: 0 | AO24: 0 | AP24: 0.58333333 | AQ24: 0.79166667 | AS24: =E24-D24 -> 0 | AT24: =G24-F24 -> 0 | AU24: =I24-H24 -> 0 | AV24: =K24-J24 -> 0.10416667 | AW24: =M24-L24 -> 0 | AX24: =O24-N24 -> 0 | AY24: =Q24-P24 -> 0 | AZ24: =S24-R24 -> 0 | BA24: =U24-T24 -> 0 | BB24: =W24-V24 -> 0.20833333 | BC24: =Y24-X24 -> 0 | BD24: =AA24-Z24 -> 0 | BE24: =AC24-AB24 -> 0 | BF24: =AE24-AD24 -> 0.125 | BG24: =AG24-AF24 -> 0 | BH24: =AI24-AH24 -> 0 | BI24: =AK24-AJ24 -> 0 | BJ24: =AM24-AL24 -> 0 | BK24: =AO24-AN24 -> 0 | BL24: =AQ24-AP24 -> 0.20833333 | BM24: =((AS24+AT24)-INT(AS24+AT24))*24 -> 0 | BN24: =((AU24+AV24)-INT(AU24+AV24))*24 -> 2.5 | BO24: =((AW24+AX24)-INT(AW24+AX24))*24 -> 0 | BP24: =((AY24+AZ24)-INT(AY24+AZ24))*24 -> 0 | BQ24: =((BA24+BB24)-INT(BA24+BB24))*24 -> 5 | BR24: =((BC24+BD24)-INT(BC24+BD24))*24 -> 0 | BS24: =((BE24+BF24)-INT(BE24+BF24))*24 -> 3 | BT24: =((BG24+BH24)-INT(BG24+BH24))*24 -> 0 | BU24: =((BI24+BJ24)-INT(BI24+BJ24))*24 -> 0 | BV24: =((BK24+BL24)-INT(BK24+BL24))*24 -> 5 | BW24: =SUM(BM24:BQ24) -> 7.5 | BX24: =SUM(BR24:BV24) -> 8 | BY24: =(BW24+BX24)/2 -> 7.75
A25: An52 | B25: PICHON | C25: EMMANUEL | D25: 0 | E25: 0 | F25: 0 | G25: 0 | H25: 0.35416667 | I25: 0.54166667 | J25: 0.5625 | K25: 0.75 | L25: 0 | M25: 0 | N25: 0 | O25: 0 | P25: 0 | Q25: 0 | R25: 0 | S25: 0 | T25: 0.33333333 | U25: 0.54166667 | V25: 0 | W25: 0 | X25: 0 | Y25: 0 | Z25: 0 | AA25: 0 | AB25: 0.35416667 | AC25: 0.54166667 | AD25: 0.5625 | AE25: 0.75 | AF25: 0 | AG25: 0 | AH25: 0 | AI25: 0 | AJ25: 0 | AK25: 0 | AL25: 0 | AM25: 0 | AN25: 0.33333333 | AO25: 0.54166667 | AP25: 0 | AQ25: 0 | AS25: =E25-D25 -> 0 | AT25: =G25-F25 -> 0 | AU25: =I25-H25 -> 0.1875 | AV25: =K25-J25 -> 0.1875 | AW25: =M25-L25 -> 0 | AX25: =O25-N25 -> 0 | AY25: =Q25-P25 -> 0 | AZ25: =S25-R25 -> 0 | BA25: =U25-T25 -> 0.20833333 | BB25: =W25-V25 -> 0 | BC25: =Y25-X25 -> 0 | BD25: =AA25-Z25 -> 0 | BE25: =AC25-AB25 -> 0.1875 | BF25: =AE25-AD25 -> 0.1875 | BG25: =AG25-AF25 -> 0 | BH25: =AI25-AH25 -> 0 | BI25: =AK25-AJ25 -> 0 | BJ25: =AM25-AL25 -> 0 | BK25: =AO25-AN25 -> 0.20833333 | BL25: =AQ25-AP25 -> 0 | BM25: =((AS25+AT25)-INT(AS25+AT25))*24 -> 0 | BN25: =((AU25+AV25)-INT(AU25+AV25))*24 -> 9 | BO25: =((AW25+AX25)-INT(AW25+AX25))*24 -> 0 | BP25: =((AY25+AZ25)-INT(AY25+AZ25))*24 -> 0 | BQ25: =((BA25+BB25)-INT(BA25+BB25))*24 -> 5 | BR25: =((BC25+BD25)-INT(BC25+BD25))*24 -> 0 | BS25: =((BE25+BF25)-INT(BE25+BF25))*24 -> 9 | BT25: =((BG25+BH25)-INT(BG25+BH25))*24 -> 0 | BU25: =((BI25+BJ25)-INT(BI25+BJ25))*24 -> 0 | BV25: =((BK25+BL25)-INT(BK25+BL25))*24 -> 5 | BW25: =SUM(BM25:BQ25) -> 14 | BX25: =SUM(BR25:BV25) -> 14 | BY25: =(BW25+BX25)/2 -> 14
A26: An83 | B26: TOUZET | C26: EMMANUELLE | D26: 0.375 | E26: 0.5 | F26: 0.52083333 | G26: 0.77083333 | H26: 0.375 | I26: 0.5 | J26: 0.52083333 | K26: 0.79166667 | L26: 0 | M26: 0 | N26: 0 | O26: 0 | P26: 0.375 | Q26: 0.5 | R26: 0.52083333 | S26: 0.77083333 | T26: 0.375 | U26: 0.5 | V26: 0.5625 | W26: 0.79166667 | X26: 0.375 | Y26: 0.5 | Z26: 0.52083333 | AA26: 0.77083333 | AB26: 0.375 | AC26: 0.5 | AD26: 0.52083333 | AE26: 0.79166667 | AF26: 0 | AG26: 0 | AH26: 0 | AI26: 0 | AJ26: 0.375 | AK26: 0.5 | AL26: 0.52083333 | AM26: 0.77083333 | AN26: 0.375 | AO26: 0.5 | AP26: 0.5625 | AQ26: 0.79166667 | AS26: =E26-D26 -> 0.125 | AT26: =G26-F26 -> 0.25 | AU26: =I26-H26 -> 0.125 | AV26: =K26-J26 -> 0.27083333 | AW26: =M26-L26 -> 0 | AX26: =O26-N26 -> 0 | AY26: =Q26-P26 -> 0.125 | AZ26: =S26-R26 -> 0.25 | BA26: =U26-T26 -> 0.125 | BB26: =W26-V26 -> 0.22916667 | BC26: =Y26-X26 -> 0.125 | BD26: =AA26-Z26 -> 0.25 | BE26: =AC26-AB26 -> 0.125 | BF26: =AE26-AD26 -> 0.27083333 | BG26: =AG26-AF26 -> 0 | BH26: =AI26-AH26 -> 0 | BI26: =AK26-AJ26 -> 0.125 | BJ26: =AM26-AL26 -> 0.25 | BK26: =AO26-AN26 -> 0.125 | BL26: =AQ26-AP26 -> 0.22916667 | BM26: =((AS26+AT26)-INT(AS26+AT26))*24 -> 9 | BN26: =((AU26+AV26)-INT(AU26+AV26))*24 -> 9.5 | BO26: =((AW26+AX26)-INT(AW26+AX26))*24 -> 0 | BP26: =((AY26+AZ26)-INT(AY26+AZ26))*24 -> 9 | BQ26: =((BA26+BB26)-INT(BA26+BB26))*24 -> 8.5 | BR26: =((BC26+BD26)-INT(BC26+BD26))*24 -> 9 | BS26: =((BE26+BF26)-INT(BE26+BF26))*24 -> 9.5 | BT26: =((BG26+BH26)-INT(BG26+BH26))*24 -> 0 | BU26: =((BI26+BJ26)-INT(BI26+BJ26))*24 -> 9 | BV26: =((BK26+BL26)-INT(BK26+BL26))*24 -> 8.5 | BW26: =SUM(BM26:BQ26) -> 36 | BX26: =SUM(BR26:BV26) -> 36 | BY26: =(BW26+BX26)/2 -> 36

Sheet Boetie
C2: LUNDI | H2: MARDI | M2: MERCREDI | R2: JEUDI | W2: VENDREDI
B3: SALARIES | C3: Matin | F3: Après-midi | H3: Matin | K3: Après-midi | M3: Matin | P3: Après-midi | R3: Matin | U3: Après-midi | W3: Matin | Z3: Après-midi
B5: Arlette TRAORE | C5: Accueil TEL | H5: Accueil TEL | K5: R° d'équipe | M5: Accueil TEL | R5: Accueil TEL | W5: Accueil TEL
C7: Accueil TEL | H7: Accueil TEL | K7: R° d'équipe | M7: Accueil TEL | R7: Accueil TEL | W7: Accueil TEL
B9: Blandine MERCERON | C9: W admin | F9: Entretien | H9: CTMA | K9: R° d'équipe | M9: CTMA | P9: Baugé | R9: Entretien
C11: CTMA | F11: Entretien | H11: VAD ou Admin | K11: R° d'équipe | M11: VAD ou Admin | P11: Baugé | R11: Entretien
B13: Céline Trouillet | C13: W admin | F13: Accueil collectif | H13: Entretien Maison d'arrêt | K13: R° d'équipe | M13: Entretien Maison d'arrêt | P13: Entretien | R13: Entretien | U13: groupe marche | Z13: Entretien
C15: W admin | F15: Accueil collectif | H15: Entretien Maison d'arrêt | K15: R° d'équipe | M15: Entretien Maison d'arrêt | P15: Entretien | R15: Entretien | U15: groupe marche | Z15: Entretien
B17: Charlotte CROIX | C17: R° Boutik | F17: Accueil Boutik | H17: Entretien | K17: R° d'équipe | P17: Entretien | R17: R° Boutik | U17: Accueil Boutik | W17: Entretien | Z17: Accueil CSAPA
C19: PASS | F19: Accueil Boutik | H19: Entretien | K19: R° d'équipe | P19: Entretien | R19: R° Boutik | U19: Accueil Boutik | W19: Entretien | Z19: Accueil CSAPA
B21: Delphine LEMATELOT | C21: Coordination formation | F21: Entretien | H21: Entretien | K21: R° d'équipe | R21: entretien | U21: Entretien | W21: Entretien
C23: Coordination formation | F23: Entretien | H23: Entretien | K23: R° d'équipe | R23: Entretien | U23: Entretien | W23: Entretien
B25: Fanny DUMEZ | C25: R° Boutik | F25: Accueil Boutik | H25: Entretien | K25: R° d'équipe | M25: Accueil collectif | P25: Entretien | R25: R° Boutik | U25: Accueil Boutik
C27: R° Boutik | F27: Accueil Boutik | H27: Entretien | K27: R° d'équipe | M27: Accueil collectif | P27: Entretien | R27: R° Boutik | U27: Accueil Boutik
B29: Françoise CARRE | C29: VAD | F29: Accueil collectif | H29: Entretien | K29: R° d'équipe | P29: VAD selon demande | R29: Entretien | U29: Extérieur/TEL | W29: Entretien | Z29: R° CHU
C31: VAD | F31: Accueil collectif | H31: Entretien | K31: R° d'équipe | P31: VAD selon demande | R31: Entretien | U31: Extérieur/TEL | W31: Entretien | Z31: R° CHU
B33: Françoise FEDERKEIL | C33: Entretien | F33: Entretien | H33: Entretien | K33: R° d'équipe | M33: Entretien | R33: Entretien | U33: Entretien
C35: Entretien | F35: Entretien | H35: Entretien | K35: R° d'équipe | M35: Entretien | R35: R° CJC | U35: Entretien
B37: Grégoire POUPIN | C37: R° Boutik | F37: Accueil Boutik | H37: Entretien | K37: R° d'équipe | R37: R° Boutik | U37: Accueil Boutik | W37: Temps DP | Z37: Accueil collectif
C39: R° Boutik | F39: Accueil Boutik | H39: Entretien | K39: R° d'équipe | R39: R° Boutik | U39: Accueil Boutik | W39: Temps DP | Z39: Accueil collectif
B41: Jean-baptiste BLANCHARD | C41: PASS | F41: Entretien | H41: Coordination Maison d'arrêt | K41: R° d'équipe | M41: Entretien | R41: Entretien Maison d'arrêt | U41: Coordination Maison d'arrêt | W41: Entretien Maison d'arrêt | Z41: Coordination Maison d'arrêt
C43: W admin | F43: Entretien | H43: Coordination Maison d'arrêt | K43: R° d'équipe | M43: Entretien | R43: Entretien Maison d'arrêt | U43: Coordination Maison d'arrêt | W43: Entretien Maison d'arrêt | Z43: Coordination Maison d'arrêt
B45: Maryvonne COAT-RIVRY | C45: Entretien | F45: Entretien | H45: W admin | K45: R° d'équipe | R45: Coordination CJC | U45: Entretien | W45: Entretien | Z45: Entretien
C47: Entretien | F47: Entretien | H47: W admin | K47: R° d'équipe | R47: R° CJC | U47: Entretien | W47: Entretien | Z47: Entretien
B49: Nicolas HEULIN | C49: Entretien | F49: Entretien | H49: W admin | J49: R° idem collègues plus soirée d'entretien | M49: CTMA | P49: Entretien | R49: VAD/partenaires | W49: CTMA | Z49: Entretien
C51: Entretien | F51: Entretien | H51: W admin | J51: R° idem collègues plus soirée d'entretien | M51: CTMA/bureau | P51: Entretien | R51: R° CJC | W51: CTMA | Z51: Entretien
B53: Thierry MARIAS | C53: MDA | F53: Entretien | H53: MDA | K53: MDA | M53: Entretien | P53: Entretien | R53: Entretien | U53: Entretien | W53: MDA | Z53: MDA
C55: MDA | F55: Entretien | H55: MDA | K55: R° d'équipe | M55: Entretien | P55: Entretien | R55: R° CJC | U55: Entretien | W55: MDA | Z55: MDA
B57: Vincent BIROT | C57: Entretien | F57: Prévention | H57: 9/11 entretien boetie | P57: Entretien | R57: Entretien | U57: prévention ou entretien | W57: Permanence college St Augustin | Z57: prévention ou entretien
H58: 11/12:30 W admin
C59: Entretien | F59: Prévention | H59: 9/11 entretien boetie | P59: Entretien | R59: R° CJC | U59: prévention ou entretien | W59: Permanence college St Augustin | Z59: prévention ou entretien
H60: 11/12:30 W admin
B61: Catherine Borgomano | C61: Entretien | F61: Entretien | H61: Entretien | K61: R° d'équipe | M61: Entretien | P61: Entretien | U61: groupe marche | W61: Entretien | Z61: Entretien
C63: Entretien | F63: Entretien | H63: Entretien | K63: R° d'équipe | M63: Entretien | P63: Entretien | U63: groupe marche | W63: Entretien | Z63: Entretien
B65: Denis Beuzeval | C65: Entretien | F65: Entretien | H65: Entretien | K65: R° d'équipe | M65: Accueil collectif | P65: Entretien | R65: Entretien | W65: Entretien | Z65: Entretien
C67: Entretien | F67: Entretien | H67: Entretien | K67: R° d'équipe | M67: Accueil collectif | P67: Entretien | R67: Entretien | W67: Entretien | Z67: Entretien
B69: Emmanuelle Touzet | C69: Entretien | F69: Entretien | H69: Entretien | K69: R° d'équipe | R69: Entretien | U69: groupe marche | W69: Entretien | Z69: Accueil collectif
C71: Entretien | F71: Entretien | H71: Entretien | K71: R° d'équipe | R71: Entretien | U71: groupe marche | W71: Entretien | Z71: Accueil collectif
B73: Sonia Guimas | C73: Accueil TEL | F73: Accueil TEL | H73: Accueil TEL | K73: R° d'équipe | M73: Accueil TEL | P73: Accueil TEL | R73: Accueil TEL | U73: Accueil TEL | W73: Accueil TEL | Z73: Accueil TEL
C75: Accueil TEL | F75: Accueil TEL | H75: Accueil TEL | K75: R° d'équipe | M75: Accueil TEL | P75: Accueil TEL | R75: Accueil TEL | U75: Accueil TEL | W75: Accueil TEL
...

Sheet Visuel
E1: LUNDI | R1: MARDI | AE1: MERCREDI | AR1: JEUDI | BE1: VENDREDI | CA1: Boetie | CB1: Extérieur
E2: 0.33333333 | F2: 0.375 | G2: 0.41666667 | H2: 0.45833333 | I2: 0.5 | J2: 0.54166667 | K2: 0.58333333 | L2: 0.625 | M2: 0.66666667 | N2: 0.70833333 | O2: 0.75 | P2: 0.79166667 | Q2: 0.83333333 | R2: 0.33333333 | S2: 0.375 | T2: 0.41666667 | U2: 0.45833333 | V2: 0.5 | W2: 0.54166667 | X2: 0.58333333 | Y2: 0.625 | Z2: 0.66666667 | AA2: 0.70833333 | AB2: 0.75 | AC2: 0.79166667 | AD2: 0.83333333 | AE2: 0.33333333 | AF2: 0.375 | AG2: 0.41666667 | AH2: 0.45833333 | AI2: 0.5 | AJ2: 0.54166667 | AK2: 0.58333333 | AL2: 0.625 | AM2: 0.66666667 | AN2: 0.70833333 | AO2: 0.75 | AP2: 0.79166667 | AQ2: 0.83333333 | AR2: 0.33333333 | AS2: 0.375 | AT2: 0.41666667 | AU2: 0.45833333 | AV2: 0.5 | AW2: 0.54166667 | AX2: 0.58333333 | AY2: 0.625 | AZ2: 0.66666667 | BA2: 0.70833333 | BB2: 0.75 | BC2: 0.79166667 | BD2: 0.83333333 | BE2: 0.33333333 | BF2: 0.375 | BG2: 0.41666667 | BH2: 0.45833333 | BI2: 0.5 | BJ2: 0.54166667 | BK2: 0.58333333 | BL2: 0.625 | BM2: 0.66666667 | BN2: 0.70833333 | BO2: 0.75 | BP2: 0.79166667 | BQ2: 0.83333333 | CA2: Bureau 1 | CB2: CTMA
A3: Nom1 | B3: Prénom1 | C3: =LOWER(CONCATENATE(LEFT(B3,1),A3)) -> pnom1 | D3: =COUNTIF(E3:BQ3,"bureau *") -> 31 | F3: Bureau 1 | G3: Bureau 1 | H3: Bureau 1 | I3: Bureau 1 | K3: Bureau 1 | L3: Bureau 1 | M3: Bureau 1 | N3: Bureau 1 | O3: Bureau 1 | P3: Bureau 1 | R3: Bureau 1 | S3: Bureau 1 | T3: Bureau 1 | U3: Bureau 1 | V3: Bureau 1 | X3: R° | Y3: R° | Z3: R° | AA3: Gp Phare | AB3: Gp Phare | AC3: Gp Phare | AF3: Acc | AG3: Acc col | AH3: Acc col | AI3: Acc | AK3: Bureau 1 | AL3: Bureau 1 | AM3: Bureau 1 | AN3: Bureau 1 | AS3: Bureau 1 | AT3: Bureau 1 | AU3: Bureau 1 | AV3: Bureau 1 | BF3: Bureau 1 | BG3: Bureau 1 | BH3: Bureau 1 | BI3: Bureau 1 | BK3: Bureau 1 | BL3: Bureau 1 | BM3: Bureau 1 | BN3: Bureau 1 | CA3: Bureau 2 | CB3: Gp Marche
A4: Nom2 | B4: Prénom2 | C4: =LOWER(CONCATENATE(LEFT(B4,1),A4)) -> pnom2 | D4: =COUNTIF(E4:BQ4,"bureau *") -> 30 | F4: Bureau 2 | G4: Bureau 2 | H4: Bureau 2 | I4: Bureau 2 | K4: Prévention | L4: Prévention | M4: Prévention | N4: Prévention | S4: Bureau 2 | T4: Bureau 2 | U4: Bureau 2 | V4: Bureau 2 | AF4: Bureau 1 | AG4: Bureau 1 | AH4: Bureau 1 | AI4: Bureau 1 | AK4: Bureau 2 | AL4: Bureau 2 | AM4: Bureau 2 | AN4: Bureau 2 | AO4: Bureau 2 | AS4: Bureau 2 | AT4: Bureau 2 | AU4: Bureau 2 | AV4: Bureau 2 | AX4: Bureau 2 | AY4: Bureau 2 | AZ4: Bureau 2 | BA4: Bureau 2 | BB4: Bureau 2 | BF4: Prévention | BG4: Prévention | BH4: Prévention | BI4: Prévention | BK4: Bureau 2 | BL4: Bureau 2 | BM4: Bureau 2 | BN4: Bureau 2 | CA4: Bureau 3 | CB4: PASS
A5: Nom3 | B5: Prénom3 | C5: =LOWER(CONCATENATE(LEFT(B5,1),A5)) -> pnom3 | D5: =COUNTIF(E5:BQ5,"bureau *") -> 6 | F5: PASS | G5: PASS | H5: PASS | I5: PASS | K5: Bureau 2 | L5: Bureau 2 | M5: Bureau 2 | N5: Bureau 2 | O5: Bureau 2 | P5: Bureau 2 | X5: R° | Y5: R° | Z5: R° | AK5: USCA | AL5: USCA | AM5: USCA | AN5: USCA | AO5: USCA | AS5: USCA | AT5: USCA | AU5: USCA | AV5: USCA | AX5: USCA | AY5: USCA | AZ5: USCA | BA5: USCA | BB5: USCA | BF5: USCA | BG5: USCA | BH5: USCA | BI5: USCA | BK5: USCA | BL5: USCA | BM5: USCA | BN5: USCA | CA5: Bureau 4 | CB5: CARRUD
A6: Nom4 | B6: Prénom4 | C6: =LOWER(CONCATENATE(LEFT(B6,1),A6)) -> pnom4 | D6: =COUNTIF(E6:BQ6,"bureau *") -> 33 | F6: Bureau 11 | G6: Bureau 11 | H6: Bureau 11 | I6: Bureau 11 | K6: Bureau 11 | L6: Bureau 11 | M6: Bureau 11 | N6: Bureau 11 | O6: Bureau 11 | P6: Bureau 11 | R6: Bureau 11 | S6: Bureau 11 | T6: Bureau 11 | U6: Bureau 11 | V6: Bureau 11 | X6: R° | Y6: R° | Z6: R° | AF6: Bureau 11 | AG6: Bureau 11 | AH6: Bureau 11 | AI6: Bureau 11 | AK6: Bureau 11 | AL6: Bureau 11 | AM6: Bureau 11 | AN6: Bureau 11 | AO6: Bureau 11 | AS6: Acc | AT6: Acc | AU6: Acc | AV6: Acc | AX6: Gp Marche | AY6: Gp Marche | AZ6: Gp Marche | BA6: Bureau 1 | BB6: Bureau 1 | BC6: Bureau 1 | BK6: Bureau 10 | BL6: Bureau 10 | BM6: Bureau 10 | BN6: Bureau 10 | BO6: Bureau 10 | BP6: Bureau 10 | CA6: Bureau 5 | CB6: USCA
A7: Nom5 | B7: Prénom5 | C7: =LOWER(CONCATENATE(LEFT(B7,1),A7)) -> pnom5 | D7: =COUNTIF(E7:BQ7,"bureau *") -> 21 | F7: Acc | G7: Acc | H7: Acc | I7: Acc | K7: Acc col | L7: Acc col | M7: Acc | N7: Acc | O7: Acc | S7: Bureau 3 | T7: Bureau 3 | U7: Bureau 3 | V7: Bureau 3 | X7: R° | Y7: R° | Z7: R° | AA7: Bureau 3 | AB7: Bureau 3 | AC7: Bureau 3 | AD7: Bureau 3 | AS7: Bureau 5 | AT7: Bureau 5 | AU7: Bureau 5 | AV7: Bureau 5 | AX7: Bureau 5 | AY7: Bureau 5 | AZ7: Bureau 5 | BA7: Bureau 5 | BB7: Bureau 5 | BF7: Bureau 7 | BG7: Bureau 7 | BH7: Bureau 7 | BI7: Bureau 7 | CA7: Bureau 6 | CB7: Prévention
A8: Nom6 | B8: Prénom6 | C8: =LOWER(CONCATENATE(LEFT(B8,1),A8)) -> pnom6 | D8: =COUNTIF(E8:BQ8,"bureau *") -> 29 | F8: Bureau 3 | G8: Bureau 3 | H8: Bureau 3 | I8: Bureau 3 | K8: Bureau 3 | L8: Bureau 3 | M8: Bureau 3 | N8: Bureau 3 | O8: Bureau 3 | P8: Bureau 3 | Q8: Bureau 3 | S8: Admin | T8: Admin | U8: Admin | V8: Admin | X8: R° | Y8: R° | Z8: R° | AS8: Bureau 3 | AT8: Bureau 3 | AU8: Bureau 3 | AV8: Bureau 3 | AX8: Bureau 3 | AY8: Bureau 3 | AZ8: Bureau 3 | BA8: Bureau 3 | BB8: Bureau 3 | BF8: Bureau 3 | BG8: Bureau 3 | BH8: Bureau 3 | BI8: Bureau 3 | BK8: Bureau 3 | BL8: Bureau 3 | BM8: Bureau 3 | BN8: Bureau 3 | BO8: Bureau 3 | CA8: Bureau 7 | CB8: Formation
A9: Nom7 | B9: Prénom7 | C9: =LOWER(CONCATENATE(LEFT(B9,1),A9)) -> pnom7 | D9: =COUNTIF(E9:BQ9,"bureau *") -> 11 | F9: CARRUD | G9: CARRUD | H9: CARRUD | I9: CARRUD | K9: CARRUD | L9: CARRUD | M9: CARRUD | N9: CARRUD | O9: CARRUD | S9: Bureau 5 | T9: Bureau 5 | U9: Bureau 5 | V9: Bureau 5 | X9: R° | Y9: R° | Z9: R° | AS9: CARRUD | AT9: CARRUD | AU9: CARRUD | AV9: CARRUD | AX9: CARRUD | AY9: CARRUD | AZ9: CARRUD | BA9: CARRUD | BB9: CARRUD | BF9: Bureau 5 | BG9: Bureau 5 | BH9: Bureau 5 | BI9: Bureau 5 | BK9: Bureau 5 | BL9: Acc col | BM9: Acc col | BN9: Bureau 5 | BO9: Bureau 5 | CA9: Bureau 8 | CB9: GTMF
A10: Nom8 | B10: Prénom8 | C10: =LOWER(CONCATENATE(LEFT(B10,1),A10)) -> pnom8 | D10: =COUNTIF(E10:BQ10,"bureau *") -> 6 | F10: CARRUD | G10: CARRUD | H10: CARRUD | I10: CARRUD | K10: CARRUD | L10: CARRUD | M10: CARRUD | N10: CARRUD | O10: CARRUD | S10: Acc | T10: Acc | U10: Acc | V10: Acc | X10: R° | Y10: R° | Z10: R° | AF10: Bureau 5 | AG10: Acc col | AH10: Acc col | AK10: Bureau 5 | AL10: Bureau 5 | AM10: Bureau 5 | AN10: Bureau 5 | AO10: Bureau 5 | AS10: CARRUD | AT10: CARRUD | AU10: CARRUD | AV10: CARRUD | AX10: CARRUD | AY10: CARRUD | AZ10: CARRUD | BA10: CARRUD | BB10: CARRUD | CA10: Bureau 9 | CB10: MDA
A11: Nom9 | B11: Prénom9 | C11: =LOWER(CONCATENATE(LEFT(B11,1),A11)) -> pnom9 | D11: =COUNTIF(E11:BQ11,"bureau *") -> 28 | F11: Bureau 4 | G11: Bureau 4 | H11: Bureau 4 | I11: Bureau 4 | K11: Bureau 4 | L11: Bureau 4 | M11: Bureau 4 | N11: Bureau 4 | O11: Bureau 4 | P11: Bureau 4 | S11: Bureau 4 | T11: Bureau 4 | U11: Bureau 4 | V11: Bureau 4 | X11: R° | Y11: R° | Z11: R° | AE11: Bureau 4 | AF11: Bureau 4 | AG11: Bureau 4 | AH11: Bureau 4 | AI11: Bureau 4 | AS11: Bureau 4 | AT11: Bureau 4 | AU11: Bureau 4 | AV11: Bureau 4 | AX11: Bureau 4 | AY11: Bureau 4 | AZ11: Bureau 4 | BA11: Bureau 4 | BB11: Bureau 4 | CA11: Bureau 10 | CB11: Baugé
A12: Nom10 | B12: Prénom10 | C12: =LOWER(CONCATENATE(LEFT(B12,1),A12)) -> pnom10 | D12: =COUNTIF(E12:BQ12,"bureau *") -> 9 | BF12: Bureau 9 | BG12: Bureau 9 | BH12: Bureau 9 | BI12: Bureau 9 | BK12: Bureau 9 | BL12: Bureau 9 | BM12: Bureau 9 | BN12: Bureau 9 | BO12: Bureau 9 | CA12: Bureau 11 | CB12: Déléguation
A13: Nom11 | B13: Prénom11 | C13: =LOWER(CONCATENATE(LEFT(B13,1),A13)) -> pnom11 | D13: =COUNTIF(E13:BQ13,"bureau *") -> 13 | AS13: Bureau 10 | AT13: Bureau 10 | AU13: Bureau 10 | AV13: Bureau 10 | AX13: Bureau 10 | AY13: Bureau 10 | AZ13: Bureau 10 | BA13: Bureau 10 | BB13: Bureau 10 | BF13: Bureau 10 | BG13: Bureau 10 | BH13: Bureau 10 | BI13: Bureau 10 | CA13: Acc
A14: Nom12 | B14: Prénom12 | C14: =LOWER(CONCATENATE(LEFT(B14,1),A14)) -> pnom12 | D14: =COUNTIF(E14:BQ14,"bureau *") -> 0 | F14: Acc | G14: Acc | H14: Acc | I14: Acc | K14: Acc | L14: Acc | M14: Acc | N14: Acc | O14: Acc | P14: Acc | S14: Acc | T14: Acc | U14: Acc | V14: Acc | X14: R° | Y14: R° | Z14: R° | AA14: Acc | AB14: Acc | AF14: Acc | AG14: Acc | AH14: Acc | AI14: Acc | AK14: Acc | AL14: Acc | AM14: Acc | AN14: Acc | AO14: Acc | AS14: Acc | AT14: Acc | AU14: Acc | AV14: Acc | AX14: Acc | AY14: Acc | AZ14: Acc | BA14: Acc | BB14: Acc | BF14: Acc | BG14: Acc | BH14: Acc | BI14: Acc | BK14: Acc | BL14: Acc | BM14: Acc | BN14: Acc | CA14: Acc col
A15: Nom13 | B15: Prénom13 | C15: =LOWER(CONCATENATE(LEFT(B15,1),A15)) -> pnom13 | D15: =COUNTIF(E15:BQ15,"bureau *") -> 24 | F15: Bureau 5 | G15: Bureau 5 | H15: Bureau 5 | I15: Bureau 5 | K15: Bureau 5 | L15: Bureau 5 | M15: Bureau 5 | N15: Bureau 5 | O15: Bureau 5 | P15: Bureau 5 | Q15: Bureau 5 | S15: Bureau 10 | T15: Bureau 10 | U15: Bureau 10 | V15: Bureau 10 | X15: R° | Y15: R° | Z15: R° | AA15: Bureau 5 | AB15: Bureau 5 | AC15: Bureau 5 | AD15: Bureau 5 | AE15: CTMA | AF15: CTMA | AG15: CTMA | AH15: CTMA | AI15: CTMA | AS15: Admin | AT15: Admin | AU15: Admin | AV15: Admin | BF15: CTMA | BG15: CTMA | BH15: CTMA | BI15: CTMA | BK15: Bureau 4 | BL15: Bureau 4 | BM15: Bureau 4 | BN15: Bureau 4 | BO15: Bureau 4 | CA15: Gp Phare
A16: Nom14 | B16: Prénom14 | C16: =LOWER(CONCATENATE(LEFT(B16,1),A16)) -> pnom14 | D16: =COUNTIF(E16:BQ16,"bureau *") -> 7 | F16: Bureau 10 | G16: Bureau 10 | H16: Bureau 10 | Z16: R° | AL16: Bureau 10 | AM16: Bureau 10 | AN16: Bureau 10 | AO16: Bureau 10 | CA16: Admin
A17: Nom15 | B17: Prénom15 | C17: =LOWER(CONCATENATE(LEFT(B17,1),A17)) -> pnom15 | D17: =COUNTIF(E17:BQ17,"bureau *") -> 21 | F17: Formation | G17: Formation | H17: Formation | I17: Formation | K17: Bureau 6 | L17: Bureau 6 | M17: Bureau 6 | N17: Bureau 6 | S17: Bureau 6 | T17: Bureau 6 | U17: Bureau 6 | V17: Bureau 6 | X17: R° | Y17: R° | Z17: R° | AS17: Bureau 6 | AT17: Bureau 6 | AU17: Bureau 6 | AV17: Bureau 6 | AX17: Bureau 6 | AY17: Bureau 6 | AZ17: Bureau 6 | BA17: Bureau 6 | BB17: Bureau 6 | BF17: Bureau 6 | BG17: Bureau 6 | BH17: Bureau 6 | BI17: Bureau 6 | CA17: R°
A18: Nom16 | B18: Prénom16 | C18: =LOWER(CONCATENATE(LEFT(B18,1),A18)) -> pnom16 | D18: =COUNTIF(E18:BQ18,"bureau *") -> 23 | F18: MDA | G18: MDA | H18: MDA | I18: MDA | K18: Bureau 7 | L18: Bureau 7 | M18: Bureau 7 | N18: Bureau 7 | O18: Bureau 7 | S18: MDA | T18: MDA | U18: MDA | V18: MDA | X18: R° | Y18: R° | Z18: R° | AF18: Bureau 3 | AG18: Bureau 3 | AH18: Bureau 3 | AI18: Bureau 3 | AK18: Bureau 3 | AL18: Bureau 3 | AM18: Bureau 3 | AN18: Bureau 3 | AO18: Bureau 3 | AS18: Bureau 11 | AT18: Bureau 11 | AU18: Bureau 11 | AV18: Bureau 11 | AX18: Bureau 11 | AY18: Bureau 11 | AZ18: Bureau 11 | BA18: Bureau 11 | BB18: Bureau 11 | BF18: MDA | BG18: MDA | BH18: MDA | BI18: MDA | BK18: MDA | BL18: MDA | BM18: MDA | BN18: MDA | BO18: MDA
A19: Nom17 | B19: Prénom17 | C19: =LOWER(CONCATENATE(LEFT(B19,1),A19)) -> pnom17 | D19: =COUNTIF(E19:BQ19,"bureau *") -> 9 | F19: CTMA | G19: CTMA | H19: CTMA | I19: CTMA | K19: Bureau 8 | L19: Bureau 8 | M19: Bureau 8 | N19: Bureau 8 | O19: Bureau 8 | R19: CTMA | S19: CTMA | T19: CTMA | U19: CTMA | V19: CTMA | X19: R° | Y19: R° | Z19: R° | AE19: CTMA | AF19: CTMA | AG19: CTMA | AH19: CTMA | AI19: CTMA | AK19: Baugé | AL19: Baugé | AM19: Baugé | AN19: Baugé | AO19: Baugé | AP19: Baugé | AS19: Bureau 7 | AT19: Bureau 7 | AU19: Bureau 7 | AV19: Bureau 7
A20: Nom18 | B20: Prénom18 | C20: =LOWER(CONCATENATE(LEFT(B20,1),A20)) -> pnom18 | D20: =COUNTIF(E20:BQ20,"bureau *") -> 8 | Z20: R° | AA20: Bureau 10 | AB20: Bureau 10 | AC20: Bureau 10 | BK20: Bureau 11 | BL20: Bureau 11 | BM20: Bureau 11 | BN20: Bureau 11 | BO20: Bureau 11
A21: Nom19 | B21: Prénom19 | C21: =LOWER(CONCATENATE(LEFT(B21,1),A21)) -> pnom19 | D21: =COUNTIF(E21:BQ21,"bureau *") -> 15 | R21: Bureau 9 | S21: Bureau 9 | T21: Bureau 9 | U21: Bureau 9 | V21: Bureau 9 | W21: Bureau 9 | X21: Bureau 9 | Y21: Bureau 9 | Z21: R° | AA21: Bureau 9 | AB21: Bureau 9 | AC21: Bureau 9 | BF21: Bureau 11 | BG21: Bureau 11 | BH21: Bureau 11 | BI21: Bureau 11
A22: Nom20 | B22: Prénom20 | C22: =LOWER(CONCATENATE(LEFT(B22,1),A22)) -> pnom20 | D22: =COUNTIF(E22:BQ22,"bureau *") -> 5 | F22: CARRUD | G22: CARRUD | H22: CARRUD | I22: CARRUD | K22: CARRUD | L22: CARRUD | M22: CARRUD | N22: CARRUD | O22: CARRUD | R22: Bureau 7 | S22: Bureau 7 | T22: Bureau 7 | U22: Bureau 7 | V22: Bureau 7 | X22: R° | Y22: R° | Z22: R° | AS22: CARRUD | AT22: CARRUD | AU22: CARRUD | AV22: CARRUD | AX22: CARRUD | AY22: CARRUD | AZ22: CARRUD | BA22: CARRUD | BB22: CARRUD | BF22: Déléguation | BG22: Déléguation | BH22: Déléguation | BI22: Déléguation | BK22: Acc | BL22: Acc col | BM22: Acc col | BN22: Acc
A23: Nom21 | B23: Prénom21 | C23: =LOWER(CONCATENATE(LEFT(B23,1),A23)) -> pnom21 | D23: =COUNTIF(E23:BQ23,"bureau *") -> 44 | F23: Bureau 9 | G23: Bureau 9 | H23: Bureau 9 | I23: Bureau 9 | K23: Bureau 9 | L23: Bureau 9 | M23: Bureau 9 | N23: Bureau 9 | O23: Bureau 9 | P23: Bureau 9 | R23: Bureau 8 | S23: Bureau 8 | T23: Bureau 8 | U23: Bureau 8 | V23: Bureau 8 | X23: R° | Y23: R° | Z23: R° | AA23: Bureau 8 | AB23: Bureau 8 | AC23: Bureau 8 | AF23: Bureau 8 | AG23: Bureau 8 | AH23: Bureau 8 | AI23: Bureau 8 | AK23: Bureau 8 | AL23: Bureau 8 | AM23: Bureau 8 | AN23: Bureau 8 | AO23: Bureau 8 | AS23: Bureau 8 | AT23: Bureau 8 | AU23: Bureau 8 | AV23: Bureau 8 | AX23: Gp Marche | AY23: Gp Marche | AZ23: Gp Marche | BA23: Bureau 8 | BB23: Bureau 8 | BC23: Bureau 8 | BF23: Bureau 8 | BG23: Bureau 8 | BH23: Bureau 8 | BI23: Bureau 8 | BK23: Bureau 8 | BL23: Bureau 8 | BM23: Bureau 8 | BN23: Bureau 8 | BO23: Bureau 8 | BP23: Bureau 8
A24: Nom22 | B24: Prénom22 | C24: =LOWER(CONCATENATE(LEFT(B24,1),A24)) -> pnom22 | D24: =COUNTIF(E24:BQ24,"bureau *") -> 21 | F24: Bureau 6 | G24: Bureau 6 | H24: Bureau 6 | I24: Bureau 6 | K24: Acc col | L24: Acc col | M24: Bureau 10 | N24: Bureau 10 | O24: Bureau 10 | R24: USCA | S24: USCA | T24: USCA | U24: USCA | V24: USCA | X24: R° | Y24: R° | Z24: R° | AE24: USCA | AF24: USCA | AG24: USCA | AH24: USCA | AI24: USCA | AS24: Bureau 9 | AT24: Bureau 9 | AU24: Bureau 9 | AV24: Bureau 9 | AX24: Bureau 9 | AY24: Bureau 9 | AZ24: Bureau 9 | BA24: Bureau 9 | BB24: Bureau 9 | BK24: Bureau 7 | BL24: Bureau 7 | BM24: Bureau 7 | BN24: Bureau 7 | BO24: Bureau 7
F25: =IF(COUNTIF(F$3:F$24,$CA2)=1,"",$CA2) | G25: =IF(COUNTIF(G$3:G$24,$CA2)=1,"",$CA2) | H25: =IF(COUNTIF(H$3:H$24,$CA2)=1,"",$CA2) | I25: =IF(COUNTIF(I$3:I$24,$CA2)=1,"",$CA2) | J25: =IF(COUNTIF(J$3:J$24,$CA2)=1,"",$CA2) -> Bureau 1 | K25: =IF(COUNTIF(K$3:K$24,$CA2)=1,"",$CA2) | L25: =IF(COUNTIF(L$3:L$24,$CA2)=1,"",$CA2) | M25: =IF(COUNTIF(M$3:M$24,$CA2)=1,"",$CA2) | ... BQ25: =IF(COUNTIF(BQ$3:BQ$24,$CA2)=1,"",$CA2) -> Bureau 1
F26: =IF(COUNTIF(F$3:F$24,$CA3)=1,"",$CA3) | G26: =IF(COUNTIF(G$3:G$24,$CA3)=1,"",$CA3) | H26: =IF(COUNTIF(H$3:H$24,$CA3)=1,"",$CA3) | I26: =IF(COUNTIF(I$3:I$24,$CA3)=1,"",$CA3) | J26: =IF(COUNTIF(J$3:J$24,$CA3)=1,"",$CA3) -> Bureau 2 | K26: =IF(COUNTIF(K$3:K$24,$CA3)=1,"",$CA3) | L26: =IF(COUNTIF(L$3:L$24,$CA3)=1,"",$CA3) | M26: =IF(COUNTIF(M$3:M$24,$CA3)=1,"",$CA3) | ... BQ26: =IF(COUNTIF(BQ$3:BQ$24,$CA3)=1,"",$CA3) -> Bureau 2
F27: =IF(COUNTIF(F$3:F$24,$CA4)=1,"",$CA4) | G27: =IF(COUNTIF(G$3:G$24,$CA4)=1,"",$CA4) | H27: =IF(COUNTIF(H$3:H$24,$CA4)=1,"",$CA4) | I27: =IF(COUNTIF(I$3:I$24,$CA4)=1,"",$CA4) | J27: =IF(COUNTIF(J$3:J$24,$CA4)=1,"",$CA4) -> Bureau 3 | K27: =IF(COUNTIF(K$3:K$24,$CA4)=1,"",$CA4) | L27: =IF(COUNTIF(L$3:L$24,$CA4)=1,"",$CA4) | M27: =IF(COUNTIF(M$3:M$24,$CA4)=1,"",$CA4) | ... BQ27: =IF(COUNTIF(BQ$3:BQ$24,$CA4)=1,"",$CA4) -> Bureau 3
F28: =IF(COUNTIF(F$3:F$24,$CA5)=1,"",$CA5) | G28: =IF(COUNTIF(G$3:G$24,$CA5)=1,"",$CA5) | H28: =IF(COUNTIF(H$3:H$24,$CA5)=1,"",$CA5) | I28: =IF(COUNTIF(I$3:I$24,$CA5)=1,"",$CA5) | J28: =IF(COUNTIF(J$3:J$24,$CA5)=1,"",$CA5) -> Bureau 4 | K28: =IF(COUNTIF(K$3:K$24,$CA5)=1,"",$CA5) | L28: =IF(COUNTIF(L$3:L$24,$CA5)=1,"",$CA5) | M28: =IF(COUNTIF(M$3:M$24,$CA5)=1,"",$CA5) | ... BQ28: =IF(COUNTIF(BQ$3:BQ$24,$CA5)=1,"",$CA5) -> Bureau 4
F29: =IF(COUNTIF(F$3:F$24,$CA6)=1,"",$CA6) | G29: =IF(COUNTIF(G$3:G$24,$CA6)=1,"",$CA6) | H29: =IF(COUNTIF(H$3:H$24,$CA6)=1,"",$CA6) | I29: =IF(COUNTIF(I$3:I$24,$CA6)=1,"",$CA6) | J29: =IF(COUNTIF(J$3:J$24,$CA6)=1,"",$CA6) -> Bureau 5 | K29: =IF(COUNTIF(K$3:K$24,$CA6)=1,"",$CA6) | L29: =IF(COUNTIF(L$3:L$24,$CA6)=1,"",$CA6) | M29: =IF(COUNTIF(M$3:M$24,$CA6)=1,"",$CA6) | ... BQ29: =IF(COUNTIF(BQ$3:BQ$24,$CA6)=1,"",$CA6) -> Bureau 5
F30: =IF(COUNTIF(F$3:F$24,$CA7)=1,"",$CA7) | G30: =IF(COUNTIF(G$3:G$24,$CA7)=1,"",$CA7) | H30: =IF(COUNTIF(H$3:H$24,$CA7)=1,"",$CA7) | I30: =IF(COUNTIF(I$3:I$24,$CA7)=1,"",$CA7) | J30: =IF(COUNTIF(J$3:J$24,$CA7)=1,"",$CA7) -> Bureau 6 | K30: =IF(COUNTIF(K$3:K$24,$CA7)=1,"",$CA7) | L30: =IF(COUNTIF(L$3:L$24,$CA7)=1,"",$CA7) | M30: =IF(COUNTIF(M$3:M$24,$CA7)=1,"",$CA7) | ... BQ30: =IF(COUNTIF(BQ$3:BQ$24,$CA7)=1,"",$CA7) -> Bureau 6
F31: =IF(COUNTIF(F$3:F$24,$CA8)=1,"",$CA8) -> Bureau 7 | G31: =IF(COUNTIF(G$3:G$24,$CA8)=1,"",$CA8) -> Bureau 7 | H31: =IF(COUNTIF(H$3:H$24,$CA8)=1,"",$CA8) -> Bureau 7 | I31: =IF(COUNTIF(I$3:I$24,$CA8)=1,"",$CA8) -> Bureau 7 | J31: =IF(COUNTIF(J$3:J$24,$CA8)=1,"",$CA8) -> Bureau 7 | K31: =IF(COUNTIF(K$3:K$24,$CA8)=1,"",$CA8) | L31: =IF(COUNTIF(L$3:L$24,$CA8)=1,"",$CA8) | M31: =IF(COUNTIF(M$3:M$24,$CA8)=1,"",$CA8) | ... BQ31: =IF(COUNTIF(BQ$3:BQ$24,$CA8)=1,"",$CA8) -> Bureau 7
F32: =IF(COUNTIF(F$3:F$24,$CA9)=1,"",$CA9) -> Bureau 8 | G32: =IF(COUNTIF(G$3:G$24,$CA9)=1,"",$CA9) -> Bureau 8 | H32: =IF(COUNTIF(H$3:H$24,$CA9)=1,"",$CA9) -> Bureau 8 | I32: =IF(COUNTIF(I$3:I$24,$CA9)=1,"",$CA9) -> Bureau 8 | J32: =IF(COUNTIF(J$3:J$24,$CA9)=1,"",$CA9) -> Bureau 8 | K32: =IF(COUNTIF(K$3:K$24,$CA9)=1,"",$CA9) | L32: =IF(COUNTIF(L$3:L$24,$CA9)=1,"",$CA9) | M32: =IF(COUNTIF(M$3:M$24,$CA9)=1,"",$CA9) | ... BQ32: =IF(COUNTIF(BQ$3:BQ$24,$CA9)=1,"",$CA9) -> Bureau 8
F33: =IF(COUNTIF(F$3:F$24,$CA10)=1,"",$CA10) | G33: =IF(COUNTIF(G$3:G$24,$CA10)=1,"",$CA10) | H33: =IF(COUNTIF(H$3:H$24,$CA10)=1,"",$CA10) | I33: =IF(COUNTIF(I$3:I$24,$CA10)=1,"",$CA10) | J33: =IF(COUNTIF(J$3:J$24,$CA10)=1,"",$CA10) -> Bureau 9 | K33: =IF(COUNTIF(K$3:K$24,$CA10)=1,"",$CA10) | L33: =IF(COUNTIF(L$3:L$24,$CA10)=1,"",$CA10) | M33: =IF(COUNTIF(M$3:M$24,$CA10)=1,"",$CA10) | ... BQ33: =IF(COUNTIF(BQ$3:BQ$24,$CA10)=1,"",$CA10) -> Bureau 9
F34: =IF(COUNTIF(F$3:F$24,$CA11)=1,"",$CA11) | G34: =IF(COUNTIF(G$3:G$24,$CA11)=1,"",$CA11) | H34: =IF(COUNTIF(H$3:H$24,$CA11)=1,"",$CA11) | I34: =IF(COUNTIF(I$3:I$24,$CA11)=1,"",$CA11) -> Bureau 10 | J34: =IF(COUNTIF(J$3:J$24,$CA11)=1,"",$CA11) -> Bureau 10 | K34: =IF(COUNTIF(K$3:K$24,$CA11)=1,"",$CA11) -> Bureau 10 | L34: =IF(COUNTIF(L$3:L$24,$CA11)=1,"",$CA11) -> Bureau 10 | M34: =IF(COUNTIF(M$3:M$24,$CA11)=1,"",$CA11) | ... BQ34: =IF(COUNTIF(BQ$3:BQ$24,$CA11)=1,"",$CA11) -> Bureau 10
F35: =IF(COUNTIF(F$3:F$24,$CA12)=1,"",$CA12) | G35: =IF(COUNTIF(G$3:G$24,$CA12)=1,"",$CA12) | H35: =IF(COUNTIF(H$3:H$24,$CA12)=1,"",$CA12) | I35: =IF(COUNTIF(I$3:I$24,$CA12)=1,"",$CA12) | J35: =IF(COUNTIF(J$3:J$24,$CA12)=1,"",$CA12) -> Bureau 11 | K35: =IF(COUNTIF(K$3:K$24,$CA12)=1,"",$CA12) | L35: =IF(COUNTIF(L$3:L$24,$CA12)=1,"",$CA12) | M35: =IF(COUNTIF(M$3:M$24,$CA12)=1,"",$CA12) | ... BQ35: =IF(COUNTIF(BQ$3:BQ$24,$CA12)=1,"",$CA12) -> Bureau 11

Sheet Planning personnel
A1: pnom4
A3: =IFERROR(INDEX(Noms,MATCH($A$1,pseudo,0)*1)&" "&INDEX(Prenoms,MATCH($A$1,pseudo,0)*1),"") -> Nom4 Prénom4
C4: Lundi
C5: 0.33333333 | D5: 0.375 | E5: 0.41666667 | F5: 0.45833333 | G5: 0.5 | H5: 0.54166667 | I5: 0.58333333 | J5: 0.625 | K5: 0.66666667 | L5: 0.70833333 | M5: 0.75 | N5: 0.79166667 | O5: 0.83333333
C6: =VLOOKUP($A$1,Visuel!$C$3:$BQ$24,COLUMN(),FALSE) -> 0 | D6: =VLOOKUP($A$1,Visuel!$C$3:$BQ$24,COLUMN(),FALSE) -> Bureau 11 | E6: =VLOOKUP($A$1,Visuel!$C$3:$BQ$24,COLUMN(),FALSE) -> Bureau 11 | F6: =VLOOKUP($A$1,Visuel!$C$3:$BQ$24,COLUMN(),FALSE) -> Bureau 11 | G6: =VLOOKUP($A$1,Visuel!$C$3:$BQ$24,COLUMN(),FALSE) -> Bureau 11 | H6: =VLOOKUP($A$1,Visuel!$C$3:$BQ$24,COLUMN(),FALSE) -> 0 | I6: =VLOOKUP($A$1,Visuel!$C$3:$BQ$24,COLUMN(),FALSE) -> Bureau 11 | J6: =VLOOKUP($A$1,Visuel!$C$3:$BQ$24,COLUMN(),FALSE) -> Bureau 11 | ... O6: =VLOOKUP($A$1,Visuel!$C$3:$BQ$24,COLUMN(),FALSE) -> 0
C7: Mardi
C8: 0.33333333 | D8: 0.375 | E8: 0.41666667 | F8: 0.45833333 | G8: 0.5 | H8: 0.54166667 | I8: 0.58333333 | J8: 0.625 | K8: 0.66666667 | L8: 0.70833333 | M8: 0.75 | N8: 0.79166667 | O8: 0.83333333
C9: =VLOOKUP($A$1,Visuel!$C$3:$BQ$24,COLUMN()+13,FALSE) -> Bureau 11 | D9: =VLOOKUP($A$1,Visuel!$C$3:$BQ$24,COLUMN()+13,FALSE) -> Bureau 11 | E9: =VLOOKUP($A$1,Visuel!$C$3:$BQ$24,COLUMN()+13,FALSE) -> Bureau 11 | F9: =VLOOKUP($A$1,Visuel!$C$3:$BQ$24,COLUMN()+13,FALSE) -> Bureau 11 | G9: =VLOOKUP($A$1,Visuel!$C$3:$BQ$24,COLUMN()+13,FALSE) -> Bureau 11 | H9: =VLOOKUP($A$1,Visuel!$C$3:$BQ$24,COLUMN()+13,FALSE) -> 0 | I9: =VLOOKUP($A$1,Visuel!$C$3:$BQ$24,COLUMN()+13,FALSE) -> R° | J9: =VLOOKUP($A$1,Visuel!$C$3:$BQ$24,COLUMN()+13,FALSE) -> R° | ... O9: =VLOOKUP($A$1,Visuel!$C$3:$BQ$24,COLUMN()+13,FALSE) -> 0
C10: Mercredi
C11: 0.33333333 | D11: 0.375 | E11: 0.41666667 | F11: 0.45833333 | G11: 0.5 | H11: 0.54166667 | I11: 0.58333333 | J11: 0.625 | K11: 0.66666667 | L11: 0.70833333 | M11: 0.75 | N11: 0.79166667 | O11: 0.83333333
C12: =VLOOKUP($A$1,Visuel!$C$3:$BQ$24,COLUMN()+26,FALSE) -> 0 | D12: =VLOOKUP($A$1,Visuel!$C$3:$BQ$24,COLUMN()+26,FALSE) -> Bureau 11 | E12: =VLOOKUP($A$1,Visuel!$C$3:$BQ$24,COLUMN()+26,FALSE) -> Bureau 11 | F12: =VLOOKUP($A$1,Visuel!$C$3:$BQ$24,COLUMN()+26,FALSE) -> Bureau 11 | G12: =VLOOKUP($A$1,Visuel!$C$3:$BQ$24,COLUMN()+26,FALSE) -> Bureau 11 | H12: =VLOOKUP($A$1,Visuel!$C$3:$BQ$24,COLUMN()+26,FALSE) -> 0 | I12: =VLOOKUP($A$1,Visuel!$C$3:$BQ$24,COLUMN()+26,FALSE) -> Bureau 11 | J12: =VLOOKUP($A$1,Visuel!$C$3:$BQ$24,COLUMN()+26,FALSE) -> Bureau 11 | ... O12: =VLOOKUP($A$1,Visuel!$C$3:$BQ$24,COLUMN()+26,FALSE) -> 0
C13: Jeudi
C14: 0.33333333 | D14: 0.375 | E14: 0.41666667 | F14: 0.45833333 | G14: 0.5 | H14: 0.54166667 | I14: 0.58333333 | J14: 0.625 | K14: 0.66666667 | L14: 0.70833333 | M14: 0.75 | N14: 0.79166667 | O14: 0.83333333
C15: =VLOOKUP($A$1,Visuel!$C$3:$BQ$24,COLUMN()+39,FALSE) -> 0 | D15: =VLOOKUP($A$1,Visuel!$C$3:$BQ$24,COLUMN()+39,FALSE) -> Acc | E15: =VLOOKUP($A$1,Visuel!$C$3:$BQ$24,COLUMN()+39,FALSE) -> Acc | F15: =VLOOKUP($A$1,Visuel!$C$3:$BQ$24,COLUMN()+39,FALSE) -> Acc | G15: =VLOOKUP($A$1,Visuel!$C$3:$BQ$24,COLUMN()+39,FALSE) -> Acc | H15: =VLOOKUP($A$1,Visuel!$C$3:$BQ$24,COLUMN()+39,FALSE) -> 0 | I15: =VLOOKUP($A$1,Visuel!$C$3:$BQ$24,COLUMN()+39,FALSE) -> Gp Marche | J15: =VLOOKUP($A$1,Visuel!$C$3:$BQ$24,COLUMN()+39,FALSE) -> Gp Marche | ... O15: =VLOOKUP($A$1,Visuel!$C$3:$BQ$24,COLUMN()+39,FALSE) -> 0
C16: Vendredi
C17: 0.33333333 | D17: 0.375 | E17: 0.41666667 | F17: 0.45833333 | G17: 0.5 | H17: 0.54166667 | I17: 0.58333333 | J17: 0.625 | K17: 0.66666667 | L17: 0.70833333 | M17: 0.75 | N17: 0.79166667 | O17: 0.83333333
C18: =VLOOKUP($A$1,Visuel!$C$3:$BQ$24,COLUMN()+52,FALSE) -> 0 | D18: =VLOOKUP($A$1,Visuel!$C$3:$BQ$24,COLUMN()+52,FALSE) -> 0 | E18: =VLOOKUP($A$1,Visuel!$C$3:$BQ$24,COLUMN()+52,FALSE) -> 0 | F18: =VLOOKUP($A$1,Visuel!$C$3:$BQ$24,COLUMN()+52,FALSE) -> 0 | G18: =VLOOKUP($A$1,Visuel!$C$3:$BQ$24,COLUMN()+52,FALSE) -> 0 | H18: =VLOOKUP($A$1,Visuel!$C$3:$BQ$24,COLUMN()+52,FALSE) -> 0 | I18: =VLOOKUP($A$1,Visuel!$C$3:$BQ$24,COLUMN()+52,FALSE) -> Bureau 10 | J18: =VLOOKUP($A$1,Visuel!$C$3:$BQ$24,COLUMN()+52,FALSE) -> Bureau 10 | ... O18: =VLOOKUP($A$1,Visuel!$C$3:$BQ$24,COLUMN()+52,FALSE) -> 0

Sheet Planning bureau
A1: Bureau 1
C4: Lundi
C5: 0.33333333 | D5: 0.375 | E5: 0.41666667 | F5: 0.45833333 | G5: 0.5 | H5: 0.54166667 | I5: 0.58333333 | J5: 0.625 | K5: 0.66666667 | L5: 0.70833333 | M5: 0.75 | N5: 0.79166667 | O5: 0.83333333
C7: Mardi
C8: 0.33333333 | D8: 0.375 | E8: 0.41666667 | F8: 0.45833333 | G8: 0.5 | H8: 0.54166667 | I8: 0.58333333 | J8: 0.625 | K8: 0.66666667 | L8: 0.70833333 | M8: 0.75 | N8: 0.79166667 | O8: 0.83333333
C10: Mercredi
C11: 0.33333333 | D11: 0.375 | E11: 0.41666667 | F11: 0.45833333 | G11: 0.5 | H11: 0.54166667 | I11: 0.58333333 | J11: 0.625 | K11: 0.66666667 | L11: 0.70833333 | M11: 0.75 | N11: 0.79166667 | O11: 0.83333333
C13: Jeudi
C14: 0.33333333 | D14: 0.375 | E14: 0.41666667 | F14: 0.45833333 | G14: 0.5 | H14: 0.54166667 | I14: 0.58333333 | J14: 0.625 | K14: 0.66666667 | L14: 0.70833333 | M14: 0.75 | N14: 0.79166667 | O14: 0.83333333
C16: Vendredi
C17: 0.33333333 | D17: 0.375 | E17: 0.41666667 | F17: 0.45833333 | G17: 0.5 | H17: 0.54166667 | I17: 0.58333333 | J17: 0.625 | K17: 0.66666667 | L17: 0.70833333 | M17: 0.75 | N17: 0.79166667 | O17: 0.83333333

Sheet Résultat souhaité
A1: Bureau 1
C4: Lundi
C5: 0.33333333 | D5: 0.375 | E5: 0.41666667 | F5: 0.45833333 | G5: 0.5 | H5: 0.54166667 | I5: 0.58333333 | J5: 0.625 | K5: 0.66666667 | L5: 0.70833333 | M5: 0.75 | N5: 0.79166667 | O5: 0.83333333
D6: pnom1 | E6: pnom1 | F6: pnom1 | G6: pnom1 | I6: pnom1 | J6: pnom1 | K6: pnom1 | L6: pnom1 | M6: pnom1 | N6: pnom1
C7: Mardi
