Workbook
Name Lst_date: 'Import manuel'!$K$4:$K$6
Name Lst_temp: BDD!$A$2:$A$11
Name Tab_temps: 'Import manuel'!$M$4:$V$5

Sheet BDD
A2: Temp1
A3: Temp2
A4: Temp3
A5: Temp4
A6: Temp5
A7: Temp6
A8: Temp7
A9: Temp8
A10: Temp9
A11: Temp10

Sheet Import manuel
K3: Date | L3: Heure | M3: =BDD!A2 -> Temp1 | N3: =BDD!A3 -> Temp2 | O3: =BDD!A4 -> Temp3 | P3: =BDD!A5 -> Temp4 | Q3: =BDD!A6 -> Temp5 | R3: =BDD!A7 -> Temp6 | S3: =BDD!A8 -> Temp7 | T3: =BDD!A9 -> Temp8 | U3: =BDD!A10 -> Temp9 | V3: =BDD!A11 -> Temp10
A4: =TEXT($K4,"jj/mm/aaaa")&" "&M$3 -> 02/06/2001 Temp1 | B4: =TEXT($K4,"jj/mm/aaaa")&" "&N$3 -> 02/06/2001 Temp2 | C4: =TEXT($K4,"jj/mm/aaaa")&" "&O$3 -> 02/06/2001 Temp3 | D4: =TEXT($K4,"jj/mm/aaaa")&" "&P$3 -> 02/06/2001 Temp4 | E4: =TEXT($K4,"jj/mm/aaaa")&" "&Q$3 -> 02/06/2001 Temp5 | F4: =TEXT($K4,"jj/mm/aaaa")&" "&R$3 -> 02/06/2001 Temp6 | G4: =TEXT($K4,"jj/mm/aaaa")&" "&S$3 -> 02/06/2001 Temp7 | H4: =TEXT($K4,"jj/mm/aaaa")&" "&T$3 -> 02/06/2001 Temp8 | ... J4: =TEXT($K4,"jj/mm/aaaa")&" "&V$3 -> 02/06/2001 Temp10 | K4: 37044 | L4: 25 | M4: 85 | N4: 86 | O4: 87 | P4: 88 | Q4: 89 | R4: 90 | S4: 91 | T4: 92 | U4: 93 | V4: 94
K5: 40669 | L5: 26 | M5: 62 | N5: 63 | O5: 64 | P5: 65 | Q5: 66 | R5: 67 | S5: 68 | T5: 69 | U5: 70 | V5: 71
K6: 24233 | L6: 24 | M6: 25 | N6: 26 | O6: 27 | P6: 28 | Q6: 29 | R6: 30 | S6: 31 | T6: 32 | U6: 33 | V6: 34
K7: 41036 | L7: 23 | M7: 130 | N7: 131 | O7: 132 | P7: 133 | Q7: 134 | R7: 135 | S7: 136 | T7: 137 | U7: 138 | V7: 139

Sheet Analyse
A2: Date | B2: Temp | C2: Date | D2: Temp | E2: Date | F2: Temp | G2: Date | H2: Temp | I2: Date | J2: Temp | K2: Date | L2: Temp
A3: 37044 | B3: Temp3 | C3: 24233 | D3: Temp6 | E3: 40669 | F3: Temp4 | G3: 24233 | H3: Temp3 | I3: 40669 | J3: Temp4 | K3: 40669 | L3: Temp9
A4: Heure | B4: Temperature
A5: =IFERROR(INDEX('Import manuel'!$L$4:$V$7,MATCH(A3,Lst_date,0),1),"") -> 25 | B5: =IFERROR(INDEX('Import manuel'!$L$4:$V$7,MATCH(A3,Lst_date,0),MATCH(B3,Lst_temp,0)),"") -> 86 | C5: =IFERROR(INDEX('Import manuel'!$L$4:$V$7,MATCH(C3,Lst_date,0),1),"") -> 24 | D5: =IFERROR(INDEX('Import manuel'!$L$4:$V$7,MATCH(C3,Lst_date,0),MATCH(D3,Lst_temp,0)),"") -> 29 | E5: =IFERROR(INDEX('Import manuel'!$L$4:$V$7,MATCH(E3,Lst_date,0),1),"") -> 26 | F5: =IFERROR(INDEX('Import manuel'!$L$4:$V$7,MATCH(E3,Lst_date,0),MATCH(F3,Lst_temp,0)),"") -> 64 | G5: =IFERROR(INDEX('Import manuel'!$L$4:$V$7,MATCH(G3,Lst_date,0),1),"") -> 24 | H5: =IFERROR(INDEX('Import manuel'!$L$4:$V$7,MATCH(G3,Lst_date,0),MATCH(H3,Lst_temp,0)),"") -> 26 | I5: =IFERROR(INDEX('Import manuel'!$L$4:$V$7,MATCH(I3,Lst_date,0),1),"") -> 26 | J5: =IFERROR(INDEX('Import manuel'!$L$4:$V$7,MATCH(I3,Lst_date,0),MATCH(J3,Lst_temp,0)),"") -> 64 | K5: =IFERROR(INDEX('Import manuel'!$L$4:$V$7,MATCH(K3,Lst_date,0),1),"") -> 26 | L5: =IFERROR(INDEX('Import manuel'!$L$4:$V$7,MATCH(K3,Lst_date,0),MATCH(L3,Lst_temp,0)),"") -> 69
D11: heure | E11: moyenne des températures
D12: 26 | E12: =IFERROR(ROUNDUP(AVERAGEIF(transpose!A1:A6,Analyse!D12,transpose!B1:B6),2)&" °C","pas de calcul possible !") -> 65,67 °C

Sheet transpose
A1: =Analyse!A5 -> 25 | B1: =Analyse!B5 -> 86
A2: =Analyse!C$5 -> 24 | B2: =Analyse!D$5 -> 29
A3: =Analyse!E$5 -> 26 | B3: =Analyse!F$5 -> 64
A4: =Analyse!G5 -> 24 | B4: =Analyse!H5 -> 26
A5: =Analyse!I5 -> 26 | B5: =Analyse!J5 -> 64
A6: =Analyse!K5 -> 26 | B6: =Analyse!L5 -> 69
