Workbook

Sheet Dates resa
B4: DATES RESA | C4: DETAILS
B5: 42133 | C5: test 1
B6: 42134 | C6: test 2

Sheet Vue Mensuelle
B2: 2015 | C2: =UPPER(CHOOSE(D2,"Janvier","Février","Mars","Avril","Mai","Juin","Juillet","Août","Septembre","Octobre","Novembre","Décembre")) -> MAI | D2: 5
B4: VUE MENSUELLE
B5: LUNDI | C5: MARDI | D5: MERCREDI | E5: JEUDI | F5: VENDREDI | G5: SAMEDI | H5: DIMANCHE
B6: =DATE(B2,D2,1)-WEEKDAY(DATE(B2,D2,1),2)+1 -> 42121 | C6: =B6+1 -> 42122 | D6: =C6+1 -> 42123 | E6: =D6+1 -> 42124 | F6: =E6+1 -> 42125 | G6: =F6+1 -> 42126 | H6: =G6+1 -> 42127
B7: =IFERROR(VLOOKUP('Vue Mensuelle'!B6,Devoirs[],2,FALSE),"") | C7: =IFERROR(VLOOKUP('Vue Mensuelle'!C6,Devoirs[],2,FALSE),"") | D7: =IFERROR(VLOOKUP('Vue Mensuelle'!D6,Devoirs[],2,FALSE),"") | E7: =IFERROR(VLOOKUP('Vue Mensuelle'!E6,Devoirs[],2,FALSE),"") | F7: =IFERROR(VLOOKUP('Vue Mensuelle'!F6,Devoirs[],2,FALSE),"") | G7: =IFERROR(VLOOKUP('Vue Mensuelle'!G6,Devoirs[],2,FALSE),"") | H7: =IFERROR(VLOOKUP('Vue Mensuelle'!H6,Devoirs[],2,FALSE),"")
B8: =B6+7 -> 42128 | C8: =B8+1 -> 42129 | D8: =C8+1 -> 42130 | E8: =D8+1 -> 42131 | F8: =E8+1 -> 42132 | G8: =F8+1 -> 42133 | H8: =G8+1 -> 42134
B9: =IFERROR(VLOOKUP('Vue Mensuelle'!B8,Devoirs[],2,FALSE),"") | C9: =IFERROR(VLOOKUP('Vue Mensuelle'!C8,Devoirs[],2,FALSE),"") | D9: =IFERROR(VLOOKUP('Vue Mensuelle'!D8,Devoirs[],2,FALSE),"") | E9: =IFERROR(VLOOKUP('Vue Mensuelle'!E8,Devoirs[],2,FALSE),"") | F9: =IFERROR(VLOOKUP('Vue Mensuelle'!F8,Devoirs[],2,FALSE),"") | G9: =IFERROR(VLOOKUP('Vue Mensuelle'!G8,Devoirs[],2,FALSE),"") -> test 1 | H9: =IFERROR(VLOOKUP('Vue Mensuelle'!H8,Devoirs[],2,FALSE),"") -> test 2
B10: =B8+7 -> 42135 | C10: =B10+1 -> 42136 | D10: =C10+1 -> 42137 | E10: =D10+1 -> 42138 | F10: =E10+1 -> 42139 | G10: =F10+1 -> 42140 | H10: =G10+B1 -> 42140
B11: =IFERROR(VLOOKUP('Vue Mensuelle'!B10,Devoirs[],2,FALSE),"") | C11: =IFERROR(VLOOKUP('Vue Mensuelle'!C10,Devoirs[],2,FALSE),"") | D11: =IFERROR(VLOOKUP('Vue Mensuelle'!D10,Devoirs[],2,FALSE),"") | E11: =IFERROR(VLOOKUP('Vue Mensuelle'!E10,Devoirs[],2,FALSE),"") | F11: =IFERROR(VLOOKUP('Vue Mensuelle'!F10,Devoirs[],2,FALSE),"") | G11: =IFERROR(VLOOKUP('Vue Mensuelle'!G10,Devoirs[],2,FALSE),"") | H11: =IFERROR(VLOOKUP('Vue Mensuelle'!H10,Devoirs[],2,FALSE),"")
B12: =B10+7 -> 42142 | C12: =B12+1 -> 42143 | D12: =C12+1 -> 42144 | E12: =D12+1 -> 42145 | F12: =E12+1 -> 42146 | G12: =F12+1 -> 42147 | H12: =G12+1 -> 42148
B13: =IFERROR(VLOOKUP('Vue Mensuelle'!B12,Devoirs[],2,FALSE),"") | C13: =IFERROR(VLOOKUP('Vue Mensuelle'!C12,Devoirs[],2,FALSE),"") | D13: =IFERROR(VLOOKUP('Vue Mensuelle'!D12,Devoirs[],2,FALSE),"") | E13: =IFERROR(VLOOKUP('Vue Mensuelle'!E12,Devoirs[],2,FALSE),"") | F13: =IFERROR(VLOOKUP('Vue Mensuelle'!F12,Devoirs[],2,FALSE),"") | G13: =IFERROR(VLOOKUP('Vue Mensuelle'!G12,Devoirs[],2,FALSE),"") | H13: =IFERROR(VLOOKUP('Vue Mensuelle'!H12,Devoirs[],2,FALSE),"")
B14: =B12+7 -> 42149 | C14: =B14+1 -> 42150 | D14: =C14+1 -> 42151 | E14: =D14+1 -> 42152 | F14: =E14+1 -> 42153 | G14: =F14+1 -> 42154 | H14: =G14+1 -> 42155
B15: =IFERROR(VLOOKUP('Vue Mensuelle'!B14,Devoirs[],2,FALSE),"") | C15: =IFERROR(VLOOKUP('Vue Mensuelle'!C14,Devoirs[],2,FALSE),"") | D15: =IFERROR(VLOOKUP('Vue Mensuelle'!D14,Devoirs[],2,FALSE),"") | E15: =IFERROR(VLOOKUP('Vue Mensuelle'!E14,Devoirs[],2,FALSE),"") | F15: =IFERROR(VLOOKUP('Vue Mensuelle'!F14,Devoirs[],2,FALSE),"") | G15: =IFERROR(VLOOKUP('Vue Mensuelle'!G14,Devoirs[],2,FALSE),"") | H15: =IFERROR(VLOOKUP('Vue Mensuelle'!H14,Devoirs[],2,FALSE),"")
B16: =B14+7 -> 42156 | C16: =B16+1 -> 42157 | D16: =C16+1 -> 42158 | E16: =D16+1 -> 42159 | F16: =E16+1 -> 42160 | G16: =F16+1 -> 42161 | H16: =G16+1 -> 42162
B17: =IFERROR(VLOOKUP('Vue Mensuelle'!B16,Devoirs[],2,FALSE),"") | C17: =IFERROR(VLOOKUP('Vue Mensuelle'!C16,Devoirs[],2,FALSE),"") | D17: =IFERROR(VLOOKUP('Vue Mensuelle'!D16,Devoirs[],2,FALSE),"") | E17: =IFERROR(VLOOKUP('Vue Mensuelle'!E16,Devoirs[],2,FALSE),"") | F17: =IFERROR(VLOOKUP('Vue Mensuelle'!F16,Devoirs[],2,FALSE),"") | G17: =IFERROR(VLOOKUP('Vue Mensuelle'!G16,Devoirs[],2,FALSE),"") | H17: =IFERROR(VLOOKUP('Vue Mensuelle'!H16,Devoirs[],2,FALSE),"")

Sheet Vue hebdomadaire
B2: 2015 | C2: 19
B4: VUE HEBDOMADAIRE
B5: LUNDI | C5: MARDI | D5: MERCREDI | E5: JEUDI | F5: VENDREDI | G5: SAMEDI | H5: DIMANCHE
B6: =B8-7 -> 42121 | C6: =B6+1 -> 42122 | D6: =C6+1 -> 42123 | E6: =D6+1 -> 42124 | F6: =E6+1 -> 42125 | G6: =F6+1 -> 42126 | H6: =G6+1 -> 42127
B8: =(C2-1)*7+IF(WEEKDAY(DATE(B2,1,1),2)>4,7,0)+DATE(B2,1,1)-WEEKDAY(DATE(B2,1,1),2)+1 -> 42128 | C8: =B8+1 -> 42129 | D8: =C8+1 -> 42130 | E8: =D8+1 -> 42131 | F8: =E8+1 -> 42132 | G8: =F8+1 -> 42133 | H8: =G8+1 -> 42134
B9: =B8 -> 42128 | H9: =H8 -> 42134
B10: =IFERROR(VLOOKUP(B8,#REF!,2,0),"") | C10: =IFERROR(VLOOKUP(C8,#REF!,2,0),"") | D10: =IFERROR(VLOOKUP(D8,#REF!,2,0),"") | E10: =IFERROR(VLOOKUP(E8,#REF!,2,0),"") | F10: =IFERROR(VLOOKUP(F8,#REF!,2,0),"") | G10: =IFERROR(VLOOKUP(G8,#REF!,2,0),"") | H10: =IFERROR(VLOOKUP(H8,#REF!,2,0),"")
B24: =B8+7 -> 42135 | C24: =B24+1 -> 42136 | D24: =C24+1 -> 42137 | E24: =D24+1 -> 42138 | F24: =E24+1 -> 42139 | G24: =F24+1 -> 42140 | H24: =G24+1 -> 42141
