Workbook
Name absences: Parametres!$M$2:$M$14
Name An: Parametres!$A$3
Name choix: Novembre!$D$19:$BK$65,Novembre!$D$67:$BK$68,Novembre!#REF!
Name choix: #REF!,#REF!,#REF!
Name Fériés: Parametres!$I$3:$I$13
Name jr_dates: #REF!,#REF!,#REF!,#REF!,#REF!,#REF!,#REF!,#REF!,#REF!,#REF!,#REF!,#REF!
Name lig: INDIRECT(TEXT(#REF!,"mmmm")&"!$A$3:$A$37")
Name NB_Repas: OFFSET(Novembre!$B$18,1,COLUMN()-2,COUNTA(Novembre!$B$19:$B$69))
Name NB_Repas: OFFSET(#REF!,1,COLUMN()-2,COUNTA(#REF!))
Name test: OFFSET(Novembre!XEW6,1,COLUMN(),COUNTA(Novembre!$B$19:$B$69))
Name test: OFFSET(#REF!,1,COLUMN(),COUNTA(#REF!))

Sheet Parametres
M1: LEGENDE
A2: Année | C2: Mois | D2: N° | F2: Mois sélectionné | I2: {=ROUND(DATE(An,4,MOD(234-11*MOD(An,19),30))/7,0)*7-6} -> 45767 | J2: Pâques | M2: AT | N2: ACCIDENT DE TRAVAIL
A3: 2025 | C3: Janvier | D3: 1 | F3: N° du mois : | G3: =VLOOKUP(Mois_ref,Table_Mois,2,0) -> #NAME? | I3: =DATE(An,1,1) -> 45658 | M3: A | N3: ABSENCE MALADIE | O3: AT | P3: A | Q3: C | R3: CP | S3: CMAT | T3: CSS | U3: ABS | V3: MAD | W3: STA | X3: ENF | Y3: EVF | AA3: R | AB3: F | AC3: JA
C4: Février | D4: 2 | F4: Premier jour du mois : | G4: =DATE(An_ref,Num_Mois,1) -> #NAME? | I4: =DATE(An,5,1) -> 45778 | M4: C | N4: CARENCE MALADIE
C5: Mars | D5: 3 | F5: Premier jour du mois suivant : | G5: =DATE(An_ref,Num_Mois+1,1) -> #NAME? | I5: =DATE(An,5,8) -> 45785 | M5: CMAT | N5: CONGE PATERNITE/MATERNITE
C6: Avril | D6: 4 | F6: Nom du premier jour du mois : | G6: =TEXT(G4,"jjjj") -> #NAME? | I6: =DATE(An,7,14) -> 45852 | J6: Jours Fériés | M6: CSS | N6: CONGE SANS SOLDE
C7: Mai | D7: 5 | F7: Nombre de jours du mois : | G7: =G5-G4 -> #NAME? | I7: =DATE(An,8,15) -> 45884 | M7: ABS | N7: ABS SS JUSTIFICATIF
C8: Juin | D8: 6 | F8: Dernier jour du mois : | G8: =G4+NB_Jours-1 -> #NAME? | I8: =DATE(An,11,1) -> 45962 | M8: MAD | N8: MISE A DISPOSITION
C9: Juillet | D9: 7 | I9: =DATE(An,12,25) -> 46016 | M9: ENF | N9: CONGE ENFANT MALADE
C10: Août | D10: 8 | F10: Date d'aujourd'hui (jour) : | G10: =DAY(TODAY()) -> 13 | I10: =DATE(An,11,11) -> 45972 | M10: EVF | N10: CONGE EVENEMENT FAMILIAL
C11: Septembre | D11: 9 | F11: Mise en forme conditionnelle : | G11: =IF(AND(MONTH(TODAY())=Num_Mois,YEAR(TODAY())=Année),Date_jour,"") -> #NAME? | I11: =I2+1 -> 45768 | M11: CP | N11: CONGES PAYES
C12: Octobre | D12: 10 | I12: =I2+39 -> 45806 | J12: selon Pâques | M12: REC | N12: RECUP
C13: Novembre | D13: 11 | I13: =I2+50 -> 45817 | M13: STA | N13: STAGE | S13: pour la prépa paie
C14: Décembre | D14: 12 | M14: TP | N14: Temps partiel
M15: MTT | N15: Temps partiel thérapeutique
M16: F | N16: Férié | V16: noter "n" devant la valeur de la cellule lorsqu'il y a une information relative à une absence. ex : départ avant l'heure de fin de journée ou arrivée en retard, pour détecter une déduction horaire lors de la prépa paie -la cellule se mettera en rose (couleur des absences)
J17: PCP | M17: JA | N17: Journée associative
N18: PRESTATION EXT (Ste Marie…)
M19: ABC | N19: EL
M20: ABC | N20: 2 métiers
M21: 0.5 | N21: ATELIER SOUTIEN/FORMATION
M22: EA | N22: Entreprise Adaptée | V22: noter "! " devant la valeur de la cellule lorsqu'il y a une information en attente de validation. ex : demande de congé en attente de validation -la cellule se mettera en jaune (couleur du "attention info à revoir")
M23: 0.5 | N23: MCCP
M25: PERM | N25: 0.125

Sheet Semaine type
A1: Num jour semaine | B1: 1 | C1: 1 | D1: 2 | E1: 2 | F1: 3 | G1: 3 | H1: 4 | I1: 4 | J1: 5 | K1: 5
A2: Num demi journée | B2: 1 | C2: 2 | D2: 3 | E2: 4 | F2: 5 | G2: 6 | H2: 7 | I2: 8 | J2: 9 | K2: 10 | L2: At1 | M2: At1 | O2: At2 | Q2: At3 | V2: 1 | W2: 2 | X2: 3 | Y2: 4 | Z2: 5 | AA2: 6 | AB2: 7 | AC2: 8 | AD2: 9 | AE2: 10 | AF2: 1 | AG2: 2 | AH2: 3 | AI2: 4 | AJ2: 5 | AK2: 6 | AL2: 7 | AM2: 8 | AN2: 9 | AO2: 10 | AP2: 11 | AQ2: 12 | AR2: 13 | AS2: 14 | AT2: 15 | AU2: 16 | AV2: 17 | AW2: 18 | AX2: 19 | AY2: 20
B3: =DATE(YEAR($A$3),MONTH($A$3),B1) -> 1 | C3: =DATE(YEAR($A$3),MONTH($A$3),C1) -> 1 | D3: =DATE(YEAR($A$3),MONTH($A$3),D1) -> 2 | E3: =DATE(YEAR($A$3),MONTH($A$3),E1) -> 2 | F3: =DATE(YEAR($A$3),MONTH($A$3),F1) -> 3 | G3: =DATE(YEAR($A$3),MONTH($A$3),G1) -> 3 | H3: =DATE(YEAR($A$3),MONTH($A$3),H1) -> 4 | I3: =DATE(YEAR($A$3),MONTH($A$3),I1) -> 4 | ... K3: =DATE(YEAR($A$3),MONTH($A$3),K1) -> 5 | O3: At3
A4: Pro1 | B4: EV. | C4: EV | D4: EV. | E4: EV | F4: EV. | G4: EV | H4: EV. | I4: EV | J4: EV. | L4: =M4&" "&O4 -> EV | M4: EV | N4: =SUMIFS($V4:$AE4, $B4:$K4, M4 & "*") -> 1.375 | P4: =IF(O4<>"",SUMIFS($V4:$AE4, $B4:$K4, O4 & "*"),"") | U4: =SUM(V4:AE4) -> 1.375 | V4: =IFERROR(AG4-AF4,0) -> 0.15972222 | W4: =IFERROR(AI4-AH4,0) -> 0.14583333 | X4: =IFERROR(AK4-AJ4,0) -> 0.15972222 | Y4: =IFERROR(AM4-AL4,0) -> 0.14583333 | Z4: =IFERROR(AO4-AN4,0) -> 0.15972222 | AA4: =IFERROR(AQ4-AP4,0) -> 0.14583333 | AB4: =IFERROR(AS4-AR4,0) -> 0.15972222 | AC4: =IFERROR(AU4-AT4,0) -> 0.13888889 | AD4: =IFERROR(AW4-AV4,0) -> 0.15972222 | AE4: =IFERROR(AY4-AX4,0) -> 0 | AF4: 0.36458333 | AG4: 0.52430556 | AH4: 0.5625 | AI4: 0.70833333 | AJ4: 0.36458333 | AK4: 0.52430556 | AL4: 0.5625 | AM4: 0.70833333 | AN4: 0.36458333 | AO4: 0.52430556 | AP4: 0.5625 | AQ4: 0.70833333 | AR4: 0.36458333 | AS4: 0.52430556 | AT4: 0.5625 | AU4: 0.70138889 | AV4: 0.36458333 | AW4: 0.52430556
A5: Pro2 | B5: STI. | C5: STI | D5: STI. | E5: STI | H5: STI. | I5: STI | L5: =M5&" "&O5 -> STI | M5: STI | N5: =SUMIFS($V5:$AE5, $B5:$K5, M5 & "*") -> 0.90972222 | P5: =IF(O5<>"",SUMIFS($V5:$AE5, $B5:$K5, O5 & "*"),"") | U5: =SUM(V5:AE5) -> 0.90972222 | V5: =IFERROR(AG5-AF5,0) -> 0.15972222 | W5: =IFERROR(AI5-AH5,0) -> 0.14583333 | X5: =IFERROR(AK5-AJ5,0) -> 0.15972222 | Y5: =IFERROR(AM5-AL5,0) -> 0.14583333 | Z5: =IFERROR(AO5-AN5,0) -> 0 | AA5: =IFERROR(AQ5-AP5,0) -> 0 | AB5: =IFERROR(AS5-AR5,0) -> 0.15972222 | AC5: =IFERROR(AU5-AT5,0) -> 0.13888889 | AD5: =IFERROR(AW5-AV5,0) -> 0 | AE5: =IFERROR(AY5-AX5,0) -> 0 | AF5: 0.36458333 | AG5: 0.52430556 | AH5: 0.5625 | AI5: 0.70833333 | AJ5: 0.36458333 | AK5: 0.52430556 | AL5: 0.5625 | AM5: 0.70833333 | AR5: 0.36458333 | AS5: 0.52430556 | AT5: 0.5625 | AU5: 0.70138889
A6: Pro3 | B6: STI / R. | C6: R | D6: STI / R. | E6: R | F6: STI / R. | G6: R | H6: STI / R. | I6: R | L6: =M6&" "&O6 -> R STI | M6: R | N6: =SUMIFS($V6:$AE6, $B6:$K6, M6 & "*") -> 0.5 | O6: STI | P6: =IF(O6<>"",SUMIFS($V6:$AE6, $B6:$K6, O6 & "*"),"") -> 0.375 | U6: =SUM(V6:AE6) -> 0.875 | V6: =IFERROR(AG6-AF6,0) -> 0.09375 | W6: =IFERROR(AI6-AH6,0) -> 0.125 | X6: =IFERROR(AK6-AJ6,0) -> 0.09375 | Y6: =IFERROR(AM6-AL6,0) -> 0.125 | Z6: =IFERROR(AO6-AN6,0) -> 0.09375 | AA6: =IFERROR(AQ6-AP6,0) -> 0.125 | AB6: =IFERROR(AS6-AR6,0) -> 0.09375 | AC6: =IFERROR(AU6-AT6,0) -> 0.125 | AD6: =IFERROR(AW6-AV6,0) -> 0 | AE6: =IFERROR(AY6-AX6,0) -> 0 | AF6: 0.36458333 | AG6: 0.45833333 | AH6: 0.52083333 | AI6: 0.64583333 | AJ6: 0.36458333 | AK6: 0.45833333 | AL6: 0.52083333 | AM6: 0.64583333 | AN6: 0.36458333 | AO6: 0.45833333 | AP6: 0.52083333 | AQ6: 0.64583333 | AR6: 0.36458333 | AS6: 0.45833333 | AT6: 0.52083333 | AU6: 0.64583333
A7: Pro4 | B7: PA. | C7: PA | D7: EL. | E7: EL | H7: EL. | I7: PA | J7: EL | L7: =M7&" "&O7 -> EL PA | M7: EL | N7: =SUMIFS($V7:$AE7, $B7:$K7, M7 & "*") -> 0.625 | O7: PA | P7: =IF(O7<>"",SUMIFS($V7:$AE7, $B7:$K7, O7 & "*"),"") -> 0.44444444 | U7: =SUM(V7:AE7) -> 1.0694444 | V7: =IFERROR(AG7-AF7,0) -> 0.15972222 | W7: =IFERROR(AI7-AH7,0) -> 0.14583333 | X7: =IFERROR(AK7-AJ7,0) -> 0.15972222 | Y7: =IFERROR(AM7-AL7,0) -> 0.14583333 | Z7: =IFERROR(AO7-AN7,0) -> 0 | AA7: =IFERROR(AQ7-AP7,0) -> 0 | AB7: =IFERROR(AS7-AR7,0) -> 0.15972222 | AC7: =IFERROR(AU7-AT7,0) -> 0.13888889 | AD7: =IFERROR(AW7-AV7,0) -> 0.15972222 | AE7: =IFERROR(AY7-AX7,0) -> 0 | AF7: 0.36458333 | AG7: 0.52430556 | AH7: 0.5625 | AI7: 0.70833333 | AJ7: 0.36458333 | AK7: 0.52430556 | AL7: 0.5625 | AM7: 0.70833333 | AR7: 0.36458333 | AS7: 0.52430556 | AT7: 0.5625 | AU7: 0.70138889 | AV7: 0.36458333 | AW7: 0.52430556
A8: Pro5 | B8: PA. | D8: EL. | F8: . | G8: EL | H8: . | I8: EL | J8: PA. | L8: =M8&" "&O8 -> EL PA | M8: EL | N8: =SUMIFS($V8:$AE8, $B8:$K8, M8 & "*") -> 0.44444444 | O8: PA | P8: =IF(O8<>"",SUMIFS($V8:$AE8, $B8:$K8, O8 & "*"),"") -> 0.31944444 | U8: =SUM(V8:AE8) -> 1.375 | V8: =IFERROR(AG8-AF8,0) -> 0.15972222 | W8: =IFERROR(AI8-AH8,0) -> 0.14583333 | X8: =IFERROR(AK8-AJ8,0) -> 0.15972222 | Y8: =IFERROR(AM8-AL8,0) -> 0.14583333 | Z8: =IFERROR(AO8-AN8,0) -> 0.15972222 | AA8: =IFERROR(AQ8-AP8,0) -> 0.14583333 | AB8: =IFERROR(AS8-AR8,0) -> 0.15972222 | AC8: =IFERROR(AU8-AT8,0) -> 0.13888889 | AD8: =IFERROR(AW8-AV8,0) -> 0.15972222 | AE8: =IFERROR(AY8-AX8,0) -> 0 | AF8: 0.36458333 | AG8: 0.52430556 | AH8: 0.5625 | AI8: 0.70833333 | AJ8: 0.36458333 | AK8: 0.52430556 | AL8: 0.5625 | AM8: 0.70833333 | AN8: 0.36458333 | AO8: 0.52430556 | AP8: 0.5625 | AQ8: 0.70833333 | AR8: 0.36458333 | AS8: 0.52430556 | AT8: 0.5625 | AU8: 0.70138889 | AV8: 0.36458333 | AW8: 0.52430556
A9: Pro6 | B9: STI. | C9: STI | D9: STI. | E9: STI | F9: STI. | G9: STI | H9: STI. | I9: STI | J9: STI | L9: =M9&" "&O9 -> STI | M9: STI | N9: =SUMIFS($V9:$AE9, $B9:$K9, M9 & "*") -> 0.29166667 | P9: =IF(O9<>"",SUMIFS($V9:$AE9, $B9:$K9, O9 & "*"),"") | U9: =SUM(V9:AE9) -> 0.29166667 | V9: =IFERROR(AG9-AF9,0) -> 0 | W9: =IFERROR(AI9-AH9,0) -> 0.14583333 | X9: =IFERROR(AK9-AJ9,0) -> 0 | Y9: =IFERROR(AM9-AL9,0) -> 0 | Z9: =IFERROR(AO9-AN9,0) -> 0 | AA9: =IFERROR(AQ9-AP9,0) -> 0.14583333 | AB9: =IFERROR(AS9-AR9,0) -> 0 | AC9: =IFERROR(AU9-AT9,0) -> 0 | AD9: =IFERROR(AW9-AV9,0) -> 0 | AE9: =IFERROR(AY9-AX9,0) -> 0 | AH9: 0.5625 | AI9: 0.70833333 | AP9: 0.5625 | AQ9: 0.70833333
A10: Pro7 | B10: EV. | C10: EV | D10: EV. | E10: EV | F10: EV. | G10: EV | H10: EV. | I10: EV | J10: EV | L10: =M10&" "&O10 -> EV | M10: EV | N10: =SUMIFS($V10:$AE10, $B10:$K10, M10 & "*") -> 0.76388889 | P10: =IF(O10<>"",SUMIFS($V10:$AE10, $B10:$K10, O10 & "*"),"") | U10: =SUM(V10:AE10) -> 0.76388889 | V10: =IFERROR(AG10-AF10,0) -> 0.15972222 | W10: =IFERROR(AI10-AH10,0) -> 0 | X10: =IFERROR(AK10-AJ10,0) -> 0.15972222 | Y10: =IFERROR(AM10-AL10,0) -> 0 | Z10: =IFERROR(AO10-AN10,0) -> 0 | AA10: =IFERROR(AQ10-AP10,0) -> 0.14583333 | AB10: =IFERROR(AS10-AR10,0) -> 0 | AC10: =IFERROR(AU10-AT10,0) -> 0.13888889 | AD10: =IFERROR(AW10-AV10,0) -> 0.15972222 | AE10: =IFERROR(AY10-AX10,0) -> 0 | AF10: 0.36458333 | AG10: 0.52430556 | AJ10: 0.36458333 | AK10: 0.52430556 | AP10: 0.5625 | AQ10: 0.70833333 | AT10: 0.5625 | AU10: 0.70138889 | AV10: 0.36458333 | AW10: 0.52430556
A11: Pro8 | B11: STI. | C11: STI | D11: STI. | E11: STI | H11: STI. | I11: STI | J11: STI | L11: =M11&" "&O11 -> STI | M11: STI | N11: =SUMIFS($V11:$AE11, $B11:$K11, M11 & "*") -> 1.0694444 | P11: =IF(O11<>"",SUMIFS($V11:$AE11, $B11:$K11, O11 & "*"),"") | U11: =SUM(V11:AE11) -> 1.375 | V11: =IFERROR(AG11-AF11,0) -> 0.15972222 | W11: =IFERROR(AI11-AH11,0) -> 0.14583333 | X11: =IFERROR(AK11-AJ11,0) -> 0.15972222 | Y11: =IFERROR(AM11-AL11,0) -> 0.14583333 | Z11: =IFERROR(AO11-AN11,0) -> 0.15972222 | AA11: =IFERROR(AQ11-AP11,0) -> 0.14583333 | AB11: =IFERROR(AS11-AR11,0) -> 0.15972222 | AC11: =IFERROR(AU11-AT11,0) -> 0.13888889 | AD11: =IFERROR(AW11-AV11,0) -> 0.15972222 | AE11: =IFERROR(AY11-AX11,0) -> 0 | AF11: 0.36458333 | AG11: 0.52430556 | AH11: 0.5625 | AI11: 0.70833333 | AJ11: 0.36458333 | AK11: 0.52430556 | AL11: 0.5625 | AM11: 0.70833333 | AN11: 0.36458333 | AO11: 0.52430556 | AP11: 0.5625 | AQ11: 0.70833333 | AR11: 0.36458333 | AS11: 0.52430556 | AT11: 0.5625 | AU11: 0.70138889 | AV11: 0.36458333 | AW11: 0.52430556
A12: Pro9 | B12: EL. | C12: EL | D12: EL. | E12: EL | F12: EL. | G12: EL | H12: EL. | I12: EL | J12: EL. | L12: =M12&" "&O12 -> EL | M12: EL | N12: =SUMIFS($V12:$AE12, $B12:$K12, M12 & "*") -> 1.375 | P12: =IF(O12<>"",SUMIFS($V12:$AE12, $B12:$K12, O12 & "*"),"") | U12: =SUM(V12:AE12) -> 1.375 | V12: =IFERROR(AG12-AF12,0) -> 0.15972222 | W12: =IFERROR(AI12-AH12,0) -> 0.14583333 | X12: =IFERROR(AK12-AJ12,0) -> 0.15972222 | Y12: =IFERROR(AM12-AL12,0) -> 0.14583333 | Z12: =IFERROR(AO12-AN12,0) -> 0.15972222 | AA12: =IFERROR(AQ12-AP12,0) -> 0.14583333 | AB12: =IFERROR(AS12-AR12,0) -> 0.15972222 | AC12: =IFERROR(AU12-AT12,0) -> 0.13888889 | AD12: =IFERROR(AW12-AV12,0) -> 0.15972222 | AE12: =IFERROR(AY12-AX12,0) -> 0 | AF12: 0.36458333 | AG12: 0.52430556 | AH12: 0.5625 | AI12: 0.70833333 | AJ12: 0.36458333 | AK12: 0.52430556 | AL12: 0.5625 | AM12: 0.70833333 | AN12: 0.36458333 | AO12: 0.52430556 | AP12: 0.5625 | AQ12: 0.70833333 | AR12: 0.36458333 | AS12: 0.52430556 | AT12: 0.5625 | AU12: 0.70138889 | AV12: 0.36458333 | AW12: 0.52430556
A13: Pro10 | B13: MAD | C13: MAD | D13: MAD | E13: MAD | F13: MAD | G13: MAD | H13: MAD | I13: MAD | J13: MAD | L13: =M13&" "&O13 | N13: =SUMIFS($V13:$AE13, $B13:$K13, M13 & "*") -> 1.0694444 | P13: =IF(O13<>"",SUMIFS($V13:$AE13, $B13:$K13, O13 & "*"),"") | U13: =SUM(V13:AE13) -> 1.0694444 | V13: =IFERROR(AG13-AF13,0) -> 0.15972222 | W13: =IFERROR(AI13-AH13,0) -> 0.14583333 | X13: =IFERROR(AK13-AJ13,0) -> 0.15972222 | Y13: =IFERROR(AM13-AL13,0) -> 0.14583333 | Z13: =IFERROR(AO13-AN13,0) -> 0 | AA13: =IFERROR(AQ13-AP13,0) -> 0 | AB13: =IFERROR(AS13-AR13,0) -> 0.15972222 | AC13: =IFERROR(AU13-AT13,0) -> 0.13888889 | AD13: =IFERROR(AW13-AV13,0) -> 0.15972222 | AE13: =IFERROR(AY13-AX13,0) -> 0 | AF13: 0.36458333 | AG13: 0.52430556 | AH13: 0.5625 | AI13: 0.70833333 | AJ13: 0.36458333 | AK13: 0.52430556 | AL13: 0.5625 | AM13: 0.70833333 | AR13: 0.36458333 | AS13: 0.52430556 | AT13: 0.5625 | AU13: 0.70138889 | AV13: 0.36458333 | AW13: 0.52430556
A14: Pro11 | B14: CONS. | C14: CONS | D14: CONS. | E14: CONS | F14: CONS. | G14: CONS | H14: CONS. | I14: CONS | J14: CONS. | L14: =M14&" "&O14 -> CONS | M14: CONS | N14: =SUMIFS($V14:$AE14, $B14:$K14, M14 & "*") -> 1.375 | P14: =IF(O14<>"",SUMIFS($V14:$AE14, $B14:$K14, O14 & "*"),"") | U14: =SUM(V14:AE14) -> 1.375 | V14: =IFERROR(AG14-AF14,0) -> 0.15972222 | W14: =IFERROR(AI14-AH14,0) -> 0.14583333 | X14: =IFERROR(AK14-AJ14,0) -> 0.15972222 | Y14: =IFERROR(AM14-AL14,0) -> 0.14583333 | Z14: =IFERROR(AO14-AN14,0) -> 0.15972222 | AA14: =IFERROR(AQ14-AP14,0) -> 0.14583333 | AB14: =IFERROR(AS14-AR14,0) -> 0.15972222 | AC14: =IFERROR(AU14-AT14,0) -> 0.13888889 | AD14: =IFERROR(AW14-AV14,0) -> 0.15972222 | AE14: =IFERROR(AY14-AX14,0) -> 0 | AF14: 0.36458333 | AG14: 0.52430556 | AH14: 0.5625 | AI14: 0.70833333 | AJ14: 0.36458333 | AK14: 0.52430556 | AL14: 0.5625 | AM14: 0.70833333 | AN14: 0.36458333 | AO14: 0.52430556 | AP14: 0.5625 | AQ14: 0.70833333 | AR14: 0.36458333 | AS14: 0.52430556 | AT14: 0.5625 | AU14: 0.70138889 | AV14: 0.36458333 | AW14: 0.52430556
A15: Pro12 | B15: STI. | C15: STI | F15: STI. | G15: STI | H15: STI. | I15: STI | L15: =M15&" "&O15 -> STI | M15: STI | N15: =SUMIFS($V15:$AE15, $B15:$K15, M15 & "*") -> 0.90972222 | P15: =IF(O15<>"",SUMIFS($V15:$AE15, $B15:$K15, O15 & "*"),"") | U15: =SUM(V15:AE15) -> 1.375 | V15: =IFERROR(AG15-AF15,0) -> 0.15972222 | W15: =IFERROR(AI15-AH15,0) -> 0.14583333 | X15: =IFERROR(AK15-AJ15,0) -> 0.15972222 | Y15: =IFERROR(AM15-AL15,0) -> 0.14583333 | Z15: =IFERROR(AO15-AN15,0) -> 0.15972222 | AA15: =IFERROR(AQ15-AP15,0) -> 0.14583333 | AB15: =IFERROR(AS15-AR15,0) -> 0.15972222 | AC15: =IFERROR(AU15-AT15,0) -> 0.13888889 | AD15: =IFERROR(AW15-AV15,0) -> 0.15972222 | AE15: =IFERROR(AY15-AX15,0) -> 0 | AF15: 0.36458333 | AG15: 0.52430556 | AH15: 0.5625 | AI15: 0.70833333 | AJ15: 0.36458333 | AK15: 0.52430556 | AL15: 0.5625 | AM15: 0.70833333 | AN15: 0.36458333 | AO15: 0.52430556 | AP15: 0.5625 | AQ15: 0.70833333 | AR15: 0.36458333 | AS15: 0.52430556 | AT15: 0.5625 | AU15: 0.70138889 | AV15: 0.36458333 | AW15: 0.52430556
A16: Pro13 | B16: STI. | C16: STI | D16: STI. | E16: STI | F16: STI. | G16: STI | H16: STI. | I16: STI | J16: STI | L16: =M16&" "&O16 -> STI FT | M16: STI | N16: =SUMIFS($V16:$AE16, $B16:$K16, M16 & "*") -> 1.375 | O16: FT | P16: =IF(O16<>"",SUMIFS($V16:$AE16, $B16:$K16, O16 & "*"),"") -> 0 | U16: =SUM(V16:AE16) -> 1.375 | V16: =IFERROR(AG16-AF16,0) -> 0.15972222 | W16: =IFERROR(AI16-AH16,0) -> 0.14583333 | X16: =IFERROR(AK16-AJ16,0) -> 0.15972222 | Y16: =IFERROR(AM16-AL16,0) -> 0.14583333 | Z16: =IFERROR(AO16-AN16,0) -> 0.15972222 | AA16: =IFERROR(AQ16-AP16,0) -> 0.14583333 | AB16: =IFERROR(AS16-AR16,0) -> 0.15972222 | AC16: =IFERROR(AU16-AT16,0) -> 0.13888889 | AD16: =IFERROR(AW16-AV16,0) -> 0.15972222 | AE16: =IFERROR(AY16-AX16,0) -> 0 | AF16: 0.36458333 | AG16: 0.52430556 | AH16: 0.5625 | AI16: 0.70833333 | AJ16: 0.36458333 | AK16: 0.52430556 | AL16: 0.5625 | AM16: 0.70833333 | AN16: 0.36458333 | AO16: 0.52430556 | AP16: 0.5625 | AQ16: 0.70833333 | AR16: 0.36458333 | AS16: 0.52430556 | AT16: 0.5625 | AU16: 0.70138889 | AV16: 0.36458333 | AW16: 0.52430556
A17: Pro14 | B17: STI. | C17: STI | D17: STI. | E17: STI | F17: STI. | G17: STI | H17: STI. | I17: STI | J17: STI. | L17: =M17&" "&O17 -> STI | M17: STI | N17: =SUMIFS($V17:$AE17, $B17:$K17, M17 & "*") -> 1.375 | P17: =IF(O17<>"",SUMIFS($V17:$AE17, $B17:$K17, O17 & "*"),"") | U17: =SUM(V17:AE17) -> 1.375 | V17: =IFERROR(AG17-AF17,0) -> 0.15972222 | W17: =IFERROR(AI17-AH17,0) -> 0.14583333 | X17: =IFERROR(AK17-AJ17,0) -> 0.15972222 | Y17: =IFERROR(AM17-AL17,0) -> 0.14583333 | Z17: =IFERROR(AO17-AN17,0) -> 0.15972222 | AA17: =IFERROR(AQ17-AP17,0) -> 0.14583333 | AB17: =IFERROR(AS17-AR17,0) -> 0.15972222 | AC17: =IFERROR(AU17-AT17,0) -> 0.13888889 | AD17: =IFERROR(AW17-AV17,0) -> 0.15972222 | AE17: =IFERROR(AY17-AX17,0) -> 0 | AF17: 0.36458333 | AG17: 0.52430556 | AH17: 0.5625 | AI17: 0.70833333 | AJ17: 0.36458333 | AK17: 0.52430556 | AL17: 0.5625 | AM17: 0.70833333 | AN17: 0.36458333 | AO17: 0.52430556 | AP17: 0.5625 | AQ17: 0.70833333 | AR17: 0.36458333 | AS17: 0.52430556 | AT17: 0.5625 | AU17: 0.70138889 | AV17: 0.36458333 | AW17: 0.52430556
A18: Pro15 | B18: EV. | C18: EV | D18: EV. | E18: EV | F18: EV. | G18: EV | H18: EV. | I18: EV | J18: EV. | L18: =M18&" "&O18 -> EV | M18: EV | N18: =SUMIFS($V18:$AE18, $B18:$K18, M18 & "*") -> 1.375 | P18: =IF(O18<>"",SUMIFS($V18:$AE18, $B18:$K18, O18 & "*"),"") | U18: =SUM(V18:AE18) -> 1.375 | V18: =IFERROR(AG18-AF18,0) -> 0.15972222 | W18: =IFERROR(AI18-AH18,0) -> 0.14583333 | X18: =IFERROR(AK18-AJ18,0) -> 0.15972222 | Y18: =IFERROR(AM18-AL18,0) -> 0.14583333 | Z18: =IFERROR(AO18-AN18,0) -> 0.15972222 | AA18: =IFERROR(AQ18-AP18,0) -> 0.14583333 | AB18: =IFERROR(AS18-AR18,0) -> 0.15972222 | AC18: =IFERROR(AU18-AT18,0) -> 0.13888889 | AD18: =IFERROR(AW18-AV18,0) -> 0.15972222 | AE18: =IFERROR(AY18-AX18,0) -> 0 | AF18: 0.36458333 | AG18: 0.52430556 | AH18: 0.5625 | AI18: 0.70833333 | AJ18: 0.36458333 | AK18: 0.52430556 | AL18: 0.5625 | AM18: 0.70833333 | AN18: 0.36458333 | AO18: 0.52430556 | AP18: 0.5625 | AQ18: 0.70833333 | AR18: 0.36458333 | AS18: 0.52430556 | AT18: 0.5625 | AU18: 0.70138889 | AV18: 0.36458333 | AW18: 0.52430556
A19: Pro16 | B19: R. | C19: R | D19: R. | E19: R | F19: R. | G19: R | H19: R. | I19: R | L19: =M19&" "&O19 -> R | M19: R | N19: =SUMIFS($V19:$AE19, $B19:$K19, M19 & "*") -> 0.90972222 | P19: =IF(O19<>"",SUMIFS($V19:$AE19, $B19:$K19, O19 & "*"),"") | U19: =SUM(V19:AE19) -> 0.90972222 | V19: =IFERROR(AG19-AF19,0) -> 0.15972222 | W19: =IFERROR(AI19-AH19,0) -> 0.14583333 | X19: =IFERROR(AK19-AJ19,0) -> 0 | Y19: =IFERROR(AM19-AL19,0) -> 0 | Z19: =IFERROR(AO19-AN19,0) -> 0.15972222 | AA19: =IFERROR(AQ19-AP19,0) -> 0.14583333 | AB19: =IFERROR(AS19-AR19,0) -> 0.15972222 | AC19: =IFERROR(AU19-AT19,0) -> 0.13888889 | AD19: =IFERROR(AW19-AV19,0) -> 0 | AE19: =IFERROR(AY19-AX19,0) -> 0 | AF19: 0.36458333 | AG19: 0.52430556 | AH19: 0.5625 | AI19: 0.70833333 | AN19: 0.36458333 | AO19: 0.52430556 | AP19: 0.5625 | AQ19: 0.70833333 | AR19: 0.36458333 | AS19: 0.52430556 | AT19: 0.5625 | AU19: 0.70138889
A20: Pro17 | B20: EL. | C20: EL | F20: EL. | G20: EL | J20: EL | L20: =M20&" "&O20 -> EL | M20: EL | N20: =SUMIFS($V20:$AE20, $B20:$K20, M20 & "*") -> 0.77083333 | P20: =IF(O20<>"",SUMIFS($V20:$AE20, $B20:$K20, O20 & "*"),"") | U20: =SUM(V20:AE20) -> 1.375 | V20: =IFERROR(AG20-AF20,0) -> 0.15972222 | W20: =IFERROR(AI20-AH20,0) -> 0.14583333 | X20: =IFERROR(AK20-AJ20,0) -> 0.15972222 | Y20: =IFERROR(AM20-AL20,0) -> 0.14583333 | Z20: =IFERROR(AO20-AN20,0) -> 0.15972222 | AA20: =IFERROR(AQ20-AP20,0) -> 0.14583333 | AB20: =IFERROR(AS20-AR20,0) -> 0.15972222 | AC20: =IFERROR(AU20-AT20,0) -> 0.13888889 | AD20: =IFERROR(AW20-AV20,0) -> 0.15972222 | AE20: =IFERROR(AY20-AX20,0) -> 0 | AF20: 0.36458333 | AG20: 0.52430556 | AH20: 0.5625 | AI20: 0.70833333 | AJ20: 0.36458333 | AK20: 0.52430556 | AL20: 0.5625 | AM20: 0.70833333 | AN20: 0.36458333 | AO20: 0.52430556 | AP20: 0.5625 | AQ20: 0.70833333 | AR20: 0.36458333 | AS20: 0.52430556 | AT20: 0.5625 | AU20: 0.70138889 | AV20: 0.36458333 | AW20: 0.52430556
A21: Pro18 | B21: EV. | C21: EV | D21: EV. | E21: EV | F21: EV. | G21: EV | H21: EV. | I21: EV | J21: EV | L21: =M21&" "&O21 -> EV | M21: EV | N21: =SUMIFS($V21:$AE21, $B21:$K21, M21 & "*") -> 1.375 | P21: =IF(O21<>"",SUMIFS($V21:$AE21, $B21:$K21, O21 & "*"),"") | U21: =SUM(V21:AE21) -> 1.375 | V21: =IFERROR(AG21-AF21,0) -> 0.15972222 | W21: =IFERROR(AI21-AH21,0) -> 0.14583333 | X21: =IFERROR(AK21-AJ21,0) -> 0.15972222 | Y21: =IFERROR(AM21-AL21,0) -> 0.14583333 | Z21: =IFERROR(AO21-AN21,0) -> 0.15972222 | AA21: =IFERROR(AQ21-AP21,0) -> 0.14583333 | AB21: =IFERROR(AS21-AR21,0) -> 0.15972222 | AC21: =IFERROR(AU21-AT21,0) -> 0.13888889 | AD21: =IFERROR(AW21-AV21,0) -> 0.15972222 | AE21: =IFERROR(AY21-AX21,0) -> 0 | AF21: 0.36458333 | AG21: 0.52430556 | AH21: 0.5625 | AI21: 0.70833333 | AJ21: 0.36458333 | AK21: 0.52430556 | AL21: 0.5625 | AM21: 0.70833333 | AN21: 0.36458333 | AO21: 0.52430556 | AP21: 0.5625 | AQ21: 0.70833333 | AR21: 0.36458333 | AS21: 0.52430556 | AT21: 0.5625 | AU21: 0.70138889 | AV21: 0.36458333 | AW21: 0.52430556
A22: Pro19 | B22: CONS. | C22: CONS | D22: CONS. | E22: CONS | F22: CONS. | G22: CONS | H22: CONS. | I22: CONS | J22: CONS | L22: =M22&" "&O22 -> CONS | M22: CONS | N22: =SUMIFS($V22:$AE22, $B22:$K22, M22 & "*") -> 1.375 | P22: =IF(O22<>"",SUMIFS($V22:$AE22, $B22:$K22, O22 & "*"),"") | U22: =SUM(V22:AE22) -> 1.375 | V22: =IFERROR(AG22-AF22,0) -> 0.15972222 | W22: =IFERROR(AI22-AH22,0) -> 0.14583333 | X22: =IFERROR(AK22-AJ22,0) -> 0.15972222 | Y22: =IFERROR(AM22-AL22,0) -> 0.14583333 | Z22: =IFERROR(AO22-AN22,0) -> 0.15972222 | AA22: =IFERROR(AQ22-AP22,0) -> 0.14583333 | AB22: =IFERROR(AS22-AR22,0) -> 0.15972222 | AC22: =IFERROR(AU22-AT22,0) -> 0.13888889 | AD22: =IFERROR(AW22-AV22,0) -> 0.15972222 | AE22: =IFERROR(AY22-AX22,0) -> 0 | AF22: 0.36458333 | AG22: 0.52430556 | AH22: 0.5625 | AI22: 0.70833333 | AJ22: 0.36458333 | AK22: 0.52430556 | AL22: 0.5625 | AM22: 0.70833333 | AN22: 0.36458333 | AO22: 0.52430556 | AP22: 0.5625 | AQ22: 0.70833333 | AR22: 0.36458333 | AS22: 0.52430556 | AT22: 0.5625 | AU22: 0.70138889 | AV22: 0.36458333 | AW22: 0.52430556
A23: Pro20 | B23: STI. | C23: STI | D23: EL. | E23: EL | H23: EL. | I23: STI | J23: STI | L23: =M23&" "&O23 -> STI EL | M23: STI | N23: =SUMIFS($V23:$AE23, $B23:$K23, M23 & "*") -> 0.32291667 | O23: EL | P23: =IF(O23<>"",SUMIFS($V23:$AE23, $B23:$K23, O23 & "*"),"") -> 0.27083333 | U23: =SUM(V23:AE23) -> 0.79166667 | V23: =IFERROR(AG23-AF23,0) -> 0.072916667 | W23: =IFERROR(AI23-AH23,0) -> 0.125 | X23: =IFERROR(AK23-AJ23,0) -> 0.072916667 | Y23: =IFERROR(AM23-AL23,0) -> 0.125 | Z23: =IFERROR(AO23-AN23,0) -> 0.072916667 | AA23: =IFERROR(AQ23-AP23,0) -> 0.125 | AB23: =IFERROR(AS23-AR23,0) -> 0.072916667 | AC23: =IFERROR(AU23-AT23,0) -> 0.125 | AD23: =IFERROR(AW23-AV23,0) -> 0 | AE23: =IFERROR(AY23-AX23,0) -> 0 | AF23: 0.41666667 | AG23: 0.48958333 | AH23: 0.52083333 | AI23: 0.64583333 | AJ23: 0.41666667 | AK23: 0.48958333 | AL23: 0.52083333 | AM23: 0.64583333 | AN23: 0.41666667 | AO23: 0.48958333 | AP23: 0.52083333 | AQ23: 0.64583333 | AR23: 0.41666667 | AS23: 0.48958333 | AT23: 0.52083333 | AU23: 0.64583333
A24: Pro21 | B24: ABS | C24: ABS | D24: MAD | E24: MAD | F24: PA. | G24: PA | H24: CONS. | I24: CONS | J24: PA | L24: =M24&" "&O24 -> PA CONS | M24: PA | N24: =SUMIFS($V24:$AE24, $B24:$K24, M24 & "*") -> 0.46527778 | O24: CONS | P24: =IF(O24<>"",SUMIFS($V24:$AE24, $B24:$K24, O24 & "*"),"") -> 0 | U24: =SUM(V24:AE24) -> 0.77083333 | V24: =IFERROR(AG24-AF24,0) -> 0.15972222 | W24: =IFERROR(AI24-AH24,0) -> 0.14583333 | X24: =IFERROR(AK24-AJ24,0) -> 0 | Y24: =IFERROR(AM24-AL24,0) -> 0 | Z24: =IFERROR(AO24-AN24,0) -> 0.15972222 | AA24: =IFERROR(AQ24-AP24,0) -> 0.14583333 | AB24: =IFERROR(AS24-AR24,0) -> 0 | AC24: =IFERROR(AU24-AT24,0) -> 0 | AD24: =IFERROR(AW24-AV24,0) -> 0.15972222 | AE24: =IFERROR(AY24-AX24,0) -> 0 | AF24: 0.36458333 | AG24: 0.52430556 | AH24: 0.5625 | AI24: 0.70833333 | AN24: 0.36458333 | AO24: 0.52430556 | AP24: 0.5625 | AQ24: 0.70833333 | AV24: 0.36458333 | AW24: 0.52430556
A25: Pro22 | B25: PA. | C25: PA | D25: PA. | E25: PA | F25: PA. | G25: PA | H25: PA. | I25: PA | J25: PA. | L25: =M25&" "&O25 -> PA | M25: PA | N25: =SUMIFS($V25:$AE25, $B25:$K25, M25 & "*") -> 1.375 | P25: =IF(O25<>"",SUMIFS($V25:$AE25, $B25:$K25, O25 & "*"),"") | U25: =SUM(V25:AE25) -> 1.375 | V25: =IFERROR(AG25-AF25,0) -> 0.15972222 | W25: =IFERROR(AI25-AH25,0) -> 0.14583333 | X25: =IFERROR(AK25-AJ25,0) -> 0.15972222 | Y25: =IFERROR(AM25-AL25,0) -> 0.14583333 | Z25: =IFERROR(AO25-AN25,0) -> 0.15972222 | AA25: =IFERROR(AQ25-AP25,0) -> 0.14583333 | AB25: =IFERROR(AS25-AR25,0) -> 0.15972222 | AC25: =IFERROR(AU25-AT25,0) -> 0.13888889 | AD25: =IFERROR(AW25-AV25,0) -> 0.15972222 | AE25: =IFERROR(AY25-AX25,0) -> 0 | AF25: 0.36458333 | AG25: 0.52430556 | AH25: 0.5625 | AI25: 0.70833333 | AJ25: 0.36458333 | AK25: 0.52430556 | AL25: 0.5625 | AM25: 0.70833333 | AN25: 0.36458333 | AO25: 0.52430556 | AP25: 0.5625 | AQ25: 0.70833333 | AR25: 0.36458333 | AS25: 0.52430556 | AT25: 0.5625 | AU25: 0.70138889 | AV25: 0.36458333 | AW25: 0.52430556
A26: Pro23 | D26: STI | E26: STI | F26: STI | H26: STI | I26: STI | J26: STI | L26: =M26&" "&O26 -> STI | M26: STI | N26: =SUMIFS($V26:$AE26, $B26:$K26, M26 & "*") -> 0.92361111 | P26: =IF(O26<>"",SUMIFS($V26:$AE26, $B26:$K26, O26 & "*"),"") | U26: =SUM(V26:AE26) -> 1.375 | V26: =IFERROR(AG26-AF26,0) -> 0.15972222 | W26: =IFERROR(AI26-AH26,0) -> 0.14583333 | X26: =IFERROR(AK26-AJ26,0) -> 0.15972222 | Y26: =IFERROR(AM26-AL26,0) -> 0.14583333 | Z26: =IFERROR(AO26-AN26,0) -> 0.15972222 | AA26: =IFERROR(AQ26-AP26,0) -> 0.14583333 | AB26: =IFERROR(AS26-AR26,0) -> 0.15972222 | AC26: =IFERROR(AU26-AT26,0) -> 0.13888889 | AD26: =IFERROR(AW26-AV26,0) -> 0.15972222 | AE26: =IFERROR(AY26-AX26,0) -> 0 | AF26: 0.36458333 | AG26: 0.52430556 | AH26: 0.5625 | AI26: 0.70833333 | AJ26: 0.36458333 | AK26: 0.52430556 | AL26: 0.5625 | AM26: 0.70833333 | AN26: 0.36458333 | AO26: 0.52430556 | AP26: 0.5625 | AQ26: 0.70833333 | AR26: 0.36458333 | AS26: 0.52430556 | AT26: 0.5625 | AU26: 0.70138889 | AV26: 0.36458333 | AW26: 0.52430556
A27: Pro24 | B27: EL. | D27: EL. | H27: EL. | L27: =M27&" "&O27 -> EL | M27: EL | N27: =SUMIFS($V27:$AE27, $B27:$K27, M27 & "*") -> 0.47916667 | P27: =IF(O27<>"",SUMIFS($V27:$AE27, $B27:$K27, O27 & "*"),"") | U27: =SUM(V27:AE27) -> 0.98263889 | V27: =IFERROR(AG27-AF27,0) -> 0.15972222 | W27: =IFERROR(AI27-AH27,0) -> 0.11458333 | X27: =IFERROR(AK27-AJ27,0) -> 0.15972222 | Y27: =IFERROR(AM27-AL27,0) -> 0.11458333 | Z27: =IFERROR(AO27-AN27,0) -> 0 | AA27: =IFERROR(AQ27-AP27,0) -> 0 | AB27: =IFERROR(AS27-AR27,0) -> 0.15972222 | AC27: =IFERROR(AU27-AT27,0) -> 0.11458333 | AD27: =IFERROR(AW27-AV27,0) -> 0.15972222 | AE27: =IFERROR(AY27-AX27,0) -> 0 | AF27: 0.36458333 | AG27: 0.52430556 | AH27: 0.5625 | AI27: 0.67708333 | AJ27: 0.36458333 | AK27: 0.52430556 | AL27: 0.5625 | AM27: 0.67708333 | AR27: 0.36458333 | AS27: 0.52430556 | AT27: 0.5625 | AU27: 0.67708333 | AV27: 0.36458333 | AW27: 0.52430556
A28: Pro25 | B28: EV. | C28: EV | D28: EV. | E28: EV | F28: EV. | G28: EV | H28: EV. | I28: EV | J28: EV. | L28: =M28&" "&O28 -> EV | M28: EV | N28: =SUMIFS($V28:$AE28, $B28:$K28, M28 & "*") -> 1.0694444 | P28: =IF(O28<>"",SUMIFS($V28:$AE28, $B28:$K28, O28 & "*"),"") | U28: =SUM(V28:AE28) -> 1.0694444 | V28: =IFERROR(AG28-AF28,0) -> 0.15972222 | W28: =IFERROR(AI28-AH28,0) -> 0.14583333 | X28: =IFERROR(AK28-AJ28,0) -> 0 | Y28: =IFERROR(AM28-AL28,0) -> 0 | Z28: =IFERROR(AO28-AN28,0) -> 0.15972222 | AA28: =IFERROR(AQ28-AP28,0) -> 0.14583333 | AB28: =IFERROR(AS28-AR28,0) -> 0.15972222 | AC28: =IFERROR(AU28-AT28,0) -> 0.13888889 | AD28: =IFERROR(AW28-AV28,0) -> 0.15972222 | AE28: =IFERROR(AY28-AX28,0) -> 0 | AF28: 0.36458333 | AG28: 0.52430556 | AH28: 0.5625 | AI28: 0.70833333 | AN28: 0.36458333 | AO28: 0.52430556 | AP28: 0.5625 | AQ28: 0.70833333 | AR28: 0.36458333 | AS28: 0.52430556 | AT28: 0.5625 | AU28: 0.70138889 | AV28: 0.36458333 | AW28: 0.52430556
A29: Pro26 | B29: STI. | C29: STI | D29: STI. | E29: STI | H29: STI. | I29: STI | L29: =M29&" "&O29 -> STI | M29: STI | N29: =SUMIFS($V29:$AE29, $B29:$K29, M29 & "*") -> 0.90972222 | P29: =IF(O29<>"",SUMIFS($V29:$AE29, $B29:$K29, O29 & "*"),"") | U29: =SUM(V29:AE29) -> 1.375 | V29: =IFERROR(AG29-AF29,0) -> 0.15972222 | W29: =IFERROR(AI29-AH29,0) -> 0.14583333 | X29: =IFERROR(AK29-AJ29,0) -> 0.15972222 | Y29: =IFERROR(AM29-AL29,0) -> 0.14583333 | Z29: =IFERROR(AO29-AN29,0) -> 0.15972222 | AA29: =IFERROR(AQ29-AP29,0) -> 0.14583333 | AB29: =IFERROR(AS29-AR29,0) -> 0.15972222 | AC29: =IFERROR(AU29-AT29,0) -> 0.13888889 | AD29: =IFERROR(AW29-AV29,0) -> 0.15972222 | AE29: =IFERROR(AY29-AX29,0) -> 0 | AF29: 0.36458333 | AG29: 0.52430556 | AH29: 0.5625 | AI29: 0.70833333 | AJ29: 0.36458333 | AK29: 0.52430556 | AL29: 0.5625 | AM29: 0.70833333 | AN29: 0.36458333 | AO29: 0.52430556 | AP29: 0.5625 | AQ29: 0.70833333 | AR29: 0.36458333 | AS29: 0.52430556 | AT29: 0.5625 | AU29: 0.70138889 | AV29: 0.36458333 | AW29: 0.52430556
A30: Pro27 | B30: PA. | C30: PA | D30: PA. | E30: PA | F30: PA. | G30: PA | H30: PA. | I30: PA | J30: PA | L30: =M30&" "&O30 -> PA | M30: PA | N30: =SUMIFS($V30:$AE30, $B30:$K30, M30 & "*") -> 0.92361111 | P30: =IF(O30<>"",SUMIFS($V30:$AE30, $B30:$K30, O30 & "*"),"") | U30: =SUM(V30:AE30) -> 0.92361111 | V30: =IFERROR(AG30-AF30,0) -> 0 | W30: =IFERROR(AI30-AH30,0) -> 0 | X30: =IFERROR(AK30-AJ30,0) -> 0.15972222 | Y30: =IFERROR(AM30-AL30,0) -> 0.14583333 | Z30: =IFERROR(AO30-AN30,0) -> 0.15972222 | AA30: =IFERROR(AQ30-AP30,0) -> 0 | AB30: =IFERROR(AS30-AR30,0) -> 0.15972222 | AC30: =IFERROR(AU30-AT30,0) -> 0.13888889 | AD30: =IFERROR(AW30-AV30,0) -> 0.15972222 | AE30: =IFERROR(AY30-AX30,0) -> 0 | AJ30: 0.36458333 | AK30: 0.52430556 | AL30: 0.5625 | AM30: 0.70833333 | AN30: 0.36458333 | AO30: 0.52430556 | AR30: 0.36458333 | AS30: 0.52430556 | AT30: 0.5625 | AU30: 0.70138889 | AV30: 0.36458333 | AW30: 0.52430556
A31: Pro28 | B31: EV. | C31: EV | D31: EV. | E31: EV | F31: EV. | G31: EV | H31: EV. | I31: EV | J31: EV | L31: =M31&" "&O31 -> EV | M31: EV | N31: =SUMIFS($V31:$AE31, $B31:$K31, M31 & "*") -> 0.47916667 | P31: =IF(O31<>"",SUMIFS($V31:$AE31, $B31:$K31, O31 & "*"),"") | U31: =SUM(V31:AE31) -> 0.47916667 | V31: =IFERROR(AG31-AF31,0) -> 0.15972222 | W31: =IFERROR(AI31-AH31,0) -> 0 | X31: =IFERROR(AK31-AJ31,0) -> 0.15972222 | Y31: =IFERROR(AM31-AL31,0) -> 0 | Z31: =IFERROR(AO31-AN31,0) -> 0 | AA31: =IFERROR(AQ31-AP31,0) -> 0 | AB31: =IFERROR(AS31-AR31,0) -> 0.15972222 | AC31: =IFERROR(AU31-AT31,0) -> 0 | AD31: =IFERROR(AW31-AV31,0) -> 0 | AE31: =IFERROR(AY31-AX31,0) -> 0 | AF31: 0.36458333 | AG31: 0.52430556 | AJ31: 0.36458333 | AK31: 0.52430556 | AR31: 0.36458333 | AS31: 0.52430556
A32: Pro29 | B32: STI. | C32: STI | D32: STI. | E32: STI | F32: STI. | G32: STI | H32: STI. | I32: STI | J32: STI. | L32: =M32&" "&O32 -> STI | M32: STI | N32: =SUMIFS($V32:$AE32, $B32:$K32, M32 & "*") -> 1.375 | P32: =IF(O32<>"",SUMIFS($V32:$AE32, $B32:$K32, O32 & "*"),"") | U32: =SUM(V32:AE32) -> 1.375 | V32: =IFERROR(AG32-AF32,0) -> 0.15972222 | W32: =IFERROR(AI32-AH32,0) -> 0.14583333 | X32: =IFERROR(AK32-AJ32,0) -> 0.15972222 | Y32: =IFERROR(AM32-AL32,0) -> 0.14583333 | Z32: =IFERROR(AO32-AN32,0) -> 0.15972222 | AA32: =IFERROR(AQ32-AP32,0) -> 0.14583333 | AB32: =IFERROR(AS32-AR32,0) -> 0.15972222 | AC32: =IFERROR(AU32-AT32,0) -> 0.13888889 | AD32: =IFERROR(AW32-AV32,0) -> 0.15972222 | AE32: =IFERROR(AY32-AX32,0) -> 0 | AF32: 0.36458333 | AG32: 0.52430556 | AH32: 0.5625 | AI32: 0.70833333 | AJ32: 0.36458333 | AK32: 0.52430556 | AL32: 0.5625 | AM32: 0.70833333 | AN32: 0.36458333 | AO32: 0.52430556 | AP32: 0.5625 | AQ32: 0.70833333 | AR32: 0.36458333 | AS32: 0.52430556 | AT32: 0.5625 | AU32: 0.70138889 | AV32: 0.36458333 | AW32: 0.52430556
A33: Pro30 | B33: EV. | C33: EV | D33: EV. | E33: EV | F33: EV. | G33: EV | H33: EV. | I33: EV | J33: EV | L33: =M33&" "&O33 -> EV | M33: EV | N33: =SUMIFS($V33:$AE33, $B33:$K33, M33 & "*") -> 0.90972222 | P33: =IF(O33<>"",SUMIFS($V33:$AE33, $B33:$K33, O33 & "*"),"") | U33: =SUM(V33:AE33) -> 0.90972222 | V33: =IFERROR(AG33-AF33,0) -> 0.15972222 | W33: =IFERROR(AI33-AH33,0) -> 0.14583333 | X33: =IFERROR(AK33-AJ33,0) -> 0.15972222 | Y33: =IFERROR(AM33-AL33,0) -> 0.14583333 | Z33: =IFERROR(AO33-AN33,0) -> 0 | AA33: =IFERROR(AQ33-AP33,0) -> 0 | AB33: =IFERROR(AS33-AR33,0) -> 0.15972222 | AC33: =IFERROR(AU33-AT33,0) -> 0.13888889 | AD33: =IFERROR(AW33-AV33,0) -> 0 | AE33: =IFERROR(AY33-AX33,0) -> 0 | AF33: 0.36458333 | AG33: 0.52430556 | AH33: 0.5625 | AI33: 0.70833333 | AJ33: 0.36458333 | AK33: 0.52430556 | AL33: 0.5625 | AM33: 0.70833333 | AR33: 0.36458333 | AS33: 0.52430556 | AT33: 0.5625 | AU33: 0.70138889
A34: Pro31 | B34: CONS. | D34: CONS. | F34: CONS. | G34: CONS | H34: CONS. | I34: CONS | J34: CONS | L34: =M34&" "&O34 -> CONS | M34: CONS | N34: =SUMIFS($V34:$AE34, $B34:$K34, M34 & "*") -> 1.0833333 | P34: =IF(O34<>"",SUMIFS($V34:$AE34, $B34:$K34, O34 & "*"),"") | U34: =SUM(V34:AE34) -> 1.375 | V34: =IFERROR(AG34-AF34,0) -> 0.15972222 | W34: =IFERROR(AI34-AH34,0) -> 0.14583333 | X34: =IFERROR(AK34-AJ34,0) -> 0.15972222 | Y34: =IFERROR(AM34-AL34,0) -> 0.14583333 | Z34: =IFERROR(AO34-AN34,0) -> 0.15972222 | AA34: =IFERROR(AQ34-AP34,0) -> 0.14583333 | AB34: =IFERROR(AS34-AR34,0) -> 0.15972222 | AC34: =IFERROR(AU34-AT34,0) -> 0.13888889 | AD34: =IFERROR(AW34-AV34,0) -> 0.15972222 | AE34: =IFERROR(AY34-AX34,0) -> 0 | AF34: 0.36458333 | AG34: 0.52430556 | AH34: 0.5625 | AI34: 0.70833333 | AJ34: 0.36458333 | AK34: 0.52430556 | AL34: 0.5625 | AM34: 0.70833333 | AN34: 0.36458333 | AO34: 0.52430556 | AP34: 0.5625 | AQ34: 0.70833333 | AR34: 0.36458333 | AS34: 0.52430556 | AT34: 0.5625 | AU34: 0.70138889 | AV34: 0.36458333 | AW34: 0.52430556
A35: Pro32 | B35: STI. | C35: STI | D35: STI. | E35: STI | F35: STI. | G35: STI | H35: STI. | I35: STI | L35: =M35&" "&O35 -> STI | M35: STI | N35: =SUMIFS($V35:$AE35, $B35:$K35, M35 & "*") -> 1.2152778 | P35: =IF(O35<>"",SUMIFS($V35:$AE35, $B35:$K35, O35 & "*"),"") | U35: =SUM(V35:AE35) -> 1.375 | V35: =IFERROR(AG35-AF35,0) -> 0.15972222 | W35: =IFERROR(AI35-AH35,0) -> 0.14583333 | X35: =IFERROR(AK35-AJ35,0) -> 0.15972222 | Y35: =IFERROR(AM35-AL35,0) -> 0.14583333 | Z35: =IFERROR(AO35-AN35,0) -> 0.15972222 | AA35: =IFERROR(AQ35-AP35,0) -> 0.14583333 | AB35: =IFERROR(AS35-AR35,0) -> 0.15972222 | AC35: =IFERROR(AU35-AT35,0) -> 0.13888889 | AD35: =IFERROR(AW35-AV35,0) -> 0.15972222 | AE35: =IFERROR(AY35-AX35,0) -> 0 | AF35: 0.36458333 | AG35: 0.52430556 | AH35: 0.5625 | AI35: 0.70833333 | AJ35: 0.36458333 | AK35: 0.52430556 | AL35: 0.5625 | AM35: 0.70833333 | AN35: 0.36458333 | AO35: 0.52430556 | AP35: 0.5625 | AQ35: 0.70833333 | AR35: 0.36458333 | AS35: 0.52430556 | AT35: 0.5625 | AU35: 0.70138889 | AV35: 0.36458333 | AW35: 0.52430556
A36: Pro33 | B36: EV. | C36: EV | D36: EV. | E36: EV | F36: EV. | G36: EV | H36: EV. | I36: EV | J36: EV | L36: =M36&" "&O36 -> EV | M36: EV | N36: =SUMIFS($V36:$AE36, $B36:$K36, M36 & "*") -> 1.375 | P36: =IF(O36<>"",SUMIFS($V36:$AE36, $B36:$K36, O36 & "*"),"") | U36: =SUM(V36:AE36) -> 1.375 | V36: =IFERROR(AG36-AF36,0) -> 0.15972222 | W36: =IFERROR(AI36-AH36,0) -> 0.14583333 | X36: =IFERROR(AK36-AJ36,0) -> 0.15972222 | Y36: =IFERROR(AM36-AL36,0) -> 0.14583333 | Z36: =IFERROR(AO36-AN36,0) -> 0.15972222 | AA36: =IFERROR(AQ36-AP36,0) -> 0.14583333 | AB36: =IFERROR(AS36-AR36,0) -> 0.15972222 | AC36: =IFERROR(AU36-AT36,0) -> 0.13888889 | AD36: =IFERROR(AW36-AV36,0) -> 0.15972222 | AE36: =IFERROR(AY36-AX36,0) -> 0 | AF36: 0.36458333 | AG36: 0.52430556 | AH36: 0.5625 | AI36: 0.70833333 | AJ36: 0.36458333 | AK36: 0.52430556 | AL36: 0.5625 | AM36: 0.70833333 | AN36: 0.36458333 | AO36: 0.52430556 | AP36: 0.5625 | AQ36: 0.70833333 | AR36: 0.36458333 | AS36: 0.52430556 | AT36: 0.5625 | AU36: 0.70138889 | AV36: 0.36458333 | AW36: 0.52430556
A37: Pro34 | B37: R. | C37: R | D37: R. | E37: R | F37: R. | G37: R | H37: R. | I37: R | J37: R. | L37: =M37&" "&O37 -> R | M37: R | N37: =SUMIFS($V37:$AE37, $B37:$K37, M37 & "*") -> 1.375 | P37: =IF(O37<>"",SUMIFS($V37:$AE37, $B37:$K37, O37 & "*"),"") | U37: =SUM(V37:AE37) -> 1.375 | V37: =IFERROR(AG37-AF37,0) -> 0.15972222 | W37: =IFERROR(AI37-AH37,0) -> 0.14583333 | X37: =IFERROR(AK37-AJ37,0) -> 0.15972222 | Y37: =IFERROR(AM37-AL37,0) -> 0.14583333 | Z37: =IFERROR(AO37-AN37,0) -> 0.15972222 | AA37: =IFERROR(AQ37-AP37,0) -> 0.14583333 | AB37: =IFERROR(AS37-AR37,0) -> 0.15972222 | AC37: =IFERROR(AU37-AT37,0) -> 0.13888889 | AD37: =IFERROR(AW37-AV37,0) -> 0.15972222 | AE37: =IFERROR(AY37-AX37,0) -> 0 | AF37: 0.36458333 | AG37: 0.52430556 | AH37: 0.5625 | AI37: 0.70833333 | AJ37: 0.36458333 | AK37: 0.52430556 | AL37: 0.5625 | AM37: 0.70833333 | AN37: 0.36458333 | AO37: 0.52430556 | AP37: 0.5625 | AQ37: 0.70833333 | AR37: 0.36458333 | AS37: 0.52430556 | AT37: 0.5625 | AU37: 0.70138889 | AV37: 0.36458333 | AW37: 0.52430556
A38: Pro35 | B38: PA. | C38: PA | D38: PA. | E38: PA | F38: CONS. | G38: CONS | H38: PA. | I38: PA | J38: PA | L38: =M38&" "&O38 -> PA CONS | M38: PA | N38: =SUMIFS($V38:$AE38, $B38:$K38, M38 & "*") -> 0.77777778 | O38: CONS | P38: =IF(O38<>"",SUMIFS($V38:$AE38, $B38:$K38, O38 & "*"),"") -> 0.30555556 | U38: =SUM(V38:AE38) -> 1.0833333 | V38: =IFERROR(AG38-AF38,0) -> 0.15972222 | W38: =IFERROR(AI38-AH38,0) -> 0 | X38: =IFERROR(AK38-AJ38,0) -> 0.15972222 | Y38: =IFERROR(AM38-AL38,0) -> 0 | Z38: =IFERROR(AO38-AN38,0) -> 0.15972222 | AA38: =IFERROR(AQ38-AP38,0) -> 0.14583333 | AB38: =IFERROR(AS38-AR38,0) -> 0.15972222 | AC38: =IFERROR(AU38-AT38,0) -> 0.13888889 | AD38: =IFERROR(AW38-AV38,0) -> 0.15972222 | AE38: =IFERROR(AY38-AX38,0) -> 0 | AF38: 0.36458333 | AG38: 0.52430556 | AJ38: 0.36458333 | AK38: 0.52430556 | AN38: 0.36458333 | AO38: 0.52430556 | AP38: 0.5625 | AQ38: 0.70833333 | AR38: 0.36458333 | AS38: 0.52430556 | AT38: 0.5625 | AU38: 0.70138889 | AV38: 0.36458333 | AW38: 0.52430556
A39: Pro36 | B39: . | C39: EL | D39: . | E39: EL | F39: EL. | H39: . | I39: EL | J39: EL. | L39: =M39&" "&O39 -> EL | M39: EL | N39: =SUMIFS($V39:$AE39, $B39:$K39, M39 & "*") -> 0.59027778 | P39: =IF(O39<>"",SUMIFS($V39:$AE39, $B39:$K39, O39 & "*"),"") | U39: =SUM(V39:AE39) -> 1.2152778 | V39: =IFERROR(AG39-AF39,0) -> 0.15972222 | W39: =IFERROR(AI39-AH39,0) -> 0.14583333 | X39: =IFERROR(AK39-AJ39,0) -> 0.15972222 | Y39: =IFERROR(AM39-AL39,0) -> 0.14583333 | Z39: =IFERROR(AO39-AN39,0) -> 0.15972222 | AA39: =IFERROR(AQ39-AP39,0) -> 0.14583333 | AB39: =IFERROR(AS39-AR39,0) -> 0.15972222 | AC39: =IFERROR(AU39-AT39,0) -> 0.13888889 | AD39: =IFERROR(AW39-AV39,0) -> 0 | AE39: =IFERROR(AY39-AX39,0) -> 0 | AF39: 0.36458333 | AG39: 0.52430556 | AH39: 0.5625 | AI39: 0.70833333 | AJ39: 0.36458333 | AK39: 0.52430556 | AL39: 0.5625 | AM39: 0.70833333 | AN39: 0.36458333 | AO39: 0.52430556 | AP39: 0.5625 | AQ39: 0.70833333 | AR39: 0.36458333 | AS39: 0.52430556 | AT39: 0.5625 | AU39: 0.70138889
A40: Pro37 | B40: PA. | C40: PA | D40: PA. | E40: PA | F40: PA. | G40: PA | H40: PA. | I40: PA | J40: PA | L40: =M40&" "&O40 -> PA | M40: PA | N40: =SUMIFS($V40:$AE40, $B40:$K40, M40 & "*") -> 1.375 | P40: =IF(O40<>"",SUMIFS($V40:$AE40, $B40:$K40, O40 & "*"),"") | U40: =SUM(V40:AE40) -> 1.375 | V40: =IFERROR(AG40-AF40,0) -> 0.15972222 | W40: =IFERROR(AI40-AH40,0) -> 0.14583333 | X40: =IFERROR(AK40-AJ40,0) -> 0.15972222 | Y40: =IFERROR(AM40-AL40,0) -> 0.14583333 | Z40: =IFERROR(AO40-AN40,0) -> 0.15972222 | AA40: =IFERROR(AQ40-AP40,0) -> 0.14583333 | AB40: =IFERROR(AS40-AR40,0) -> 0.15972222 | AC40: =IFERROR(AU40-AT40,0) -> 0.13888889 | AD40: =IFERROR(AW40-AV40,0) -> 0.15972222 | AE40: =IFERROR(AY40-AX40,0) -> 0 | AF40: 0.36458333 | AG40: 0.52430556 | AH40: 0.5625 | AI40: 0.70833333 | AJ40: 0.36458333 | AK40: 0.52430556 | AL40: 0.5625 | AM40: 0.70833333 | AN40: 0.36458333 | AO40: 0.52430556 | AP40: 0.5625 | AQ40: 0.70833333 | AR40: 0.36458333 | AS40: 0.52430556 | AT40: 0.5625 | AU40: 0.70138889 | AV40: 0.36458333 | AW40: 0.52430556
...

Sheet Novembre
D1: 1 | E1: 1 | F1: 2 | G1: 2 | H1: 3 | I1: 3 | J1: 4 | K1: 4 | L1: 5 | M1: 5 | N1: 6 | O1: 6 | P1: 7 | Q1: 7 | R1: 8 | S1: 8 | T1: 9 | U1: 9 | V1: 10 | W1: 10 | X1: 11 | Y1: 11 | Z1: 12 | AA1: 12 | AB1: 13 | AC1: 13 | AD1: 14 | AE1: 14 | AF1: 15 | AG1: 15 | AH1: 16 | AI1: 16 | AJ1: 17 | AK1: 17 | AL1: 18 | AM1: 18 | AN1: 19 | AO1: 19 | AP1: 20 | AQ1: 20 | AR1: 21 | AS1: 21 | AT1: 22 | AU1: 22 | AV1: 23 | AW1: 23 | AX1: 24 | AY1: 24 | AZ1: 25 | BA1: 25 | BB1: 26 | BC1: 26 | BD1: 27 | BE1: 27 | BF1: 28 | BG1: 28 | BH1: 29 | BI1: 29 | BJ1: 30 | BK1: 30 | DB1: 1 | DC1: 1 | DD1: 2 | DE1: 2 | DF1: 3 | DG1: 3 | DH1: 4 | DI1: 4 | DJ1: 5 | DK1: 5 | DL1: 6 | DM1: 6 | DN1: 7 | DO1: 7 | DP1: 8 | DQ1: 8 | DR1: 9 | DS1: 9 | DT1: 10 | DU1: 10 | DV1: 11 | DW1: 11 | DX1: 12 | DY1: 12 | DZ1: 13 | EA1: 13 | EB1: 14 | EC1: 14 | ED1: 15 | EE1: 15 | EF1: 16 | EG1: 16 | EH1: 17 | EI1: 17 | EJ1: 18 | EK1: 18 | EL1: 19 | EM1: 19 | EN1: 20 | EO1: 20 | EP1: 21 | EQ1: 21 | ER1: 22 | ES1: 22 | ET1: 23 | EU1: 23 | EV1: 24 | EW1: 24 | EX1: 25 | EY1: 25 | EZ1: 26 | FA1: 26 | FB1: 27 | FC1: 27 | FD1: 28 | FE1: 28 | FF1: 29 | FG1: 29 | FH1: 30 | FI1: 30 | FJ1: 31 | FK1: 31 | FZ1: 1 | GA1: 1 | GB1: 1 | GC1: 1 | GD1: 2 | GE1: 2 | GF1: 2 | GG1: 2 | GH1: 3 | GI1: 3 | GJ1: 3 | GK1: 3 | GL1: 4 | GM1: 4 | GN1: 4 | GO1: 4 | GP1: 5 | GQ1: 5 | GR1: 5 | GS1: 5 | GT1: 6 | GU1: 6 | GV1: 6 | GW1: 6 | GX1: 7 | GY1: 7 | GZ1: 7 | HA1: 7 | HB1: 8 | HC1: 8 | HD1: 8 | HE1: 8 | HF1: 9 | HG1: 9 | HH1: 9 | HI1: 9 | HJ1: 10 | HK1: 10 | HL1: 10 | HM1: 10 | HN1: 11 | HO1: 11 | HP1: 11 | HQ1: 11 | HR1: 12 | HS1: 12 | HT1: 12 | HU1: 12 | HV1: 13 | HW1: 13 | HX1: 13 | HY1: 13 | HZ1: 14 | IA1: 14 | IB1: 14 | IC1: 14 | ID1: 15 | IE1: 15 | IF1: 15 | IG1: 15 | IH1: 16 | II1: 16 | IJ1: 16 | IK1: 16 | IL1: 17 | IM1: 17 | IN1: 17 | IO1: 17 | IP1: 18 | IQ1: 18 | IR1: 18 | IS1: 18 | IT1: 19 | IU1: 19 | IV1: 19 | IW1: 19 | IX1: 20 | IY1: 20 | IZ1: 20 | JA1: 20 | JB1: 21 | JC1: 21 | JD1: 21 | JE1: 21 | JF1: 22 | JG1: 22 | JH1: 22 | JI1: 22 | JJ1: 23 | JK1: 23 | JL1: 23 | JM1: 23 | JN1: 24 | JO1: 24 | JP1: 24 | JQ1: 24 | JR1: 25 | JS1: 25 | JT1: 25 | JU1: 25 | JV1: 26 | JW1: 26 | JX1: 26 | JY1: 26 | JZ1: 27 | KA1: 27 | KB1: 27 | KC1: 27 | KD1: 28 | KE1: 28 | KF1: 28 | KG1: 28 | KH1: 29 | KI1: 29 | KJ1: 29 | KK1: 29 | KL1: 30 | KM1: 30 | KN1: 30 | KO1: 30 | KP1: 31 | KQ1: 31 | KR1: 31 | KS1: 31
B2: =EOMONTH(B18,-1) -> 45961 | D2: =IFERROR(IF(WEEKDAY(D$18,2)=1,CHOOSE(WEEKDAY(D$18,2)+MOD(COLUMN(),2),1,2,3,4,5,6,7,8,9,10),CHOOSE(WEEKDAY(D$18,2)+WEEKDAY(B$2,2)+MOD(COLUMN(),1),1,2,3,4,5,6,7,8,9,10)),0) -> 0 | E2: =IFERROR(IF(WEEKDAY(E$18,2)=1,CHOOSE(WEEKDAY(E$18,2)+MOD(COLUMN(),2),1,2,3,4,5,6,7,8,9,10),CHOOSE(WEEKDAY(E$18,2)+WEEKDAY(D$18,2)+MOD(COLUMN(),1),1,2,3,4,5,6,7,8,9,10)),0) -> 0 | F2: =IFERROR(IF(WEEKDAY(F$18,2)=1,CHOOSE(WEEKDAY(F$18,2)+MOD(COLUMN(),2),1,2,3,4,5,6,7,8,9,10),CHOOSE(WEEKDAY(F$18,2)+WEEKDAY(E$18,2)+MOD(COLUMN(),1),1,2,3,4,5,6,7,8,9,10)),0) -> 0 | G2: =IFERROR(IF(WEEKDAY(G$18,2)=1,CHOOSE(WEEKDAY(G$18,2)+MOD(COLUMN(),2),1,2,3,4,5,6,7,8,9,10),CHOOSE(WEEKDAY(G$18,2)+WEEKDAY(F$18,2)+MOD(COLUMN(),1),1,2,3,4,5,6,7,8,9,10)),0) -> 0 | H2: =IFERROR(IF(WEEKDAY(H$18,2)=1,CHOOSE(WEEKDAY(H$18,2)+MOD(COLUMN(),2),1,2,3,4,5,6,7,8,9,10),CHOOSE(WEEKDAY(H$18,2)+WEEKDAY(G$18,2)+MOD(COLUMN(),1),1,2,3,4,5,6,7,8,9,10)),0) -> 1 | I2: =IFERROR(IF(WEEKDAY(I$18,2)=1,CHOOSE(WEEKDAY(I$18,2)+MOD(COLUMN(),2),1,2,3,4,5,6,7,8,9,10),CHOOSE(WEEKDAY(I$18,2)+WEEKDAY(H$18,2)+MOD(COLUMN(),1),1,2,3,4,5,6,7,8,9,10)),0) -> 2 | J2: =IFERROR(IF(WEEKDAY(J$18,2)=1,CHOOSE(WEEKDAY(J$18,2)+MOD(COLUMN(),2),1,2,3,4,5,6,7,8,9,10),CHOOSE(WEEKDAY(J$18,2)+WEEKDAY(I$18,2)+MOD(COLUMN(),1),1,2,3,4,5,6,7,8,9,10)),0) -> 3 | K2: =IFERROR(IF(WEEKDAY(K$18,2)=1,CHOOSE(WEEKDAY(K$18,2)+MOD(COLUMN(),2),1,2,3,4,5,6,7,8,9,10),CHOOSE(WEEKDAY(K$18,2)+WEEKDAY(J$18,2)+MOD(COLUMN(),1),1,2,3,4,5,6,7,8,9,10)),0) -> 4 | L2: =IFERROR(IF(WEEKDAY(L$18,2)=1,CHOOSE(WEEKDAY(L$18,2)+MOD(COLUMN(),2),1,2,3,4,5,6,7,8,9,10),CHOOSE(WEEKDAY(L$18,2)+WEEKDAY(K$18,2)+MOD(COLUMN(),1),1,2,3,4,5,6,7,8,9,10)),0) -> 5 | ... BK2: =IFERROR(IF(WEEKDAY(BK$18,2)=1,CHOOSE(WEEKDAY(BK$18,2)+MOD(COLUMN(),2),1,2,3,4,5,6,7,8,9,10),CHOOSE(WEEKDAY(BK$18,2)+WEEKDAY(BJ$18,2)+MOD(COLUMN(),1),1,2,3,4,5,6,7,8,9,10)),0) -> 0 | FZ2: =IF(COUNTIF(Fériés,D18)>0,0,IF(WEEKDAY(DATE(YEAR($B18),MONTH($B18),FZ1),2)<6,CHOOSE(WEEKDAY(DATE(YEAR($B18),MONTH($B18),FZ1),2),1,5,9,13,17)+COUNTIF(FZ$1:$GA1,FZ1)-1,0)) -> 0 | GA2: =IF(COUNTIF(Fériés,E18)>0,0,IF(WEEKDAY(DATE(YEAR($B18),MONTH($B18),GA1),2)<6,CHOOSE(WEEKDAY(DATE(YEAR($B18),MONTH($B18),GA1),2),1,5,9,13,17)+COUNTIF(GA$1:$GA1,GA1)-1,0)) -> 0 | GB2: =IF(COUNTIF(Fériés,F18)>0,0,IF(WEEKDAY(DATE(YEAR($B18),MONTH($B18),GB1),2)<6,CHOOSE(WEEKDAY(DATE(YEAR($B18),MONTH($B18),GB1),2),1,5,9,13,17)+COUNTIF($GA$1:GB1,GB1)-1,0)) -> 0 | GC2: =IF(COUNTIF(Fériés,G18)>0,0,IF(WEEKDAY(DATE(YEAR($B18),MONTH($B18),GC1),2)<6,CHOOSE(WEEKDAY(DATE(YEAR($B18),MONTH($B18),GC1),2),1,5,9,13,17)+COUNTIF($GA$1:GC1,GC1)-1,0)) -> 0 | GD2: =IF(COUNTIF(Fériés,H18)>0,0,IF(WEEKDAY(DATE(YEAR($B18),MONTH($B18),GD1),2)<6,CHOOSE(WEEKDAY(DATE(YEAR($B18),MONTH($B18),GD1),2),1,5,9,13,17)+COUNTIF($GA$1:GD1,GD1)-1,0)) -> 0 | GE2: =IF(COUNTIF(Fériés,I18)>0,0,IF(WEEKDAY(DATE(YEAR($B18),MONTH($B18),GE1),2)<6,CHOOSE(WEEKDAY(DATE(YEAR($B18),MONTH($B18),GE1),2),1,5,9,13,17)+COUNTIF($GA$1:GE1,GE1)-1,0)) -> 0 | GF2: =IF(COUNTIF(Fériés,J18)>0,0,IF(WEEKDAY(DATE(YEAR($B18),MONTH($B18),GF1),2)<6,CHOOSE(WEEKDAY(DATE(YEAR($B18),MONTH($B18),GF1),2),1,5,9,13,17)+COUNTIF($GA$1:GF1,GF1)-1,0)) -> 0 | GG2: =IF(COUNTIF(Fériés,K18)>0,0,IF(WEEKDAY(DATE(YEAR($B18),MONTH($B18),GG1),2)<6,CHOOSE(WEEKDAY(DATE(YEAR($B18),MONTH($B18),GG1),2),1,5,9,13,17)+COUNTIF($GA$1:GG1,GG1)-1,0)) -> 0 | GH2: =IF(COUNTIF(Fériés,DATE(YEAR($B18),MONTH($B18),GH1))>0,0,IF(WEEKDAY(DATE(YEAR($B18),MONTH($B18),GH1),2)<6,CHOOSE(WEEKDAY(DATE(YEAR($B18),MONTH($B18),GH1),2),1,5,9,13,17)+COUNTIF($GA$1:GH1,GH1)-1,0)) -> 1 | GI2: =IF(COUNTIF(Fériés,DATE(YEAR($B18),MONTH($B18),GI1))>0,0,IF(WEEKDAY(DATE(YEAR($B18),MONTH($B18),GI1),2)<6,CHOOSE(WEEKDAY(DATE(YEAR($B18),MONTH($B18),GI1),2),1,5,9,13,17)+COUNTIF($GA$1:GI1,GI1)-1,0)) -> 2 | GJ2: =IF(COUNTIF(Fériés,DATE(YEAR($B18),MONTH($B18),GJ1))>0,0,IF(WEEKDAY(DATE(YEAR($B18),MONTH($B18),GJ1),2)<6,CHOOSE(WEEKDAY(DATE(YEAR($B18),MONTH($B18),GJ1),2),1,5,9,13,17)+COUNTIF($GA$1:GJ1,GJ1)-1,0)) -> 3 | GK2: =IF(COUNTIF(Fériés,DATE(YEAR($B18),MONTH($B18),GK1))>0,0,IF(WEEKDAY(DATE(YEAR($B18),MONTH($B18),GK1),2)<6,CHOOSE(WEEKDAY(DATE(YEAR($B18),MONTH($B18),GK1),2),1,5,9,13,17)+COUNTIF($GA$1:GK1,GK1)-1,0)) -> 4 | GL2: =IF(COUNTIF(Fériés,DATE(YEAR($B18),MONTH($B18),GL1))>0,0,IF(WEEKDAY(DATE(YEAR($B18),MONTH($B18),GL1),2)<6,CHOOSE(WEEKDAY(DATE(YEAR($B18),MONTH($B18),GL1),2),1,5,9,13,17)+COUNTIF($GA$1:GL1,GL1)-1,0)) -> 5 | GM2: =IF(COUNTIF(Fériés,DATE(YEAR($B18),MONTH($B18),GM1))>0,0,IF(WEEKDAY(DATE(YEAR($B18),MONTH($B18),GM1),2)<6,CHOOSE(WEEKDAY(DATE(YEAR($B18),MONTH($B18),GM1),2),1,5,9,13,17)+COUNTIF($GA$1:GM1,GM1)-1,0)) -> 6 | GN2: =IF(COUNTIF(Fériés,DATE(YEAR($B18),MONTH($B18),GN1))>0,0,IF(WEEKDAY(DATE(YEAR($B18),MONTH($B18),GN1),2)<6,CHOOSE(WEEKDAY(DATE(YEAR($B18),MONTH($B18),GN1),2),1,5,9,13,17)+COUNTIF($GA$1:GN1,GN1)-1,0)) -> 7 | GO2: =IF(COUNTIF(Fériés,DATE(YEAR($B18),MONTH($B18),GO1))>0,0,IF(WEEKDAY(DATE(YEAR($B18),MONTH($B18),GO1),2)<6,CHOOSE(WEEKDAY(DATE(YEAR($B18),MONTH($B18),GO1),2),1,5,9,13,17)+COUNTIF($GA$1:GO1,GO1)-1,0)) -> 8 | ... KS2: =IF(COUNTIF(Fériés,DATE(YEAR($B18),MONTH($B18),KS1))>0,0,IF(WEEKDAY(DATE(YEAR($B18),MONTH($B18),KS1),2)<6,CHOOSE(WEEKDAY(DATE(YEAR($B18),MONTH($B18),KS1),2),1,5,9,13,17)+COUNTIF($GA$1:KS1,KS1)-1,0)) -> 4
C4: NB TH Théo | D4: =IF(COUNTIF(Fériés,D18)>0,"",IF(WEEKDAY(D18,2)>5,"",COUNTA(D$19:D$69))) | E4: =IF(COUNTIF(Fériés,E18)>0,"",IF(WEEKDAY(E18,2)>5,"",COUNTA(E$19:E$69))) | F4: =IF(COUNTIF(Fériés,F18)>0,"",IF(WEEKDAY(F18,2)>5,"",COUNTA(F$19:F$69))) | G4: =IF(COUNTIF(Fériés,G18)>0,"",IF(WEEKDAY(G18,2)>5,"",COUNTA(G$19:G$69))) | H4: =IF(COUNTIF(Fériés,H18)>0,"",IF(WEEKDAY(H18,2)>5,"",COUNTA(H$19:H$74))) -> 42 | I4: =IF(COUNTIF(Fériés,I18)>0,"",IF(WEEKDAY(I18,2)>5,"",COUNTA(I$19:I$74))) -> 38 | J4: =IF(COUNTIF(Fériés,J18)>0,"",IF(WEEKDAY(J18,2)>5,"",COUNTA(J$19:J$74))) -> 41 | K4: =IF(COUNTIF(Fériés,K18)>0,"",IF(WEEKDAY(K18,2)>5,"",COUNTA(K$19:K$74))) -> 38 | L4: =IF(COUNTIF(Fériés,L18)>0,"",IF(WEEKDAY(L18,2)>5,"",COUNTA(L$19:L$74))) -> 40 | M4: =IF(COUNTIF(Fériés,M18)>0,"",IF(WEEKDAY(M18,2)>5,"",COUNTA(M$19:M$74))) -> 37 | N4: =IF(COUNTIF(Fériés,N18)>0,"",IF(WEEKDAY(N18,2)>5,"",COUNTA(N$19:N$74))) -> 42 | O4: =IF(COUNTIF(Fériés,O18)>0,"",IF(WEEKDAY(O18,2)>5,"",COUNTA(O$19:O$74))) -> 40 | ... BK4: =IF(COUNTIF(Fériés,BK18)>0,"",IF(WEEKDAY(BK18,2)>5,"",COUNTA(BK$19:BK$74)))
C5: NB TH ABS | D5: {=SUMPRODUCT(COUNTIF(D19:D74,absences))} -> 3 | E5: {=SUMPRODUCT(COUNTIF(E19:E74,absences))} -> 3 | F5: {=SUMPRODUCT(COUNTIF(F19:F74,absences))} -> 3 | G5: {=SUMPRODUCT(COUNTIF(G19:G74,absences))} -> 3 | H5: {=SUMPRODUCT(COUNTIF(H19:H74,absences))} -> 9 | I5: {=SUMPRODUCT(COUNTIF(I19:I74,absences))} -> 9 | J5: {=SUMPRODUCT(COUNTIF(J19:J74,absences))} -> 11 | K5: {=SUMPRODUCT(COUNTIF(K19:K74,absences))} -> 11 | ... BK5: {=SUMPRODUCT(COUNTIF(BK19:BK74,absences))} -> 3
C6: NB TH prés | D6: =IF(COUNTIF(Fériés,D18)>0,"",IF(WEEKDAY(D18,2)>5,"",D4-D5)) | E6: =IF(COUNTIF(Fériés,E18)>0,"",IF(WEEKDAY(E18,2)>5,"",E4-E5)) | F6: =IF(COUNTIF(Fériés,F18)>0,"",IF(WEEKDAY(F18,2)>5,"",F4-F5)) | G6: =IF(COUNTIF(Fériés,G18)>0,"",IF(WEEKDAY(G18,2)>5,"",G4-G5)) | H6: =IF(COUNTIF(Fériés,H18)>0,"",IF(WEEKDAY(H18,2)>5,"",H4-H5)) -> 33 | I6: =IF(COUNTIF(Fériés,I18)>0,"",IF(WEEKDAY(I18,2)>5,"",I4-I5)) -> 29 | J6: =IF(COUNTIF(Fériés,J18)>0,"",IF(WEEKDAY(J18,2)>5,"",J4-J5)) -> 30 | K6: =IF(COUNTIF(Fériés,K18)>0,"",IF(WEEKDAY(K18,2)>5,"",K4-K5)) -> 27 | ... BK6: =IF(COUNTIF(Fériés,BK18)>0,"",IF(WEEKDAY(BK18,2)>5,"",BK4-BK5))
C10: Repas For | D10: =SUM(D75:D79) -> 0 | E10: =SUM(E75:E79) -> 0 | F10: =SUM(F75:F79) -> 0 | G10: =SUM(G75:G79) -> 0 | H10: =SUM(H75:H79) -> 0 | I10: =SUM(I75:I79) -> 0 | J10: =SUM(J75:J79) -> 0 | K10: =SUM(K75:K79) -> 0 | ... BK10: =SUM(BK75:BK79) -> 0
C11: Repas Sta | D11: {=IFERROR(IF(MOD(COLUMN(),2)=0,SUMPRODUCT(--(RIGHT(OFFSET($B$69,1,COLUMN()-2,COUNTA($B$70:$B$74)),1)=".")),""),"")} | E11: {=IFERROR(IF(MOD(COLUMN(),2)=0,SUMPRODUCT(--(RIGHT(OFFSET($B$69,1,COLUMN()-2,COUNTA($B$70:$B$74)),1)=".")),""),"")} | F11: {=IFERROR(IF(MOD(COLUMN(),2)=0,SUMPRODUCT(--(RIGHT(OFFSET($B$69,1,COLUMN()-2,COUNTA($B$70:$B$74)),1)=".")),""),"")} | G11: {=IFERROR(IF(MOD(COLUMN(),2)=0,SUMPRODUCT(--(RIGHT(OFFSET($B$69,1,COLUMN()-2,COUNTA($B$70:$B$74)),1)=".")),""),"")} | H11: {=IFERROR(IF(MOD(COLUMN(),2)=0,SUMPRODUCT(--(RIGHT(OFFSET($B$69,1,COLUMN()-2,COUNTA($B$70:$B$74)),1)=".")),""),"")} | I11: {=IFERROR(IF(MOD(COLUMN(),2)=0,SUMPRODUCT(--(RIGHT(OFFSET($B$69,1,COLUMN()-2,COUNTA($B$70:$B$74)),1)=".")),""),"")} | J11: {=IFERROR(IF(MOD(COLUMN(),2)=0,SUMPRODUCT(--(RIGHT(OFFSET($B$69,1,COLUMN()-2,COUNTA($B$70:$B$74)),1)=".")),""),"")} | K11: {=IFERROR(IF(MOD(COLUMN(),2)=0,SUMPRODUCT(--(RIGHT(OFFSET($B$69,1,COLUMN()-2,COUNTA($B$70:$B$74)),1)=".")),""),"")} | ... BK11: {=IFERROR(IF(MOD(COLUMN(),2)=0,SUMPRODUCT(--(RIGHT(OFFSET($B$69,1,COLUMN()-2,COUNTA($B$70:$B$74)),1)=".")),""),"")}
C12: Repas Pro | D12: {=IF(MOD(COLUMN(),2)=0,SUMPRODUCT(--(RIGHT(OFFSET($B$79,1,COLUMN()-2,COUNTA($B$80:$B$99)),1)="."))+SUMPRODUCT(--(RIGHT(OFFSET($B$79,1,COLUMN()-2,COUNTA($B$80:$B$99)),1)="p")),"")} -> 0 | E12: {=IF(MOD(COLUMN(),2)=0,SUMPRODUCT(--(RIGHT(OFFSET($B$79,1,COLUMN()-2,COUNTA($B$80:$B$99)),1)="."))+SUMPRODUCT(--(RIGHT(OFFSET($B$79,1,COLUMN()-2,COUNTA($B$80:$B$99)),1)="p")),"")} | F12: {=IF(MOD(COLUMN(),2)=0,SUMPRODUCT(--(RIGHT(OFFSET($B$79,1,COLUMN()-2,COUNTA($B$80:$B$99)),1)="."))+SUMPRODUCT(--(RIGHT(OFFSET($B$79,1,COLUMN()-2,COUNTA($B$80:$B$99)),1)="p")),"")} -> 0 | G12: {=IF(MOD(COLUMN(),2)=0,SUMPRODUCT(--(RIGHT(OFFSET($B$79,1,COLUMN()-2,COUNTA($B$80:$B$99)),1)="."))+SUMPRODUCT(--(RIGHT(OFFSET($B$79,1,COLUMN()-2,COUNTA($B$80:$B$99)),1)="p")),"")} | H12: {=IF(MOD(COLUMN(),2)=0,SUMPRODUCT(--(RIGHT(OFFSET($B$79,1,COLUMN()-2,COUNTA($B$80:$B$99)),1)="."))+SUMPRODUCT(--(RIGHT(OFFSET($B$79,1,COLUMN()-2,COUNTA($B$80:$B$99)),1)="p")),"")} -> 2 | I12: {=IF(MOD(COLUMN(),2)=0,SUMPRODUCT(--(RIGHT(OFFSET($B$79,1,COLUMN()-2,COUNTA($B$80:$B$99)),1)="."))+SUMPRODUCT(--(RIGHT(OFFSET($B$79,1,COLUMN()-2,COUNTA($B$80:$B$99)),1)="p")),"")} | J12: {=IF(MOD(COLUMN(),2)=0,SUMPRODUCT(--(RIGHT(OFFSET($B$79,1,COLUMN()-2,COUNTA($B$80:$B$99)),1)="."))+SUMPRODUCT(--(RIGHT(OFFSET($B$79,1,COLUMN()-2,COUNTA($B$80:$B$99)),1)="p")),"")} -> 2 | K12: {=IF(MOD(COLUMN(),2)=0,SUMPRODUCT(--(RIGHT(OFFSET($B$79,1,COLUMN()-2,COUNTA($B$80:$B$99)),1)="."))+SUMPRODUCT(--(RIGHT(OFFSET($B$79,1,COLUMN()-2,COUNTA($B$80:$B$99)),1)="p")),"")} | ... BK12: {=IF(MOD(COLUMN(),2)=0,SUMPRODUCT(--(RIGHT(OFFSET($B$79,1,COLUMN()-2,COUNTA($B$80:$B$99)),1)="."))+SUMPRODUCT(--(RIGHT(OFFSET($B$79,1,COLUMN()-2,COUNTA($B$80:$B$99)),1)="p")),"")}
C13: Repas TH | D13: {=IF(MOD(COLUMN(),2)=0,SUMPRODUCT(--(RIGHT(OFFSET($B$18,1,COLUMN()-2,COUNTA($B$19:$B$69)),1)=".")),"")} -> 0 | E13: {=IF(MOD(COLUMN(),2)=0,SUMPRODUCT(--(RIGHT(OFFSET($B$18,1,COLUMN()-2,COUNTA($B$19:$B$69)),1)=".")),"")} | F13: {=IF(MOD(COLUMN(),2)=0,SUMPRODUCT(--(RIGHT(OFFSET($B$18,1,COLUMN()-2,COUNTA($B$19:$B$69)),1)=".")),"")} -> 0 | G13: {=IF(MOD(COLUMN(),2)=0,SUMPRODUCT(--(RIGHT(OFFSET($B$18,1,COLUMN()-2,COUNTA($B$19:$B$69)),1)=".")),"")} | H13: {=IF(MOD(COLUMN(),2)=0,SUMPRODUCT(--(RIGHT(OFFSET($B$18,1,COLUMN()-2,COUNTA($B$19:$B$69)),1)=".")),"")} -> 30 | I13: {=IF(MOD(COLUMN(),2)=0,SUMPRODUCT(--(RIGHT(OFFSET($B$18,1,COLUMN()-2,COUNTA($B$19:$B$69)),1)=".")),"")} | J13: {=IF(MOD(COLUMN(),2)=0,SUMPRODUCT(--(RIGHT(OFFSET($B$18,1,COLUMN()-2,COUNTA($B$19:$B$69)),1)=".")),"")} -> 25 | K13: {=IF(MOD(COLUMN(),2)=0,SUMPRODUCT(--(RIGHT(OFFSET($B$18,1,COLUMN()-2,COUNTA($B$19:$B$69)),1)=".")),"")} | ... BK13: {=IF(MOD(COLUMN(),2)=0,SUMPRODUCT(--(RIGHT(OFFSET($B$18,1,COLUMN()-2,COUNTA($B$19:$B$69)),1)=".")),"")}
C15: NB Repas | D15: =SUM(D10:D13) -> 0 | E15: =SUM(E10:E13) -> 0 | F15: =SUM(F10:F13) -> 0 | G15: =SUM(G10:G13) -> 0 | H15: =SUM(H10:H13) -> 32 | I15: =SUM(I10:I13) -> 0 | J15: =SUM(J10:J13) -> 27 | K15: =SUM(K10:K13) -> 0 | ... BK15: =SUM(BK10:BK13) -> 0
D16: =IF(AND(MOD(COLUMN(),2)=0,WEEKDAY(D18,2)=3),_xlfn.ISOWEEKNUM(D18),"") | E16: =IF(AND(MOD(COLUMN(),2)=0,WEEKDAY(E18,2)=3),_xlfn.ISOWEEKNUM(E18),"") | F16: =IF(AND(MOD(COLUMN(),2)=0,WEEKDAY(F18,2)=3),_xlfn.ISOWEEKNUM(F18),"") | G16: =IF(AND(MOD(COLUMN(),2)=0,WEEKDAY(G18,2)=3),_xlfn.ISOWEEKNUM(G18),"") | H16: =IF(AND(MOD(COLUMN(),2)=0,WEEKDAY(H18,2)=3),_xlfn.ISOWEEKNUM(H18),"") | I16: =IF(AND(MOD(COLUMN(),2)=0,WEEKDAY(I18,2)=3),_xlfn.ISOWEEKNUM(I18),"") | J16: =IF(AND(MOD(COLUMN(),2)=0,WEEKDAY(J18,2)=3),_xlfn.ISOWEEKNUM(J18),"") | K16: =IF(AND(MOD(COLUMN(),2)=0,WEEKDAY(K18,2)=3),_xlfn.ISOWEEKNUM(K18),"") | ... BK16: =IF(AND(MOD(COLUMN(),2)=0,WEEKDAY(BK18,2)=3),_xlfn.ISOWEEKNUM(BK18),"")
D17: =IF(AND(MOD(COLUMN(),2)=0,WEEKDAY(D18,2)<6),SUBTOTAL(3,D19:D99),"") | E17: =IF(AND(MOD(COLUMN(),2)=0,WEEKDAY(E18,2)<6),SUBTOTAL(3,E19:E99),"") | F17: =IF(AND(MOD(COLUMN(),2)=0,WEEKDAY(F18,2)<6),SUBTOTAL(3,F19:F99),"") | G17: =IF(AND(MOD(COLUMN(),2)=0,WEEKDAY(G18,2)<6),SUBTOTAL(3,G19:G99),"") | H17: =IF(AND(MOD(COLUMN(),2)=0,WEEKDAY(H18,2)<6),SUBTOTAL(3,H19:H99),"") -> 54 | I17: =IF(AND(MOD(COLUMN(),2)=0,WEEKDAY(I18,2)<6),SUBTOTAL(3,I19:I99),"") | J17: =IF(AND(MOD(COLUMN(),2)=0,WEEKDAY(J18,2)<6),SUBTOTAL(3,J19:J99),"") -> 51 | K17: =IF(AND(MOD(COLUMN(),2)=0,WEEKDAY(K18,2)<6),SUBTOTAL(3,K19:K99),"") | ... BK17: =IF(AND(MOD(COLUMN(),2)=0,WEEKDAY(BK18,2)<6),SUBTOTAL(3,BK19:BK99),"") | CB17: {=NETWORKDAYS.INTL(D18,EOMONTH(D18,0),1,Fériés)-SUMPRODUCT((WEEKDAY(ROW(INDIRECT(D18&":"&EOMONTH(D18,0))))=6)*(COUNTIF(Fériés,ROW(INDIRECT(D18&":"&EOMONTH(D18,0))))=0))*0.5} -> 17
B18: 45962 | C18: At1 | D18: =DATE(YEAR($B18),MONTH($B18),D1) -> 45962 | E18: =DATE(YEAR($B18),MONTH($B18),E1) -> 45962 | F18: =DATE(YEAR($B18),MONTH($B18),F1) -> 45963 | G18: =DATE(YEAR($B18),MONTH($B18),G1) -> 45963 | H18: =DATE(YEAR($B18),MONTH($B18),H1) -> 45964 | I18: =DATE(YEAR($B18),MONTH($B18),I1) -> 45964 | J18: =DATE(YEAR($B18),MONTH($B18),J1) -> 45965 | K18: =DATE(YEAR($B18),MONTH($B18),K1) -> 45965 | ... BK18: =DATE(YEAR($B18),MONTH($B18),BK1) -> 45991 | BL18: Total | BM18: Repas Commandés | BN18: Repas pris | BO18: Repas facturés | BP18: 1mmentaires | BQ18: AT | BR18: A | BS18: C | BT18: CP | BU18: CMAT | BV18: CSS | BW18: ABS | BX18: MAD | BY18: STA | BZ18: ENF | CA18: EVF | CB18: NB.JR.Théo | CC18: Présence Contrat | CD18: Taux Présence | DA18: Total Heures | DB18: =IFERROR(IF(COUNTIF(absences,D19)>0,"",ADDRESS(ROW(),COLUMN()+75+DB2,4,1)-ADDRESS(ROW(),COLUMN()+74+DB2,4,1)),"")
