Workbook
Name absences: Parametres!$M$2:$M$14
Name An: Parametres!$A$3
Name choix: Novembre!$D$19:$BK$65,Novembre!$D$67:$BK$68,Novembre!#REF!
Name choix: #REF!,#REF!,#REF!
Name Fériés: Parametres!$I$3:$I$13
Name jr_dates: #REF!,#REF!,#REF!,#REF!,#REF!,#REF!,#REF!,#REF!,#REF!,#REF!,#REF!,#REF!
Name lig: INDIRECT(TEXT(#REF!,"mmmm")&"!$A$3:$A$37")
Name NB_Repas: OFFSET(Novembre!$B$18,1,COLUMN()-2,COUNTA(Novembre!$B$19:$B$69))
Name NB_Repas: OFFSET(#REF!,1,COLUMN()-2,COUNTA(#REF!))
Name test: OFFSET(Novembre!XEW6,1,COLUMN(),COUNTA(Novembre!$B$19:$B$69))
Name test: OFFSET(#REF!,1,COLUMN(),COUNTA(#REF!))

Sheet Parametres
M1: LEGENDE
A2: Année | C2: Mois | D2: N° | F2: Mois sélectionné | I2: {=ROUND(DATE(An,4,MOD(234-11*MOD(An,19),30))/7,0)*7-6} -> 45767 | J2: Pâques | M2: AT | N2: ACCIDENT DE TRAVAIL
A3: 2025 | C3: Janvier | D3: 1 | F3: N° du mois : | G3: =VLOOKUP(Mois_ref,Table_Mois,2,0) -> #NAME? | I3: =DATE(An,1,1) -> 45658 | M3: A | N3: ABSENCE MALADIE | O3: AT | P3: A | Q3: C | R3: CP | S3: CMAT | T3: CSS | U3: ABS | V3: MAD | W3: STA | X3: ENF | Y3: EVF | AA3: R | AB3: F | AC3: JA
C4: Février | D4: 2 | F4: Premier jour du mois : | G4: =DATE(An_ref,Num_Mois,1) -> #NAME? | I4: =DATE(An,5,1) -> 45778 | M4: C | N4: CARENCE MALADIE
C5: Mars | D5: 3 | F5: Premier jour du mois suivant : | G5: =DATE(An_ref,Num_Mois+1,1) -> #NAME? | I5: =DATE(An,5,8) -> 45785 | M5: CMAT | N5: CONGE PATERNITE/MATERNITE
C6: Avril | D6: 4 | F6: Nom du premier jour du mois : | G6: =TEXT(G4,"jjjj") -> #NAME? | I6: =DATE(An,7,14) -> 45852 | J6: Jours Fériés | M6: CSS | N6: CONGE SANS SOLDE
C7: Mai | D7: 5 | F7: Nombre de jours du mois : | G7: =G5-G4 -> #NAME? | I7: =DATE(An,8,15) -> 45884 | M7: ABS | N7: ABS SS JUSTIFICATIF
C8: Juin | D8: 6 | F8: Dernier jour du mois : | G8: =G4+NB_Jours-1 -> #NAME? | I8: =DATE(An,11,1) -> 45962 | M8: MAD | N8: MISE A DISPOSITION
C9: Juillet | D9: 7 | I9: =DATE(An,12,25) -> 46016 | M9: ENF | N9: CONGE ENFANT MALADE
C10: Août | D10: 8 | F10: Date d'aujourd'hui (jour) : | G10: =DAY(TODAY()) -> 13 | I10: =DATE(An,11,11) -> 45972 | M10: EVF | N10: CONGE EVENEMENT FAMILIAL
C11: Septembre | D11: 9 | F11: Mise en forme conditionnelle : | G11: =IF(AND(MONTH(TODAY())=Num_Mois,YEAR(TODAY())=Année),Date_jour,"") -> #NAME? | I11: =I2+1 -> 45768 | M11: CP | N11: CONGES PAYES
C12: Octobre | D12: 10 | I12: =I2+39 -> 45806 | J12: selon Pâques | M12: REC | N12: RECUP
C13: Novembre | D13: 11 | I13: =I2+50 -> 45817 | M13: STA | N13: STAGE | S13: pour la prépa paie
C14: Décembre | D14: 12 | M14: TP | N14: Temps partiel
M15: MTT | N15: Temps partiel thérapeutique
M16: F | N16: Férié | V16: noter "n" devant la valeur de la cellule lorsqu'il y a une information relative à une absence. ex : départ avant l'heure de fin de journée ou arrivée en retard, pour détecter une déduction horaire lors de la prépa paie -la cellule se mettera en rose (couleur des absences)
J17: PCP | M17: JA | N17: Journée associative
N18: PRESTATION EXT (Ste Marie…)
M19: ABC | N19: EL
M20: ABC | N20: 2 métiers
M21: 0.5 | N21: ATELIER SOUTIEN/FORMATION
M22: EA | N22: Entreprise Adaptée | V22: noter "! " devant la valeur de la cellule lorsqu'il y a une information en attente de validation. ex : demande de congé en attente de validation -la cellule se mettera en jaune (couleur du "attention info à revoir")
M23: 0.5 | N23: MCCP
M25: PERM | N25: 0.125

Sheet Semaine type
A1: Num jour semaine | B1: 1 | C1: 1 | D1: 2 | E1: 2 | F1: 3 | G1: 3 | H1: 4 | I1: 4 | J1: 5 | K1: 5
A2: Num demi journée | B2: 1 | C2: 2 | D2: 3 | E2: 4 | F2: 5 | G2: 6 | H2: 7 | I2: 8 | J2: 9 | K2: 10 | L2: At1 | M2: At1 | O2: At2 | Q2: At3 | V2: 1 | W2: 2 | X2: 3 | Y2: 4 | Z2: 5 | AA2: 6 | AB2: 7 | AC2: 8 | AD2: 9 | AE2: 10 | AF2: 1 | AG2: 2 | AH2: 3 | AI2: 4 | AJ2: 5 | AK2: 6 | AL2: 7 | AM2: 8 | AN2: 9 | AO2: 10 | AP2: 11 | AQ2: 12 | AR2: 13 | AS2: 14 | AT2: 15 | AU2: 16 | AV2: 17 | AW2: 18 | AX2: 19 | AY2: 20
B3: =DATE(YEAR($A$3),MONTH($A$3),B1) -> 1 | C3: =DATE(YEAR($A$3),MONTH($A$3),C1) -> 1 | D3: =DATE(YEAR($A$3),MONTH($A$3),D1) -> 2 | E3: =DATE(YEAR($A$3),MONTH($A$3),E1) -> 2 | F3: =DATE(YEAR($A$3),MONTH($A$3),F1) -> 3 | G3: =DATE(YEAR($A$3),MONTH($A$3),G1) -> 3 | H3: =DATE(YEAR($A$3),MONTH($A$3),H1) -> 4 | I3: =DATE(YEAR($A$3),MONTH($A$3),I1) -> 4 | ... K3: =DATE(YEAR($A$3),MONTH($A$3),K1) -> 5 | O3: At3
A4: Pro1 | B4: EV. | C4: EV | D4: EV. | E4: EV | F4: EV. | G4: EV | H4: EV. | I4: EV | J4: EV. | L4: =M4&" "&O4 -> EV | M4: EV | N4: =SUMIFS($V4:$AE4, $B4:$K4, M4 & "*") -> 1.375 | P4: =IF(O4<>"",SUMIFS($V4:$AE4, $B4:$K4, O4 & "*"),"") | U4: =SUM(V4:AE4) -> 1.375 | V4: =IFERROR(AG4-AF4,0) -> 0.15972222 | W4: =IFERROR(AI4-AH4,0) -> 0.14583333 | X4: =IFERROR(AK4-AJ4,0) -> 0.15972222 | Y4: =IFERROR(AM4-AL4,0) -> 0.14583333 | Z4: =IFERROR(AO4-AN4,0) -> 0.15972222 | AA4: =IFERROR(AQ4-AP4,0) -> 0.14583333 | AB4: =IFERROR(AS4-AR4,0) -> 0.15972222 | AC4: =IFERROR(AU4-AT4,0) -> 0.13888889 | AD4: =IFERROR(AW4-AV4,0) -> 0.15972222 | AE4: =IFERROR(AY4-AX4,0) -> 0 | AF4: 0.36458333 | AG4: 0.52430556 | AH4: 0.5625 | AI4: 0.70833333 | AJ4: 0.36458333 | AK4: 0.52430556 | AL4: 0.5625 | AM4: 0.70833333 | AN4: 0.36458333 | AO4: 0.52430556 | AP4: 0.5625 | AQ4: 0.70833333 | AR4: 0.36458333 | AS4: 0.52430556 | AT4: 0.5625 | AU4: 0.70138889 | AV4: 0.36458333 | AW4: 0.52430556
A5: Pro2 | B5: STI. | C5: STI | D5: STI. | E5: STI | H5: STI. | I5: STI | L5: =M5&" "&O5 -> STI | M5: STI | N5: =SUMIFS($V5:$AE5, $B5:$K5, M5 & "*") -> 0.90972222 | P5: =IF(O5<>"",SUMIFS($V5:$AE5, $B5:$K5, O5 & "*"),"") | U5: =SUM(V5:AE5) -> 0.90972222 | V5: =IFERROR(AG5-AF5,0) -> 0.15972222 | W5: =IFERROR(AI5-AH5,0) -> 0.14583333 | X5: =IFERROR(AK5-AJ5,0) -> 0.15972222 | Y5: =IFERROR(AM5-AL5,0) -> 0.14583333 | Z5: =IFERROR(AO5-AN5,0) -> 0 | AA5: =IFERROR(AQ5-AP5,0) -> 0 | AB5: =IFERROR(AS5-AR5,0) -> 0.15972222 | AC5: =IFERROR(AU5-AT5,0) -> 0.13888889 | AD5: =IFERROR(AW5-AV5,0) -> 0 | AE5: =IFERROR(AY5-AX5,0) -> 0 | AF5: 0.36458333 | AG5: 0.52430556 | AH5: 0.5625 | AI5: 0.70833333 | AJ5: 0.36458333 | AK5: 0.52430556 | AL5: 0.5625 | AM5: 0.70833333 | AR5: 0.36458333 | AS5: 0.52430556 | AT5: 0.5625 | AU5: 0.70138889
A6: Pro3 | B6: STI / R. | C6: R | D6: STI / R. | E6: R | F6: STI / R. | G6: R | H6: STI / R. | I6: R | L6: =M6&" "&O6 -> R STI | M6: R | N6: =SUMIFS($V6:$AE6, $B6:$K6, M6 & "*") -> 0.5 | O6: STI | P6: =IF(O6<>"",SUMIFS($V6:$AE6, $B6:$K6, O6 & "*"),"") -> 0.375 | U6: =SUM(V6:AE6) -> 0.875 | V6: =IFERROR(AG6-AF6,0) -> 0.09375 | W6: =IFERROR(AI6-AH6,0) -> 0.125 | X6: =IFERROR(AK6-AJ6,0) -> 0.09375 | Y6: =IFERROR(AM6-AL6,0) -> 0.125 | Z6: =IFERROR(AO6-AN6,0) -> 0.09375 | AA6: =IFERROR(AQ6-AP6,0) -> 0.125 | AB6: =IFERROR(AS6-AR6,0) -> 0.09375 | AC6: =IFERROR(AU6-AT6,0) -> 0.125 | AD6: =IFERROR(AW6-AV6,0) -> 0 | AE6: =IFERROR(AY6-AX6,0) -> 0 | AF6: 0.36458333 | AG6: 0.45833333 | AH6: 0.52083333 | AI6: 0.64583333 | AJ6: 0.36458333 | AK6: 0.45833333 | AL6: 0.52083333 | AM6: 0.64583333 | AN6: 0.36458333 | AO6: 0.45833333 | AP6: 0.52083333 | AQ6: 0.64583333 | AR6: 0.36458333 | AS6: 0.45833333 | AT6: 0.52083333 | AU6: 0.64583333
A7: Pro4 | B7: PA. | C7: PA | D7: EL. | E7: EL | H7: EL. | I7: PA | J7: EL | L7: =M7&" "&O7 -> EL PA | M7: EL | N7: =SUMIFS($V7:$AE7, $B7:$K7, M7 & "*") -> 0.625 | O7: PA | P7: =IF(O7<>"",SUMIFS($V7:$AE7, $B7:$K7, O7 & "*"),"") -> 0.44444444 | U7: =SUM(V7:AE7) -> 1.0694444 | V7: =IFERROR(AG7-AF7,0) -> 0.15972222 | W7: =IFERROR(AI7-AH7,0) -> 0.14583333 | X7: =IFERROR(AK7-AJ7,0) -> 0.15972222 | Y7: =IFERROR(AM7-AL7,0) -> 0.14583333 | Z7: =IFERROR(AO7-AN7,0) -> 0 | AA7: =IFERROR(AQ7-AP7,0) -> 0 | AB7: =IFERROR(AS7-AR7,0) -> 0.15972222 | AC7: =IFERROR(AU7-AT7,0) -> 0.13888889 | AD7: =IFERROR(AW7-AV7,0) -> 0.15972222 | AE7: =IFERROR(AY7-AX7,0) -> 0 | AF7: 0.36458333 | AG7: 0.52430556 | AH7: 0.5625 | AI7: 0.70833333 | AJ7: 0.36458333 | AK7: 0.52430556 | AL7: 0.5625 | AM7: 0.70833333 | AR7: 0.36458333 | AS7: 0.52430556 | AT7: 0.5625 | AU7: 0.70138889 | AV7: 0.36458333 | AW7: 0.52430556
A8: Pro5 | B8: PA. | D8: EL. | F8: . | G8: EL | H8: . | I8: EL | J8: PA. | L8: =M8&" "&O8 -> EL PA | M8: EL | N8: =SUMIFS($V8:$AE8, $B8:$K8, M8 & "*") -> 0.44444444 | O8: PA | P8: =IF(O8<>"",SUMIFS($V8:$AE8, $B8:$K8, O8 & "*"),"") -> 0.31944444 | U8: =SUM(V8:AE8) -> 1.375 | V8: =IFERROR(AG8-AF8,0) -> 0.15972222 | W8: =IFERROR(AI8-AH8,0) -> 0.14583333 | X8: =IFERROR(AK8-AJ8,0) -> 0.15972222 | Y8: =IFERROR(AM8-AL8,0) -> 0.14583333 | Z8: =IFERROR(AO8-AN8,0) -> 0.15972222 | AA8: =IFERROR(AQ8-AP8,0) -> 0.14583333 | AB8: =IFERROR(AS8-AR8,0) -> 0.15972222 | AC8: =IFERROR(AU8-AT8,0) -> 0.13888889 | AD8: =IFERROR(AW8-AV8,0) -> 0.15972222 | AE8: =IFERROR(AY8-AX8,0) -> 0 | AF8: 0.36458333 | AG8: 0.52430556 | AH8: 0.5625 | AI8: 0.70833333 | AJ8: 0.36458333 | AK8: 0.52430556 | AL8: 0.5625 | AM8: 0.70833333 | AN8: 0.36458333 | AO8: 0.52430556 | AP8: 0.5625 | AQ8: 0.70833333 | AR8: 0.36458333 | AS8: 0.52430556 | AT8: 0.5625 | AU8: 0.70138889 | AV8: 0.36458333 | AW8: 0.52430556
A9: Pro6 | B9: STI. | C9: STI | D9: STI. | E9: STI | F9: STI. | G9: STI | H9: STI. | I9: STI | J9: STI | L9: =M9&" "&O9 -> STI | M9: STI | N9: =SUMIFS($V9:$AE9, $B9:$K9, M9 & "*") -> 0.29166667 | P9: =IF(O9<>"",SUMIFS($V9:$AE9, $B9:$K9, O9 & "*"),"") | U9: =SUM(V9:AE9) -> 0.29166667 | V9: =IFERROR(AG9-AF9,0) -> 0 | W9: =IFERROR(AI9-AH9,0) -> 0.14583333 | X9: =IFERROR(AK9-AJ9,0) -> 0 | Y9: =IFERROR(AM9-AL9,0) -> 0 | Z9: =IFERROR(AO9-AN9,0) -> 0 | AA9: =IFERROR(AQ9-AP9,0) -> 0.14583333 | AB9: =IFERROR(AS9-AR9,0) -> 0 | AC9: =IFERROR(AU9-AT9,0) -> 0 | AD9: =IFERROR(AW9-AV9,0) -> 0 | AE9: =IFERROR(AY9-AX9,0) -> 0 | AH9: 0.5625 | AI9: 0.70833333 | AP9: 0.5625 | AQ9: 0.70833333
A10: Pro7 | B10: EV. | C10: EV | D10: EV. | E10: EV | F10: EV. | G10: EV | H10: EV. | I10: EV | J10: EV | L10: =M10&" "&O10 -> EV | M10: EV | N10: =SUMIFS($V10:$AE10, $B10:$K10, M10 & "*") -> 0.76388889 | P10: =IF(O10<>"",SUMIFS($V10:$AE10, $B10:$K10, O10 & "*"),"") | U10: =SUM(V10:AE10) -> 0.76388889 | V10: =IFERROR(AG10-AF10,0) -> 0.15972222 | W10: =IFERROR(AI10-AH10,0) -> 0 | X10: =IFERROR(AK10-AJ10,0) -> 0.15972222 | Y10: =IFERROR(AM10-AL10,0) -> 0 | Z10: =IFERROR(AO10-AN10,0) -> 0 | AA10: =IFERROR(AQ10-AP10,0) -> 0.14583333 | AB10: =IFERROR(AS10-AR10,0) -> 0 | AC10: =IFERROR(AU10-AT10,0) -> 0.13888889 | AD10: =IFERROR(AW10-AV10,0) -> 0.15972222 | AE10: =IFERROR(AY10-AX10,0) -> 0 | AF10: 0.36458333 | AG10: 0.52430556 | AJ10: 0.36458333 | AK10: 0.52430556 | AP10: 0.5625 | AQ10: 0.70833333 | AT10: 0.5625 | AU10: 0.70138889 | AV10: 0.36458333 | AW10: 0.52430556
A11: Pro8 | B11: STI. | C11: STI | D11: STI. | E11: STI | H11: STI. | I11: STI | J11: STI | L11: =M11&" "&O11 -> STI | M11: STI | N11: =SUMIFS($V11:$AE11, $B11:$K11, M11 & "*") -> 1.0694444 | P11: =IF(O11<>"",SUMIFS($V11:$AE11, $B11:$K11, O11 & "*"),"") | U11: =SUM(V11:AE11) -> 1.375 | V11: =IFERROR(AG11-AF11,0) -> 0.15972222 | W11: =IFERROR(AI11-AH11,0) -> 0.14583333 | X11: =IFERROR(AK11-AJ11,0) -> 0.15972222 | Y11: =IFERROR(AM11-AL11,0) -> 0.14583333 | Z11: =IFERROR(AO11-AN11,0) -> 0.15972222 | AA11: =IFERROR(AQ11-AP11,0) -> 0.14583333 | AB11: =IFERROR(AS11-AR11,0) -> 0.15972222 | AC11: =IFERROR(AU11-AT11,0) -> 0.13888889 | AD11: =IFERROR(AW11-AV11,0) -> 0.15972222 | AE11: =IFERROR(AY11-AX11,0) -> 0 | AF11: 0.36458333 | AG11: 0.52430556 | AH11: 0.5625 | AI11: 0.70833333 | AJ11: 0.36458333 | AK11: 0.52430556 | AL11: 0.5625 | AM11: 0.70833333 | AN11: 0.36458333 | AO11: 0.52430556 | AP11: 0.5625 | AQ11: 0.70833333 | AR11: 0.36458333 | AS11: 0.52430556 | AT11: 0.5625 | AU11: 0.70138889 | AV11: 0.36458333 | AW11: 0.52430556
A12: Pro9 | B12: EL. | C12: EL | D12: EL. | E12: EL | F12: EL. | G12: EL | H12: EL. | I12: EL | J12: EL. | L12: =M12&" "&O12 -> EL | M12: EL | N12: =SUMIFS($V12:$AE12, $B12:$K12, M12 & "*") -> 1.375 | P12: =IF(O12<>"",SUMIFS($V12:$AE12, $B12:$K12, O12 & "*"),"") | U12: =SUM(V12:AE12) -> 1.375 | V12: =IFERROR(AG12-AF12,0) -> 0.15972222 | W12: =IFERROR(AI12-AH12,0) -> 0.14583333 | X12: =IFERROR(AK12-AJ12,0) -> 0.15972222 | Y12: =IFERROR(AM12-AL12,0) -> 0.14583333 | Z12: =IFERROR(AO12-AN12,0) -> 0.15972222 | AA12: =IFERROR(AQ12-AP12,0) -> 0.14583333 | AB12: =IFERROR(AS12-AR12,0) -> 0.15972222 | AC12: =IFERROR(AU12-AT12,0) -> 0.13888889 | AD12: =IFERROR(AW12-AV12,0) -> 0.15972222 | AE12: =IFERROR(AY12-AX12,0) -> 0 | AF12: 0.36458333 | AG12: 0.52430556 | AH12: 0.5625 | AI12: 0.70833333 | AJ12: 0.36458333 | AK12: 0.52430556 | AL12: 0.5625 | AM12: 0.70833333 | AN12: 0.36458333 | AO12: 0.52430556 | AP12: 0.5625 | AQ12: 0.70833333 | AR12: 0.36458333 | AS12: 0.52430556 | AT12: 0.5625 | AU12: 0.70138889 | AV12: 0.36458333 | AW12: 0.52430556
A13: Pro10 | B13: MAD | C13: MAD | D13: MAD | E13: MAD | F13: MAD | G13: MAD | H13: MAD | I13: MAD | J13: MAD | L13: =M13&" "&O13 | N13: =SUMIFS($V13:$AE13, $B13:$K13, M13 & "*") -> 1.0694444 | P13: =IF(O13<>"",SUMIFS($V13:$AE13, $B13:$K13, O13 & "*"),"") | U13: =SUM(V13:AE13) -> 1.0694444 | V13: =IFERROR(AG13-AF13,0) -> 0.15972222 | W13: =IFERROR(AI13-AH13,0) -> 0.14583333 | X13: =IFERROR(AK13-AJ13,0) -> 0.15972222 | Y13: =IFERROR(AM13-AL13,0) -> 0.14583333 | Z13: =IFERROR(AO13-AN13,0) -> 0 | AA13: =IFERROR(AQ13-AP13,0) -> 0 | AB13: =IFERROR(AS13-AR13,0) -> 0.15972222 | AC13: =IFERROR(AU13-AT13,0) -> 0.13888889 | AD13: =IFERROR(AW13-AV13,0) -> 0.15972222 | AE13: =IFERROR(AY13-AX13,0) -> 0 | AF13: 0.36458333 | AG13: 0.52430556 | AH13: 0.5625 | AI13: 0.70833333 | AJ13: 0.36458333 | AK13: 0.52430556 | AL13: 0.5625 | AM13: 0.70833333 | AR13: 0.36458333 | AS13: 0.52430556 | AT13: 0.5625 | AU13: 0.70138889 | AV13: 0.36458333 | AW13: 0.52430556
A14: Pro11 | B14: CONS. | C14: CONS | D14: CONS. | E14: CONS | F14: CONS. | G14: CONS | H14: CONS. | I14: CONS | J14: CONS. | L14: =M14&" "&O14 -> CONS | M14: CONS | N14: =SUMIFS($V14:$AE14, $B14:$K14, M14 & "*") -> 1.375 | P14: =IF(O14<>"",SUMIFS($V14:$AE14, $B14:$K14, O14 & "*"),"") | U14: =SUM(V14:AE14) -> 1.375 | V14: =IFERROR(AG14-AF14,0) -> 0.15972222 | W14: =IFERROR(AI14-AH14,0) -> 0.14583333 | X14: =IFERROR(AK14-AJ14,0) -> 0.15972222 | Y14: =IFERROR(AM14-AL14,0) -> 0.14583333 | Z14: =IFERROR(AO14-AN14,0) -> 0.15972222 | AA14: =IFERROR(AQ14-AP14,0) -> 0.14583333 | AB14: =IFERROR(AS14-AR14,0) -> 0.15972222 | AC14: =IFERROR(AU14-AT14,0) -> 0.13888889 | AD14: =IFERROR(AW14-AV14,0) -> 0.15972222 | AE14: =IFERROR(AY14-AX14,0) -> 0 | AF14: 0.36458333 | AG14: 0.52430556 | AH14: 0.5625 | AI14: 0.70833333 | AJ14: 0.36458333 | AK14: 0.52430556 | AL14: 0.5625 | AM14: 0.70833333 | AN14: 0.36458333 | AO14: 0.52430556 | AP14: 0.5625 | AQ14: 0.70833333 | AR14: 0.36458333 | AS14: 0.52430556 | AT14: 0.5625 | AU14: 0.70138889 | AV14: 0.36458333 | AW14: 0.52430556
A15: Pro12 | B15: STI. | C15: STI | F15: STI. | G15: STI | H15: STI. | I15: STI | L15: =M15&" "&O15 -> STI | M15: STI | N15: =SUMIFS($V15:$AE15, $B15:$K15, M15 & "*") -> 0.90972222 | P15: =IF(O15<>"",SUMIFS($V15:$AE15, $B15:$K15, O15 & "*"),"") | U15: =SUM(V15:AE15) -> 1.375 | V15: =IFERROR(AG15-AF15,0) -> 0.15972222 | W15: =IFERROR(AI15-AH15,0) -> 0.14583333 | X15: =IFERROR(AK15-AJ15,0) -> 0.15972222 | Y15: =IFERROR(AM15-AL15,0) -> 0.14583333 | Z15: =IFERROR(AO15-AN15,0) -> 0.15972222 | AA15: =IFERROR(AQ15-AP15,0) -> 0.14583333 | AB15: =IFERROR(AS15-AR15,0) -> 0.15972222 | AC15: =IFERROR(AU15-AT15,0) -> 0.13888889 | AD15: =IFERROR(AW15-AV15,0) -> 0.15972222 | AE15: =IFERROR(AY15-AX15,0) -> 0 | AF15: 0.36458333 | AG15: 0.52430556 | AH15: 0.5625 | AI15: 0.70833333 | AJ15: 0.36458333 | AK15: 0.52430556 | AL15: 0.5625 | AM15: 0.70833333 | AN15: 0.36458333 | AO15: 0.52430556 | AP15: 0.5625 | AQ15: 0.70833333 | AR15: 0.36458333 | AS15: 0.52430556 | AT15: 0.5625 | AU15: 0.70138889 | AV15: 0.36458333 | AW15: 0.52430556
A16: Pro13 | B16: STI. | C16: STI | D16: STI. | E16: STI | F16: STI. | G16: STI | H16: STI. | I16: STI | J16: STI | L16: =M16&" "&O16 -> STI FT | M16: STI | N16: =SUMIFS($V16:$AE16, $B16:$K16, M16 & "*") -> 1.375 | O16: FT | P16: =IF(O16<>"",SUMIFS($V16:$AE16, $B16:$K16, O16 & "*"),"") -> 0 | U16: =SUM(V16:AE16) -> 1.375 | V16: =IFERROR(AG16-AF16,0) -> 0.15972222 | W16: =IFERROR(AI16-AH16,0) -> 0.14583333 | X16: =IFERROR(AK16-AJ16,0) -> 0.15972222 | Y16: =IFERROR(AM16-AL16,0) -> 0.14583333 | Z16: =IFERROR(AO16-AN16,0) -> 0.15972222 | AA16: =IFERROR(AQ16-AP16,0) -> 0.14583333 | AB16: =IFERROR(AS16-AR16,0) -> 0.15972222 | AC16: =IFERROR(AU16-AT16,0) -> 0.13888889 | AD16: =IFERROR(AW16-AV16,0) -> 0.15972222 | AE16: =IFERROR(AY16-AX16,0) -> 0 | AF16: 0.36458333 | AG16: 0.52430556 | AH16: 0.5625 | AI16: 0.70833333 | AJ16: 0.36458333 | AK16: 0.52430556 | AL16: 0.5625 | AM16: 0.70833333 | AN16: 0.36458333 | AO16: 0.52430556 | AP16: 0.5625 | AQ16: 0.70833333 | AR16: 0.36458333 | AS16: 0.52430556 | AT16: 0.5625 | AU16: 0.70138889 | AV16: 0.36458333 | AW16: 0.52430556
A17: Pro14 | B17: STI. | C17: STI | D17: STI. | E17: STI | F17: STI. | G17: STI | H17: STI. | I17: STI | J17: STI. | L17: =M17&" "&O17 -> STI | M17: STI | N17: =SUMIFS($V17:$AE17, $B17:$K17, M17 & "*") -> 1.375 | P17: =IF(O17<>"",SUMIFS($V17:$AE17, $B17:$K17, O17 & "*"),"") | U17: =SUM(V17:AE17) -> 1.375 | V17: =IFERROR(AG17-AF17,0) -> 0.15972222 | W17: =IFERROR(AI17-AH17,0) -> 0.14583333 | X17: =IFERROR(AK17-AJ17,0) -> 0.15972222 | Y17: =IFERROR(AM17-AL17,0) -> 0.14583333 | Z17: =IFERROR(AO17-AN17,0) -> 0.15972222 | AA17: =IFERROR(AQ17-AP17,0) -> 0.14583333 | AB17: =IFERROR(AS17-AR17,0) -> 0.15972222 | AC17: =IFERROR(AU17-AT17,0) -> 0.13888889 | AD17: =IFERROR(AW17-AV17,0) -> 0.15972222 | AE17: =IFERROR(AY17-AX17,0) -> 0 | AF17: 0.36458333 | AG17: 0.52430556 | AH17: 0.5625 | AI17: 0.70833333 | AJ17: 0.36458333 | AK17: 0.52430556 | AL17: 0.5625 | AM17: 0.70833333 | AN17: 0.36458333 | AO17: 0.52430556 | AP17: 0.5625 | AQ17: 0.70833333 | AR17: 0.36458333 | AS17: 0.52430556 | AT17: 0.5625 | AU17: 0.70138889 | AV17: 0.36458333 | AW17: 0.52430556
A18: Pro15 | B18: EV. | C18: EV | D18: EV. | E18: EV | F18: EV. | G18: EV | H18: EV. | I18: EV | J18: EV. | L18: =M18&" "&O18 -> EV | M18: EV | N18: =SUMIFS($V18:$AE18, $B18:$K18, M18 & "*") -> 1.375 | P18: =IF(O18<>"",SUMIFS($V18:$AE18, $B18:$K18, O18 & "*"),"") | U18: =SUM(V18:AE18) -> 1.375 | V18: =IFERROR(AG18-AF18,0) -> 0.15972222 | W18: =IFERROR(AI18-AH18,0) -> 0.14583333 | X18: =IFERROR(AK18-AJ18,0) -> 0.15972222 | Y18: =IFERROR(AM18-AL18,0) -> 0.14583333 | Z18: =IFERROR(AO18-AN18,0) -> 0.15972222 | AA18: =IFERROR(AQ18-AP18,0) -> 0.14583333 | AB18: =IFERROR(AS18-AR18,0) -> 0.15972222 | AC18: =IFERROR(AU18-AT18,0) -> 0.13888889 | AD18: =IFERROR(AW18-AV18,0) -> 0.15972222 | AE18: =IFERROR(AY18-AX18,0) -> 0 | AF18: 0.36458333 | AG18: 0.52430556 | AH18: 0.5625 | AI18: 0.70833333 | AJ18: 0.36458333 | AK18: 0.52430556 | AL18: 0.5625 | AM18: 0.70833333 | AN18: 0.36458333 | AO18: 0.52430556 | AP18: 0.5625 | AQ18: 0.70833333 | AR18: 0.36458333 | AS18: 0.52430556 | AT18: 0.5625 | AU18: 0.70138889 | AV18: 0.36458333 | AW18: 0.52430556
A19: Pro16 | B19: R. | C19: R | D19: R. | E19: R | F19: R. | G19: R | H19: R. | I19: R | L19: =M19&" "&O19 -> R | M19: R | N19: =SUMIFS($V19:$AE19, $B19:$K19, M19 & "*") -> 0.90972222 | P19: =IF(O19<>"",SUMIFS($V19:$AE19, $B19:$K19, O19 & "*"),"") | U19: =SUM(V19:AE19) -> 0.90972222 | V19: =IFERROR(AG19-AF19,0) -> 0.15972222 | W19: =IFERROR(AI19-AH19,0) -> 0.14583333 | X19: =IFERROR(AK19-AJ19,0) -> 0 | Y19: =IFERROR(AM19-AL19,0) -> 0 | Z19: =IFERROR(AO19-AN19,0) -> 0.15972222 | AA19: =IFERROR(AQ19-AP19,0) -> 0.14583333 | AB19: =IFERROR(AS19-AR19,0) -> 0.15972222 | AC19: =IFERROR(AU19-AT19,0) -> 0.13888889 | AD19: =IFERROR(AW19-AV19,0) -> 0 | AE19: =IFERROR(AY19-AX19,0) -> 0 | AF19: 0.36458333 | AG19: 0.52430556 | AH19: 0.5625 | AI19: 0.70833333 | AN19: 0.36458333 | AO19: 0.52430556 | AP19: 0.5625 | AQ19: 0.70833333 | AR19: 0.36458333 | AS19: 0.52430556 | AT19: 0.5625 | AU19: 0.70138889
A20: Pro17 | B20: EL. | C20: EL | F20: EL. | G20: EL | J20: EL | L20: =M20&" "&O20 -> EL | M20: EL | N20: =SUMIFS($V20:$AE20, $B20:$K20, M20 & "*") -> 0.77083333 | P20: =IF(O20<>"",SUMIFS($V20:$AE20, $B20:$K20, O20 & "*"),"") | U20: =SUM(V20:AE20) -> 1.375 | V20: =IFERROR(AG20-AF20,0) -> 0.15972222 | W20: =IFERROR(AI20-AH20,0) -> 0.14583333 | X20: =IFERROR(AK20-AJ20,0) -> 0.15972222 | Y20: =IFERROR(AM20-AL20,0) -> 0.14583333 | Z20: =IFERROR(AO20-AN20,0) -> 0.15972222 | AA20: =IFERROR(AQ20-AP20,0) -> 0.14583333 | AB20: =IFERROR(AS20-AR20,0) -> 0.15972222 | AC20: =IFERROR(AU20-AT20,0) -> 0.13888889 | AD20: =IFERROR(AW20-AV20,0) -> 0.15972222 | AE20: =IFERROR(AY20-AX20,0) -> 0 | AF20: 0.36458333 | AG20: 0.52430556 | AH20: 0.5625 | AI20: 0.70833333 | AJ20: 0.36458333 | AK20: 0.52430556 | AL20: 0.5625 | AM20: 0.70833333 | AN20: 0.36458333 | AO20: 0.52430556 | AP20: 0.5625 | AQ20: 0.70833333 | AR20: 0.36458333 | AS20: 0.52430556 | AT20: 0.5625 | AU20: 0.70138889 | AV20: 0.36458333 | AW20: 0.52430556
A21: Pro18 | B21: EV. | C21: EV | D21: EV. | E21: EV | F21: EV. | G21: EV | H21: EV. | I21: EV | J21: EV | L21: =M21&" "&O21 -> EV | M21: EV | N21: =SUMIFS($V21:$AE21, $B21:$K21, M21 & "*") -> 1.375 | P21: =IF(O21<>"",SUMIFS($V21:$AE21, $B21:$K21, O21 & "*"),"") | U21: =SUM(V21:AE21) -> 1.375 | V21: =IFERROR(AG21-AF21,0) -> 0.15972222 | W21: =IFERROR(AI21-AH21,0) -> 0.14583333 | X21: =IFERROR(AK21-AJ21,0) -> 0.15972222 | Y21: =IFERROR(AM21-AL21,0) -> 0.14583333 | Z21: =IFERROR(AO21-AN21,0) -> 0.15972222 | AA21: =IFERROR(AQ21-AP21,0) -> 0.14583333 | AB21: =IFERROR(AS21-AR21,0) -> 0.15972222 | AC21: =IFERROR(AU21-AT21,0) -> 0.13888889 | AD21: =IFERROR(AW21-AV21,0) -> 0.15972222 | AE21: =IFERROR(AY21-AX21,0) -> 0 | AF21: 0.36458333 | AG21: 0.52430556 | AH21: 0.5625 | AI21: 0.70833333 | AJ21: 0.36458333 | AK21: 0.52430556 | AL21: 0.5625 | AM21: 0.70833333 | AN21: 0.36458333 | AO21: 0.52430556 | AP21: 0.5625 | AQ21: 0.70833333 | AR21: 0.36458333 | AS21: 0.52430556 | AT21: 0.5625 | AU21: 0.70138889 | AV21: 0.36458333 | AW21: 0.52430556
A22: Pro19 | B22: CONS. | C22: CONS | D22: CONS. | E22: CONS | F22: CONS. | G22: CONS | H22: CONS. | I22: CONS | J22: CONS | L22: =M22&" "&O22 -> CONS | M22: CONS | N22: =SUMIFS($V22:$AE22, $B22:$K22, M22 & "*") -> 1.375 | P22: =IF(O22<>"",SUMIFS($V22:$AE22, $B22:$K22, O22 & "*"),"") | U22: =SUM(V22:AE22) -> 1.375 | V22: =IFERROR(AG22-AF22,0) -> 0.15972222 | W22: =IFERROR(AI22-AH22,0) -> 0.14583333 | X22: =IFERROR(AK22-AJ22,0) -> 0.15972222 | Y22: =IFERROR(AM22-AL22,0) -> 0.14583333 | Z22: =IFERROR(AO22-AN22,0) -> 0.15972222 | AA22: =IFERROR(AQ22-AP22,0) -> 0.14583333 | AB22: =IFERROR(AS22-AR22,0) -> 0.15972222 | AC22: =IFERROR(AU22-AT22,0) -> 0.13888889 | AD22: =IFERROR(AW22-AV22,0) -> 0.15972222 | AE22: =IFERROR(AY22-AX22,0) -> 0 | AF22: 0.36458333 | AG22: 0.52430556 | AH22: 0.5625 | AI22: 0.70833333 | AJ22: 0.36458333 | AK22: 0.52430556 | AL22: 0.5625 | AM22: 0.70833333 | AN22: 0.36458333 | AO22: 0.52430556 | AP22: 0.5625 | AQ22: 0.70833333 | AR22: 0.36458333 | AS22: 0.52430556 | AT22: 0.5625 | AU22: 0.70138889 | AV22: 0.36458333 | AW22: 0.52430556
A23: Pro20 | B23: STI. | C23: STI | D23: EL. | E23: EL | H23: EL. | I23: STI | J23: STI | L23: =M23&" "&O23 -> STI EL | M23: STI | N23: =SUMIFS($V23:$AE23, $B23:$K23, M23 & "*") -> 0.32291667 | O23: EL | P23: =IF(O23<>"",SUMIFS($V23:$AE23, $B23:$K23, O23 & "*"),"") -> 0.27083333 | U23: =SUM(V23:AE23) -> 0.79166667 | V23: =IFERROR(AG23-AF23,0) -> 0.072916667 | W23: =IFERROR(AI23-AH23,0) -> 0.125 | X23: =IFERROR(AK23-AJ23,0) -> 0.072916667 | Y23: =IFERROR(AM23-AL23,0) -> 0.125 | Z23: =IFERROR(AO23-AN23,0) -> 0.072916667 | AA23: =IFERROR(AQ23-AP23,0) -> 0.125 | AB23: =IFERROR(AS23-AR23,0) -> 0.072916667 | AC23: =IFERROR(AU23-AT23,0) -> 0.125 | AD23: =IFERROR(AW23-AV23,0) -> 0 | AE23: =IFERROR(AY23-AX23,0) -> 0 | AF23: 0.41666667 | AG23: 0.48958333 | AH23: 0.52083333 | AI23: 0.64583333 | AJ23: 0.41666667 | AK23: 0.48958333 | AL23: 0.52083333 | AM23: 0.64583333 | AN23: 0.41666667 | AO23: 0.48958333 | AP23: 0.52083333 | AQ23: 0.64583333 | AR23: 0.41666667 | AS23: 0.48958333 | AT23: 0.52083333 | AU23: 0.64583333
A24: Pro21 | B24: ABS | C24: ABS | D24: MAD | E24: MAD | F24: PA. | G24: PA | H24: CONS. | I24: CONS | J24: PA | L24: =M24&" "&O24 -> PA CONS | M24: PA | N24: =SUMIFS($V24:$AE24, $B24:$K24, M24 & "*") -> 0.46527778 | O24: CONS | P24: =IF(O24<>"",SUMIFS($V24:$AE24, $B24:$K24, O24 & "*"),"") -> 0 | U24: =SUM(V24:AE24) -> 0.77083333 | V24: =IFERROR(AG24-AF24,0) -> 0.15972222 | W24: =IFERROR(AI24-AH24,0) -> 0.14583333 | X24: =IFERROR(AK24-AJ24,0) -> 0 | Y24: =IFERROR(AM24-AL24,0) -> 0 | Z24: =IFERROR(AO24-AN24,0) -> 0.15972222 | AA24: =IFERROR(AQ24-AP24,0) -> 0.14583333 | AB24: =IFERROR(AS24-AR24,0) -> 0 | AC24: =IFERROR(AU24-AT24,0) -> 0 | AD24: =IFERROR(AW24-AV24,0) -> 0.15972222 | AE24: =IFERROR(AY24-AX24,0) -> 0 | AF24: 0.36458333 | AG24: 0.52430556 | AH24: 0.5625 | AI24: 0.70833333 | AN24: 0.36458333 | AO24: 0.52430556 | AP24: 0.5625 | AQ24: 0.70833333 | AV24: 0.36458333 | AW24: 0.52430556
A25: Pro22 | B25: PA. | C25: PA | D25: PA. | E25: PA | F25: PA. | G25: PA | H25: PA. | I25: PA | J25: PA. | L25: =M25&" "&O25 -> PA | M25: PA | N25: =SUMIFS($V25:$AE25, $B25:$K25, M25 & "*") -> 1.375 | P25: =IF(O25<>"",SUMIFS($V25:$AE25, $B25:$K25, O25 & "*"),"") | U25: =SUM(V25:AE25) -> 1.375 | V25: =IFERROR(AG25-AF25,0) -> 0.15972222 | W25: =IFERROR(AI25-AH25,0) -> 0.14583333 | X25: =IFERROR(AK25-AJ25,0) -> 0.15972222 | Y25: =IFERROR(AM25-AL25,0) -> 0.14583333 | Z25: =IFERROR(AO25-AN25,0) -> 0.15972222 | AA25: =IFERROR(AQ25-AP25,0) -> 0.14583333 | AB25: =IFERROR(AS25-AR25,0) -> 0.15972222 | AC25: =IFERROR(AU25-AT25,0) -> 0.13888889 | AD25: =IFERROR(AW25-AV25,0) -> 0.15972222 | AE25: =IFERROR(AY25-AX25,0) -> 0 | AF25: 0.36458333 | AG25: 0.52430556 | AH25: 0.5625 | AI25: 0.70833333 | AJ25: 0.36458333 | AK25: 0.52430556 | AL25: 0.5625 | AM25: 0.70833333 | AN25: 0.36458333 | AO25: 0.52430556 | AP25: 0.5625 | AQ25: 0.70833333 | AR25: 0.36458333 | AS25: 0.52430556 | AT25: 0.5625 | AU25: 0.70138889 | AV25: 0.36458333 | AW25: 0.52430556
A26: Pro23 | D26: STI | E26: STI | F26: STI | H26: STI | I26: STI | J26: STI | L26: =M26&" "&O26 -> STI | M26: STI | N26: =SUMIFS($V26:$AE26, $B26:$K26, M26 & "*") -> 0.92361111 | P26: =IF(O26<>"",SUMIFS($V26:$AE26, $B26:$K26, O26 & "*"),"") | U26: =SUM(V26:AE26) -> 1.375 | V26: =IFERROR(AG26-AF26,0) -> 0.15972222 | W26: =IFERROR(AI26-AH26,0) -> 0.14583333 | X26: =IFERROR(AK26-AJ26,0) -> 0.15972222 | Y26: =IFERROR(AM26-AL26,0) -> 0.14583333 | Z26: =IFERROR(AO26-AN26,0) -> 0.15972222 | AA26: =IFERROR(AQ26-AP26,0) -> 0.14583333 | AB26: =IFERROR(AS26-AR26,0) -> 0.15972222 | AC26: =IFERROR(AU26-AT26,0) -> 0.13888889 | AD26: =IFERROR(AW26-AV26,0) -> 0.15972222 | AE26: =IFERROR(AY26-AX26,0) -> 0 | AF26: 0.36458333 | AG26: 0.52430556 | AH26: 0.5625 | AI26: 0.70833333 | AJ26: 0.36458333 | AK26: 0.52430556 | AL26: 0.5625 | AM26: 0.70833333 | AN26: 0.36458333 | AO26: 0.52430556 | AP26: 0.5625 | AQ26: 0.70833333 | AR26: 0.36458333 | AS26: 0.52430556 | AT26: 0.5625 | AU26: 0.70138889 | AV26: 0.36458333 | AW26: 0.52430556
A27: Pro24 | B27: EL. | D27: EL. | H27: EL. | L27: =M27&" "&O27 -> EL | M27: EL | N27: =SUMIFS($V27:$AE27, $B27:$K27, M27 & "*") -> 0.47916667 | P27: =IF(O27<>"",SUMIFS($V27:$AE27, $B27:$K27, O27 & "*"),"") | U27: =SUM(V27:AE27) -> 0.98263889 | V27: =IFERROR(AG27-AF27,0) -> 0.15972222 | W27: =IFERROR(AI27-AH27,0) -> 0.11458333 | X27: =IFERROR(AK27-AJ27,0) -> 0.15972222 | Y27: =IFERROR(AM27-AL27,0) -> 0.11458333 | Z27: =IFERROR(AO27-AN27,0) -> 0 | AA27: =IFERROR(AQ27-AP27,0) -> 0 | AB27: =IFERROR(AS27-AR27,0) -> 0.15972222 | AC27: =IFERROR(AU27-AT27,0) -> 0.11458333 | AD27: =IFERROR(AW27-AV27,0) -> 0.15972222 | AE27: =IFERROR(AY27-AX27,0) -> 0 | AF27: 0.36458333 | AG27: 0.52430556 | AH27: 0.5625 | AI27: 0.67708333 | AJ27: 0.36458333 | AK27: 0.52430556 | AL27: 0.5625 | AM27: 0.67708333 | AR27: 0.36458333 | AS27: 0.52430556 | AT27: 0.5625 | AU27: 0.67708333 | AV27: 0.36458333 | AW27: 0.52430556
A28: Pro25 | B28: EV. | C28: EV | D28: EV. | E28: EV | F28: EV. | G28: EV | H28: EV. | I28: EV | J28: EV. | L28: =M28&" "&O28 -> EV | M28: EV | N28: =SUMIFS($V28:$AE28, $B28:$K28, M28 & "*") -> 1.0694444 | P28: =IF(O28<>"",SUMIFS($V28:$AE28, $B28:$K28, O28 & "*"),"") | U28: =SUM(V28:AE28) -> 1.0694444 | V28: =IFERROR(AG28-AF28,0) -> 0.15972222 | W28: =IFERROR(AI28-AH28,0) -> 0.14583333 | X28: =IFERROR(AK28-AJ28,0) -> 0 | Y28: =IFERROR(AM28-AL28,0) -> 0 | Z28: =IFERROR(AO28-AN28,0) -> 0.15972222 | AA28: =IFERROR(AQ28-AP28,0) -> 0.14583333 | AB28: =IFERROR(AS28-AR28,0) -> 0.15972222 | AC28: =IFERROR(AU28-AT28,0) -> 0.13888889 | AD28: =IFERROR(AW28-AV28,0) -> 0.15972222 | AE28: =IFERROR(AY28-AX28,0) -> 0 | AF28: 0.36458333 | AG28: 0.52430556 | AH28: 0.5625 | AI28: 0.70833333 | AN28: 0.36458333 | AO28: 0.52430556 | AP28: 0.5625 | AQ28: 0.70833333 | AR28: 0.36458333 | AS28: 0.52430556 | AT28: 0.5625 | AU28: 0.70138889 | AV28: 0.36458333 | AW28: 0.52430556
A29: Pro26 | B29: STI. | C29: STI | D29: STI. | E29: STI | H29: STI. | I29: STI | L29: =M29&" "&O29 -> STI | M29: STI | N29: =SUMIFS($V29:$AE29, $B29:$K29, M29 & "*") -> 0.90972222 | P29: =IF(O29<>"",SUMIFS($V29:$AE29, $B29:$K29, O29 & "*"),"") | U29: =SUM(V29:AE29) -> 1.375 | V29: =IFERROR(AG29-AF29,0) -> 0.15972222 | W29: =IFERROR(AI29-AH29,0) -> 0.14583333 | X29: =IFERROR(AK29-AJ29,0) -> 0.15972222 | Y29: =IFERROR(AM29-AL29,0) -> 0.14583333 | Z29: =IFERROR(AO29-AN29,0) -> 0.15972222 | AA29: =IFERROR(AQ29-AP29,0) -> 0.14583333 | AB29: =IFERROR(AS29-AR29,0) -> 0.15972222 | AC29: =IFERROR(AU29-AT29,0) -> 0.13888889 | AD29: =IFERROR(AW29-AV29,0) -> 0.15972222 | AE29: =IFERROR(AY29-AX29,0) -> 0 | AF29: 0.36458333 | AG29: 0.52430556 | AH29: 0.5625 | AI29: 0.70833333 | AJ29: 0.36458333 | AK29: 0.52430556 | AL29: 0.5625 | AM29: 0.70833333 | AN29: 0.36458333 | AO29: 0.52430556 | AP29: 0.5625 | AQ29: 0.70833333 | AR29: 0.36458333 | AS29: 0.52430556 | AT29: 0.5625 | AU29: 0.70138889 | AV29: 0.36458333 | AW29: 0.52430556
A30: Pro27 | B30: PA. | C30: PA | D30: PA. | E30: PA | F30: PA. | G30: PA | H30: PA. | I30: PA | J30: PA | L30: =M30&" "&O30 -> PA | M30: PA | N30: =SUMIFS($V30:$AE30, $B30:$K30, M30 & "*") -> 0.92361111 | P30: =IF(O30<>"",SUMIFS($V30:$AE30, $B30:$K30, O30 & "*"),"") | U30: =SUM(V30:AE30) -> 0.92361111 | V30: =IFERROR(AG30-AF30,0) -> 0 | W30: =IFERROR(AI30-AH30,0) -> 0 | X30: =IFERROR(AK30-AJ30,0) -> 0.15972222 | Y30: =IFERROR(AM30-AL30,0) -> 0.14583333 | Z30: =IFERROR(AO30-AN30,0) -> 0.15972222 | AA30: =IFERROR(AQ30-AP30,0) -> 0 | AB30: =IFERROR(AS30-AR30,0) -> 0.15972222 | AC30: =IFERROR(AU30-AT30,0) -> 0.13888889 | AD30: =IFERROR(AW30-AV30,0) -> 0.15972222 | AE30: =IFERROR(AY30-AX30,0) -> 0 | AJ30: 0.36458333 | AK30: 0.52430556 | AL30: 0.5625 | AM30: 0.70833333 | AN30: 0.36458333 | AO30: 0.52430556 | AR30: 0.36458333 | AS30: 0.52430556 | AT30: 0.5625 | AU30: 0.70138889 | AV30: 0.36458333 | AW30: 0.52430556
A31: Pro28 | B31: EV. | C31: EV | D31: EV. | E31: EV | F31: EV. | G31: EV | H31: EV. | I31: EV | J31: EV | L31: =M31&" "&O31 -> EV | M31: EV | N31: =SUMIFS($V31:$AE31, $B31:$K31, M31 & "*") -> 0.47916667 | P31: =IF(O31<>"",SUMIFS($V31:$AE31, $B31:$K31, O31 & "*"),"") | U31: =SUM(V31:AE31) -> 0.47916667 | V31: =IFERROR(AG31-AF31,0) -> 0.15972222 | W31: =IFERROR(AI31-AH31,0) -> 0 | X31: =IFERROR(AK31-AJ31,0) -> 0.15972222 | Y31: =IFERROR(AM31-AL31,0) -> 0 | Z31: =IFERROR(AO31-AN31,0) -> 0 | AA31: =IFERROR(AQ31-AP31,0) -> 0 | AB31: =IFERROR(AS31-AR31,0) -> 0.15972222 | AC31: =IFERROR(AU31-AT31,0) -> 0 | AD31: =IFERROR(AW31-AV31,0) -> 0 | AE31: =IFERROR(AY31-AX31,0) -> 0 | AF31: 0.36458333 | AG31: 0.52430556 | AJ31: 0.36458333 | AK31: 0.52430556 | AR31: 0.36458333 | AS31: 0.52430556
A32: Pro29 | B32: STI. | C32: STI | D32: STI. | E32: STI | F32: STI. | G32: STI | H32: STI. | I32: STI | J32: STI. | L32: =M32&" "&O32 -> STI | M32: STI | N32: =SUMIFS($V32:$AE32, $B32:$K32, M32 & "*") -> 1.375 | P32: =IF(O32<>"",SUMIFS($V32:$AE32, $B32:$K32, O32 & "*"),"") | U32: =SUM(V32:AE32) -> 1.375 | V32: =IFERROR(AG32-AF32,0) -> 0.15972222 | W32: =IFERROR(AI32-AH32,0) -> 0.14583333 | X32: =IFERROR(AK32-AJ32,0) -> 0.15972222 | Y32: =IFERROR(AM32-AL32,0) -> 0.14583333 | Z32: =IFERROR(AO32-AN32,0) -> 0.15972222 | AA32: =IFERROR(AQ32-AP32,0) -> 0.14583333 | AB32: =IFERROR(AS32-AR32,0) -> 0.15972222 | AC32: =IFERROR(AU32-AT32,0) -> 0.13888889 | AD32: =IFERROR(AW32-AV32,0) -> 0.15972222 | AE32: =IFERROR(AY32-AX32,0) -> 0 | AF32: 0.36458333 | AG32: 0.52430556 | AH32: 0.5625 | AI32: 0.70833333 | AJ32: 0.36458333 | AK32: 0.52430556 | AL32: 0.5625 | AM32: 0.70833333 | AN32: 0.36458333 | AO32: 0.52430556 | AP32: 0.5625 | AQ32: 0.70833333 | AR32: 0.36458333 | AS32: 0.52430556 | AT32: 0.5625 | AU32: 0.70138889 | AV32: 0.36458333 | AW32: 0.52430556
A33: Pro30 | B33: EV. | C33: EV | D33: EV. | E33: EV | F33: EV. | G33: EV | H33: EV. | I33: EV | J33: EV | L33: =M33&" "&O33 -> EV | M33: EV | N33: =SUMIFS($V33:$AE33, $B33:$K33, M33 & "*") -> 0.90972222 | P33: =IF(O33<>"",SUMIFS($V33:$AE33, $B33:$K33, O33 & "*"),"") | U33: =SUM(V33:AE33) -> 0.90972222 | V33: =IFERROR(AG33-AF33,0) -> 0.15972222 | W33: =IFERROR(AI33-AH33,0) -> 0.14583333 | X33: =IFERROR(AK33-AJ33,0) -> 0.15972222 | Y33: =IFERROR(AM33-AL33,0) -> 0.14583333 | Z33: =IFERROR(AO33-AN33,0) -> 0 | AA33: =IFERROR(AQ33-AP33,0) -> 0 | AB33: =IFERROR(AS33-AR33,0) -> 0.15972222 | AC33: =IFERROR(AU33-AT33,0) -> 0.13888889 | AD33: =IFERROR(AW33-AV33,0) -> 0 | AE33: =IFERROR(AY33-AX33,0) -> 0 | AF33: 0.36458333 | AG33: 0.52430556 | AH33: 0.5625 | AI33: 0.70833333 | AJ33: 0.36458333 | AK33: 0.52430556 | AL33: 0.5625 | AM33: 0.70833333 | AR33: 0.36458333 | AS33: 0.52430556 | AT33: 0.5625 | AU33: 0.70138889
A34: Pro31 | B34: CONS. | D34: CONS. | F34: CONS. | G34: CONS | H34: CONS. | I34: CONS | J34: CONS | L34: =M34&" "&O34 -> CONS | M34: CONS | N34: =SUMIFS($V34:$AE34, $B34:$K34, M34 & "*") -> 1.0833333 | P34: =IF(O34<>"",SUMIFS($V34:$AE34, $B34:$K34, O34 & "*"),"") | U34: =SUM(V34:AE34) -> 1.375 | V34: =IFERROR(AG34-AF34,0) -> 0.15972222 | W34: =IFERROR(AI34-AH34,0) -> 0.14583333 | X34: =IFERROR(AK34-AJ34,0) -> 0.15972222 | Y34: =IFERROR(AM34-AL34,0) -> 0.14583333 | Z34: =IFERROR(AO34-AN34,0) -> 0.15972222 | AA34: =IFERROR(AQ34-AP34,0) -> 0.14583333 | AB34: =IFERROR(AS34-AR34,0) -> 0.15972222 | AC34: =IFERROR(AU34-AT34,0) -> 0.13888889 | AD34: =IFERROR(AW34-AV34,0) -> 0.15972222 | AE34: =IFERROR(AY34-AX34,0) -> 0 | AF34: 0.36458333 | AG34: 0.52430556 | AH34: 0.5625 | AI34: 0.70833333 | AJ34: 0.36458333 | AK34: 0.52430556 | AL34: 0.5625 | AM34: 0.70833333 | AN34: 0.36458333 | AO34: 0.52430556 | AP34: 0.5625 | AQ34: 0.70833333 | AR34: 0.36458333 | AS34: 0.52430556 | AT34: 0.5625 | AU34: 0.70138889 | AV34: 0.36458333 | AW34: 0.52430556
A35: Pro32 | B35: STI. | C35: STI | D35: STI. | E35: STI | F35: STI. | G35: STI | H35: STI. | I35: STI | L35: =M35&" "&O35 -> STI | M35: STI | N35: =SUMIFS($V35:$AE35, $B35:$K35, M35 & "*") -> 1.2152778 | P35: =IF(O35<>"",SUMIFS($V35:$AE35, $B35:$K35, O35 & "*"),"") | U35: =SUM(V35:AE35) -> 1.375 | V35: =IFERROR(AG35-AF35,0) -> 0.15972222 | W35: =IFERROR(AI35-AH35,0) -> 0.14583333 | X35: =IFERROR(AK35-AJ35,0) -> 0.15972222 | Y35: =IFERROR(AM35-AL35,0) -> 0.14583333 | Z35: =IFERROR(AO35-AN35,0) -> 0.15972222 | AA35: =IFERROR(AQ35-AP35,0) -> 0.14583333 | AB35: =IFERROR(AS35-AR35,0) -> 0.15972222 | AC35: =IFERROR(AU35-AT35,0) -> 0.13888889 | AD35: =IFERROR(AW35-AV35,0) -> 0.15972222 | AE35: =IFERROR(AY35-AX35,0) -> 0 | AF35: 0.36458333 | AG35: 0.52430556 | AH35: 0.5625 | AI35: 0.70833333 | AJ35: 0.36458333 | AK35: 0.52430556 | AL35: 0.5625 | AM35: 0.70833333 | AN35: 0.36458333 | AO35: 0.52430556 | AP35: 0.5625 | AQ35: 0.70833333 | AR35: 0.36458333 | AS35: 0.52430556 | AT35: 0.5625 | AU35: 0.70138889 | AV35: 0.36458333 | AW35: 0.52430556
A36: Pro33 | B36: EV. | C36: EV | D36: EV. | E36: EV | F36: EV. | G36: EV | H36: EV. | I36: EV | J36: EV | L36: =M36&" "&O36 -> EV | M36: EV | N36: =SUMIFS($V36:$AE36, $B36:$K36, M36 & "*") -> 1.375 | P36: =IF(O36<>"",SUMIFS($V36:$AE36, $B36:$K36, O36 & "*"),"") | U36: =SUM(V36:AE36) -> 1.375 | V36: =IFERROR(AG36-AF36,0) -> 0.15972222 | W36: =IFERROR(AI36-AH36,0) -> 0.14583333 | X36: =IFERROR(AK36-AJ36,0) -> 0.15972222 | Y36: =IFERROR(AM36-AL36,0) -> 0.14583333 | Z36: =IFERROR(AO36-AN36,0) -> 0.15972222 | AA36: =IFERROR(AQ36-AP36,0) -> 0.14583333 | AB36: =IFERROR(AS36-AR36,0) -> 0.15972222 | AC36: =IFERROR(AU36-AT36,0) -> 0.13888889 | AD36: =IFERROR(AW36-AV36,0) -> 0.15972222 | AE36: =IFERROR(AY36-AX36,0) -> 0 | AF36: 0.36458333 | AG36: 0.52430556 | AH36: 0.5625 | AI36: 0.70833333 | AJ36: 0.36458333 | AK36: 0.52430556 | AL36: 0.5625 | AM36: 0.70833333 | AN36: 0.36458333 | AO36: 0.52430556 | AP36: 0.5625 | AQ36: 0.70833333 | AR36: 0.36458333 | AS36: 0.52430556 | AT36: 0.5625 | AU36: 0.70138889 | AV36: 0.36458333 | AW36: 0.52430556
A37: Pro34 | B37: R. | C37: R | D37: R. | E37: R | F37: R. | G37: R | H37: R. | I37: R | J37: R. | L37: =M37&" "&O37 -> R | M37: R | N37: =SUMIFS($V37:$AE37, $B37:$K37, M37 & "*") -> 1.375 | P37: =IF(O37<>"",SUMIFS($V37:$AE37, $B37:$K37, O37 & "*"),"") | U37: =SUM(V37:AE37) -> 1.375 | V37: =IFERROR(AG37-AF37,0) -> 0.15972222 | W37: =IFERROR(AI37-AH37,0) -> 0.14583333 | X37: =IFERROR(AK37-AJ37,0) -> 0.15972222 | Y37: =IFERROR(AM37-AL37,0) -> 0.14583333 | Z37: =IFERROR(AO37-AN37,0) -> 0.15972222 | AA37: =IFERROR(AQ37-AP37,0) -> 0.14583333 | AB37: =IFERROR(AS37-AR37,0) -> 0.15972222 | AC37: =IFERROR(AU37-AT37,0) -> 0.13888889 | AD37: =IFERROR(AW37-AV37,0) -> 0.15972222 | AE37: =IFERROR(AY37-AX37,0) -> 0 | AF37: 0.36458333 | AG37: 0.52430556 | AH37: 0.5625 | AI37: 0.70833333 | AJ37: 0.36458333 | AK37: 0.52430556 | AL37: 0.5625 | AM37: 0.70833333 | AN37: 0.36458333 | AO37: 0.52430556 | AP37: 0.5625 | AQ37: 0.70833333 | AR37: 0.36458333 | AS37: 0.52430556 | AT37: 0.5625 | AU37: 0.70138889 | AV37: 0.36458333 | AW37: 0.52430556
A38: Pro35 | B38: PA. | C38: PA | D38: PA. | E38: PA | F38: CONS. | G38: CONS | H38: PA. | I38: PA | J38: PA | L38: =M38&" "&O38 -> PA CONS | M38: PA | N38: =SUMIFS($V38:$AE38, $B38:$K38, M38 & "*") -> 0.77777778 | O38: CONS | P38: =IF(O38<>"",SUMIFS($V38:$AE38, $B38:$K38, O38 & "*"),"") -> 0.30555556 | U38: =SUM(V38:AE38) -> 1.0833333 | V38: =IFERROR(AG38-AF38,0) -> 0.15972222 | W38: =IFERROR(AI38-AH38,0) -> 0 | X38: =IFERROR(AK38-AJ38,0) -> 0.15972222 | Y38: =IFERROR(AM38-AL38,0) -> 0 | Z38: =IFERROR(AO38-AN38,0) -> 0.15972222 | AA38: =IFERROR(AQ38-AP38,0) -> 0.14583333 | AB38: =IFERROR(AS38-AR38,0) -> 0.15972222 | AC38: =IFERROR(AU38-AT38,0) -> 0.13888889 | AD38: =IFERROR(AW38-AV38,0) -> 0.15972222 | AE38: =IFERROR(AY38-AX38,0) -> 0 | AF38: 0.36458333 | AG38: 0.52430556 | AJ38: 0.36458333 | AK38: 0.52430556 | AN38: 0.36458333 | AO38: 0.52430556 | AP38: 0.5625 | AQ38: 0.70833333 | AR38: 0.36458333 | AS38: 0.52430556 | AT38: 0.5625 | AU38: 0.70138889 | AV38: 0.36458333 | AW38: 0.52430556
A39: Pro36 | B39: . | C39: EL | D39: . | E39: EL | F39: EL. | H39: . | I39: EL | J39: EL. | L39: =M39&" "&O39 -> EL | M39: EL | N39: =SUMIFS($V39:$AE39, $B39:$K39, M39 & "*") -> 0.59027778 | P39: =IF(O39<>"",SUMIFS($V39:$AE39, $B39:$K39, O39 & "*"),"") | U39: =SUM(V39:AE39) -> 1.2152778 | V39: =IFERROR(AG39-AF39,0) -> 0.15972222 | W39: =IFERROR(AI39-AH39,0) -> 0.14583333 | X39: =IFERROR(AK39-AJ39,0) -> 0.15972222 | Y39: =IFERROR(AM39-AL39,0) -> 0.14583333 | Z39: =IFERROR(AO39-AN39,0) -> 0.15972222 | AA39: =IFERROR(AQ39-AP39,0) -> 0.14583333 | AB39: =IFERROR(AS39-AR39,0) -> 0.15972222 | AC39: =IFERROR(AU39-AT39,0) -> 0.13888889 | AD39: =IFERROR(AW39-AV39,0) -> 0 | AE39: =IFERROR(AY39-AX39,0) -> 0 | AF39: 0.36458333 | AG39: 0.52430556 | AH39: 0.5625 | AI39: 0.70833333 | AJ39: 0.36458333 | AK39: 0.52430556 | AL39: 0.5625 | AM39: 0.70833333 | AN39: 0.36458333 | AO39: 0.52430556 | AP39: 0.5625 | AQ39: 0.70833333 | AR39: 0.36458333 | AS39: 0.52430556 | AT39: 0.5625 | AU39: 0.70138889
A40: Pro37 | B40: PA. | C40: PA | D40: PA. | E40: PA | F40: PA. | G40: PA | H40: PA. | I40: PA | J40: PA | L40: =M40&" "&O40 -> PA | M40: PA | N40: =SUMIFS($V40:$AE40, $B40:$K40, M40 & "*") -> 1.375 | P40: =IF(O40<>"",SUMIFS($V40:$AE40, $B40:$K40, O40 & "*"),"") | U40: =SUM(V40:AE40) -> 1.375 | V40: =IFERROR(AG40-AF40,0) -> 0.15972222 | W40: =IFERROR(AI40-AH40,0) -> 0.14583333 | X40: =IFERROR(AK40-AJ40,0) -> 0.15972222 | Y40: =IFERROR(AM40-AL40,0) -> 0.14583333 | Z40: =IFERROR(AO40-AN40,0) -> 0.15972222 | AA40: =IFERROR(AQ40-AP40,0) -> 0.14583333 | AB40: =IFERROR(AS40-AR40,0) -> 0.15972222 | AC40: =IFERROR(AU40-AT40,0) -> 0.13888889 | AD40: =IFERROR(AW40-AV40,0) -> 0.15972222 | AE40: =IFERROR(AY40-AX40,0) -> 0 | AF40: 0.36458333 | AG40: 0.52430556 | AH40: 0.5625 | AI40: 0.70833333 | AJ40: 0.36458333 | AK40: 0.52430556 | AL40: 0.5625 | AM40: 0.70833333 | AN40: 0.36458333 | AO40: 0.52430556 | AP40: 0.5625 | AQ40: 0.70833333 | AR40: 0.36458333 | AS40: 0.52430556 | AT40: 0.5625 | AU40: 0.70138889 | AV40: 0.36458333 | AW40: 0.52430556
A41: Pro38 | B41: STI. | D41: STI. | F41: STI. | H41: STI. | J41: STI | L41: =M41&" "&O41 -> STI | M41: STI | N41: =SUMIFS($V41:$AE41, $B41:$K41, M41 & "*") -> 0.36458333 | P41: =IF(O41<>"",SUMIFS($V41:$AE41, $B41:$K41, O41 & "*"),"") | U41: =SUM(V41:AE41) -> 0.91666667 | V41: =IFERROR(AG41-AF41,0) -> 0.072916667 | W41: =IFERROR(AI41-AH41,0) -> 0.125 | X41: =IFERROR(AK41-AJ41,0) -> 0.072916667 | Y41: =IFERROR(AM41-AL41,0) -> 0.125 | Z41: =IFERROR(AO41-AN41,0) -> 0.072916667 | AA41: =IFERROR(AQ41-AP41,0) -> 0.125 | AB41: =IFERROR(AS41-AR41,0) -> 0.072916667 | AC41: =IFERROR(AU41-AT41,0) -> 0.125 | AD41: =IFERROR(AW41-AV41,0) -> 0.072916667 | AE41: =IFERROR(AY41-AX41,0) -> 0.052083333 | AF41: 0.41666667 | AG41: 0.48958333 | AH41: 0.52083333 | AI41: 0.64583333 | AJ41: 0.41666667 | AK41: 0.48958333 | AL41: 0.52083333 | AM41: 0.64583333 | AN41: 0.41666667 | AO41: 0.48958333 | AP41: 0.52083333 | AQ41: 0.64583333 | AR41: 0.41666667 | AS41: 0.48958333 | AT41: 0.52083333 | AU41: 0.64583333 | AV41: 0.41666667 | AW41: 0.48958333 | AX41: 0.52083333 | AY41: 0.57291667
A42: Pro39 | B42: EV. | C42: EV | D42: EV. | E42: EV | F42: EV. | G42: EV | H42: EV. | I42: EV | J42: EV. | L42: =M42&" "&O42 -> EV | M42: EV | N42: =SUMIFS($V42:$AE42, $B42:$K42, M42 & "*") -> 1.375 | P42: =IF(O42<>"",SUMIFS($V42:$AE42, $B42:$K42, O42 & "*"),"") | U42: =SUM(V42:AE42) -> 1.375 | V42: =IFERROR(AG42-AF42,0) -> 0.15972222 | W42: =IFERROR(AI42-AH42,0) -> 0.14583333 | X42: =IFERROR(AK42-AJ42,0) -> 0.15972222 | Y42: =IFERROR(AM42-AL42,0) -> 0.14583333 | Z42: =IFERROR(AO42-AN42,0) -> 0.15972222 | AA42: =IFERROR(AQ42-AP42,0) -> 0.14583333 | AB42: =IFERROR(AS42-AR42,0) -> 0.15972222 | AC42: =IFERROR(AU42-AT42,0) -> 0.13888889 | AD42: =IFERROR(AW42-AV42,0) -> 0.15972222 | AE42: =IFERROR(AY42-AX42,0) -> 0 | AF42: 0.36458333 | AG42: 0.52430556 | AH42: 0.5625 | AI42: 0.70833333 | AJ42: 0.36458333 | AK42: 0.52430556 | AL42: 0.5625 | AM42: 0.70833333 | AN42: 0.36458333 | AO42: 0.52430556 | AP42: 0.5625 | AQ42: 0.70833333 | AR42: 0.36458333 | AS42: 0.52430556 | AT42: 0.5625 | AU42: 0.70138889 | AV42: 0.36458333 | AW42: 0.52430556
A43: Pro40 | B43: CONS. | C43: CONS | D43: CONS. | E43: CONS | F43: CONS. | G43: CONS | H43: CONS. | I43: CONS | J43: CONS. | L43: =M43&" "&O43 -> CONS | M43: CONS | N43: =SUMIFS($V43:$AE43, $B43:$K43, M43 & "*") -> 0 | P43: =IF(O43<>"",SUMIFS($V43:$AE43, $B43:$K43, O43 & "*"),"") | U43: =SUM(V43:AE43) -> 0 | V43: =IFERROR(AG43-AF43,0) -> 0 | W43: =IFERROR(AI43-AH43,0) -> 0 | X43: =IFERROR(AK43-AJ43,0) -> 0 | Y43: =IFERROR(AM43-AL43,0) -> 0 | Z43: =IFERROR(AO43-AN43,0) -> 0 | AA43: =IFERROR(AQ43-AP43,0) -> 0 | AB43: =IFERROR(AS43-AR43,0) -> 0 | AC43: =IFERROR(AU43-AT43,0) -> 0 | AD43: =IFERROR(AW43-AV43,0) -> 0 | AE43: =IFERROR(AY43-AX43,0) -> 0
A44: Pro41 | B44: STI. | C44: STI | D44: STI. | E44: STI | F44: STI. | G44: STI | H44: STI. | I44: STI | J44: STI. | L44: =M44&" "&O44 -> STI | M44: STI | N44: =SUMIFS($V44:$AE44, $B44:$K44, M44 & "*") -> 1.375 | P44: =IF(O44<>"",SUMIFS($V44:$AE44, $B44:$K44, O44 & "*"),"") | U44: =SUM(V44:AE44) -> 1.375 | V44: =IFERROR(AG44-AF44,0) -> 0.15972222 | W44: =IFERROR(AI44-AH44,0) -> 0.14583333 | X44: =IFERROR(AK44-AJ44,0) -> 0.15972222 | Y44: =IFERROR(AM44-AL44,0) -> 0.14583333 | Z44: =IFERROR(AO44-AN44,0) -> 0.15972222 | AA44: =IFERROR(AQ44-AP44,0) -> 0.14583333 | AB44: =IFERROR(AS44-AR44,0) -> 0.15972222 | AC44: =IFERROR(AU44-AT44,0) -> 0.13888889 | AD44: =IFERROR(AW44-AV44,0) -> 0.15972222 | AE44: =IFERROR(AY44-AX44,0) -> 0 | AF44: 0.36458333 | AG44: 0.52430556 | AH44: 0.5625 | AI44: 0.70833333 | AJ44: 0.36458333 | AK44: 0.52430556 | AL44: 0.5625 | AM44: 0.70833333 | AN44: 0.36458333 | AO44: 0.52430556 | AP44: 0.5625 | AQ44: 0.70833333 | AR44: 0.36458333 | AS44: 0.52430556 | AT44: 0.5625 | AU44: 0.70138889 | AV44: 0.36458333 | AW44: 0.52430556
A45: Pro42 | D45: STI. | E45: STI | F45: STI. | G45: STI | H45: STI. | I45: STI | J45: STI. | L45: =M45&" "&O45 -> STI | M45: STI | N45: =SUMIFS($V45:$AE45, $B45:$K45, M45 & "*") -> 0.92361111 | P45: =IF(O45<>"",SUMIFS($V45:$AE45, $B45:$K45, O45 & "*"),"") | U45: =SUM(V45:AE45) -> 1.2291667 | V45: =IFERROR(AG45-AF45,0) -> 0.15972222 | W45: =IFERROR(AI45-AH45,0) -> 0.14583333 | X45: =IFERROR(AK45-AJ45,0) -> 0.15972222 | Y45: =IFERROR(AM45-AL45,0) -> 0.14583333 | Z45: =IFERROR(AO45-AN45,0) -> 0.15972222 | AA45: =IFERROR(AQ45-AP45,0) -> 0 | AB45: =IFERROR(AS45-AR45,0) -> 0.15972222 | AC45: =IFERROR(AU45-AT45,0) -> 0.13888889 | AD45: =IFERROR(AW45-AV45,0) -> 0.15972222 | AE45: =IFERROR(AY45-AX45,0) -> 0 | AF45: 0.36458333 | AG45: 0.52430556 | AH45: 0.5625 | AI45: 0.70833333 | AJ45: 0.36458333 | AK45: 0.52430556 | AL45: 0.5625 | AM45: 0.70833333 | AN45: 0.36458333 | AO45: 0.52430556 | AP45: 0 | AQ45: 0 | AR45: 0.36458333 | AS45: 0.52430556 | AT45: 0.5625 | AU45: 0.70138889 | AV45: 0.36458333 | AW45: 0.52430556
U46: =SUM(V46:AE46) -> 1.375 | V46: =IFERROR(AG46-AF46,0) -> 0.15972222 | W46: =IFERROR(AI46-AH46,0) -> 0.14583333 | X46: =IFERROR(AK46-AJ46,0) -> 0.15972222 | Y46: =IFERROR(AM46-AL46,0) -> 0.14583333 | Z46: =IFERROR(AO46-AN46,0) -> 0.15972222 | AA46: =IFERROR(AQ46-AP46,0) -> 0.14583333 | AB46: =IFERROR(AS46-AR46,0) -> 0.15972222 | AC46: =IFERROR(AU46-AT46,0) -> 0.13888889 | AD46: =IFERROR(AW46-AV46,0) -> 0.15972222 | AE46: =IFERROR(AY46-AX46,0) -> 0 | AF46: 0.36458333 | AG46: 0.52430556 | AH46: 0.5625 | AI46: 0.70833333 | AJ46: 0.36458333 | AK46: 0.52430556 | AL46: 0.5625 | AM46: 0.70833333 | AN46: 0.36458333 | AO46: 0.52430556 | AP46: 0.5625 | AQ46: 0.70833333 | AR46: 0.36458333 | AS46: 0.52430556 | AT46: 0.5625 | AU46: 0.70138889 | AV46: 0.36458333 | AW46: 0.52430556
U47: =SUM(V47:AE47) -> 1.375 | V47: =IFERROR(AG47-AF47,0) -> 0.15972222 | W47: =IFERROR(AI47-AH47,0) -> 0.14583333 | X47: =IFERROR(AK47-AJ47,0) -> 0.15972222 | Y47: =IFERROR(AM47-AL47,0) -> 0.14583333 | Z47: =IFERROR(AO47-AN47,0) -> 0.15972222 | AA47: =IFERROR(AQ47-AP47,0) -> 0.14583333 | AB47: =IFERROR(AS47-AR47,0) -> 0.15972222 | AC47: =IFERROR(AU47-AT47,0) -> 0.13888889 | AD47: =IFERROR(AW47-AV47,0) -> 0.15972222 | AE47: =IFERROR(AY47-AX47,0) -> 0 | AF47: 0.36458333 | AG47: 0.52430556 | AH47: 0.5625 | AI47: 0.70833333 | AJ47: 0.36458333 | AK47: 0.52430556 | AL47: 0.5625 | AM47: 0.70833333 | AN47: 0.36458333 | AO47: 0.52430556 | AP47: 0.5625 | AQ47: 0.70833333 | AR47: 0.36458333 | AS47: 0.52430556 | AT47: 0.5625 | AU47: 0.70138889 | AV47: 0.36458333 | AW47: 0.52430556
U48: =SUM(V48:AE48) -> 1.375 | V48: =IFERROR(AG48-AF48,0) -> 0.15972222 | W48: =IFERROR(AI48-AH48,0) -> 0.14583333 | X48: =IFERROR(AK48-AJ48,0) -> 0.15972222 | Y48: =IFERROR(AM48-AL48,0) -> 0.14583333 | Z48: =IFERROR(AO48-AN48,0) -> 0.15972222 | AA48: =IFERROR(AQ48-AP48,0) -> 0.14583333 | AB48: =IFERROR(AS48-AR48,0) -> 0.15972222 | AC48: =IFERROR(AU48-AT48,0) -> 0.13888889 | AD48: =IFERROR(AW48-AV48,0) -> 0.15972222 | AE48: =IFERROR(AY48-AX48,0) -> 0 | AF48: 0.36458333 | AG48: 0.52430556 | AH48: 0.5625 | AI48: 0.70833333 | AJ48: 0.36458333 | AK48: 0.52430556 | AL48: 0.5625 | AM48: 0.70833333 | AN48: 0.36458333 | AO48: 0.52430556 | AP48: 0.5625 | AQ48: 0.70833333 | AR48: 0.36458333 | AS48: 0.52430556 | AT48: 0.5625 | AU48: 0.70138889 | AV48: 0.36458333 | AW48: 0.52430556
U49: =SUM(V49:AE49) -> 1.0694444 | V49: =IFERROR(AG49-AF49,0) -> 0 | W49: =IFERROR(AI49-AH49,0) -> 0 | X49: =IFERROR(AK49-AJ49,0) -> 0.15972222 | Y49: =IFERROR(AM49-AL49,0) -> 0.14583333 | Z49: =IFERROR(AO49-AN49,0) -> 0.15972222 | AA49: =IFERROR(AQ49-AP49,0) -> 0.14583333 | AB49: =IFERROR(AS49-AR49,0) -> 0.15972222 | AC49: =IFERROR(AU49-AT49,0) -> 0.13888889 | AD49: =IFERROR(AW49-AV49,0) -> 0.15972222 | AE49: =IFERROR(AY49-AX49,0) -> 0 | AJ49: 0.36458333 | AK49: 0.52430556 | AL49: 0.5625 | AM49: 0.70833333 | AN49: 0.36458333 | AO49: 0.52430556 | AP49: 0.5625 | AQ49: 0.70833333 | AR49: 0.36458333 | AS49: 0.52430556 | AT49: 0.5625 | AU49: 0.70138889 | AV49: 0.36458333 | AW49: 0.52430556

Sheet Novembre
D1: 1 | E1: 1 | F1: 2 | G1: 2 | H1: 3 | I1: 3 | J1: 4 | K1: 4 | L1: 5 | M1: 5 | N1: 6 | O1: 6 | P1: 7 | Q1: 7 | R1: 8 | S1: 8 | T1: 9 | U1: 9 | V1: 10 | W1: 10 | X1: 11 | Y1: 11 | Z1: 12 | AA1: 12 | AB1: 13 | AC1: 13 | AD1: 14 | AE1: 14 | AF1: 15 | AG1: 15 | AH1: 16 | AI1: 16 | AJ1: 17 | AK1: 17 | AL1: 18 | AM1: 18 | AN1: 19 | AO1: 19 | AP1: 20 | AQ1: 20 | AR1: 21 | AS1: 21 | AT1: 22 | AU1: 22 | AV1: 23 | AW1: 23 | AX1: 24 | AY1: 24 | AZ1: 25 | BA1: 25 | BB1: 26 | BC1: 26 | BD1: 27 | BE1: 27 | BF1: 28 | BG1: 28 | BH1: 29 | BI1: 29 | BJ1: 30 | BK1: 30 | DB1: 1 | DC1: 1 | DD1: 2 | DE1: 2 | DF1: 3 | DG1: 3 | DH1: 4 | DI1: 4 | DJ1: 5 | DK1: 5 | DL1: 6 | DM1: 6 | DN1: 7 | DO1: 7 | DP1: 8 | DQ1: 8 | DR1: 9 | DS1: 9 | DT1: 10 | DU1: 10 | DV1: 11 | DW1: 11 | DX1: 12 | DY1: 12 | DZ1: 13 | EA1: 13 | EB1: 14 | EC1: 14 | ED1: 15 | EE1: 15 | EF1: 16 | EG1: 16 | EH1: 17 | EI1: 17 | EJ1: 18 | EK1: 18 | EL1: 19 | EM1: 19 | EN1: 20 | EO1: 20 | EP1: 21 | EQ1: 21 | ER1: 22 | ES1: 22 | ET1: 23 | EU1: 23 | EV1: 24 | EW1: 24 | EX1: 25 | EY1: 25 | EZ1: 26 | FA1: 26 | FB1: 27 | FC1: 27 | FD1: 28 | FE1: 28 | FF1: 29 | FG1: 29 | FH1: 30 | FI1: 30 | FJ1: 31 | FK1: 31 | FZ1: 1 | GA1: 1 | GB1: 1 | GC1: 1 | GD1: 2 | GE1: 2 | GF1: 2 | GG1: 2 | GH1: 3 | GI1: 3 | GJ1: 3 | GK1: 3 | GL1: 4 | GM1: 4 | GN1: 4 | GO1: 4 | GP1: 5 | GQ1: 5 | GR1: 5 | GS1: 5 | GT1: 6 | GU1: 6 | GV1: 6 | GW1: 6 | GX1: 7 | GY1: 7 | GZ1: 7 | HA1: 7 | HB1: 8 | HC1: 8 | HD1: 8 | HE1: 8 | HF1: 9 | HG1: 9 | HH1: 9 | HI1: 9 | HJ1: 10 | HK1: 10 | HL1: 10 | HM1: 10 | HN1: 11 | HO1: 11 | HP1: 11 | HQ1: 11 | HR1: 12 | HS1: 12 | HT1: 12 | HU1: 12 | HV1: 13 | HW1: 13 | HX1: 13 | HY1: 13 | HZ1: 14 | IA1: 14 | IB1: 14 | IC1: 14 | ID1: 15 | IE1: 15 | IF1: 15 | IG1: 15 | IH1: 16 | II1: 16 | IJ1: 16 | IK1: 16 | IL1: 17 | IM1: 17 | IN1: 17 | IO1: 17 | IP1: 18 | IQ1: 18 | IR1: 18 | IS1: 18 | IT1: 19 | IU1: 19 | IV1: 19 | IW1: 19 | IX1: 20 | IY1: 20 | IZ1: 20 | JA1: 20 | JB1: 21 | JC1: 21 | JD1: 21 | JE1: 21 | JF1: 22 | JG1: 22 | JH1: 22 | JI1: 22 | JJ1: 23 | JK1: 23 | JL1: 23 | JM1: 23 | JN1: 24 | JO1: 24 | JP1: 24 | JQ1: 24 | JR1: 25 | JS1: 25 | JT1: 25 | JU1: 25 | JV1: 26 | JW1: 26 | JX1: 26 | JY1: 26 | JZ1: 27 | KA1: 27 | KB1: 27 | KC1: 27 | KD1: 28 | KE1: 28 | KF1: 28 | KG1: 28 | KH1: 29 | KI1: 29 | KJ1: 29 | KK1: 29 | KL1: 30 | KM1: 30 | KN1: 30 | KO1: 30 | KP1: 31 | KQ1: 31 | KR1: 31 | KS1: 31
B2: =EOMONTH(B18,-1) -> 45961 | D2: =IFERROR(IF(WEEKDAY(D$18,2)=1,CHOOSE(WEEKDAY(D$18,2)+MOD(COLUMN(),2),1,2,3,4,5,6,7,8,9,10),CHOOSE(WEEKDAY(D$18,2)+WEEKDAY(B$2,2)+MOD(COLUMN(),1),1,2,3,4,5,6,7,8,9,10)),0) -> 0 | E2: =IFERROR(IF(WEEKDAY(E$18,2)=1,CHOOSE(WEEKDAY(E$18,2)+MOD(COLUMN(),2),1,2,3,4,5,6,7,8,9,10),CHOOSE(WEEKDAY(E$18,2)+WEEKDAY(D$18,2)+MOD(COLUMN(),1),1,2,3,4,5,6,7,8,9,10)),0) -> 0 | F2: =IFERROR(IF(WEEKDAY(F$18,2)=1,CHOOSE(WEEKDAY(F$18,2)+MOD(COLUMN(),2),1,2,3,4,5,6,7,8,9,10),CHOOSE(WEEKDAY(F$18,2)+WEEKDAY(E$18,2)+MOD(COLUMN(),1),1,2,3,4,5,6,7,8,9,10)),0) -> 0 | G2: =IFERROR(IF(WEEKDAY(G$18,2)=1,CHOOSE(WEEKDAY(G$18,2)+MOD(COLUMN(),2),1,2,3,4,5,6,7,8,9,10),CHOOSE(WEEKDAY(G$18,2)+WEEKDAY(F$18,2)+MOD(COLUMN(),1),1,2,3,4,5,6,7,8,9,10)),0) -> 0 | H2: =IFERROR(IF(WEEKDAY(H$18,2)=1,CHOOSE(WEEKDAY(H$18,2)+MOD(COLUMN(),2),1,2,3,4,5,6,7,8,9,10),CHOOSE(WEEKDAY(H$18,2)+WEEKDAY(G$18,2)+MOD(COLUMN(),1),1,2,3,4,5,6,7,8,9,10)),0) -> 1 | I2: =IFERROR(IF(WEEKDAY(I$18,2)=1,CHOOSE(WEEKDAY(I$18,2)+MOD(COLUMN(),2),1,2,3,4,5,6,7,8,9,10),CHOOSE(WEEKDAY(I$18,2)+WEEKDAY(H$18,2)+MOD(COLUMN(),1),1,2,3,4,5,6,7,8,9,10)),0) -> 2 | J2: =IFERROR(IF(WEEKDAY(J$18,2)=1,CHOOSE(WEEKDAY(J$18,2)+MOD(COLUMN(),2),1,2,3,4,5,6,7,8,9,10),CHOOSE(WEEKDAY(J$18,2)+WEEKDAY(I$18,2)+MOD(COLUMN(),1),1,2,3,4,5,6,7,8,9,10)),0) -> 3 | K2: =IFERROR(IF(WEEKDAY(K$18,2)=1,CHOOSE(WEEKDAY(K$18,2)+MOD(COLUMN(),2),1,2,3,4,5,6,7,8,9,10),CHOOSE(WEEKDAY(K$18,2)+WEEKDAY(J$18,2)+MOD(COLUMN(),1),1,2,3,4,5,6,7,8,9,10)),0) -> 4 | L2: =IFERROR(IF(WEEKDAY(L$18,2)=1,CHOOSE(WEEKDAY(L$18,2)+MOD(COLUMN(),2),1,2,3,4,5,6,7,8,9,10),CHOOSE(WEEKDAY(L$18,2)+WEEKDAY(K$18,2)+MOD(COLUMN(),1),1,2,3,4,5,6,7,8,9,10)),0) -> 5 | ... BK2: =IFERROR(IF(WEEKDAY(BK$18,2)=1,CHOOSE(WEEKDAY(BK$18,2)+MOD(COLUMN(),2),1,2,3,4,5,6,7,8,9,10),CHOOSE(WEEKDAY(BK$18,2)+WEEKDAY(BJ$18,2)+MOD(COLUMN(),1),1,2,3,4,5,6,7,8,9,10)),0) -> 0 | FZ2: =IF(COUNTIF(Fériés,D18)>0,0,IF(WEEKDAY(DATE(YEAR($B18),MONTH($B18),FZ1),2)<6,CHOOSE(WEEKDAY(DATE(YEAR($B18),MONTH($B18),FZ1),2),1,5,9,13,17)+COUNTIF(FZ$1:$GA1,FZ1)-1,0)) -> 0 | GA2: =IF(COUNTIF(Fériés,E18)>0,0,IF(WEEKDAY(DATE(YEAR($B18),MONTH($B18),GA1),2)<6,CHOOSE(WEEKDAY(DATE(YEAR($B18),MONTH($B18),GA1),2),1,5,9,13,17)+COUNTIF(GA$1:$GA1,GA1)-1,0)) -> 0 | GB2: =IF(COUNTIF(Fériés,F18)>0,0,IF(WEEKDAY(DATE(YEAR($B18),MONTH($B18),GB1),2)<6,CHOOSE(WEEKDAY(DATE(YEAR($B18),MONTH($B18),GB1),2),1,5,9,13,17)+COUNTIF($GA$1:GB1,GB1)-1,0)) -> 0 | GC2: =IF(COUNTIF(Fériés,G18)>0,0,IF(WEEKDAY(DATE(YEAR($B18),MONTH($B18),GC1),2)<6,CHOOSE(WEEKDAY(DATE(YEAR($B18),MONTH($B18),GC1),2),1,5,9,13,17)+COUNTIF($GA$1:GC1,GC1)-1,0)) -> 0 | GD2: =IF(COUNTIF(Fériés,H18)>0,0,IF(WEEKDAY(DATE(YEAR($B18),MONTH($B18),GD1),2)<6,CHOOSE(WEEKDAY(DATE(YEAR($B18),MONTH($B18),GD1),2),1,5,9,13,17)+COUNTIF($GA$1:GD1,GD1)-1,0)) -> 0 | GE2: =IF(COUNTIF(Fériés,I18)>0,0,IF(WEEKDAY(DATE(YEAR($B18),MONTH($B18),GE1),2)<6,CHOOSE(WEEKDAY(DATE(YEAR($B18),MONTH($B18),GE1),2),1,5,9,13,17)+COUNTIF($GA$1:GE1,GE1)-1,0)) -> 0 | GF2: =IF(COUNTIF(Fériés,J18)>0,0,IF(WEEKDAY(DATE(YEAR($B18),MONTH($B18),GF1),2)<6,CHOOSE(WEEKDAY(DATE(YEAR($B18),MONTH($B18),GF1),2),1,5,9,13,17)+COUNTIF($GA$1:GF1,GF1)-1,0)) -> 0 | GG2: =IF(COUNTIF(Fériés,K18)>0,0,IF(WEEKDAY(DATE(YEAR($B18),MONTH($B18),GG1),2)<6,CHOOSE(WEEKDAY(DATE(YEAR($B18),MONTH($B18),GG1),2),1,5,9,13,17)+COUNTIF($GA$1:GG1,GG1)-1,0)) -> 0 | GH2: =IF(COUNTIF(Fériés,DATE(YEAR($B18),MONTH($B18),GH1))>0,0,IF(WEEKDAY(DATE(YEAR($B18),MONTH($B18),GH1),2)<6,CHOOSE(WEEKDAY(DATE(YEAR($B18),MONTH($B18),GH1),2),1,5,9,13,17)+COUNTIF($GA$1:GH1,GH1)-1,0)) -> 1 | GI2: =IF(COUNTIF(Fériés,DATE(YEAR($B18),MONTH($B18),GI1))>0,0,IF(WEEKDAY(DATE(YEAR($B18),MONTH($B18),GI1),2)<6,CHOOSE(WEEKDAY(DATE(YEAR($B18),MONTH($B18),GI1),2),1,5,9,13,17)+COUNTIF($GA$1:GI1,GI1)-1,0)) -> 2 | GJ2: =IF(COUNTIF(Fériés,DATE(YEAR($B18),MONTH($B18),GJ1))>0,0,IF(WEEKDAY(DATE(YEAR($B18),MONTH($B18),GJ1),2)<6,CHOOSE(WEEKDAY(DATE(YEAR($B18),MONTH($B18),GJ1),2),1,5,9,13,17)+COUNTIF($GA$1:GJ1,GJ1)-1,0)) -> 3 | GK2: =IF(COUNTIF(Fériés,DATE(YEAR($B18),MONTH($B18),GK1))>0,0,IF(WEEKDAY(DATE(YEAR($B18),MONTH($B18),GK1),2)<6,CHOOSE(WEEKDAY(DATE(YEAR($B18),MONTH($B18),GK1),2),1,5,9,13,17)+COUNTIF($GA$1:GK1,GK1)-1,0)) -> 4 | GL2: =IF(COUNTIF(Fériés,DATE(YEAR($B18),MONTH($B18),GL1))>0,0,IF(WEEKDAY(DATE(YEAR($B18),MONTH($B18),GL1),2)<6,CHOOSE(WEEKDAY(DATE(YEAR($B18),MONTH($B18),GL1),2),1,5,9,13,17)+COUNTIF($GA$1:GL1,GL1)-1,0)) -> 5 | GM2: =IF(COUNTIF(Fériés,DATE(YEAR($B18),MONTH($B18),GM1))>0,0,IF(WEEKDAY(DATE(YEAR($B18),MONTH($B18),GM1),2)<6,CHOOSE(WEEKDAY(DATE(YEAR($B18),MONTH($B18),GM1),2),1,5,9,13,17)+COUNTIF($GA$1:GM1,GM1)-1,0)) -> 6 | GN2: =IF(COUNTIF(Fériés,DATE(YEAR($B18),MONTH($B18),GN1))>0,0,IF(WEEKDAY(DATE(YEAR($B18),MONTH($B18),GN1),2)<6,CHOOSE(WEEKDAY(DATE(YEAR($B18),MONTH($B18),GN1),2),1,5,9,13,17)+COUNTIF($GA$1:GN1,GN1)-1,0)) -> 7 | GO2: =IF(COUNTIF(Fériés,DATE(YEAR($B18),MONTH($B18),GO1))>0,0,IF(WEEKDAY(DATE(YEAR($B18),MONTH($B18),GO1),2)<6,CHOOSE(WEEKDAY(DATE(YEAR($B18),MONTH($B18),GO1),2),1,5,9,13,17)+COUNTIF($GA$1:GO1,GO1)-1,0)) -> 8 | ... KS2: =IF(COUNTIF(Fériés,DATE(YEAR($B18),MONTH($B18),KS1))>0,0,IF(WEEKDAY(DATE(YEAR($B18),MONTH($B18),KS1),2)<6,CHOOSE(WEEKDAY(DATE(YEAR($B18),MONTH($B18),KS1),2),1,5,9,13,17)+COUNTIF($GA$1:KS1,KS1)-1,0)) -> 4
C4: NB TH Théo | D4: =IF(COUNTIF(Fériés,D18)>0,"",IF(WEEKDAY(D18,2)>5,"",COUNTA(D$19:D$69))) | E4: =IF(COUNTIF(Fériés,E18)>0,"",IF(WEEKDAY(E18,2)>5,"",COUNTA(E$19:E$69))) | F4: =IF(COUNTIF(Fériés,F18)>0,"",IF(WEEKDAY(F18,2)>5,"",COUNTA(F$19:F$69))) | G4: =IF(COUNTIF(Fériés,G18)>0,"",IF(WEEKDAY(G18,2)>5,"",COUNTA(G$19:G$69))) | H4: =IF(COUNTIF(Fériés,H18)>0,"",IF(WEEKDAY(H18,2)>5,"",COUNTA(H$19:H$74))) -> 42 | I4: =IF(COUNTIF(Fériés,I18)>0,"",IF(WEEKDAY(I18,2)>5,"",COUNTA(I$19:I$74))) -> 38 | J4: =IF(COUNTIF(Fériés,J18)>0,"",IF(WEEKDAY(J18,2)>5,"",COUNTA(J$19:J$74))) -> 41 | K4: =IF(COUNTIF(Fériés,K18)>0,"",IF(WEEKDAY(K18,2)>5,"",COUNTA(K$19:K$74))) -> 38 | L4: =IF(COUNTIF(Fériés,L18)>0,"",IF(WEEKDAY(L18,2)>5,"",COUNTA(L$19:L$74))) -> 40 | M4: =IF(COUNTIF(Fériés,M18)>0,"",IF(WEEKDAY(M18,2)>5,"",COUNTA(M$19:M$74))) -> 37 | N4: =IF(COUNTIF(Fériés,N18)>0,"",IF(WEEKDAY(N18,2)>5,"",COUNTA(N$19:N$74))) -> 42 | O4: =IF(COUNTIF(Fériés,O18)>0,"",IF(WEEKDAY(O18,2)>5,"",COUNTA(O$19:O$74))) -> 40 | ... BK4: =IF(COUNTIF(Fériés,BK18)>0,"",IF(WEEKDAY(BK18,2)>5,"",COUNTA(BK$19:BK$74)))
C5: NB TH ABS | D5: {=SUMPRODUCT(COUNTIF(D19:D74,absences))} -> 3 | E5: {=SUMPRODUCT(COUNTIF(E19:E74,absences))} -> 3 | F5: {=SUMPRODUCT(COUNTIF(F19:F74,absences))} -> 3 | G5: {=SUMPRODUCT(COUNTIF(G19:G74,absences))} -> 3 | H5: {=SUMPRODUCT(COUNTIF(H19:H74,absences))} -> 9 | I5: {=SUMPRODUCT(COUNTIF(I19:I74,absences))} -> 9 | J5: {=SUMPRODUCT(COUNTIF(J19:J74,absences))} -> 11 | K5: {=SUMPRODUCT(COUNTIF(K19:K74,absences))} -> 11 | ... BK5: {=SUMPRODUCT(COUNTIF(BK19:BK74,absences))} -> 3
C6: NB TH prés | D6: =IF(COUNTIF(Fériés,D18)>0,"",IF(WEEKDAY(D18,2)>5,"",D4-D5)) | E6: =IF(COUNTIF(Fériés,E18)>0,"",IF(WEEKDAY(E18,2)>5,"",E4-E5)) | F6: =IF(COUNTIF(Fériés,F18)>0,"",IF(WEEKDAY(F18,2)>5,"",F4-F5)) | G6: =IF(COUNTIF(Fériés,G18)>0,"",IF(WEEKDAY(G18,2)>5,"",G4-G5)) | H6: =IF(COUNTIF(Fériés,H18)>0,"",IF(WEEKDAY(H18,2)>5,"",H4-H5)) -> 33 | I6: =IF(COUNTIF(Fériés,I18)>0,"",IF(WEEKDAY(I18,2)>5,"",I4-I5)) -> 29 | J6: =IF(COUNTIF(Fériés,J18)>0,"",IF(WEEKDAY(J18,2)>5,"",J4-J5)) -> 30 | K6: =IF(COUNTIF(Fériés,K18)>0,"",IF(WEEKDAY(K18,2)>5,"",K4-K5)) -> 27 | ... BK6: =IF(COUNTIF(Fériés,BK18)>0,"",IF(WEEKDAY(BK18,2)>5,"",BK4-BK5))
C10: Repas For | D10: =SUM(D75:D79) -> 0 | E10: =SUM(E75:E79) -> 0 | F10: =SUM(F75:F79) -> 0 | G10: =SUM(G75:G79) -> 0 | H10: =SUM(H75:H79) -> 0 | I10: =SUM(I75:I79) -> 0 | J10: =SUM(J75:J79) -> 0 | K10: =SUM(K75:K79) -> 0 | ... BK10: =SUM(BK75:BK79) -> 0
C11: Repas Sta | D11: {=IFERROR(IF(MOD(COLUMN(),2)=0,SUMPRODUCT(--(RIGHT(OFFSET($B$69,1,COLUMN()-2,COUNTA($B$70:$B$74)),1)=".")),""),"")} | E11: {=IFERROR(IF(MOD(COLUMN(),2)=0,SUMPRODUCT(--(RIGHT(OFFSET($B$69,1,COLUMN()-2,COUNTA($B$70:$B$74)),1)=".")),""),"")} | F11: {=IFERROR(IF(MOD(COLUMN(),2)=0,SUMPRODUCT(--(RIGHT(OFFSET($B$69,1,COLUMN()-2,COUNTA($B$70:$B$74)),1)=".")),""),"")} | G11: {=IFERROR(IF(MOD(COLUMN(),2)=0,SUMPRODUCT(--(RIGHT(OFFSET($B$69,1,COLUMN()-2,COUNTA($B$70:$B$74)),1)=".")),""),"")} | H11: {=IFERROR(IF(MOD(COLUMN(),2)=0,SUMPRODUCT(--(RIGHT(OFFSET($B$69,1,COLUMN()-2,COUNTA($B$70:$B$74)),1)=".")),""),"")} | I11: {=IFERROR(IF(MOD(COLUMN(),2)=0,SUMPRODUCT(--(RIGHT(OFFSET($B$69,1,COLUMN()-2,COUNTA($B$70:$B$74)),1)=".")),""),"")} | J11: {=IFERROR(IF(MOD(COLUMN(),2)=0,SUMPRODUCT(--(RIGHT(OFFSET($B$69,1,COLUMN()-2,COUNTA($B$70:$B$74)),1)=".")),""),"")} | K11: {=IFERROR(IF(MOD(COLUMN(),2)=0,SUMPRODUCT(--(RIGHT(OFFSET($B$69,1,COLUMN()-2,COUNTA($B$70:$B$74)),1)=".")),""),"")} | ... BK11: {=IFERROR(IF(MOD(COLUMN(),2)=0,SUMPRODUCT(--(RIGHT(OFFSET($B$69,1,COLUMN()-2,COUNTA($B$70:$B$74)),1)=".")),""),"")}
C12: Repas Pro | D12: {=IF(MOD(COLUMN(),2)=0,SUMPRODUCT(--(RIGHT(OFFSET($B$79,1,COLUMN()-2,COUNTA($B$80:$B$99)),1)="."))+SUMPRODUCT(--(RIGHT(OFFSET($B$79,1,COLUMN()-2,COUNTA($B$80:$B$99)),1)="p")),"")} -> 0 | E12: {=IF(MOD(COLUMN(),2)=0,SUMPRODUCT(--(RIGHT(OFFSET($B$79,1,COLUMN()-2,COUNTA($B$80:$B$99)),1)="."))+SUMPRODUCT(--(RIGHT(OFFSET($B$79,1,COLUMN()-2,COUNTA($B$80:$B$99)),1)="p")),"")} | F12: {=IF(MOD(COLUMN(),2)=0,SUMPRODUCT(--(RIGHT(OFFSET($B$79,1,COLUMN()-2,COUNTA($B$80:$B$99)),1)="."))+SUMPRODUCT(--(RIGHT(OFFSET($B$79,1,COLUMN()-2,COUNTA($B$80:$B$99)),1)="p")),"")} -> 0 | G12: {=IF(MOD(COLUMN(),2)=0,SUMPRODUCT(--(RIGHT(OFFSET($B$79,1,COLUMN()-2,COUNTA($B$80:$B$99)),1)="."))+SUMPRODUCT(--(RIGHT(OFFSET($B$79,1,COLUMN()-2,COUNTA($B$80:$B$99)),1)="p")),"")} | H12: {=IF(MOD(COLUMN(),2)=0,SUMPRODUCT(--(RIGHT(OFFSET($B$79,1,COLUMN()-2,COUNTA($B$80:$B$99)),1)="."))+SUMPRODUCT(--(RIGHT(OFFSET($B$79,1,COLUMN()-2,COUNTA($B$80:$B$99)),1)="p")),"")} -> 2 | I12: {=IF(MOD(COLUMN(),2)=0,SUMPRODUCT(--(RIGHT(OFFSET($B$79,1,COLUMN()-2,COUNTA($B$80:$B$99)),1)="."))+SUMPRODUCT(--(RIGHT(OFFSET($B$79,1,COLUMN()-2,COUNTA($B$80:$B$99)),1)="p")),"")} | J12: {=IF(MOD(COLUMN(),2)=0,SUMPRODUCT(--(RIGHT(OFFSET($B$79,1,COLUMN()-2,COUNTA($B$80:$B$99)),1)="."))+SUMPRODUCT(--(RIGHT(OFFSET($B$79,1,COLUMN()-2,COUNTA($B$80:$B$99)),1)="p")),"")} -> 2 | K12: {=IF(MOD(COLUMN(),2)=0,SUMPRODUCT(--(RIGHT(OFFSET($B$79,1,COLUMN()-2,COUNTA($B$80:$B$99)),1)="."))+SUMPRODUCT(--(RIGHT(OFFSET($B$79,1,COLUMN()-2,COUNTA($B$80:$B$99)),1)="p")),"")} | ... BK12: {=IF(MOD(COLUMN(),2)=0,SUMPRODUCT(--(RIGHT(OFFSET($B$79,1,COLUMN()-2,COUNTA($B$80:$B$99)),1)="."))+SUMPRODUCT(--(RIGHT(OFFSET($B$79,1,COLUMN()-2,COUNTA($B$80:$B$99)),1)="p")),"")}
C13: Repas TH | D13: {=IF(MOD(COLUMN(),2)=0,SUMPRODUCT(--(RIGHT(OFFSET($B$18,1,COLUMN()-2,COUNTA($B$19:$B$69)),1)=".")),"")} -> 0 | E13: {=IF(MOD(COLUMN(),2)=0,SUMPRODUCT(--(RIGHT(OFFSET($B$18,1,COLUMN()-2,COUNTA($B$19:$B$69)),1)=".")),"")} | F13: {=IF(MOD(COLUMN(),2)=0,SUMPRODUCT(--(RIGHT(OFFSET($B$18,1,COLUMN()-2,COUNTA($B$19:$B$69)),1)=".")),"")} -> 0 | G13: {=IF(MOD(COLUMN(),2)=0,SUMPRODUCT(--(RIGHT(OFFSET($B$18,1,COLUMN()-2,COUNTA($B$19:$B$69)),1)=".")),"")} | H13: {=IF(MOD(COLUMN(),2)=0,SUMPRODUCT(--(RIGHT(OFFSET($B$18,1,COLUMN()-2,COUNTA($B$19:$B$69)),1)=".")),"")} -> 30 | I13: {=IF(MOD(COLUMN(),2)=0,SUMPRODUCT(--(RIGHT(OFFSET($B$18,1,COLUMN()-2,COUNTA($B$19:$B$69)),1)=".")),"")} | J13: {=IF(MOD(COLUMN(),2)=0,SUMPRODUCT(--(RIGHT(OFFSET($B$18,1,COLUMN()-2,COUNTA($B$19:$B$69)),1)=".")),"")} -> 25 | K13: {=IF(MOD(COLUMN(),2)=0,SUMPRODUCT(--(RIGHT(OFFSET($B$18,1,COLUMN()-2,COUNTA($B$19:$B$69)),1)=".")),"")} | ... BK13: {=IF(MOD(COLUMN(),2)=0,SUMPRODUCT(--(RIGHT(OFFSET($B$18,1,COLUMN()-2,COUNTA($B$19:$B$69)),1)=".")),"")}
C15: NB Repas | D15: =SUM(D10:D13) -> 0 | E15: =SUM(E10:E13) -> 0 | F15: =SUM(F10:F13) -> 0 | G15: =SUM(G10:G13) -> 0 | H15: =SUM(H10:H13) -> 32 | I15: =SUM(I10:I13) -> 0 | J15: =SUM(J10:J13) -> 27 | K15: =SUM(K10:K13) -> 0 | ... BK15: =SUM(BK10:BK13) -> 0
D16: =IF(AND(MOD(COLUMN(),2)=0,WEEKDAY(D18,2)=3),_xlfn.ISOWEEKNUM(D18),"") | E16: =IF(AND(MOD(COLUMN(),2)=0,WEEKDAY(E18,2)=3),_xlfn.ISOWEEKNUM(E18),"") | F16: =IF(AND(MOD(COLUMN(),2)=0,WEEKDAY(F18,2)=3),_xlfn.ISOWEEKNUM(F18),"") | G16: =IF(AND(MOD(COLUMN(),2)=0,WEEKDAY(G18,2)=3),_xlfn.ISOWEEKNUM(G18),"") | H16: =IF(AND(MOD(COLUMN(),2)=0,WEEKDAY(H18,2)=3),_xlfn.ISOWEEKNUM(H18),"") | I16: =IF(AND(MOD(COLUMN(),2)=0,WEEKDAY(I18,2)=3),_xlfn.ISOWEEKNUM(I18),"") | J16: =IF(AND(MOD(COLUMN(),2)=0,WEEKDAY(J18,2)=3),_xlfn.ISOWEEKNUM(J18),"") | K16: =IF(AND(MOD(COLUMN(),2)=0,WEEKDAY(K18,2)=3),_xlfn.ISOWEEKNUM(K18),"") | ... BK16: =IF(AND(MOD(COLUMN(),2)=0,WEEKDAY(BK18,2)=3),_xlfn.ISOWEEKNUM(BK18),"")
D17: =IF(AND(MOD(COLUMN(),2)=0,WEEKDAY(D18,2)<6),SUBTOTAL(3,D19:D99),"") | E17: =IF(AND(MOD(COLUMN(),2)=0,WEEKDAY(E18,2)<6),SUBTOTAL(3,E19:E99),"") | F17: =IF(AND(MOD(COLUMN(),2)=0,WEEKDAY(F18,2)<6),SUBTOTAL(3,F19:F99),"") | G17: =IF(AND(MOD(COLUMN(),2)=0,WEEKDAY(G18,2)<6),SUBTOTAL(3,G19:G99),"") | H17: =IF(AND(MOD(COLUMN(),2)=0,WEEKDAY(H18,2)<6),SUBTOTAL(3,H19:H99),"") -> 54 | I17: =IF(AND(MOD(COLUMN(),2)=0,WEEKDAY(I18,2)<6),SUBTOTAL(3,I19:I99),"") | J17: =IF(AND(MOD(COLUMN(),2)=0,WEEKDAY(J18,2)<6),SUBTOTAL(3,J19:J99),"") -> 51 | K17: =IF(AND(MOD(COLUMN(),2)=0,WEEKDAY(K18,2)<6),SUBTOTAL(3,K19:K99),"") | ... BK17: =IF(AND(MOD(COLUMN(),2)=0,WEEKDAY(BK18,2)<6),SUBTOTAL(3,BK19:BK99),"") | CB17: {=NETWORKDAYS.INTL(D18,EOMONTH(D18,0),1,Fériés)-SUMPRODUCT((WEEKDAY(ROW(INDIRECT(D18&":"&EOMONTH(D18,0))))=6)*(COUNTIF(Fériés,ROW(INDIRECT(D18&":"&EOMONTH(D18,0))))=0))*0.5} -> 17
B18: 45962 | C18: At1 | D18: =DATE(YEAR($B18),MONTH($B18),D1) -> 45962 | E18: =DATE(YEAR($B18),MONTH($B18),E1) -> 45962 | F18: =DATE(YEAR($B18),MONTH($B18),F1) -> 45963 | G18: =DATE(YEAR($B18),MONTH($B18),G1) -> 45963 | H18: =DATE(YEAR($B18),MONTH($B18),H1) -> 45964 | I18: =DATE(YEAR($B18),MONTH($B18),I1) -> 45964 | J18: =DATE(YEAR($B18),MONTH($B18),J1) -> 45965 | K18: =DATE(YEAR($B18),MONTH($B18),K1) -> 45965 | ... BK18: =DATE(YEAR($B18),MONTH($B18),BK1) -> 45991 | BL18: Total | BM18: Repas Commandés | BN18: Repas pris | BO18: Repas facturés | BP18: 1mmentaires | BQ18: AT | BR18: A | BS18: C | BT18: CP | BU18: CMAT | BV18: CSS | BW18: ABS | BX18: MAD | BY18: STA | BZ18: ENF | CA18: EVF | CB18: NB.JR.Théo | CC18: Présence Contrat | CD18: Taux Présence | DA18: Total Heures | DB18: =IFERROR(IF(COUNTIF(absences,D19)>0,"",ADDRESS(ROW(),COLUMN()+75+DB2,4,1)-ADDRESS(ROW(),COLUMN()+74+DB2,4,1)),"")
A19: Travailleurs | B19: Pro1 | C19: ='Semaine type'!L4 -> EV | H19: EV. | I19: EV | J19: EV. | K19: EV | L19: EV. | M19: EV | N19: EV. | O19: EV | P19: EV. | V19: EV. | W19: EV | Z19: EV. | AA19: EV | AB19: EV. | AC19: EV | AD19: EV. | AJ19: EV. | AK19: EV | AL19: EV. | AM19: EV | AN19: EV. | AO19: EV | AP19: EV. | AQ19: EV | AR19: EV. | AX19: EV. | AY19: EV | AZ19: EV. | BA19: EV | BB19: EV. | BC19: EV | BD19: EV. | BE19: EV | BF19: EV. | BL19: {=SUMPRODUCT(--(RIGHT(D19:BK19,1)="."))} -> 19 | BQ19: =COUNTIF($D19:$BK19,BQ$18)/2 -> 0 | BR19: =COUNTIF($D19:$BK19,BR$18)/2 -> 0 | BS19: =COUNTIF($D19:$BK19,BS$18)/2 -> 0 | BT19: =COUNTIF($D19:$BK19,BT$18)/2 -> 0 | BU19: =COUNTIF($D19:$BK19,BU$18)/2 -> 0 | BV19: =COUNTIF($D19:$BK19,BV$18)/2 -> 0 | BW19: =COUNTIF($D19:$BK19,BW$18)/2 -> 0 | BX19: =COUNTIF($D19:$BK19,BX$18)/2 -> 0 | ... CA19: =COUNTIF($D19:$BK19,CA$18)/2 -> 0 | CB19: =COUNTA(D19:BK19) -> 34 | CC19: =(CB19/($CB$17*2)) -> 1 | DA19: =SUM(DB19:FK19) -> -0.38541667 | DB19: =IFERROR(IF(COUNTIF(absences,D19)>0,"",IF(D19="PERM",Parametres!$N$25,ADDRESS(ROW(),COLUMN()+76,4,1)-ADDRESS(ROW(),COLUMN()+77,4,1))),) -> 0 | DC19: =IFERROR(IF(COUNTIF(absences,E19)>0,"",IF(E19="PERM",Parametres!$N$25,GB19-GA19)),) -> 0 | DD19: =IFERROR(IF(COUNTIF(absences,F19)>0,"",IF(F19="PERM",Parametres!$N$25,GC19-GB19)),) -> 0 | DE19: =IFERROR(IF(COUNTIF(absences,G19)>0,"",IF(G19="PERM",Parametres!$N$25,GD19-GC19)),) -> 0 | DF19: =IFERROR(IF(COUNTIF(absences,H19)>0,"",IF(H19="PERM",Parametres!$N$25,GE19-GD19)),) -> 0 | DG19: =IFERROR(IF(COUNTIF(absences,I19)>0,"",IF(I19="PERM",Parametres!$N$25,GF19-GE19)),) -> 0 | DH19: =IFERROR(IF(COUNTIF(absences,J19)>0,"",IF(J19="PERM",Parametres!$N$25,GG19-GF19)),) -> 0 | DI19: =IFERROR(IF(COUNTIF(absences,K19)>0,"",IF(K19="PERM",Parametres!$N$25,GH19-GG19)),) -> 0 | DJ19: =IFERROR(IF(COUNTIF(absences,L19)>0,"",IF(L19="PERM",Parametres!$N$25,GI19-GH19)),) -> 0.15972222 | ... FK19: =IFERROR(IF(COUNTIF(absences,BM19)>0,"",IF(BM19="PERM",Parametres!$N$25,IJ19-II19)),) -> 0 | FY19: ↓ Détails horaire par demi-journée ↓ | FZ19: =IF(COUNTIF(Fériés,DATE(YEAR($B$18),MONTH($B$18),FZ$1))>0,"",IF(WEEKDAY(DATE(YEAR($B$18),MONTH($B$18),FZ$1),2)>5,"",INDEX('Semaine type'!$AF$4:$AY$49,MATCH(Novembre!$B19,'Semaine type'!$A$4:$A$49,0),MATCH(FZ$2,'Semaine type'!$AF$2:$AY$2,0)))) | GA19: =IF(COUNTIF(Fériés,DATE(YEAR($B$18),MONTH($B$18),GA$1))>0,"",IF(WEEKDAY(DATE(YEAR($B$18),MONTH($B$18),GA$1),2)>5,"",INDEX('Semaine type'!$AF$4:$AY$49,MATCH(Novembre!$B19,'Semaine type'!$A$4:$A$49,0),MATCH(GA$2,'Semaine type'!$AF$2:$AY$2,0)))) | GB19: =IF(COUNTIF(Fériés,DATE(YEAR($B$18),MONTH($B$18),GB$1))>0,"",IF(WEEKDAY(DATE(YEAR($B$18),MONTH($B$18),GB$1),2)>5,"",INDEX('Semaine type'!$AF$4:$AY$49,MATCH(Novembre!$B19,'Semaine type'!$A$4:$A$49,0),MATCH(GB$2,'Semaine type'!$AF$2:$AY$2,0)))) | GC19: =IF(COUNTIF(Fériés,DATE(YEAR($B$18),MONTH($B$18),GC$1))>0,"",IF(WEEKDAY(DATE(YEAR($B$18),MONTH($B$18),GC$1),2)>5,"",INDEX('Semaine type'!$AF$4:$AY$49,MATCH(Novembre!$B19,'Semaine type'!$A$4:$A$49,0),MATCH(GC$2,'Semaine type'!$AF$2:$AY$2,0)))) | GD19: =IF(COUNTIF(Fériés,DATE(YEAR($B$18),MONTH($B$18),GD$1))>0,"",IF(WEEKDAY(DATE(YEAR($B$18),MONTH($B$18),GD$1),2)>5,"",INDEX('Semaine type'!$AF$4:$AY$49,MATCH(Novembre!$B19,'Semaine type'!$A$4:$A$49,0),MATCH(GD$2,'Semaine type'!$AF$2:$AY$2,0)))) | GE19: =IF(COUNTIF(Fériés,DATE(YEAR($B$18),MONTH($B$18),GE$1))>0,"",IF(WEEKDAY(DATE(YEAR($B$18),MONTH($B$18),GE$1),2)>5,"",INDEX('Semaine type'!$AF$4:$AY$49,MATCH(Novembre!$B19,'Semaine type'!$A$4:$A$49,0),MATCH(GE$2,'Semaine type'!$AF$2:$AY$2,0)))) | GF19: =IF(COUNTIF(Fériés,DATE(YEAR($B$18),MONTH($B$18),GF$1))>0,"",IF(WEEKDAY(DATE(YEAR($B$18),MONTH($B$18),GF$1),2)>5,"",INDEX('Semaine type'!$AF$4:$AY$49,MATCH(Novembre!$B19,'Semaine type'!$A$4:$A$49,0),MATCH(GF$2,'Semaine type'!$AF$2:$AY$2,0)))) | GG19: =IF(COUNTIF(Fériés,DATE(YEAR($B$18),MONTH($B$18),GG$1))>0,"",IF(WEEKDAY(DATE(YEAR($B$18),MONTH($B$18),GG$1),2)>5,"",INDEX('Semaine type'!$AF$4:$AY$49,MATCH(Novembre!$B19,'Semaine type'!$A$4:$A$49,0),MATCH(GG$2,'Semaine type'!$AF$2:$AY$2,0)))) | ... KS19: =IF(COUNTIF(Fériés,DATE(YEAR($B$18),MONTH($B$18),KS$1))>0,"",IF(WEEKDAY(DATE(YEAR($B$18),MONTH($B$18),KS$1),2)>5,"",INDEX('Semaine type'!$AF$4:$AY$49,MATCH(Novembre!$B19,'Semaine type'!$A$4:$A$49,0),MATCH(KS$2,'Semaine type'!$AF$2:$AY$2,0)))) -> 0.70833333
B20: Pro2 | C20: ='Semaine type'!L5 -> STI | H20: STI. | I20: STI | J20: STI. | K20: STI | N20: STI. | O20: STI | V20: STI. | W20: STI | AB20: STI. | AC20: STI | AJ20: STI. | AK20: STI | AL20: STI. | AM20: STI | AP20: STI. | AQ20: STI | AX20: STI. | AY20: STI | AZ20: STI. | BA20: STI | BD20: STI. | BE20: STI | BL20: {=SUMPRODUCT(--(RIGHT(D20:BK20,1)="."))} -> 11 | BQ20: =COUNTIF($D20:$BK20,BQ$18)/2 -> 0 | BR20: =COUNTIF($D20:$BK20,BR$18)/2 -> 0 | BS20: =COUNTIF($D20:$BK20,BS$18)/2 -> 0 | BT20: =COUNTIF($D20:$BK20,BT$18)/2 -> 0 | BU20: =COUNTIF($D20:$BK20,BU$18)/2 -> 0 | BV20: =COUNTIF($D20:$BK20,BV$18)/2 -> 0 | BW20: =COUNTIF($D20:$BK20,BW$18)/2 -> 0 | BX20: =COUNTIF($D20:$BK20,BX$18)/2 -> 0 | ... CA20: =COUNTIF($D20:$BK20,CA$18)/2 -> 0 | CB20: =COUNTA(D20:BK20) -> 22 | CC20: =(CB20/($CB$17*2)) -> 0.64705882 | DA20: =SUM(DB20:FK20) -> 3.3472222 | DB20: =IFERROR(IF(COUNTIF(absences,D20)>0,"",IF(D20="PERM",Parametres!$N$25,GA20-FZ20)),) -> 0 | DC20: =IFERROR(GC20-GB20,"") | DD20: =IFERROR(GE20-GD20,"") | DE20: =IFERROR(GG20-GF20,"") | DF20: =IFERROR(GI20-GH20,"") -> 0.15972222 | DG20: =IFERROR(IF(COUNTIF(absences,I20)>0,"",IF(COUNTIF($D20:$BK20,"PERM")>0,COUNTIF($D20:$BK20,"PERM")*Parametres!$N$25,GF20-GE20)),) -> 0 | DH20: =IFERROR(GM20-GL20,"") -> 0.15972222 | DI20: =IFERROR(GO20-GN20,"") -> 0.14583333 | DJ20: =IFERROR(GQ20-GP20,"") | DK20: =IFERROR(GS20-GR20,"") | DL20: =IFERROR(GU20-GT20,"") -> 0.15972222 | DM20: =IFERROR(GW20-GV20,"") -> 0.13888889 | DN20: =IFERROR(GY20-GX20,"") | DO20: =IFERROR(HA20-GZ20,"") -> 0 | DP20: =IFERROR(HC20-HB20,"") | DQ20: =IFERROR(HE20-HD20,"") | DR20: =IFERROR(HG20-HF20,"") | DS20: =IFERROR(HI20-HH20,"") | DT20: =IFERROR(HK20-HJ20,"") -> 0.15972222 | DU20: =IFERROR(HM20-HL20,"") -> 0.14583333 | DV20: =IFERROR(HO20-HN20,"") | DW20: =IFERROR(HQ20-HP20,"") | DX20: =IFERROR(HS20-HR20,"") | DY20: =IFERROR(HU20-HT20,"") | DZ20: =IFERROR(HW20-HV20,"") -> 0.15972222 | EA20: =IFERROR(HY20-HX20,"") -> 0.13888889 | EB20: =IFERROR(IA20-HZ20,"") | EC20: =IFERROR(IC20-IB20,"") -> 0 | ED20: =IFERROR(IE20-ID20,"") | EE20: =IFERROR(IG20-IF20,"") | EF20: =IFERROR(II20-IH20,"") | EG20: =IFERROR(IK20-IJ20,"") | EH20: =IFERROR(IM20-IL20,"") -> 0.15972222 | EI20: =IFERROR(IO20-IN20,"") -> 0.14583333 | EJ20: =IFERROR(IQ20-IP20,"") -> 0.15972222 | EK20: =IFERROR(IS20-IR20,"") -> 0.14583333 | EL20: =IFERROR(IU20-IT20,"") | EM20: =IFERROR(IW20-IV20,"") | EN20: =IFERROR(IY20-IX20,"") -> 0.15972222 | EO20: =IFERROR(JA20-IZ20,"") -> 0.13888889 | EP20: =IFERROR(JC20-JB20,"") | EQ20: =IFERROR(JE20-JD20,"") -> 0 | ER20: =IFERROR(JG20-JF20,"") | ES20: =IFERROR(JI20-JH20,"") | ET20: =IFERROR(JK20-JJ20,"") | EU20: =IFERROR(IF(COUNTIF(absences,AW20)>0,"",IF(COUNTIF($D20:$BK20,"PERM")>0,COUNTIF($D20:$BK20,"PERM")*Parametres!$N$25,IW20-IV20)),) -> 0 | EV20: =IFERROR(JO20-JN20,"") -> 0.15972222 | EW20: =IFERROR(JQ20-JP20,"") -> 0.14583333 | EX20: =IFERROR(JS20-JR20,"") -> 0.15972222 | EY20: =IFERROR(JU20-JT20,"") -> 0.14583333 | EZ20: =IFERROR(JW20-JV20,"") | FA20: =IFERROR(JY20-JX20,"") | FB20: =IFERROR(KA20-JZ20,"") -> 0.15972222 | FC20: =IFERROR(KC20-KB20,"") -> 0.13888889 | FD20: =IFERROR(KE20-KD20,"") | FE20: =IFERROR(KG20-KF20,"") -> 0 | FF20: =IFERROR(KI20-KH20,"") | FG20: =IFERROR(KK20-KJ20,"") | FH20: =IFERROR(IF(COUNTIF(absences,BJ20)>0,"",IF(COUNTIF($D20:$BK20,"PERM")>0,COUNTIF($D20:$BK20,"PERM")*Parametres!$N$25,JJ20-JI20)),) -> 0 | FI20: =IFERROR(KO20-KN20,"") | FJ20: =IFERROR(KQ20-KP20,"") -> 0.15972222 | FK20: =IFERROR(IF(COUNTIF(absences,BM20)>0,"",IF(COUNTIF($D20:$BK20,"PERM")>0,COUNTIF($D20:$BK20,"PERM")*Parametres!$N$25,JM20-JL20)),) -> 0 | FZ20: =IF(COUNTIF(Fériés,DATE(YEAR($B$18),MONTH($B$18),FZ$1))>0,"",IF(WEEKDAY(DATE(YEAR($B$18),MONTH($B$18),FZ$1),2)>5,"",INDEX('Semaine type'!$AF$4:$AY$49,MATCH(Novembre!$B20,'Semaine type'!$A$4:$A$49,0),MATCH(FZ$2,'Semaine type'!$AF$2:$AY$2,0)))) | GA20: =IF(COUNTIF(Fériés,DATE(YEAR($B$18),MONTH($B$18),GA$1))>0,"",IF(WEEKDAY(DATE(YEAR($B$18),MONTH($B$18),GA$1),2)>5,"",INDEX('Semaine type'!$AF$4:$AY$49,MATCH(Novembre!$B20,'Semaine type'!$A$4:$A$49,0),MATCH(GA$2,'Semaine type'!$AF$2:$AY$2,0)))) | GB20: =IF(COUNTIF(Fériés,DATE(YEAR($B$18),MONTH($B$18),GB$1))>0,"",IF(WEEKDAY(DATE(YEAR($B$18),MONTH($B$18),GB$1),2)>5,"",INDEX('Semaine type'!$AF$4:$AY$49,MATCH(Novembre!$B20,'Semaine type'!$A$4:$A$49,0),MATCH(GB$2,'Semaine type'!$AF$2:$AY$2,0)))) | GC20: =IF(COUNTIF(Fériés,DATE(YEAR($B$18),MONTH($B$18),GC$1))>0,"",IF(WEEKDAY(DATE(YEAR($B$18),MONTH($B$18),GC$1),2)>5,"",INDEX('Semaine type'!$AF$4:$AY$49,MATCH(Novembre!$B20,'Semaine type'!$A$4:$A$49,0),MATCH(GC$2,'Semaine type'!$AF$2:$AY$2,0)))) | GD20: =IF(COUNTIF(Fériés,DATE(YEAR($B$18),MONTH($B$18),GD$1))>0,"",IF(WEEKDAY(DATE(YEAR($B$18),MONTH($B$18),GD$1),2)>5,"",INDEX('Semaine type'!$AF$4:$AY$49,MATCH(Novembre!$B20,'Semaine type'!$A$4:$A$49,0),MATCH(GD$2,'Semaine type'!$AF$2:$AY$2,0)))) | GE20: =IF(COUNTIF(Fériés,DATE(YEAR($B$18),MONTH($B$18),GE$1))>0,"",IF(WEEKDAY(DATE(YEAR($B$18),MONTH($B$18),GE$1),2)>5,"",INDEX('Semaine type'!$AF$4:$AY$49,MATCH(Novembre!$B20,'Semaine type'!$A$4:$A$49,0),MATCH(GE$2,'Semaine type'!$AF$2:$AY$2,0)))) | GF20: =IF(COUNTIF(Fériés,DATE(YEAR($B$18),MONTH($B$18),GF$1))>0,"",IF(WEEKDAY(DATE(YEAR($B$18),MONTH($B$18),GF$1),2)>5,"",INDEX('Semaine type'!$AF$4:$AY$49,MATCH(Novembre!$B20,'Semaine type'!$A$4:$A$49,0),MATCH(GF$2,'Semaine type'!$AF$2:$AY$2,0)))) | GG20: =IF(COUNTIF(Fériés,DATE(YEAR($B$18),MONTH($B$18),GG$1))>0,"",IF(WEEKDAY(DATE(YEAR($B$18),MONTH($B$18),GG$1),2)>5,"",INDEX('Semaine type'!$AF$4:$AY$49,MATCH(Novembre!$B20,'Semaine type'!$A$4:$A$49,0),MATCH(GG$2,'Semaine type'!$AF$2:$AY$2,0)))) | ... KS20: =IF(COUNTIF(Fériés,DATE(YEAR($B$18),MONTH($B$18),KS$1))>0,"",IF(WEEKDAY(DATE(YEAR($B$18),MONTH($B$18),KS$1),2)>5,"",INDEX('Semaine type'!$AF$4:$AY$49,MATCH(Novembre!$B20,'Semaine type'!$A$4:$A$49,0),MATCH(KS$2,'Semaine type'!$AF$2:$AY$2,0)))) -> 0.70833333
B21: Pro3 | C21: ='Semaine type'!L6 -> R STI | H21: STI / R. | I21: R | J21: STI / R. | K21: R | L21: STI / R. | M21: R | N21: STI / R. | O21: R | V21: STI / R. | W21: R | Z21: STI / R. | AA21: R | AB21: STI / R. | AC21: R | AF21: PERM | AH21: PERM | AJ21: STI / R. | AK21: R | AL21: STI / R. | AM21: R | AN21: STI / R. | AO21: R | AP21: STI / R. | AQ21: REC | AX21: STI / R. | AY21: R | AZ21: STI / R. | BA21: R | BB21: STI / R. | BC21: R | BD21: STI / R. | BE21: R | BL21: {=SUMPRODUCT(--(RIGHT(D21:BK21,1)="."))} -> 15 | BQ21: =COUNTIF($D21:$BK21,BQ$18)/2 -> 0 | BR21: =COUNTIF($D21:$BK21,BR$18)/2 -> 0 | BS21: =COUNTIF($D21:$BK21,BS$18)/2 -> 0 | BT21: =COUNTIF($D21:$BK21,BT$18)/2 -> 0 | BU21: =COUNTIF($D21:$BK21,BU$18)/2 -> 0 | BV21: =COUNTIF($D21:$BK21,BV$18)/2 -> 0 | BW21: =COUNTIF($D21:$BK21,BW$18)/2 -> 0 | BX21: =COUNTIF($D21:$BK21,BX$18)/2 -> 0 | ... CA21: =COUNTIF($D21:$BK21,CA$18)/2 -> 0 | CB21: =COUNTA(D21:BK21) -> 32 | CC21: =(CB21/($CB$17*2)) -> 0.94117647 | DA21: =SUM(DB21:FK21) -> 4.25 | DB21: =IFERROR(IF(COUNTIF(absences,D21)>0,"",IF(D21="PERM",Parametres!$N$25,GA21-FZ21)),) -> 0 | DC21: =IFERROR(GC21-GB21,"") | DD21: =IFERROR(GE21-GD21,"") | DE21: =IFERROR(GG21-GF21,"") | DF21: =IFERROR(GI21-GH21,"") -> 0.09375 | DG21: =IFERROR(IF(COUNTIF(absences,I21)>0,"",IF(COUNTIF($D21:$BK21,"PERM")>0,COUNTIF($D21:$BK21,"PERM")*Parametres!$N$25,GF21-GE21)),) -> 0.25 | DH21: =IFERROR(GM21-GL21,"") -> 0.09375 | DI21: =IFERROR(GO21-GN21,"") -> 0.125 | DJ21: =IFERROR(GQ21-GP21,"") -> 0.09375 | DK21: =IFERROR(GS21-GR21,"") -> 0.125 | DL21: =IFERROR(GU21-GT21,"") -> 0.09375 | DM21: =IFERROR(GW21-GV21,"") -> 0.125 | DN21: =IFERROR(GY21-GX21,"") | DO21: =IFERROR(HA21-GZ21,"") -> 0 | DP21: =IFERROR(HC21-HB21,"") | DQ21: =IFERROR(HE21-HD21,"") | DR21: =IFERROR(HG21-HF21,"") | DS21: =IFERROR(HI21-HH21,"") | DT21: =IFERROR(HK21-HJ21,"") -> 0.09375 | DU21: =IFERROR(HM21-HL21,"") -> 0.125 | DV21: =IFERROR(HO21-HN21,"") | DW21: =IFERROR(HQ21-HP21,"") | DX21: =IFERROR(HS21-HR21,"") -> 0.09375 | DY21: =IFERROR(HU21-HT21,"") -> 0.125 | DZ21: =IFERROR(HW21-HV21,"") -> 0.09375 | EA21: =IFERROR(HY21-HX21,"") -> 0.125 | EB21: =IFERROR(IA21-HZ21,"") | EC21: =IFERROR(IC21-IB21,"") -> 0 | ED21: =IFERROR(IE21-ID21,"") | EE21: =IFERROR(IG21-IF21,"") | EF21: =IFERROR(II21-IH21,"") | EG21: =IFERROR(IK21-IJ21,"") | EH21: =IFERROR(IM21-IL21,"") -> 0.09375 | EI21: =IFERROR(IO21-IN21,"") -> 0.125 | EJ21: =IFERROR(IQ21-IP21,"") -> 0.09375 | EK21: =IFERROR(IS21-IR21,"") -> 0.125 | EL21: =IFERROR(IU21-IT21,"") -> 0.09375 | EM21: =IFERROR(IW21-IV21,"") -> 0.125 | EN21: =IFERROR(IY21-IX21,"") -> 0.09375 | EO21: =IFERROR(JA21-IZ21,"") -> 0.125 | EP21: =IFERROR(JC21-JB21,"") | EQ21: =IFERROR(JE21-JD21,"") -> 0 | ER21: =IFERROR(JG21-JF21,"") | ES21: =IFERROR(JI21-JH21,"") | ET21: =IFERROR(JK21-JJ21,"") | EU21: =IFERROR(IF(COUNTIF(absences,AW21)>0,"",IF(COUNTIF($D21:$BK21,"PERM")>0,COUNTIF($D21:$BK21,"PERM")*Parametres!$N$25,IW21-IV21)),) -> 0.25 | EV21: =IFERROR(JO21-JN21,"") -> 0.09375 | EW21: =IFERROR(JQ21-JP21,"") -> 0.125 | EX21: =IFERROR(JS21-JR21,"") -> 0.09375 | EY21: =IFERROR(JU21-JT21,"") -> 0.125 | EZ21: =IFERROR(JW21-JV21,"") -> 0.09375 | FA21: =IFERROR(JY21-JX21,"") -> 0.125 | FB21: =IFERROR(KA21-JZ21,"") -> 0.09375 | FC21: =IFERROR(KC21-KB21,"") -> 0.125 | FD21: =IFERROR(KE21-KD21,"") | FE21: =IFERROR(KG21-KF21,"") -> 0 | FF21: =IFERROR(KI21-KH21,"") | FG21: =IFERROR(KK21-KJ21,"") | FH21: =IFERROR(IF(COUNTIF(absences,BJ21)>0,"",IF(COUNTIF($D21:$BK21,"PERM")>0,COUNTIF($D21:$BK21,"PERM")*Parametres!$N$25,JJ21-JI21)),) -> 0.25 | FI21: =IFERROR(KO21-KN21,"") | FJ21: =IFERROR(KQ21-KP21,"") -> 0.09375 | FK21: =IFERROR(IF(COUNTIF(absences,BM21)>0,"",IF(COUNTIF($D21:$BK21,"PERM")>0,COUNTIF($D21:$BK21,"PERM")*Parametres!$N$25,JM21-JL21)),) -> 0.25 | FZ21: =IF(COUNTIF(Fériés,DATE(YEAR($B$18),MONTH($B$18),FZ$1))>0,"",IF(WEEKDAY(DATE(YEAR($B$18),MONTH($B$18),FZ$1),2)>5,"",INDEX('Semaine type'!$AF$4:$AY$49,MATCH(Novembre!$B21,'Semaine type'!$A$4:$A$49,0),MATCH(FZ$2,'Semaine type'!$AF$2:$AY$2,0)))) | GA21: =IF(COUNTIF(Fériés,DATE(YEAR($B$18),MONTH($B$18),GA$1))>0,"",IF(WEEKDAY(DATE(YEAR($B$18),MONTH($B$18),GA$1),2)>5,"",INDEX('Semaine type'!$AF$4:$AY$49,MATCH(Novembre!$B21,'Semaine type'!$A$4:$A$49,0),MATCH(GA$2,'Semaine type'!$AF$2:$AY$2,0)))) | GB21: =IF(COUNTIF(Fériés,DATE(YEAR($B$18),MONTH($B$18),GB$1))>0,"",IF(WEEKDAY(DATE(YEAR($B$18),MONTH($B$18),GB$1),2)>5,"",INDEX('Semaine type'!$AF$4:$AY$49,MATCH(Novembre!$B21,'Semaine type'!$A$4:$A$49,0),MATCH(GB$2,'Semaine type'!$AF$2:$AY$2,0)))) | GC21: =IF(COUNTIF(Fériés,DATE(YEAR($B$18),MONTH($B$18),GC$1))>0,"",IF(WEEKDAY(DATE(YEAR($B$18),MONTH($B$18),GC$1),2)>5,"",INDEX('Semaine type'!$AF$4:$AY$49,MATCH(Novembre!$B21,'Semaine type'!$A$4:$A$49,0),MATCH(GC$2,'Semaine type'!$AF$2:$AY$2,0)))) | GD21: =IF(COUNTIF(Fériés,DATE(YEAR($B$18),MONTH($B$18),GD$1))>0,"",IF(WEEKDAY(DATE(YEAR($B$18),MONTH($B$18),GD$1),2)>5,"",INDEX('Semaine type'!$AF$4:$AY$49,MATCH(Novembre!$B21,'Semaine type'!$A$4:$A$49,0),MATCH(GD$2,'Semaine type'!$AF$2:$AY$2,0)))) | GE21: =IF(COUNTIF(Fériés,DATE(YEAR($B$18),MONTH($B$18),GE$1))>0,"",IF(WEEKDAY(DATE(YEAR($B$18),MONTH($B$18),GE$1),2)>5,"",INDEX('Semaine type'!$AF$4:$AY$49,MATCH(Novembre!$B21,'Semaine type'!$A$4:$A$49,0),MATCH(GE$2,'Semaine type'!$AF$2:$AY$2,0)))) | GF21: =IF(COUNTIF(Fériés,DATE(YEAR($B$18),MONTH($B$18),GF$1))>0,"",IF(WEEKDAY(DATE(YEAR($B$18),MONTH($B$18),GF$1),2)>5,"",INDEX('Semaine type'!$AF$4:$AY$49,MATCH(Novembre!$B21,'Semaine type'!$A$4:$A$49,0),MATCH(GF$2,'Semaine type'!$AF$2:$AY$2,0)))) | GG21: =IF(COUNTIF(Fériés,DATE(YEAR($B$18),MONTH($B$18),GG$1))>0,"",IF(WEEKDAY(DATE(YEAR($B$18),MONTH($B$18),GG$1),2)>5,"",INDEX('Semaine type'!$AF$4:$AY$49,MATCH(Novembre!$B21,'Semaine type'!$A$4:$A$49,0),MATCH(GG$2,'Semaine type'!$AF$2:$AY$2,0)))) | ... KS21: =IF(COUNTIF(Fériés,DATE(YEAR($B$18),MONTH($B$18),KS$1))>0,"",IF(WEEKDAY(DATE(YEAR($B$18),MONTH($B$18),KS$1),2)>5,"",INDEX('Semaine type'!$AF$4:$AY$49,MATCH(Novembre!$B21,'Semaine type'!$A$4:$A$49,0),MATCH(KS$2,'Semaine type'!$AF$2:$AY$2,0)))) -> 0.64583333
B22: Pro4 | C22: ='Semaine type'!L7 -> EL PA | D22: A | E22: A | F22: A | G22: A | H22: A | I22: A | J22: A | K22: A | L22: A | M22: A | N22: A | O22: A | P22: A | Q22: A | R22: A | S22: A | T22: A | U22: A | V22: A | W22: A | X22: A | Y22: A | Z22: A | AA22: A | AB22: A | AC22: A | AD22: A | AE22: A | AF22: A | AG22: A | AH22: A | AI22: A | AJ22: CMAT | AK22: CMAT | AL22: CMAT | AM22: CMAT | AN22: CMAT | AO22: CMAT | AP22: CMAT | AQ22: CMAT | AR22: CMAT | AS22: CMAT | AT22: CMAT | AU22: CMAT | AV22: CMAT | AW22: CMAT | AX22: CMAT | AY22: CMAT | AZ22: CMAT | BA22: CMAT | BB22: CMAT | BC22: CMAT | BD22: CMAT | BE22: CMAT | BF22: CMAT | BG22: CMAT | BH22: CMAT | BI22: CMAT | BJ22: CMAT | BK22: CMAT | BL22: {=SUMPRODUCT(--(RIGHT(D22:BK22,1)="."))} -> 0 | BQ22: =COUNTIF($D22:$BK22,BQ$18)/2 -> 0 | BR22: =COUNTIF($D22:$BK22,BR$18)/2 -> 16 | BS22: =COUNTIF($D22:$BK22,BS$18)/2 -> 0 | BT22: =COUNTIF($D22:$BK22,BT$18)/2 -> 0 | BU22: =COUNTIF($D22:$BK22,BU$18)/2 -> 14 | BV22: =COUNTIF($D22:$BK22,BV$18)/2 -> 0 | BW22: =COUNTIF($D22:$BK22,BW$18)/2 -> 0 | BX22: =COUNTIF($D22:$BK22,BX$18)/2 -> 0 | ... CA22: =COUNTIF($D22:$BK22,CA$18)/2 -> 0 | CB22: =COUNTA(D22:BK22) -> 60 | CC22: =(CB22/($CB$17*2)) -> 1.7647059 | DA22: =SUM(DB22:FK22) -> 3.9861111 | DB22: =IFERROR(IF(COUNTIF(absences,D22)>0,"",IF(D22="PERM",Parametres!$N$25,GA22-FZ22)),) | DC22: =IFERROR(GC22-GB22,"") | DD22: =IFERROR(GE22-GD22,"") | DE22: =IFERROR(GG22-GF22,"") | DF22: =IFERROR(GI22-GH22,"") -> 0.15972222 | DG22: =IFERROR(IF(COUNTIF(absences,I22)>0,"",IF(COUNTIF($D22:$BK22,"PERM")>0,COUNTIF($D22:$BK22,"PERM")*Parametres!$N$25,GF22-GE22)),) | DH22: =IFERROR(GM22-GL22,"") -> 0.15972222 | DI22: =IFERROR(GO22-GN22,"") -> 0.14583333 | DJ22: =IFERROR(GQ22-GP22,"") | DK22: =IFERROR(GS22-GR22,"") | DL22: =IFERROR(GU22-GT22,"") -> 0.15972222 | DM22: =IFERROR(GW22-GV22,"") -> 0.13888889 | DN22: =IFERROR(GY22-GX22,"") -> 0.15972222 | DO22: =IFERROR(HA22-GZ22,"") -> 0 | DP22: =IFERROR(HC22-HB22,"") | DQ22: =IFERROR(HE22-HD22,"") | DR22: =IFERROR(HG22-HF22,"") | DS22: =IFERROR(HI22-HH22,"") | DT22: =IFERROR(HK22-HJ22,"") -> 0.15972222 | DU22: =IFERROR(HM22-HL22,"") -> 0.14583333 | DV22: =IFERROR(HO22-HN22,"") | DW22: =IFERROR(HQ22-HP22,"") | DX22: =IFERROR(HS22-HR22,"") | DY22: =IFERROR(HU22-HT22,"") | DZ22: =IFERROR(HW22-HV22,"") -> 0.15972222 | EA22: =IFERROR(HY22-HX22,"") -> 0.13888889 | EB22: =IFERROR(IA22-HZ22,"") -> 0.15972222 | EC22: =IFERROR(IC22-IB22,"") -> 0 | ED22: =IFERROR(IE22-ID22,"") | EE22: =IFERROR(IG22-IF22,"") | EF22: =IFERROR(II22-IH22,"") | EG22: =IFERROR(IK22-IJ22,"") | EH22: =IFERROR(IM22-IL22,"") -> 0.15972222 | EI22: =IFERROR(IO22-IN22,"") -> 0.14583333 | EJ22: =IFERROR(IQ22-IP22,"") -> 0.15972222 | EK22: =IFERROR(IS22-IR22,"") -> 0.14583333 | EL22: =IFERROR(IU22-IT22,"") | EM22: =IFERROR(IW22-IV22,"") | EN22: =IFERROR(IY22-IX22,"") -> 0.15972222 | EO22: =IFERROR(JA22-IZ22,"") -> 0.13888889 | EP22: =IFERROR(JC22-JB22,"") -> 0.15972222 | EQ22: =IFERROR(JE22-JD22,"") -> 0 | ER22: =IFERROR(JG22-JF22,"") | ES22: =IFERROR(JI22-JH22,"") | ET22: =IFERROR(JK22-JJ22,"") | EU22: =IFERROR(IF(COUNTIF(absences,AW22)>0,"",IF(COUNTIF($D22:$BK22,"PERM")>0,COUNTIF($D22:$BK22,"PERM")*Parametres!$N$25,IW22-IV22)),) | EV22: =IFERROR(JO22-JN22,"") -> 0.15972222 | EW22: =IFERROR(JQ22-JP22,"") -> 0.14583333 | EX22: =IFERROR(JS22-JR22,"") -> 0.15972222 | EY22: =IFERROR(JU22-JT22,"") -> 0.14583333 | EZ22: =IFERROR(JW22-JV22,"") | FA22: =IFERROR(JY22-JX22,"") | FB22: =IFERROR(KA22-JZ22,"") -> 0.15972222 | FC22: =IFERROR(KC22-KB22,"") -> 0.13888889 | FD22: =IFERROR(KE22-KD22,"") -> 0.15972222 | FE22: =IFERROR(KG22-KF22,"") -> 0 | FF22: =IFERROR(KI22-KH22,"") | FG22: =IFERROR(KK22-KJ22,"") | FH22: =IFERROR(IF(COUNTIF(absences,BJ22)>0,"",IF(COUNTIF($D22:$BK22,"PERM")>0,COUNTIF($D22:$BK22,"PERM")*Parametres!$N$25,JJ22-JI22)),) | FI22: =IFERROR(KO22-KN22,"") | FJ22: =IFERROR(KQ22-KP22,"") -> 0.15972222 | FK22: =IFERROR(IF(COUNTIF(absences,BM22)>0,"",IF(COUNTIF($D22:$BK22,"PERM")>0,COUNTIF($D22:$BK22,"PERM")*Parametres!$N$25,JM22-JL22)),) -> 0 | FZ22: =IF(COUNTIF(Fériés,DATE(YEAR($B$18),MONTH($B$18),FZ$1))>0,"",IF(WEEKDAY(DATE(YEAR($B$18),MONTH($B$18),FZ$1),2)>5,"",INDEX('Semaine type'!$AF$4:$AY$49,MATCH(Novembre!$B22,'Semaine type'!$A$4:$A$49,0),MATCH(FZ$2,'Semaine type'!$AF$2:$AY$2,0)))) | GA22: =IF(COUNTIF(Fériés,DATE(YEAR($B$18),MONTH($B$18),GA$1))>0,"",IF(WEEKDAY(DATE(YEAR($B$18),MONTH($B$18),GA$1),2)>5,"",INDEX('Semaine type'!$AF$4:$AY$49,MATCH(Novembre!$B22,'Semaine type'!$A$4:$A$49,0),MATCH(GA$2,'Semaine type'!$AF$2:$AY$2,0)))) | GB22: =IF(COUNTIF(Fériés,DATE(YEAR($B$18),MONTH($B$18),GB$1))>0,"",IF(WEEKDAY(DATE(YEAR($B$18),MONTH($B$18),GB$1),2)>5,"",INDEX('Semaine type'!$AF$4:$AY$49,MATCH(Novembre!$B22,'Semaine type'!$A$4:$A$49,0),MATCH(GB$2,'Semaine type'!$AF$2:$AY$2,0)))) | GC22: =IF(COUNTIF(Fériés,DATE(YEAR($B$18),MONTH($B$18),GC$1))>0,"",IF(WEEKDAY(DATE(YEAR($B$18),MONTH($B$18),GC$1),2)>5,"",INDEX('Semaine type'!$AF$4:$AY$49,MATCH(Novembre!$B22,'Semaine type'!$A$4:$A$49,0),MATCH(GC$2,'Semaine type'!$AF$2:$AY$2,0)))) | GD22: =IF(COUNTIF(Fériés,DATE(YEAR($B$18),MONTH($B$18),GD$1))>0,"",IF(WEEKDAY(DATE(YEAR($B$18),MONTH($B$18),GD$1),2)>5,"",INDEX('Semaine type'!$AF$4:$AY$49,MATCH(Novembre!$B22,'Semaine type'!$A$4:$A$49,0),MATCH(GD$2,'Semaine type'!$AF$2:$AY$2,0)))) | GE22: =IF(COUNTIF(Fériés,DATE(YEAR($B$18),MONTH($B$18),GE$1))>0,"",IF(WEEKDAY(DATE(YEAR($B$18),MONTH($B$18),GE$1),2)>5,"",INDEX('Semaine type'!$AF$4:$AY$49,MATCH(Novembre!$B22,'Semaine type'!$A$4:$A$49,0),MATCH(GE$2,'Semaine type'!$AF$2:$AY$2,0)))) | GF22: =IF(COUNTIF(Fériés,DATE(YEAR($B$18),MONTH($B$18),GF$1))>0,"",IF(WEEKDAY(DATE(YEAR($B$18),MONTH($B$18),GF$1),2)>5,"",INDEX('Semaine type'!$AF$4:$AY$49,MATCH(Novembre!$B22,'Semaine type'!$A$4:$A$49,0),MATCH(GF$2,'Semaine type'!$AF$2:$AY$2,0)))) | GG22: =IF(COUNTIF(Fériés,DATE(YEAR($B$18),MONTH($B$18),GG$1))>0,"",IF(WEEKDAY(DATE(YEAR($B$18),MONTH($B$18),GG$1),2)>5,"",INDEX('Semaine type'!$AF$4:$AY$49,MATCH(Novembre!$B22,'Semaine type'!$A$4:$A$49,0),MATCH(GG$2,'Semaine type'!$AF$2:$AY$2,0)))) | ... KS22: =IF(COUNTIF(Fériés,DATE(YEAR($B$18),MONTH($B$18),KS$1))>0,"",IF(WEEKDAY(DATE(YEAR($B$18),MONTH($B$18),KS$1),2)>5,"",INDEX('Semaine type'!$AF$4:$AY$49,MATCH(Novembre!$B22,'Semaine type'!$A$4:$A$49,0),MATCH(KS$2,'Semaine type'!$AF$2:$AY$2,0)))) -> 0.70833333
B23: Pro5 | C23: ='Semaine type'!L8 -> EL PA | H23: PA. | J23: EL. | L23: . | M23: EL | N23: . | O23: EL | P23: PA. | V23: PA. | Z23: . | AA23: EL | AB23: . | AC23: EL | AD23: PA. | AJ23: PA. | AL23: EL. | AN23: . | AO23: EL | AP23: . | AQ23: EL | AR23: CP | AS23: CP | AT23: CP | AU23: CP | AX23: PA. | AZ23: EL. | BB23: . | BC23: EL | BD23: . | BE23: EL | BF23: PA. | BL23: {=SUMPRODUCT(--(RIGHT(D23:BK23,1)="."))} -> 18 | BQ23: =COUNTIF($D23:$BK23,BQ$18)/2 -> 0 | BR23: =COUNTIF($D23:$BK23,BR$18)/2 -> 0 | BS23: =COUNTIF($D23:$BK23,BS$18)/2 -> 0 | BT23: =COUNTIF($D23:$BK23,BT$18)/2 -> 2 | BU23: =COUNTIF($D23:$BK23,BU$18)/2 -> 0 | BV23: =COUNTIF($D23:$BK23,BV$18)/2 -> 0 | BW23: =COUNTIF($D23:$BK23,BW$18)/2 -> 0 | BX23: =COUNTIF($D23:$BK23,BX$18)/2 -> 0 | ... CA23: =COUNTIF($D23:$BK23,CA$18)/2 -> 0 | CB23: =COUNTA(D23:BK23) -> 30 | CC23: =(CB23/($CB$17*2)) -> 0.88235294 | DA23: =SUM(DB23:FK23) -> 5.3541667 | DB23: =IFERROR(IF(COUNTIF(absences,D23)>0,"",IF(D23="PERM",Parametres!$N$25,GA23-FZ23)),) -> 0 | DC23: =IFERROR(GC23-GB23,"") | DD23: =IFERROR(GE23-GD23,"") | DE23: =IFERROR(GG23-GF23,"") | DF23: =IFERROR(GI23-GH23,"") -> 0.15972222 | DG23: =IFERROR(IF(COUNTIF(absences,I23)>0,"",IF(COUNTIF($D23:$BK23,"PERM")>0,COUNTIF($D23:$BK23,"PERM")*Parametres!$N$25,GF23-GE23)),) -> 0 | DH23: =IFERROR(GM23-GL23,"") -> 0.15972222 | DI23: =IFERROR(GO23-GN23,"") -> 0.14583333 | DJ23: =IFERROR(GQ23-GP23,"") -> 0.15972222 | DK23: =IFERROR(GS23-GR23,"") -> 0.14583333 | DL23: =IFERROR(GU23-GT23,"") -> 0.15972222 | DM23: =IFERROR(GW23-GV23,"") -> 0.13888889 | DN23: =IFERROR(GY23-GX23,"") -> 0.15972222 | DO23: =IFERROR(HA23-GZ23,"") -> 0 | DP23: =IFERROR(HC23-HB23,"") | DQ23: =IFERROR(HE23-HD23,"") | DR23: =IFERROR(HG23-HF23,"") | DS23: =IFERROR(HI23-HH23,"") | DT23: =IFERROR(HK23-HJ23,"") -> 0.15972222 | DU23: =IFERROR(HM23-HL23,"") -> 0.14583333 | DV23: =IFERROR(HO23-HN23,"") | DW23: =IFERROR(HQ23-HP23,"") | DX23: =IFERROR(HS23-HR23,"") -> 0.15972222 | DY23: =IFERROR(HU23-HT23,"") -> 0.14583333 | DZ23: =IFERROR(HW23-HV23,"") -> 0.15972222 | EA23: =IFERROR(HY23-HX23,"") -> 0.13888889 | EB23: =IFERROR(IA23-HZ23,"") -> 0.15972222 | EC23: =IFERROR(IC23-IB23,"") -> 0 | ED23: =IFERROR(IE23-ID23,"") | EE23: =IFERROR(IG23-IF23,"") | EF23: =IFERROR(II23-IH23,"") | EG23: =IFERROR(IK23-IJ23,"") | EH23: =IFERROR(IM23-IL23,"") -> 0.15972222 | EI23: =IFERROR(IO23-IN23,"") -> 0.14583333 | EJ23: =IFERROR(IQ23-IP23,"") -> 0.15972222 | EK23: =IFERROR(IS23-IR23,"") -> 0.14583333 | EL23: =IFERROR(IU23-IT23,"") -> 0.15972222 | EM23: =IFERROR(IW23-IV23,"") -> 0.14583333 | EN23: =IFERROR(IY23-IX23,"") -> 0.15972222 | EO23: =IFERROR(JA23-IZ23,"") -> 0.13888889 | EP23: =IFERROR(JC23-JB23,"") -> 0.15972222 | EQ23: =IFERROR(JE23-JD23,"") -> 0 | ER23: =IFERROR(JG23-JF23,"") | ES23: =IFERROR(JI23-JH23,"") | ET23: =IFERROR(JK23-JJ23,"") | EU23: =IFERROR(IF(COUNTIF(absences,AW23)>0,"",IF(COUNTIF($D23:$BK23,"PERM")>0,COUNTIF($D23:$BK23,"PERM")*Parametres!$N$25,IW23-IV23)),) -> 0.14583333 | EV23: =IFERROR(JO23-JN23,"") -> 0.15972222 | EW23: =IFERROR(JQ23-JP23,"") -> 0.14583333 | EX23: =IFERROR(JS23-JR23,"") -> 0.15972222 | EY23: =IFERROR(JU23-JT23,"") -> 0.14583333 | EZ23: =IFERROR(JW23-JV23,"") -> 0.15972222 | FA23: =IFERROR(JY23-JX23,"") -> 0.14583333 | FB23: =IFERROR(KA23-JZ23,"") -> 0.15972222 | FC23: =IFERROR(KC23-KB23,"") -> 0.13888889 | FD23: =IFERROR(KE23-KD23,"") -> 0.15972222 | FE23: =IFERROR(KG23-KF23,"") -> 0 | FF23: =IFERROR(KI23-KH23,"") | FG23: =IFERROR(KK23-KJ23,"") | FH23: =IFERROR(IF(COUNTIF(absences,BJ23)>0,"",IF(COUNTIF($D23:$BK23,"PERM")>0,COUNTIF($D23:$BK23,"PERM")*Parametres!$N$25,JJ23-JI23)),) -> 0 | FI23: =IFERROR(KO23-KN23,"") | FJ23: =IFERROR(KQ23-KP23,"") -> 0.15972222 | FK23: =IFERROR(IF(COUNTIF(absences,BM23)>0,"",IF(COUNTIF($D23:$BK23,"PERM")>0,COUNTIF($D23:$BK23,"PERM")*Parametres!$N$25,JM23-JL23)),) -> 0 | FZ23: =IF(COUNTIF(Fériés,DATE(YEAR($B$18),MONTH($B$18),FZ$1))>0,"",IF(WEEKDAY(DATE(YEAR($B$18),MONTH($B$18),FZ$1),2)>5,"",INDEX('Semaine type'!$AF$4:$AY$49,MATCH(Novembre!$B23,'Semaine type'!$A$4:$A$49,0),MATCH(FZ$2,'Semaine type'!$AF$2:$AY$2,0)))) | GA23: =IF(COUNTIF(Fériés,DATE(YEAR($B$18),MONTH($B$18),GA$1))>0,"",IF(WEEKDAY(DATE(YEAR($B$18),MONTH($B$18),GA$1),2)>5,"",INDEX('Semaine type'!$AF$4:$AY$49,MATCH(Novembre!$B23,'Semaine type'!$A$4:$A$49,0),MATCH(GA$2,'Semaine type'!$AF$2:$AY$2,0)))) | GB23: =IF(COUNTIF(Fériés,DATE(YEAR($B$18),MONTH($B$18),GB$1))>0,"",IF(WEEKDAY(DATE(YEAR($B$18),MONTH($B$18),GB$1),2)>5,"",INDEX('Semaine type'!$AF$4:$AY$49,MATCH(Novembre!$B23,'Semaine type'!$A$4:$A$49,0),MATCH(GB$2,'Semaine type'!$AF$2:$AY$2,0)))) | GC23: =IF(COUNTIF(Fériés,DATE(YEAR($B$18),MONTH($B$18),GC$1))>0,"",IF(WEEKDAY(DATE(YEAR($B$18),MONTH($B$18),GC$1),2)>5,"",INDEX('Semaine type'!$AF$4:$AY$49,MATCH(Novembre!$B23,'Semaine type'!$A$4:$A$49,0),MATCH(GC$2,'Semaine type'!$AF$2:$AY$2,0)))) | GD23: =IF(COUNTIF(Fériés,DATE(YEAR($B$18),MONTH($B$18),GD$1))>0,"",IF(WEEKDAY(DATE(YEAR($B$18),MONTH($B$18),GD$1),2)>5,"",INDEX('Semaine type'!$AF$4:$AY$49,MATCH(Novembre!$B23,'Semaine type'!$A$4:$A$49,0),MATCH(GD$2,'Semaine type'!$AF$2:$AY$2,0)))) | GE23: =IF(COUNTIF(Fériés,DATE(YEAR($B$18),MONTH($B$18),GE$1))>0,"",IF(WEEKDAY(DATE(YEAR($B$18),MONTH($B$18),GE$1),2)>5,"",INDEX('Semaine type'!$AF$4:$AY$49,MATCH(Novembre!$B23,'Semaine type'!$A$4:$A$49,0),MATCH(GE$2,'Semaine type'!$AF$2:$AY$2,0)))) | GF23: =IF(COUNTIF(Fériés,DATE(YEAR($B$18),MONTH($B$18),GF$1))>0,"",IF(WEEKDAY(DATE(YEAR($B$18),MONTH($B$18),GF$1),2)>5,"",INDEX('Semaine type'!$AF$4:$AY$49,MATCH(Novembre!$B23,'Semaine type'!$A$4:$A$49,0),MATCH(GF$2,'Semaine type'!$AF$2:$AY$2,0)))) | GG23: =IF(COUNTIF(Fériés,DATE(YEAR($B$18),MONTH($B$18),GG$1))>0,"",IF(WEEKDAY(DATE(YEAR($B$18),MONTH($B$18),GG$1),2)>5,"",INDEX('Semaine type'!$AF$4:$AY$49,MATCH(Novembre!$B23,'Semaine type'!$A$4:$A$49,0),MATCH(GG$2,'Semaine type'!$AF$2:$AY$2,0)))) | ... KS23: =IF(COUNTIF(Fériés,DATE(YEAR($B$18),MONTH($B$18),KS$1))>0,"",IF(WEEKDAY(DATE(YEAR($B$18),MONTH($B$18),KS$1),2)>5,"",INDEX('Semaine type'!$AF$4:$AY$49,MATCH(Novembre!$B23,'Semaine type'!$A$4:$A$49,0),MATCH(KS$2,'Semaine type'!$AF$2:$AY$2,0)))) -> 0.70833333
B24: Pro6 | C24: ='Semaine type'!L9 -> STI | D24: PERM | F24: PERM | H24: STI. | I24: STI | J24: STI. | K24: STI | L24: CP | M24: CP | N24: STI. | O24: STI | P24: REC | V24: STI. | W24: STI | Z24: STI. | AA24: STI | AB24: STI. | AC24: STI | AD24: STI | AJ24: STI. | AK24: STI | AL24: STI. | AM24: STI | AN24: STI. | AO24: STI | AP24: STI. | AQ24: STI | AR24: STI | AX24: STI. | AY24: STI | AZ24: STI. | BA24: STI | BB24: STI. | BC24: STI | BD24: STI. | BE24: STI | BF24: STI | BL24: {=SUMPRODUCT(--(RIGHT(D24:BK24,1)="."))} -> 14 | BQ24: =COUNTIF($D24:$BK24,BQ$18)/2 -> 0 | BR24: =COUNTIF($D24:$BK24,BR$18)/2 -> 0 | BS24: =COUNTIF($D24:$BK24,BS$18)/2 -> 0 | BT24: =COUNTIF($D24:$BK24,BT$18)/2 -> 1 | BU24: =COUNTIF($D24:$BK24,BU$18)/2 -> 0 | BV24: =COUNTIF($D24:$BK24,BV$18)/2 -> 0 | BW24: =COUNTIF($D24:$BK24,BW$18)/2 -> 0 | BX24: =COUNTIF($D24:$BK24,BX$18)/2 -> 0 | ... CA24: =COUNTIF($D24:$BK24,CA$18)/2 -> 0 | CB24: =COUNTA(D24:BK24) -> 36 | CC24: =(CB24/($CB$17*2)) -> 1.0588235 | DA24: =SUM(DB24:FK24) -> 2.1458333 | DB24: =IFERROR(IF(COUNTIF(absences,D24)>0,"",IF(D24="PERM",Parametres!$N$25,GA24-FZ24)),) -> 0.125 | DC24: =IFERROR(GC24-GB24,"") | DD24: =IFERROR(GE24-GD24,"") | DE24: =IFERROR(GG24-GF24,"") | DF24: =IFERROR(GI24-GH24,"") | DG24: =IFERROR(IF(COUNTIF(absences,I24)>0,"",IF(COUNTIF($D24:$BK24,"PERM")>0,COUNTIF($D24:$BK24,"PERM")*Parametres!$N$25,GF24-GE24)),) -> 0.25 | DH24: =IFERROR(GM24-GL24,"") | DI24: =IFERROR(GO24-GN24,"") | DJ24: =IFERROR(GQ24-GP24,"") | DK24: =IFERROR(GS24-GR24,"") -> 0.14583333 | DL24: =IFERROR(GU24-GT24,"") | DM24: =IFERROR(GW24-GV24,"") | DN24: =IFERROR(GY24-GX24,"") | DO24: =IFERROR(HA24-GZ24,"") -> 0 | DP24: =IFERROR(HC24-HB24,"") | DQ24: =IFERROR(HE24-HD24,"") | DR24: =IFERROR(HG24-HF24,"") | DS24: =IFERROR(HI24-HH24,"") | DT24: =IFERROR(HK24-HJ24,"") | DU24: =IFERROR(HM24-HL24,"") -> 0.14583333 | DV24: =IFERROR(HO24-HN24,"") | DW24: =IFERROR(HQ24-HP24,"") | DX24: =IFERROR(HS24-HR24,"") | DY24: =IFERROR(HU24-HT24,"") -> 0.14583333 | DZ24: =IFERROR(HW24-HV24,"") | EA24: =IFERROR(HY24-HX24,"") | EB24: =IFERROR(IA24-HZ24,"") | EC24: =IFERROR(IC24-IB24,"") -> 0 | ED24: =IFERROR(IE24-ID24,"") | EE24: =IFERROR(IG24-IF24,"") | EF24: =IFERROR(II24-IH24,"") | EG24: =IFERROR(IK24-IJ24,"") | EH24: =IFERROR(IM24-IL24,"") | EI24: =IFERROR(IO24-IN24,"") -> 0.14583333 | EJ24: =IFERROR(IQ24-IP24,"") | EK24: =IFERROR(IS24-IR24,"") | EL24: =IFERROR(IU24-IT24,"") | EM24: =IFERROR(IW24-IV24,"") -> 0.14583333 | EN24: =IFERROR(IY24-IX24,"") | EO24: =IFERROR(JA24-IZ24,"") | EP24: =IFERROR(JC24-JB24,"") | EQ24: =IFERROR(JE24-JD24,"") -> 0 | ER24: =IFERROR(JG24-JF24,"") | ES24: =IFERROR(JI24-JH24,"") | ET24: =IFERROR(JK24-JJ24,"") | EU24: =IFERROR(IF(COUNTIF(absences,AW24)>0,"",IF(COUNTIF($D24:$BK24,"PERM")>0,COUNTIF($D24:$BK24,"PERM")*Parametres!$N$25,IW24-IV24)),) -> 0.25 | EV24: =IFERROR(JO24-JN24,"") | EW24: =IFERROR(JQ24-JP24,"") -> 0.14583333 | EX24: =IFERROR(JS24-JR24,"") | EY24: =IFERROR(JU24-JT24,"") | EZ24: =IFERROR(JW24-JV24,"") | FA24: =IFERROR(JY24-JX24,"") -> 0.14583333 | FB24: =IFERROR(KA24-JZ24,"") | FC24: =IFERROR(KC24-KB24,"") | FD24: =IFERROR(KE24-KD24,"") | FE24: =IFERROR(KG24-KF24,"") -> 0 | FF24: =IFERROR(KI24-KH24,"") | FG24: =IFERROR(KK24-KJ24,"") | FH24: =IFERROR(IF(COUNTIF(absences,BJ24)>0,"",IF(COUNTIF($D24:$BK24,"PERM")>0,COUNTIF($D24:$BK24,"PERM")*Parametres!$N$25,JJ24-JI24)),) -> 0.25 | FI24: =IFERROR(KO24-KN24,"") | FJ24: =IFERROR(KQ24-KP24,"") | FK24: =IFERROR(IF(COUNTIF(absences,BM24)>0,"",IF(COUNTIF($D24:$BK24,"PERM")>0,COUNTIF($D24:$BK24,"PERM")*Parametres!$N$25,JM24-JL24)),) -> 0.25 | FZ24: =IF(COUNTIF(Fériés,DATE(YEAR($B$18),MONTH($B$18),FZ$1))>0,"",IF(WEEKDAY(DATE(YEAR($B$18),MONTH($B$18),FZ$1),2)>5,"",INDEX('Semaine type'!$AF$4:$AY$49,MATCH(Novembre!$B24,'Semaine type'!$A$4:$A$49,0),MATCH(FZ$2,'Semaine type'!$AF$2:$AY$2,0)))) | GA24: =IF(COUNTIF(Fériés,DATE(YEAR($B$18),MONTH($B$18),GA$1))>0,"",IF(WEEKDAY(DATE(YEAR($B$18),MONTH($B$18),GA$1),2)>5,"",INDEX('Semaine type'!$AF$4:$AY$49,MATCH(Novembre!$B24,'Semaine type'!$A$4:$A$49,0),MATCH(GA$2,'Semaine type'!$AF$2:$AY$2,0)))) | GB24: =IF(COUNTIF(Fériés,DATE(YEAR($B$18),MONTH($B$18),GB$1))>0,"",IF(WEEKDAY(DATE(YEAR($B$18),MONTH($B$18),GB$1),2)>5,"",INDEX('Semaine type'!$AF$4:$AY$49,MATCH(Novembre!$B24,'Semaine type'!$A$4:$A$49,0),MATCH(GB$2,'Semaine type'!$AF$2:$AY$2,0)))) | GC24: =IF(COUNTIF(Fériés,DATE(YEAR($B$18),MONTH($B$18),GC$1))>0,"",IF(WEEKDAY(DATE(YEAR($B$18),MONTH($B$18),GC$1),2)>5,"",INDEX('Semaine type'!$AF$4:$AY$49,MATCH(Novembre!$B24,'Semaine type'!$A$4:$A$49,0),MATCH(GC$2,'Semaine type'!$AF$2:$AY$2,0)))) | GD24: =IF(COUNTIF(Fériés,DATE(YEAR($B$18),MONTH($B$18),GD$1))>0,"",IF(WEEKDAY(DATE(YEAR($B$18),MONTH($B$18),GD$1),2)>5,"",INDEX('Semaine type'!$AF$4:$AY$49,MATCH(Novembre!$B24,'Semaine type'!$A$4:$A$49,0),MATCH(GD$2,'Semaine type'!$AF$2:$AY$2,0)))) | GE24: =IF(COUNTIF(Fériés,DATE(YEAR($B$18),MONTH($B$18),GE$1))>0,"",IF(WEEKDAY(DATE(YEAR($B$18),MONTH($B$18),GE$1),2)>5,"",INDEX('Semaine type'!$AF$4:$AY$49,MATCH(Novembre!$B24,'Semaine type'!$A$4:$A$49,0),MATCH(GE$2,'Semaine type'!$AF$2:$AY$2,0)))) | GF24: =IF(COUNTIF(Fériés,DATE(YEAR($B$18),MONTH($B$18),GF$1))>0,"",IF(WEEKDAY(DATE(YEAR($B$18),MONTH($B$18),GF$1),2)>5,"",INDEX('Semaine type'!$AF$4:$AY$49,MATCH(Novembre!$B24,'Semaine type'!$A$4:$A$49,0),MATCH(GF$2,'Semaine type'!$AF$2:$AY$2,0)))) | GG24: =IF(COUNTIF(Fériés,DATE(YEAR($B$18),MONTH($B$18),GG$1))>0,"",IF(WEEKDAY(DATE(YEAR($B$18),MONTH($B$18),GG$1),2)>5,"",INDEX('Semaine type'!$AF$4:$AY$49,MATCH(Novembre!$B24,'Semaine type'!$A$4:$A$49,0),MATCH(GG$2,'Semaine type'!$AF$2:$AY$2,0)))) | ... KS24: =IF(COUNTIF(Fériés,DATE(YEAR($B$18),MONTH($B$18),KS$1))>0,"",IF(WEEKDAY(DATE(YEAR($B$18),MONTH($B$18),KS$1),2)>5,"",INDEX('Semaine type'!$AF$4:$AY$49,MATCH(Novembre!$B24,'Semaine type'!$A$4:$A$49,0),MATCH(KS$2,'Semaine type'!$AF$2:$AY$2,0)))) -> 0.70833333
B25: Pro7 | C25: ='Semaine type'!L10 -> EV | H25: CP | I25: CP | J25: CP | K25: CP | L25: CP | M25: CP | N25: CP | O25: CP | P25: ABS | V25: EV. | W25: EV | Z25: EV. | AA25: EV | AB25: EV. | AC25: EV | AD25: EV | AJ25: EV. | AK25: EV | AL25: EV. | AM25: EV | AN25: EV. | AO25: EV | AP25: EV. | AQ25: EV | AR25: EV | AX25: EV. | AY25: EV | AZ25: EV. | BA25: EV | BB25: EV. | BC25: EV | BD25: EV. | BE25: EV | BF25: EV | BL25: {=SUMPRODUCT(--(RIGHT(D25:BK25,1)="."))} -> 11 | BQ25: =COUNTIF($D25:$BK25,BQ$18)/2 -> 0 | BR25: =COUNTIF($D25:$BK25,BR$18)/2 -> 0 | BS25: =COUNTIF($D25:$BK25,BS$18)/2 -> 0 | BT25: =COUNTIF($D25:$BK25,BT$18)/2 -> 4 | BU25: =COUNTIF($D25:$BK25,BU$18)/2 -> 0 | BV25: =COUNTIF($D25:$BK25,BV$18)/2 -> 0 | BW25: =COUNTIF($D25:$BK25,BW$18)/2 -> 0.5 | BX25: =COUNTIF($D25:$BK25,BX$18)/2 -> 0 | ... CA25: =COUNTIF($D25:$BK25,CA$18)/2 -> 0 | CB25: =COUNTA(D25:BK25) -> 34 | CC25: =(CB25/($CB$17*2)) -> 1 | DA25: =SUM(DB25:FK25) -> 3.2013889 | DB25: =IFERROR(IF(COUNTIF(absences,D25)>0,"",IF(D25="PERM",Parametres!$N$25,GA25-FZ25)),) -> 0 | DC25: =IFERROR(GC25-GB25,"") | DD25: =IFERROR(GE25-GD25,"") | DE25: =IFERROR(GG25-GF25,"") | DF25: =IFERROR(GI25-GH25,"") -> 0.15972222 | DG25: =IFERROR(IF(COUNTIF(absences,I25)>0,"",IF(COUNTIF($D25:$BK25,"PERM")>0,COUNTIF($D25:$BK25,"PERM")*Parametres!$N$25,GF25-GE25)),) | DH25: =IFERROR(GM25-GL25,"") -> 0.15972222 | DI25: =IFERROR(GO25-GN25,"") | DJ25: =IFERROR(GQ25-GP25,"") | DK25: =IFERROR(GS25-GR25,"") -> 0.14583333 | DL25: =IFERROR(GU25-GT25,"") | DM25: =IFERROR(GW25-GV25,"") -> 0.13888889 | DN25: =IFERROR(GY25-GX25,"") -> 0.15972222 | DO25: =IFERROR(HA25-GZ25,"") -> 0 | DP25: =IFERROR(HC25-HB25,"") | DQ25: =IFERROR(HE25-HD25,"") | DR25: =IFERROR(HG25-HF25,"") | DS25: =IFERROR(HI25-HH25,"") | DT25: =IFERROR(HK25-HJ25,"") -> 0.15972222 | DU25: =IFERROR(HM25-HL25,"") | DV25: =IFERROR(HO25-HN25,"") | DW25: =IFERROR(HQ25-HP25,"") | DX25: =IFERROR(HS25-HR25,"") | DY25: =IFERROR(HU25-HT25,"") -> 0.14583333 | DZ25: =IFERROR(HW25-HV25,"") | EA25: =IFERROR(HY25-HX25,"") -> 0.13888889 | EB25: =IFERROR(IA25-HZ25,"") -> 0.15972222 | EC25: =IFERROR(IC25-IB25,"") -> 0 | ED25: =IFERROR(IE25-ID25,"") | EE25: =IFERROR(IG25-IF25,"") | EF25: =IFERROR(II25-IH25,"") | EG25: =IFERROR(IK25-IJ25,"") | EH25: =IFERROR(IM25-IL25,"") -> 0.15972222 | EI25: =IFERROR(IO25-IN25,"") | EJ25: =IFERROR(IQ25-IP25,"") -> 0.15972222 | EK25: =IFERROR(IS25-IR25,"") | EL25: =IFERROR(IU25-IT25,"") | EM25: =IFERROR(IW25-IV25,"") -> 0.14583333 | EN25: =IFERROR(IY25-IX25,"") | EO25: =IFERROR(JA25-IZ25,"") -> 0.13888889 | EP25: =IFERROR(JC25-JB25,"") -> 0.15972222 | EQ25: =IFERROR(JE25-JD25,"") -> 0 | ER25: =IFERROR(JG25-JF25,"") | ES25: =IFERROR(JI25-JH25,"") | ET25: =IFERROR(JK25-JJ25,"") | EU25: =IFERROR(IF(COUNTIF(absences,AW25)>0,"",IF(COUNTIF($D25:$BK25,"PERM")>0,COUNTIF($D25:$BK25,"PERM")*Parametres!$N$25,IW25-IV25)),) -> 0.14583333 | EV25: =IFERROR(JO25-JN25,"") -> 0.15972222 | EW25: =IFERROR(JQ25-JP25,"") | EX25: =IFERROR(JS25-JR25,"") -> 0.15972222 | EY25: =IFERROR(JU25-JT25,"") | EZ25: =IFERROR(JW25-JV25,"") | FA25: =IFERROR(JY25-JX25,"") -> 0.14583333 | FB25: =IFERROR(KA25-JZ25,"") | FC25: =IFERROR(KC25-KB25,"") -> 0.13888889 | FD25: =IFERROR(KE25-KD25,"") -> 0.15972222 | FE25: =IFERROR(KG25-KF25,"") -> 0 | FF25: =IFERROR(KI25-KH25,"") | FG25: =IFERROR(KK25-KJ25,"") | FH25: =IFERROR(IF(COUNTIF(absences,BJ25)>0,"",IF(COUNTIF($D25:$BK25,"PERM")>0,COUNTIF($D25:$BK25,"PERM")*Parametres!$N$25,JJ25-JI25)),) -> 0 | FI25: =IFERROR(KO25-KN25,"") | FJ25: =IFERROR(KQ25-KP25,"") -> 0.15972222 | FK25: =IFERROR(IF(COUNTIF(absences,BM25)>0,"",IF(COUNTIF($D25:$BK25,"PERM")>0,COUNTIF($D25:$BK25,"PERM")*Parametres!$N$25,JM25-JL25)),) -> 0 | FZ25: =IF(COUNTIF(Fériés,DATE(YEAR($B$18),MONTH($B$18),FZ$1))>0,"",IF(WEEKDAY(DATE(YEAR($B$18),MONTH($B$18),FZ$1),2)>5,"",INDEX('Semaine type'!$AF$4:$AY$49,MATCH(Novembre!$B25,'Semaine type'!$A$4:$A$49,0),MATCH(FZ$2,'Semaine type'!$AF$2:$AY$2,0)))) | GA25: =IF(COUNTIF(Fériés,DATE(YEAR($B$18),MONTH($B$18),GA$1))>0,"",IF(WEEKDAY(DATE(YEAR($B$18),MONTH($B$18),GA$1),2)>5,"",INDEX('Semaine type'!$AF$4:$AY$49,MATCH(Novembre!$B25,'Semaine type'!$A$4:$A$49,0),MATCH(GA$2,'Semaine type'!$AF$2:$AY$2,0)))) | GB25: =IF(COUNTIF(Fériés,DATE(YEAR($B$18),MONTH($B$18),GB$1))>0,"",IF(WEEKDAY(DATE(YEAR($B$18),MONTH($B$18),GB$1),2)>5,"",INDEX('Semaine type'!$AF$4:$AY$49,MATCH(Novembre!$B25,'Semaine type'!$A$4:$A$49,0),MATCH(GB$2,'Semaine type'!$AF$2:$AY$2,0)))) | GC25: =IF(COUNTIF(Fériés,DATE(YEAR($B$18),MONTH($B$18),GC$1))>0,"",IF(WEEKDAY(DATE(YEAR($B$18),MONTH($B$18),GC$1),2)>5,"",INDEX('Semaine type'!$AF$4:$AY$49,MATCH(Novembre!$B25,'Semaine type'!$A$4:$A$49,0),MATCH(GC$2,'Semaine type'!$AF$2:$AY$2,0)))) | GD25: =IF(COUNTIF(Fériés,DATE(YEAR($B$18),MONTH($B$18),GD$1))>0,"",IF(WEEKDAY(DATE(YEAR($B$18),MONTH($B$18),GD$1),2)>5,"",INDEX('Semaine type'!$AF$4:$AY$49,MATCH(Novembre!$B25,'Semaine type'!$A$4:$A$49,0),MATCH(GD$2,'Semaine type'!$AF$2:$AY$2,0)))) | GE25: =IF(COUNTIF(Fériés,DATE(YEAR($B$18),MONTH($B$18),GE$1))>0,"",IF(WEEKDAY(DATE(YEAR($B$18),MONTH($B$18),GE$1),2)>5,"",INDEX('Semaine type'!$AF$4:$AY$49,MATCH(Novembre!$B25,'Semaine type'!$A$4:$A$49,0),MATCH(GE$2,'Semaine type'!$AF$2:$AY$2,0)))) | GF25: =IF(COUNTIF(Fériés,DATE(YEAR($B$18),MONTH($B$18),GF$1))>0,"",IF(WEEKDAY(DATE(YEAR($B$18),MONTH($B$18),GF$1),2)>5,"",INDEX('Semaine type'!$AF$4:$AY$49,MATCH(Novembre!$B25,'Semaine type'!$A$4:$A$49,0),MATCH(GF$2,'Semaine type'!$AF$2:$AY$2,0)))) | GG25: =IF(COUNTIF(Fériés,DATE(YEAR($B$18),MONTH($B$18),GG$1))>0,"",IF(WEEKDAY(DATE(YEAR($B$18),MONTH($B$18),GG$1),2)>5,"",INDEX('Semaine type'!$AF$4:$AY$49,MATCH(Novembre!$B25,'Semaine type'!$A$4:$A$49,0),MATCH(GG$2,'Semaine type'!$AF$2:$AY$2,0)))) | ... KS25: =IF(COUNTIF(Fériés,DATE(YEAR($B$18),MONTH($B$18),KS$1))>0,"",IF(WEEKDAY(DATE(YEAR($B$18),MONTH($B$18),KS$1),2)>5,"",INDEX('Semaine type'!$AF$4:$AY$49,MATCH(Novembre!$B25,'Semaine type'!$A$4:$A$49,0),MATCH(KS$2,'Semaine type'!$AF$2:$AY$2,0))))
B26: Pro8 | C26: ='Semaine type'!L11 -> STI | H26: STI. | I26: STI | J26: STI. | K26: STI | N26: STI. | O26: STI | P26: STI | V26: STI. | W26: STI | AB26: STI. | AC26: STI | AD26: STI | AJ26: STI. | AK26: STI | AL26: STI. | AM26: STI | AP26: STI. | AQ26: STI | AR26: CP | AS26: CP | AT26: CP | AU26: CP | AX26: STI. | AY26: STI | AZ26: STI. | BA26: STI | BD26: STI. | BE26: STI | BF26: REC | BH26: PERM | BJ26: PERM | BL26: {=SUMPRODUCT(--(RIGHT(D26:BK26,1)="."))} -> 11 | BQ26: =COUNTIF($D26:$BK26,BQ$18)/2 -> 0 | BR26: =COUNTIF($D26:$BK26,BR$18)/2 -> 0 | BS26: =COUNTIF($D26:$BK26,BS$18)/2 -> 0 | BT26: =COUNTIF($D26:$BK26,BT$18)/2 -> 2 | BU26: =COUNTIF($D26:$BK26,BU$18)/2 -> 0 | BV26: =COUNTIF($D26:$BK26,BV$18)/2 -> 0 | BW26: =COUNTIF($D26:$BK26,BW$18)/2 -> 0 | BX26: =COUNTIF($D26:$BK26,BX$18)/2 -> 0 | ... CA26: =COUNTIF($D26:$BK26,CA$18)/2 -> 0 | CB26: =COUNTA(D26:BK26) -> 31 | CC26: =(CB26/($CB$17*2)) -> 0.91176471 | DA26: =SUM(DB26:FK26) -> 6.2083333 | DB26: =IFERROR(IF(COUNTIF(absences,D26)>0,"",IF(D26="PERM",Parametres!$N$25,GA26-FZ26)),) -> 0 | DC26: =IFERROR(GC26-GB26,"") | DD26: =IFERROR(GE26-GD26,"") | DE26: =IFERROR(GG26-GF26,"") | DF26: =IFERROR(GI26-GH26,"") -> 0.15972222 | DG26: =IFERROR(IF(COUNTIF(absences,I26)>0,"",IF(COUNTIF($D26:$BK26,"PERM")>0,COUNTIF($D26:$BK26,"PERM")*Parametres!$N$25,GF26-GE26)),) -> 0.25 | DH26: =IFERROR(GM26-GL26,"") -> 0.15972222 | DI26: =IFERROR(GO26-GN26,"") -> 0.14583333 | DJ26: =IFERROR(GQ26-GP26,"") -> 0.15972222 | DK26: =IFERROR(GS26-GR26,"") -> 0.14583333 | DL26: =IFERROR(GU26-GT26,"") -> 0.15972222 | DM26: =IFERROR(GW26-GV26,"") -> 0.13888889 | DN26: =IFERROR(GY26-GX26,"") -> 0.15972222 | DO26: =IFERROR(HA26-GZ26,"") -> 0 | DP26: =IFERROR(HC26-HB26,"") | DQ26: =IFERROR(HE26-HD26,"") | DR26: =IFERROR(HG26-HF26,"") | DS26: =IFERROR(HI26-HH26,"") | DT26: =IFERROR(HK26-HJ26,"") -> 0.15972222 | DU26: =IFERROR(HM26-HL26,"") -> 0.14583333 | DV26: =IFERROR(HO26-HN26,"") | DW26: =IFERROR(HQ26-HP26,"") | DX26: =IFERROR(HS26-HR26,"") -> 0.15972222 | DY26: =IFERROR(HU26-HT26,"") -> 0.14583333 | DZ26: =IFERROR(HW26-HV26,"") -> 0.15972222 | EA26: =IFERROR(HY26-HX26,"") -> 0.13888889 | EB26: =IFERROR(IA26-HZ26,"") -> 0.15972222 | EC26: =IFERROR(IC26-IB26,"") -> 0 | ED26: =IFERROR(IE26-ID26,"") | EE26: =IFERROR(IG26-IF26,"") | EF26: =IFERROR(II26-IH26,"") | EG26: =IFERROR(IK26-IJ26,"") | EH26: =IFERROR(IM26-IL26,"") -> 0.15972222 | EI26: =IFERROR(IO26-IN26,"") -> 0.14583333 | EJ26: =IFERROR(IQ26-IP26,"") -> 0.15972222 | EK26: =IFERROR(IS26-IR26,"") -> 0.14583333 | EL26: =IFERROR(IU26-IT26,"") -> 0.15972222 | EM26: =IFERROR(IW26-IV26,"") -> 0.14583333 | EN26: =IFERROR(IY26-IX26,"") -> 0.15972222 | EO26: =IFERROR(JA26-IZ26,"") -> 0.13888889 | EP26: =IFERROR(JC26-JB26,"") -> 0.15972222 | EQ26: =IFERROR(JE26-JD26,"") -> 0 | ER26: =IFERROR(JG26-JF26,"") | ES26: =IFERROR(JI26-JH26,"") | ET26: =IFERROR(JK26-JJ26,"") | EU26: =IFERROR(IF(COUNTIF(absences,AW26)>0,"",IF(COUNTIF($D26:$BK26,"PERM")>0,COUNTIF($D26:$BK26,"PERM")*Parametres!$N$25,IW26-IV26)),) -> 0.25 | EV26: =IFERROR(JO26-JN26,"") -> 0.15972222 | EW26: =IFERROR(JQ26-JP26,"") -> 0.14583333 | EX26: =IFERROR(JS26-JR26,"") -> 0.15972222 | EY26: =IFERROR(JU26-JT26,"") -> 0.14583333 | EZ26: =IFERROR(JW26-JV26,"") -> 0.15972222 | FA26: =IFERROR(JY26-JX26,"") -> 0.14583333 | FB26: =IFERROR(KA26-JZ26,"") -> 0.15972222 | FC26: =IFERROR(KC26-KB26,"") -> 0.13888889 | FD26: =IFERROR(KE26-KD26,"") -> 0.15972222 | FE26: =IFERROR(KG26-KF26,"") -> 0 | FF26: =IFERROR(KI26-KH26,"") | FG26: =IFERROR(KK26-KJ26,"") | FH26: =IFERROR(IF(COUNTIF(absences,BJ26)>0,"",IF(COUNTIF($D26:$BK26,"PERM")>0,COUNTIF($D26:$BK26,"PERM")*Parametres!$N$25,JJ26-JI26)),) -> 0.25 | FI26: =IFERROR(KO26-KN26,"") | FJ26: =IFERROR(KQ26-KP26,"") -> 0.15972222 | FK26: =IFERROR(IF(COUNTIF(absences,BM26)>0,"",IF(COUNTIF($D26:$BK26,"PERM")>0,COUNTIF($D26:$BK26,"PERM")*Parametres!$N$25,JM26-JL26)),) -> 0.25 | FZ26: =IF(COUNTIF(Fériés,DATE(YEAR($B$18),MONTH($B$18),FZ$1))>0,"",IF(WEEKDAY(DATE(YEAR($B$18),MONTH($B$18),FZ$1),2)>5,"",INDEX('Semaine type'!$AF$4:$AY$49,MATCH(Novembre!$B26,'Semaine type'!$A$4:$A$49,0),MATCH(FZ$2,'Semaine type'!$AF$2:$AY$2,0)))) | GA26: =IF(COUNTIF(Fériés,DATE(YEAR($B$18),MONTH($B$18),GA$1))>0,"",IF(WEEKDAY(DATE(YEAR($B$18),MONTH($B$18),GA$1),2)>5,"",INDEX('Semaine type'!$AF$4:$AY$49,MATCH(Novembre!$B26,'Semaine type'!$A$4:$A$49,0),MATCH(GA$2,'Semaine type'!$AF$2:$AY$2,0)))) | GB26: =IF(COUNTIF(Fériés,DATE(YEAR($B$18),MONTH($B$18),GB$1))>0,"",IF(WEEKDAY(DATE(YEAR($B$18),MONTH($B$18),GB$1),2)>5,"",INDEX('Semaine type'!$AF$4:$AY$49,MATCH(Novembre!$B26,'Semaine type'!$A$4:$A$49,0),MATCH(GB$2,'Semaine type'!$AF$2:$AY$2,0)))) | GC26: =IF(COUNTIF(Fériés,DATE(YEAR($B$18),MONTH($B$18),GC$1))>0,"",IF(WEEKDAY(DATE(YEAR($B$18),MONTH($B$18),GC$1),2)>5,"",INDEX('Semaine type'!$AF$4:$AY$49,MATCH(Novembre!$B26,'Semaine type'!$A$4:$A$49,0),MATCH(GC$2,'Semaine type'!$AF$2:$AY$2,0)))) | GD26: =IF(COUNTIF(Fériés,DATE(YEAR($B$18),MONTH($B$18),GD$1))>0,"",IF(WEEKDAY(DATE(YEAR($B$18),MONTH($B$18),GD$1),2)>5,"",INDEX('Semaine type'!$AF$4:$AY$49,MATCH(Novembre!$B26,'Semaine type'!$A$4:$A$49,0),MATCH(GD$2,'Semaine type'!$AF$2:$AY$2,0)))) | GE26: =IF(COUNTIF(Fériés,DATE(YEAR($B$18),MONTH($B$18),GE$1))>0,"",IF(WEEKDAY(DATE(YEAR($B$18),MONTH($B$18),GE$1),2)>5,"",INDEX('Semaine type'!$AF$4:$AY$49,MATCH(Novembre!$B26,'Semaine type'!$A$4:$A$49,0),MATCH(GE$2,'Semaine type'!$AF$2:$AY$2,0)))) | GF26: =IF(COUNTIF(Fériés,DATE(YEAR($B$18),MONTH($B$18),GF$1))>0,"",IF(WEEKDAY(DATE(YEAR($B$18),MONTH($B$18),GF$1),2)>5,"",INDEX('Semaine type'!$AF$4:$AY$49,MATCH(Novembre!$B26,'Semaine type'!$A$4:$A$49,0),MATCH(GF$2,'Semaine type'!$AF$2:$AY$2,0)))) | GG26: =IF(COUNTIF(Fériés,DATE(YEAR($B$18),MONTH($B$18),GG$1))>0,"",IF(WEEKDAY(DATE(YEAR($B$18),MONTH($B$18),GG$1),2)>5,"",INDEX('Semaine type'!$AF$4:$AY$49,MATCH(Novembre!$B26,'Semaine type'!$A$4:$A$49,0),MATCH(GG$2,'Semaine type'!$AF$2:$AY$2,0)))) | ... KS26: =IF(COUNTIF(Fériés,DATE(YEAR($B$18),MONTH($B$18),KS$1))>0,"",IF(WEEKDAY(DATE(YEAR($B$18),MONTH($B$18),KS$1),2)>5,"",INDEX('Semaine type'!$AF$4:$AY$49,MATCH(Novembre!$B26,'Semaine type'!$A$4:$A$49,0),MATCH(KS$2,'Semaine type'!$AF$2:$AY$2,0)))) -> 0.70833333
B27: Pro9 | C27: ='Semaine type'!L12 -> EL | H27: C | I27: C | J27: C | K27: C | L27: C | M27: C | N27: A | O27: A | P27: A | Q27: A | R27: ABS | S27: ABS | T27: ABS | U27: ABS | V27: ABS | W27: ABS | X27: ABS | Y27: ABS | Z27: ABS | AA27: ABS | AB27: ABS | AC27: ABS | AD27: ABS | AE27: ABS | AF27: ABS | AG27: ABS | AH27: ABS | AI27: ABS | AJ27: ABS | AK27: ABS | AL27: EL. | AM27: EL | AN27: EL. | AO27: EL | AP27: EL. | AQ27: EL | AR27: EL. | AX27: EL. | AY27: EL | AZ27: EL. | BA27: EL | BB27: EL. | BC27: EL | BD27: EL. | BE27: EL | BF27: EL. | BL27: {=SUMPRODUCT(--(RIGHT(D27:BK27,1)="."))} -> 9 | BQ27: =COUNTIF($D27:$BK27,BQ$18)/2 -> 0 | BR27: =COUNTIF($D27:$BK27,BR$18)/2 -> 2 | BS27: =COUNTIF($D27:$BK27,BS$18)/2 -> 3 | BT27: =COUNTIF($D27:$BK27,BT$18)/2 -> 0 | BU27: =COUNTIF($D27:$BK27,BU$18)/2 -> 0 | BV27: =COUNTIF($D27:$BK27,BV$18)/2 -> 0 | BW27: =COUNTIF($D27:$BK27,BW$18)/2 -> 10 | BX27: =COUNTIF($D27:$BK27,BX$18)/2 -> 0 | ... CA27: =COUNTIF($D27:$BK27,CA$18)/2 -> 0 | CB27: =COUNTA(D27:BK27) -> 46 | CC27: =(CB27/($CB$17*2)) -> 1.3529412 | DA27: =SUM(DB27:FK27) -> 5.3541667 | DB27: =IFERROR(IF(COUNTIF(absences,D27)>0,"",IF(D27="PERM",Parametres!$N$25,GA27-FZ27)),) -> 0 | DC27: =IFERROR(GC27-GB27,"") | DD27: =IFERROR(GE27-GD27,"") | DE27: =IFERROR(GG27-GF27,"") | DF27: =IFERROR(GI27-GH27,"") -> 0.15972222 | DG27: =IFERROR(IF(COUNTIF(absences,I27)>0,"",IF(COUNTIF($D27:$BK27,"PERM")>0,COUNTIF($D27:$BK27,"PERM")*Parametres!$N$25,GF27-GE27)),) | DH27: =IFERROR(GM27-GL27,"") -> 0.15972222 | DI27: =IFERROR(GO27-GN27,"") -> 0.14583333 | DJ27: =IFERROR(GQ27-GP27,"") -> 0.15972222 | DK27: =IFERROR(GS27-GR27,"") -> 0.14583333 | DL27: =IFERROR(GU27-GT27,"") -> 0.15972222 | DM27: =IFERROR(GW27-GV27,"") -> 0.13888889 | DN27: =IFERROR(GY27-GX27,"") -> 0.15972222 | DO27: =IFERROR(HA27-GZ27,"") -> 0 | DP27: =IFERROR(HC27-HB27,"") | DQ27: =IFERROR(HE27-HD27,"") | DR27: =IFERROR(HG27-HF27,"") | DS27: =IFERROR(HI27-HH27,"") | DT27: =IFERROR(HK27-HJ27,"") -> 0.15972222 | DU27: =IFERROR(HM27-HL27,"") -> 0.14583333 | DV27: =IFERROR(HO27-HN27,"") | DW27: =IFERROR(HQ27-HP27,"") | DX27: =IFERROR(HS27-HR27,"") -> 0.15972222 | DY27: =IFERROR(HU27-HT27,"") -> 0.14583333 | DZ27: =IFERROR(HW27-HV27,"") -> 0.15972222 | EA27: =IFERROR(HY27-HX27,"") -> 0.13888889 | EB27: =IFERROR(IA27-HZ27,"") -> 0.15972222 | EC27: =IFERROR(IC27-IB27,"") -> 0 | ED27: =IFERROR(IE27-ID27,"") | EE27: =IFERROR(IG27-IF27,"") | EF27: =IFERROR(II27-IH27,"") | EG27: =IFERROR(IK27-IJ27,"") | EH27: =IFERROR(IM27-IL27,"") -> 0.15972222 | EI27: =IFERROR(IO27-IN27,"") -> 0.14583333 | EJ27: =IFERROR(IQ27-IP27,"") -> 0.15972222 | EK27: =IFERROR(IS27-IR27,"") -> 0.14583333 | EL27: =IFERROR(IU27-IT27,"") -> 0.15972222 | EM27: =IFERROR(IW27-IV27,"") -> 0.14583333 | EN27: =IFERROR(IY27-IX27,"") -> 0.15972222 | EO27: =IFERROR(JA27-IZ27,"") -> 0.13888889 | EP27: =IFERROR(JC27-JB27,"") -> 0.15972222 | EQ27: =IFERROR(JE27-JD27,"") -> 0 | ER27: =IFERROR(JG27-JF27,"") | ES27: =IFERROR(JI27-JH27,"") | ET27: =IFERROR(JK27-JJ27,"") | EU27: =IFERROR(IF(COUNTIF(absences,AW27)>0,"",IF(COUNTIF($D27:$BK27,"PERM")>0,COUNTIF($D27:$BK27,"PERM")*Parametres!$N$25,IW27-IV27)),) -> 0.14583333 | EV27: =IFERROR(JO27-JN27,"") -> 0.15972222 | EW27: =IFERROR(JQ27-JP27,"") -> 0.14583333 | EX27: =IFERROR(JS27-JR27,"") -> 0.15972222 | EY27: =IFERROR(JU27-JT27,"") -> 0.14583333 | EZ27: =IFERROR(JW27-JV27,"") -> 0.15972222 | FA27: =IFERROR(JY27-JX27,"") -> 0.14583333 | FB27: =IFERROR(KA27-JZ27,"") -> 0.15972222 | FC27: =IFERROR(KC27-KB27,"") -> 0.13888889 | FD27: =IFERROR(KE27-KD27,"") -> 0.15972222 | FE27: =IFERROR(KG27-KF27,"") -> 0 | FF27: =IFERROR(KI27-KH27,"") | FG27: =IFERROR(KK27-KJ27,"") | FH27: =IFERROR(IF(COUNTIF(absences,BJ27)>0,"",IF(COUNTIF($D27:$BK27,"PERM")>0,COUNTIF($D27:$BK27,"PERM")*Parametres!$N$25,JJ27-JI27)),) -> 0 | FI27: =IFERROR(KO27-KN27,"") | FJ27: =IFERROR(KQ27-KP27,"") -> 0.15972222 | FK27: =IFERROR(IF(COUNTIF(absences,BM27)>0,"",IF(COUNTIF($D27:$BK27,"PERM")>0,COUNTIF($D27:$BK27,"PERM")*Parametres!$N$25,JM27-JL27)),) -> 0 | FZ27: =IF(COUNTIF(Fériés,DATE(YEAR($B$18),MONTH($B$18),FZ$1))>0,"",IF(WEEKDAY(DATE(YEAR($B$18),MONTH($B$18),FZ$1),2)>5,"",INDEX('Semaine type'!$AF$4:$AY$49,MATCH(Novembre!$B27,'Semaine type'!$A$4:$A$49,0),MATCH(FZ$2,'Semaine type'!$AF$2:$AY$2,0)))) | GA27: =IF(COUNTIF(Fériés,DATE(YEAR($B$18),MONTH($B$18),GA$1))>0,"",IF(WEEKDAY(DATE(YEAR($B$18),MONTH($B$18),GA$1),2)>5,"",INDEX('Semaine type'!$AF$4:$AY$49,MATCH(Novembre!$B27,'Semaine type'!$A$4:$A$49,0),MATCH(GA$2,'Semaine type'!$AF$2:$AY$2,0)))) | GB27: =IF(COUNTIF(Fériés,DATE(YEAR($B$18),MONTH($B$18),GB$1))>0,"",IF(WEEKDAY(DATE(YEAR($B$18),MONTH($B$18),GB$1),2)>5,"",INDEX('Semaine type'!$AF$4:$AY$49,MATCH(Novembre!$B27,'Semaine type'!$A$4:$A$49,0),MATCH(GB$2,'Semaine type'!$AF$2:$AY$2,0)))) | GC27: =IF(COUNTIF(Fériés,DATE(YEAR($B$18),MONTH($B$18),GC$1))>0,"",IF(WEEKDAY(DATE(YEAR($B$18),MONTH($B$18),GC$1),2)>5,"",INDEX('Semaine type'!$AF$4:$AY$49,MATCH(Novembre!$B27,'Semaine type'!$A$4:$A$49,0),MATCH(GC$2,'Semaine type'!$AF$2:$AY$2,0)))) | GD27: =IF(COUNTIF(Fériés,DATE(YEAR($B$18),MONTH($B$18),GD$1))>0,"",IF(WEEKDAY(DATE(YEAR($B$18),MONTH($B$18),GD$1),2)>5,"",INDEX('Semaine type'!$AF$4:$AY$49,MATCH(Novembre!$B27,'Semaine type'!$A$4:$A$49,0),MATCH(GD$2,'Semaine type'!$AF$2:$AY$2,0)))) | GE27: =IF(COUNTIF(Fériés,DATE(YEAR($B$18),MONTH($B$18),GE$1))>0,"",IF(WEEKDAY(DATE(YEAR($B$18),MONTH($B$18),GE$1),2)>5,"",INDEX('Semaine type'!$AF$4:$AY$49,MATCH(Novembre!$B27,'Semaine type'!$A$4:$A$49,0),MATCH(GE$2,'Semaine type'!$AF$2:$AY$2,0)))) | GF27: =IF(COUNTIF(Fériés,DATE(YEAR($B$18),MONTH($B$18),GF$1))>0,"",IF(WEEKDAY(DATE(YEAR($B$18),MONTH($B$18),GF$1),2)>5,"",INDEX('Semaine type'!$AF$4:$AY$49,MATCH(Novembre!$B27,'Semaine type'!$A$4:$A$49,0),MATCH(GF$2,'Semaine type'!$AF$2:$AY$2,0)))) | GG27: =IF(COUNTIF(Fériés,DATE(YEAR($B$18),MONTH($B$18),GG$1))>0,"",IF(WEEKDAY(DATE(YEAR($B$18),MONTH($B$18),GG$1),2)>5,"",INDEX('Semaine type'!$AF$4:$AY$49,MATCH(Novembre!$B27,'Semaine type'!$A$4:$A$49,0),MATCH(GG$2,'Semaine type'!$AF$2:$AY$2,0)))) | ... KS27: =IF(COUNTIF(Fériés,DATE(YEAR($B$18),MONTH($B$18),KS$1))>0,"",IF(WEEKDAY(DATE(YEAR($B$18),MONTH($B$18),KS$1),2)>5,"",INDEX('Semaine type'!$AF$4:$AY$49,MATCH(Novembre!$B27,'Semaine type'!$A$4:$A$49,0),MATCH(KS$2,'Semaine type'!$AF$2:$AY$2,0)))) -> 0.70833333
B28: Pro10 | C28: ='Semaine type'!L13 | H28: MAD | I28: MAD | J28: MAD | K28: MAD | L28: MAD | M28: MAD | N28: MAD | O28: MAD | P28: MAD | V28: MAD | W28: MAD | Z28: MAD | AA28: MAD | AB28: MAD | AC28: MAD | AD28: MAD | AJ28: MAD | AK28: MAD | AL28: MAD | AM28: MAD | AN28: MAD | AO28: MAD | AP28: MAD | AQ28: MAD | AR28: MAD | AX28: MAD | AY28: MAD | AZ28: MAD | BA28: MAD | BB28: MAD | BC28: MAD | BD28: MAD | BE28: MAD | BF28: MAD | BL28: {=SUMPRODUCT(--(RIGHT(D28:BK28,1)="."))} -> 0 | BQ28: =COUNTIF($D28:$BK28,BQ$18)/2 -> 0 | BR28: =COUNTIF($D28:$BK28,BR$18)/2 -> 0 | BS28: =COUNTIF($D28:$BK28,BS$18)/2 -> 0 | BT28: =COUNTIF($D28:$BK28,BT$18)/2 -> 0 | BU28: =COUNTIF($D28:$BK28,BU$18)/2 -> 0 | BV28: =COUNTIF($D28:$BK28,BV$18)/2 -> 0 | BW28: =COUNTIF($D28:$BK28,BW$18)/2 -> 0 | BX28: =COUNTIF($D28:$BK28,BX$18)/2 -> 17 | ... CA28: =COUNTIF($D28:$BK28,CA$18)/2 -> 0 | CB28: =COUNTA(D28:BK28) -> 34 | CC28: =(CB28/($CB$17*2)) -> 1 | DA28: =SUM(DB28:FK28) -> 3.9861111 | DB28: =IFERROR(IF(COUNTIF(absences,D28)>0,"",IF(D28="PERM",Parametres!$N$25,GA28-FZ28)),) -> 0 | DC28: =IFERROR(GC28-GB28,"") | DD28: =IFERROR(GE28-GD28,"") | DE28: =IFERROR(GG28-GF28,"") | DF28: =IFERROR(GI28-GH28,"") -> 0.15972222 | DG28: =IFERROR(IF(COUNTIF(absences,I28)>0,"",IF(COUNTIF($D28:$BK28,"PERM")>0,COUNTIF($D28:$BK28,"PERM")*Parametres!$N$25,GF28-GE28)),) | DH28: =IFERROR(GM28-GL28,"") -> 0.15972222 | DI28: =IFERROR(GO28-GN28,"") -> 0.14583333 | DJ28: =IFERROR(GQ28-GP28,"") | DK28: =IFERROR(GS28-GR28,"") | DL28: =IFERROR(GU28-GT28,"") -> 0.15972222 | DM28: =IFERROR(GW28-GV28,"") -> 0.13888889 | DN28: =IFERROR(GY28-GX28,"") -> 0.15972222 | DO28: =IFERROR(HA28-GZ28,"") -> 0 | DP28: =IFERROR(HC28-HB28,"") | DQ28: =IFERROR(HE28-HD28,"") | DR28: =IFERROR(HG28-HF28,"") | DS28: =IFERROR(HI28-HH28,"") | DT28: =IFERROR(HK28-HJ28,"") -> 0.15972222 | DU28: =IFERROR(HM28-HL28,"") -> 0.14583333 | DV28: =IFERROR(HO28-HN28,"") | DW28: =IFERROR(HQ28-HP28,"") | DX28: =IFERROR(HS28-HR28,"") | DY28: =IFERROR(HU28-HT28,"") | DZ28: =IFERROR(HW28-HV28,"") -> 0.15972222 | EA28: =IFERROR(HY28-HX28,"") -> 0.13888889 | EB28: =IFERROR(IA28-HZ28,"") -> 0.15972222 | EC28: =IFERROR(IC28-IB28,"") -> 0 | ED28: =IFERROR(IE28-ID28,"") | EE28: =IFERROR(IG28-IF28,"") | EF28: =IFERROR(II28-IH28,"") | EG28: =IFERROR(IK28-IJ28,"") | EH28: =IFERROR(IM28-IL28,"") -> 0.15972222 | EI28: =IFERROR(IO28-IN28,"") -> 0.14583333 | EJ28: =IFERROR(IQ28-IP28,"") -> 0.15972222 | EK28: =IFERROR(IS28-IR28,"") -> 0.14583333 | EL28: =IFERROR(IU28-IT28,"") | EM28: =IFERROR(IW28-IV28,"") | EN28: =IFERROR(IY28-IX28,"") -> 0.15972222 | EO28: =IFERROR(JA28-IZ28,"") -> 0.13888889 | EP28: =IFERROR(JC28-JB28,"") -> 0.15972222 | EQ28: =IFERROR(JE28-JD28,"") -> 0 | ER28: =IFERROR(JG28-JF28,"") | ES28: =IFERROR(JI28-JH28,"") | ET28: =IFERROR(JK28-JJ28,"") | EU28: =IFERROR(IF(COUNTIF(absences,AW28)>0,"",IF(COUNTIF($D28:$BK28,"PERM")>0,COUNTIF($D28:$BK28,"PERM")*Parametres!$N$25,IW28-IV28)),) -> 0 | EV28: =IFERROR(JO28-JN28,"") -> 0.15972222 | EW28: =IFERROR(JQ28-JP28,"") -> 0.14583333 | EX28: =IFERROR(JS28-JR28,"") -> 0.15972222 | EY28: =IFERROR(JU28-JT28,"") -> 0.14583333 | EZ28: =IFERROR(JW28-JV28,"") | FA28: =IFERROR(JY28-JX28,"") | FB28: =IFERROR(KA28-JZ28,"") -> 0.15972222 | FC28: =IFERROR(KC28-KB28,"") -> 0.13888889 | FD28: =IFERROR(KE28-KD28,"") -> 0.15972222 | FE28: =IFERROR(KG28-KF28,"") -> 0 | FF28: =IFERROR(KI28-KH28,"") | FG28: =IFERROR(KK28-KJ28,"") | FH28: =IFERROR(IF(COUNTIF(absences,BJ28)>0,"",IF(COUNTIF($D28:$BK28,"PERM")>0,COUNTIF($D28:$BK28,"PERM")*Parametres!$N$25,JJ28-JI28)),) -> 0 | FI28: =IFERROR(KO28-KN28,"") | FJ28: =IFERROR(KQ28-KP28,"") -> 0.15972222 | FK28: =IFERROR(IF(COUNTIF(absences,BM28)>0,"",IF(COUNTIF($D28:$BK28,"PERM")>0,COUNTIF($D28:$BK28,"PERM")*Parametres!$N$25,JM28-JL28)),) -> 0 | FZ28: =IF(COUNTIF(Fériés,DATE(YEAR($B$18),MONTH($B$18),FZ$1))>0,"",IF(WEEKDAY(DATE(YEAR($B$18),MONTH($B$18),FZ$1),2)>5,"",INDEX('Semaine type'!$AF$4:$AY$49,MATCH(Novembre!$B28,'Semaine type'!$A$4:$A$49,0),MATCH(FZ$2,'Semaine type'!$AF$2:$AY$2,0)))) | GA28: =IF(COUNTIF(Fériés,DATE(YEAR($B$18),MONTH($B$18),GA$1))>0,"",IF(WEEKDAY(DATE(YEAR($B$18),MONTH($B$18),GA$1),2)>5,"",INDEX('Semaine type'!$AF$4:$AY$49,MATCH(Novembre!$B28,'Semaine type'!$A$4:$A$49,0),MATCH(GA$2,'Semaine type'!$AF$2:$AY$2,0)))) | GB28: =IF(COUNTIF(Fériés,DATE(YEAR($B$18),MONTH($B$18),GB$1))>0,"",IF(WEEKDAY(DATE(YEAR($B$18),MONTH($B$18),GB$1),2)>5,"",INDEX('Semaine type'!$AF$4:$AY$49,MATCH(Novembre!$B28,'Semaine type'!$A$4:$A$49,0),MATCH(GB$2,'Semaine type'!$AF$2:$AY$2,0)))) | GC28: =IF(COUNTIF(Fériés,DATE(YEAR($B$18),MONTH($B$18),GC$1))>0,"",IF(WEEKDAY(DATE(YEAR($B$18),MONTH($B$18),GC$1),2)>5,"",INDEX('Semaine type'!$AF$4:$AY$49,MATCH(Novembre!$B28,'Semaine type'!$A$4:$A$49,0),MATCH(GC$2,'Semaine type'!$AF$2:$AY$2,0)))) | GD28: =IF(COUNTIF(Fériés,DATE(YEAR($B$18),MONTH($B$18),GD$1))>0,"",IF(WEEKDAY(DATE(YEAR($B$18),MONTH($B$18),GD$1),2)>5,"",INDEX('Semaine type'!$AF$4:$AY$49,MATCH(Novembre!$B28,'Semaine type'!$A$4:$A$49,0),MATCH(GD$2,'Semaine type'!$AF$2:$AY$2,0)))) | GE28: =IF(COUNTIF(Fériés,DATE(YEAR($B$18),MONTH($B$18),GE$1))>0,"",IF(WEEKDAY(DATE(YEAR($B$18),MONTH($B$18),GE$1),2)>5,"",INDEX('Semaine type'!$AF$4:$AY$49,MATCH(Novembre!$B28,'Semaine type'!$A$4:$A$49,0),MATCH(GE$2,'Semaine type'!$AF$2:$AY$2,0)))) | GF28: =IF(COUNTIF(Fériés,DATE(YEAR($B$18),MONTH($B$18),GF$1))>0,"",IF(WEEKDAY(DATE(YEAR($B$18),MONTH($B$18),GF$1),2)>5,"",INDEX('Semaine type'!$AF$4:$AY$49,MATCH(Novembre!$B28,'Semaine type'!$A$4:$A$49,0),MATCH(GF$2,'Semaine type'!$AF$2:$AY$2,0)))) | GG28: =IF(COUNTIF(Fériés,DATE(YEAR($B$18),MONTH($B$18),GG$1))>0,"",IF(WEEKDAY(DATE(YEAR($B$18),MONTH($B$18),GG$1),2)>5,"",INDEX('Semaine type'!$AF$4:$AY$49,MATCH(Novembre!$B28,'Semaine type'!$A$4:$A$49,0),MATCH(GG$2,'Semaine type'!$AF$2:$AY$2,0)))) | ... KS28: =IF(COUNTIF(Fériés,DATE(YEAR($B$18),MONTH($B$18),KS$1))>0,"",IF(WEEKDAY(DATE(YEAR($B$18),MONTH($B$18),KS$1),2)>5,"",INDEX('Semaine type'!$AF$4:$AY$49,MATCH(Novembre!$B28,'Semaine type'!$A$4:$A$49,0),MATCH(KS$2,'Semaine type'!$AF$2:$AY$2,0)))) -> 0.70833333
B29: Pro11 | C29: ='Semaine type'!L14 -> CONS | H29: CONS. | I29: CONS | J29: CONS. | K29: CONS | L29: CONS. | M29: CONS | N29: CONS. | O29: CONS | P29: CONS. | V29: CONS. | W29: CONS | Z29: CONS. | AA29: CONS | AB29: CONS. | AC29: CONS | AD29: CONS. | AJ29: CONS. | AK29: CONS | AL29: CONS. | AM29: CONS | AN29: CONS. | AO29: CONS | AP29: CONS. | AQ29: CONS | AR29: CONS. | AX29: CONS. | AY29: CONS | AZ29: CONS. | BA29: CONS | BB29: CONS. | BC29: CONS | BD29: CONS. | BE29: CONS | BF29: CONS. | BL29: {=SUMPRODUCT(--(RIGHT(D29:BK29,1)="."))} -> 19 | BQ29: =COUNTIF($D29:$BK29,BQ$18)/2 -> 0 | BR29: =COUNTIF($D29:$BK29,BR$18)/2 -> 0 | BS29: =COUNTIF($D29:$BK29,BS$18)/2 -> 0 | BT29: =COUNTIF($D29:$BK29,BT$18)/2 -> 0 | BU29: =COUNTIF($D29:$BK29,BU$18)/2 -> 0 | BV29: =COUNTIF($D29:$BK29,BV$18)/2 -> 0 | BW29: =COUNTIF($D29:$BK29,BW$18)/2 -> 0 | BX29: =COUNTIF($D29:$BK29,BX$18)/2 -> 0 | ... CA29: =COUNTIF($D29:$BK29,CA$18)/2 -> 0 | CB29: =COUNTA(D29:BK29) -> 34 | CC29: =(CB29/($CB$17*2)) -> 1 | DA29: =SUM(DB29:FK29) -> 5.3541667 | DB29: =IFERROR(IF(COUNTIF(absences,D29)>0,"",IF(D29="PERM",Parametres!$N$25,GA29-FZ29)),) -> 0 | DC29: =IFERROR(GC29-GB29,"") | DD29: =IFERROR(GE29-GD29,"") | DE29: =IFERROR(GG29-GF29,"") | DF29: =IFERROR(GI29-GH29,"") -> 0.15972222 | DG29: =IFERROR(IF(COUNTIF(absences,I29)>0,"",IF(COUNTIF($D29:$BK29,"PERM")>0,COUNTIF($D29:$BK29,"PERM")*Parametres!$N$25,GF29-GE29)),) -> 0 | DH29: =IFERROR(GM29-GL29,"") -> 0.15972222 | DI29: =IFERROR(GO29-GN29,"") -> 0.14583333 | DJ29: =IFERROR(GQ29-GP29,"") -> 0.15972222 | DK29: =IFERROR(GS29-GR29,"") -> 0.14583333 | DL29: =IFERROR(GU29-GT29,"") -> 0.15972222 | DM29: =IFERROR(GW29-GV29,"") -> 0.13888889 | DN29: =IFERROR(GY29-GX29,"") -> 0.15972222 | DO29: =IFERROR(HA29-GZ29,"") -> 0 | DP29: =IFERROR(HC29-HB29,"") | DQ29: =IFERROR(HE29-HD29,"") | DR29: =IFERROR(HG29-HF29,"") | DS29: =IFERROR(HI29-HH29,"") | DT29: =IFERROR(HK29-HJ29,"") -> 0.15972222 | DU29: =IFERROR(HM29-HL29,"") -> 0.14583333 | DV29: =IFERROR(HO29-HN29,"") | DW29: =IFERROR(HQ29-HP29,"") | DX29: =IFERROR(HS29-HR29,"") -> 0.15972222 | DY29: =IFERROR(HU29-HT29,"") -> 0.14583333 | DZ29: =IFERROR(HW29-HV29,"") -> 0.15972222 | EA29: =IFERROR(HY29-HX29,"") -> 0.13888889 | EB29: =IFERROR(IA29-HZ29,"") -> 0.15972222 | EC29: =IFERROR(IC29-IB29,"") -> 0 | ED29: =IFERROR(IE29-ID29,"") | EE29: =IFERROR(IG29-IF29,"") | EF29: =IFERROR(II29-IH29,"") | EG29: =IFERROR(IK29-IJ29,"") | EH29: =IFERROR(IM29-IL29,"") -> 0.15972222 | EI29: =IFERROR(IO29-IN29,"") -> 0.14583333 | EJ29: =IFERROR(IQ29-IP29,"") -> 0.15972222 | EK29: =IFERROR(IS29-IR29,"") -> 0.14583333 | EL29: =IFERROR(IU29-IT29,"") -> 0.15972222 | EM29: =IFERROR(IW29-IV29,"") -> 0.14583333 | EN29: =IFERROR(IY29-IX29,"") -> 0.15972222 | EO29: =IFERROR(JA29-IZ29,"") -> 0.13888889 | EP29: =IFERROR(JC29-JB29,"") -> 0.15972222 | EQ29: =IFERROR(JE29-JD29,"") -> 0 | ER29: =IFERROR(JG29-JF29,"") | ES29: =IFERROR(JI29-JH29,"") | ET29: =IFERROR(JK29-JJ29,"") | EU29: =IFERROR(IF(COUNTIF(absences,AW29)>0,"",IF(COUNTIF($D29:$BK29,"PERM")>0,COUNTIF($D29:$BK29,"PERM")*Parametres!$N$25,IW29-IV29)),) -> 0.14583333 | EV29: =IFERROR(JO29-JN29,"") -> 0.15972222 | EW29: =IFERROR(JQ29-JP29,"") -> 0.14583333 | EX29: =IFERROR(JS29-JR29,"") -> 0.15972222 | EY29: =IFERROR(JU29-JT29,"") -> 0.14583333 | EZ29: =IFERROR(JW29-JV29,"") -> 0.15972222 | FA29: =IFERROR(JY29-JX29,"") -> 0.14583333 | FB29: =IFERROR(KA29-JZ29,"") -> 0.15972222 | FC29: =IFERROR(KC29-KB29,"") -> 0.13888889 | FD29: =IFERROR(KE29-KD29,"") -> 0.15972222 | FE29: =IFERROR(KG29-KF29,"") -> 0 | FF29: =IFERROR(KI29-KH29,"") | FG29: =IFERROR(KK29-KJ29,"") | FH29: =IFERROR(IF(COUNTIF(absences,BJ29)>0,"",IF(COUNTIF($D29:$BK29,"PERM")>0,COUNTIF($D29:$BK29,"PERM")*Parametres!$N$25,JJ29-JI29)),) -> 0 | FI29: =IFERROR(KO29-KN29,"") | FJ29: =IFERROR(KQ29-KP29,"") -> 0.15972222 | FK29: =IFERROR(IF(COUNTIF(absences,BM29)>0,"",IF(COUNTIF($D29:$BK29,"PERM")>0,COUNTIF($D29:$BK29,"PERM")*Parametres!$N$25,JM29-JL29)),) -> 0 | FZ29: =IF(COUNTIF(Fériés,DATE(YEAR($B$18),MONTH($B$18),FZ$1))>0,"",IF(WEEKDAY(DATE(YEAR($B$18),MONTH($B$18),FZ$1),2)>5,"",INDEX('Semaine type'!$AF$4:$AY$49,MATCH(Novembre!$B29,'Semaine type'!$A$4:$A$49,0),MATCH(FZ$2,'Semaine type'!$AF$2:$AY$2,0)))) | GA29: =IF(COUNTIF(Fériés,DATE(YEAR($B$18),MONTH($B$18),GA$1))>0,"",IF(WEEKDAY(DATE(YEAR($B$18),MONTH($B$18),GA$1),2)>5,"",INDEX('Semaine type'!$AF$4:$AY$49,MATCH(Novembre!$B29,'Semaine type'!$A$4:$A$49,0),MATCH(GA$2,'Semaine type'!$AF$2:$AY$2,0)))) | GB29: =IF(COUNTIF(Fériés,DATE(YEAR($B$18),MONTH($B$18),GB$1))>0,"",IF(WEEKDAY(DATE(YEAR($B$18),MONTH($B$18),GB$1),2)>5,"",INDEX('Semaine type'!$AF$4:$AY$49,MATCH(Novembre!$B29,'Semaine type'!$A$4:$A$49,0),MATCH(GB$2,'Semaine type'!$AF$2:$AY$2,0)))) | GC29: =IF(COUNTIF(Fériés,DATE(YEAR($B$18),MONTH($B$18),GC$1))>0,"",IF(WEEKDAY(DATE(YEAR($B$18),MONTH($B$18),GC$1),2)>5,"",INDEX('Semaine type'!$AF$4:$AY$49,MATCH(Novembre!$B29,'Semaine type'!$A$4:$A$49,0),MATCH(GC$2,'Semaine type'!$AF$2:$AY$2,0)))) | GD29: =IF(COUNTIF(Fériés,DATE(YEAR($B$18),MONTH($B$18),GD$1))>0,"",IF(WEEKDAY(DATE(YEAR($B$18),MONTH($B$18),GD$1),2)>5,"",INDEX('Semaine type'!$AF$4:$AY$49,MATCH(Novembre!$B29,'Semaine type'!$A$4:$A$49,0),MATCH(GD$2,'Semaine type'!$AF$2:$AY$2,0)))) | GE29: =IF(COUNTIF(Fériés,DATE(YEAR($B$18),MONTH($B$18),GE$1))>0,"",IF(WEEKDAY(DATE(YEAR($B$18),MONTH($B$18),GE$1),2)>5,"",INDEX('Semaine type'!$AF$4:$AY$49,MATCH(Novembre!$B29,'Semaine type'!$A$4:$A$49,0),MATCH(GE$2,'Semaine type'!$AF$2:$AY$2,0)))) | GF29: =IF(COUNTIF(Fériés,DATE(YEAR($B$18),MONTH($B$18),GF$1))>0,"",IF(WEEKDAY(DATE(YEAR($B$18),MONTH($B$18),GF$1),2)>5,"",INDEX('Semaine type'!$AF$4:$AY$49,MATCH(Novembre!$B29,'Semaine type'!$A$4:$A$49,0),MATCH(GF$2,'Semaine type'!$AF$2:$AY$2,0)))) | GG29: =IF(COUNTIF(Fériés,DATE(YEAR($B$18),MONTH($B$18),GG$1))>0,"",IF(WEEKDAY(DATE(YEAR($B$18),MONTH($B$18),GG$1),2)>5,"",INDEX('Semaine type'!$AF$4:$AY$49,MATCH(Novembre!$B29,'Semaine type'!$A$4:$A$49,0),MATCH(GG$2,'Semaine type'!$AF$2:$AY$2,0)))) | ... KS29: =IF(COUNTIF(Fériés,DATE(YEAR($B$18),MONTH($B$18),KS$1))>0,"",IF(WEEKDAY(DATE(YEAR($B$18),MONTH($B$18),KS$1),2)>5,"",INDEX('Semaine type'!$AF$4:$AY$49,MATCH(Novembre!$B29,'Semaine type'!$A$4:$A$49,0),MATCH(KS$2,'Semaine type'!$AF$2:$AY$2,0)))) -> 0.70833333
B30: Pro12 | C30: ='Semaine type'!L15 -> STI | H30: STI. | I30: STI | L30: STI. | M30: STI | N30: STI. | O30: STI | V30: STI. | W30: STI | Z30: STI. | AA30: STI | AB30: STI. | AC30: STI | AJ30: STI. | AK30: STI | AN30: STI. | AO30: STI | AP30: STI. | AQ30: STI | AX30: STI. | AY30: STI | BB30: STI. | BC30: STI | BD30: STI. | BE30: STI | BL30: {=SUMPRODUCT(--(RIGHT(D30:BK30,1)="."))} -> 12 | BQ30: =COUNTIF($D30:$BK30,BQ$18)/2 -> 0 | BR30: =COUNTIF($D30:$BK30,BR$18)/2 -> 0 | BS30: =COUNTIF($D30:$BK30,BS$18)/2 -> 0 | BT30: =COUNTIF($D30:$BK30,BT$18)/2 -> 0 | BU30: =COUNTIF($D30:$BK30,BU$18)/2 -> 0 | BV30: =COUNTIF($D30:$BK30,BV$18)/2 -> 0 | BW30: =COUNTIF($D30:$BK30,BW$18)/2 -> 0 | BX30: =COUNTIF($D30:$BK30,BX$18)/2 -> 0 | ... CA30: =COUNTIF($D30:$BK30,CA$18)/2 -> 0 | CB30: =COUNTA(D30:BK30) -> 24 | CC30: =(CB30/($CB$17*2)) -> 0.70588235 | DA30: =SUM(DB30:FK30) -> 5.3541667 | DB30: =IFERROR(IF(COUNTIF(absences,D30)>0,"",IF(D30="PERM",Parametres!$N$25,GA30-FZ30)),) -> 0 | DC30: =IFERROR(GC30-GB30,"") | DD30: =IFERROR(GE30-GD30,"") | DE30: =IFERROR(GG30-GF30,"") | DF30: =IFERROR(GI30-GH30,"") -> 0.15972222 | DG30: =IFERROR(IF(COUNTIF(absences,I30)>0,"",IF(COUNTIF($D30:$BK30,"PERM")>0,COUNTIF($D30:$BK30,"PERM")*Parametres!$N$25,GF30-GE30)),) -> 0 | DH30: =IFERROR(GM30-GL30,"") -> 0.15972222 | DI30: =IFERROR(GO30-GN30,"") -> 0.14583333 | DJ30: =IFERROR(GQ30-GP30,"") -> 0.15972222 | DK30: =IFERROR(GS30-GR30,"") -> 0.14583333 | DL30: =IFERROR(GU30-GT30,"") -> 0.15972222 | DM30: =IFERROR(GW30-GV30,"") -> 0.13888889 | DN30: =IFERROR(GY30-GX30,"") -> 0.15972222 | DO30: =IFERROR(HA30-GZ30,"") -> 0 | DP30: =IFERROR(HC30-HB30,"") | DQ30: =IFERROR(HE30-HD30,"") | DR30: =IFERROR(HG30-HF30,"") | DS30: =IFERROR(HI30-HH30,"") | DT30: =IFERROR(HK30-HJ30,"") -> 0.15972222 | DU30: =IFERROR(HM30-HL30,"") -> 0.14583333 | DV30: =IFERROR(HO30-HN30,"") | DW30: =IFERROR(HQ30-HP30,"") | DX30: =IFERROR(HS30-HR30,"") -> 0.15972222 | DY30: =IFERROR(HU30-HT30,"") -> 0.14583333 | DZ30: =IFERROR(HW30-HV30,"") -> 0.15972222 | EA30: =IFERROR(HY30-HX30,"") -> 0.13888889 | EB30: =IFERROR(IA30-HZ30,"") -> 0.15972222 | EC30: =IFERROR(IC30-IB30,"") -> 0 | ED30: =IFERROR(IE30-ID30,"") | EE30: =IFERROR(IG30-IF30,"") | EF30: =IFERROR(II30-IH30,"") | EG30: =IFERROR(IK30-IJ30,"") | EH30: =IFERROR(IM30-IL30,"") -> 0.15972222 | EI30: =IFERROR(IO30-IN30,"") -> 0.14583333 | EJ30: =IFERROR(IQ30-IP30,"") -> 0.15972222 | EK30: =IFERROR(IS30-IR30,"") -> 0.14583333 | EL30: =IFERROR(IU30-IT30,"") -> 0.15972222 | EM30: =IFERROR(IW30-IV30,"") -> 0.14583333 | EN30: =IFERROR(IY30-IX30,"") -> 0.15972222 | EO30: =IFERROR(JA30-IZ30,"") -> 0.13888889 | EP30: =IFERROR(JC30-JB30,"") -> 0.15972222 | EQ30: =IFERROR(JE30-JD30,"") -> 0 | ER30: =IFERROR(JG30-JF30,"") | ES30: =IFERROR(JI30-JH30,"") | ET30: =IFERROR(JK30-JJ30,"") | EU30: =IFERROR(IF(COUNTIF(absences,AW30)>0,"",IF(COUNTIF($D30:$BK30,"PERM")>0,COUNTIF($D30:$BK30,"PERM")*Parametres!$N$25,IW30-IV30)),) -> 0.14583333 | EV30: =IFERROR(JO30-JN30,"") -> 0.15972222 | EW30: =IFERROR(JQ30-JP30,"") -> 0.14583333 | EX30: =IFERROR(JS30-JR30,"") -> 0.15972222 | EY30: =IFERROR(JU30-JT30,"") -> 0.14583333 | EZ30: =IFERROR(JW30-JV30,"") -> 0.15972222 | FA30: =IFERROR(JY30-JX30,"") -> 0.14583333 | FB30: =IFERROR(KA30-JZ30,"") -> 0.15972222 | FC30: =IFERROR(KC30-KB30,"") -> 0.13888889 | FD30: =IFERROR(KE30-KD30,"") -> 0.15972222 | FE30: =IFERROR(KG30-KF30,"") -> 0 | FF30: =IFERROR(KI30-KH30,"") | FG30: =IFERROR(KK30-KJ30,"") | FH30: =IFERROR(IF(COUNTIF(absences,BJ30)>0,"",IF(COUNTIF($D30:$BK30,"PERM")>0,COUNTIF($D30:$BK30,"PERM")*Parametres!$N$25,JJ30-JI30)),) -> 0 | FI30: =IFERROR(KO30-KN30,"") | FJ30: =IFERROR(KQ30-KP30,"") -> 0.15972222 | FK30: =IFERROR(IF(COUNTIF(absences,BM30)>0,"",IF(COUNTIF($D30:$BK30,"PERM")>0,COUNTIF($D30:$BK30,"PERM")*Parametres!$N$25,JM30-JL30)),) -> 0 | FZ30: =IF(COUNTIF(Fériés,DATE(YEAR($B$18),MONTH($B$18),FZ$1))>0,"",IF(WEEKDAY(DATE(YEAR($B$18),MONTH($B$18),FZ$1),2)>5,"",INDEX('Semaine type'!$AF$4:$AY$49,MATCH(Novembre!$B30,'Semaine type'!$A$4:$A$49,0),MATCH(FZ$2,'Semaine type'!$AF$2:$AY$2,0)))) | GA30: =IF(COUNTIF(Fériés,DATE(YEAR($B$18),MONTH($B$18),GA$1))>0,"",IF(WEEKDAY(DATE(YEAR($B$18),MONTH($B$18),GA$1),2)>5,"",INDEX('Semaine type'!$AF$4:$AY$49,MATCH(Novembre!$B30,'Semaine type'!$A$4:$A$49,0),MATCH(GA$2,'Semaine type'!$AF$2:$AY$2,0)))) | GB30: =IF(COUNTIF(Fériés,DATE(YEAR($B$18),MONTH($B$18),GB$1))>0,"",IF(WEEKDAY(DATE(YEAR($B$18),MONTH($B$18),GB$1),2)>5,"",INDEX('Semaine type'!$AF$4:$AY$49,MATCH(Novembre!$B30,'Semaine type'!$A$4:$A$49,0),MATCH(GB$2,'Semaine type'!$AF$2:$AY$2,0)))) | GC30: =IF(COUNTIF(Fériés,DATE(YEAR($B$18),MONTH($B$18),GC$1))>0,"",IF(WEEKDAY(DATE(YEAR($B$18),MONTH($B$18),GC$1),2)>5,"",INDEX('Semaine type'!$AF$4:$AY$49,MATCH(Novembre!$B30,'Semaine type'!$A$4:$A$49,0),MATCH(GC$2,'Semaine type'!$AF$2:$AY$2,0)))) | GD30: =IF(COUNTIF(Fériés,DATE(YEAR($B$18),MONTH($B$18),GD$1))>0,"",IF(WEEKDAY(DATE(YEAR($B$18),MONTH($B$18),GD$1),2)>5,"",INDEX('Semaine type'!$AF$4:$AY$49,MATCH(Novembre!$B30,'Semaine type'!$A$4:$A$49,0),MATCH(GD$2,'Semaine type'!$AF$2:$AY$2,0)))) | GE30: =IF(COUNTIF(Fériés,DATE(YEAR($B$18),MONTH($B$18),GE$1))>0,"",IF(WEEKDAY(DATE(YEAR($B$18),MONTH($B$18),GE$1),2)>5,"",INDEX('Semaine type'!$AF$4:$AY$49,MATCH(Novembre!$B30,'Semaine type'!$A$4:$A$49,0),MATCH(GE$2,'Semaine type'!$AF$2:$AY$2,0)))) | GF30: =IF(COUNTIF(Fériés,DATE(YEAR($B$18),MONTH($B$18),GF$1))>0,"",IF(WEEKDAY(DATE(YEAR($B$18),MONTH($B$18),GF$1),2)>5,"",INDEX('Semaine type'!$AF$4:$AY$49,MATCH(Novembre!$B30,'Semaine type'!$A$4:$A$49,0),MATCH(GF$2,'Semaine type'!$AF$2:$AY$2,0)))) | GG30: =IF(COUNTIF(Fériés,DATE(YEAR($B$18),MONTH($B$18),GG$1))>0,"",IF(WEEKDAY(DATE(YEAR($B$18),MONTH($B$18),GG$1),2)>5,"",INDEX('Semaine type'!$AF$4:$AY$49,MATCH(Novembre!$B30,'Semaine type'!$A$4:$A$49,0),MATCH(GG$2,'Semaine type'!$AF$2:$AY$2,0)))) | ... KS30: =IF(COUNTIF(Fériés,DATE(YEAR($B$18),MONTH($B$18),KS$1))>0,"",IF(WEEKDAY(DATE(YEAR($B$18),MONTH($B$18),KS$1),2)>5,"",INDEX('Semaine type'!$AF$4:$AY$49,MATCH(Novembre!$B30,'Semaine type'!$A$4:$A$49,0),MATCH(KS$2,'Semaine type'!$AF$2:$AY$2,0)))) -> 0.70833333
B31: Pro13 | C31: ='Semaine type'!L16 -> STI FT | H31: STI. | I31: STI | J31: PE | K31: PE | L31: STI. | M31: STI | N31: STI. | O31: STI | P31: STI | V31: STI. | W31: STI | Z31: STI. | AA31: STI | AB31: PE. | AC31: STI | AD31: STI | AJ31: STI. | AK31: STI | AL31: PE | AM31: PE | AN31: STI. | AO31: STI | AP31: STI. | AQ31: STI | AR31: STI | AX31: STI. | AY31: STI | AZ31: PE | BA31: PE | BB31: STI. | BC31: STI | BD31: STI. | BE31: STI | BF31: STI | BL31: {=SUMPRODUCT(--(RIGHT(D31:BK31,1)="."))} -> 12 | BQ31: =COUNTIF($D31:$BK31,BQ$18)/2 -> 0 | BR31: =COUNTIF($D31:$BK31,BR$18)/2 -> 0 | BS31: =COUNTIF($D31:$BK31,BS$18)/2 -> 0 | BT31: =COUNTIF($D31:$BK31,BT$18)/2 -> 0 | BU31: =COUNTIF($D31:$BK31,BU$18)/2 -> 0 | BV31: =COUNTIF($D31:$BK31,BV$18)/2 -> 0 | BW31: =COUNTIF($D31:$BK31,BW$18)/2 -> 0 | BX31: =COUNTIF($D31:$BK31,BX$18)/2 -> 0 | ... CA31: =COUNTIF($D31:$BK31,CA$18)/2 -> 0 | CB31: =COUNTA(D31:BK31) -> 34 | CC31: =(CB31/($CB$17*2)) -> 1 | DA31: =SUM(DB31:FK31) -> 5.3541667 | DB31: =IFERROR(IF(COUNTIF(absences,D31)>0,"",IF(D31="PERM",Parametres!$N$25,GA31-FZ31)),) -> 0 | DC31: =IFERROR(GC31-GB31,"") | DD31: =IFERROR(GE31-GD31,"") | DE31: =IFERROR(GG31-GF31,"") | DF31: =IFERROR(GI31-GH31,"") -> 0.15972222 | DG31: =IFERROR(IF(COUNTIF(absences,I31)>0,"",IF(COUNTIF($D31:$BK31,"PERM")>0,COUNTIF($D31:$BK31,"PERM")*Parametres!$N$25,GF31-GE31)),) -> 0 | DH31: =IFERROR(GM31-GL31,"") -> 0.15972222 | DI31: =IFERROR(GO31-GN31,"") -> 0.14583333 | DJ31: =IFERROR(GQ31-GP31,"") -> 0.15972222 | DK31: =IFERROR(GS31-GR31,"") -> 0.14583333 | DL31: =IFERROR(GU31-GT31,"") -> 0.15972222 | DM31: =IFERROR(GW31-GV31,"") -> 0.13888889 | DN31: =IFERROR(GY31-GX31,"") -> 0.15972222 | DO31: =IFERROR(HA31-GZ31,"") -> 0 | DP31: =IFERROR(HC31-HB31,"") | DQ31: =IFERROR(HE31-HD31,"") | DR31: =IFERROR(HG31-HF31,"") | DS31: =IFERROR(HI31-HH31,"") | DT31: =IFERROR(HK31-HJ31,"") -> 0.15972222 | DU31: =IFERROR(HM31-HL31,"") -> 0.14583333 | DV31: =IFERROR(HO31-HN31,"") | DW31: =IFERROR(HQ31-HP31,"") | DX31: =IFERROR(HS31-HR31,"") -> 0.15972222 | DY31: =IFERROR(HU31-HT31,"") -> 0.14583333 | DZ31: =IFERROR(HW31-HV31,"") -> 0.15972222 | EA31: =IFERROR(HY31-HX31,"") -> 0.13888889 | EB31: =IFERROR(IA31-HZ31,"") -> 0.15972222 | EC31: =IFERROR(IC31-IB31,"") -> 0 | ED31: =IFERROR(IE31-ID31,"") | EE31: =IFERROR(IG31-IF31,"") | EF31: =IFERROR(II31-IH31,"") | EG31: =IFERROR(IK31-IJ31,"") | EH31: =IFERROR(IM31-IL31,"") -> 0.15972222 | EI31: =IFERROR(IO31-IN31,"") -> 0.14583333 | EJ31: =IFERROR(IQ31-IP31,"") -> 0.15972222 | EK31: =IFERROR(IS31-IR31,"") -> 0.14583333 | EL31: =IFERROR(IU31-IT31,"") -> 0.15972222 | EM31: =IFERROR(IW31-IV31,"") -> 0.14583333 | EN31: =IFERROR(IY31-IX31,"") -> 0.15972222 | EO31: =IFERROR(JA31-IZ31,"") -> 0.13888889 | EP31: =IFERROR(JC31-JB31,"") -> 0.15972222 | EQ31: =IFERROR(JE31-JD31,"") -> 0 | ER31: =IFERROR(JG31-JF31,"") | ES31: =IFERROR(JI31-JH31,"") | ET31: =IFERROR(JK31-JJ31,"") | EU31: =IFERROR(IF(COUNTIF(absences,AW31)>0,"",IF(COUNTIF($D31:$BK31,"PERM")>0,COUNTIF($D31:$BK31,"PERM")*Parametres!$N$25,IW31-IV31)),) -> 0.14583333 | EV31: =IFERROR(JO31-JN31,"") -> 0.15972222 | EW31: =IFERROR(JQ31-JP31,"") -> 0.14583333 | EX31: =IFERROR(JS31-JR31,"") -> 0.15972222 | EY31: =IFERROR(JU31-JT31,"") -> 0.14583333 | EZ31: =IFERROR(JW31-JV31,"") -> 0.15972222 | FA31: =IFERROR(JY31-JX31,"") -> 0.14583333 | FB31: =IFERROR(KA31-JZ31,"") -> 0.15972222 | FC31: =IFERROR(KC31-KB31,"") -> 0.13888889 | FD31: =IFERROR(KE31-KD31,"") -> 0.15972222 | FE31: =IFERROR(KG31-KF31,"") -> 0 | FF31: =IFERROR(KI31-KH31,"") | FG31: =IFERROR(KK31-KJ31,"") | FH31: =IFERROR(IF(COUNTIF(absences,BJ31)>0,"",IF(COUNTIF($D31:$BK31,"PERM")>0,COUNTIF($D31:$BK31,"PERM")*Parametres!$N$25,JJ31-JI31)),) -> 0 | FI31: =IFERROR(KO31-KN31,"") | FJ31: =IFERROR(KQ31-KP31,"") -> 0.15972222 | FK31: =IFERROR(IF(COUNTIF(absences,BM31)>0,"",IF(COUNTIF($D31:$BK31,"PERM")>0,COUNTIF($D31:$BK31,"PERM")*Parametres!$N$25,JM31-JL31)),) -> 0 | FZ31: =IF(COUNTIF(Fériés,DATE(YEAR($B$18),MONTH($B$18),FZ$1))>0,"",IF(WEEKDAY(DATE(YEAR($B$18),MONTH($B$18),FZ$1),2)>5,"",INDEX('Semaine type'!$AF$4:$AY$49,MATCH(Novembre!$B31,'Semaine type'!$A$4:$A$49,0),MATCH(FZ$2,'Semaine type'!$AF$2:$AY$2,0)))) | GA31: =IF(COUNTIF(Fériés,DATE(YEAR($B$18),MONTH($B$18),GA$1))>0,"",IF(WEEKDAY(DATE(YEAR($B$18),MONTH($B$18),GA$1),2)>5,"",INDEX('Semaine type'!$AF$4:$AY$49,MATCH(Novembre!$B31,'Semaine type'!$A$4:$A$49,0),MATCH(GA$2,'Semaine type'!$AF$2:$AY$2,0)))) | GB31: =IF(COUNTIF(Fériés,DATE(YEAR($B$18),MONTH($B$18),GB$1))>0,"",IF(WEEKDAY(DATE(YEAR($B$18),MONTH($B$18),GB$1),2)>5,"",INDEX('Semaine type'!$AF$4:$AY$49,MATCH(Novembre!$B31,'Semaine type'!$A$4:$A$49,0),MATCH(GB$2,'Semaine type'!$AF$2:$AY$2,0)))) | GC31: =IF(COUNTIF(Fériés,DATE(YEAR($B$18),MONTH($B$18),GC$1))>0,"",IF(WEEKDAY(DATE(YEAR($B$18),MONTH($B$18),GC$1),2)>5,"",INDEX('Semaine type'!$AF$4:$AY$49,MATCH(Novembre!$B31,'Semaine type'!$A$4:$A$49,0),MATCH(GC$2,'Semaine type'!$AF$2:$AY$2,0)))) | GD31: =IF(COUNTIF(Fériés,DATE(YEAR($B$18),MONTH($B$18),GD$1))>0,"",IF(WEEKDAY(DATE(YEAR($B$18),MONTH($B$18),GD$1),2)>5,"",INDEX('Semaine type'!$AF$4:$AY$49,MATCH(Novembre!$B31,'Semaine type'!$A$4:$A$49,0),MATCH(GD$2,'Semaine type'!$AF$2:$AY$2,0)))) | GE31: =IF(COUNTIF(Fériés,DATE(YEAR($B$18),MONTH($B$18),GE$1))>0,"",IF(WEEKDAY(DATE(YEAR($B$18),MONTH($B$18),GE$1),2)>5,"",INDEX('Semaine type'!$AF$4:$AY$49,MATCH(Novembre!$B31,'Semaine type'!$A$4:$A$49,0),MATCH(GE$2,'Semaine type'!$AF$2:$AY$2,0)))) | GF31: =IF(COUNTIF(Fériés,DATE(YEAR($B$18),MONTH($B$18),GF$1))>0,"",IF(WEEKDAY(DATE(YEAR($B$18),MONTH($B$18),GF$1),2)>5,"",INDEX('Semaine type'!$AF$4:$AY$49,MATCH(Novembre!$B31,'Semaine type'!$A$4:$A$49,0),MATCH(GF$2,'Semaine type'!$AF$2:$AY$2,0)))) | GG31: =IF(COUNTIF(Fériés,DATE(YEAR($B$18),MONTH($B$18),GG$1))>0,"",IF(WEEKDAY(DATE(YEAR($B$18),MONTH($B$18),GG$1),2)>5,"",INDEX('Semaine type'!$AF$4:$AY$49,MATCH(Novembre!$B31,'Semaine type'!$A$4:$A$49,0),MATCH(GG$2,'Semaine type'!$AF$2:$AY$2,0)))) | ... KS31: =IF(COUNTIF(Fériés,DATE(YEAR($B$18),MONTH($B$18),KS$1))>0,"",IF(WEEKDAY(DATE(YEAR($B$18),MONTH($B$18),KS$1),2)>5,"",INDEX('Semaine type'!$AF$4:$AY$49,MATCH(Novembre!$B31,'Semaine type'!$A$4:$A$49,0),MATCH(KS$2,'Semaine type'!$AF$2:$AY$2,0)))) -> 0.70833333
B32: Pro14 | C32: ='Semaine type'!L17 -> STI | D32: PERM | F32: PERM | H32: STI. | I32: STI | J32: STI. | K32: STI | L32: STI. | M32: STI | N32: STI. | O32: STI | P32: REC | V32: STI. | W32: STI | Z32: STI. | AA32: STI | AB32: STI. | AC32: STI | AD32: STI. | AJ32: STI. | AK32: STI | AL32: STI. | AM32: STI | AN32: STI. | AO32: STI | AP32: STI. | AQ32: STI | AR32: STI. | AX32: STI. | AY32: STI | AZ32: STI. | BA32: STI | BB32: STI. | BC32: STI | BD32: STI. | BE32: STI | BF32: STI. | BL32: {=SUMPRODUCT(--(RIGHT(D32:BK32,1)="."))} -> 18 | BQ32: =COUNTIF($D32:$BK32,BQ$18)/2 -> 0 | BR32: =COUNTIF($D32:$BK32,BR$18)/2 -> 0 | BS32: =COUNTIF($D32:$BK32,BS$18)/2 -> 0 | BT32: =COUNTIF($D32:$BK32,BT$18)/2 -> 0 | BU32: =COUNTIF($D32:$BK32,BU$18)/2 -> 0 | BV32: =COUNTIF($D32:$BK32,BV$18)/2 -> 0 | BW32: =COUNTIF($D32:$BK32,BW$18)/2 -> 0 | BX32: =COUNTIF($D32:$BK32,BX$18)/2 -> 0 | ... CA32: =COUNTIF($D32:$BK32,CA$18)/2 -> 0 | CB32: =COUNTA(D32:BK32) -> 36 | CC32: =(CB32/($CB$17*2)) -> 1.0588235 | DA32: =SUM(DB32:FK32) -> 6.3333333 | DB32: =IFERROR(IF(COUNTIF(absences,D32)>0,"",IF(D32="PERM",Parametres!$N$25,GA32-FZ32)),) -> 0.125 | DC32: =IFERROR(GC32-GB32,"") | DD32: =IFERROR(GE32-GD32,"") | DE32: =IFERROR(GG32-GF32,"") | DF32: =IFERROR(GI32-GH32,"") -> 0.15972222 | DG32: =IFERROR(IF(COUNTIF(absences,I32)>0,"",IF(COUNTIF($D32:$BK32,"PERM")>0,COUNTIF($D32:$BK32,"PERM")*Parametres!$N$25,GF32-GE32)),) -> 0.25 | DH32: =IFERROR(GM32-GL32,"") -> 0.15972222 | DI32: =IFERROR(GO32-GN32,"") -> 0.14583333 | DJ32: =IFERROR(GQ32-GP32,"") -> 0.15972222 | DK32: =IFERROR(GS32-GR32,"") -> 0.14583333 | DL32: =IFERROR(GU32-GT32,"") -> 0.15972222 | DM32: =IFERROR(GW32-GV32,"") -> 0.13888889 | DN32: =IFERROR(GY32-GX32,"") -> 0.15972222 | DO32: =IFERROR(HA32-GZ32,"") -> 0 | DP32: =IFERROR(HC32-HB32,"") | DQ32: =IFERROR(HE32-HD32,"") | DR32: =IFERROR(HG32-HF32,"") | DS32: =IFERROR(HI32-HH32,"") | DT32: =IFERROR(HK32-HJ32,"") -> 0.15972222 | DU32: =IFERROR(HM32-HL32,"") -> 0.14583333 | DV32: =IFERROR(HO32-HN32,"") | DW32: =IFERROR(HQ32-HP32,"") | DX32: =IFERROR(HS32-HR32,"") -> 0.15972222 | DY32: =IFERROR(HU32-HT32,"") -> 0.14583333 | DZ32: =IFERROR(HW32-HV32,"") -> 0.15972222 | EA32: =IFERROR(HY32-HX32,"") -> 0.13888889 | EB32: =IFERROR(IA32-HZ32,"") -> 0.15972222 | EC32: =IFERROR(IC32-IB32,"") -> 0 | ED32: =IFERROR(IE32-ID32,"") | EE32: =IFERROR(IG32-IF32,"") | EF32: =IFERROR(II32-IH32,"") | EG32: =IFERROR(IK32-IJ32,"") | EH32: =IFERROR(IM32-IL32,"") -> 0.15972222 | EI32: =IFERROR(IO32-IN32,"") -> 0.14583333 | EJ32: =IFERROR(IQ32-IP32,"") -> 0.15972222 | EK32: =IFERROR(IS32-IR32,"") -> 0.14583333 | EL32: =IFERROR(IU32-IT32,"") -> 0.15972222 | EM32: =IFERROR(IW32-IV32,"") -> 0.14583333 | EN32: =IFERROR(IY32-IX32,"") -> 0.15972222 | EO32: =IFERROR(JA32-IZ32,"") -> 0.13888889 | EP32: =IFERROR(JC32-JB32,"") -> 0.15972222 | EQ32: =IFERROR(JE32-JD32,"") -> 0 | ER32: =IFERROR(JG32-JF32,"") | ES32: =IFERROR(JI32-JH32,"") | ET32: =IFERROR(JK32-JJ32,"") | EU32: =IFERROR(IF(COUNTIF(absences,AW32)>0,"",IF(COUNTIF($D32:$BK32,"PERM")>0,COUNTIF($D32:$BK32,"PERM")*Parametres!$N$25,IW32-IV32)),) -> 0.25 | EV32: =IFERROR(JO32-JN32,"") -> 0.15972222 | EW32: =IFERROR(JQ32-JP32,"") -> 0.14583333 | EX32: =IFERROR(JS32-JR32,"") -> 0.15972222 | EY32: =IFERROR(JU32-JT32,"") -> 0.14583333 | EZ32: =IFERROR(JW32-JV32,"") -> 0.15972222 | FA32: =IFERROR(JY32-JX32,"") -> 0.14583333 | FB32: =IFERROR(KA32-JZ32,"") -> 0.15972222 | FC32: =IFERROR(KC32-KB32,"") -> 0.13888889 | FD32: =IFERROR(KE32-KD32,"") -> 0.15972222 | FE32: =IFERROR(KG32-KF32,"") -> 0 | FF32: =IFERROR(KI32-KH32,"") | FG32: =IFERROR(KK32-KJ32,"") | FH32: =IFERROR(IF(COUNTIF(absences,BJ32)>0,"",IF(COUNTIF($D32:$BK32,"PERM")>0,COUNTIF($D32:$BK32,"PERM")*Parametres!$N$25,JJ32-JI32)),) -> 0.25 | FI32: =IFERROR(KO32-KN32,"") | FJ32: =IFERROR(KQ32-KP32,"") -> 0.15972222 | FK32: =IFERROR(IF(COUNTIF(absences,BM32)>0,"",IF(COUNTIF($D32:$BK32,"PERM")>0,COUNTIF($D32:$BK32,"PERM")*Parametres!$N$25,JM32-JL32)),) -> 0.25 | FZ32: =IF(COUNTIF(Fériés,DATE(YEAR($B$18),MONTH($B$18),FZ$1))>0,"",IF(WEEKDAY(DATE(YEAR($B$18),MONTH($B$18),FZ$1),2)>5,"",INDEX('Semaine type'!$AF$4:$AY$49,MATCH(Novembre!$B32,'Semaine type'!$A$4:$A$49,0),MATCH(FZ$2,'Semaine type'!$AF$2:$AY$2,0)))) | GA32: =IF(COUNTIF(Fériés,DATE(YEAR($B$18),MONTH($B$18),GA$1))>0,"",IF(WEEKDAY(DATE(YEAR($B$18),MONTH($B$18),GA$1),2)>5,"",INDEX('Semaine type'!$AF$4:$AY$49,MATCH(Novembre!$B32,'Semaine type'!$A$4:$A$49,0),MATCH(GA$2,'Semaine type'!$AF$2:$AY$2,0)))) | GB32: =IF(COUNTIF(Fériés,DATE(YEAR($B$18),MONTH($B$18),GB$1))>0,"",IF(WEEKDAY(DATE(YEAR($B$18),MONTH($B$18),GB$1),2)>5,"",INDEX('Semaine type'!$AF$4:$AY$49,MATCH(Novembre!$B32,'Semaine type'!$A$4:$A$49,0),MATCH(GB$2,'Semaine type'!$AF$2:$AY$2,0)))) | GC32: =IF(COUNTIF(Fériés,DATE(YEAR($B$18),MONTH($B$18),GC$1))>0,"",IF(WEEKDAY(DATE(YEAR($B$18),MONTH($B$18),GC$1),2)>5,"",INDEX('Semaine type'!$AF$4:$AY$49,MATCH(Novembre!$B32,'Semaine type'!$A$4:$A$49,0),MATCH(GC$2,'Semaine type'!$AF$2:$AY$2,0)))) | GD32: =IF(COUNTIF(Fériés,DATE(YEAR($B$18),MONTH($B$18),GD$1))>0,"",IF(WEEKDAY(DATE(YEAR($B$18),MONTH($B$18),GD$1),2)>5,"",INDEX('Semaine type'!$AF$4:$AY$49,MATCH(Novembre!$B32,'Semaine type'!$A$4:$A$49,0),MATCH(GD$2,'Semaine type'!$AF$2:$AY$2,0)))) | GE32: =IF(COUNTIF(Fériés,DATE(YEAR($B$18),MONTH($B$18),GE$1))>0,"",IF(WEEKDAY(DATE(YEAR($B$18),MONTH($B$18),GE$1),2)>5,"",INDEX('Semaine type'!$AF$4:$AY$49,MATCH(Novembre!$B32,'Semaine type'!$A$4:$A$49,0),MATCH(GE$2,'Semaine type'!$AF$2:$AY$2,0)))) | GF32: =IF(COUNTIF(Fériés,DATE(YEAR($B$18),MONTH($B$18),GF$1))>0,"",IF(WEEKDAY(DATE(YEAR($B$18),MONTH($B$18),GF$1),2)>5,"",INDEX('Semaine type'!$AF$4:$AY$49,MATCH(Novembre!$B32,'Semaine type'!$A$4:$A$49,0),MATCH(GF$2,'Semaine type'!$AF$2:$AY$2,0)))) | GG32: =IF(COUNTIF(Fériés,DATE(YEAR($B$18),MONTH($B$18),GG$1))>0,"",IF(WEEKDAY(DATE(YEAR($B$18),MONTH($B$18),GG$1),2)>5,"",INDEX('Semaine type'!$AF$4:$AY$49,MATCH(Novembre!$B32,'Semaine type'!$A$4:$A$49,0),MATCH(GG$2,'Semaine type'!$AF$2:$AY$2,0)))) | ... KS32: =IF(COUNTIF(Fériés,DATE(YEAR($B$18),MONTH($B$18),KS$1))>0,"",IF(WEEKDAY(DATE(YEAR($B$18),MONTH($B$18),KS$1),2)>5,"",INDEX('Semaine type'!$AF$4:$AY$49,MATCH(Novembre!$B32,'Semaine type'!$A$4:$A$49,0),MATCH(KS$2,'Semaine type'!$AF$2:$AY$2,0)))) -> 0.70833333
B33: Pro15 | C33: ='Semaine type'!L18 -> EV | H33: EV. | I33: EV | J33: EV. | K33: EV | L33: EV. | M33: EV | N33: EV. | O33: EV | P33: EV. | V33: EV. | W33: EV | Z33: EV. | AA33: EV | AB33: EV. | AC33: EV | AD33: EV. | AJ33: EV. | AK33: EV | AL33: EV. | AM33: EV | AN33: EV. | AO33: EV | AP33: EV. | AQ33: EV | AR33: EV. | AX33: EV. | AY33: EV | AZ33: EV. | BA33: EV | BB33: EV. | BC33: EV | BD33: EV. | BE33: EV | BF33: EV. | BL33: {=SUMPRODUCT(--(RIGHT(D33:BK33,1)="."))} -> 19 | BQ33: =COUNTIF($D33:$BK33,BQ$18)/2 -> 0 | BR33: =COUNTIF($D33:$BK33,BR$18)/2 -> 0 | BS33: =COUNTIF($D33:$BK33,BS$18)/2 -> 0 | BT33: =COUNTIF($D33:$BK33,BT$18)/2 -> 0 | BU33: =COUNTIF($D33:$BK33,BU$18)/2 -> 0 | BV33: =COUNTIF($D33:$BK33,BV$18)/2 -> 0 | BW33: =COUNTIF($D33:$BK33,BW$18)/2 -> 0 | BX33: =COUNTIF($D33:$BK33,BX$18)/2 -> 0 | ... CA33: =COUNTIF($D33:$BK33,CA$18)/2 -> 0 | CB33: =COUNTA(D33:BK33) -> 34 | CC33: =(CB33/($CB$17*2)) -> 1 | DA33: =SUM(DB33:FK33) -> 5.3541667 | DB33: =IFERROR(IF(COUNTIF(absences,D33)>0,"",IF(D33="PERM",Parametres!$N$25,GA33-FZ33)),) -> 0 | DC33: =IFERROR(GC33-GB33,"") | DD33: =IFERROR(GE33-GD33,"") | DE33: =IFERROR(GG33-GF33,"") | DF33: =IFERROR(GI33-GH33,"") -> 0.15972222 | DG33: =IFERROR(IF(COUNTIF(absences,I33)>0,"",IF(COUNTIF($D33:$BK33,"PERM")>0,COUNTIF($D33:$BK33,"PERM")*Parametres!$N$25,GF33-GE33)),) -> 0 | DH33: =IFERROR(GM33-GL33,"") -> 0.15972222 | DI33: =IFERROR(GO33-GN33,"") -> 0.14583333 | DJ33: =IFERROR(GQ33-GP33,"") -> 0.15972222 | DK33: =IFERROR(GS33-GR33,"") -> 0.14583333 | DL33: =IFERROR(GU33-GT33,"") -> 0.15972222 | DM33: =IFERROR(GW33-GV33,"") -> 0.13888889 | DN33: =IFERROR(GY33-GX33,"") -> 0.15972222 | DO33: =IFERROR(HA33-GZ33,"") -> 0 | DP33: =IFERROR(HC33-HB33,"") | DQ33: =IFERROR(HE33-HD33,"") | DR33: =IFERROR(HG33-HF33,"") | DS33: =IFERROR(HI33-HH33,"") | DT33: =IFERROR(HK33-HJ33,"") -> 0.15972222 | DU33: =IFERROR(HM33-HL33,"") -> 0.14583333 | DV33: =IFERROR(HO33-HN33,"") | DW33: =IFERROR(HQ33-HP33,"") | DX33: =IFERROR(HS33-HR33,"") -> 0.15972222 | DY33: =IFERROR(HU33-HT33,"") -> 0.14583333 | DZ33: =IFERROR(HW33-HV33,"") -> 0.15972222 | EA33: =IFERROR(HY33-HX33,"") -> 0.13888889 | EB33: =IFERROR(IA33-HZ33,"") -> 0.15972222 | EC33: =IFERROR(IC33-IB33,"") -> 0 | ED33: =IFERROR(IE33-ID33,"") | EE33: =IFERROR(IG33-IF33,"") | EF33: =IFERROR(II33-IH33,"") | EG33: =IFERROR(IK33-IJ33,"") | EH33: =IFERROR(IM33-IL33,"") -> 0.15972222 | EI33: =IFERROR(IO33-IN33,"") -> 0.14583333 | EJ33: =IFERROR(IQ33-IP33,"") -> 0.15972222 | EK33: =IFERROR(IS33-IR33,"") -> 0.14583333 | EL33: =IFERROR(IU33-IT33,"") -> 0.15972222 | EM33: =IFERROR(IW33-IV33,"") -> 0.14583333 | EN33: =IFERROR(IY33-IX33,"") -> 0.15972222 | EO33: =IFERROR(JA33-IZ33,"") -> 0.13888889 | EP33: =IFERROR(JC33-JB33,"") -> 0.15972222 | EQ33: =IFERROR(JE33-JD33,"") -> 0 | ER33: =IFERROR(JG33-JF33,"") | ES33: =IFERROR(JI33-JH33,"") | ET33: =IFERROR(JK33-JJ33,"") | EU33: =IFERROR(IF(COUNTIF(absences,AW33)>0,"",IF(COUNTIF($D33:$BK33,"PERM")>0,COUNTIF($D33:$BK33,"PERM")*Parametres!$N$25,IW33-IV33)),) -> 0.14583333 | EV33: =IFERROR(JO33-JN33,"") -> 0.15972222 | EW33: =IFERROR(JQ33-JP33,"") -> 0.14583333 | EX33: =IFERROR(JS33-JR33,"") -> 0.15972222 | EY33: =IFERROR(JU33-JT33,"") -> 0.14583333 | EZ33: =IFERROR(JW33-JV33,"") -> 0.15972222 | FA33: =IFERROR(JY33-JX33,"") -> 0.14583333 | FB33: =IFERROR(KA33-JZ33,"") -> 0.15972222 | FC33: =IFERROR(KC33-KB33,"") -> 0.13888889 | FD33: =IFERROR(KE33-KD33,"") -> 0.15972222 | FE33: =IFERROR(KG33-KF33,"") -> 0 | FF33: =IFERROR(KI33-KH33,"") | FG33: =IFERROR(KK33-KJ33,"") | FH33: =IFERROR(IF(COUNTIF(absences,BJ33)>0,"",IF(COUNTIF($D33:$BK33,"PERM")>0,COUNTIF($D33:$BK33,"PERM")*Parametres!$N$25,JJ33-JI33)),) -> 0 | FI33: =IFERROR(KO33-KN33,"") | FJ33: =IFERROR(KQ33-KP33,"") -> 0.15972222 | FK33: =IFERROR(IF(COUNTIF(absences,BM33)>0,"",IF(COUNTIF($D33:$BK33,"PERM")>0,COUNTIF($D33:$BK33,"PERM")*Parametres!$N$25,JM33-JL33)),) -> 0 | FZ33: =IF(COUNTIF(Fériés,DATE(YEAR($B$18),MONTH($B$18),FZ$1))>0,"",IF(WEEKDAY(DATE(YEAR($B$18),MONTH($B$18),FZ$1),2)>5,"",INDEX('Semaine type'!$AF$4:$AY$49,MATCH(Novembre!$B33,'Semaine type'!$A$4:$A$49,0),MATCH(FZ$2,'Semaine type'!$AF$2:$AY$2,0)))) | GA33: =IF(COUNTIF(Fériés,DATE(YEAR($B$18),MONTH($B$18),GA$1))>0,"",IF(WEEKDAY(DATE(YEAR($B$18),MONTH($B$18),GA$1),2)>5,"",INDEX('Semaine type'!$AF$4:$AY$49,MATCH(Novembre!$B33,'Semaine type'!$A$4:$A$49,0),MATCH(GA$2,'Semaine type'!$AF$2:$AY$2,0)))) | GB33: =IF(COUNTIF(Fériés,DATE(YEAR($B$18),MONTH($B$18),GB$1))>0,"",IF(WEEKDAY(DATE(YEAR($B$18),MONTH($B$18),GB$1),2)>5,"",INDEX('Semaine type'!$AF$4:$AY$49,MATCH(Novembre!$B33,'Semaine type'!$A$4:$A$49,0),MATCH(GB$2,'Semaine type'!$AF$2:$AY$2,0)))) | GC33: =IF(COUNTIF(Fériés,DATE(YEAR($B$18),MONTH($B$18),GC$1))>0,"",IF(WEEKDAY(DATE(YEAR($B$18),MONTH($B$18),GC$1),2)>5,"",INDEX('Semaine type'!$AF$4:$AY$49,MATCH(Novembre!$B33,'Semaine type'!$A$4:$A$49,0),MATCH(GC$2,'Semaine type'!$AF$2:$AY$2,0)))) | GD33: =IF(COUNTIF(Fériés,DATE(YEAR($B$18),MONTH($B$18),GD$1))>0,"",IF(WEEKDAY(DATE(YEAR($B$18),MONTH($B$18),GD$1),2)>5,"",INDEX('Semaine type'!$AF$4:$AY$49,MATCH(Novembre!$B33,'Semaine type'!$A$4:$A$49,0),MATCH(GD$2,'Semaine type'!$AF$2:$AY$2,0)))) | GE33: =IF(COUNTIF(Fériés,DATE(YEAR($B$18),MONTH($B$18),GE$1))>0,"",IF(WEEKDAY(DATE(YEAR($B$18),MONTH($B$18),GE$1),2)>5,"",INDEX('Semaine type'!$AF$4:$AY$49,MATCH(Novembre!$B33,'Semaine type'!$A$4:$A$49,0),MATCH(GE$2,'Semaine type'!$AF$2:$AY$2,0)))) | GF33: =IF(COUNTIF(Fériés,DATE(YEAR($B$18),MONTH($B$18),GF$1))>0,"",IF(WEEKDAY(DATE(YEAR($B$18),MONTH($B$18),GF$1),2)>5,"",INDEX('Semaine type'!$AF$4:$AY$49,MATCH(Novembre!$B33,'Semaine type'!$A$4:$A$49,0),MATCH(GF$2,'Semaine type'!$AF$2:$AY$2,0)))) | GG33: =IF(COUNTIF(Fériés,DATE(YEAR($B$18),MONTH($B$18),GG$1))>0,"",IF(WEEKDAY(DATE(YEAR($B$18),MONTH($B$18),GG$1),2)>5,"",INDEX('Semaine type'!$AF$4:$AY$49,MATCH(Novembre!$B33,'Semaine type'!$A$4:$A$49,0),MATCH(GG$2,'Semaine type'!$AF$2:$AY$2,0)))) | ... KS33: =IF(COUNTIF(Fériés,DATE(YEAR($B$18),MONTH($B$18),KS$1))>0,"",IF(WEEKDAY(DATE(YEAR($B$18),MONTH($B$18),KS$1),2)>5,"",INDEX('Semaine type'!$AF$4:$AY$49,MATCH(Novembre!$B33,'Semaine type'!$A$4:$A$49,0),MATCH(KS$2,'Semaine type'!$AF$2:$AY$2,0)))) -> 0.70833333
B34: Pro16 | C34: ='Semaine type'!L19 -> R | H34: R. | I34: R | J34: R. | K34: R | L34: R. | M34: R | N34: CP | O34: CP | V34: R. | W34: R | Z34: R. | AA34: R | AB34: R. | AC34: R | AJ34: R. | AK34: R | AL34: R. | AM34: R | AN34: R. | AO34: R | AP34: R. | AQ34: R | AX34: R. | AY34: R | AZ34: R. | BA34: R | BB34: R. | BC34: R | BD34: R. | BE34: R | BL34: {=SUMPRODUCT(--(RIGHT(D34:BK34,1)="."))} -> 14 | BQ34: =COUNTIF($D34:$BK34,BQ$18)/2 -> 0 | BR34: =COUNTIF($D34:$BK34,BR$18)/2 -> 0 | BS34: =COUNTIF($D34:$BK34,BS$18)/2 -> 0 | BT34: =COUNTIF($D34:$BK34,BT$18)/2 -> 1 | BU34: =COUNTIF($D34:$BK34,BU$18)/2 -> 0 | BV34: =COUNTIF($D34:$BK34,BV$18)/2 -> 0 | BW34: =COUNTIF($D34:$BK34,BW$18)/2 -> 0 | BX34: =COUNTIF($D34:$BK34,BX$18)/2 -> 0 | ... CA34: =COUNTIF($D34:$BK34,CA$18)/2 -> 0 | CB34: =COUNTA(D34:BK34) -> 30 | CC34: =(CB34/($CB$17*2)) -> 0.88235294 | DA34: =SUM(DB34:FK34) -> 3.7986111 | DB34: =IFERROR(IF(COUNTIF(absences,D34)>0,"",IF(D34="PERM",Parametres!$N$25,GA34-FZ34)),) -> 0 | DC34: =IFERROR(GC34-GB34,"") | DD34: =IFERROR(GE34-GD34,"") | DE34: =IFERROR(GG34-GF34,"") | DF34: =IFERROR(GI34-GH34,"") -> 0.15972222 | DG34: =IFERROR(IF(COUNTIF(absences,I34)>0,"",IF(COUNTIF($D34:$BK34,"PERM")>0,COUNTIF($D34:$BK34,"PERM")*Parametres!$N$25,GF34-GE34)),) -> 0 | DH34: =IFERROR(GM34-GL34,"") | DI34: =IFERROR(GO34-GN34,"") | DJ34: =IFERROR(GQ34-GP34,"") -> 0.15972222 | DK34: =IFERROR(GS34-GR34,"") -> 0.14583333 | DL34: =IFERROR(GU34-GT34,"") -> 0.15972222 | DM34: =IFERROR(GW34-GV34,"") -> 0.13888889 | DN34: =IFERROR(GY34-GX34,"") | DO34: =IFERROR(HA34-GZ34,"") -> 0 | DP34: =IFERROR(HC34-HB34,"") | DQ34: =IFERROR(HE34-HD34,"") | DR34: =IFERROR(HG34-HF34,"") | DS34: =IFERROR(HI34-HH34,"") | DT34: =IFERROR(HK34-HJ34,"") -> 0.15972222 | DU34: =IFERROR(HM34-HL34,"") -> 0.14583333 | DV34: =IFERROR(HO34-HN34,"") | DW34: =IFERROR(HQ34-HP34,"") | DX34: =IFERROR(HS34-HR34,"") -> 0.15972222 | DY34: =IFERROR(HU34-HT34,"") -> 0.14583333 | DZ34: =IFERROR(HW34-HV34,"") -> 0.15972222 | EA34: =IFERROR(HY34-HX34,"") -> 0.13888889 | EB34: =IFERROR(IA34-HZ34,"") | EC34: =IFERROR(IC34-IB34,"") -> 0 | ED34: =IFERROR(IE34-ID34,"") | EE34: =IFERROR(IG34-IF34,"") | EF34: =IFERROR(II34-IH34,"") | EG34: =IFERROR(IK34-IJ34,"") | EH34: =IFERROR(IM34-IL34,"") -> 0.15972222 | EI34: =IFERROR(IO34-IN34,"") -> 0.14583333 | EJ34: =IFERROR(IQ34-IP34,"") | EK34: =IFERROR(IS34-IR34,"") | EL34: =IFERROR(IU34-IT34,"") -> 0.15972222 | EM34: =IFERROR(IW34-IV34,"") -> 0.14583333 | EN34: =IFERROR(IY34-IX34,"") -> 0.15972222 | EO34: =IFERROR(JA34-IZ34,"") -> 0.13888889 | EP34: =IFERROR(JC34-JB34,"") | EQ34: =IFERROR(JE34-JD34,"") -> 0 | ER34: =IFERROR(JG34-JF34,"") | ES34: =IFERROR(JI34-JH34,"") | ET34: =IFERROR(JK34-JJ34,"") | EU34: =IFERROR(IF(COUNTIF(absences,AW34)>0,"",IF(COUNTIF($D34:$BK34,"PERM")>0,COUNTIF($D34:$BK34,"PERM")*Parametres!$N$25,IW34-IV34)),) -> 0.14583333 | EV34: =IFERROR(JO34-JN34,"") -> 0.15972222 | EW34: =IFERROR(JQ34-JP34,"") -> 0.14583333 | EX34: =IFERROR(JS34-JR34,"") | EY34: =IFERROR(JU34-JT34,"") | EZ34: =IFERROR(JW34-JV34,"") -> 0.15972222 | FA34: =IFERROR(JY34-JX34,"") -> 0.14583333 | FB34: =IFERROR(KA34-JZ34,"") -> 0.15972222 | FC34: =IFERROR(KC34-KB34,"") -> 0.13888889 | FD34: =IFERROR(KE34-KD34,"") | FE34: =IFERROR(KG34-KF34,"") -> 0 | FF34: =IFERROR(KI34-KH34,"") | FG34: =IFERROR(KK34-KJ34,"") | FH34: =IFERROR(IF(COUNTIF(absences,BJ34)>0,"",IF(COUNTIF($D34:$BK34,"PERM")>0,COUNTIF($D34:$BK34,"PERM")*Parametres!$N$25,JJ34-JI34)),) -> 0 | FI34: =IFERROR(KO34-KN34,"") | FJ34: =IFERROR(KQ34-KP34,"") -> 0.15972222 | FK34: =IFERROR(IF(COUNTIF(absences,BM34)>0,"",IF(COUNTIF($D34:$BK34,"PERM")>0,COUNTIF($D34:$BK34,"PERM")*Parametres!$N$25,JM34-JL34)),) -> 0 | FZ34: =IF(COUNTIF(Fériés,DATE(YEAR($B$18),MONTH($B$18),FZ$1))>0,"",IF(WEEKDAY(DATE(YEAR($B$18),MONTH($B$18),FZ$1),2)>5,"",INDEX('Semaine type'!$AF$4:$AY$49,MATCH(Novembre!$B34,'Semaine type'!$A$4:$A$49,0),MATCH(FZ$2,'Semaine type'!$AF$2:$AY$2,0)))) | GA34: =IF(COUNTIF(Fériés,DATE(YEAR($B$18),MONTH($B$18),GA$1))>0,"",IF(WEEKDAY(DATE(YEAR($B$18),MONTH($B$18),GA$1),2)>5,"",INDEX('Semaine type'!$AF$4:$AY$49,MATCH(Novembre!$B34,'Semaine type'!$A$4:$A$49,0),MATCH(GA$2,'Semaine type'!$AF$2:$AY$2,0)))) | GB34: =IF(COUNTIF(Fériés,DATE(YEAR($B$18),MONTH($B$18),GB$1))>0,"",IF(WEEKDAY(DATE(YEAR($B$18),MONTH($B$18),GB$1),2)>5,"",INDEX('Semaine type'!$AF$4:$AY$49,MATCH(Novembre!$B34,'Semaine type'!$A$4:$A$49,0),MATCH(GB$2,'Semaine type'!$AF$2:$AY$2,0)))) | GC34: =IF(COUNTIF(Fériés,DATE(YEAR($B$18),MONTH($B$18),GC$1))>0,"",IF(WEEKDAY(DATE(YEAR($B$18),MONTH($B$18),GC$1),2)>5,"",INDEX('Semaine type'!$AF$4:$AY$49,MATCH(Novembre!$B34,'Semaine type'!$A$4:$A$49,0),MATCH(GC$2,'Semaine type'!$AF$2:$AY$2,0)))) | GD34: =IF(COUNTIF(Fériés,DATE(YEAR($B$18),MONTH($B$18),GD$1))>0,"",IF(WEEKDAY(DATE(YEAR($B$18),MONTH($B$18),GD$1),2)>5,"",INDEX('Semaine type'!$AF$4:$AY$49,MATCH(Novembre!$B34,'Semaine type'!$A$4:$A$49,0),MATCH(GD$2,'Semaine type'!$AF$2:$AY$2,0)))) | GE34: =IF(COUNTIF(Fériés,DATE(YEAR($B$18),MONTH($B$18),GE$1))>0,"",IF(WEEKDAY(DATE(YEAR($B$18),MONTH($B$18),GE$1),2)>5,"",INDEX('Semaine type'!$AF$4:$AY$49,MATCH(Novembre!$B34,'Semaine type'!$A$4:$A$49,0),MATCH(GE$2,'Semaine type'!$AF$2:$AY$2,0)))) | GF34: =IF(COUNTIF(Fériés,DATE(YEAR($B$18),MONTH($B$18),GF$1))>0,"",IF(WEEKDAY(DATE(YEAR($B$18),MONTH($B$18),GF$1),2)>5,"",INDEX('Semaine type'!$AF$4:$AY$49,MATCH(Novembre!$B34,'Semaine type'!$A$4:$A$49,0),MATCH(GF$2,'Semaine type'!$AF$2:$AY$2,0)))) | GG34: =IF(COUNTIF(Fériés,DATE(YEAR($B$18),MONTH($B$18),GG$1))>0,"",IF(WEEKDAY(DATE(YEAR($B$18),MONTH($B$18),GG$1),2)>5,"",INDEX('Semaine type'!$AF$4:$AY$49,MATCH(Novembre!$B34,'Semaine type'!$A$4:$A$49,0),MATCH(GG$2,'Semaine type'!$AF$2:$AY$2,0)))) | ... KS34: =IF(COUNTIF(Fériés,DATE(YEAR($B$18),MONTH($B$18),KS$1))>0,"",IF(WEEKDAY(DATE(YEAR($B$18),MONTH($B$18),KS$1),2)>5,"",INDEX('Semaine type'!$AF$4:$AY$49,MATCH(Novembre!$B34,'Semaine type'!$A$4:$A$49,0),MATCH(KS$2,'Semaine type'!$AF$2:$AY$2,0)))) -> 0.70833333
B35: Pro17 | C35: ='Semaine type'!L20 -> EL | H35: EL. | I35: EL | L35: EL. | M35: EL | P35: EL | V35: EL. | W35: EL | Z35: EL. | AA35: EL | AD35: EL | AJ35: EL. | AK35: EL | AN35: EL. | AO35: EL | AR35: EL | AX35: EL. | AY35: EL | BB35: EL. | BC35: EL | BF35: EL | BL35: {=SUMPRODUCT(--(RIGHT(D35:BK35,1)="."))} -> 8 | BQ35: =COUNTIF($D35:$BK35,BQ$18)/2 -> 0 | BR35: =COUNTIF($D35:$BK35,BR$18)/2 -> 0 | BS35: =COUNTIF($D35:$BK35,BS$18)/2 -> 0 | BT35: =COUNTIF($D35:$BK35,BT$18)/2 -> 0 | BU35: =COUNTIF($D35:$BK35,BU$18)/2 -> 0 | BV35: =COUNTIF($D35:$BK35,BV$18)/2 -> 0 | BW35: =COUNTIF($D35:$BK35,BW$18)/2 -> 0 | BX35: =COUNTIF($D35:$BK35,BX$18)/2 -> 0 | ... CA35: =COUNTIF($D35:$BK35,CA$18)/2 -> 0 | CB35: =COUNTA(D35:BK35) -> 20 | CC35: =(CB35/($CB$17*2)) -> 0.58823529 | DA35: =SUM(DB35:FK35) -> 5.3541667 | DB35: =IFERROR(IF(COUNTIF(absences,D35)>0,"",IF(D35="PERM",Parametres!$N$25,GA35-FZ35)),) -> 0 | DC35: =IFERROR(GC35-GB35,"") | DD35: =IFERROR(GE35-GD35,"") | DE35: =IFERROR(GG35-GF35,"") | DF35: =IFERROR(GI35-GH35,"") -> 0.15972222 | DG35: =IFERROR(IF(COUNTIF(absences,I35)>0,"",IF(COUNTIF($D35:$BK35,"PERM")>0,COUNTIF($D35:$BK35,"PERM")*Parametres!$N$25,GF35-GE35)),) -> 0 | DH35: =IFERROR(GM35-GL35,"") -> 0.15972222 | DI35: =IFERROR(GO35-GN35,"") -> 0.14583333 | DJ35: =IFERROR(GQ35-GP35,"") -> 0.15972222 | DK35: =IFERROR(GS35-GR35,"") -> 0.14583333 | DL35: =IFERROR(GU35-GT35,"") -> 0.15972222 | DM35: =IFERROR(GW35-GV35,"") -> 0.13888889 | DN35: =IFERROR(GY35-GX35,"") -> 0.15972222 | DO35: =IFERROR(HA35-GZ35,"") -> 0 | DP35: =IFERROR(HC35-HB35,"") | DQ35: =IFERROR(HE35-HD35,"") | DR35: =IFERROR(HG35-HF35,"") | DS35: =IFERROR(HI35-HH35,"") | DT35: =IFERROR(HK35-HJ35,"") -> 0.15972222 | DU35: =IFERROR(HM35-HL35,"") -> 0.14583333 | DV35: =IFERROR(HO35-HN35,"") | DW35: =IFERROR(HQ35-HP35,"") | DX35: =IFERROR(HS35-HR35,"") -> 0.15972222 | DY35: =IFERROR(HU35-HT35,"") -> 0.14583333 | DZ35: =IFERROR(HW35-HV35,"") -> 0.15972222 | EA35: =IFERROR(HY35-HX35,"") -> 0.13888889 | EB35: =IFERROR(IA35-HZ35,"") -> 0.15972222 | EC35: =IFERROR(IC35-IB35,"") -> 0 | ED35: =IFERROR(IE35-ID35,"") | EE35: =IFERROR(IG35-IF35,"") | EF35: =IFERROR(II35-IH35,"") | EG35: =IFERROR(IK35-IJ35,"") | EH35: =IFERROR(IM35-IL35,"") -> 0.15972222 | EI35: =IFERROR(IO35-IN35,"") -> 0.14583333 | EJ35: =IFERROR(IQ35-IP35,"") -> 0.15972222 | EK35: =IFERROR(IS35-IR35,"") -> 0.14583333 | EL35: =IFERROR(IU35-IT35,"") -> 0.15972222 | EM35: =IFERROR(IW35-IV35,"") -> 0.14583333 | EN35: =IFERROR(IY35-IX35,"") -> 0.15972222 | EO35: =IFERROR(JA35-IZ35,"") -> 0.13888889 | EP35: =IFERROR(JC35-JB35,"") -> 0.15972222 | EQ35: =IFERROR(JE35-JD35,"") -> 0 | ER35: =IFERROR(JG35-JF35,"") | ES35: =IFERROR(JI35-JH35,"") | ET35: =IFERROR(JK35-JJ35,"") | EU35: =IFERROR(IF(COUNTIF(absences,AW35)>0,"",IF(COUNTIF($D35:$BK35,"PERM")>0,COUNTIF($D35:$BK35,"PERM")*Parametres!$N$25,IW35-IV35)),) -> 0.14583333 | EV35: =IFERROR(JO35-JN35,"") -> 0.15972222 | EW35: =IFERROR(JQ35-JP35,"") -> 0.14583333 | EX35: =IFERROR(JS35-JR35,"") -> 0.15972222 | EY35: =IFERROR(JU35-JT35,"") -> 0.14583333 | EZ35: =IFERROR(JW35-JV35,"") -> 0.15972222 | FA35: =IFERROR(JY35-JX35,"") -> 0.14583333 | FB35: =IFERROR(KA35-JZ35,"") -> 0.15972222 | FC35: =IFERROR(KC35-KB35,"") -> 0.13888889 | FD35: =IFERROR(KE35-KD35,"") -> 0.15972222 | FE35: =IFERROR(KG35-KF35,"") -> 0 | FF35: =IFERROR(KI35-KH35,"") | FG35: =IFERROR(KK35-KJ35,"") | FH35: =IFERROR(IF(COUNTIF(absences,BJ35)>0,"",IF(COUNTIF($D35:$BK35,"PERM")>0,COUNTIF($D35:$BK35,"PERM")*Parametres!$N$25,JJ35-JI35)),) -> 0 | FI35: =IFERROR(KO35-KN35,"") | FJ35: =IFERROR(KQ35-KP35,"") -> 0.15972222 | FK35: =IFERROR(IF(COUNTIF(absences,BM35)>0,"",IF(COUNTIF($D35:$BK35,"PERM")>0,COUNTIF($D35:$BK35,"PERM")*Parametres!$N$25,JM35-JL35)),) -> 0 | FZ35: =IF(COUNTIF(Fériés,DATE(YEAR($B$18),MONTH($B$18),FZ$1))>0,"",IF(WEEKDAY(DATE(YEAR($B$18),MONTH($B$18),FZ$1),2)>5,"",INDEX('Semaine type'!$AF$4:$AY$49,MATCH(Novembre!$B35,'Semaine type'!$A$4:$A$49,0),MATCH(FZ$2,'Semaine type'!$AF$2:$AY$2,0)))) | GA35: =IF(COUNTIF(Fériés,DATE(YEAR($B$18),MONTH($B$18),GA$1))>0,"",IF(WEEKDAY(DATE(YEAR($B$18),MONTH($B$18),GA$1),2)>5,"",INDEX('Semaine type'!$AF$4:$AY$49,MATCH(Novembre!$B35,'Semaine type'!$A$4:$A$49,0),MATCH(GA$2,'Semaine type'!$AF$2:$AY$2,0)))) | GB35: =IF(COUNTIF(Fériés,DATE(YEAR($B$18),MONTH($B$18),GB$1))>0,"",IF(WEEKDAY(DATE(YEAR($B$18),MONTH($B$18),GB$1),2)>5,"",INDEX('Semaine type'!$AF$4:$AY$49,MATCH(Novembre!$B35,'Semaine type'!$A$4:$A$49,0),MATCH(GB$2,'Semaine type'!$AF$2:$AY$2,0)))) | GC35: =IF(COUNTIF(Fériés,DATE(YEAR($B$18),MONTH($B$18),GC$1))>0,"",IF(WEEKDAY(DATE(YEAR($B$18),MONTH($B$18),GC$1),2)>5,"",INDEX('Semaine type'!$AF$4:$AY$49,MATCH(Novembre!$B35,'Semaine type'!$A$4:$A$49,0),MATCH(GC$2,'Semaine type'!$AF$2:$AY$2,0)))) | GD35: =IF(COUNTIF(Fériés,DATE(YEAR($B$18),MONTH($B$18),GD$1))>0,"",IF(WEEKDAY(DATE(YEAR($B$18),MONTH($B$18),GD$1),2)>5,"",INDEX('Semaine type'!$AF$4:$AY$49,MATCH(Novembre!$B35,'Semaine type'!$A$4:$A$49,0),MATCH(GD$2,'Semaine type'!$AF$2:$AY$2,0)))) | GE35: =IF(COUNTIF(Fériés,DATE(YEAR($B$18),MONTH($B$18),GE$1))>0,"",IF(WEEKDAY(DATE(YEAR($B$18),MONTH($B$18),GE$1),2)>5,"",INDEX('Semaine type'!$AF$4:$AY$49,MATCH(Novembre!$B35,'Semaine type'!$A$4:$A$49,0),MATCH(GE$2,'Semaine type'!$AF$2:$AY$2,0)))) | GF35: =IF(COUNTIF(Fériés,DATE(YEAR($B$18),MONTH($B$18),GF$1))>0,"",IF(WEEKDAY(DATE(YEAR($B$18),MONTH($B$18),GF$1),2)>5,"",INDEX('Semaine type'!$AF$4:$AY$49,MATCH(Novembre!$B35,'Semaine type'!$A$4:$A$49,0),MATCH(GF$2,'Semaine type'!$AF$2:$AY$2,0)))) | GG35: =IF(COUNTIF(Fériés,DATE(YEAR($B$18),MONTH($B$18),GG$1))>0,"",IF(WEEKDAY(DATE(YEAR($B$18),MONTH($B$18),GG$1),2)>5,"",INDEX('Semaine type'!$AF$4:$AY$49,MATCH(Novembre!$B35,'Semaine type'!$A$4:$A$49,0),MATCH(GG$2,'Semaine type'!$AF$2:$AY$2,0)))) | ... KS35: =IF(COUNTIF(Fériés,DATE(YEAR($B$18),MONTH($B$18),KS$1))>0,"",IF(WEEKDAY(DATE(YEAR($B$18),MONTH($B$18),KS$1),2)>5,"",INDEX('Semaine type'!$AF$4:$AY$49,MATCH(Novembre!$B35,'Semaine type'!$A$4:$A$49,0),MATCH(KS$2,'Semaine type'!$AF$2:$AY$2,0)))) -> 0.70833333
B36: Pro18 | C36: ='Semaine type'!L21 -> EV | H36: EV | I36: EV | J36: EV | K36: EV | L36: EV | M36: EV | N36: EV | O36: EV | P36: EV | V36: EV | W36: EV | Z36: EV | AA36: EV | AB36: EV | AC36: EV | AD36: EV | AJ36: EV | AK36: EV | AL36: EV | AM36: EV | AN36: EV | AO36: EV | AP36: EV | AQ36: EV | AR36: EV | AX36: EV | AY36: EV | AZ36: EV | BA36: EV | BB36: EV | BC36: EV | BD36: EV | BE36: EV | BF36: REC | BH36: PERM | BJ36: PERM | BL36: {=SUMPRODUCT(--(RIGHT(D36:BK36,1)="."))} -> 0 | BQ36: =COUNTIF($D36:$BK36,BQ$18)/2 -> 0 | BR36: =COUNTIF($D36:$BK36,BR$18)/2 -> 0 | BS36: =COUNTIF($D36:$BK36,BS$18)/2 -> 0 | BT36: =COUNTIF($D36:$BK36,BT$18)/2 -> 0 | BU36: =COUNTIF($D36:$BK36,BU$18)/2 -> 0 | BV36: =COUNTIF($D36:$BK36,BV$18)/2 -> 0 | BW36: =COUNTIF($D36:$BK36,BW$18)/2 -> 0 | BX36: =COUNTIF($D36:$BK36,BX$18)/2 -> 0 | ... CA36: =COUNTIF($D36:$BK36,CA$18)/2 -> 0 | CB36: =COUNTA(D36:BK36) -> 36 | CC36: =(CB36/($CB$17*2)) -> 1.0588235 | DA36: =SUM(DB36:FK36) -> 6.2083333 | DB36: =IFERROR(IF(COUNTIF(absences,D36)>0,"",IF(D36="PERM",Parametres!$N$25,GA36-FZ36)),) -> 0 | DC36: =IFERROR(GC36-GB36,"") | DD36: =IFERROR(GE36-GD36,"") | DE36: =IFERROR(GG36-GF36,"") | DF36: =IFERROR(GI36-GH36,"") -> 0.15972222 | DG36: =IFERROR(IF(COUNTIF(absences,I36)>0,"",IF(COUNTIF($D36:$BK36,"PERM")>0,COUNTIF($D36:$BK36,"PERM")*Parametres!$N$25,GF36-GE36)),) -> 0.25 | DH36: =IFERROR(GM36-GL36,"") -> 0.15972222 | DI36: =IFERROR(GO36-GN36,"") -> 0.14583333 | DJ36: =IFERROR(GQ36-GP36,"") -> 0.15972222 | DK36: =IFERROR(GS36-GR36,"") -> 0.14583333 | DL36: =IFERROR(GU36-GT36,"") -> 0.15972222 | DM36: =IFERROR(GW36-GV36,"") -> 0.13888889 | DN36: =IFERROR(GY36-GX36,"") -> 0.15972222 | DO36: =IFERROR(HA36-GZ36,"") -> 0 | DP36: =IFERROR(HC36-HB36,"") | DQ36: =IFERROR(HE36-HD36,"") | DR36: =IFERROR(HG36-HF36,"") | DS36: =IFERROR(HI36-HH36,"") | DT36: =IFERROR(HK36-HJ36,"") -> 0.15972222 | DU36: =IFERROR(HM36-HL36,"") -> 0.14583333 | DV36: =IFERROR(HO36-HN36,"") | DW36: =IFERROR(HQ36-HP36,"") | DX36: =IFERROR(HS36-HR36,"") -> 0.15972222 | DY36: =IFERROR(HU36-HT36,"") -> 0.14583333 | DZ36: =IFERROR(HW36-HV36,"") -> 0.15972222 | EA36: =IFERROR(HY36-HX36,"") -> 0.13888889 | EB36: =IFERROR(IA36-HZ36,"") -> 0.15972222 | EC36: =IFERROR(IC36-IB36,"") -> 0 | ED36: =IFERROR(IE36-ID36,"") | EE36: =IFERROR(IG36-IF36,"") | EF36: =IFERROR(II36-IH36,"") | EG36: =IFERROR(IK36-IJ36,"") | EH36: =IFERROR(IM36-IL36,"") -> 0.15972222 | EI36: =IFERROR(IO36-IN36,"") -> 0.14583333 | EJ36: =IFERROR(IQ36-IP36,"") -> 0.15972222 | EK36: =IFERROR(IS36-IR36,"") -> 0.14583333 | EL36: =IFERROR(IU36-IT36,"") -> 0.15972222 | EM36: =IFERROR(IW36-IV36,"") -> 0.14583333 | EN36: =IFERROR(IY36-IX36,"") -> 0.15972222 | EO36: =IFERROR(JA36-IZ36,"") -> 0.13888889 | EP36: =IFERROR(JC36-JB36,"") -> 0.15972222 | EQ36: =IFERROR(JE36-JD36,"") -> 0 | ER36: =IFERROR(JG36-JF36,"") | ES36: =IFERROR(JI36-JH36,"") | ET36: =IFERROR(JK36-JJ36,"") | EU36: =IFERROR(IF(COUNTIF(absences,AW36)>0,"",IF(COUNTIF($D36:$BK36,"PERM")>0,COUNTIF($D36:$BK36,"PERM")*Parametres!$N$25,IW36-IV36)),) -> 0.25 | EV36: =IFERROR(JO36-JN36,"") -> 0.15972222 | EW36: =IFERROR(JQ36-JP36,"") -> 0.14583333 | EX36: =IFERROR(JS36-JR36,"") -> 0.15972222 | EY36: =IFERROR(JU36-JT36,"") -> 0.14583333 | EZ36: =IFERROR(JW36-JV36,"") -> 0.15972222 | FA36: =IFERROR(JY36-JX36,"") -> 0.14583333 | FB36: =IFERROR(KA36-JZ36,"") -> 0.15972222 | FC36: =IFERROR(KC36-KB36,"") -> 0.13888889 | FD36: =IFERROR(KE36-KD36,"") -> 0.15972222 | FE36: =IFERROR(KG36-KF36,"") -> 0 | FF36: =IFERROR(KI36-KH36,"") | FG36: =IFERROR(KK36-KJ36,"") | FH36: =IFERROR(IF(COUNTIF(absences,BJ36)>0,"",IF(COUNTIF($D36:$BK36,"PERM")>0,COUNTIF($D36:$BK36,"PERM")*Parametres!$N$25,JJ36-JI36)),) -> 0.25 | FI36: =IFERROR(KO36-KN36,"") | FJ36: =IFERROR(KQ36-KP36,"") -> 0.15972222 | FK36: =IFERROR(IF(COUNTIF(absences,BM36)>0,"",IF(COUNTIF($D36:$BK36,"PERM")>0,COUNTIF($D36:$BK36,"PERM")*Parametres!$N$25,JM36-JL36)),) -> 0.25 | FZ36: =IF(COUNTIF(Fériés,DATE(YEAR($B$18),MONTH($B$18),FZ$1))>0,"",IF(WEEKDAY(DATE(YEAR($B$18),MONTH($B$18),FZ$1),2)>5,"",INDEX('Semaine type'!$AF$4:$AY$49,MATCH(Novembre!$B36,'Semaine type'!$A$4:$A$49,0),MATCH(FZ$2,'Semaine type'!$AF$2:$AY$2,0)))) | GA36: =IF(COUNTIF(Fériés,DATE(YEAR($B$18),MONTH($B$18),GA$1))>0,"",IF(WEEKDAY(DATE(YEAR($B$18),MONTH($B$18),GA$1),2)>5,"",INDEX('Semaine type'!$AF$4:$AY$49,MATCH(Novembre!$B36,'Semaine type'!$A$4:$A$49,0),MATCH(GA$2,'Semaine type'!$AF$2:$AY$2,0)))) | GB36: =IF(COUNTIF(Fériés,DATE(YEAR($B$18),MONTH($B$18),GB$1))>0,"",IF(WEEKDAY(DATE(YEAR($B$18),MONTH($B$18),GB$1),2)>5,"",INDEX('Semaine type'!$AF$4:$AY$49,MATCH(Novembre!$B36,'Semaine type'!$A$4:$A$49,0),MATCH(GB$2,'Semaine type'!$AF$2:$AY$2,0)))) | GC36: =IF(COUNTIF(Fériés,DATE(YEAR($B$18),MONTH($B$18),GC$1))>0,"",IF(WEEKDAY(DATE(YEAR($B$18),MONTH($B$18),GC$1),2)>5,"",INDEX('Semaine type'!$AF$4:$AY$49,MATCH(Novembre!$B36,'Semaine type'!$A$4:$A$49,0),MATCH(GC$2,'Semaine type'!$AF$2:$AY$2,0)))) | GD36: =IF(COUNTIF(Fériés,DATE(YEAR($B$18),MONTH($B$18),GD$1))>0,"",IF(WEEKDAY(DATE(YEAR($B$18),MONTH($B$18),GD$1),2)>5,"",INDEX('Semaine type'!$AF$4:$AY$49,MATCH(Novembre!$B36,'Semaine type'!$A$4:$A$49,0),MATCH(GD$2,'Semaine type'!$AF$2:$AY$2,0)))) | GE36: =IF(COUNTIF(Fériés,DATE(YEAR($B$18),MONTH($B$18),GE$1))>0,"",IF(WEEKDAY(DATE(YEAR($B$18),MONTH($B$18),GE$1),2)>5,"",INDEX('Semaine type'!$AF$4:$AY$49,MATCH(Novembre!$B36,'Semaine type'!$A$4:$A$49,0),MATCH(GE$2,'Semaine type'!$AF$2:$AY$2,0)))) | GF36: =IF(COUNTIF(Fériés,DATE(YEAR($B$18),MONTH($B$18),GF$1))>0,"",IF(WEEKDAY(DATE(YEAR($B$18),MONTH($B$18),GF$1),2)>5,"",INDEX('Semaine type'!$AF$4:$AY$49,MATCH(Novembre!$B36,'Semaine type'!$A$4:$A$49,0),MATCH(GF$2,'Semaine type'!$AF$2:$AY$2,0)))) | GG36: =IF(COUNTIF(Fériés,DATE(YEAR($B$18),MONTH($B$18),GG$1))>0,"",IF(WEEKDAY(DATE(YEAR($B$18),MONTH($B$18),GG$1),2)>5,"",INDEX('Semaine type'!$AF$4:$AY$49,MATCH(Novembre!$B36,'Semaine type'!$A$4:$A$49,0),MATCH(GG$2,'Semaine type'!$AF$2:$AY$2,0)))) | ... KS36: =IF(COUNTIF(Fériés,DATE(YEAR($B$18),MONTH($B$18),KS$1))>0,"",IF(WEEKDAY(DATE(YEAR($B$18),MONTH($B$18),KS$1),2)>5,"",INDEX('Semaine type'!$AF$4:$AY$49,MATCH(Novembre!$B36,'Semaine type'!$A$4:$A$49,0),MATCH(KS$2,'Semaine type'!$AF$2:$AY$2,0)))) -> 0.70833333
B37: Pro19 | C37: ='Semaine type'!L22 -> CONS | H37: CONS. | I37: CONS | J37: CONS. | K37: CONS | L37: CONS. | M37: CONS | N37: CONS. | O37: CONS | P37: CONS | V37: CONS. | W37: CONS | Z37: CONS. | AA37: CONS | AB37: CONS. | AC37: CONS | AD37: CONS | AJ37: CONS. | AK37: CONS | AL37: CONS. | AM37: CONS | AN37: CP | AO37: CP | AP37: CONS. | AQ37: CONS | AR37: CONS | AX37: CONS. | AY37: CONS | AZ37: CONS. | BA37: CONS | BB37: CONS. | BC37: CONS | BD37: CONS. | BE37: CONS | BF37: CONS | BL37: {=SUMPRODUCT(--(RIGHT(D37:BK37,1)="."))} -> 14 | BQ37: =COUNTIF($D37:$BK37,BQ$18)/2 -> 0 | BR37: =COUNTIF($D37:$BK37,BR$18)/2 -> 0 | BS37: =COUNTIF($D37:$BK37,BS$18)/2 -> 0 | BT37: =COUNTIF($D37:$BK37,BT$18)/2 -> 1 | BU37: =COUNTIF($D37:$BK37,BU$18)/2 -> 0 | BV37: =COUNTIF($D37:$BK37,BV$18)/2 -> 0 | BW37: =COUNTIF($D37:$BK37,BW$18)/2 -> 0 | BX37: =COUNTIF($D37:$BK37,BX$18)/2 -> 0 | ... CA37: =COUNTIF($D37:$BK37,CA$18)/2 -> 0 | CB37: =COUNTA(D37:BK37) -> 34 | CC37: =(CB37/($CB$17*2)) -> 1 | DA37: =SUM(DB37:FK37) -> 5.3541667 | DB37: =IFERROR(IF(COUNTIF(absences,D37)>0,"",IF(D37="PERM",Parametres!$N$25,GA37-FZ37)),) -> 0 | DC37: =IFERROR(GC37-GB37,"") | DD37: =IFERROR(GE37-GD37,"") | DE37: =IFERROR(GG37-GF37,"") | DF37: =IFERROR(GI37-GH37,"") -> 0.15972222 | DG37: =IFERROR(IF(COUNTIF(absences,I37)>0,"",IF(COUNTIF($D37:$BK37,"PERM")>0,COUNTIF($D37:$BK37,"PERM")*Parametres!$N$25,GF37-GE37)),) -> 0 | DH37: =IFERROR(GM37-GL37,"") -> 0.15972222 | DI37: =IFERROR(GO37-GN37,"") -> 0.14583333 | DJ37: =IFERROR(GQ37-GP37,"") -> 0.15972222 | DK37: =IFERROR(GS37-GR37,"") -> 0.14583333 | DL37: =IFERROR(GU37-GT37,"") -> 0.15972222 | DM37: =IFERROR(GW37-GV37,"") -> 0.13888889 | DN37: =IFERROR(GY37-GX37,"") -> 0.15972222 | DO37: =IFERROR(HA37-GZ37,"") -> 0 | DP37: =IFERROR(HC37-HB37,"") | DQ37: =IFERROR(HE37-HD37,"") | DR37: =IFERROR(HG37-HF37,"") | DS37: =IFERROR(HI37-HH37,"") | DT37: =IFERROR(HK37-HJ37,"") -> 0.15972222 | DU37: =IFERROR(HM37-HL37,"") -> 0.14583333 | DV37: =IFERROR(HO37-HN37,"") | DW37: =IFERROR(HQ37-HP37,"") | DX37: =IFERROR(HS37-HR37,"") -> 0.15972222 | DY37: =IFERROR(HU37-HT37,"") -> 0.14583333 | DZ37: =IFERROR(HW37-HV37,"") -> 0.15972222 | EA37: =IFERROR(HY37-HX37,"") -> 0.13888889 | EB37: =IFERROR(IA37-HZ37,"") -> 0.15972222 | EC37: =IFERROR(IC37-IB37,"") -> 0 | ED37: =IFERROR(IE37-ID37,"") | EE37: =IFERROR(IG37-IF37,"") | EF37: =IFERROR(II37-IH37,"") | EG37: =IFERROR(IK37-IJ37,"") | EH37: =IFERROR(IM37-IL37,"") -> 0.15972222 | EI37: =IFERROR(IO37-IN37,"") -> 0.14583333 | EJ37: =IFERROR(IQ37-IP37,"") -> 0.15972222 | EK37: =IFERROR(IS37-IR37,"") -> 0.14583333 | EL37: =IFERROR(IU37-IT37,"") -> 0.15972222 | EM37: =IFERROR(IW37-IV37,"") -> 0.14583333 | EN37: =IFERROR(IY37-IX37,"") -> 0.15972222 | EO37: =IFERROR(JA37-IZ37,"") -> 0.13888889 | EP37: =IFERROR(JC37-JB37,"") -> 0.15972222 | EQ37: =IFERROR(JE37-JD37,"") -> 0 | ER37: =IFERROR(JG37-JF37,"") | ES37: =IFERROR(JI37-JH37,"") | ET37: =IFERROR(JK37-JJ37,"") | EU37: =IFERROR(IF(COUNTIF(absences,AW37)>0,"",IF(COUNTIF($D37:$BK37,"PERM")>0,COUNTIF($D37:$BK37,"PERM")*Parametres!$N$25,IW37-IV37)),) -> 0.14583333 | EV37: =IFERROR(JO37-JN37,"") -> 0.15972222 | EW37: =IFERROR(JQ37-JP37,"") -> 0.14583333 | EX37: =IFERROR(JS37-JR37,"") -> 0.15972222 | EY37: =IFERROR(JU37-JT37,"") -> 0.14583333 | EZ37: =IFERROR(JW37-JV37,"") -> 0.15972222 | FA37: =IFERROR(JY37-JX37,"") -> 0.14583333 | FB37: =IFERROR(KA37-JZ37,"") -> 0.15972222 | FC37: =IFERROR(KC37-KB37,"") -> 0.13888889 | FD37: =IFERROR(KE37-KD37,"") -> 0.15972222 | FE37: =IFERROR(KG37-KF37,"") -> 0 | FF37: =IFERROR(KI37-KH37,"") | FG37: =IFERROR(KK37-KJ37,"") | FH37: =IFERROR(IF(COUNTIF(absences,BJ37)>0,"",IF(COUNTIF($D37:$BK37,"PERM")>0,COUNTIF($D37:$BK37,"PERM")*Parametres!$N$25,JJ37-JI37)),) -> 0 | FI37: =IFERROR(KO37-KN37,"") | FJ37: =IFERROR(KQ37-KP37,"") -> 0.15972222 | FK37: =IFERROR(IF(COUNTIF(absences,BM37)>0,"",IF(COUNTIF($D37:$BK37,"PERM")>0,COUNTIF($D37:$BK37,"PERM")*Parametres!$N$25,JM37-JL37)),) -> 0 | FZ37: =IF(COUNTIF(Fériés,DATE(YEAR($B$18),MONTH($B$18),FZ$1))>0,"",IF(WEEKDAY(DATE(YEAR($B$18),MONTH($B$18),FZ$1),2)>5,"",INDEX('Semaine type'!$AF$4:$AY$49,MATCH(Novembre!$B37,'Semaine type'!$A$4:$A$49,0),MATCH(FZ$2,'Semaine type'!$AF$2:$AY$2,0)))) | GA37: =IF(COUNTIF(Fériés,DATE(YEAR($B$18),MONTH($B$18),GA$1))>0,"",IF(WEEKDAY(DATE(YEAR($B$18),MONTH($B$18),GA$1),2)>5,"",INDEX('Semaine type'!$AF$4:$AY$49,MATCH(Novembre!$B37,'Semaine type'!$A$4:$A$49,0),MATCH(GA$2,'Semaine type'!$AF$2:$AY$2,0)))) | GB37: =IF(COUNTIF(Fériés,DATE(YEAR($B$18),MONTH($B$18),GB$1))>0,"",IF(WEEKDAY(DATE(YEAR($B$18),MONTH($B$18),GB$1),2)>5,"",INDEX('Semaine type'!$AF$4:$AY$49,MATCH(Novembre!$B37,'Semaine type'!$A$4:$A$49,0),MATCH(GB$2,'Semaine type'!$AF$2:$AY$2,0)))) | GC37: =IF(COUNTIF(Fériés,DATE(YEAR($B$18),MONTH($B$18),GC$1))>0,"",IF(WEEKDAY(DATE(YEAR($B$18),MONTH($B$18),GC$1),2)>5,"",INDEX('Semaine type'!$AF$4:$AY$49,MATCH(Novembre!$B37,'Semaine type'!$A$4:$A$49,0),MATCH(GC$2,'Semaine type'!$AF$2:$AY$2,0)))) | GD37: =IF(COUNTIF(Fériés,DATE(YEAR($B$18),MONTH($B$18),GD$1))>0,"",IF(WEEKDAY(DATE(YEAR($B$18),MONTH($B$18),GD$1),2)>5,"",INDEX('Semaine type'!$AF$4:$AY$49,MATCH(Novembre!$B37,'Semaine type'!$A$4:$A$49,0),MATCH(GD$2,'Semaine type'!$AF$2:$AY$2,0)))) | GE37: =IF(COUNTIF(Fériés,DATE(YEAR($B$18),MONTH($B$18),GE$1))>0,"",IF(WEEKDAY(DATE(YEAR($B$18),MONTH($B$18),GE$1),2)>5,"",INDEX('Semaine type'!$AF$4:$AY$49,MATCH(Novembre!$B37,'Semaine type'!$A$4:$A$49,0),MATCH(GE$2,'Semaine type'!$AF$2:$AY$2,0)))) | GF37: =IF(COUNTIF(Fériés,DATE(YEAR($B$18),MONTH($B$18),GF$1))>0,"",IF(WEEKDAY(DATE(YEAR($B$18),MONTH($B$18),GF$1),2)>5,"",INDEX('Semaine type'!$AF$4:$AY$49,MATCH(Novembre!$B37,'Semaine type'!$A$4:$A$49,0),MATCH(GF$2,'Semaine type'!$AF$2:$AY$2,0)))) | GG37: =IF(COUNTIF(Fériés,DATE(YEAR($B$18),MONTH($B$18),GG$1))>0,"",IF(WEEKDAY(DATE(YEAR($B$18),MONTH($B$18),GG$1),2)>5,"",INDEX('Semaine type'!$AF$4:$AY$49,MATCH(Novembre!$B37,'Semaine type'!$A$4:$A$49,0),MATCH(GG$2,'Semaine type'!$AF$2:$AY$2,0)))) | ... KS37: =IF(COUNTIF(Fériés,DATE(YEAR($B$18),MONTH($B$18),KS$1))>0,"",IF(WEEKDAY(DATE(YEAR($B$18),MONTH($B$18),KS$1),2)>5,"",INDEX('Semaine type'!$AF$4:$AY$49,MATCH(Novembre!$B37,'Semaine type'!$A$4:$A$49,0),MATCH(KS$2,'Semaine type'!$AF$2:$AY$2,0)))) -> 0.70833333
B38: Pro20 | C38: ='Semaine type'!L23 -> STI EL | D38: A | E38: A | F38: A | G38: A | H38: A | I38: A | J38: A | K38: A | L38: A | M38: A | N38: A | O38: A | P38: A | Q38: A | R38: A | S38: A | T38: A | U38: A | V38: A | W38: A | X38: A | Y38: A | Z38: A | AA38: A | AB38: A | AC38: A | AD38: A | AE38: A | AF38: A | AG38: A | AH38: A | AI38: A | AJ38: A | AK38: A | AL38: A | AM38: A | AN38: A | AO38: A | AP38: A | AQ38: A | AR38: A | AS38: A | AT38: A | AU38: A | AV38: A | AW38: A | AX38: A | AY38: A | AZ38: A | BA38: A | BB38: A | BC38: A | BD38: A | BE38: A | BF38: A | BG38: A | BH38: A | BI38: A | BJ38: A | BK38: A | BL38: {=SUMPRODUCT(--(RIGHT(D38:BK38,1)="."))} -> 0 | BQ38: =COUNTIF($D38:$BK38,BQ$18)/2 -> 0 | BR38: =COUNTIF($D38:$BK38,BR$18)/2 -> 30 | BS38: =COUNTIF($D38:$BK38,BS$18)/2 -> 0 | BT38: =COUNTIF($D38:$BK38,BT$18)/2 -> 0 | BU38: =COUNTIF($D38:$BK38,BU$18)/2 -> 0 | BV38: =COUNTIF($D38:$BK38,BV$18)/2 -> 0 | BW38: =COUNTIF($D38:$BK38,BW$18)/2 -> 0 | BX38: =COUNTIF($D38:$BK38,BX$18)/2 -> 0 | ... CA38: =COUNTIF($D38:$BK38,CA$18)/2 -> 0 | CB38: =COUNTA(D38:BK38) -> 60 | CC38: =(CB38/($CB$17*2)) -> 1.7647059 | DA38: =SUM(DB38:FK38) -> 2.9166667 | DB38: =IFERROR(IF(COUNTIF(absences,D38)>0,"",IF(D38="PERM",Parametres!$N$25,GA38-FZ38)),) | DC38: =IFERROR(GC38-GB38,"") | DD38: =IFERROR(GE38-GD38,"") | DE38: =IFERROR(GG38-GF38,"") | DF38: =IFERROR(GI38-GH38,"") -> 0.072916667 | DG38: =IFERROR(IF(COUNTIF(absences,I38)>0,"",IF(COUNTIF($D38:$BK38,"PERM")>0,COUNTIF($D38:$BK38,"PERM")*Parametres!$N$25,GF38-GE38)),) | DH38: =IFERROR(GM38-GL38,"") -> 0.072916667 | DI38: =IFERROR(GO38-GN38,"") -> 0.125 | DJ38: =IFERROR(GQ38-GP38,"") -> 0.072916667 | DK38: =IFERROR(GS38-GR38,"") -> 0.125 | DL38: =IFERROR(GU38-GT38,"") -> 0.072916667 | DM38: =IFERROR(GW38-GV38,"") -> 0.125 | DN38: =IFERROR(GY38-GX38,"") | DO38: =IFERROR(HA38-GZ38,"") -> 0 | DP38: =IFERROR(HC38-HB38,"") | DQ38: =IFERROR(HE38-HD38,"") | DR38: =IFERROR(HG38-HF38,"") | DS38: =IFERROR(HI38-HH38,"") | DT38: =IFERROR(HK38-HJ38,"") -> 0.072916667 | DU38: =IFERROR(HM38-HL38,"") -> 0.125 | DV38: =IFERROR(HO38-HN38,"") | DW38: =IFERROR(HQ38-HP38,"") | DX38: =IFERROR(HS38-HR38,"") -> 0.072916667 | DY38: =IFERROR(HU38-HT38,"") -> 0.125 | DZ38: =IFERROR(HW38-HV38,"") -> 0.072916667 | EA38: =IFERROR(HY38-HX38,"") -> 0.125 | EB38: =IFERROR(IA38-HZ38,"") | EC38: =IFERROR(IC38-IB38,"") -> 0 | ED38: =IFERROR(IE38-ID38,"") | EE38: =IFERROR(IG38-IF38,"") | EF38: =IFERROR(II38-IH38,"") | EG38: =IFERROR(IK38-IJ38,"") | EH38: =IFERROR(IM38-IL38,"") -> 0.072916667 | EI38: =IFERROR(IO38-IN38,"") -> 0.125 | EJ38: =IFERROR(IQ38-IP38,"") -> 0.072916667 | EK38: =IFERROR(IS38-IR38,"") -> 0.125 | EL38: =IFERROR(IU38-IT38,"") -> 0.072916667 | EM38: =IFERROR(IW38-IV38,"") -> 0.125 | EN38: =IFERROR(IY38-IX38,"") -> 0.072916667 | EO38: =IFERROR(JA38-IZ38,"") -> 0.125 | EP38: =IFERROR(JC38-JB38,"") | EQ38: =IFERROR(JE38-JD38,"") -> 0 | ER38: =IFERROR(JG38-JF38,"") | ES38: =IFERROR(JI38-JH38,"") | ET38: =IFERROR(JK38-JJ38,"") | EU38: =IFERROR(IF(COUNTIF(absences,AW38)>0,"",IF(COUNTIF($D38:$BK38,"PERM")>0,COUNTIF($D38:$BK38,"PERM")*Parametres!$N$25,IW38-IV38)),) | EV38: =IFERROR(JO38-JN38,"") -> 0.072916667 | EW38: =IFERROR(JQ38-JP38,"") -> 0.125 | EX38: =IFERROR(JS38-JR38,"") -> 0.072916667 | EY38: =IFERROR(JU38-JT38,"") -> 0.125 | EZ38: =IFERROR(JW38-JV38,"") -> 0.072916667 | FA38: =IFERROR(JY38-JX38,"") -> 0.125 | FB38: =IFERROR(KA38-JZ38,"") -> 0.072916667 | FC38: =IFERROR(KC38-KB38,"") -> 0.125 | FD38: =IFERROR(KE38-KD38,"") | FE38: =IFERROR(KG38-KF38,"") -> 0 | FF38: =IFERROR(KI38-KH38,"") | FG38: =IFERROR(KK38-KJ38,"") | FH38: =IFERROR(IF(COUNTIF(absences,BJ38)>0,"",IF(COUNTIF($D38:$BK38,"PERM")>0,COUNTIF($D38:$BK38,"PERM")*Parametres!$N$25,JJ38-JI38)),) | FI38: =IFERROR(KO38-KN38,"") | FJ38: =IFERROR(KQ38-KP38,"") -> 0.072916667 | FK38: =IFERROR(IF(COUNTIF(absences,BM38)>0,"",IF(COUNTIF($D38:$BK38,"PERM")>0,COUNTIF($D38:$BK38,"PERM")*Parametres!$N$25,JM38-JL38)),) -> 0 | FZ38: =IF(COUNTIF(Fériés,DATE(YEAR($B$18),MONTH($B$18),FZ$1))>0,"",IF(WEEKDAY(DATE(YEAR($B$18),MONTH($B$18),FZ$1),2)>5,"",INDEX('Semaine type'!$AF$4:$AY$49,MATCH(Novembre!$B38,'Semaine type'!$A$4:$A$49,0),MATCH(FZ$2,'Semaine type'!$AF$2:$AY$2,0)))) | GA38: =IF(COUNTIF(Fériés,DATE(YEAR($B$18),MONTH($B$18),GA$1))>0,"",IF(WEEKDAY(DATE(YEAR($B$18),MONTH($B$18),GA$1),2)>5,"",INDEX('Semaine type'!$AF$4:$AY$49,MATCH(Novembre!$B38,'Semaine type'!$A$4:$A$49,0),MATCH(GA$2,'Semaine type'!$AF$2:$AY$2,0)))) | GB38: =IF(COUNTIF(Fériés,DATE(YEAR($B$18),MONTH($B$18),GB$1))>0,"",IF(WEEKDAY(DATE(YEAR($B$18),MONTH($B$18),GB$1),2)>5,"",INDEX('Semaine type'!$AF$4:$AY$49,MATCH(Novembre!$B38,'Semaine type'!$A$4:$A$49,0),MATCH(GB$2,'Semaine type'!$AF$2:$AY$2,0)))) | GC38: =IF(COUNTIF(Fériés,DATE(YEAR($B$18),MONTH($B$18),GC$1))>0,"",IF(WEEKDAY(DATE(YEAR($B$18),MONTH($B$18),GC$1),2)>5,"",INDEX('Semaine type'!$AF$4:$AY$49,MATCH(Novembre!$B38,'Semaine type'!$A$4:$A$49,0),MATCH(GC$2,'Semaine type'!$AF$2:$AY$2,0)))) | GD38: =IF(COUNTIF(Fériés,DATE(YEAR($B$18),MONTH($B$18),GD$1))>0,"",IF(WEEKDAY(DATE(YEAR($B$18),MONTH($B$18),GD$1),2)>5,"",INDEX('Semaine type'!$AF$4:$AY$49,MATCH(Novembre!$B38,'Semaine type'!$A$4:$A$49,0),MATCH(GD$2,'Semaine type'!$AF$2:$AY$2,0)))) | GE38: =IF(COUNTIF(Fériés,DATE(YEAR($B$18),MONTH($B$18),GE$1))>0,"",IF(WEEKDAY(DATE(YEAR($B$18),MONTH($B$18),GE$1),2)>5,"",INDEX('Semaine type'!$AF$4:$AY$49,MATCH(Novembre!$B38,'Semaine type'!$A$4:$A$49,0),MATCH(GE$2,'Semaine type'!$AF$2:$AY$2,0)))) | GF38: =IF(COUNTIF(Fériés,DATE(YEAR($B$18),MONTH($B$18),GF$1))>0,"",IF(WEEKDAY(DATE(YEAR($B$18),MONTH($B$18),GF$1),2)>5,"",INDEX('Semaine type'!$AF$4:$AY$49,MATCH(Novembre!$B38,'Semaine type'!$A$4:$A$49,0),MATCH(GF$2,'Semaine type'!$AF$2:$AY$2,0)))) | GG38: =IF(COUNTIF(Fériés,DATE(YEAR($B$18),MONTH($B$18),GG$1))>0,"",IF(WEEKDAY(DATE(YEAR($B$18),MONTH($B$18),GG$1),2)>5,"",INDEX('Semaine type'!$AF$4:$AY$49,MATCH(Novembre!$B38,'Semaine type'!$A$4:$A$49,0),MATCH(GG$2,'Semaine type'!$AF$2:$AY$2,0)))) | ... KS38: =IF(COUNTIF(Fériés,DATE(YEAR($B$18),MONTH($B$18),KS$1))>0,"",IF(WEEKDAY(DATE(YEAR($B$18),MONTH($B$18),KS$1),2)>5,"",INDEX('Semaine type'!$AF$4:$AY$49,MATCH(Novembre!$B38,'Semaine type'!$A$4:$A$49,0),MATCH(KS$2,'Semaine type'!$AF$2:$AY$2,0)))) -> 0.64583333
B39: Pro21 | C39: ='Semaine type'!L24 -> PA CONS | H39: ABS | I39: ABS | J39: MAD | K39: MAD | L39: PA. | M39: PA | N39: CONS. | O39: CONS | P39: PA | V39: ABS | W39: ABS | Z39: PA. | AA39: PA | AB39: CONS. | AC39: CP | AD39: PA | AJ39: ABS | AK39: ABS | AL39: MAD | AM39: MAD | AN39: PA. | AO39: PA | AP39: CONS. | AQ39: CONS | AR39: PA | AX39: ABS | AY39: ABS | AZ39: MAD | BA39: MAD | BB39: PA. | BC39: PA | BD39: CONS. | BE39: CONS | BF39: PA | BL39: {=SUMPRODUCT(--(RIGHT(D39:BK39,1)="."))} -> 8 | BQ39: =COUNTIF($D39:$BK39,BQ$18)/2 -> 0 | BR39: =COUNTIF($D39:$BK39,BR$18)/2 -> 0 | BS39: =COUNTIF($D39:$BK39,BS$18)/2 -> 0 | BT39: =COUNTIF($D39:$BK39,BT$18)/2 -> 0.5 | BU39: =COUNTIF($D39:$BK39,BU$18)/2 -> 0 | BV39: =COUNTIF($D39:$BK39,BV$18)/2 -> 0 | BW39: =COUNTIF($D39:$BK39,BW$18)/2 -> 4 | BX39: =COUNTIF($D39:$BK39,BX$18)/2 -> 3 | ... CA39: =COUNTIF($D39:$BK39,CA$18)/2 -> 0 | CB39: =COUNTA(D39:BK39) -> 34 | CC39: =(CB39/($CB$17*2)) -> 1 | DA39: =SUM(DB39:FK39) -> 3.2430556 | DB39: =IFERROR(IF(COUNTIF(absences,D39)>0,"",IF(D39="PERM",Parametres!$N$25,GA39-FZ39)),) -> 0 | DC39: =IFERROR(GC39-GB39,"") | DD39: =IFERROR(GE39-GD39,"") | DE39: =IFERROR(GG39-GF39,"") | DF39: =IFERROR(GI39-GH39,"") -> 0.15972222 | DG39: =IFERROR(IF(COUNTIF(absences,I39)>0,"",IF(COUNTIF($D39:$BK39,"PERM")>0,COUNTIF($D39:$BK39,"PERM")*Parametres!$N$25,GF39-GE39)),) | DH39: =IFERROR(GM39-GL39,"") | DI39: =IFERROR(GO39-GN39,"") | DJ39: =IFERROR(GQ39-GP39,"") -> 0.15972222 | DK39: =IFERROR(GS39-GR39,"") -> 0.14583333 | DL39: =IFERROR(GU39-GT39,"") | DM39: =IFERROR(GW39-GV39,"") | DN39: =IFERROR(GY39-GX39,"") -> 0.15972222 | DO39: =IFERROR(HA39-GZ39,"") -> 0 | DP39: =IFERROR(HC39-HB39,"") | DQ39: =IFERROR(HE39-HD39,"") | DR39: =IFERROR(HG39-HF39,"") | DS39: =IFERROR(HI39-HH39,"") | DT39: =IFERROR(HK39-HJ39,"") -> 0.15972222 | DU39: =IFERROR(HM39-HL39,"") -> 0.14583333 | DV39: =IFERROR(HO39-HN39,"") | DW39: =IFERROR(HQ39-HP39,"") | DX39: =IFERROR(HS39-HR39,"") -> 0.15972222 | DY39: =IFERROR(HU39-HT39,"") -> 0.14583333 | DZ39: =IFERROR(HW39-HV39,"") | EA39: =IFERROR(HY39-HX39,"") | EB39: =IFERROR(IA39-HZ39,"") -> 0.15972222 | EC39: =IFERROR(IC39-IB39,"") -> 0 | ED39: =IFERROR(IE39-ID39,"") | EE39: =IFERROR(IG39-IF39,"") | EF39: =IFERROR(II39-IH39,"") | EG39: =IFERROR(IK39-IJ39,"") | EH39: =IFERROR(IM39-IL39,"") -> 0.15972222 | EI39: =IFERROR(IO39-IN39,"") -> 0.14583333 | EJ39: =IFERROR(IQ39-IP39,"") | EK39: =IFERROR(IS39-IR39,"") | EL39: =IFERROR(IU39-IT39,"") -> 0.15972222 | EM39: =IFERROR(IW39-IV39,"") -> 0.14583333 | EN39: =IFERROR(IY39-IX39,"") | EO39: =IFERROR(JA39-IZ39,"") | EP39: =IFERROR(JC39-JB39,"") -> 0.15972222 | EQ39: =IFERROR(JE39-JD39,"") -> 0 | ER39: =IFERROR(JG39-JF39,"") | ES39: =IFERROR(JI39-JH39,"") | ET39: =IFERROR(JK39-JJ39,"") | EU39: =IFERROR(IF(COUNTIF(absences,AW39)>0,"",IF(COUNTIF($D39:$BK39,"PERM")>0,COUNTIF($D39:$BK39,"PERM")*Parametres!$N$25,IW39-IV39)),) -> 0.14583333 | EV39: =IFERROR(JO39-JN39,"") -> 0.15972222 | EW39: =IFERROR(JQ39-JP39,"") -> 0.14583333 | EX39: =IFERROR(JS39-JR39,"") | EY39: =IFERROR(JU39-JT39,"") | EZ39: =IFERROR(JW39-JV39,"") -> 0.15972222 | FA39: =IFERROR(JY39-JX39,"") -> 0.14583333 | FB39: =IFERROR(KA39-JZ39,"") | FC39: =IFERROR(KC39-KB39,"") | FD39: =IFERROR(KE39-KD39,"") -> 0.15972222 | FE39: =IFERROR(KG39-KF39,"") -> 0 | FF39: =IFERROR(KI39-KH39,"") | FG39: =IFERROR(KK39-KJ39,"") | FH39: =IFERROR(IF(COUNTIF(absences,BJ39)>0,"",IF(COUNTIF($D39:$BK39,"PERM")>0,COUNTIF($D39:$BK39,"PERM")*Parametres!$N$25,JJ39-JI39)),) -> 0 | FI39: =IFERROR(KO39-KN39,"") | FJ39: =IFERROR(KQ39-KP39,"") -> 0.15972222 | FK39: =IFERROR(IF(COUNTIF(absences,BM39)>0,"",IF(COUNTIF($D39:$BK39,"PERM")>0,COUNTIF($D39:$BK39,"PERM")*Parametres!$N$25,JM39-JL39)),) -> 0 | FZ39: =IF(COUNTIF(Fériés,DATE(YEAR($B$18),MONTH($B$18),FZ$1))>0,"",IF(WEEKDAY(DATE(YEAR($B$18),MONTH($B$18),FZ$1),2)>5,"",INDEX('Semaine type'!$AF$4:$AY$49,MATCH(Novembre!$B39,'Semaine type'!$A$4:$A$49,0),MATCH(FZ$2,'Semaine type'!$AF$2:$AY$2,0)))) | GA39: =IF(COUNTIF(Fériés,DATE(YEAR($B$18),MONTH($B$18),GA$1))>0,"",IF(WEEKDAY(DATE(YEAR($B$18),MONTH($B$18),GA$1),2)>5,"",INDEX('Semaine type'!$AF$4:$AY$49,MATCH(Novembre!$B39,'Semaine type'!$A$4:$A$49,0),MATCH(GA$2,'Semaine type'!$AF$2:$AY$2,0)))) | GB39: =IF(COUNTIF(Fériés,DATE(YEAR($B$18),MONTH($B$18),GB$1))>0,"",IF(WEEKDAY(DATE(YEAR($B$18),MONTH($B$18),GB$1),2)>5,"",INDEX('Semaine type'!$AF$4:$AY$49,MATCH(Novembre!$B39,'Semaine type'!$A$4:$A$49,0),MATCH(GB$2,'Semaine type'!$AF$2:$AY$2,0)))) | GC39: =IF(COUNTIF(Fériés,DATE(YEAR($B$18),MONTH($B$18),GC$1))>0,"",IF(WEEKDAY(DATE(YEAR($B$18),MONTH($B$18),GC$1),2)>5,"",INDEX('Semaine type'!$AF$4:$AY$49,MATCH(Novembre!$B39,'Semaine type'!$A$4:$A$49,0),MATCH(GC$2,'Semaine type'!$AF$2:$AY$2,0)))) | GD39: =IF(COUNTIF(Fériés,DATE(YEAR($B$18),MONTH($B$18),GD$1))>0,"",IF(WEEKDAY(DATE(YEAR($B$18),MONTH($B$18),GD$1),2)>5,"",INDEX('Semaine type'!$AF$4:$AY$49,MATCH(Novembre!$B39,'Semaine type'!$A$4:$A$49,0),MATCH(GD$2,'Semaine type'!$AF$2:$AY$2,0)))) | GE39: =IF(COUNTIF(Fériés,DATE(YEAR($B$18),MONTH($B$18),GE$1))>0,"",IF(WEEKDAY(DATE(YEAR($B$18),MONTH($B$18),GE$1),2)>5,"",INDEX('Semaine type'!$AF$4:$AY$49,MATCH(Novembre!$B39,'Semaine type'!$A$4:$A$49,0),MATCH(GE$2,'Semaine type'!$AF$2:$AY$2,0)))) | GF39: =IF(COUNTIF(Fériés,DATE(YEAR($B$18),MONTH($B$18),GF$1))>0,"",IF(WEEKDAY(DATE(YEAR($B$18),MONTH($B$18),GF$1),2)>5,"",INDEX('Semaine type'!$AF$4:$AY$49,MATCH(Novembre!$B39,'Semaine type'!$A$4:$A$49,0),MATCH(GF$2,'Semaine type'!$AF$2:$AY$2,0)))) | GG39: =IF(COUNTIF(Fériés,DATE(YEAR($B$18),MONTH($B$18),GG$1))>0,"",IF(WEEKDAY(DATE(YEAR($B$18),MONTH($B$18),GG$1),2)>5,"",INDEX('Semaine type'!$AF$4:$AY$49,MATCH(Novembre!$B39,'Semaine type'!$A$4:$A$49,0),MATCH(GG$2,'Semaine type'!$AF$2:$AY$2,0)))) | ... KS39: =IF(COUNTIF(Fériés,DATE(YEAR($B$18),MONTH($B$18),KS$1))>0,"",IF(WEEKDAY(DATE(YEAR($B$18),MONTH($B$18),KS$1),2)>5,"",INDEX('Semaine type'!$AF$4:$AY$49,MATCH(Novembre!$B39,'Semaine type'!$A$4:$A$49,0),MATCH(KS$2,'Semaine type'!$AF$2:$AY$2,0)))) -> 0.70833333
B40: Pro22 | C40: ='Semaine type'!L25 -> PA | D40: PERM | F40: PERM | H40: CP | I40: CP | J40: CP | K40: CP | L40: PA. | M40: PA | N40: PA. | O40: PA | P40: REC | V40: PA. | W40: PA | Z40: PA. | AA40: PA | AB40: PA. | AC40: PA | AD40: PA. | AJ40: PA. | AK40: PA | AL40: PA. | AM40: PA | AN40: PA. | AO40: PA | AP40: PA. | AQ40: PA | AR40: PA. | AX40: PA. | AY40: PA | AZ40: PA. | BA40: PA | BB40: PA. | BC40: PA | BD40: PA. | BE40: PA | BF40: PA. | BL40: {=SUMPRODUCT(--(RIGHT(D40:BK40,1)="."))} -> 16 | BQ40: =COUNTIF($D40:$BK40,BQ$18)/2 -> 0 | BR40: =COUNTIF($D40:$BK40,BR$18)/2 -> 0 | BS40: =COUNTIF($D40:$BK40,BS$18)/2 -> 0 | BT40: =COUNTIF($D40:$BK40,BT$18)/2 -> 2 | BU40: =COUNTIF($D40:$BK40,BU$18)/2 -> 0 | BV40: =COUNTIF($D40:$BK40,BV$18)/2 -> 0 | BW40: =COUNTIF($D40:$BK40,BW$18)/2 -> 0 | BX40: =COUNTIF($D40:$BK40,BX$18)/2 -> 0 | ... CA40: =COUNTIF($D40:$BK40,CA$18)/2 -> 0 | CB40: =COUNTA(D40:BK40) -> 36 | CC40: =(CB40/($CB$17*2)) -> 1.0588235 | DA40: =SUM(DB40:FK40) -> 6.0833333 | DB40: =IFERROR(IF(COUNTIF(absences,D40)>0,"",IF(D40="PERM",Parametres!$N$25,GA40-FZ40)),) -> 0.125 | DC40: =IFERROR(GC40-GB40,"") | DD40: =IFERROR(GE40-GD40,"") | DE40: =IFERROR(GG40-GF40,"") | DF40: =IFERROR(GI40-GH40,"") -> 0.15972222 | DG40: =IFERROR(IF(COUNTIF(absences,I40)>0,"",IF(COUNTIF($D40:$BK40,"PERM")>0,COUNTIF($D40:$BK40,"PERM")*Parametres!$N$25,GF40-GE40)),) | DH40: =IFERROR(GM40-GL40,"") -> 0.15972222 | DI40: =IFERROR(GO40-GN40,"") -> 0.14583333 | DJ40: =IFERROR(GQ40-GP40,"") -> 0.15972222 | DK40: =IFERROR(GS40-GR40,"") -> 0.14583333 | DL40: =IFERROR(GU40-GT40,"") -> 0.15972222 | DM40: =IFERROR(GW40-GV40,"") -> 0.13888889 | DN40: =IFERROR(GY40-GX40,"") -> 0.15972222 | DO40: =IFERROR(HA40-GZ40,"") -> 0 | DP40: =IFERROR(HC40-HB40,"") | DQ40: =IFERROR(HE40-HD40,"") | DR40: =IFERROR(HG40-HF40,"") | DS40: =IFERROR(HI40-HH40,"") | DT40: =IFERROR(HK40-HJ40,"") -> 0.15972222 | DU40: =IFERROR(HM40-HL40,"") -> 0.14583333 | DV40: =IFERROR(HO40-HN40,"") | DW40: =IFERROR(HQ40-HP40,"") | DX40: =IFERROR(HS40-HR40,"") -> 0.15972222 | DY40: =IFERROR(HU40-HT40,"") -> 0.14583333 | DZ40: =IFERROR(HW40-HV40,"") -> 0.15972222 | EA40: =IFERROR(HY40-HX40,"") -> 0.13888889 | EB40: =IFERROR(IA40-HZ40,"") -> 0.15972222 | EC40: =IFERROR(IC40-IB40,"") -> 0 | ED40: =IFERROR(IE40-ID40,"") | EE40: =IFERROR(IG40-IF40,"") | EF40: =IFERROR(II40-IH40,"") | EG40: =IFERROR(IK40-IJ40,"") | EH40: =IFERROR(IM40-IL40,"") -> 0.15972222 | EI40: =IFERROR(IO40-IN40,"") -> 0.14583333 | EJ40: =IFERROR(IQ40-IP40,"") -> 0.15972222 | EK40: =IFERROR(IS40-IR40,"") -> 0.14583333 | EL40: =IFERROR(IU40-IT40,"") -> 0.15972222 | EM40: =IFERROR(IW40-IV40,"") -> 0.14583333 | EN40: =IFERROR(IY40-IX40,"") -> 0.15972222 | EO40: =IFERROR(JA40-IZ40,"") -> 0.13888889 | EP40: =IFERROR(JC40-JB40,"") -> 0.15972222 | EQ40: =IFERROR(JE40-JD40,"") -> 0 | ER40: =IFERROR(JG40-JF40,"") | ES40: =IFERROR(JI40-JH40,"") | ET40: =IFERROR(JK40-JJ40,"") | EU40: =IFERROR(IF(COUNTIF(absences,AW40)>0,"",IF(COUNTIF($D40:$BK40,"PERM")>0,COUNTIF($D40:$BK40,"PERM")*Parametres!$N$25,IW40-IV40)),) -> 0.25 | EV40: =IFERROR(JO40-JN40,"") -> 0.15972222 | EW40: =IFERROR(JQ40-JP40,"") -> 0.14583333 | EX40: =IFERROR(JS40-JR40,"") -> 0.15972222 | EY40: =IFERROR(JU40-JT40,"") -> 0.14583333 | EZ40: =IFERROR(JW40-JV40,"") -> 0.15972222 | FA40: =IFERROR(JY40-JX40,"") -> 0.14583333 | FB40: =IFERROR(KA40-JZ40,"") -> 0.15972222 | FC40: =IFERROR(KC40-KB40,"") -> 0.13888889 | FD40: =IFERROR(KE40-KD40,"") -> 0.15972222 | FE40: =IFERROR(KG40-KF40,"") -> 0 | FF40: =IFERROR(KI40-KH40,"") | FG40: =IFERROR(KK40-KJ40,"") | FH40: =IFERROR(IF(COUNTIF(absences,BJ40)>0,"",IF(COUNTIF($D40:$BK40,"PERM")>0,COUNTIF($D40:$BK40,"PERM")*Parametres!$N$25,JJ40-JI40)),) -> 0.25 | FI40: =IFERROR(KO40-KN40,"") | FJ40: =IFERROR(KQ40-KP40,"") -> 0.15972222 | FK40: =IFERROR(IF(COUNTIF(absences,BM40)>0,"",IF(COUNTIF($D40:$BK40,"PERM")>0,COUNTIF($D40:$BK40,"PERM")*Parametres!$N$25,JM40-JL40)),) -> 0.25 | FZ40: =IF(COUNTIF(Fériés,DATE(YEAR($B$18),MONTH($B$18),FZ$1))>0,"",IF(WEEKDAY(DATE(YEAR($B$18),MONTH($B$18),FZ$1),2)>5,"",INDEX('Semaine type'!$AF$4:$AY$49,MATCH(Novembre!$B40,'Semaine type'!$A$4:$A$49,0),MATCH(FZ$2,'Semaine type'!$AF$2:$AY$2,0)))) | GA40: =IF(COUNTIF(Fériés,DATE(YEAR($B$18),MONTH($B$18),GA$1))>0,"",IF(WEEKDAY(DATE(YEAR($B$18),MONTH($B$18),GA$1),2)>5,"",INDEX('Semaine type'!$AF$4:$AY$49,MATCH(Novembre!$B40,'Semaine type'!$A$4:$A$49,0),MATCH(GA$2,'Semaine type'!$AF$2:$AY$2,0)))) | GB40: =IF(COUNTIF(Fériés,DATE(YEAR($B$18),MONTH($B$18),GB$1))>0,"",IF(WEEKDAY(DATE(YEAR($B$18),MONTH($B$18),GB$1),2)>5,"",INDEX('Semaine type'!$AF$4:$AY$49,MATCH(Novembre!$B40,'Semaine type'!$A$4:$A$49,0),MATCH(GB$2,'Semaine type'!$AF$2:$AY$2,0)))) | GC40: =IF(COUNTIF(Fériés,DATE(YEAR($B$18),MONTH($B$18),GC$1))>0,"",IF(WEEKDAY(DATE(YEAR($B$18),MONTH($B$18),GC$1),2)>5,"",INDEX('Semaine type'!$AF$4:$AY$49,MATCH(Novembre!$B40,'Semaine type'!$A$4:$A$49,0),MATCH(GC$2,'Semaine type'!$AF$2:$AY$2,0)))) | GD40: =IF(COUNTIF(Fériés,DATE(YEAR($B$18),MONTH($B$18),GD$1))>0,"",IF(WEEKDAY(DATE(YEAR($B$18),MONTH($B$18),GD$1),2)>5,"",INDEX('Semaine type'!$AF$4:$AY$49,MATCH(Novembre!$B40,'Semaine type'!$A$4:$A$49,0),MATCH(GD$2,'Semaine type'!$AF$2:$AY$2,0)))) | GE40: =IF(COUNTIF(Fériés,DATE(YEAR($B$18),MONTH($B$18),GE$1))>0,"",IF(WEEKDAY(DATE(YEAR($B$18),MONTH($B$18),GE$1),2)>5,"",INDEX('Semaine type'!$AF$4:$AY$49,MATCH(Novembre!$B40,'Semaine type'!$A$4:$A$49,0),MATCH(GE$2,'Semaine type'!$AF$2:$AY$2,0)))) | GF40: =IF(COUNTIF(Fériés,DATE(YEAR($B$18),MONTH($B$18),GF$1))>0,"",IF(WEEKDAY(DATE(YEAR($B$18),MONTH($B$18),GF$1),2)>5,"",INDEX('Semaine type'!$AF$4:$AY$49,MATCH(Novembre!$B40,'Semaine type'!$A$4:$A$49,0),MATCH(GF$2,'Semaine type'!$AF$2:$AY$2,0)))) | GG40: =IF(COUNTIF(Fériés,DATE(YEAR($B$18),MONTH($B$18),GG$1))>0,"",IF(WEEKDAY(DATE(YEAR($B$18),MONTH($B$18),GG$1),2)>5,"",INDEX('Semaine type'!$AF$4:$AY$49,MATCH(Novembre!$B40,'Semaine type'!$A$4:$A$49,0),MATCH(GG$2,'Semaine type'!$AF$2:$AY$2,0)))) | ... KS40: =IF(COUNTIF(Fériés,DATE(YEAR($B$18),MONTH($B$18),KS$1))>0,"",IF(WEEKDAY(DATE(YEAR($B$18),MONTH($B$18),KS$1),2)>5,"",INDEX('Semaine type'!$AF$4:$AY$49,MATCH(Novembre!$B40,'Semaine type'!$A$4:$A$49,0),MATCH(KS$2,'Semaine type'!$AF$2:$AY$2,0)))) -> 0.70833333
