Workbook

Sheet Echéances Bimest.
B3: SECT. | C3: OUV / AMT | D3: SITE | E3: Point. | F3: NOM | G3: PRENOM | H3: NUM ADHERENT | I3: PAC PREL AUTO BIMEST. | J3: PAC PREL AUTO ANNUEL | K3: AUTRE | L3: MT. COTIS. MENS. | M3: Échéance | N3: Échéance | O3: Échéance | P3: Échéance | Q3: Échéance | R3: Échéance | S3: TOTAL PREL. AN.
M4: 41644 | N4: 41706 | O4: 41771 | P4: 41825 | Q4: 41890 | R4: 41955
B5: 1 | C5: 2 | D5: HCT | E5: 0 | F5: A | G5: Gil | H5: 11133 | L5: =IF(E5=1,13.5,0) -> 0 | M5: =L5*2 -> 0 | N5: =L5*2 -> 0 | O5: =L5*2 -> 0 | P5: =L5*2 -> 0 | Q5: =L5*2 -> 0 | R5: =L5*2 -> 0 | S5: =SUM(M5:R5) -> 0
B6: 1 | C6: 2 | D6: HCT | E6: 0 | F6: B | G6: Claudia | H6: 12064 | L6: =IF(E6=1,13.5,0) -> 0 | M6: =L6*2 -> 0 | N6: =L6*2 -> 0 | O6: =L6*2 -> 0 | P6: =L6*2 -> 0 | Q6: =L6*2 -> 0 | R6: =L6*2 -> 0 | S6: =SUM(M6:R6) -> 0
B7: 1 | C7: 2 | D7: HCT | E7: 1 | F7: D | G7: J-Ch. | H7: AD04 | I7: Non | J7: Oui | K7: Non | L7: =IF(E7=1,13.5,0) -> 13.5 | M7: 0 | N7: =L7*2 -> 27 | O7: =L7*2 -> 27 | P7: =L7*2 -> 27 | Q7: =L7*2 -> 27 | R7: =L7*2 -> 27 | S7: =SUM(M7:R7) -> 135
B8: 1 | C8: 1 | D8: HCT | E8: 1 | F8: F | G8: Marc | H8: 11142 | I8: Oui | J8: Non | K8: Non | L8: =IF(E8=1,13.2,0) -> 13.2 | M8: =L8*2 -> 26.4 | N8: =L8*2 -> 26.4 | O8: =L8*2 -> 26.4 | P8: =L8*2 -> 26.4 | Q8: =L8*2 -> 26.4 | R8: =L8*2 -> 26.4 | S8: =SUM(M8:R8) -> 158.4
B9: 1 | C9: 1 | D9: HCT | E9: 1 | F9: G | G9: Pascal | H9: AD03 | I9: Oui | J9: Non | K9: Non | L9: =IF(E9=1,13.2,0) -> 13.2 | M9: =L9*2 -> 26.4 | N9: =L9*2 -> 26.4 | O9: =L9*2 -> 26.4 | P9: =L9*2 -> 26.4 | Q9: =L9*2 -> 26.4 | R9: =L9*2 -> 26.4 | S9: =SUM(M9:R9) -> 158.4
B10: 1 | C10: 1 | D10: HCT | E10: 1 | F10: H | G10: Chistian | H10: 10295 | I10: Oui | J10: Non | K10: Non | L10: =IF(E10=1,13.2,0) -> 13.2 | M10: =L10*2 -> 26.4 | N10: =L10*2 -> 26.4 | O10: =L10*2 -> 26.4 | P10: =L10*2 -> 26.4 | Q10: =L10*2 -> 26.4 | R10: =L10*2 -> 26.4 | S10: =SUM(M10:R10) -> 158.4
B11: 1 | C11: 2 | D11: HCT | E11: 1 | F11: I | G11: Joël | H11: 11142 | I11: Non | J11: Non | K11: Oui | L11: =IF(E11=1,13.5,0) -> 13.5 | M11: =L11*2 -> 27 | N11: =L11*2 -> 27 | O11: =L11*2 -> 27 | P11: =L11*2 -> 27 | Q11: =L11*2 -> 27 | R11: =L11*2 -> 27 | S11: =SUM(M11:R11) -> 162
B12: 1 | C12: 2 | D12: HCT | E12: 0 | F12: N | G12: Antoine | H12: 11133 | L12: =IF(E12=1,13.5,0) -> 0 | M12: =L12*2 -> 0 | N12: =L12*2 -> 0 | O12: =L12*2 -> 0 | P12: =L12*2 -> 0 | Q12: =L12*2 -> 0 | R12: =L12*2 -> 0 | S12: =SUM(M12:R12) -> 0
B13: 1 | C13: 2 | D13: HCT | E13: 1 | F13: SC | G13: Erwan | H13: 10295 | I13: Oui | J13: Non | K13: Non | L13: =IF(E13=1,13.5,0) -> 13.5 | M13: =L13*2 -> 27 | N13: =L13*2 -> 27 | O13: =L13*2 -> 27 | P13: =L13*2 -> 27 | Q13: =L13*2 -> 27 | R13: =L13*2 -> 27 | S13: =SUM(M13:R13) -> 162
B14: 1 | C14: 1 | D14: HCT | E14: 1 | F14: SH | G14: François | H14: 11142 | I14: Oui | J14: Non | K14: Non | L14: =IF(E14=1,13.2,0) -> 13.2 | M14: =L14*2 -> 26.4 | N14: =L14*2 -> 26.4 | O14: =L14*2 -> 26.4 | P14: =L14*2 -> 26.4 | Q14: =L14*2 -> 26.4 | R14: =L14*2 -> 26.4 | S14: =SUM(M14:R14) -> 158.4
B15: 1 | C15: 1 | D15: HCT | E15: 1 | F15: SO | G15: J-P | H15: 10295 | I15: Oui | J15: Non | K15: Non | L15: =IF(E15=1,13.2,0) -> 13.2 | M15: =L15*2 -> 26.4 | N15: =L15*2 -> 26.4 | O15: =L15*2 -> 26.4 | P15: =L15*2 -> 26.4 | Q15: =L15*2 -> 26.4 | R15: =L15*2 -> 26.4 | S15: =SUM(M15:R15) -> 158.4
B16: 1 | C16: 1 | D16: HCT | E16: 1 | F16: ST | G16: Emile | H16: 11142 | I16: Oui | J16: Non | K16: Non | L16: =IF(E16=1,13.2,0) -> 13.2 | M16: =L16*2 -> 26.4 | N16: =L16*2 -> 26.4 | O16: =L16*2 -> 26.4 | P16: =L16*2 -> 26.4 | Q16: =L16*2 -> 26.4 | R16: =L16*2 -> 26.4 | S16: =SUM(M16:R16) -> 158.4
B17: 1 | C17: 2 | D17: HCT | E17: 1 | F17: Z | G17: Lucien | H17: 11142 | I17: Oui | J17: Non | K17: Non | L17: =IF(E17=1,13.5,0) -> 13.5 | M17: 27 | N17: =L17*2 -> 27 | O17: =L17*2 -> 27 | P17: =L17*2 -> 27 | Q17: =L17*2 -> 27 | R17: =L17*2 -> 27 | S17: =SUM(M17:R17) -> 162
D18: Total HCT | E18: =SUBTOTAL(9,E5:E17) -> 10
B19: 2 | C19: 2 | D19: MTZ | E19: 1 | F19: C | G19: Isabelle | H19: 11142 | I19: Oui | J19: Non | K19: Non | L19: =IF(E19=1,13.5,0) -> 13.5 | M19: =L19*2 -> 27 | N19: =L19*2 -> 27 | O19: =L19*2 -> 27 | P19: =L19*2 -> 27 | Q19: =L19*2 -> 27 | R19: =L19*2 -> 27 | S19: =SUM(M19:R19) -> 162
B20: 2 | C20: 2 | D20: MTZ | E20: 1 | F20: F | G20: Murielle | H20: AD01 | I20: Oui | J20: Non | K20: Non | L20: =IF(E20=1,13.5,0) -> 13.5 | M20: =L20*2 -> 27 | N20: =L20*2 -> 27 | O20: =L20*2 -> 27 | P20: =L20*2 -> 27 | Q20: =L20*2 -> 27 | R20: =L20*2 -> 27 | S20: =SUM(M20:R20) -> 162
B21: 2 | C21: 2 | D21: MTZ | E21: 1 | F21: F | G21: Valérie | H21: 11142 | I21: Oui | J21: Non | K21: Non | L21: =IF(E21=1,13.5,0) -> 13.5 | M21: =L21*2 -> 27 | N21: =L21*2 -> 27 | O21: =L21*2 -> 27 | P21: =L21*2 -> 27 | Q21: =L21*2 -> 27 | R21: =L21*2 -> 27 | S21: =SUM(M21:R21) -> 162
B22: 2 | C22: 2 | D22: MTZ | E22: 1 | F22: L | G22: Maurice | H22: AD02 | I22: Oui | J22: Non | K22: Non | L22: =IF(E22=1,13.5,0) -> 13.5 | M22: =L22*2 -> 27 | N22: =L22*2 -> 27 | O22: =L22*2 -> 27 | P22: =L22*2 -> 27 | Q22: =L22*2 -> 27 | R22: =L22*2 -> 27 | S22: =SUM(M22:R22) -> 162
D23: Total MTZ | E23: =SUBTOTAL(9,E19:E22) -> 4
B24: 3 | C24: 2 | D24: RICH | E24: 1 | F24: B | G24: René | H24: 10295 | I24: Non | J24: Non | K24: Oui | L24: =IF(E24=1,13.5,0) -> 13.5 | M24: =L24*2 -> 27 | N24: =L24*2 -> 27 | O24: =L24*2 -> 27 | P24: =L24*2 -> 27 | Q24: =L24*2 -> 27 | R24: =L24*2 -> 27 | S24: =SUM(M24:R24) -> 162
B25: 3 | C25: 1 | D25: RICH | E25: 0 | M25: =L25*2 -> 0 | N25: =L25*2 -> 0 | O25: =L25*2 -> 0 | P25: =L25*2 -> 0 | Q25: =L25*2 -> 0 | R25: =L25*2 -> 0 | S25: =SUM(M25:R25) -> 0
B26: 3 | C26: 1 | D26: RICH | E26: 0 | M26: =L26*2 -> 0 | N26: =L26*2 -> 0 | O26: =L26*2 -> 0 | P26: =L26*2 -> 0 | Q26: =L26*2 -> 0 | R26: =L26*2 -> 0 | S26: =SUM(M26:R26) -> 0
B27: 3 | C27: 1 | D27: RICH | E27: 0 | M27: =L27*2 -> 0 | N27: =L27*2 -> 0 | O27: =L27*2 -> 0 | P27: =L27*2 -> 0 | Q27: =L27*2 -> 0 | R27: =L27*2 -> 0 | S27: =SUM(M27:R27) -> 0
D28: Total RICH | E28: =SUBTOTAL(9,E24:E27) -> 1
D29: Total Général | E29: =SUBTOTAL(9,E5:E28) -> 15

Sheet 2014
H4: DATES DES PRELEVEMENTS
C5: SECT. | D5: NOM | E5: PRENOM | F5: STAT. | G5: POINT. | H5: janv-14 | I5: mars-14 | J5: mai-14 | K5: juil-14 | L5: sept-14 | M5: nov-14 | N5: NB. PREL | O5: MT. ECH. | P5: FNI | Q5: TIMBRES | R5: TOTAL COTIS.
C6: =INDEX('Echéances Bimest.'!B5:L27,MATCH('2014'!D6,'Echéances Bimest.'!F5:F27,0),1) -> 1 | D6: A | E6: Gil | F6: =IF(INDEX('Echéances Bimest.'!$B$5:$L$27,MATCH('2014'!D6,'Echéances Bimest.'!$F$5:$F$27,0),2)=1,"OUVRIER","AMT") -> AMT | G6: =IF(INDEX('Echéances Bimest.'!$B$5:$L$27,MATCH('2014'!D6,'Echéances Bimest.'!$F$5:$F$27,0),4)=1,"Adhérent","néant") -> néant | H6: =IF(OR(INDEX('Echéances Bimest.'!$F$5:$S$27,MATCH(D6,'Echéances Bimest.'!$F$5:$F$27,0),8)={"26,40","27"}),'Echéances Bimest.'!$M$4,"") | I6: =INDEX('Echéances Bimest.'!$F$5:$S$27,MATCH(D6,'Echéances Bimest.'!$F$5:$F$27,0),9) -> 0 | J6: =INDEX('Echéances Bimest.'!$F$5:$S$27,MATCH(D6,'Echéances Bimest.'!$F$5:$F$27,0),10) -> 0 | K6: =INDEX('Echéances Bimest.'!F5:R27,MATCH(D6,'Echéances Bimest.'!F5:F27,0),11) -> 0 | L6: =INDEX('Echéances Bimest.'!F5:R27,MATCH(D6,'Echéances Bimest.'!F5:F27,0),12) -> 0 | M6: =INDEX('Echéances Bimest.'!F5:R27,MATCH(D6,'Echéances Bimest.'!F5:F27,0),13) -> 0 | N6: =COUNTA(H6:M6) -> 6 | O6: =INDEX('Echéances Bimest.'!B5:L27,MATCH('2014'!D6,'Echéances Bimest.'!F5:F27,0),11)*2 -> 0 | P6: 1 | Q6: =N6*2-P6 -> 11 | R6: =O6*N6 -> 0 | T6: =IF(OR(INDEX('Echéances Bimest.'!$F$5:$S$27,MATCH($D6,'Echéances Bimest.'!$F$5:$F$27,0),8)=26.4,INDEX('Echéances Bimest.'!$F$5:$S$27,MATCH($D6,'Echéances Bimest.'!$F$5:$F$27,0),8)=27),'Echéances Bimest.'!$M$4,"")
C7: =INDEX('Echéances Bimest.'!B6:L28,MATCH('2014'!D7,'Echéances Bimest.'!F6:F28,0),1) -> 1 | D7: B | E7: Claudia | F7: =IF(INDEX('Echéances Bimest.'!$B$5:$L$27,MATCH('2014'!D7,'Echéances Bimest.'!$F$5:$F$27,0),2)=1,"OUVRIER","AMT") -> AMT | G7: =IF(INDEX('Echéances Bimest.'!$B$5:$L$27,MATCH('2014'!D7,'Echéances Bimest.'!$F$5:$F$27,0),4)=1,"Adhérent","néant") -> néant | H7: =IF(OR(INDEX('Echéances Bimest.'!$F$5:$S$27,MATCH(D7,'Echéances Bimest.'!$F$5:$F$27,0),8)={"26,40","27"}),'Echéances Bimest.'!$M$4,"") | I7: =INDEX('Echéances Bimest.'!$F$5:$S$27,MATCH(D7,'Echéances Bimest.'!$F$5:$F$27,0),9) -> 0 | J7: =INDEX('Echéances Bimest.'!$F$5:$S$27,MATCH(D7,'Echéances Bimest.'!$F$5:$F$27,0),10) -> 0 | K7: =INDEX('Echéances Bimest.'!F6:R28,MATCH(D7,'Echéances Bimest.'!F6:F28,0),11) -> 0 | L7: =INDEX('Echéances Bimest.'!F6:R28,MATCH(D7,'Echéances Bimest.'!F6:F28,0),12) -> 0 | M7: =INDEX('Echéances Bimest.'!F6:R28,MATCH(D7,'Echéances Bimest.'!F6:F28,0),13) -> 0 | N7: =COUNTA(H7:M7) -> 6 | O7: =INDEX('Echéances Bimest.'!B6:L28,MATCH('2014'!D7,'Echéances Bimest.'!F6:F28,0),11)*2 -> 0 | P7: 1 | Q7: =N7*2-P7 -> 11 | R7: =O7*N7 -> 0 | T7: =IF(OR(INDEX('Echéances Bimest.'!$F$5:$S$27,MATCH(D7,'Echéances Bimest.'!$F$5:$F$27,0),8)=26.4,INDEX('Echéances Bimest.'!$F$5:$S$27,MATCH(D7,'Echéances Bimest.'!$F$5:$F$27,0),8)=27),'Echéances Bimest.'!$M$4,"")
C8: =INDEX('Echéances Bimest.'!B7:L29,MATCH('2014'!D8,'Echéances Bimest.'!F7:F29,0),1) -> 1 | D8: D | E8: J-Ch. | F8: =IF(INDEX('Echéances Bimest.'!$B$5:$L$27,MATCH('2014'!D8,'Echéances Bimest.'!$F$5:$F$27,0),2)=1,"OUVRIER","AMT") -> AMT | G8: =IF(INDEX('Echéances Bimest.'!$B$5:$L$27,MATCH('2014'!D8,'Echéances Bimest.'!$F$5:$F$27,0),4)=1,"Adhérent","néant") -> Adhérent | H8: =IF(OR(INDEX('Echéances Bimest.'!$F$5:$S$27,MATCH(D8,'Echéances Bimest.'!$F$5:$F$27,0),8)={"26,40","27"}),'Echéances Bimest.'!$M$4,"") | I8: =INDEX('Echéances Bimest.'!$F$5:$S$27,MATCH(D8,'Echéances Bimest.'!$F$5:$F$27,0),9) -> 27 | J8: =INDEX('Echéances Bimest.'!$F$5:$S$27,MATCH(D8,'Echéances Bimest.'!$F$5:$F$27,0),10) -> 27 | K8: =INDEX('Echéances Bimest.'!F7:R29,MATCH(D8,'Echéances Bimest.'!F7:F29,0),11) -> 27 | L8: =INDEX('Echéances Bimest.'!F7:R29,MATCH(D8,'Echéances Bimest.'!F7:F29,0),12) -> 27 | M8: =INDEX('Echéances Bimest.'!F7:R29,MATCH(D8,'Echéances Bimest.'!F7:F29,0),13) -> 27 | N8: =COUNTA(H8:M8) -> 6 | O8: =INDEX('Echéances Bimest.'!B7:L29,MATCH('2014'!D8,'Echéances Bimest.'!F7:F29,0),11)*2 -> 27 | P8: 1 | Q8: =N8*2-P8 -> 11 | R8: =O8*N8 -> 162 | T8: =IF(OR(INDEX('Echéances Bimest.'!$F$5:$S$27,MATCH(D8,'Echéances Bimest.'!$F$5:$F$27,0),8)=26.4,INDEX('Echéances Bimest.'!$F$5:$S$27,MATCH(D8,'Echéances Bimest.'!$F$5:$F$27,0),8)=27),'Echéances Bimest.'!$M$4,"")
C9: =INDEX('Echéances Bimest.'!B8:L30,MATCH('2014'!D9,'Echéances Bimest.'!F8:F30,0),1) -> 1 | D9: F | E9: Marc | F9: =IF(INDEX('Echéances Bimest.'!$B$5:$L$27,MATCH('2014'!D9,'Echéances Bimest.'!$F$5:$F$27,0),2)=1,"OUVRIER","AMT") -> OUVRIER | G9: =IF(INDEX('Echéances Bimest.'!$B$5:$L$27,MATCH('2014'!D9,'Echéances Bimest.'!$F$5:$F$27,0),4)=1,"Adhérent","néant") -> Adhérent | H9: =IF(OR(INDEX('Echéances Bimest.'!$F$5:$S$27,MATCH(D9,'Echéances Bimest.'!$F$5:$F$27,0),8)={"26,40","27"}),'Echéances Bimest.'!$M$4,"") | I9: =INDEX('Echéances Bimest.'!$F$5:$S$27,MATCH(D9,'Echéances Bimest.'!$F$5:$F$27,0),9) -> 26.4 | J9: =INDEX('Echéances Bimest.'!$F$5:$S$27,MATCH(D9,'Echéances Bimest.'!$F$5:$F$27,0),10) -> 26.4 | K9: =INDEX('Echéances Bimest.'!F8:R30,MATCH(D9,'Echéances Bimest.'!F8:F30,0),11) -> 26.4 | L9: =INDEX('Echéances Bimest.'!F8:R30,MATCH(D9,'Echéances Bimest.'!F8:F30,0),12) -> 26.4 | M9: =INDEX('Echéances Bimest.'!F8:R30,MATCH(D9,'Echéances Bimest.'!F8:F30,0),13) -> 26.4 | N9: =COUNTA(H9:M9) -> 6 | O9: =INDEX('Echéances Bimest.'!B8:L30,MATCH('2014'!D9,'Echéances Bimest.'!F8:F30,0),11)*2 -> 26.4 | P9: 1 | Q9: =N9*2-P9 -> 11 | R9: =O9*N9 -> 158.4 | T9: =IF(OR(INDEX('Echéances Bimest.'!$F$5:$S$27,MATCH(D9,'Echéances Bimest.'!$F$5:$F$27,0),8)=26.4,INDEX('Echéances Bimest.'!$F$5:$S$27,MATCH(D9,'Echéances Bimest.'!$F$5:$F$27,0),8)=27),'Echéances Bimest.'!$M$4,"") -> 41644
C10: =INDEX('Echéances Bimest.'!B9:L31,MATCH('2014'!D10,'Echéances Bimest.'!F9:F31,0),1) -> 1 | D10: G | E10: Pascal | F10: =IF(INDEX('Echéances Bimest.'!$B$5:$L$27,MATCH('2014'!D10,'Echéances Bimest.'!$F$5:$F$27,0),2)=1,"OUVRIER","AMT") -> OUVRIER | G10: =IF(INDEX('Echéances Bimest.'!$B$5:$L$27,MATCH('2014'!D10,'Echéances Bimest.'!$F$5:$F$27,0),4)=1,"Adhérent","néant") -> Adhérent | H10: =IF(OR(INDEX('Echéances Bimest.'!$F$5:$S$27,MATCH(D10,'Echéances Bimest.'!$F$5:$F$27,0),8)={"26,40","27"}),'Echéances Bimest.'!$M$4,"") | I10: =INDEX('Echéances Bimest.'!$F$5:$S$27,MATCH(D10,'Echéances Bimest.'!$F$5:$F$27,0),9) -> 26.4 | J10: =INDEX('Echéances Bimest.'!$F$5:$S$27,MATCH(D10,'Echéances Bimest.'!$F$5:$F$27,0),10) -> 26.4 | K10: =INDEX('Echéances Bimest.'!F9:R31,MATCH(D10,'Echéances Bimest.'!F9:F31,0),11) -> 26.4 | L10: =INDEX('Echéances Bimest.'!F9:R31,MATCH(D10,'Echéances Bimest.'!F9:F31,0),12) -> 26.4 | M10: =INDEX('Echéances Bimest.'!F9:R31,MATCH(D10,'Echéances Bimest.'!F9:F31,0),13) -> 26.4 | N10: =COUNTA(H10:M10) -> 6 | O10: =INDEX('Echéances Bimest.'!B9:L31,MATCH('2014'!D10,'Echéances Bimest.'!F9:F31,0),11)*2 -> 26.4 | P10: 1 | Q10: =N10*2-P10 -> 11 | R10: =O10*N10 -> 158.4 | T10: =IF(OR(INDEX('Echéances Bimest.'!$F$5:$S$27,MATCH(D10,'Echéances Bimest.'!$F$5:$F$27,0),8)=26.4,INDEX('Echéances Bimest.'!$F$5:$S$27,MATCH(D10,'Echéances Bimest.'!$F$5:$F$27,0),8)=27),'Echéances Bimest.'!$M$4,"") -> 41644
C11: =INDEX('Echéances Bimest.'!B10:L32,MATCH('2014'!D11,'Echéances Bimest.'!F10:F32,0),1) -> 1 | D11: H | E11: Chistian | F11: =IF(INDEX('Echéances Bimest.'!$B$5:$L$27,MATCH('2014'!D11,'Echéances Bimest.'!$F$5:$F$27,0),2)=1,"OUVRIER","AMT") -> OUVRIER | G11: =IF(INDEX('Echéances Bimest.'!$B$5:$L$27,MATCH('2014'!D11,'Echéances Bimest.'!$F$5:$F$27,0),4)=1,"Adhérent","néant") -> Adhérent | H11: =IF(OR(INDEX('Echéances Bimest.'!$F$5:$S$27,MATCH(D11,'Echéances Bimest.'!$F$5:$F$27,0),8)={"26,40","27"}),'Echéances Bimest.'!$M$4,"") | I11: =INDEX('Echéances Bimest.'!$F$5:$S$27,MATCH(D11,'Echéances Bimest.'!$F$5:$F$27,0),9) -> 26.4 | J11: =INDEX('Echéances Bimest.'!$F$5:$S$27,MATCH(D11,'Echéances Bimest.'!$F$5:$F$27,0),10) -> 26.4 | K11: =INDEX('Echéances Bimest.'!F10:R32,MATCH(D11,'Echéances Bimest.'!F10:F32,0),11) -> 26.4 | L11: =INDEX('Echéances Bimest.'!F10:R32,MATCH(D11,'Echéances Bimest.'!F10:F32,0),12) -> 26.4 | M11: =INDEX('Echéances Bimest.'!F10:R32,MATCH(D11,'Echéances Bimest.'!F10:F32,0),13) -> 26.4 | N11: =COUNTA(H11:M11) -> 6 | O11: =INDEX('Echéances Bimest.'!B10:L32,MATCH('2014'!D11,'Echéances Bimest.'!F10:F32,0),11)*2 -> 26.4 | P11: 1 | Q11: =N11*2-P11 -> 11 | R11: =O11*N11 -> 158.4 | T11: =IF(OR(INDEX('Echéances Bimest.'!$F$5:$S$27,MATCH(D11,'Echéances Bimest.'!$F$5:$F$27,0),8)=26.4,INDEX('Echéances Bimest.'!$F$5:$S$27,MATCH(D11,'Echéances Bimest.'!$F$5:$F$27,0),8)=27),'Echéances Bimest.'!$M$4,"") -> 41644
C12: =INDEX('Echéances Bimest.'!B11:L33,MATCH('2014'!D12,'Echéances Bimest.'!F11:F33,0),1) -> 1 | D12: I | E12: Joël | F12: =IF(INDEX('Echéances Bimest.'!$B$5:$L$27,MATCH('2014'!D12,'Echéances Bimest.'!$F$5:$F$27,0),2)=1,"OUVRIER","AMT") -> AMT | G12: =IF(INDEX('Echéances Bimest.'!$B$5:$L$27,MATCH('2014'!D12,'Echéances Bimest.'!$F$5:$F$27,0),4)=1,"Adhérent","néant") -> Adhérent | H12: =IF(OR(INDEX('Echéances Bimest.'!$F$5:$S$27,MATCH(D12,'Echéances Bimest.'!$F$5:$F$27,0),8)={"26,40","27"}),'Echéances Bimest.'!$M$4,"") | I12: =INDEX('Echéances Bimest.'!$F$5:$S$27,MATCH(D12,'Echéances Bimest.'!$F$5:$F$27,0),9) -> 27 | J12: =INDEX('Echéances Bimest.'!$F$5:$S$27,MATCH(D12,'Echéances Bimest.'!$F$5:$F$27,0),10) -> 27 | K12: =INDEX('Echéances Bimest.'!F11:R33,MATCH(D12,'Echéances Bimest.'!F11:F33,0),11) -> 27 | L12: =INDEX('Echéances Bimest.'!F11:R33,MATCH(D12,'Echéances Bimest.'!F11:F33,0),12) -> 27 | M12: =INDEX('Echéances Bimest.'!F11:R33,MATCH(D12,'Echéances Bimest.'!F11:F33,0),13) -> 27 | N12: =COUNTA(H12:M12) -> 6 | O12: =INDEX('Echéances Bimest.'!B11:L33,MATCH('2014'!D12,'Echéances Bimest.'!F11:F33,0),11)*2 -> 27 | P12: 1 | Q12: =N12*2-P12 -> 11 | R12: =O12*N12 -> 162 | T12: =IF(OR(INDEX('Echéances Bimest.'!$F$5:$S$27,MATCH(D12,'Echéances Bimest.'!$F$5:$F$27,0),8)=26.4,INDEX('Echéances Bimest.'!$F$5:$S$27,MATCH(D12,'Echéances Bimest.'!$F$5:$F$27,0),8)=27),'Echéances Bimest.'!$M$4,"") -> 41644
C13: =INDEX('Echéances Bimest.'!B12:L34,MATCH('2014'!D13,'Echéances Bimest.'!F12:F34,0),1) -> 1 | D13: N | E13: Antoine | F13: =IF(INDEX('Echéances Bimest.'!$B$5:$L$27,MATCH('2014'!D13,'Echéances Bimest.'!$F$5:$F$27,0),2)=1,"OUVRIER","AMT") -> AMT | G13: =IF(INDEX('Echéances Bimest.'!$B$5:$L$27,MATCH('2014'!D13,'Echéances Bimest.'!$F$5:$F$27,0),4)=1,"Adhérent","néant") -> néant | H13: =IF(OR(INDEX('Echéances Bimest.'!$F$5:$S$27,MATCH(D13,'Echéances Bimest.'!$F$5:$F$27,0),8)={"26,40","27"}),'Echéances Bimest.'!$M$4,"") | I13: =INDEX('Echéances Bimest.'!$F$5:$S$27,MATCH(D13,'Echéances Bimest.'!$F$5:$F$27,0),9) -> 0 | J13: =INDEX('Echéances Bimest.'!$F$5:$S$27,MATCH(D13,'Echéances Bimest.'!$F$5:$F$27,0),10) -> 0 | K13: =INDEX('Echéances Bimest.'!F12:R34,MATCH(D13,'Echéances Bimest.'!F12:F34,0),11) -> 0 | L13: =INDEX('Echéances Bimest.'!F12:R34,MATCH(D13,'Echéances Bimest.'!F12:F34,0),12) -> 0 | M13: =INDEX('Echéances Bimest.'!F12:R34,MATCH(D13,'Echéances Bimest.'!F12:F34,0),13) -> 0 | N13: =COUNTA(H13:M13) -> 6 | O13: =INDEX('Echéances Bimest.'!B12:L34,MATCH('2014'!D13,'Echéances Bimest.'!F12:F34,0),11)*2 -> 0 | P13: 1 | Q13: =N13*2-P13 -> 11 | R13: =O13*N13 -> 0 | T13: =IF(OR(INDEX('Echéances Bimest.'!$F$5:$S$27,MATCH(D13,'Echéances Bimest.'!$F$5:$F$27,0),8)=26.4,INDEX('Echéances Bimest.'!$F$5:$S$27,MATCH(D13,'Echéances Bimest.'!$F$5:$F$27,0),8)=27),'Echéances Bimest.'!$M$4,"")
C14: =INDEX('Echéances Bimest.'!B13:L35,MATCH('2014'!D14,'Echéances Bimest.'!F13:F35,0),1) -> 1 | D14: SC | E14: Erwan | F14: =IF(INDEX('Echéances Bimest.'!$B$5:$L$27,MATCH('2014'!D14,'Echéances Bimest.'!$F$5:$F$27,0),2)=1,"OUVRIER","AMT") -> AMT | G14: =IF(INDEX('Echéances Bimest.'!$B$5:$L$27,MATCH('2014'!D14,'Echéances Bimest.'!$F$5:$F$27,0),4)=1,"Adhérent","néant") -> Adhérent | H14: =IF(OR(INDEX('Echéances Bimest.'!$F$5:$S$27,MATCH(D14,'Echéances Bimest.'!$F$5:$F$27,0),8)={"26,40","27"}),'Echéances Bimest.'!$M$4,"") | I14: =INDEX('Echéances Bimest.'!$F$5:$S$27,MATCH(D14,'Echéances Bimest.'!$F$5:$F$27,0),9) -> 27 | J14: =INDEX('Echéances Bimest.'!$F$5:$S$27,MATCH(D14,'Echéances Bimest.'!$F$5:$F$27,0),10) -> 27 | K14: =INDEX('Echéances Bimest.'!F13:R35,MATCH(D14,'Echéances Bimest.'!F13:F35,0),11) -> 27 | L14: =INDEX('Echéances Bimest.'!F13:R35,MATCH(D14,'Echéances Bimest.'!F13:F35,0),12) -> 27 | M14: =INDEX('Echéances Bimest.'!F13:R35,MATCH(D14,'Echéances Bimest.'!F13:F35,0),13) -> 27 | N14: =COUNTA(H14:M14) -> 6 | O14: =INDEX('Echéances Bimest.'!B13:L35,MATCH('2014'!D14,'Echéances Bimest.'!F13:F35,0),11)*2 -> 27 | P14: 1 | Q14: =N14*2-P14 -> 11 | R14: =O14*N14 -> 162 | T14: =IF(OR(INDEX('Echéances Bimest.'!$F$5:$S$27,MATCH(D14,'Echéances Bimest.'!$F$5:$F$27,0),8)=26.4,INDEX('Echéances Bimest.'!$F$5:$S$27,MATCH(D14,'Echéances Bimest.'!$F$5:$F$27,0),8)=27),'Echéances Bimest.'!$M$4,"") -> 41644
C15: =INDEX('Echéances Bimest.'!B14:L36,MATCH('2014'!D15,'Echéances Bimest.'!F14:F36,0),1) -> 1 | D15: SH | E15: François | F15: =IF(INDEX('Echéances Bimest.'!$B$5:$L$27,MATCH('2014'!D15,'Echéances Bimest.'!$F$5:$F$27,0),2)=1,"OUVRIER","AMT") -> OUVRIER | G15: =IF(INDEX('Echéances Bimest.'!$B$5:$L$27,MATCH('2014'!D15,'Echéances Bimest.'!$F$5:$F$27,0),4)=1,"Adhérent","néant") -> Adhérent | H15: =IF(OR(INDEX('Echéances Bimest.'!$F$5:$S$27,MATCH(D15,'Echéances Bimest.'!$F$5:$F$27,0),8)={"26,40","27"}),'Echéances Bimest.'!$M$4,"") | I15: =INDEX('Echéances Bimest.'!$F$5:$S$27,MATCH(D15,'Echéances Bimest.'!$F$5:$F$27,0),9) -> 26.4 | J15: =INDEX('Echéances Bimest.'!$F$5:$S$27,MATCH(D15,'Echéances Bimest.'!$F$5:$F$27,0),10) -> 26.4 | K15: =INDEX('Echéances Bimest.'!F14:R36,MATCH(D15,'Echéances Bimest.'!F14:F36,0),11) -> 26.4 | L15: =INDEX('Echéances Bimest.'!F14:R36,MATCH(D15,'Echéances Bimest.'!F14:F36,0),12) -> 26.4 | M15: =INDEX('Echéances Bimest.'!F14:R36,MATCH(D15,'Echéances Bimest.'!F14:F36,0),13) -> 26.4 | N15: =COUNTA(H15:M15) -> 6 | O15: =INDEX('Echéances Bimest.'!B14:L36,MATCH('2014'!D15,'Echéances Bimest.'!F14:F36,0),11)*2 -> 26.4 | P15: 1 | Q15: =N15*2-P15 -> 11 | R15: =O15*N15 -> 158.4 | T15: =IF(OR(INDEX('Echéances Bimest.'!$F$5:$S$27,MATCH(D15,'Echéances Bimest.'!$F$5:$F$27,0),8)=26.4,INDEX('Echéances Bimest.'!$F$5:$S$27,MATCH(D15,'Echéances Bimest.'!$F$5:$F$27,0),8)=27),'Echéances Bimest.'!$M$4,"") -> 41644
C16: =INDEX('Echéances Bimest.'!B15:L37,MATCH('2014'!D16,'Echéances Bimest.'!F15:F37,0),1) -> 1 | D16: SO | E16: J-P | F16: =IF(INDEX('Echéances Bimest.'!$B$5:$L$27,MATCH('2014'!D16,'Echéances Bimest.'!$F$5:$F$27,0),2)=1,"OUVRIER","AMT") -> OUVRIER | G16: =IF(INDEX('Echéances Bimest.'!$B$5:$L$27,MATCH('2014'!D16,'Echéances Bimest.'!$F$5:$F$27,0),4)=1,"Adhérent","néant") -> Adhérent | H16: =IF(OR(INDEX('Echéances Bimest.'!$F$5:$S$27,MATCH(D16,'Echéances Bimest.'!$F$5:$F$27,0),8)={"26,40","27"}),'Echéances Bimest.'!$M$4,"") | I16: =INDEX('Echéances Bimest.'!$F$5:$S$27,MATCH(D16,'Echéances Bimest.'!$F$5:$F$27,0),9) -> 26.4 | J16: =INDEX('Echéances Bimest.'!$F$5:$S$27,MATCH(D16,'Echéances Bimest.'!$F$5:$F$27,0),10) -> 26.4 | K16: =INDEX('Echéances Bimest.'!F15:R37,MATCH(D16,'Echéances Bimest.'!F15:F37,0),11) -> 26.4 | L16: =INDEX('Echéances Bimest.'!F15:R37,MATCH(D16,'Echéances Bimest.'!F15:F37,0),12) -> 26.4 | M16: =INDEX('Echéances Bimest.'!F15:R37,MATCH(D16,'Echéances Bimest.'!F15:F37,0),13) -> 26.4 | N16: =COUNTA(H16:M16) -> 6 | O16: =INDEX('Echéances Bimest.'!B15:L37,MATCH('2014'!D16,'Echéances Bimest.'!F15:F37,0),11)*2 -> 26.4 | P16: 1 | Q16: =N16*2-P16 -> 11 | R16: =O16*N16 -> 158.4 | T16: =IF(OR(INDEX('Echéances Bimest.'!$F$5:$S$27,MATCH(D16,'Echéances Bimest.'!$F$5:$F$27,0),8)=26.4,INDEX('Echéances Bimest.'!$F$5:$S$27,MATCH(D16,'Echéances Bimest.'!$F$5:$F$27,0),8)=27),'Echéances Bimest.'!$M$4,"") -> 41644
C17: =INDEX('Echéances Bimest.'!B16:L38,MATCH('2014'!D17,'Echéances Bimest.'!F16:F38,0),1) -> 1 | D17: ST | E17: Emile | F17: =IF(INDEX('Echéances Bimest.'!$B$5:$L$27,MATCH('2014'!D17,'Echéances Bimest.'!$F$5:$F$27,0),2)=1,"OUVRIER","AMT") -> OUVRIER | G17: =IF(INDEX('Echéances Bimest.'!$B$5:$L$27,MATCH('2014'!D17,'Echéances Bimest.'!$F$5:$F$27,0),4)=1,"Adhérent","néant") -> Adhérent | H17: =IF(OR(INDEX('Echéances Bimest.'!$F$5:$S$27,MATCH(D17,'Echéances Bimest.'!$F$5:$F$27,0),8)={"26,40","27"}),'Echéances Bimest.'!$M$4,"") | I17: =INDEX('Echéances Bimest.'!$F$5:$S$27,MATCH(D17,'Echéances Bimest.'!$F$5:$F$27,0),9) -> 26.4 | J17: =INDEX('Echéances Bimest.'!$F$5:$S$27,MATCH(D17,'Echéances Bimest.'!$F$5:$F$27,0),10) -> 26.4 | K17: =INDEX('Echéances Bimest.'!F16:R38,MATCH(D17,'Echéances Bimest.'!F16:F38,0),11) -> 26.4 | L17: =INDEX('Echéances Bimest.'!F16:R38,MATCH(D17,'Echéances Bimest.'!F16:F38,0),12) -> 26.4 | M17: =INDEX('Echéances Bimest.'!F16:R38,MATCH(D17,'Echéances Bimest.'!F16:F38,0),13) -> 26.4 | N17: =COUNTA(H17:M17) -> 6 | O17: =INDEX('Echéances Bimest.'!B16:L38,MATCH('2014'!D17,'Echéances Bimest.'!F16:F38,0),11)*2 -> 26.4 | P17: 1 | Q17: =N17*2-P17 -> 11 | R17: =O17*N17 -> 158.4 | T17: =IF(OR(INDEX('Echéances Bimest.'!$F$5:$S$27,MATCH(D17,'Echéances Bimest.'!$F$5:$F$27,0),8)=26.4,INDEX('Echéances Bimest.'!$F$5:$S$27,MATCH(D17,'Echéances Bimest.'!$F$5:$F$27,0),8)=27),'Echéances Bimest.'!$M$4,"") -> 41644
C18: =INDEX('Echéances Bimest.'!B17:L39,MATCH('2014'!D18,'Echéances Bimest.'!F17:F39,0),1) -> 1 | D18: Z | E18: Lucien | F18: =IF(INDEX('Echéances Bimest.'!$B$5:$L$27,MATCH('2014'!D18,'Echéances Bimest.'!$F$5:$F$27,0),2)=1,"OUVRIER","AMT") -> AMT | G18: =IF(INDEX('Echéances Bimest.'!$B$5:$L$27,MATCH('2014'!D18,'Echéances Bimest.'!$F$5:$F$27,0),4)=1,"Adhérent","néant") -> Adhérent | H18: =IF(OR(INDEX('Echéances Bimest.'!$F$5:$S$27,MATCH(D18,'Echéances Bimest.'!$F$5:$F$27,0),8)={"26,40","27"}),'Echéances Bimest.'!$M$4,"") | I18: =INDEX('Echéances Bimest.'!$F$5:$S$27,MATCH(D18,'Echéances Bimest.'!$F$5:$F$27,0),9) -> 27 | J18: =INDEX('Echéances Bimest.'!$F$5:$S$27,MATCH(D18,'Echéances Bimest.'!$F$5:$F$27,0),10) -> 27 | K18: =INDEX('Echéances Bimest.'!F17:R39,MATCH(D18,'Echéances Bimest.'!F17:F39,0),11) -> 27 | L18: =INDEX('Echéances Bimest.'!F17:R39,MATCH(D18,'Echéances Bimest.'!F17:F39,0),12) -> 27 | M18: =INDEX('Echéances Bimest.'!F17:R39,MATCH(D18,'Echéances Bimest.'!F17:F39,0),13) -> 27 | N18: =COUNTA(H18:M18) -> 6 | O18: =INDEX('Echéances Bimest.'!B17:L39,MATCH('2014'!D18,'Echéances Bimest.'!F17:F39,0),11)*2 -> 27 | P18: 1 | Q18: =N18*2-P18 -> 11 | R18: =O18*N18 -> 162 | T18: =IF(OR(INDEX('Echéances Bimest.'!$F$5:$S$27,MATCH(D18,'Echéances Bimest.'!$F$5:$F$27,0),8)=26.4,INDEX('Echéances Bimest.'!$F$5:$S$27,MATCH(D18,'Echéances Bimest.'!$F$5:$F$27,0),8)=27),'Echéances Bimest.'!$M$4,"") -> 41644
... C23: =INDEX('Echéances Bimest.'!B22:L44,MATCH('2014'!D23,'Echéances Bimest.'!F22:F44,0),1) -> 3 | D23: B | E23: René | F23: =IF(INDEX('Echéances Bimest.'!$B$5:$L$27,MATCH('2014'!D23,'Echéances Bimest.'!$F$5:$F$27,0),2)=1,"OUVRIER","AMT") -> AMT | G23: =IF(INDEX('Echéances Bimest.'!$B$5:$L$27,MATCH('2014'!D23,'Echéances Bimest.'!$F$5:$F$27,0),4)=1,"Adhérent","néant") -> néant | H23: =IF(OR(INDEX('Echéances Bimest.'!$F$5:$S$27,MATCH(D23,'Echéances Bimest.'!$F$5:$F$27,0),8)={"26,40","27"}),'Echéances Bimest.'!$M$4,"") | I23: =INDEX('Echéances Bimest.'!$F$5:$S$27,MATCH(D23,'Echéances Bimest.'!$F$5:$F$27,0),9) -> 0 | J23: =INDEX('Echéances Bimest.'!$F$5:$S$27,MATCH(D23,'Echéances Bimest.'!$F$5:$F$27,0),10) -> 0 | K23: =INDEX('Echéances Bimest.'!F22:R44,MATCH(D23,'Echéances Bimest.'!F22:F44,0),11) -> 27 | L23: =INDEX('Echéances Bimest.'!F22:R44,MATCH(D23,'Echéances Bimest.'!F22:F44,0),12) -> 27 | M23: =INDEX('Echéances Bimest.'!F22:R44,MATCH(D23,'Echéances Bimest.'!F22:F44,0),13) -> 27 | N23: =COUNTA(H23:M23) -> 6 | O23: =INDEX('Echéances Bimest.'!B22:L44,MATCH('2014'!D23,'Echéances Bimest.'!F22:F44,0),11)*2 -> 27 | P23: 1 | Q23: =N23*2-P23 -> 11 | R23: =O23*N23 -> 162 | T23: =IF(OR(INDEX('Echéances Bimest.'!$F$5:$S$27,MATCH(D23,'Echéances Bimest.'!$F$5:$F$27,0),8)=26.4,INDEX('Echéances Bimest.'!$F$5:$S$27,MATCH(D23,'Echéances Bimest.'!$F$5:$F$27,0),8)=27),'Echéances Bimest.'!$M$4,"")
C24: Totaux : | G24: =SUBTOTAL(103,Tableau.2014[POINT.]) -> 18 | H24: =SUBTOTAL(103,Tableau.2014[ janv-14]) -> 18 | I24: =SUBTOTAL(103,Tableau.2014[ mars-14]) -> 18 | J24: =SUBTOTAL(103,Tableau.2014[ mai-14]) -> 18 | K24: =SUBTOTAL(103,Tableau.2014[ juil-14]) -> 18 | L24: =SUBTOTAL(103,Tableau.2014[ sept-14]) -> 18 | M24: =SUBTOTAL(103,Tableau.2014[ nov-14]) -> 18 | N24: =SUBTOTAL(101,Tableau.2014[NB. PREL]) -> 6 | O24: =SUBTOTAL(101,Tableau.2014[MT. ECH.]) -> 22.3 | P24: =SUBTOTAL(109,Tableau.2014[[ FNI]]) -> 18 | Q24: =SUBTOTAL(109,Tableau.2014[TIMBRES]) -> 198 | R24: =SUBTOTAL(109,Tableau.2014[TOTAL COTIS.]) -> 2408.4
