Workbook
Name année: '[1]01'!$E$4
Name liste: 'FIN MOIS'!$U$1:$U$12
Name mois: f!$B$3:$B$13

Sheet 01-01
A1: 41275 | B1: =A1 -> 41275 | C1: BELKIR | D1: BONAMY | E1: CAVALIN | F1: CHARPENTIER | G1: MATHIEU | H1: GROUSSIN | I1: SALDOT
A23: Totaux | C23: =SUM(C2:C22) -> 0 | D23: =SUM(D$2:D$22) -> 0 | E23: =SUM(E5:E22) -> 0 | F23: =SUM(F$2:F$22) -> 0 | G23: =SUM(G$2:G$22) -> 0 | H23: =SUM(H$2:H$22) -> 0 | I23: =SUM(I$2:I$22) -> 0

Sheet 02-01
A1: JANVIER 2013 | B1: ='01-01'!B1+1 -> 41276 | C1: BELKIR | D1: BONAMY | E1: CAVALIN | F1: CHARPENTIER | G1: MATHIEU | H1: GROUSSIN | I1: SALDOT
A2: BORDO PREFA | B2: AV 227 XP | D2: 0.29166667
A3: SELI | B3: BT 128 SY | D3: 0.03125
A4: SARP | B4: 3646 RM 33 | C4: 0.041666667
A5: SARP | B5: 787 PS 33 | C5: 0.083333333
A6: VAQUIER | B6: 1081 VH 33 | C6: 0.052083333
A7: LTP | B7: BX 713 LX | C7: 0.010416667
A8: BORDO PREFA | B8: 7882 RW 33 | C8: 0.09375
A9: BORDO PREFA | B9: 9799 PZ 33 | E9: 0.0625 | G9: 0.16666667
A10: CHATAURET | B10: AW 970 WY | E10: 0.0625
A11: LA ROUTE | B11: CJ 299 CX | E11: 0.041666667
A12: TESSERON | B12: CC 948 GC | E12: 0.14583333
A13: RAVE | B13: 5737 TH 73 | E13: 0.020833333 | F13: 0.020833333
A14: BM | B14: CK 298 BL | F14: 0.1875
A15: HAUTIER | B15: CD 578 JG | F15: 0.09375
A16: HAUTIER
A17: CONVOYAGE | F17: 0.03125
A24: Totaux | C24: =SUM(C2:C23) -> 0.28125 | D24: =SUM(D$2:D$23) -> 0.32291667 | E24: =SUM(E5:E23) -> 0.33333333 | F24: =SUM(F$2:F$23) -> 0.33333333 | G24: =SUM(G$2:G$23) -> 0.16666667 | H24: =SUM(H$2:H$23) -> 0 | I24: =SUM(I$2:I$23) -> 0

Sheet 03-01
A1: ='02-01'!$A$1 -> JANVIER 2013 | B1: ='02-01'!B1+1 -> 41277 | C1: BELKIR | D1: BONAMY | E1: CAVALIN | F1: CHARPENTIER | G1: MATHIEU | H1: GROUSSIN | I1: SALDOT
A3: BORDOPREFA | B3: 7882 RW 33 | C3: 0.17708333 | D3: 0.10416667
A4: VAQUIER | B4: 1881 VH 33 | C4: 0.125
A5: CHATAURET | B5: 9685 VV 33
A6: BORDOPREFA | B6: 7882 RW 33 | D6: 0.10416667
A7: TESSERON | B7: 6570 RF 33 | E7: 0.16666667
A8: CHATAURET | E8: 0.16666667
A9: HAUTIER | B9: CD 578 JC | F9: 0.083333333
A10: HAUTIER | B10: CK 298 BC | F10: 0.083333333 | G10: 0.16666667
A11: BM | B11: 9218 TH 33 | F11: 0.052083333
A23: Totaux | C23: =SUM(C$2:C$22) -> 0.30208333 | D23: =SUM(D$2:D$22) -> 0.20833333 | E23: =SUM(E$2:E$22) -> 0.33333333 | F23: =SUM(F$2:F$22) -> 0.21875 | G23: =SUM(G$2:G$22) -> 0.16666667 | H23: =SUM(H$2:H$22) -> 0 | I23: =SUM(I$2:I$22) -> 0

Sheet 04-01
A1: ='02-01'!$A$1 -> JANVIER 2013 | B1: ='03-01'!B1+1 -> 41278 | C1: BELKIR | D1: BONAMY | E1: CAVALIN | F1: CHARPENTIER | G1: MATHIEU | H1: GROUSSIN | I1: SALDOT
A2: VAQUIER | B2: 1081 VH 33 | C2: 0.16666667
A3: LTP | B3: BX 718 CX | C3: 0.125
A4: CHATAURET | B4: AW 970 MY | D4: 0.25 | E4: 0.3125 | G4: 0.041666667
A5: CHATAURET | B5: SR 968 SW | D5: 0.0625
A6: SEVIA | B6: BH 741 BB | D6: 0.020833333
A7: BORDOPREFA | B7: 7882 RW 33 | E7: 0.020833333
A8: SEVIA | B8: BH 568 BB | F8: 0.020833333
A9: UPS | F9: 0.22916667
A10: RAVE | B10: 691 BPK 44 | F10: 0.0625
A11: PICOTY | B11: 667 MF 23 | F11: 0.020833333
A12: BM | B12: BW 890 RC | G12: 0.010416667
A13: SELI | B13: AZ 515 TH | G13: 0.041666667
A14: STMD | B14: AL 620 BT | G14: 0.020833333
A15: T3R | B15: 569 ADW 51 | G15: 0.041666667
A16: JAY | B16: 7266 SC 33 | G16: 0.041666667
A23: Totaux | C23: =SUM(C$2:C$22) -> 0.29166667 | D23: =SUM(D$2:D$22) -> 0.33333333 | E23: =SUM(E$2:E$22) -> 0.33333333 | F23: =SUM(F$2:F$22) -> 0.33333333 | G23: =SUM(G$2:G$22) -> 0.19791667 | H23: =SUM(H$2:H$22) -> 0 | I23: =SUM(I$2:I$22) -> 0
A25: =DATE(2013,1,MID(CELL("nomfichier"),LEN(CELL("nomfichier"))-4,2)) -> #VALUE!

Sheet 05-01
A1: ='02-01'!$A$1 -> JANVIER 2013 | B1: ='04-01'!B1+1 -> 41279 | C1: BELKIR | D1: BONAMY | E1: CAVALIN | F1: CHARPENTIER | G1: MATHIEU | H1: GROUSSIN | I1: SALDOT
A23: Totaux | C23: =SUM(C$2:C$22) -> 0 | D23: =SUM(D$2:D$22) -> 0 | E23: =SUM(E$2:E$22) -> 0 | F23: =SUM(F$2:F$22) -> 0 | G23: =SUM(G$2:G$22) -> 0 | H23: =SUM(H$2:H$22) -> 0 | I23: =SUM(I$2:I$22) -> 0

Sheet 06-01
A1: ='02-01'!$A$1 -> JANVIER 2013 | B1: ='05-01'!B1+1 -> 41280 | C1: BELKIR | D1: BONAMY | E1: CAVALIN | F1: CHARPENTIER | G1: MATHIEU | H1: GROUSSIN | I1: SALDOT
A23: Totaux | C23: =SUM(C$2:C$22) -> 0 | D23: =SUM(D$2:D$22) -> 0 | E23: =SUM(E$2:E$22) -> 0 | F23: =SUM(F$2:F$22) -> 0 | G23: =SUM(G$2:G$22) -> 0 | H23: =SUM(H$2:H$22) -> 0 | I23: =SUM(I$2:I$22) -> 0
A25: =DATE(2013,1,MID(CELL("nomfichier"),LEN(CELL("nomfichier"))-4,2)) -> #VALUE!

Sheet 07-01
A1: ='02-01'!$A$1 -> JANVIER 2013 | B1: ='06-01'!B1+1 -> 41281 | C1: BELKIR | D1: BONAMY | E1: CAVALIN | F1: CHARPENTIER | G1: MATHIEU | H1: BOCHET | I1: SALDOT
A2: SEVIA | B2: BH 741 EE | D2: 0.125
A3: SOUBERBIELLE | B3: 8481 YA 64 | D3: 0.16666667
A4: LUCANE | B4: AM 140 KS | D4: 0.041666667
A5: CHATAURET | B5: AW 970 WY | E5: 0.16666667
A6: PAD | B6: BZ 838 PF | E6: 0.020833333
A7: DOUMEN | B7: 1105 WM 24 | E7: 0.041666667
A8: VAQUIER | B8: BM 318 VR | E8: 0.125
A9: DAO | B9: AM 181 ES | E9: 0.041666667
A10: SARP | B10: 2758 RA 33 | F10: 0.041666667
A11: UPS | B11: 805 DKE 78 | F11: 0.020833333
A12: TFA | B12: BP 110 MN | F12: 0.041666667
A13: LODIFRAIS | B13: 8632 RT 33 | F13: 0.041666667
A14: BM | B14: BH 658 EE | F14: 0.020833333
A15: UPS | B15: AY 699 AL | F15: 0.16666667
A16: LA ROUTE | B16: 7783 VG 33 | G16: 0.041666667
A17: RAVE | B17: CH 509 SH | G17: 0.020833333
A18: SARP | B18: LC 856 EM | G18: 0.25
A23: Totaux | C23: =SUM(C$2:C$22) -> 0 | D23: =SUM(D$2:D$22) -> 0.33333333 | E23: =SUM(E$2:E$22) -> 0.39583333 | F23: =SUM(F5:F22) -> 0.33333333 | G23: =SUM(G$2:G$22) -> 0.3125 | H23: =SUM(H$2:H$22) -> 0 | I23: =SUM(I$2:I$22) -> 0

Sheet 08-01
A1: ='02-01'!$A$1 -> JANVIER 2013 | B1: ='07-01'!B1+1 -> 41282 | C1: BELKIR | D1: BONAMY | E1: CAVALIN | F1: CHARPENTIER | G1: MATHIEU | H1: BOCHET | I1: SALDOT
A2: SOUBERBIELLE | B2: 8481 YA 64 | D2: 0.3125
A3: ACE | D3: 0.020833333
A4: PAD | B4: BZ 898 FF | E4: 0.27083333
A5: BM | B5: AP 700 WE | E5: 0.0625
A6: UPS | B6: AV 699 AL | F6: 0.16666667
A7: UPS | B7: AV 699 AL | F7: 0.0625
A8: PAD | B8: BY 898 DD | F8: 0.09375
A9: SARP | B9: CL 856 EM | G9: 0.16666667
A10: SARP | B10: 3646 RM | G10: 0.16666667
A23: Totaux | C23: =SUM(C$2:C$22) -> 0 | D23: =SUM(D$2:D$22) -> 0.33333333 | E23: =SUM(E$2:E$22) -> 0.33333333 | F23: =SUM(F$2:F$22) -> 0.32291667 | G23: =SUM(G$2:G$22) -> 0.33333333 | H23: =SUM(H$2:H$22) -> 0 | I23: =SUM(I$2:I$22) -> 0

Sheet 09-01
A1: ='02-01'!$A$1 -> JANVIER 2013 | B1: ='08-01'!B1+1 -> 41283 | C1: BELKIR | D1: BONAMY | E1: CAVALIN | F1: CHARPENTIER | G1: MATHIEU | H1: BOCHET | I1: SALDOT
A2: SOUBERBIELLE | B2: BH 740 BB | D2: 0.33333333
A3: SX | B3: AX 361 XK | E3: 0.020833333 | G3: 0.020833333
A4: SARP | B4: 3646 RH 33 | E4: 0.020833333 | G4: 0.083333333
A5: NADAL | E5: 0.1875
A6: PAD | B6: 838 FF | E6: 0.020833333
A7: SELI | B7: BT 128 SV | E7: 0.083333333
A8: TFA | B8: BP 110 HN | F8: 0.020833333
A9: VAQUIER | B9: BM 318 VR | E9: 0.020833333 | F9: 0.22916667
A10: NAVAL | B10: BG 500 SJ | F10: 0.041666667
A11: SARP | B11: LC 856 EM | G11: 0.16666667
A13: RANGEMENT | F13: 0.041666667
A23: Totaux | C23: =SUM(C$2:C$22) -> 0 | D23: =SUM(D$2:D$22) -> 0.33333333 | E23: =SUM(E$2:E$22) -> 0.35416667 | F23: =SUM(F$2:F$22) -> 0.33333333 | G23: =SUM(G$2:G$22) -> 0.27083333 | H23: =SUM(H$2:H$22) -> 0 | I23: =SUM(I$2:I$22) -> 0

Sheet 10-01
A1: ='02-01'!$A$1 -> JANVIER 2013 | B1: ='09-01'!B1+1 -> 41284 | C1: BELKIR | D1: BONAMY | E1: CAVALIN | F1: CHARPENTIER | G1: MATHIEU | H1: BOCHET | I1: SALDOT
A2: SEVIA | B2: BH 741 BB | C2: 0.33333333
A3: SOUBERBIELLE | B3: 8481 YA 64 | D3: 0.33333333
A4: CHATAURET | B4: 4998 NW 93 | E4: 0.083333333 | F4: 0.020833333
A5: NADAL | E5: 0.041666667
A6: TFA | B6: BP 110 HN | E6: 0.20833333
A7: NAVAL | B7: BG 500 BJ | F7: 0.072916667 | G7: 0.03125
A8: UPS | B8: AV 561 AL | F8: 0.19791667
A9: CK TRANS | B9: BE 919 RV | F9: 0.041666667
A10: SARP | G10: 0.03125
A11: RAVE | B11: CA 398 ZS | G11: 0.16666667
A23: Totaux | C23: =SUM(C$2:C$22) -> 0.33333333 | D23: =SUM(D$2:D$22) -> 0.33333333 | E23: =SUM(E$2:E$22) -> 0.33333333 | F23: =SUM(F$2:F$22) -> 0.33333333 | G23: =SUM(G$2:G$22) -> 0.22916667 | H23: =SUM(H$2:H$22) -> 0 | I23: =SUM(I$2:I$22) -> 0

Sheet 11-01
A1: ='02-01'!$A$1 -> JANVIER 2013 | B1: ='10-01'!B1+1 -> 41285 | C1: BELKIR | D1: BONAMY | E1: CAVALIN | F1: CHARPENTIER | G1: MATHIEU | H1: GROUSSIN | I1: SALDOT
A2: SEVIA | B2: BH 741 EE | C2: 0.27083333 | E2: 0.020833333
A3: SOUBERBIELLE | B3: 8481 YA 64 | C3: 0.0625 | D3: 0.375 | F3: 0.03125
A4: UPS | B4: 694 BRE 78 | E4: 0.14583333
A5: PAD | B5: BZ 838 FF | E5: 0.083333333
A6: LA ROUTE | B6: CJ 299 CX | E6: 0.0625
A7: BTA | B7: AZ 187 AZ | F7: 0.020833333
A8: BM | B8: 9218 TH 33 | F8: 0.041666667
A9: UPS | B9: 187 DKF 78 | F9: 0.10416667
A10: NAVAL | B10: BG 953 PJ | F10: 0.0625 | G10: 0.083333333
A11: TFA | B11: 3724 TH 24 | G11: 0.083333333
A12: RAVE | B12: CA 398 ZS | F12: 0.010416667 | G12: 0.041666667
A24: Totaux | C24: =SUM(C2:C23) -> 0.33333333 | D24: =SUM(D2:D23) -> 0.375 | E24: =SUM(E$2:E$23) -> 0.3125 | F24: =SUM(F$2:F$23) -> 0.27083333 | G24: =SUM(G$2:G$23) -> 0.20833333 | H24: =SUM(H$2:H$23) -> 0 | I24: =SUM(I$2:I$23) -> 0

Sheet 12-01
A1: ='02-01'!$A$1 -> JANVIER 2013 | B1: ='11-01'!B1+1 -> 41286 | C1: BELKIR | D1: BONAMY | E1: CAVALIN | F1: CHARPENTIER | G1: MATHIEU | H1: GROUSSIN | I1: SALDOT
A24: Totaux | C24: =SUM(C6:C23) -> 0 | D24: =SUM(D5:D23) -> 0 | E24: =SUM(E$2:E$23) -> 0 | F24: =SUM(F$2:F$23) -> 0 | G24: =SUM(G$2:G$23) -> 0 | H24: =SUM(H$2:H$23) -> 0 | I24: =SUM(I$2:I$23) -> 0

Sheet 13-01
A1: ='02-01'!$A$1 -> JANVIER 2013 | B1: ='12-01'!B1+1 -> 41287 | C1: BELKIR | D1: BONAMY | E1: CAVALIN | F1: CHARPENTIER | G1: MATHIEU | H1: GROUSSIN | I1: SALDOT
A24: Totaux | C24: =SUM(C6:C23) -> 0 | D24: =SUM(D5:D23) -> 0 | E24: =SUM(E$2:E$23) -> 0 | F24: =SUM(F$2:F$23) -> 0 | G24: =SUM(G$2:G$23) -> 0 | H24: =SUM(H$2:H$23) -> 0 | I24: =SUM(I$2:I$23) -> 0

Sheet 14-01
A1: ='02-01'!$A$1 -> JANVIER 2013 | B1: ='13-01'!B1+1 -> 41288 | C1: BELKIR | D1: BONAMY | E1: CAVALIN | F1: CHARPENTIER | G1: MATHIEU | H1: GROUSSIN | I1: SALDOT
A2: TFA | B2: 3724 TH 24 | D2: 0.27083333
A3: PAD | B3: BZ 838 FF | E3: 0.3125 | G3: 0.010416667
A4: VAQUIER | B4: 1971 RZ 33 | F4: 0.041666667
A5: BTA | B5: AZ 187 AZ | F5: 0.25
A6: UPS | B6: 1466 ZB 31 | F6: 0.020833333
A7: SBE | B7: TRANSPAL | G7: 0.097222222
A8: RAVE | B8: CG 581 VK | G8: 0.16666667
A10: RANGEMENT | D10: 0.041666667 | G10: 0.041666667
A11: ORDI MISE A JOUR | E11: 0.020833333
A23: Totaux | C23: =SUM(C$2:C$22) -> 0 | D23: =SUM(D$2:D$22) -> 0.3125 | E23: =SUM(E$2:E$22) -> 0.33333333 | F23: =SUM(F$2:F$22) -> 0.3125 | G23: =SUM(G$2:G$22) -> 0.31597222 | H23: =SUM(H$2:H$22) -> 0 | I23: =SUM(I$2:I$22) -> 0

Sheet 15-01
A1: ='02-01'!$A$1 -> JANVIER 2013 | B1: ='14-01'!B1+1 -> 41289 | C1: BELKIR | D1: BONAMY | E1: CAVALIN | F1: CHARPENTIER | G1: MATHIEU | H1: BOCHET | I1: SALDOT
A2: SELI | B2: AZ 515 TH | D2: 0.0625
A3: BMNL | B3: OF09 KX | D3: 0.22916667
A4: SARP | B4: 1130 QW 33 | D4: 0.041666667
A5: LA ROUTE | B5: 4965 TW 33 | E5: 0.33333333
A6: HAUTIER | B6: CP 183 NH | F6: 0.020833333
A7: VAQUIER | B7: 1971 RZ 33 | F7: 0.1875
A8: UPS | B8: AV 616 AL | F8: 0.027777778
A9: LODIFRAIS | B9: 9091 PZ 33 | G9: 0.20833333
A10: RAVE | B10: CG 581 VK | G10: 1
A12: RANGEMENT | F12: 0.083333333
B21: AW 689 JH
A23: Totaux | C23: =SUM(C$2:C$22) -> 0 | D23: =SUM(D$2:D$22) -> 0.33333333 | E23: =SUM(E$2:E$22) -> 0.33333333 | F23: =SUM(F$2:F$22) -> 0.31944444 | G23: =SUM(G$2:G$22) -> 1.2083333 | H23: =SUM(H$2:H$22) -> 0 | I23: =SUM(I$2:I$22) -> 0

Sheet 16-01
A1: ='02-01'!$A$1 -> JANVIER 2013 | B1: ='15-01'!B1+1 -> 41290 | C1: BELKIR | D1: BONAMY | E1: CAVALIN | F1: CHARPENTIER | G1: MATHIEU | H1: GROUSSIN | I1: SALDOT
C2: ABS | D2: CP
A3: LA ROUTE | B3: 4965 TW 33 | E3: 0.27083333
A4: WILLIAMSON | B4: BZ 568 BK | E4: 0.041666667 | G4: 0.020833333
A5: UPS | B5: 392 BPJ 78 | F5: 0.020833333
A6: LA BROHINIERE | B6: BP 115 ES | E6: 0.020833333 | F6: 0.125
A7: VAQUIER | B7: AA 820 QL | F7: 0.083333333
A8: TFA | B8: 4926 VK 33 | F8: 0.0625
A9: LODIFRAIS | B9: 9011 PZ 33 | G9: 0.125
A10: SARP | B10: 1130 QW 33 | G10: 0.125
A11: NAVAL | B11: BX 710 MB | G11: 0.020833333
A12: NAVAL | B12: BG 428 SE | I12: 0.041666667
A23: Totaux | C23: =SUM(C$2:C$22) -> 0 | D23: =SUM(D$2:D$22) -> 0 | E23: =SUM(E$2:E$22) -> 0.33333333 | F23: =SUM(F$2:F$22) -> 0.29166667 | G23: =SUM(G$2:G$22) -> 0.29166667 | H23: =SUM(H$2:H$22) -> 0 | I23: =SUM(I$2:I$22) -> 0.041666667

Sheet 17-01
A1: ='02-01'!$A$1 -> JANVIER 2013 | B1: ='16-01'!B1+1 -> 41291 | C1: BELKIR | D1: BONAMY | E1: CAVALIN | F1: CHARPENTIER | G1: MATHIEU | H1: GROUSSIN | I1: SALDOT
A2: SX | B2: AE 354 ZK | C2: ABS | D2: 0.29166667
A3: SX | B3: AN 535 BL | D3: 0.041666667
A4: LA ROUTE | B4: 4965 TW 33 | E4: 0.27083333 | G4: 0.041666667
A5: UPS | B5: 1466 ZE 33 | E5: 0.041666667
A6: UPS | B6: CONVOYAGE | E6: 0.020833333 | F6: 0.020833333
A7: VAQUIER | B7: AA 820 QL | F7: 0.27083333
A8: LA ROUTE | B8: CJ 894 QT | F8: 0.020833333
A9: ESTEVE | B9: 8446 PV 33 | F9: 0.020833333
A10: LODIFRAIS | B10: 9011 PZ 33 | G10: 0.1875
A11: AFT | B11: BH 549 HS | G11: 0.013888889
A12: NAVAL | B12: BG 428 SE | G12: 0.013888889
A13: SARP | B13: 1130 VY 33 | G13: 0.010416667
A14: SAP | B14: CP 749 GQ | G14: 0.010416667
A23: Totaux | C23: =SUM(C$2:C$22) -> 0 | D23: =SUM(D$2:D$22) -> 0.33333333 | E23: =SUM(E$2:E$22) -> 0.33333333 | F23: =SUM(F$2:F$22) -> 0.33333333 | G23: =SUM(G$2:G$22) -> 0.27777778 | H23: =SUM(H$2:H$22) -> 0 | I23: =SUM(I$2:I$22) -> 0

Sheet 18-01
A1: ='02-01'!$A$1 -> JANVIER 2013 | B1: ='17-01'!B1+1 -> 41292 | C1: BELKIR | D1: BONAMY | E1: CAVALIN | F1: CHARPENTIER | G1: MATHIEU | H1: GROUSSIN | I1: SALDOT
C2: ABS
A3: SX | B3: AE 354 ZK | D3: 0.020833333
A4: SX | B4: AN 535 BZ | D4: 0.083333333
A5: LA ROUTE | B5: 4965 TW 33 | D5: 0.0625 | E5: 0.14583333
A6: BM | B6: 9218 TH 33 | D6: 0.16666667
A7: RAVE | B7: 3577 YL 71 | E7: 0.10416667
A8: ESTEVE | B8: 8446 PV 33 | E8: 0.083333333 | F8: 0.16666667
A9: UPS | B9: A 616 AE | F9: 0.083333333
A10: UPS | F10: 0.020833333
A11: SEVIA | B11: CA 337 JH | F11: 0.020833333
A23: Totaux | C23: =SUM(C$2:C$22) -> 0 | D23: =SUM(D$2:D$22) -> 0.33333333 | E23: =SUM(E$2:E$22) -> 0.33333333 | F23: =SUM(F$2:F$22) -> 0.29166667 | G23: =SUM(G$2:G$22) -> 0 | H23: =SUM(H$2:H$22) -> 0 | I23: =SUM(I$2:I$22) -> 0

Sheet 19-01
A1: ='02-01'!$A$1 -> JANVIER 2013 | B1: ='18-01'!B1+1 -> 41293 | C1: BELKIR | D1: BONAMY | E1: CAVALIN | F1: CHARPENTIER | G1: MATHIEU | H1: GROUSSIN | I1: SALDOT
A23: Totaux | C23: =SUM(C$2:C$22) -> 0 | D23: =SUM(D$2:D$22) -> 0 | E23: =SUM(E$2:E$22) -> 0 | F23: =SUM(F$2:F$22) -> 0 | G23: =SUM(G$2:G$22) -> 0 | H23: =SUM(H$2:H$22) -> 0 | I23: =SUM(I$2:I$22) -> 0

Sheet 20-01
A1: ='02-01'!$A$1 -> JANVIER 2013 | B1: ='19-01'!B1+1 -> 41294 | C1: BELKIR | D1: BONAMY | E1: CAVALIN | F1: CHARPENTIER | G1: MATHIEU | H1: GROUSSIN | I1: SALDOT
A23: Totaux | C23: =SUM(C$2:C$22) -> 0 | D23: =SUM(D$2:D$22) -> 0 | E23: =SUM(E$2:E$22) -> 0 | F23: =SUM(F$2:F$22) -> 0 | G23: =SUM(G$2:G$22) -> 0 | H23: =SUM(H$2:H$22) -> 0 | I23: =SUM(I$2:I$22) -> 0

Sheet 21-01
A1: ='02-01'!$A$1 -> JANVIER 2013 | B1: ='20-01'!B1+1 -> 41295 | C1: BELKIR | D1: BONAMY | E1: CAVALIN | F1: CHARPENTIER | G1: MATHIEU | H1: GROUSSIN | I1: SALDOT
A2: TFA | B2: 3724 TH 24 | C2: 0.11458333 | F2: 0.16666667
A3: PAP | B3: BP 552 HY | C3: 0.041666667
A4: NAVAL | B4: BX 710 MB | C4: 0.125
A5: NAVAL | B5: BG 483 ST | C5: 0.052083333
A6: NAVAL | B6: BG 979 DS | D6: 0.25
A7: FUCHS | D7: 0.041666667
A8: ESTEVE | B8: 5646 TW 33 | E8: 0.125
A9: UPS | B9: 944 BNN 78 | E9: 0.041666667
A10: RAVE | B10: CM 509 SA | E10: 0.041666667
A11: MAN | E11: 0.041666667
A12: NAVAL | B12: 3704 VP 33 | E12: 0.16666667
A13: UPS | B13: AV 616 AP | F13: 0.16666667
A14: MANUTENTION SR | E14: 0.083333333
A23: Totaux | C23: =SUM(C$2:C$22) -> 0.33333333 | D23: =SUM(D$2:D$22) -> 0.29166667 | E23: =SUM(E$2:E$22) -> 0.5 | F23: =SUM(F$2:F$22) -> 0.33333333 | G23: =SUM(G$2:G$22) -> 0 | H23: =SUM(H$2:H$22) -> 0 | I23: =SUM(I$2:I$22) -> 0

Sheet 22-01
A1: ='02-01'!$A$1 -> JANVIER 2013 | B1: ='21-01'!B1+1 -> 41296 | C1: BELKIR | D1: BONAMY | E1: CAVALIN | F1: CHARPENTIER | G1: MATHIEU | H1: GROUSSIN | I1: SALDOT
A2: PAP | B2: BP 686 HZ | C2: 0.020833333
A3: NAVAL | B3: BG 482 SJ | C3: 0.3125
A4: NAVAL | B4: BG 979 DJ | D4: 0.083333333 | E4: 0.024305556
A5: LUCANE | B5: BX 910 MB | D5: 0.0625 | E5: 0.041666667
A6: UPS | B6: AM 140 KS | D6: 0.16666667
A7: UPS | B7: 920 BNN 78 | E7: 0.013888889
A8: UPS | B8: 805 BKD 78 | E8: 0.052083333
A9: UPS | B9: 342 DRM 78 | E9: 0.0625
A10: ESTEVE | B10: 8446 PV 33 | E10: 0.090277778
A11: LA ROUTE | B11: 2847 ST 33 | F11: 0.14583333
A12: CHATAURET | B12: AW 970 WY | F12: 0.020833333
A13: NAVAL | B13: CH 505 MX | E13: 0.03125 | F13: 0.0625
A14: VAQUIER | B14: 8915 QG 33 | F14: 0.020833333
A15: UPS | B15: AV 616 AL | F15: 0.083333333
A16: fiche | E16: 0.020833333
A23: Totaux | C23: =SUM(C$2:C$22) -> 0.33333333 | D23: =SUM(D$2:D$22) -> 0.3125 | E23: =SUM(E2:E22) -> 0.33680556 | F23: =SUM(F$2:F$22) -> 0.33333333 | G23: =SUM(G$2:G$22) -> 0 | H23: =SUM(H$2:H$22) -> 0 | I23: =SUM(I$2:I$22) -> 0

Sheet 23-01
A1: JANVIER 2013 | B1: ='22-01'!B1+1 -> 41297 | C1: BELKIR | D1: BONAMY | E1: CAVALIN | F1: CHARPENTIER | G1: MATHIEU | H1: GROUSSIN | I1: SALDOT
A2: NAVAL | B2: BG 483 SJ | C2: 0.33333333
A3: HAUTIER | B3: CK 298 BP | D3: 0.125 | F3: 0.10416667
A4: LUCANE | B4: AM 140 KS | D4: 0.20833333
A5: HAUTIER | B5: CD 578 JC | E5: 0.041666667
A6: UPS | B6: 805 BKR 78 | E6: 0.10416667
A7: VAQUIER | B7: 8915 QG 33 | E7: 0.09375
A8: RAVE | B8: CA 365 ZS | E8: 0.041666667
A9: UPS | B9: 987 ESB 78 | E9: 0.041666667
A10: UPS | B10: AV 616 AL | F10: 0.10416667
A11: CEPL | F11: 0.041666667
A12: HAUTIER | B12: CP 183 NH | F12: 0.041666667
A14: retour mercedes | F14: 0.041666667
A23: Totaux | C23: =SUM(C$2:C$22) -> 0.33333333 | D23: =SUM(D$2:D$22) -> 0.33333333 | E23: =SUM(E$2:E$22) -> 0.32291667 | F23: =SUM(F$2:F$22) -> 0.33333333 | G23: =SUM(G$2:G$22) -> 0 | H23: =SUM(H$2:H$22) -> 0 | I23: =SUM(I$2:I$22) -> 0

Sheet 24-01
A1: ='02-01'!$A$1 -> JANVIER 2013 | B1: ='23-01'!B1+1 -> 41298 | C1: BELKIR | D1: BONAMY | E1: CAVALIN | F1: CHARPENTIER | G1: MATHIEU | H1: GROUSSIN | I1: SALDOT
A2: NAVAL | B2: BG 483 ST | C2: 0.125 | F2: 0.16666667
A3: HAUTIER | B3: CA 900 PV | C3: 0.041666667
A4: PAD | B4: BR 465 KK | C4: 0.0625
A5: SEVIA | B5: BH 790 EE | C5: 0.083333333
A6: HAUTIER | B6: CK 298 RZ | D6: 0.16666667
A7: LUCANE | B7: AM 140 KS | D7: 0.16666667
A8: AR | B8: GG 456 CA | E8: 0.013888889
A9: RAVE | B9: CA 365 ZS | E9: 0.21527778
A10: UPS | B10: 805 DKE 78 | E10: 0.0625
A11: HAUTIER | B11: 5374 YV 17 | E11: 0.041666667
A12: NAVAL | B12: CE 739 XD | F12: 0.16666667
A23: Totaux | C23: =SUM(C$2:C$22) -> 0.3125 | D23: =SUM(D$2:D$22) -> 0.33333333 | E23: =SUM(E$2:E$22) -> 0.33333333 | F23: =SUM(F$2:F$22) -> 0.33333333 | G23: =SUM(G$2:G$22) -> 0 | H23: =SUM(H$2:H$22) -> 0 | I23: =SUM(I$2:I$22) -> 0

Sheet 25-01
A1: ='02-01'!$A$1 -> JANVIER 2013 | B1: ='24-01'!B1+1 -> 41299 | C1: BELKIR | D1: BONAMY | E1: CAVALIN | F1: CHARPENTIER | G1: MATHIEU | H1: GROUSSIN | I1: SALDOT
A23: Totaux | C23: =SUM(C$2:C$22) -> 0 | D23: =SUM(D$2:D$22) -> 0 | E23: =SUM(E$2:E$22) -> 0 | F23: =SUM(F$2:F$22) -> 0 | G23: =SUM(G$2:G$22) -> 0 | H23: =SUM(H$2:H$22) -> 0 | I23: =SUM(I$2:I$22) -> 0

Sheet 26-01
A1: ='02-01'!$A$1 -> JANVIER 2013 | B1: ='25-01'!B1+1 -> 41300 | C1: BELKIR | D1: BONAMY | E1: CAVALIN | F1: CHARPENTIER | G1: MATHIEU | H1: GROUSSIN | I1: SALDOT
A23: Totaux | C23: =SUM(C$2:C$22) -> 0 | D23: =SUM(D$2:D$22) -> 0 | E23: =SUM(E$2:E$22) -> 0 | F23: =SUM(F$2:F$22) -> 0 | G23: =SUM(G$2:G$22) -> 0 | H23: =SUM(H$2:H$22) -> 0 | I23: =SUM(I$2:I$22) -> 0

Sheet 27-01
A1: ='02-01'!$A$1 -> JANVIER 2013 | B1: ='26-01'!B1+1 -> 41301 | C1: BELKIR | D1: BONAMY | E1: CAVALIN | F1: CHARPENTIER | G1: MATHIEU | H1: GROUSSIN | I1: SALDOT
A23: Totaux | C23: =SUM(C$2:C$22) -> 0 | D23: =SUM(D$2:D$22) -> 0 | E23: =SUM(E$2:E$22) -> 0 | F23: =SUM(F$2:F$22) -> 0 | G23: =SUM(G$2:G$22) -> 0 | H23: =SUM(H$2:H$22) -> 0 | I23: =SUM(I$2:I$22) -> 0

Sheet 28-01
A1: ='02-01'!$A$1 -> JANVIER 2013 | B1: ='27-01'!B1+1 -> 41302 | C1: BELKIR | D1: BONAMY | E1: CAVALIN | F1: CHARPENTIER | G1: MATHIEU | H1: GROUSSIN | I1: SALDOT
A23: Totaux | C23: =SUM(C$2:C$22) -> 0 | D23: =SUM(D$2:D$22) -> 0 | E23: =SUM(E$2:E$22) -> 0 | F23: =SUM(F$2:F$22) -> 0 | G23: =SUM(G$2:G$22) -> 0 | H23: =SUM(H$2:H$22) -> 0 | I23: =SUM(I$2:I$22) -> 0

Sheet 29-01
A1: ='02-01'!$A$1 -> JANVIER 2013 | B1: ='28-01'!B1+1 -> 41303 | C1: BELKIR | D1: BONAMY | E1: CAVALIN | F1: CHARPENTIER | G1: MATHIEU | H1: GROUSSIN | I1: SALDOT
A23: Totaux | C23: =SUM(C$2:C$22) -> 0 | D23: =SUM(D$2:D$22) -> 0 | E23: =SUM(E$2:E$22) -> 0 | F23: =SUM(F$2:F$22) -> 0 | G23: =SUM(G$2:G$22) -> 0 | H23: =SUM(H$2:H$22) -> 0 | I23: =SUM(I$2:I$22) -> 0

Sheet 30-01
A1: ='02-01'!$A$1 -> JANVIER 2013 | B1: ='29-01'!B1+1 -> 41304 | C1: BELKIR | D1: BONAMY | E1: CAVALIN | F1: CHARPENTIER | G1: MATHIEU | H1: GROUSSIN | I1: SALDOT
A23: Totaux | C23: =SUM(C$2:C$22) -> 0 | D23: =SUM(D$2:D$22) -> 0 | E23: =SUM(E$2:E$22) -> 0 | F23: =SUM(F$2:F$22) -> 0 | G23: =SUM(G$2:G$22) -> 0 | H23: =SUM(H$2:H$22) -> 0 | I23: =SUM(I$2:I$22) -> 0

Sheet 31-01
A1: ='02-01'!$A$1 -> JANVIER 2013 | B1: ='30-01'!B1+1 -> 41305 | C1: BELKIR | D1: BONAMY | E1: CAVALIN | F1: CHARPENTIER | G1: MATHIEU | H1: GROUSSIN | I1: SALDOT
C20: 0.20833333
A23: Totaux | C23: =SUM(C$2:C$22) -> 0.20833333 | D23: =SUM(D$2:D$22) -> 0 | E23: =SUM(E$2:E$22) -> 0 | F23: =SUM(F$2:F$22) -> 0 | G23: =SUM(G$2:G$22) -> 0 | H23: =SUM(H$2:H$22) -> 0 | I23: =SUM(I$2:I$22) -> 0

Sheet CUMUL
A1: =MONTH("1"&A3) -> 1 | M1: http://forum.excel-pratique.com/excel/planning-cepl-t35717.html
A2: 2013
A3: JANVIER | B3: BELKIR | C3: BONAMY | D3: CAVALIN | E3: CHARPENTIER | F3: MATHIEU | G3: GROUSSIN | H3: SALDOT
A4: =DATE($A2,$A1,1) -> 41275 | B4: =SUM('01-01'!C23) -> 0 | C4: =SUM('01-01'!D23) -> 0 | D4: =SUM('01-01'!E23) -> 0 | E4: =SUM('01-01'!F23) -> 0 | F4: =SUM('01-01'!G23) -> 0 | G4: =SUM('01-01'!H23) -> 0 | H4: =SUM('01-01'!I23) -> 0
A5: =IF(MONTH(A4+1)=$A$1,A4+1,"") -> 41276 | B5: =SUM('02-01'!C24) -> 0.28125 | C5: =SUM('02-01'!D24) -> 0.32291667 | D5: =SUM('02-01'!E24) -> 0.33333333 | E5: =SUM('02-01'!F24) -> 0.33333333 | F5: =SUM('02-01'!G24) -> 0.16666667 | G5: =SUM('02-01'!H24) -> 0 | H5: =SUM('02-01'!I24) -> 0
A6: =IF(MONTH(A5+1)=$A$1,A5+1,"") -> 41277 | B6: =SUM('03-01'!C23) -> 0.30208333 | C6: =SUM('03-01'!D23) -> 0.20833333 | D6: =SUM('03-01'!E23) -> 0.33333333 | E6: =SUM('03-01'!F23) -> 0.21875 | F6: =SUM('03-01'!G23) -> 0.16666667 | G6: =SUM('03-01'!H23) -> 0 | H6: =SUM('03-01'!I23) -> 0
A7: =IF(MONTH(A6+1)=$A$1,A6+1,"") -> 41278 | B7: =SUM('04-01'!C23) -> 0.29166667 | C7: =SUM('04-01'!D23) -> 0.33333333 | D7: =SUM('04-01'!E23) -> 0.33333333 | E7: =SUM('04-01'!F23) -> 0.33333333 | F7: =SUM('04-01'!G23) -> 0.19791667 | G7: =SUM('04-01'!H23) -> 0 | H7: =SUM('04-01'!I23) -> 0
A8: =IF(MONTH(A7+1)=$A$1,A7+1,"") -> 41279
A9: =IF(MONTH(A8+1)=$A$1,A8+1,"") -> 41280
A10: =IF(MONTH(A9+1)=$A$1,A9+1,"") -> 41281 | B10: =SUM('07-01'!C23) -> 0 | C10: =SUM('07-01'!D23) -> 0.33333333 | D10: =SUM('07-01'!E23) -> 0.39583333 | E10: =SUM('07-01'!F23) -> 0.33333333 | F10: =SUM('07-01'!G23) -> 0.3125 | G10: =SUM('07-01'!H23) -> 0 | H10: =SUM('07-01'!I23) -> 0
A11: =IF(MONTH(A10+1)=$A$1,A10+1,"") -> 41282 | B11: =SUM('08-01'!C23) -> 0 | C11: =SUM('08-01'!D23) -> 0.33333333 | D11: =SUM('08-01'!E23) -> 0.33333333 | E11: =SUM('08-01'!F23) -> 0.32291667 | F11: =SUM('08-01'!G23) -> 0.33333333 | G11: =SUM('08-01'!H23) -> 0 | H11: =SUM('08-01'!I23) -> 0
A12: =IF(MONTH(A11+1)=$A$1,A11+1,"") -> 41283 | B12: =SUM('09-01'!C23) -> 0 | C12: =SUM('09-01'!D23) -> 0.33333333 | D12: =SUM('09-01'!E23) -> 0.35416667 | E12: =SUM('09-01'!F23) -> 0.33333333 | F12: =SUM('09-01'!G23) -> 0.27083333 | G12: =SUM('09-01'!H23) -> 0 | H12: =SUM('09-01'!I23) -> 0
A13: =IF(MONTH(A12+1)=$A$1,A12+1,"") -> 41284 | B13: =SUM('10-01'!C23) -> 0.33333333 | C13: =SUM('10-01'!D23) -> 0.33333333 | D13: =SUM('10-01'!E23) -> 0.33333333 | E13: =SUM('10-01'!F23) -> 0.33333333 | F13: =SUM('10-01'!G23) -> 0.22916667 | G13: =SUM('10-01'!H23) -> 0 | H13: =SUM('10-01'!I23) -> 0
A14: =IF(MONTH(A13+1)=$A$1,A13+1,"") -> 41285 | B14: =SUM('11-01'!C24) -> 0.33333333 | C14: =SUM('11-01'!D24) -> 0.375 | D14: =SUM('11-01'!E24) -> 0.3125 | E14: =SUM('11-01'!F24) -> 0.27083333 | F14: =SUM('11-01'!G24) -> 0.20833333 | G14: =SUM('11-01'!H24) -> 0 | H14: =SUM('11-01'!I24) -> 0
A15: =IF(MONTH(A14+1)=$A$1,A14+1,"") -> 41286
A16: =IF(MONTH(A15+1)=$A$1,A15+1,"") -> 41287
A17: =IF(MONTH(A16+1)=$A$1,A16+1,"") -> 41288 | B17: =SUM('14-01'!C23) -> 0 | C17: =SUM('14-01'!D23) -> 0.3125 | D17: =SUM('14-01'!E23) -> 0.33333333 | E17: =SUM('14-01'!F23) -> 0.3125 | F17: =SUM('14-01'!G23) -> 0.31597222 | G17: =SUM('14-01'!H23) -> 0 | H17: =SUM('14-01'!I23) -> 0
A18: =IF(MONTH(A17+1)=$A$1,A17+1,"") -> 41289 | B18: =SUM('15-01'!C23) -> 0 | C18: =SUM('15-01'!D23) -> 0.33333333 | D18: =SUM('15-01'!E23) -> 0.33333333 | E18: =SUM('15-01'!F23) -> 0.31944444 | F18: =SUM('15-01'!G23) -> 1.2083333 | G18: =SUM('15-01'!H23) -> 0 | H18: =SUM('15-01'!I23) -> 0
A19: =IF(MONTH(A18+1)=$A$1,A18+1,"") -> 41290 | B19: =SUM('16-01'!C23) -> 0 | C19: =SUM('16-01'!D23) -> 0 | D19: =SUM('16-01'!E23) -> 0.33333333 | E19: =SUM('16-01'!F23) -> 0.29166667 | F19: =SUM('16-01'!G23) -> 0.29166667 | G19: =SUM('16-01'!H23) -> 0 | H19: =SUM('16-01'!I23) -> 0.041666667
A20: =IF(MONTH(A19+1)=$A$1,A19+1,"") -> 41291 | B20: =SUM('17-01'!C23) -> 0 | C20: =SUM('17-01'!D23) -> 0.33333333 | D20: =SUM('17-01'!E23) -> 0.33333333 | E20: =SUM('17-01'!F23) -> 0.33333333 | F20: =SUM('17-01'!G23) -> 0.27777778 | G20: =SUM('17-01'!H23) -> 0 | H20: =SUM('17-01'!I23) -> 0
A21: =IF(MONTH(A20+1)=$A$1,A20+1,"") -> 41292 | B21: =SUM('17-01'!C23) -> 0 | C21: =SUM('17-01'!D23) -> 0.33333333 | D21: =SUM('17-01'!E23) -> 0.33333333 | E21: =SUM('17-01'!F23) -> 0.33333333 | F21: =SUM('17-01'!G23) -> 0.27777778 | G21: =SUM('17-01'!H23) -> 0 | H21: =SUM('17-01'!I23) -> 0
A22: =IF(MONTH(A21+1)=$A$1,A21+1,"") -> 41293
A23: =IF(MONTH(A22+1)=$A$1,A22+1,"") -> 41294
A24: =IF(MONTH(A23+1)=$A$1,A23+1,"") -> 41295 | B24: =SUM('21-01'!C23) -> 0.33333333 | C24: =SUM('21-01'!D23) -> 0.29166667 | D24: =SUM('21-01'!E23) -> 0.5 | E24: =SUM('21-01'!F23) -> 0.33333333 | F24: =SUM('21-01'!G23) -> 0 | G24: =SUM('21-01'!H23) -> 0 | H24: =SUM('21-01'!I23) -> 0
A25: =IF(MONTH(A24+1)=$A$1,A24+1,"") -> 41296 | B25: =SUM('22-01'!C23) -> 0.33333333 | C25: =SUM('22-01'!D23) -> 0.3125 | D25: =SUM('22-01'!E23) -> 0.33680556 | E25: =SUM('22-01'!F23) -> 0.33333333 | F25: =SUM('22-01'!G23) -> 0 | G25: =SUM('22-01'!H23) -> 0 | H25: =SUM('22-01'!I23) -> 0
A26: =IF(MONTH(A25+1)=$A$1,A25+1,"") -> 41297 | B26: =SUM('23-01'!C23) -> 0.33333333 | C26: =SUM('23-01'!D23) -> 0.33333333 | D26: =SUM('23-01'!E23) -> 0.32291667 | E26: =SUM('23-01'!F23) -> 0.33333333 | F26: =SUM('23-01'!G23) -> 0 | G26: =SUM('23-01'!H23) -> 0 | H26: =SUM('23-01'!I23) -> 0
A27: =IF(MONTH(A26+1)=$A$1,A26+1,"") -> 41298 | B27: =SUM('24-01'!C23) -> 0.3125 | C27: =SUM('24-01'!D23) -> 0.33333333 | D27: =SUM('24-01'!E23) -> 0.33333333 | E27: =SUM('24-01'!F23) -> 0.33333333 | F27: =SUM('24-01'!G23) -> 0 | G27: =SUM('24-01'!H23) -> 0 | H27: =SUM('24-01'!I23) -> 0
A28: =IF(MONTH(A27+1)=$A$1,A27+1,"") -> 41299 | B28: =SUM('25-01'!C23) -> 0 | C28: =SUM('25-01'!D23) -> 0 | D28: =SUM('25-01'!E23) -> 0 | E28: =SUM('25-01'!F23) -> 0 | F28: =SUM('25-01'!G23) -> 0 | G28: =SUM('25-01'!H23) -> 0 | H28: =SUM('25-01'!I23) -> 0
A29: =IF(MONTH(A28+1)=$A$1,A28+1,"") -> 41300
A30: =IF(MONTH(A29+1)=$A$1,A29+1,"") -> 41301
A31: =IF(MONTH(A30+1)=$A$1,A30+1,"") -> 41302
A32: =IF(MONTH(A31+1)=$A$1,A31+1,"") -> 41303
A33: =IF(A32="","",IF(MONTH(A32+1)=$A$1,A32+1,"")) -> 41304
A34: =IF(A33="","",IF(MONTH(A33+1)=$A$1,A33+1,"")) -> 41305
A35: Totaux | B35: =SUM(B4:B34) -> 2.8541667 | C35: =SUM(C4:C34) -> 5.15625 | D35: =SUM(D4:D34) -> 5.8888889 | E35: =SUM(E4:E34) -> 5.4027778 | F35: =SUM(F4:F34) -> 4.2569444 | G35: =SUM(G4:G34) -> 0 | H35: =SUM(H4:H34) -> 0.041666667 | I35: =SUM(B35:H35) -> 23.600694 | K35: =SUM(K$4:K$21) -> 0

Sheet FIN MOIS
A1: JANVIER 2013 | B1: ='05-01'!B1+1 -> 41280 | C1: CAVALIN | D1: CHARPENTIER | E1: MATHIEU | F1: GROUSSIN | G1: SALDOT | U1: 41275
A2: =IF(MONTH((1&$A$1)-1+ROWS($1:1))<>MONTH((1&$A$1)),"",(1&$A$1)-1+ROWS($1:1)) -> 41275 | B2: =SUM('02-01'!C21) -> 0 | C2: =SUM('02-01'!E21) -> 0 | D2: =SUM('02-01'!F21) -> 0 | E2: =SUM('02-01'!G21) -> 0 | F2: =SUM('02-01'!H21) -> 0 | G2: =SUM('02-01'!I21) -> 0 | U2: 41306
A3: =IF(MONTH((1&$A$1)-1+ROWS($1:2))<>MONTH((1&$A$1)),"",(1&$A$1)-1+ROWS($1:2)) -> 41276 | B3: =SUM('02-01'!C23) -> 0 | C3: =SUM('02-01'!E23) -> 0 | D3: =SUM('02-01'!F23) -> 0 | E3: =SUM('02-01'!G23) -> 0 | F3: =SUM('02-01'!H23) -> 0 | G3: =SUM('02-01'!I23) -> 0 | U3: 41334
A4: =IF(MONTH((1&$A$1)-1+ROWS($1:3))<>MONTH((1&$A$1)),"",(1&$A$1)-1+ROWS($1:3)) -> 41277 | B4: =SUM('02-01'!C24) -> 0.28125 | C4: =SUM('02-01'!E24) -> 0.33333333 | D4: =SUM('02-01'!F24) -> 0.33333333 | E4: =SUM('02-01'!G24) -> 0.16666667 | F4: =SUM('02-01'!H24) -> 0 | G4: =SUM('02-01'!I24) -> 0 | U4: 41365
A5: =IF(MONTH((1&$A$1)-1+ROWS($1:4))<>MONTH((1&$A$1)),"",(1&$A$1)-1+ROWS($1:4)) -> 41278 | B5: =SUM('02-01'!C25) -> 0 | C5: =SUM('02-01'!E25) -> 0 | D5: =SUM('02-01'!F25) -> 0 | E5: =SUM('02-01'!G25) -> 0 | F5: =SUM('02-01'!H25) -> 0 | G5: =SUM('02-01'!I25) -> 0 | U5: 41395
A6: =IF(MONTH((1&$A$1)-1+ROWS($1:5))<>MONTH((1&$A$1)),"",(1&$A$1)-1+ROWS($1:5)) -> 41279 | B6: =SUM('02-01'!C26) -> 0 | C6: =SUM('02-01'!E26) -> 0 | D6: =SUM('02-01'!F26) -> 0 | E6: =SUM('02-01'!G26) -> 0 | F6: =SUM('02-01'!H26) -> 0 | G6: =SUM('02-01'!I26) -> 0 | U6: 41426
A7: =IF(MONTH((1&$A$1)-1+ROWS($1:6))<>MONTH((1&$A$1)),"",(1&$A$1)-1+ROWS($1:6)) -> 41280 | B7: =SUM('02-01'!C27) -> 0 | C7: =SUM('02-01'!E27) -> 0 | D7: =SUM('02-01'!F27) -> 0 | E7: =SUM('02-01'!G27) -> 0 | F7: =SUM('02-01'!H27) -> 0 | G7: =SUM('02-01'!I27) -> 0 | U7: 41456
A8: =IF(MONTH((1&$A$1)-1+ROWS($1:7))<>MONTH((1&$A$1)),"",(1&$A$1)-1+ROWS($1:7)) -> 41281 | B8: =SUM('02-01'!C28) -> 0 | C8: =SUM('02-01'!E28) -> 0 | D8: =SUM('02-01'!F28) -> 0 | E8: =SUM('02-01'!G28) -> 0 | F8: =SUM('02-01'!H28) -> 0 | G8: =SUM('02-01'!I28) -> 0 | U8: 41487
A9: =IF(MONTH((1&$A$1)-1+ROWS($1:8))<>MONTH((1&$A$1)),"",(1&$A$1)-1+ROWS($1:8)) -> 41282 | B9: =SUM('02-01'!C29) -> 0 | C9: =SUM('02-01'!E29) -> 0 | D9: =SUM('02-01'!F29) -> 0 | E9: =SUM('02-01'!G29) -> 0 | F9: =SUM('02-01'!H29) -> 0 | G9: =SUM('02-01'!I29) -> 0 | U9: 41518
A10: =IF(MONTH((1&$A$1)-1+ROWS($1:9))<>MONTH((1&$A$1)),"",(1&$A$1)-1+ROWS($1:9)) -> 41283 | B10: =SUM('02-01'!C30) -> 0 | C10: =SUM('02-01'!E30) -> 0 | D10: =SUM('02-01'!F30) -> 0 | E10: =SUM('02-01'!G30) -> 0 | F10: =SUM('02-01'!H30) -> 0 | G10: =SUM('02-01'!I30) -> 0 | U10: 41548
A11: =IF(MONTH((1&$A$1)-1+ROWS($1:10))<>MONTH((1&$A$1)),"",(1&$A$1)-1+ROWS($1:10)) -> 41284 | B11: =SUM('02-01'!C31) -> 0 | C11: =SUM('02-01'!E31) -> 0 | D11: =SUM('02-01'!F31) -> 0 | E11: =SUM('02-01'!G31) -> 0 | F11: =SUM('02-01'!H31) -> 0 | G11: =SUM('02-01'!I31) -> 0 | U11: 41579
A12: =IF(MONTH((1&$A$1)-1+ROWS($1:11))<>MONTH((1&$A$1)),"",(1&$A$1)-1+ROWS($1:11)) -> 41285 | B12: =SUM('02-01'!C32) -> 0 | C12: =SUM('02-01'!E32) -> 0 | D12: =SUM('02-01'!F32) -> 0 | E12: =SUM('02-01'!G32) -> 0 | F12: =SUM('02-01'!H32) -> 0 | G12: =SUM('02-01'!I32) -> 0 | U12: 41609
A13: =IF(MONTH((1&$A$1)-1+ROWS($1:12))<>MONTH((1&$A$1)),"",(1&$A$1)-1+ROWS($1:12)) -> 41286 | B13: =SUM('02-01'!C33) -> 0 | C13: =SUM('02-01'!E33) -> 0 | D13: =SUM('02-01'!F33) -> 0 | E13: =SUM('02-01'!G33) -> 0 | F13: =SUM('02-01'!H33) -> 0 | G13: =SUM('02-01'!I33) -> 0
A14: =IF(MONTH((1&$A$1)-1+ROWS($1:13))<>MONTH((1&$A$1)),"",(1&$A$1)-1+ROWS($1:13)) -> 41287 | B14: =SUM('02-01'!C34) -> 0 | C14: =SUM('02-01'!E34) -> 0 | D14: =SUM('02-01'!F34) -> 0 | E14: =SUM('02-01'!G34) -> 0 | F14: =SUM('02-01'!H34) -> 0 | G14: =SUM('02-01'!I34) -> 0
A15: =IF(MONTH((1&$A$1)-1+ROWS($1:14))<>MONTH((1&$A$1)),"",(1&$A$1)-1+ROWS($1:14)) -> 41288 | B15: =SUM('02-01'!C35) -> 0 | C15: =SUM('02-01'!E35) -> 0 | D15: =SUM('02-01'!F35) -> 0 | E15: =SUM('02-01'!G35) -> 0 | F15: =SUM('02-01'!H35) -> 0 | G15: =SUM('02-01'!I35) -> 0
A16: =IF(MONTH((1&$A$1)-1+ROWS($1:15))<>MONTH((1&$A$1)),"",(1&$A$1)-1+ROWS($1:15)) -> 41289 | B16: =SUM('02-01'!C36) -> 0 | C16: =SUM('02-01'!E36) -> 0 | D16: =SUM('02-01'!F36) -> 0 | E16: =SUM('02-01'!G36) -> 0 | F16: =SUM('02-01'!H36) -> 0 | G16: =SUM('02-01'!I36) -> 0
A17: =IF(MONTH((1&$A$1)-1+ROWS($1:16))<>MONTH((1&$A$1)),"",(1&$A$1)-1+ROWS($1:16)) -> 41290 | B17: =SUM('02-01'!C37) -> 0 | C17: =SUM('02-01'!E37) -> 0 | D17: =SUM('02-01'!F37) -> 0 | E17: =SUM('02-01'!G37) -> 0 | F17: =SUM('02-01'!H37) -> 0 | G17: =SUM('02-01'!I37) -> 0
A18: =IF(MONTH((1&$A$1)-1+ROWS($1:17))<>MONTH((1&$A$1)),"",(1&$A$1)-1+ROWS($1:17)) -> 41291 | B18: =SUM('02-01'!C38) -> 0 | C18: =SUM('02-01'!E38) -> 0 | D18: =SUM('02-01'!F38) -> 0 | E18: =SUM('02-01'!G38) -> 0 | F18: =SUM('02-01'!H38) -> 0 | G18: =SUM('02-01'!I38) -> 0
A19: =IF(MONTH((1&$A$1)-1+ROWS($1:18))<>MONTH((1&$A$1)),"",(1&$A$1)-1+ROWS($1:18)) -> 41292 | B19: =SUM('02-01'!C39) -> 0 | C19: =SUM('02-01'!E39) -> 0 | D19: =SUM('02-01'!F39) -> 0 | E19: =SUM('02-01'!G39) -> 0 | F19: =SUM('02-01'!H39) -> 0 | G19: =SUM('02-01'!I39) -> 0
A20: =IF(MONTH((1&$A$1)-1+ROWS($1:19))<>MONTH((1&$A$1)),"",(1&$A$1)-1+ROWS($1:19)) -> 41293 | B20: =SUM('02-01'!C40) -> 0 | C20: =SUM('02-01'!E40) -> 0 | D20: =SUM('02-01'!F40) -> 0 | E20: =SUM('02-01'!G40) -> 0 | F20: =SUM('02-01'!H40) -> 0 | G20: =SUM('02-01'!I40) -> 0
A21: =IF(MONTH((1&$A$1)-1+ROWS($1:20))<>MONTH((1&$A$1)),"",(1&$A$1)-1+ROWS($1:20)) -> 41294 | B21: =SUM('02-01'!C41) -> 0 | C21: =SUM('02-01'!E41) -> 0 | D21: =SUM('02-01'!F41) -> 0 | E21: =SUM('02-01'!G41) -> 0 | F21: =SUM('02-01'!H41) -> 0 | G21: =SUM('02-01'!I41) -> 0
A22: =IF(MONTH((1&$A$1)-1+ROWS($1:21))<>MONTH((1&$A$1)),"",(1&$A$1)-1+ROWS($1:21)) -> 41295 | B22: =SUM('02-01'!C42) -> 0 | C22: =SUM('02-01'!E42) -> 0 | D22: =SUM('02-01'!F42) -> 0 | E22: =SUM('02-01'!G42) -> 0 | F22: =SUM('02-01'!H42) -> 0 | G22: =SUM('02-01'!I42) -> 0
A23: =IF(MONTH((1&$A$1)-1+ROWS($1:22))<>MONTH((1&$A$1)),"",(1&$A$1)-1+ROWS($1:22)) -> 41296 | B23: =SUM('02-01'!C43) -> 0 | C23: =SUM('02-01'!E43) -> 0 | D23: =SUM('02-01'!F43) -> 0 | E23: =SUM('02-01'!G43) -> 0 | F23: =SUM('02-01'!H43) -> 0 | G23: =SUM('02-01'!I43) -> 0
A24: =IF(MONTH((1&$A$1)-1+ROWS($1:23))<>MONTH((1&$A$1)),"",(1&$A$1)-1+ROWS($1:23)) -> 41297 | B24: =SUM('02-01'!C44) -> 0 | C24: =SUM('02-01'!E44) -> 0 | D24: =SUM('02-01'!F44) -> 0 | E24: =SUM('02-01'!G44) -> 0 | F24: =SUM('02-01'!H44) -> 0 | G24: =SUM('02-01'!I44) -> 0
A25: =IF(MONTH((1&$A$1)-1+ROWS($1:24))<>MONTH((1&$A$1)),"",(1&$A$1)-1+ROWS($1:24)) -> 41298 | B25: =SUM('02-01'!C45) -> 0 | C25: =SUM('02-01'!E45) -> 0 | D25: =SUM('02-01'!F45) -> 0 | E25: =SUM('02-01'!G45) -> 0 | F25: =SUM('02-01'!H45) -> 0 | G25: =SUM('02-01'!I45) -> 0
A26: =IF(MONTH((1&$A$1)-1+ROWS($1:25))<>MONTH((1&$A$1)),"",(1&$A$1)-1+ROWS($1:25)) -> 41299 | B26: =SUM('02-01'!C46) -> 0 | C26: =SUM('02-01'!E46) -> 0 | D26: =SUM('02-01'!F46) -> 0 | E26: =SUM('02-01'!G46) -> 0 | F26: =SUM('02-01'!H46) -> 0 | G26: =SUM('02-01'!I46) -> 0
A27: =IF(MONTH((1&$A$1)-1+ROWS($1:26))<>MONTH((1&$A$1)),"",(1&$A$1)-1+ROWS($1:26)) -> 41300 | B27: =SUM('02-01'!C47) -> 0 | C27: =SUM('02-01'!E47) -> 0 | D27: =SUM('02-01'!F47) -> 0 | E27: =SUM('02-01'!G47) -> 0 | F27: =SUM('02-01'!H47) -> 0 | G27: =SUM('02-01'!I47) -> 0
A28: =IF(MONTH((1&$A$1)-1+ROWS($1:27))<>MONTH((1&$A$1)),"",(1&$A$1)-1+ROWS($1:27)) -> 41301 | B28: =SUM('02-01'!C48) -> 0 | C28: =SUM('02-01'!E48) -> 0 | D28: =SUM('02-01'!F48) -> 0 | E28: =SUM('02-01'!G48) -> 0 | F28: =SUM('02-01'!H48) -> 0 | G28: =SUM('02-01'!I48) -> 0
A29: =IF(MONTH((1&$A$1)-1+ROWS($1:28))<>MONTH((1&$A$1)),"",(1&$A$1)-1+ROWS($1:28)) -> 41302 | B29: =SUM('02-01'!C49) -> 0 | C29: =SUM('02-01'!E49) -> 0 | D29: =SUM('02-01'!F49) -> 0 | E29: =SUM('02-01'!G49) -> 0 | F29: =SUM('02-01'!H49) -> 0 | G29: =SUM('02-01'!I49) -> 0
A30: =IF(MONTH((1&$A$1)-1+ROWS($1:29))<>MONTH((1&$A$1)),"",(1&$A$1)-1+ROWS($1:29)) -> 41303 | B30: =SUM('02-01'!C50) -> 0 | C30: =SUM('02-01'!E50) -> 0 | D30: =SUM('02-01'!F50) -> 0 | E30: =SUM('02-01'!G50) -> 0 | F30: =SUM('02-01'!H50) -> 0 | G30: =SUM('02-01'!I50) -> 0
A31: =IF(MONTH((1&$A$1)-1+ROWS($1:30))<>MONTH((1&$A$1)),"",(1&$A$1)-1+ROWS($1:30)) -> 41304 | B31: =SUM('02-01'!C51) -> 0 | C31: =SUM('02-01'!E51) -> 0 | D31: =SUM('02-01'!F51) -> 0 | E31: =SUM('02-01'!G51) -> 0 | F31: =SUM('02-01'!H51) -> 0 | G31: =SUM('02-01'!I51) -> 0
A32: =IF(MONTH((1&$A$1)-1+ROWS($1:31))<>MONTH((1&$A$1)),"",(1&$A$1)-1+ROWS($1:31)) -> 41305 | B32: =SUM('02-01'!C52) -> 0 | C32: =SUM('02-01'!E52) -> 0 | D32: =SUM('02-01'!F52) -> 0 | E32: =SUM('02-01'!G52) -> 0 | F32: =SUM('02-01'!H52) -> 0 | G32: =SUM('02-01'!I52) -> 0
A33: Totaux | B33: =SUM(B$2:B$19) -> 0.28125 | C33: =SUM(C$2:C$19) -> 0.33333333 | D33: =SUM(D$2:D$19) -> 0.33333333 | E33: =SUM(E$2:E$19) -> 0.16666667 | F33: =SUM(F$2:F$19) -> 0 | G33: =SUM(G$2:G$19) -> 0 | H33: =SUM(H$2:H$19) -> 0 | I33: =SUM(B33:H33) -> 1.1145833 | J33: =SUM(J$2:J$19) -> 0

Sheet f
B3: JANVIER | D3: Fériés | E3: Pâques
B4: FÉVRIER | D4: =DATE(année,1,1) -> 41275 | E4: =ROUND(DATE(année,4,MOD(234-11*MOD(année,19),30))/7,0)*7-6 -> 41364
B5: MARS | D5: =DATE(année,5,1) -> 41395
B6: AVRIL | D6: =DATE(année,5,8) -> 41402
B7: MAI | D7: =DATE(année,7,14) -> 41469
B8: JUIN | D8: =DATE(année,8,15) -> 41501
B9: JUILLET | D9: =DATE(année,11,1) -> 41579
B10: AOÛT | D10: =DATE(année,11,11) -> 41589
B11: OCTOBRE | D11: =DATE(année,12,25) -> 41633
B12: NOVEMBRE | D12: =E4+1 -> 41365
B13: DÉCEMBRE | D13: =E4+39 -> 41403
D14: =E4+50 -> 41414
