Workbook
Name ColA: OFFSET('Feuille de modifications'!$A$2,,,COUNTA('Feuille de modifications'!$A:$A)-1)
Name ColB: OFFSET(ColA,,1,)
Name ColC: OFFSET(ColA,,2,)

Sheet Tableau à double entrée
B1: 44623 | C1: 44624 | D1: 44625 | E1: 44626
A2: Chambre A | B2: {=SUMPRODUCT(('Feuille de modifications'!$A$2:$A$13='Tableau à double entrée'!$A2)*('Feuille de modifications'!$B$2:$B$13='Tableau à double entrée'!B$1)*('Feuille de modifications'!$C$2:$C$13))} -> 0.08 | C2: {=SUMPRODUCT(('Feuille de modifications'!$A$2:$A$13='Tableau à double entrée'!$A2)*('Feuille de modifications'!$B$2:$B$13='Tableau à double entrée'!C$1)*('Feuille de modifications'!$C$2:$C$13))} -> -0.05 | D2: {=SUMPRODUCT(('Feuille de modifications'!$A$2:$A$13='Tableau à double entrée'!$A2)*('Feuille de modifications'!$B$2:$B$13='Tableau à double entrée'!D$1)*('Feuille de modifications'!$C$2:$C$13))} -> 0.08 | E2: {=SUMPRODUCT(('Feuille de modifications'!$A$2:$A$13='Tableau à double entrée'!$A2)*('Feuille de modifications'!$B$2:$B$13='Tableau à double entrée'!E$1)*('Feuille de modifications'!$C$2:$C$13))} -> 0
A3: Suite B | B3: {=SUMPRODUCT(('Feuille de modifications'!$A$2:$A$13='Tableau à double entrée'!$A3)*('Feuille de modifications'!$B$2:$B$13='Tableau à double entrée'!B$1)*('Feuille de modifications'!$C$2:$C$13))} -> 0.02 | C3: {=SUMPRODUCT(('Feuille de modifications'!$A$2:$A$13='Tableau à double entrée'!$A3)*('Feuille de modifications'!$B$2:$B$13='Tableau à double entrée'!C$1)*('Feuille de modifications'!$C$2:$C$13))} -> 0 | D3: {=SUMPRODUCT(('Feuille de modifications'!$A$2:$A$13='Tableau à double entrée'!$A3)*('Feuille de modifications'!$B$2:$B$13='Tableau à double entrée'!D$1)*('Feuille de modifications'!$C$2:$C$13))} -> -0.08 | E3: {=SUMPRODUCT(('Feuille de modifications'!$A$2:$A$13='Tableau à double entrée'!$A3)*('Feuille de modifications'!$B$2:$B$13='Tableau à double entrée'!E$1)*('Feuille de modifications'!$C$2:$C$13))} -> -0.02
A4: Appart C | B4: {=SUMPRODUCT(('Feuille de modifications'!$A$2:$A$13='Tableau à double entrée'!$A4)*('Feuille de modifications'!$B$2:$B$13='Tableau à double entrée'!B$1)*('Feuille de modifications'!$C$2:$C$13))} -> 0.07 | C4: {=SUMPRODUCT(('Feuille de modifications'!$A$2:$A$13='Tableau à double entrée'!$A4)*('Feuille de modifications'!$B$2:$B$13='Tableau à double entrée'!C$1)*('Feuille de modifications'!$C$2:$C$13))} -> 0.02 | D4: {=SUMPRODUCT(('Feuille de modifications'!$A$2:$A$13='Tableau à double entrée'!$A4)*('Feuille de modifications'!$B$2:$B$13='Tableau à double entrée'!D$1)*('Feuille de modifications'!$C$2:$C$13))} -> 0.02 | E4: {=SUMPRODUCT(('Feuille de modifications'!$A$2:$A$13='Tableau à double entrée'!$A4)*('Feuille de modifications'!$B$2:$B$13='Tableau à double entrée'!E$1)*('Feuille de modifications'!$C$2:$C$13))} -> 0.02
B7: 44623 | C7: 44624 | D7: 44625 | E7: 44626 | H7: dans gestionnaire de noms | J7: ColA | K7: =DECALER('Feuille de modifications'!$A$2;;;NBVAL('Feuille de modifications'!$A:$A)-1)
A8: Chambre A | B8: =SUMPRODUCT((ColA='Tableau à double entrée'!$A8)*(ColB='Tableau à double entrée'!B$1)*(ColC)) -> 0.08 | C8: =SUMPRODUCT((ColA='Tableau à double entrée'!$A8)*(ColB='Tableau à double entrée'!C$1)*(ColC)) -> -0.05 | D8: =SUMPRODUCT((ColA='Tableau à double entrée'!$A8)*(ColB='Tableau à double entrée'!D$1)*(ColC)) -> 0.08 | E8: =SUMPRODUCT((ColA='Tableau à double entrée'!$A8)*(ColB='Tableau à double entrée'!E$1)*(ColC)) -> 0 | J8: ColB | K8: =DECALER(ColA;;1;)
A9: Suite B | B9: =SUMPRODUCT((ColA='Tableau à double entrée'!$A9)*(ColB='Tableau à double entrée'!B$1)*(ColC)) -> 0.02 | C9: =SUMPRODUCT((ColA='Tableau à double entrée'!$A9)*(ColB='Tableau à double entrée'!C$1)*(ColC)) -> 0 | D9: =SUMPRODUCT((ColA='Tableau à double entrée'!$A9)*(ColB='Tableau à double entrée'!D$1)*(ColC)) -> -0.08 | E9: =SUMPRODUCT((ColA='Tableau à double entrée'!$A9)*(ColB='Tableau à double entrée'!E$1)*(ColC)) -> -0.02 | J9: ColC | K9: =DECALER(ColA;;2;)
A10: Appart C | B10: =SUMPRODUCT((ColA='Tableau à double entrée'!$A10)*(ColB='Tableau à double entrée'!B$1)*(ColC)) -> 0.07 | C10: =SUMPRODUCT((ColA='Tableau à double entrée'!$A10)*(ColB='Tableau à double entrée'!C$1)*(ColC)) -> 0.17 | D10: =SUMPRODUCT((ColA='Tableau à double entrée'!$A10)*(ColB='Tableau à double entrée'!D$1)*(ColC)) -> 0.17 | E10: =SUMPRODUCT((ColA='Tableau à double entrée'!$A10)*(ColB='Tableau à double entrée'!E$1)*(ColC)) -> 0.17

Sheet Feuille de modifications
A1: Hébergement | B1: Date de séjour | C1: Variation globale | D1: 44610 | E1: 44611 | F1: 44612 | G1: 44613 | H1: 44614 | I1: 44615 | J1: 44616
A2: Chambre A | B2: 44623 | C2: =SUM(D2:J2) -> 0.08 | D2: 0.05 | E2: 0.03 | L2: =OFFSET($A$2,,,COUNTA($A:$A)-1) -> Chambre A
A3: Chambre A | B3: 44624 | C3: =SUM(D3:J3) -> -0.05 | E3: -0.05
A4: Chambre A | B4: 44625 | C4: =SUM(D4:J4) -> 0.08 | D4: 0.03 | E4: 0.05
A5: Chambre A | B5: 44626 | C5: =SUM(D5:J5) -> 0
A6: Suite B | B6: 44623 | C6: =SUM(D6:J6) -> 0.02 | D6: 0.02
A7: Suite B | B7: 44624 | C7: =SUM(D7:J7) -> 0
A8: Suite B | B8: 44625 | C8: =SUM(D8:J8) -> -0.08 | D8: -0.08
A9: Suite B | B9: 44626 | C9: =SUM(D9:J9) -> -0.02 | D9: -0.02
A10: Appart C | B10: 44623 | C10: =SUM(D10:J10) -> 0.07 | D10: 0.05 | F10: 0.02
A11: Appart C | B11: 44624 | C11: =SUM(D11:J11) -> 0.02 | F11: 0.02
A12: Appart C | B12: 44625 | C12: =SUM(D12:J12) -> 0.02 | F12: 0.02
A13: Appart C | B13: 44626 | C13: =SUM(D13:J13) -> 0.02 | F13: 0.02
A14: Appart C | B14: 44624 | C14: =SUM(D14:J14) -> 0.15 | G14: 0.15
A15: Appart C | B15: 44625 | C15: =SUM(D15:J15) -> 0.15 | G15: 0.15
A16: Appart C | B16: 44626 | C16: =SUM(D16:J16) -> 0.15 | G16: 0.15
