Workbook
Name _1_out_R_ucl: OFFSET([1]Calculations!$BM$4,0,0,SUM([1]Calculations!$BB$4:$BB$4))
Name _1_out_X_lcl: OFFSET([1]Calculations!$BL$4,0,0,SUM([1]Calculations!$BB$4:$BB$4))
Name _1_out_X_ucl: OFFSET([1]Calculations!$BK$4,0,0,SUM([1]Calculations!$BB$4:$BB$4))
Name _2_of_3_above_R_2_sig: OFFSET([1]Calculations!$DK$4,0,0,SUM([1]Calculations!$BB$4:$BB$4))
Name _2_of_3_above_X_2_sig: OFFSET([1]Calculations!$DG$4,0,0,SUM([1]Calculations!$BB$4:$BB$4))
Name _2_of_3_below_R_2_sig: OFFSET([1]Calculations!$DU$4,0,0,SUM([1]Calculations!$BB$4:$BB$4))
Name _2_of_3_below_X_2_sig: OFFSET([1]Calculations!$DQ$4,0,0,SUM([1]Calculations!$BB$4:$BB$4))
Name _4_of_5_above_R_1_sig: OFFSET([1]Calculations!$EP$4,0,0,SUM([1]Calculations!$BB$4:$BB$4))
Name _4_of_5_above_X_1_sig: OFFSET([1]Calculations!$EB$4,0,0,SUM([1]Calculations!$BB$4:$BB$4))
Name _4_of_5_below_R_1_sig: OFFSET([1]Calculations!$EW$4,0,0,SUM([1]Calculations!$BB$4:$BB$4))
Name _4_of_5_below_X_1_sig: OFFSET([1]Calculations!$EI$4,0,0,SUM([1]Calculations!$BB$4:$BB$4))
Name _8_above_avg_R: OFFSET([1]Calculations!$CR$4,0,0,SUM([1]Calculations!$BB$4:$BB$4))
Name _8_above_avg_X: OFFSET([1]Calculations!$BZ$4,0,0,SUM([1]Calculations!$BB$4:$BB$4))
Name _8_below_avg_R: OFFSET([1]Calculations!$DA$4,0,0,SUM([1]Calculations!$BB$4:$BB$4))
Name _8_below_avg_X: OFFSET([1]Calculations!$CI$4,0,0,SUM([1]Calculations!$BB$4:$BB$4))
Name Begin: OFFSET(Calculations!$B$2,0,0,COUNT(Calculations!$B:$B))
Name bins: OFFSET([2]Calculations!$G$14,0,0,COUNT([2]Calculations!$G$14:$G$29))
Name centerline: OFFSET([1]Calculations!$EY$4,0,0,SUM([1]Calculations!$BB$4:$BB$4))
Name centerliner: OFFSET([1]Calculations!$FB$4,0,0,SUM([1]Calculations!$BB$4:$BB$4))
Name counts: OFFSET([2]Calculations!$H$14,0,0,COUNT([2]Calculations!$H$14:$H$29))
Name Data: '[1]Data Entry'!#REF!
Name DaysComplete: OFFSET(Calculations!$G$2,0,0,COUNT(Calculations!$F:$F))
Name DaysIncomplete: OFFSET(Calculations!$H$2,0,0,COUNT(Calculations!$F:$F))
Name Item: OFFSET(Calculations!$A$2,0,0,COUNTA(Calculations!$A:$A)-1)
Name lcl: OFFSET([1]Calculations!$EZ$4,0,0,SUM([1]Calculations!$BB$4:$BB$4))
Name numberpts: OFFSET([1]Calculations!$A$4,0,0,SUM([1]Calculations!$BB$4:$BB$4))
Name numberptsr: OFFSET([1]Calculations!$B$4,0,0,SUM([1]Calculations!$BB$4:$BB$4))
Name Rbar_1_3_LCL: OFFSET([1]Calculations!$FJ$4,0,0,SUM([1]Calculations!$BB$4:$BB$4))
Name Rbar_1_3_UCL: OFFSET([1]Calculations!$FI$4,0,0,SUM([1]Calculations!$BB$4:$BB$4))
Name Rbar_2_3_LCL: OFFSET([1]Calculations!$FF$4,0,0,SUM([1]Calculations!$BB$4:$BB$4))
Name Rbar_2_3_UCL: OFFSET([1]Calculations!$FE$4,0,0,SUM([1]Calculations!$BB$4:$BB$4))
Name ucl: OFFSET([1]Calculations!$EX$4,0,0,SUM([1]Calculations!$BB$4:$BB$4))
Name uclR: OFFSET([1]Calculations!$FA$4,0,0,SUM([1]Calculations!$BB$4:$BB$4))
Name Xbar_1_3_LCL: OFFSET([1]Calculations!$FH$4,0,0,SUM([1]Calculations!$BB$4:$BB$4))
Name Xbar_1_3_UCL: OFFSET([1]Calculations!$FG$4,0,0,SUM([1]Calculations!$BB$4:$BB$4))
Name Xbar_2_3_LCL: OFFSET([1]Calculations!$FD$4,0,0,SUM([1]Calculations!$BB$4:$BB$4))
Name Xbar_2_3_UCL: OFFSET([1]Calculations!$FC$4,0,0,SUM([1]Calculations!$BB$4:$BB$4))

Sheet Plannification
C28: Projet | D28: Date de début | E28: Aujourd'hui | F28: Durée en jours | G28: Date de fin | H28: Jours de retard | I28: Date de fin | J28: Percent Complete
C29: projet1 | D29: 41533 | E29: =IF(D29="","",TODAY()) -> 41539 | F29: 23 | G29: =IFERROR(Calculations!K2,"") -> 41555 | H29: 2 | I29: =IFERROR(Calculations!J2,"") -> 41557 | J29: =Calculations!F2 -> 21.73913
C30: projet2 | D30: 41518 | E30: =IF(D30="","",TODAY()) -> 41539 | F30: 50 | G30: =IFERROR(Calculations!K3,"") -> 41567 | I30: =IFERROR(Calculations!J3,"") -> 41567 | J30: =Calculations!F3 -> 44
C31: projet3 | D31: 41487 | E31: =IF(D31="","",TODAY()) -> 41539 | F31: 90 | G31: =IFERROR(Calculations!K4,"") -> 41576 | I31: =IFERROR(Calculations!J4,"") -> 41576 | J31: =Calculations!F4 -> 58.888889
C32: projet4 | E32: =IF(D32="","",TODAY()) | G32: =IFERROR(Calculations!K5,"") | I32: =IFERROR(Calculations!J5,"") | J32: =Calculations!F5
C33: projet5 | E33: =IF(D33="","",TODAY()) | G33: =IFERROR(Calculations!K6,"") | I33: =IFERROR(Calculations!J6,"") | J33: =Calculations!F6
G34: =IFERROR(Calculations!K7,"") | I34: =IFERROR(Calculations!J7,"") | J34: =Calculations!F7
G35: =IFERROR(Calculations!K8,"") | I35: =IFERROR(Calculations!J8,"") | J35: =Calculations!F8
G36: =IFERROR(Calculations!K9,"") | I36: =IFERROR(Calculations!J9,"") | J36: =Calculations!F9
G37: =IFERROR(Calculations!K10,"") | I37: =IFERROR(Calculations!J10,"") | J37: =Calculations!F10
G38: =IFERROR(Calculations!K11,"") | I38: =IFERROR(Calculations!J11,"") | J38: =Calculations!F11
G39: =IFERROR(Calculations!K12,"") | I39: =IFERROR(Calculations!J12,"") | J39: =Calculations!F12
G40: =IFERROR(Calculations!K13,"") | I40: =IFERROR(Calculations!J13,"") | J40: =Calculations!F13
G41: =IFERROR(Calculations!K14,"") | I41: =IFERROR(Calculations!J14,"") | J41: =Calculations!F14
G42: =IFERROR(Calculations!K15,"") | I42: =IFERROR(Calculations!J15,"") | J42: =Calculations!F15
G43: =IFERROR(Calculations!K16,"") | I43: =IFERROR(Calculations!J16,"") | J43: =Calculations!F16

Sheet Calculations
A1: Tâches | B1: Début | C1: # Jours requis | D1: jours retard | E1: # Jours requis | F1: % Complété | G1: Jours comp | H1: Jours Incomp | J1: =TODAY() -> 41539
A2: =IF(Plannification!C29="","",Plannification!C29) -> projet1 | B2: =IF(Plannification!D29="","",Plannification!D29) -> 41533 | C2: =IF(Plannification!F29="","",Plannification!F29) -> 23 | D2: =IF(Plannification!H29="","",Plannification!H29) -> 2 | E2: =SUM(C2,D2) -> 25 | F2: =IFERROR(IF((100-(100/C2)*I2)<0,0,(100-(100/C2)*I2)),"") -> 21.73913 | G2: =IF(F2="","",C2*(F2/100)) -> 5 | H2: =IF(F2="","",C2*(1-(F2/100))) -> 18 | I2: =IFERROR(DATEDIF($J$1,J2,"d"),0) -> 18 | J2: =IF(B2="","",B2+E2-1) -> 41557 | K2: =IF(B2="","",B2+C2-1) -> 41555
A3: =IF(Plannification!C30="","",Plannification!C30) -> projet2 | B3: =IF(Plannification!D30="","",Plannification!D30) -> 41518 | C3: =IF(Plannification!F30="","",Plannification!F30) -> 50 | D3: =IF(Plannification!H30="","",Plannification!H30) | E3: =SUM(C3,D3) -> 50 | F3: =IFERROR(IF((100-(100/C3)*I3)<0,0,(100-(100/C3)*I3)),"") -> 44 | G3: =IF(F3="","",C3*(F3/100)) -> 22 | H3: =IF(F3="","",C3*(1-(F3/100))) -> 28 | I3: =IFERROR(DATEDIF($J$1,J3,"d"),0) -> 28 | J3: =IF(B3="","",B3+E3-1) -> 41567 | K3: =IF(B3="","",B3+C3-1) -> 41567
A4: =IF(Plannification!C31="","",Plannification!C31) -> projet3 | B4: =IF(Plannification!D31="","",Plannification!D31) -> 41487 | C4: =IF(Plannification!F31="","",Plannification!F31) -> 90 | D4: =IF(Plannification!H31="","",Plannification!H31) | E4: =SUM(C4,D4) -> 90 | F4: =IFERROR(IF((100-(100/C4)*I4)<0,0,(100-(100/C4)*I4)),"") -> 58.888889 | G4: =IF(F4="","",C4*(F4/100)) -> 53 | H4: =IF(F4="","",C4*(1-(F4/100))) -> 37 | I4: =IFERROR(DATEDIF($J$1,J4,"d"),0) -> 37 | J4: =IF(B4="","",B4+E4-1) -> 41576 | K4: =IF(B4="","",B4+C4-1) -> 41576
A5: =IF(Plannification!C32="","",Plannification!C32) -> projet4 | B5: =IF(Plannification!D32="","",Plannification!D32) | C5: =IF(Plannification!F32="","",Plannification!F32) | D5: =IF(Plannification!H32="","",Plannification!H32) | E5: =SUM(C5,D5) -> 0 | F5: =IFERROR(IF((100-(100/C5)*I5)<0,0,(100-(100/C5)*I5)),"") | G5: =IF(F5="","",C5*(F5/100)) | H5: =IF(F5="","",C5*(1-(F5/100))) | I5: =IFERROR(DATEDIF($J$1,J5,"d"),0) -> 0 | J5: =IF(B5="","",B5+E5-1) | K5: =IF(B5="","",B5+C5-1)
A6: =IF(Plannification!C33="","",Plannification!C33) -> projet5 | B6: =IF(Plannification!D33="","",Plannification!D33) | C6: =IF(Plannification!F33="","",Plannification!F33) | D6: =IF(Plannification!H33="","",Plannification!H33) | E6: =SUM(C6,D6) -> 0 | F6: =IFERROR(IF((100-(100/C6)*I6)<0,0,(100-(100/C6)*I6)),"") | G6: =IF(F6="","",C6*(F6/100)) | H6: =IF(F6="","",C6*(1-(F6/100))) | I6: =IFERROR(DATEDIF($J$1,J6,"d"),0) -> 0 | J6: =IF(B6="","",B6+E6-1) | K6: =IF(B6="","",B6+C6-1)
A7: =IF(Plannification!C34="","",Plannification!C34) | B7: =IF(Plannification!D34="","",Plannification!D34) | C7: =IF(Plannification!F34="","",Plannification!F34) | D7: =IF(Plannification!H34="","",Plannification!H34) | E7: =SUM(C7,D7) -> 0 | F7: =IFERROR(IF((100-(100/C7)*I7)<0,0,(100-(100/C7)*I7)),"") | G7: =IF(F7="","",C7*(F7/100)) | H7: =IF(F7="","",C7*(1-(F7/100))) | I7: =IFERROR(DATEDIF($J$1,J7,"d"),0) -> 0 | J7: =IF(B7="","",B7+E7-1) | K7: =IF(B7="","",B7+C7-1)
A8: =IF(Plannification!C35="","",Plannification!C35) | B8: =IF(Plannification!D35="","",Plannification!D35) | C8: =IF(Plannification!F35="","",Plannification!F35) | D8: =IF(Plannification!H35="","",Plannification!H35) | E8: =SUM(C8,D8) -> 0 | F8: =IFERROR(IF((100-(100/C8)*I8)<0,0,(100-(100/C8)*I8)),"") | G8: =IF(F8="","",C8*(F8/100)) | H8: =IF(F8="","",C8*(1-(F8/100))) | I8: =IFERROR(DATEDIF($J$1,J8,"d"),0) -> 0 | J8: =IF(B8="","",B8+E8-1) | K8: =IF(B8="","",B8+C8-1)
A9: =IF(Plannification!C36="","",Plannification!C36) | B9: =IF(Plannification!D36="","",Plannification!D36) | C9: =IF(Plannification!F36="","",Plannification!F36) | D9: =IF(Plannification!H36="","",Plannification!H36) | E9: =SUM(C9,D9) -> 0 | F9: =IFERROR(IF((100-(100/C9)*I9)<0,0,(100-(100/C9)*I9)),"") | G9: =IF(F9="","",C9*(F9/100)) | H9: =IF(F9="","",C9*(1-(F9/100))) | I9: =IFERROR(DATEDIF($J$1,J9,"d"),0) -> 0 | J9: =IF(B9="","",B9+E9-1) | K9: =IF(B9="","",B9+C9-1)
A10: =IF(Plannification!C37="","",Plannification!C37) | B10: =IF(Plannification!D37="","",Plannification!D37) | C10: =IF(Plannification!F37="","",Plannification!F37) | D10: =IF(Plannification!H37="","",Plannification!H37) | E10: =SUM(C10,D10) -> 0 | F10: =IFERROR(IF((100-(100/C10)*I10)<0,0,(100-(100/C10)*I10)),"") | G10: =IF(F10="","",C10*(F10/100)) | H10: =IF(F10="","",C10*(1-(F10/100))) | I10: =IFERROR(DATEDIF($J$1,J10,"d"),0) -> 0 | J10: =IF(B10="","",B10+E10-1) | K10: =IF(B10="","",B10+C10-1)
A11: =IF(Plannification!C38="","",Plannification!C38) | B11: =IF(Plannification!D38="","",Plannification!D38) | C11: =IF(Plannification!F38="","",Plannification!F38) | D11: =IF(Plannification!H38="","",Plannification!H38) | E11: =SUM(C11,D11) -> 0 | F11: =IFERROR(IF((100-(100/C11)*I11)<0,0,(100-(100/C11)*I11)),"") | G11: =IF(F11="","",C11*(F11/100)) | H11: =IF(F11="","",C11*(1-(F11/100))) | I11: =IFERROR(DATEDIF($J$1,J11,"d"),0) -> 0 | J11: =IF(B11="","",B11+E11-1) | K11: =IF(B11="","",B11+C11-1)
A12: =IF(Plannification!C39="","",Plannification!C39) | B12: =IF(Plannification!D39="","",Plannification!D39) | C12: =IF(Plannification!F39="","",Plannification!F39) | D12: =IF(Plannification!H39="","",Plannification!H39) | E12: =SUM(C12,D12) -> 0 | F12: =IFERROR(IF((100-(100/C12)*I12)<0,0,(100-(100/C12)*I12)),"") | G12: =IF(F12="","",C12*(F12/100)) | H12: =IF(F12="","",C12*(1-(F12/100))) | I12: =IFERROR(DATEDIF($J$1,J12,"d"),0) -> 0 | J12: =IF(B12="","",B12+E12-1) | K12: =IF(B12="","",B12+C12-1)
A13: =IF(Plannification!C40="","",Plannification!C40) | B13: =IF(Plannification!D40="","",Plannification!D40) | C13: =IF(Plannification!F40="","",Plannification!F40) | D13: =IF(Plannification!H40="","",Plannification!H40) | E13: =SUM(C13,D13) -> 0 | F13: =IFERROR(IF((100-(100/C13)*I13)<0,0,(100-(100/C13)*I13)),"") | G13: =IF(F13="","",C13*(F13/100)) | H13: =IF(F13="","",C13*(1-(F13/100))) | I13: =IFERROR(DATEDIF($J$1,J13,"d"),0) -> 0 | J13: =IF(B13="","",B13+E13-1) | K13: =IF(B13="","",B13+C13-1)
... A16: =IF(Plannification!C43="","",Plannification!C43) | B16: =IF(Plannification!D43="","",Plannification!D43) | C16: =IF(Plannification!F43="","",Plannification!F43) | D16: =IF(Plannification!H43="","",Plannification!H43) | E16: =SUM(C16,D16) -> 0 | F16: =IFERROR(IF((100-(100/C16)*I16)<0,0,(100-(100/C16)*I16)),"") | G16: =IF(F16="","",C16*(F16/100)) | H16: =IF(F16="","",C16*(1-(F16/100))) | I16: =IFERROR(DATEDIF($J$1,J16,"d"),0) -> 0 | J16: =IF(B16="","",B16+E16-1) | K16: =IF(B16="","",B16+C16-1)
