Workbook
Name classe: OFFSET('séance ressource'!$H$1,,,COUNTA('séance ressource'!$H:$H))
Name cola: OFFSET(tache!$A$2,,,SUMPRODUCT(--(MAX((tache!$A$2:$A$100<>"""")*ROW(tache!$A$2:$A$100))))-1)
Name Diagnostique: OFFSET('séance ressource'!$G$1,,,COUNTA('séance ressource'!$G:$G))
Name Etape: 'séance ressource'!$C:$C
Name eval: 'séance ressource'!$G:$G
Name Evaluation: OFFSET('séance ressource'!$G$1,,,COUNTA('séance ressource'!$G:$G))
Name lieu: 'séance ressource'!$A:$A
Name lieux: 'séance ressource'!$A:$A
Name liste_act: OFFSET('séance ressource'!$C$1,,,COUNTA('séance ressource'!$C:$C))
Name Liste_lieu: OFFSET('séance ressource'!$A$1,,,COUNTA('séance ressource'!$A:$A))
Name liste_matos: OFFSET('séance ressource'!$E$1,,,COUNTA('séance ressource'!$E:$E))
Name liste_phase: OFFSET('séance ressource'!$B$1,,,COUNTA('séance ressource'!$B:$B))
Name matériels: 'séance ressource'!$E:$E
Name objectif: 'fiche préparation'!$B$30:$E$33
Name objectifs: 'fiche préparation'!$B$30:$B$33
Name phase: 'séance ressource'!$B:$B
Name savoir: OFFSET(Savoir!$B$2,,,COUNTA(Savoir!$B:$B)-1)
Name tache: OFFSET(tache!$E$1,,,COUNTA(tache!$E:$E))

Sheet fiche préparation
A1: FICHE de PREPARATION
A3: Classe | E3: Durée: 8H
A5: Situation professionel
A7: Fonction et tâche | B7: T1-2 | C7: =IFERROR(VLOOKUP(B7,tache!$A$3:$B$201,2,FALSE),"") -> Répartir les tâches en fonction des compétences des équipiers et de leur niveau d'habilitation.
B8: T2 | C8: =IFERROR(VLOOKUP(B8,tache!$A$3:$B$201,2,FALSE),"")
B9: T3 | C9: =IFERROR(VLOOKUP(B9,tache!$A$3:$B$201,2,FALSE),"")
B10: T | C10: =IFERROR(VLOOKUP(B10,tache!$A$3:$B$201,2,FALSE),"")
C11: =IFERROR(VLOOKUP(B11,tache!$A$3:$B$201,2,FALSE),"")
C12: =IFERROR(VLOOKUP(B12,tache!$A$3:$B$201,2,FALSE),"")
A14: Compétences | C14: =IF(B14="","",VLOOKUP(B14,compétence!$A$3:$B$201,2,FALSE))
C15: =IF(B15="","",VLOOKUP(B15,compétence!$A$3:$B$201,2,FALSE))
C16: =IF(B16="","",VLOOKUP(B16,compétence!$A$3:$B$201,2,FALSE))
C17: =IF(B17="","",VLOOKUP(B17,compétence!$A$3:$B$201,2,FALSE))
C18: =IF(B18="","",VLOOKUP(B18,compétence!$A$3:$B$201,2,FALSE))
C19: =IF(B19="","",VLOOKUP(B19,compétence!$A$3:$B$201,2,FALSE))
C20: =IF(B20="","",VLOOKUP(B20,compétence!$A$3:$B$201,2,FALSE))
C21: =IF(B21="","",VLOOKUP(B21,compétence!$A$3:$B$201,2,FALSE))
C22: =IF(B22="","",VLOOKUP(B22,compétence!$A$3:$B$201,2,FALSE))
C23: =IF(B23="","",VLOOKUP(B23,compétence!$A$3:$B$201,2,FALSE))
C24: =IF(B24="","",VLOOKUP(B24,compétence!$A$3:$B$201,2,FALSE))
C25: =IF(B25="","",VLOOKUP(B25,compétence!$A$3:$B$201,2,FALSE))
A27: Objectif de la séance | B27: Etre capable de
A29: Objectifs opérationnels | B29: On demande
A35: Evaluation | B35: Performances
B41: Critères
A45: Pré requis
A47: Savoir nouveaux | B47: S0.1: Circuits parcourus par un courant continu
B48: Loi d'ohm
A50: Dossier technique consultable par les élèves
A54: Dossier élève comprenant fiches d’activités, l’évaluation et de synthèse.
A60: Dossier Professeur des documents et matériels utilisés pendant la séance

Sheet seance 1
A1: Fiche de déroulement de la séance
A3: Classe | B3: ='fiche préparation'!$B$3 -> 0 | E3: Date
A4: Lieux | E4: Durée | F4: 4h
A6: Objectif de la séance
A8: Phases | B8: Durée | C8: Etape | D8: Activité élèves | E8: Matériels et Documents | F8: Connaissance et savoir faire capacités | G8: Evaluation

Sheet tache
B1: Tâche | D1: T0-1 | E1: {=IF(ROW(A1)>COUNTA(A:A)-1,"",INDEX(cola,SMALL(IF(cola<>"",ROW(cola)-1,""),ROW(A1))))} -> T0-1
D2: T1-1 | E2: {=IF(ROW(A2)>COUNTA(A:A)-1,"",INDEX(cola,SMALL(IF(cola<>"",ROW(cola)-1,""),ROW(A2))))} -> T0-2
A3: T0-1 | B3: Renseigner le dossier de réalisation (installation, chantier, équipement). | D3: T2-1 | E3: {=IF(ROW(A3)>COUNTA(A:A)-1,"",INDEX(cola,SMALL(IF(cola<>"",ROW(cola)-1,""),ROW(A3))))} -> T0-3
A4: T0-2 | B4: Prendre en compte les documents concernant la démarche qualité. | D4: T3-1 | E4: {=IF(ROW(A4)>COUNTA(A:A)-1,"",INDEX(cola,SMALL(IF(cola<>"",ROW(cola)-1,""),ROW(A4))))} -> T1-1
A5: T0-3 | B5: Prendre en compte les enjeux environnementaux, la maîtrise de la consommation énergétique | D5: T4-1 | E5: {=IF(ROW(A5)>COUNTA(A:A)-1,"",INDEX(cola,SMALL(IF(cola<>"",ROW(cola)-1,""),ROW(A5))))} -> T1-2
D6: T5-1 | E6: {=IF(ROW(A6)>COUNTA(A:A)-1,"",INDEX(cola,SMALL(IF(cola<>"",ROW(cola)-1,""),ROW(A6))))} -> T1-3
A7: T1-1 | B7: Établir la liste du matériel d’exécution, d’installation, de vérification, et de sécurité et si nécessaire rédiger une liste complémentaire de matériel à commander. | E7: {=IF(ROW(A7)>COUNTA(A:A)-1,"",INDEX(cola,SMALL(IF(cola<>"",ROW(cola)-1,""),ROW(A7))))} -> T1-4
A8: T1-2 | B8: Répartir les tâches en fonction des compétences des équipiers et de leur niveau d'habilitation. | E8: {=IF(ROW(A8)>COUNTA(A:A)-1,"",INDEX(cola,SMALL(IF(cola<>"",ROW(cola)-1,""),ROW(A8))))} -> T1-5
A9: T1-3 | B9: Planifier les tâches en tenant compte des interventions des autres corps de métier et du plan de charge de l'entreprise. | E9: {=IF(ROW(A9)>COUNTA(A:A)-1,"",INDEX(cola,SMALL(IF(cola<>"",ROW(cola)-1,""),ROW(A9))))} -> T1-6
A10: T1-4 | B10: Communiquer les informations relatives aux travaux et aux conditions d’exécution. | E10: {=IF(ROW(A10)>COUNTA(A:A)-1,"",INDEX(cola,SMALL(IF(cola<>"",ROW(cola)-1,""),ROW(A10))))} -> T2-1
A11: T1-5 | B11: Rassembler les éléments de déroulement du chantier pour en déterminer les coûts. | E11: {=IF(ROW(A11)>COUNTA(A:A)-1,"",INDEX(cola,SMALL(IF(cola<>"",ROW(cola)-1,""),ROW(A11))))} -> T2-2
A12: T1-6 | B12: Réunir les éléments préparatoires en vue de participer à une réunion de chantier | E12: {=IF(ROW(A12)>COUNTA(A:A)-1,"",INDEX(cola,SMALL(IF(cola<>"",ROW(cola)-1,""),ROW(A12))))} -> T2-3
E13: {=IF(ROW(A13)>COUNTA(A:A)-1,"",INDEX(cola,SMALL(IF(cola<>"",ROW(cola)-1,""),ROW(A13))))} -> T2-4
A14: T2-1 | B14: Câbler et raccorder l’appareillage, les tableaux, armoires électriques, installations et réseaux. | E14: {=IF(ROW(A14)>COUNTA(A:A)-1,"",INDEX(cola,SMALL(IF(cola<>"",ROW(cola)-1,""),ROW(A14))))} -> T3-1
A15: T2-2 | B15: Adapter, si nécessaire l’implantation et la pose du matériel. | E15: {=IF(ROW(A15)>COUNTA(A:A)-1,"",INDEX(cola,SMALL(IF(cola<>"",ROW(cola)-1,""),ROW(A15))))} -> T3-2
A16: T2-3 | B16: Vérifier la conformité de réalisation de l’ouvrage | E16: {=IF(ROW(A16)>COUNTA(A:A)-1,"",INDEX(cola,SMALL(IF(cola<>"",ROW(cola)-1,""),ROW(A16))))} -> T3-3
A17: T2-4 | B17: Coordonner les activités liées aux intervenants du chantier. | E17: {=IF(ROW(A17)>COUNTA(A:A)-1,"",INDEX(cola,SMALL(IF(cola<>"",ROW(cola)-1,""),ROW(A17))))} -> T3-4
E18: {=IF(ROW(A18)>COUNTA(A:A)-1,"",INDEX(cola,SMALL(IF(cola<>"",ROW(cola)-1,""),ROW(A18))))} -> T4-1
A19: T3-1 | B19: Effectuer les essais, réglages, vérifications et corrections nécessaires à la réception technique de l’ouvrage. | E19: {=IF(ROW(A19)>COUNTA(A:A)-1,"",INDEX(cola,SMALL(IF(cola<>"",ROW(cola)-1,""),ROW(A19))))} -> T4-2
A20: T3-2 | B20: Fournir les éléments, donner les informations, mettre à jour les documents pour permettre la bonne exécution des plans de recollement. | E20: {=IF(ROW(A20)>COUNTA(A:A)-1,"",INDEX(cola,SMALL(IF(cola<>"",ROW(cola)-1,""),ROW(A20))))} -> T4-3
A21: T3-3 | B21: Procéder à la livraison de l'ouvrage en relation avec le client. | E21: {=IF(ROW(A21)>COUNTA(A:A)-1,"",INDEX(cola,SMALL(IF(cola<>"",ROW(cola)-1,""),ROW(A21))))} -> T4-4
A22: T3-4 | B22: Remettre et expliciter les guides d'utilisation y compris de langue anglaise. | E22: {=IF(ROW(A22)>COUNTA(A:A)-1,"",INDEX(cola,SMALL(IF(cola<>"",ROW(cola)-1,""),ROW(A22))))} -> T4-5
E23: {=IF(ROW(A23)>COUNTA(A:A)-1,"",INDEX(cola,SMALL(IF(cola<>"",ROW(cola)-1,""),ROW(A23))))} -> T4-6
A24: T4-1 | B24: Collecter les informations émanant du client ou de l’utilisateur. | E24: {=IF(ROW(A24)>COUNTA(A:A)-1,"",INDEX(cola,SMALL(IF(cola<>"",ROW(cola)-1,""),ROW(A24))))} -> T5-1
A25: T4-2 | B25: Effectuer les opérations prédéfinies liées aux visites planifiées. | E25: {=IF(ROW(A25)>COUNTA(A:A)-1,"",INDEX(cola,SMALL(IF(cola<>"",ROW(cola)-1,""),ROW(A25))))} -> T5-2
A26: T4-3 | B26: Déceler un défaut ou une anomalie de fonctionnement et son origine. | E26: {=IF(ROW(A26)>COUNTA(A:A)-1,"",INDEX(cola,SMALL(IF(cola<>"",ROW(cola)-1,""),ROW(A26))))} -> T5-3
A27: T4-4 | B27: Proposer une modification ou une amélioration.
A28: T4-5 | B28: Remettre l'ouvrage en état de fonctionnement.
A29: T4-6 | B29: Transmettre les résultats de l'intervention auprès du client et de sa hiérarchie.
A31: T5-1 | B31: Faire exprimer les besoins du client et les traduire. Conseiller le client et lui présenter des solutions.
A32: T5-2 | B32: Recueillir le degré de satisfaction du client après réalisation de l’ouvrage dont il a la responsabilité.
A33: T5-3 | B33: Informer le client sur des prestations complémentaires
A34: T5-4 | B34: Renseigner la fiche client de l’entreprise

Sheet compétence
B1: Compétence | D1: C1-1
D2: C2-1
A3: C1-1 | B3: Interroger le client sur ses besoins. | D3: C3-1
A4: C1-2 | B4: Recueillir auprès de l’utilisateur les informations nécessaires pour conduire une opération de maintenance . | D4: C4-1
A5: C1-3 | B5: Décoder les documents relatifs à tout ou partie d’un ouvrage. | D5: C5-1
A6: C1-4 | B6: Sélectionner la (les) fiche(s) qualité(s) correspondant aux travaux à réaliser.
A7: C1-5 | B7: Interpréter un planning d’intervention.
A8: C1-6 | B8: Collecter les divers éléments de déroulement des travaux.
A9: C1-7 | B9: Identifier la nature des activités relative au chantier concernant les Interventions ou les travaux (hors tension ou au voisinage).
A10: C1-8 | B10: Identifier et extraire du programme de déroulement du chantier les activités à réaliser dont il a la charge.
A11: C1-9 | B11: Interroger le client sur son degrés de satisfaction
A13: C2-1 | B13: Traduire en solutions techniques les besoins du client.
A14: C2-2 | B14: Compléter les plans, schémas, plannings et devis.
A15: C2-3 | B15: Modifier l’ordonnancement des activités
A16: C2-4 | B16: Implanter les constituants d’un ouvrage.
A17: C2-5 | B17: Poser les conduits, supports et conducteurs, implanter les appareils en appliquant les procédures, textes et règlement en vigueur.
A18: C2-6 | B18: Connecter les différents types de conducteurs.
... A51: C5-5 | B51: Attribuer à chaque équipier, en fonction de ses compétences spécifiques et de son titre d'habilitation, les activités professionnelles prévues au planning.

Sheet séance ressource
A1: Atelier | B1: Phase d'activation | C1: Accueil élève | E1: Appareil de mesure | G1: Diagnostique | H1: Seconde CAP
A2: CDI | B2: Phase de découverte | C2: Activité d'introduction | E2: Batterie de condensateur | G2: Formative | H2: Premiere CAP
A3: Salle de classe | B3: Phase de transfert | C3: Activité d'introduction en TD | E3: Document constructeur | G3: Formatrice | H3: Seconde BAC PRO
A4: Salle de classe ou atelier | B4: Phase de réinvestissement | C4: Activité d'introduction en TP | E4: Ordinateur | G4: Sommative | H4: Premiere BAC PRO
A5: Salle de classe et atelier | C5: Activité d'introduction en TD seul | E5: Ordinateur + Vidéoprojecteur | H5: Terminale BAC PRO
A6: Salle informatique | C6: Activité d'introduction en TD en binome | E6: Pronote
A7: Site extérieur | C7: Activité d'introduction en TD en groupe de 3 ou 4 | E7: Sujet élève
C8: Activité d'introduction en TD en classe entière | E8: Vidéoprojecteur
C9: Activité d'introduction en TP seul
C10: Activité d'introduction en TP en binome
C11: Activité d'introduction en TP en groupe de 3 ou 4
C12: Activité d'introduction en TP en classe entière
C13: Activité de confrontation en TD
C14: Activité de confrontation en TP
C15: Activité de confrontation en TD seul
C16: Activité de confrontation en TD en binome
C17: Activité de confrontation en TD en groupe de 3 ou 4
C18: Activité de confrontation en TD en classe entière
C19: Activité de confrontation en TP seul
C20: Activité de confrontation en TP en binome
... C33: Rangement

Sheet tableau compétence tache
A1: Tâches | D1: Compétences
A2: F0 - ÉTUDE | B2: T0-1 Renseigner le dossier de réalisation (installation, chantier, équipement). | C2: =LEFT($B$2,4) -> T0-1 | D2: C1-3 Décoder les documents relatifs à tout ou partie d’un ouvrage.
C3: =LEFT($B$2,4) -> T0-1 | D3: C2-2 Compléter les plans, schémas, plannings et devis.
C4: =LEFT($B$2,4) -> T0-1 | D4: C3-1 Argumenter les solutions retenues relatives aux plans, schémas, plannings, devis, liste des matériels, outillages et consignes de sécurités en vue de la constitution du dossier de réalisation
B5: T0-2 Prendre en compte les documents concernant la démarche qualité. | C5: =LEFT(B5,4) -> T0-2 | D5: C3-1 Argumenter les solutions retenues relatives aux plans, schémas, plannings, devis, liste des matériels, outillages et consignes de sécurités en vue de la constitution du dossier de réalisation
B6: T0-3 Prendre en compte les enjeux environnementaux, la maîtrise de la consommation énergétique | C6: =LEFT(B6,4) -> T0-3 | D6: C3-1 Argumenter les solutions retenues relatives aux plans, schémas, plannings, devis, liste des matériels, outillages et consignes de sécurités en vue de la constitution du dossier de réalisation.
A7: F1 – ORGANISATION | B7: T1-1 Établir la liste du matériel d’exécution, d’installation, de vérification, et de sécurité et si nécessaire rédiger une liste complémentaire de matériel à commander. | C7: =LEFT($B$7,4) -> T1-1
C8: =LEFT($B$7,4) -> T1-1 | D8: C5-2 Établir la liste des: Matériels électriques constituant l'ouvrage, outillage spécifique et collectif, appareils de mesurage et/ou de contrôle, équipements de protection individuels et collectifs.
C9: =LEFT($B$7,4) -> T1-1 | D9: C5-3 S'assurer de la disponibilité des matériels, de l'outillage, des appareils de mesurage et de contrôle et des équipements de protection collectifs
B10: T1-2 Répartir les tâches en fonction des compétences des équipiers et de leur niveau d'habilitation. | C10: =LEFT($B$10,4) -> T1-2 | D10: C1-7 Identifier la nature des activités relative au chantier concernant les Interventions ou les travaux (hors tension ou au voisinage).
C11: =LEFT($B$10,4) -> T1-2 | D11: C5-5 Attribuer à chaque équipier, en fonction de ses compétences spécifiques et de son titre d'habilitation, les activités professionnelles prévues au planning.
B12: T1-3 Planifier les tâches en tenant compte des interventions des autres corps de métier et du plan de charge de l'entreprise. | C12: =LEFT(B12,4) -> T1-3 | D12: C1-8 Identifier et extraire du programme de déroulement du chantier les activités à réaliser dont il a la charge.
C13: =LEFT(B13,4) | D13: C5-4 Définir la chronologie des activités confiées.
B14: T1-4 Communiquer les informations relatives aux travaux et aux conditions d’exécution. | C14: =LEFT(B14,4) -> T1-4 | D14: C4-5 Transmettre à sa hiérarchie et/ou à son équipe, les informations utiles au bon déroulement de l'exécution des travaux.
B15: T1-5 Rassembler les éléments de déroulement du chantier pour en déterminer les coûts. | C15: =LEFT($B$15,4) -> T1-5 | D15: C1-6 Collecter les divers éléments de déroulement des travaux.
C16: =LEFT($B$15,4) -> T1-5 | D16: C2-17 Compléter la fiche de gestion du chantier.
B17: T1-6 Réunir les éléments préparatoires en vue de participer à une réunion de chantier | C17: =LEFT($B$17,4) -> T1-6 | D17: C1-6 Collecter les divers éléments de déroulement des travaux.
C18: =LEFT($B$17,4) -> T1-6 | D18: C2-17 Compléter la fiche de gestion du chantier.
B19: T2-1 Câbler et raccorder l’appareillage, les tableaux, armoires électriques, installations et réseaux. | C19: =LEFT($B$19,4) -> T2-1 | D19: C2-5 Poser les conduits, supports et conducteurs, implanter les appareils en appliquant les procédures, textes et règlement en vigueur.
C20: =LEFT($B$19,4) -> T2-1 | D20: C2-6 Connecter les différents types de conducteurs.
B21: T2-2 Adapter, si nécessaire l’implantation et la pose du matériel. | C21: =LEFT($B$21,4) -> T2-2 | D21: C2-4 Implanter les constituants d’un ouvrage.
C22: =LEFT($B$21,4) -> T2-2 | D22: C3-3 Choisir le mode de pose adapté des constituants d’un ouvrage.
C23: =LEFT($B$21,4) -> T2-2 | D23: C3-4 Proposer une implantation relative aux constituants de l’ouvrage.
B24: T2-3 Vérifier la conformité de réalisation de l’ouvrage | C24: =LEFT(B24,4) -> T2-3 | D24: C2-8 Contrôler l’adéquation entre la réalisation et : le cahier des charges, Les normes en vigueur.
B25: T2-4 Coordonner les activités liées aux intervenants du chantier. | C25: =LEFT($B$25,4) -> T2-4 | D25: C1-5 Interpréter un planning d’intervention.
C26: =LEFT($B$25,4) -> T2-4 | D26: C2-3 Modifier l’ordonnancement des activités
C27: =LEFT($B$25,4) -> T2-4 | D27: C4-4 Dialoguer avec les différents intervenants du chantier.
B28: T3-1 Effectuer les essais, réglages, vérifications et corrections nécessaires à la réception technique de l’ouvrage. | C28: =LEFT($B$28,4) -> T3-1 | D28: C2-7 Configurer les éléments de l’ouvrage.
C29: =LEFT($B$28,4) -> T3-1 | D29: C2-9 Vérifier les grandeurs caractéristiques de l’ouvrage.
C30: =LEFT($B$28,4) -> T3-1 | D30: C2-10 Contrôler le fonctionnement de l’installation.
C31: =LEFT($B$28,4) -> T3-1 | D31: C2-11 Effectuer les mesures confirmant l’efficacité des moyens de protection des personnes.
B32: T3-2 Fournir les éléments, donner les informations, mettre à jour les documents pour permettre la bonne exécution des plans de recollement. | C32: =LEFT($B$32,4) -> T3-2 | D32: C2-12 Modifier le dossier technique (recollement) conformément au travail exécuté.
C33: =LEFT($B$32,4) -> T3-2 | D33: C4-6 Rendre compte de façon exhaustive des modifications effectuées.
B34: T3-3 Procéder à la livraison de l'ouvrage en relation avec le client. | C34: =LEFT(B34,4) -> T3-3
B35: T3-4 Remettre et expliciter les guides d'utilisation y compris de langue anglaise. | C35: =LEFT(B35,4) -> T3-4 | D35: C4-3 Expliquer et/ou traduire les notices et guides d’utilisation.
B36: T4-1 Collecter les informations émanant du client ou de l’utilisateur. | C36: =LEFT(B36,4) -> T4-1 | D36: C1-2 Recueillir auprès de l’utilisateur les informations nécessaires pour conduire une opération de maintenance .
B37: T4-2 Effectuer les opérations prédéfinies liées aux visites planifiées. | C37: =LEFT(B37,4) -> T4-2 | D37: C2-13 Réaliser les interventions de maintenance préventive en prenant en compte les contraintes d’environnement et de sécurité
B38: T4-3 Déceler un défaut ou une anomalie de fonctionnement et son origine. | C38: =LEFT(B38,4) -> T4-3 | D38: C2-14 Identifier le (ou les) élément(s) défectueux lors d’une intervention de maintenance corrective (curative ou palliative).
B39: T4-4 Proposer une modification ou une amélioration. | C39: =LEFT($B$39,4) -> T4-4 | D39: C3.5 Indiquer la modification ou l’amélioration à prévoir pour supprimer un dysfonctionnement.
C40: =LEFT($B$39,4) -> T4-4 | D40: C5-1 Proposer un matériel remplissant les mêmes fonctions qu’un appareil à remplacer.
...

Sheet compétence évaluation
C1: Conditions de réalisation | D1: Critères d’évaluation
A3: C1-1 | B3: Interroger le client sur ses besoins. | C3:  Plan de masse.  Devis initial à améliorer.  Descriptif des locaux ou de l’équipement.  Contraintes liées au projet (prix, délais, environnement, réglementation, etc.)  Client. | D3: Les éléments recueillis et remis en forme permettent de formaliser la demande du client. Les questions sont pertinentes. Le dialogue est constructif et fait apparaître les besoins du client. Les éléments permettant d’identifier les enjeux environnementaux de l’intervention sont identifiés.
A4: C1-2 | B4: Recueillir auprès de l’utilisateur les informations nécessaires pour conduire une opération de maintenance . | C4:  Utilisateur.  Installation à maintenir.  Contrat de maintenance.  Historique machine ou équipement.  Dossier machine. | D4: Les informations recueillies sont analysées et une opération de maintenance cohérente est proposée.
A5: C1-3 | B5: Décoder les documents relatifs à tout ou partie d’un ouvrage. | C5:  Le cahier des charges de l’ouvrage.  Les normes et règlements.  Les schémas et plans.  Les documents constructeurs.  Les consignes particulières.  La liste du matériel. | D5: Les documents sont clairement explicités (par écrit ou oral) pour permettre l’exécution de l’ouvrage. Les contraintes environnementales sont identifiées.
A6: C1-4 | B6: Sélectionner la (les) fiche(s) qualité(s) correspondant aux travaux à réaliser. | C6:  L’extrait des procédures qualité.  Le cahier des charges.  Le dossier de réalisation. | D6: Le choix des procédures est en relation avec le travail à effectuer
A7: C1-5 | B7: Interpréter un planning d’intervention. | C7:  Le planning, le dossier de réalisation.  La liste des intervenants et leur qualification.  La composition de l’équipe dont il a la responsabilité. | D7: L’ordre de travail de chaque membre de l’équipe dont il a la responsabilité est réaliste.
A8: C1-6 | B8: Collecter les divers éléments de déroulement des travaux. | C8:  Chantier, ouvrage.  Historique du déroulement des travaux.  Fiche de suivi de chantier vierge. | D8: Les informations utiles à l’établissement des coûts et à l’évolution des travaux sont rassemblées.
A9: C1-7 | B9: Identifier la nature des activités relative au chantier concernant les Interventions ou les travaux (hors tension ou au voisinage). | C9:  Le cahier des charges du chantier.  Programme global de déroulement du chantier.  Les contraintes de travail des différents corps de métier intervenant.  Temps indicatifs des opérations, élémentaires de la profession.  Structure de l'équipe.  Planning de charge de l'entreprise.  PPSPS, PDP.  Normes et textes réglementaires. | D9: La nature des activités est clairement identifiée en tenant compte des contraintes, CdC, normes, PPSPS, PDP et listée sous la forme de rapport journalier (écrit ou oral).
A10: C1-8 | B10: Identifier et extraire du programme de déroulement du chantier les activités à réaliser dont il a la charge. | C10:  Présence du client.  Dossier technique et économique de l’ouvrage. | D10: Les activités confiées sont listées. Les acteurs sont repérés. Le séquencement chronologique des activités est reporté sur un planning.
A11: C1-9 | B11: Interroger le client sur son degrés de satisfaction | C11:  Présence du client.  Dossier technique et économique de l’ouvrage. | D11: Les questions sont pertinentes Le dialogue doit faire clairement apparaître le degré de satisfaction ou d’insatisfaction du client en matière de :  Fonctionnalité  Délais  Esthétique  Coûts
A13: C2-1 | B13: Traduire en solutions techniques les besoins du client. | C13:  Plan de masse.  Interrogation du client.  Descriptif des locaux ou de l’équipement.  Contraintes liées au projet (prix, délais, environnement, réglementation, etc.).  Catalogue, fiches produits.  Outils de démonstration, aide à la vente. | D13: L’avant projet doit clairement faire apparaître :  Les besoins du client reformulés.  Les solutions techniques adaptées aux contraintes, y compris environnementales, du projet.  L’avant projet doit être fidèle aux exigences du client et réalisable par l’entreprise.  L’avant projet doit être rédigé en termes compréhensibles par le demandeur.
A14: C2-2 | B14: Compléter les plans, schémas, plannings et devis. | C14:  Le cahier des charges de l’ouvrage.  Les normes et règlements.  Les schémas et plans.  Les documents constructeurs.  Les consignes particulières.  La liste du matériel. | D14: Les documents sont complétés suivant les prescriptions définies par le cahier des charges.
A15: C2-3 | B15: Modifier l’ordonnancement des activités | C15:  Le planning à modifier.  Le dossier de réalisation.  L’état d’avancement des travaux. | D15: Le planning est modifié en tenant compte de l’état d’avancement des activités.
... A49: C5-3 | B49: S'assurer de la disponibilité des matériels, de l'outillage, des appareils de mesurage et de contrôle et des équipements de protection collectifs | C49:  La liste des matériels, de l’outillage, de sécurité, des appareils de mesurage, de contrôle, disponibles.  Des outils de communication. | D49: Les matériels éventuellement indisponibles sont identifiés.
A50: C5-4 | B50: Définir la chronologie des activités confiées. | D50: La chronologie doit tenir compte des contraintes temporelles, matérielles, environnementales et humaines du chantier et de l'entreprise.
A51: C5-5 | B51: Attribuer à chaque équipier, en fonction de ses compétences spécifiques et de son titre d'habilitation, les activités professionnelles prévues au planning. | C51:  Le dossier d’exécution.  La publication UTE C 18 510.  La constitution de l’équipe de travail : nombre, titres d'habilitation et compétences spécifiques.  Les normes et textes réglementaires.  Les PPSPS, PDP.  Le planning du chantier. | D51: Les activités attribuées sont en adéquation avec les compétences spécifiques et les niveaux d'habilitation des équipiers.

Sheet Savoir
A1: Colonne qui calcule le nombre de valeur sur la ligne, ce qui rend dynamique la liste. NE EFFACER !!! | B1: Savoir généraux | C1: detail 1 | D1: detail 2 | E1: detail 3 | F1: detail 4 | G1: detail 5 | H1: detail 6 | I1: detail 7 | J1: detail 8
A2: =COUNTA(C2:J2) -> 7 | B2: S0.1: Circuits parcourus par un courant continu | C2: Loi d'ohm | D2: énergie et puissance électrique | E2: loi des nœuds | F2: lois des mailles | G2: association resistances | H2: associations condensateurs | I2: Groupement RLC
A3: =COUNTA(C3:J3) -> 6 | B3: S0.2: Circuits parcourus par un courant alternatif sinusoïdal | C3: Grandeurs U, I, V, J, f ,j,w T | D3: Valeur maximale, efficace et moyenne | E3: Puissance apparente active et réactive. | F3: Impédance et elation u = f (i) des trois dipôles élémentaires. Association des dipôles élémentaires | G3: Montage équilibré | H3: Montage déséquilibré.
A4: =COUNTA(C4:J4) -> 0 | B4: S0.3: Machines électromagnétiques
A5: =COUNTA(C5:J5) -> 0 | B5: S0.4: Appareils de mesures
A6: =COUNTA(C6:J6) -> 0 | B6: S0.5: Conversion de signaux et modulation de l’énergie
A7: =COUNTA(C7:J7) -> 0 | B7: S0.6: Compatibilité électromagnétique
A8: =COUNTA(C8:J8) -> 0 | B8: S1.1: Réseaux HTA
A9: =COUNTA(C9:J9) -> 0 | B9: S1.2: Transformateurs HTA / BTA
A10: =COUNTA(C10:J10) -> 0 | B10: S1.3: Schémas de liaison à la terre BTA
A11: =COUNTA(C11:J11) -> 0 | B11: S1.4: Réseaux Basse Tension
A12: =COUNTA(C12:J12) -> 0 | B12: S1.5: Gestion de l’énergie
A13: =COUNTA(C13:J13) -> 0 | B13: S2.1: Machines électromagnétiques
A14: =COUNTA(C14:J14) -> 0 | B14: S2.3: Eclairagisme
A15: =COUNTA(C15:J15) -> 0 | B15: S2.4: Pneumatique
... A38: =COUNTA(C38:J38) -> 0 | B38: S7.7: Communication orale
