Workbook

Sheet Sheet1
F1: client | J1: http://forum.excel-pratique.com/excel/exporter-des-donnees-d-une-liste-t42988.html
A4: vince | B4: 12 | C4: M | D4: client | E4: =IF(Sheet1!D4="client",Sheet1!A4,"NON") -> vince | G4: {=IFERROR(INDEX($A$4:$A$14,SMALL(IF($D$4:$D$14=$F$1,ROW(INDIRECT("1:"&ROWS($A$4:$A$14)))),ROW()-3),1),"")} -> vince
A5: ameli | B5: 15 | C5: F | E5: =IF(Sheet1!D5="client",Sheet1!A5,"NON") -> NON | G5: {=IFERROR(INDEX($A$4:$A$14,SMALL(IF($D$4:$D$14=$F$1,ROW(INDIRECT("1:"&ROWS($A$4:$A$14)))),ROW()-3),1),"")} -> luc
A6: andré | B6: 48 | C6: M | E6: =IF(Sheet1!D6="client",Sheet1!A6,"NON") -> NON | G6: {=IFERROR(INDEX($A$4:$A$14,SMALL(IF($D$4:$D$14=$F$1,ROW(INDIRECT("1:"&ROWS($A$4:$A$14)))),ROW()-3),1),"")} -> arthur
A7: luc | B7: 78 | C7: M | D7: client | E7: =IF(Sheet1!D7="client",Sheet1!A7,"NON") -> luc | G7: {=IFERROR(INDEX($A$4:$A$14,SMALL(IF($D$4:$D$14=$F$1,ROW(INDIRECT("1:"&ROWS($A$4:$A$14)))),ROW()-3),1),"")} -> Fabienne
A8: martin | B8: 65 | C8: M | E8: =IF(Sheet1!D8="client",Sheet1!A8,"NON") -> NON | G8: {=IFERROR(INDEX($A$4:$A$14,SMALL(IF($D$4:$D$14=$F$1,ROW(INDIRECT("1:"&ROWS($A$4:$A$14)))),ROW()-3),1),"")}
A9: simone | B9: 25 | C9: F | E9: =IF(Sheet1!D9="client",Sheet1!A9,"NON") -> NON | G9: {=IFERROR(INDEX($A$4:$A$14,SMALL(IF($D$4:$D$14=$F$1,ROW(INDIRECT("1:"&ROWS($A$4:$A$14)))),ROW()-3),1),"")}
A10: arthur | B10: 54 | C10: M | D10: client | E10: =IF(Sheet1!D10="client",Sheet1!A10,"NON") -> arthur | G10: {=IFERROR(INDEX($A$4:$A$14,SMALL(IF($D$4:$D$14=$F$1,ROW(INDIRECT("1:"&ROWS($A$4:$A$14)))),ROW()-3),1),"")}
A11: bob | B11: 84 | C11: M | E11: =IF(Sheet1!D11="client",Sheet1!A11,"NON") -> NON | G11: {=IFERROR(INDEX($A$4:$A$14,SMALL(IF($D$4:$D$14=$F$1,ROW(INDIRECT("1:"&ROWS($A$4:$A$14)))),ROW()-3),1),"")}
A12: john | B12: 75 | C12: M | E12: =IF(Sheet1!D12="client",Sheet1!A12,"NON") -> NON | G12: {=IFERROR(INDEX($A$4:$A$14,SMALL(IF($D$4:$D$14=$F$1,ROW(INDIRECT("1:"&ROWS($A$4:$A$14)))),ROW()-3),1),"")}
A13: lucien | B13: 85 | C13: M | E13: =IF(Sheet1!D13="client",Sheet1!A13,"NON") -> NON | G13: {=IFERROR(INDEX($A$4:$A$14,SMALL(IF($D$4:$D$14=$F$1,ROW(INDIRECT("1:"&ROWS($A$4:$A$14)))),ROW()-3),1),"")}
A14: Fabienne | B14: 15 | C14: F | D14: client | E14: =IF(Sheet1!D14="client",Sheet1!A14,"NON") -> Fabienne | G14: {=IFERROR(INDEX($A$4:$A$14,SMALL(IF($D$4:$D$14=$F$1,ROW(INDIRECT("1:"&ROWS($A$4:$A$14)))),ROW()-3),1),"")}
E15: =IF(Sheet1!D15="client",Sheet1!A15,"NON") -> NON

Sheet Sheet2

Sheet Sheet3
