Workbook
Name _1_out_R_ucl: OFFSET([1]Calculations!$BM$4,0,0,SUM([1]Calculations!$BB$4:$BB$4))
Name _1_out_X_lcl: OFFSET([1]Calculations!$BL$4,0,0,SUM([1]Calculations!$BB$4:$BB$4))
Name _1_out_X_ucl: OFFSET([1]Calculations!$BK$4,0,0,SUM([1]Calculations!$BB$4:$BB$4))
Name _2_of_3_above_R_2_sig: OFFSET([1]Calculations!$DK$4,0,0,SUM([1]Calculations!$BB$4:$BB$4))
Name _2_of_3_above_X_2_sig: OFFSET([1]Calculations!$DG$4,0,0,SUM([1]Calculations!$BB$4:$BB$4))
Name _2_of_3_below_R_2_sig: OFFSET([1]Calculations!$DU$4,0,0,SUM([1]Calculations!$BB$4:$BB$4))
Name _2_of_3_below_X_2_sig: OFFSET([1]Calculations!$DQ$4,0,0,SUM([1]Calculations!$BB$4:$BB$4))
Name _4_of_5_above_R_1_sig: OFFSET([1]Calculations!$EP$4,0,0,SUM([1]Calculations!$BB$4:$BB$4))
Name _4_of_5_above_X_1_sig: OFFSET([1]Calculations!$EB$4,0,0,SUM([1]Calculations!$BB$4:$BB$4))
Name _4_of_5_below_R_1_sig: OFFSET([1]Calculations!$EW$4,0,0,SUM([1]Calculations!$BB$4:$BB$4))
Name _4_of_5_below_X_1_sig: OFFSET([1]Calculations!$EI$4,0,0,SUM([1]Calculations!$BB$4:$BB$4))
Name _8_above_avg_R: OFFSET([1]Calculations!$CR$4,0,0,SUM([1]Calculations!$BB$4:$BB$4))
Name _8_above_avg_X: OFFSET([1]Calculations!$BZ$4,0,0,SUM([1]Calculations!$BB$4:$BB$4))
Name _8_below_avg_R: OFFSET([1]Calculations!$DA$4,0,0,SUM([1]Calculations!$BB$4:$BB$4))
Name _8_below_avg_X: OFFSET([1]Calculations!$CI$4,0,0,SUM([1]Calculations!$BB$4:$BB$4))
Name Begin: OFFSET(Calculations!$B$2,0,0,COUNT(Calculations!$B:$B))
Name bins: OFFSET([2]Calculations!$G$14,0,0,COUNT([2]Calculations!$G$14:$G$29))
Name centerline: OFFSET([1]Calculations!$EY$4,0,0,SUM([1]Calculations!$BB$4:$BB$4))
Name centerliner: OFFSET([1]Calculations!$FB$4,0,0,SUM([1]Calculations!$BB$4:$BB$4))
Name counts: OFFSET([2]Calculations!$H$14,0,0,COUNT([2]Calculations!$H$14:$H$29))
Name Data: '[1]Data Entry'!#REF!
Name DaysComplete: OFFSET(Calculations!$E$2,0,0,COUNT(Calculations!$D:$D))
Name DaysIncomplete: OFFSET(Calculations!$F$2,0,0,COUNT(Calculations!$D:$D))
Name Item: OFFSET(Calculations!$A$2,0,0,COUNTA(Calculations!$A:$A)-1)
Name lcl: OFFSET([1]Calculations!$EZ$4,0,0,SUM([1]Calculations!$BB$4:$BB$4))
Name numberpts: OFFSET([1]Calculations!$A$4,0,0,SUM([1]Calculations!$BB$4:$BB$4))
Name numberptsr: OFFSET([1]Calculations!$B$4,0,0,SUM([1]Calculations!$BB$4:$BB$4))
Name Rbar_1_3_LCL: OFFSET([1]Calculations!$FJ$4,0,0,SUM([1]Calculations!$BB$4:$BB$4))
Name Rbar_1_3_UCL: OFFSET([1]Calculations!$FI$4,0,0,SUM([1]Calculations!$BB$4:$BB$4))
Name Rbar_2_3_LCL: OFFSET([1]Calculations!$FF$4,0,0,SUM([1]Calculations!$BB$4:$BB$4))
Name Rbar_2_3_UCL: OFFSET([1]Calculations!$FE$4,0,0,SUM([1]Calculations!$BB$4:$BB$4))
Name ucl: OFFSET([1]Calculations!$EX$4,0,0,SUM([1]Calculations!$BB$4:$BB$4))
Name uclR: OFFSET([1]Calculations!$FA$4,0,0,SUM([1]Calculations!$BB$4:$BB$4))
Name Xbar_1_3_LCL: OFFSET([1]Calculations!$FH$4,0,0,SUM([1]Calculations!$BB$4:$BB$4))
Name Xbar_1_3_UCL: OFFSET([1]Calculations!$FG$4,0,0,SUM([1]Calculations!$BB$4:$BB$4))
Name Xbar_2_3_LCL: OFFSET([1]Calculations!$FD$4,0,0,SUM([1]Calculations!$BB$4:$BB$4))
Name Xbar_2_3_UCL: OFFSET([1]Calculations!$FC$4,0,0,SUM([1]Calculations!$BB$4:$BB$4))

Sheet Plannification
E2: Plannification des travaux
C28: Projet | D28: Date de début | E28: Aujourd'hui | F28: Durée en jours | G28: Date de fin | H28: Percent Complete | J28: Projet | K28: Date de début | L28: Aujourd'hui | M28: Durée en jours | N28: Date de fin | O28: Percent Complete
C29: maconnerie | D29: 41379 | E29: =IF(D29="","",TODAY()) -> 41403 | F29: 15 | G29: =IFERROR(Calculations!H2,"") -> 41394 | H29: =Calculations!D2 -> 100 | L29: =IF(K29="","",TODAY()) | N29: =IFERROR(Calculations!H17,"") | O29: =Calculations!D17
C30: placo | D30: 41394 | E30: =IF(D30="","",TODAY()) -> 41403 | F30: 7 | G30: =IFERROR(Calculations!H3,"") -> 41401 | H30: =Calculations!D3 -> 100 | L30: =IF(K30="","",TODAY()) | N30: =IFERROR(Calculations!H18,"") | O30: =Calculations!D18
C31: charpente | D31: 41401 | E31: =IF(D31="","",TODAY()) -> 41403 | F31: 7 | G31: =IFERROR(Calculations!H4,"") -> 41408 | H31: =Calculations!D4 -> 28.571429 | L31: =IF(K31="","",TODAY()) | N31: =IFERROR(Calculations!H19,"") | O31: =Calculations!D19
C32: menuiserie | D32: 41408 | E32: =IF(D32="","",TODAY()) -> 41403 | F32: 7 | G32: =IFERROR(Calculations!H5,"") -> 41415 | H32: =Calculations!D5 -> 0 | L32: =IF(K32="","",TODAY()) | N32: =IFERROR(Calculations!H20,"") | O32: =Calculations!D20
C33: maconnerie Client 2 | D33: 41394 | E33: =IF(D33="","",TODAY()) -> 41403 | F33: 15 | G33: =IFERROR(Calculations!H6,"") -> 41409 | H33: =Calculations!D6 -> 60 | L33: =IF(K33="","",TODAY()) | N33: =IFERROR(Calculations!H21,"") | O33: =Calculations!D21
C34: placo client2 | D34: 41401 | F34: 7 | G34: =IFERROR(Calculations!H7,"") -> 41408 | H34: =Calculations!D7 -> 28.571429 | L34: =IF(K34="","",TODAY()) | N34: =IFERROR(Calculations!H22,"") | O34: =Calculations!D22
C35: charpente client2 | D35: 41408 | F35: 7 | G35: =IFERROR(Calculations!H8,"") -> 41415 | H35: =Calculations!D8 -> 0 | L35: =IF(K35="","",TODAY()) | N35: =IFERROR(Calculations!H23,"") | O35: =Calculations!D23
C36: menuiserie client2 | D36: 41415 | F36: 7 | G36: =IFERROR(Calculations!H9,"") -> 41422 | H36: =Calculations!D9 -> 0 | L36: =IF(K36="","",TODAY()) | N36: =IFERROR(Calculations!H24,"") | O36: =Calculations!D24
G37: =IFERROR(Calculations!H10,"") | H37: =Calculations!D10 | L37: =IF(K37="","",TODAY()) | N37: =IFERROR(Calculations!H25,"") | O37: =Calculations!D25
G38: =IFERROR(Calculations!H11,"") | H38: =Calculations!D11 | L38: =IF(K38="","",TODAY()) | N38: =IFERROR(Calculations!H26,"") | O38: =Calculations!D26
G39: =IFERROR(Calculations!H12,"") | H39: =Calculations!D12 | L39: =IF(K39="","",TODAY()) | N39: =IFERROR(Calculations!H27,"") | O39: =Calculations!D27
G40: =IFERROR(Calculations!H13,"") | H40: =Calculations!D13 | L40: =IF(K40="","",TODAY()) | N40: =IFERROR(Calculations!H28,"") | O40: =Calculations!D28
G41: =IFERROR(Calculations!H14,"") | H41: =Calculations!D14 | L41: =IF(K41="","",TODAY()) | N41: =IFERROR(Calculations!H29,"") | O41: =Calculations!D29
G42: =IFERROR(Calculations!H15,"") | H42: =Calculations!D15 | L42: =IF(K42="","",TODAY()) | N42: =IFERROR(Calculations!H30,"") | O42: =Calculations!D30
G43: =IFERROR(Calculations!H16,"") | H43: =Calculations!D16 | L43: =IF(K43="","",TODAY()) | N43: =IFERROR(Calculations!H31,"") | O43: =Calculations!D31

Sheet Calculations
A1: Tâches | B1: Début | C1: # Jours requis | D1: % Complété | E1: Jours comp | F1: Jours Incomp | H1: =TODAY() -> 41403
A2: =IF(Plannification!C29="","",Plannification!C29) -> maconnerie | B2: =IF(Plannification!D29="","",Plannification!D29) -> 41379 | C2: =IF(Plannification!F29="","",Plannification!F29) -> 15 | D2: =IFERROR(IF((100-(100/C2)*G2)<0,0,(100-(100/C2)*G2)),"") -> 100 | E2: =IF(D2="","",C2*(D2/100)) -> 15 | F2: =IF(D2="","",C2*(1-(D2/100))) -> 0 | G2: =IFERROR(DATEDIF($H$1,H2,"d"),0) -> 0 | H2: =IF(B2="","",B2+C2) -> 41394
A3: =IF(Plannification!C30="","",Plannification!C30) -> placo | B3: =IF(Plannification!D30="","",Plannification!D30) -> 41394 | C3: =IF(Plannification!F30="","",Plannification!F30) -> 7 | D3: =IFERROR(IF((100-(100/C3)*G3)<0,0,(100-(100/C3)*G3)),"") -> 100 | E3: =IF(D3="","",C3*(D3/100)) -> 7 | F3: =IF(D3="","",C3*(1-(D3/100))) -> 0 | G3: =IFERROR(DATEDIF($H$1,H3,"d"),0) -> 0 | H3: =IF(B3="","",B3+C3) -> 41401
A4: =IF(Plannification!C31="","",Plannification!C31) -> charpente | B4: =IF(Plannification!D31="","",Plannification!D31) -> 41401 | C4: =IF(Plannification!F31="","",Plannification!F31) -> 7 | D4: =IFERROR(IF((100-(100/C4)*G4)<0,0,(100-(100/C4)*G4)),"") -> 28.571429 | E4: =IF(D4="","",C4*(D4/100)) -> 2 | F4: =IF(D4="","",C4*(1-(D4/100))) -> 5 | G4: =IFERROR(DATEDIF($H$1,H4,"d"),0) -> 5 | H4: =IF(B4="","",B4+C4) -> 41408
A5: =IF(Plannification!C32="","",Plannification!C32) -> menuiserie | B5: =IF(Plannification!D32="","",Plannification!D32) -> 41408 | C5: =IF(Plannification!F32="","",Plannification!F32) -> 7 | D5: =IFERROR(IF((100-(100/C5)*G5)<0,0,(100-(100/C5)*G5)),"") -> 0 | E5: =IF(D5="","",C5*(D5/100)) -> 0 | F5: =IF(D5="","",C5*(1-(D5/100))) -> 7 | G5: =IFERROR(DATEDIF($H$1,H5,"d"),0) -> 12 | H5: =IF(B5="","",B5+C5) -> 41415
A6: =IF(Plannification!C33="","",Plannification!C33) -> maconnerie Client 2 | B6: =IF(Plannification!D33="","",Plannification!D33) -> 41394 | C6: =IF(Plannification!F33="","",Plannification!F33) -> 15 | D6: =IFERROR(IF((100-(100/C6)*G6)<0,0,(100-(100/C6)*G6)),"") -> 60 | E6: =IF(D6="","",C6*(D6/100)) -> 9 | F6: =IF(D6="","",C6*(1-(D6/100))) -> 6 | G6: =IFERROR(DATEDIF($H$1,H6,"d"),0) -> 6 | H6: =IF(B6="","",B6+C6) -> 41409
A7: =IF(Plannification!C34="","",Plannification!C34) -> placo client2 | B7: =IF(Plannification!D34="","",Plannification!D34) -> 41401 | C7: =IF(Plannification!F34="","",Plannification!F34) -> 7 | D7: =IFERROR(IF((100-(100/C7)*G7)<0,0,(100-(100/C7)*G7)),"") -> 28.571429 | E7: =IF(D7="","",C7*(D7/100)) -> 2 | F7: =IF(D7="","",C7*(1-(D7/100))) -> 5 | G7: =IFERROR(DATEDIF($H$1,H7,"d"),0) -> 5 | H7: =IF(B7="","",B7+C7) -> 41408
A8: =IF(Plannification!C35="","",Plannification!C35) -> charpente client2 | B8: =IF(Plannification!D35="","",Plannification!D35) -> 41408 | C8: =IF(Plannification!F35="","",Plannification!F35) -> 7 | D8: =IFERROR(IF((100-(100/C8)*G8)<0,0,(100-(100/C8)*G8)),"") -> 0 | E8: =IF(D8="","",C8*(D8/100)) -> 0 | F8: =IF(D8="","",C8*(1-(D8/100))) -> 7 | G8: =IFERROR(DATEDIF($H$1,H8,"d"),0) -> 12 | H8: =IF(B8="","",B8+C8) -> 41415
A9: =IF(Plannification!C36="","",Plannification!C36) -> menuiserie client2 | B9: =IF(Plannification!D36="","",Plannification!D36) -> 41415 | C9: =IF(Plannification!F36="","",Plannification!F36) -> 7 | D9: =IFERROR(IF((100-(100/C9)*G9)<0,0,(100-(100/C9)*G9)),"") -> 0 | E9: =IF(D9="","",C9*(D9/100)) -> 0 | F9: =IF(D9="","",C9*(1-(D9/100))) -> 7 | G9: =IFERROR(DATEDIF($H$1,H9,"d"),0) -> 19 | H9: =IF(B9="","",B9+C9) -> 41422
A10: =IF(Plannification!C37="","",Plannification!C37) | B10: =IF(Plannification!D37="","",Plannification!D37) | C10: =IF(Plannification!F37="","",Plannification!F37) | D10: =IFERROR(IF((100-(100/C10)*G10)<0,0,(100-(100/C10)*G10)),"") | E10: =IF(D10="","",C10*(D10/100)) | F10: =IF(D10="","",C10*(1-(D10/100))) | G10: =IFERROR(DATEDIF($H$1,H10,"d"),0) -> 0 | H10: =IF(B10="","",B10+C10)
A11: =IF(Plannification!C38="","",Plannification!C38) | B11: =IF(Plannification!D38="","",Plannification!D38) | C11: =IF(Plannification!F38="","",Plannification!F38) | D11: =IFERROR(IF((100-(100/C11)*G11)<0,0,(100-(100/C11)*G11)),"") | E11: =IF(D11="","",C11*(D11/100)) | F11: =IF(D11="","",C11*(1-(D11/100))) | G11: =IFERROR(DATEDIF($H$1,H11,"d"),0) -> 0 | H11: =IF(B11="","",B11+C11)
A12: =IF(Plannification!C39="","",Plannification!C39) | B12: =IF(Plannification!D39="","",Plannification!D39) | C12: =IF(Plannification!F39="","",Plannification!F39) | D12: =IFERROR(IF((100-(100/C12)*G12)<0,0,(100-(100/C12)*G12)),"") | E12: =IF(D12="","",C12*(D12/100)) | F12: =IF(D12="","",C12*(1-(D12/100))) | G12: =IFERROR(DATEDIF($H$1,H12,"d"),0) -> 0 | H12: =IF(B12="","",B12+C12)
A13: =IF(Plannification!C40="","",Plannification!C40) | B13: =IF(Plannification!D40="","",Plannification!D40) | C13: =IF(Plannification!F40="","",Plannification!F40) | D13: =IFERROR(IF((100-(100/C13)*G13)<0,0,(100-(100/C13)*G13)),"") | E13: =IF(D13="","",C13*(D13/100)) | F13: =IF(D13="","",C13*(1-(D13/100))) | G13: =IFERROR(DATEDIF($H$1,H13,"d"),0) -> 0 | H13: =IF(B13="","",B13+C13)
... A16: =IF(Plannification!C43="","",Plannification!C43) | B16: =IF(Plannification!D43="","",Plannification!D43) | C16: =IF(Plannification!F43="","",Plannification!F43) | D16: =IFERROR(IF((100-(100/C16)*G16)<0,0,(100-(100/C16)*G16)),"") | E16: =IF(D16="","",C16*(D16/100)) | F16: =IF(D16="","",C16*(1-(D16/100))) | G16: =IFERROR(DATEDIF($H$1,H16,"d"),0) -> 0 | H16: =IF(B16="","",B16+C16)
A17: =IF(Plannification!J29="","",Plannification!J29) | B17: =IF(Plannification!K29="","",Plannification!K29) | C17: =IF(Plannification!M29="","",Plannification!M29) | D17: =IFERROR(IF((100-(100/C17)*G17)<0,0,(100-(100/C17)*G17)),"") | E17: =IF(D17="","",C17*(D17/100)) | F17: =IF(D17="","",C17*(1-(D17/100))) | G17: =IFERROR(DATEDIF($H$1,H17,"d"),0) -> 0 | H17: =IF(B17="","",B17+C17)
A18: =IF(Plannification!J30="","",Plannification!J30) | B18: =IF(Plannification!K30="","",Plannification!K30) | C18: =IF(Plannification!M30="","",Plannification!M30) | D18: =IFERROR(IF((100-(100/C18)*G18)<0,0,(100-(100/C18)*G18)),"") | E18: =IF(D18="","",C18*(D18/100)) | F18: =IF(D18="","",C18*(1-(D18/100))) | G18: =IFERROR(DATEDIF($H$1,H18,"d"),0) -> 0 | H18: =IF(B18="","",B18+C18)
A19: =IF(Plannification!J31="","",Plannification!J31) | B19: =IF(Plannification!K31="","",Plannification!K31) | C19: =IF(Plannification!M31="","",Plannification!M31) | D19: =IFERROR(IF((100-(100/C19)*G19)<0,0,(100-(100/C19)*G19)),"") | E19: =IF(D19="","",C19*(D19/100)) | F19: =IF(D19="","",C19*(1-(D19/100))) | G19: =IFERROR(DATEDIF($H$1,H19,"d"),0) -> 0 | H19: =IF(B19="","",B19+C19)
A20: =IF(Plannification!J32="","",Plannification!J32) | B20: =IF(Plannification!K32="","",Plannification!K32) | C20: =IF(Plannification!M32="","",Plannification!M32) | D20: =IFERROR(IF((100-(100/C20)*G20)<0,0,(100-(100/C20)*G20)),"") | E20: =IF(D20="","",C20*(D20/100)) | F20: =IF(D20="","",C20*(1-(D20/100))) | G20: =IFERROR(DATEDIF($H$1,H20,"d"),0) -> 0 | H20: =IF(B20="","",B20+C20)
A21: =IF(Plannification!J33="","",Plannification!J33) | B21: =IF(Plannification!K33="","",Plannification!K33) | C21: =IF(Plannification!M33="","",Plannification!M33) | D21: =IFERROR(IF((100-(100/C21)*G21)<0,0,(100-(100/C21)*G21)),"") | E21: =IF(D21="","",C21*(D21/100)) | F21: =IF(D21="","",C21*(1-(D21/100))) | G21: =IFERROR(DATEDIF($H$1,H21,"d"),0) -> 0 | H21: =IF(B21="","",B21+C21)
A22: =IF(Plannification!J34="","",Plannification!J34) | B22: =IF(Plannification!K34="","",Plannification!K34) | C22: =IF(Plannification!M34="","",Plannification!M34) | D22: =IFERROR(IF((100-(100/C22)*G22)<0,0,(100-(100/C22)*G22)),"") | E22: =IF(D22="","",C22*(D22/100)) | F22: =IF(D22="","",C22*(1-(D22/100))) | G22: =IFERROR(DATEDIF($H$1,H22,"d"),0) -> 0 | H22: =IF(B22="","",B22+C22)
A23: =IF(Plannification!J35="","",Plannification!J35) | B23: =IF(Plannification!K35="","",Plannification!K35) | C23: =IF(Plannification!M35="","",Plannification!M35) | D23: =IFERROR(IF((100-(100/C23)*G23)<0,0,(100-(100/C23)*G23)),"") | E23: =IF(D23="","",C23*(D23/100)) | F23: =IF(D23="","",C23*(1-(D23/100))) | G23: =IFERROR(DATEDIF($H$1,H23,"d"),0) -> 0 | H23: =IF(B23="","",B23+C23)
A24: =IF(Plannification!J36="","",Plannification!J36) | B24: =IF(Plannification!K36="","",Plannification!K36) | C24: =IF(Plannification!M36="","",Plannification!M36) | D24: =IFERROR(IF((100-(100/C24)*G24)<0,0,(100-(100/C24)*G24)),"") | E24: =IF(D24="","",C24*(D24/100)) | F24: =IF(D24="","",C24*(1-(D24/100))) | G24: =IFERROR(DATEDIF($H$1,H24,"d"),0) -> 0 | H24: =IF(B24="","",B24+C24)
A25: =IF(Plannification!J37="","",Plannification!J37) | B25: =IF(Plannification!K37="","",Plannification!K37) | C25: =IF(Plannification!M37="","",Plannification!M37) | D25: =IFERROR(IF((100-(100/C25)*G25)<0,0,(100-(100/C25)*G25)),"") | E25: =IF(D25="","",C25*(D25/100)) | F25: =IF(D25="","",C25*(1-(D25/100))) | G25: =IFERROR(DATEDIF($H$1,H25,"d"),0) -> 0 | H25: =IF(B25="","",B25+C25)
A26: =IF(Plannification!J38="","",Plannification!J38) | B26: =IF(Plannification!K38="","",Plannification!K38) | C26: =IF(Plannification!M38="","",Plannification!M38) | D26: =IFERROR(IF((100-(100/C26)*G26)<0,0,(100-(100/C26)*G26)),"") | E26: =IF(D26="","",C26*(D26/100)) | F26: =IF(D26="","",C26*(1-(D26/100))) | G26: =IFERROR(DATEDIF($H$1,H26,"d"),0) -> 0 | H26: =IF(B26="","",B26+C26)
A27: =IF(Plannification!J39="","",Plannification!J39) | B27: =IF(Plannification!K39="","",Plannification!K39) | C27: =IF(Plannification!M39="","",Plannification!M39) | D27: =IFERROR(IF((100-(100/C27)*G27)<0,0,(100-(100/C27)*G27)),"") | E27: =IF(D27="","",C27*(D27/100)) | F27: =IF(D27="","",C27*(1-(D27/100))) | G27: =IFERROR(DATEDIF($H$1,H27,"d"),0) -> 0 | H27: =IF(B27="","",B27+C27)
A28: =IF(Plannification!J40="","",Plannification!J40) | B28: =IF(Plannification!K40="","",Plannification!K40) | C28: =IF(Plannification!M40="","",Plannification!M40) | D28: =IFERROR(IF((100-(100/C28)*G28)<0,0,(100-(100/C28)*G28)),"") | E28: =IF(D28="","",C28*(D28/100)) | F28: =IF(D28="","",C28*(1-(D28/100))) | G28: =IFERROR(DATEDIF($H$1,H28,"d"),0) -> 0 | H28: =IF(B28="","",B28+C28)
... A31: =IF(Plannification!J43="","",Plannification!J43) | B31: =IF(Plannification!K43="","",Plannification!K43) | C31: =IF(Plannification!M43="","",Plannification!M43) | D31: =IFERROR(IF((100-(100/C31)*G31)<0,0,(100-(100/C31)*G31)),"") | E31: =IF(D31="","",C31*(D31/100)) | F31: =IF(D31="","",C31*(1-(D31/100))) | G31: =IFERROR(DATEDIF($H$1,H31,"d"),0) -> 0 | H31: =IF(B31="","",B31+C31)
