Workbook

Sheet Budget 2016
A1: 0
A2: Dépenses de personnel | B2: par sortie | C2: mensuel | D2: annuel | F2: Bénéfices | G2: Prix unitaire | H2: A l'heure actuelle
A3: capitaine | C3: 500 | D3: =C3*12 -> 6000 | F3: cours Advanced | G3: 350
A4: jérôme | C4: 800 | D4: =C4*12 -> 9600 | F4: cours Open Water | G4: 350
A5: dani | C5: 800 | D5: =C5*12 -> 9600 | F5: plongée ahorcados/salango | G5: 90 | H5: 5
A6: guide advanced d'appoint | B6: 15 | C6: =B6*25 -> 375 | D6: =C6*12 -> 4500 | F6: plongée discovery | G6: 70 | H6: 6
A7: instructeur | C7: 750 | D7: =C7*6 -> 4500 | F7: plongée habitués | G7: 60 | H7: 9
A8: gardiennage bateau | C8: 130 | D8: =C8*12 -> 1560 | F8: cours open water +advanced | G8: 350 | H8: 17
A9: marin | C9: 500 | D9: =C9*12 -> 6000 | F9: comissions
A10: secrétaire | C10: 600 | D10: =C10*12 -> 7200
A11: Total charge de personnel | C11: =SUM(C3:C10) -> 4455 | D11: =C11*12 -> 53460
A13: Dépenses de fonctionnement | B13: par sortie | C13: mensuel | D13: annuel
A14: autorisation municipale | C14: =D14/12 -> 25 | D14: 300 | F14: Recette mensuelle
A15: camionette pour les bouteilles | B15: 7 | C15: =(B15*26) -> 182 | D15: =C15*12 -> 2184 | F15: =(G8*H8+G6*H6+G5*H5+G7*H7) -> 7360
A16: commissions agence par plongeur | B16: 5 | D16: =C16*12 -> 0
A17: comptable | C17: 90 | D17: =C17*12 -> 1080 | F17: Recette anuuelle
A18: Coût pédagogique cours PADI | B18: 39.25 | C18: =B18*H8 -> 667.25 | D18: =C18*12 -> 8007 | F18: =F15*12 -> 88320
A19: eau | C19: 10 | D19: =C19*12 -> 120
A20: électricité | C20: 130 | D20: =C20*12 -> 1560 | F20: Prix d'achat | G20: Amortissement
A21: essence bateau | B21: 45 | C21: =(B21*26) -> 1170 | D21: =C21*12 -> 14040 | F21: 40000 | G21: 40
A22: impôts | C22: 170 | D22: =C22*12 -> 2040 | F22: =F21/G21 -> 1000
A23: internet | C23: 40 | D23: =C23*12 -> 480
A24: Loyer du local | C24: 450 | D24: =C24*12 -> 5400
A25: Nourriture clients | B25: 20 | C25: =B25*30 -> 600 | D25: =C25*12 -> 7200 | F25: Résultat mensuel | G25: Résultat annuel
A26: pot de vin marine | B26: 20 | C26: =SUM(B26*26) -> 520 | D26: =C26*12 -> 6240 | F26: =F15-C33 -> -2179.0833 | G26: =F26*12 -> -26149
A27: site internet | C27: 6 | D27: =C27*12 -> 72
A28: zarpe (taxe portuaire) | B28: $5 | C28: =D28/12 -> 23.833333 | D28: =5.5*52 -> 286
A29: Total charge de fonctionnement | C29: =SUM(C14:C28) -> 4084.0833 | D29: =SUM(D14:D28) -> 49009
A31: Total charge de fonctionnement hors financier | C31: =C11+C29 -> 8539.0833 | D31: =SUM(D16:D31) -> 62352
A32: Remboursement actionnaires | C32: =F22 -> 1000 | D32: =C32*12 -> 12000
A33: Total des charges fixes | C33: =C31+C32 -> 9539.0833 | D33: =C33*12 -> 114469
A36: Investissement annuel matériel | B36: Coût pédagique des cours | F36: Estimation des cours PADI
B37: Nourriture pour 5j | C37: =3*5 -> 15 | F37: Déclaration nbre cours Padi 2015 | G37: 90000
B38: PISCINE | C38: 3 | F38: Soit en nbre d'éléve an | G38: =G37/H3 -> #DIV/0!
B39: COURS EN LIGNE | C39: 23 | F39: Soit en nbre d'élève 11 mois | G39: =G38/11 -> #DIV/0!
B40: Cout des cours | C40: =SUM(C37:C39) -> 41 | F40: Soit par semaine | G40: =G39/4.5 -> #DIV/0!

Sheet Juin 2016
B1: Mois de : | C1: juin | D1: 2016
B2: Suivi mensuel
B5: intitulé des charges | C5: 42522 | D5: 42523 | E5: 42524 | F5: 42525 | G5: 42526 | H5: 42527 | I5: 42528 | J5: 42529 | K5: 42530 | L5: 42531 | M5: 42532 | N5: 42533 | O5: 42534 | P5: 42535 | Q5: 42536 | R5: 42537 | S5: 42538 | T5: 42539 | U5: 42540 | V5: 42541 | W5: 42542 | X5: 42543 | Y5: 42544 | Z5: 42545 | AA5: 42546 | AB5: 42547 | AC5: 42548 | AD5: 42549 | AE5: 42550 | AF5: 42551 | AH5: Total | AI5: Budget | AJ5: Delta budget
B6: capitaine | AA6: 25 | AB6: 25 | AC6: 25 | AD6: 25 | AE6: 25 | AF6: 25 | AH6: =SUM(C6:AG6) -> 150 | AI6: ='Budget 2016'!C3 -> 500 | AJ6: =AI6-AH6 -> 350
B7: jérôme | AH7: =SUM(C7:AG7) -> 0 | AI7: ='Budget 2016'!C4 -> 800 | AJ7: =AI7-AH7 -> 800
B8: dani | AH8: =SUM(C8:AG8) -> 0 | AI8: ='Budget 2016'!C5 -> 800 | AJ8: =AI8-AH8 -> 800
B9: guide advanced d'appoint | AA9: 15 | AB9: 15 | AC9: 15 | AD9: 15 | AE9: 15 | AF9: 15 | AH9: =SUM(C9:AG9) -> 90 | AI9: ='Budget 2016'!C6 -> 375 | AJ9: =AI9-AH9 -> 285
B10: instructeur | AA10: 30 | AB10: 30 | AC10: 30 | AD10: 30 | AH10: =SUM(C10:AG10) -> 120 | AI10: ='Budget 2016'!C7 -> 750 | AJ10: =AI10-AH10 -> 630
B11: gardiennage bateau | AH11: =SUM(C11:AG11) -> 0 | AI11: ='Budget 2016'!C8 -> 130 | AJ11: =AI11-AH11 -> 130
B12: marin | AA12: 25 | AB12: 25 | AC12: 25 | AD12: 25 | AE12: 25 | AF12: 25 | AH12: =SUM(C12:AG12) -> 150 | AI12: ='Budget 2016'!C9 -> 500 | AJ12: =AI12-AH12 -> 350
B13: secrétaire | AH13: =SUM(C13:AG13) -> 0 | AI13: ='Budget 2016'!C10 -> 600 | AJ13: =AI13-AH13 -> 600
B14: Sous total charge personnel | C14: =SUM(C6:C13) -> 0 | D14: =SUM(D6:D13) -> 0 | E14: =SUM(E6:E13) -> 0 | F14: =SUM(F6:F13) -> 0 | G14: =SUM(G6:G13) -> 0 | H14: =SUM(H6:H13) -> 0 | I14: =SUM(I6:I13) -> 0 | J14: =SUM(J6:J13) -> 0 | ... AG14: =SUM(AG6:AG13) -> 0 | AH14: =SUM(C14:AG14) -> 510 | AI14: =SUM(AI6:AI13) -> 4455 | AJ14: =SUM(AJ6:AJ13) -> 3945
B16: autorisation municipale | AH16: =SUM(C16:AG16) -> 0 | AI16: ='Budget 2016'!C14 -> 25 | AJ16: =AI16-AH16 -> 25
B17: camionette pour les bouteilles | AD17: 38 | AH17: =SUM(C17:AG17) -> 38 | AI17: ='Budget 2016'!C15 -> 182 | AJ17: =AI17-AH17 -> 144
B18: commissions agence par plongeur | AH18: =SUM(C18:AG18) -> 0 | AI18: ='Budget 2016'!C16 -> 0 | AJ18: =AI18-AH18 -> 0
B19: comptable | AH19: =SUM(C19:AG19) -> 0 | AI19: ='Budget 2016'!C17 -> 90 | AJ19: =AI19-AH19 -> 90
B20: Coût pédagogique cours PADI | AF20: =2*19.75 -> 39.5 | AH20: =SUM(C20:AG20) -> 39.5 | AI20: ='Budget 2016'!C18 -> 667.25 | AJ20: =AI20-AH20 -> 627.75
B21: eau | AH21: =SUM(C21:AG21) -> 0 | AI21: ='Budget 2016'!C19 -> 10 | AJ21: =AI21-AH21 -> 10
B22: électricité | AH22: =SUM(C22:AG22) -> 0 | AI22: ='Budget 2016'!C20 -> 130 | AJ22: =AI22-AH22 -> 130
B23: essence bateau | AA23: 45 | AB23: 45 | AC23: 45 | AD23: 35 | AE23: 53 | AF23: 35 | AH23: =SUM(C23:AG23) -> 258 | AI23: ='Budget 2016'!C21 -> 1170 | AJ23: =AI23-AH23 -> 912
B24: impôts | AH24: =SUM(C24:AG24) -> 0 | AI24: ='Budget 2016'!C22 -> 170 | AJ24: =AI24-AH24 -> 170
B25: internet | AH25: =SUM(C25:AG25) -> 0 | AI25: ='Budget 2016'!C23 -> 40 | AJ25: =AI25-AH25 -> 40
B26: Loyer du local | AH26: =SUM(C26:AG26) -> 0 | AI26: ='Budget 2016'!C24 -> 450 | AJ26: =AI26-AH26 -> 450
B27: Nourriture clients | AA27: 13.8 | AB27: 13.5 | AC27: 19.15 | AD27: 20 | AE27: 17 | AF27: 15 | AH27: =SUM(C27:AG27) -> 98.45 | AI27: ='Budget 2016'!C25 -> 600 | AJ27: =AI27-AH27 -> 501.55
B28: pot de vin marine | AA28: 20 | AB28: 20 | AC28: 20 | AD28: 20 | AE28: 20 | AF28: 20 | AH28: =SUM(C28:AG28) -> 120 | AI28: ='Budget 2016'!C26 -> 520 | AJ28: =AI28-AH28 -> 400
B29: zarpe (taxe portuaire) | AA29: 5 | AB29: 5 | AC29: 5 | AD29: 5 | AE29: 5 | AF29: 5 | AH29: =SUM(C29:AG29) -> 30 | AI29: ='Budget 2016'!C28 -> 23.833333 | AJ29: =AI29-AH29 -> -6.1666667
B30: Fournitures | AA30: 37 | AB30: 36 | AC30: 17 | AF30: 16 | AH30: =SUM(C30:AG30) -> 106 | AI30: 0 | AJ30: =AI30-AH30 -> -106
B31: Matériel | AD31: 96 | AF31: 60 | AH31: =SUM(C31:AG31) -> 156 | AI31: 0 | AJ31: =AI31-AH31 -> -156
B32: Location bateau | AH32: =SUM(C32:AG32) -> 0 | AI32: 0 | AJ32: =AI32-AH32 -> 0
B33: Location Tank | AH33: =SUM(C33:AG33) -> 0 | AI33: 0 | AJ33: =AI33-AH33 -> 0
B34: location BCD | AH34: =SUM(C34:AG34) -> 0 | AI34: 0 | AJ34: =AI34-AH34 -> 0
B35: location équipement complêt | AH35: =SUM(C35:AG35) -> 0 | AI35: 0 | AJ35: =AI35-AH35 -> 0
B36: Panga | AH36: =SUM(C36:AG36) -> 0 | AI36: 0 | AJ36: =AI36-AH36 -> 0
B37: site internet | AH37: =SUM(C37:AG37) -> 0 | AI37: ='Budget 2016'!C27 -> 6 | AJ37: =AI37-AH37 -> 6
B38: Panga | AH38: =SUM(C38:AG38) -> 0 | AI38: 1 | AJ38: =AI38-AH38 -> 1
B39: Sous total charge de fonctionnement | C39: =SUM(C16:C37) -> 0 | D39: =SUM(D16:D37) -> 0 | E39: =SUM(E16:E37) -> 0 | F39: =SUM(F16:F37) -> 0 | G39: =SUM(G16:G37) -> 0 | H39: =SUM(H16:H37) -> 0 | I39: =SUM(I16:I37) -> 0 | J39: =SUM(J16:J37) -> 0 | ... AG39: =SUM(AG16:AG37) -> 0 | AH39: =SUM(C39:AG39) -> 845.95 | AI39: =SUM(AI16:AI37) -> 4084.0833 | AJ39: =AI39-AH39 -> 3238.1333
B40: Total charge journalière | C40: =C14+C39 -> 0 | D40: =D14+D39 -> 0 | E40: =E14+E39 -> 0 | F40: =F14+F39 -> 0 | G40: =G14+G39 -> 0 | H40: =H14+H39 -> 0 | I40: =I14+I39 -> 0 | J40: =J14+J39 -> 0 | ... AJ40: =AJ14+AJ39 -> 7183.1333
A43: Prescripteur | B43: Produit | C43: =C5 -> 42522 | D43: =D5 -> 42523 | E43: =E5 -> 42524 | F43: =F5 -> 42525 | G43: =G5 -> 42526 | H43: =H5 -> 42527 | I43: =I5 -> 42528 | J43: =J5 -> 42529 | ... AF43: =AF5 -> 42551 | AH43: Total | AI43: # élèves | AJ43: # plongées | AK43: # unitaire | AM43: # de plongée réelle
A44: Itay | B44: cours Advanced | AH44: =SUM(C44:AG44) -> 0 | AI44: =AH44/200 -> 0 | AJ44: 5 | AK44: =IF(AH44=0,"0",(AH44/AI44)/AJ44) -> 0 | AM44: =AI44*AJ44 -> 0
B45: cours Open Water | AH45: =SUM(C45:AG45) -> 0 | AI45: =AH45/300 -> 0 | AJ45: 4 | AK45: =IF(AH45=0,"0",(AH45/AI45)/AJ45) -> 0 | AM45: =AI45*AJ45 -> 0
...

Sheet Juillet 2016
B1: Mois de : | C1: juillet
B2: Suivi mensuel
B4: intitulé des charges | C4: 42552 | D4: 42553 | E4: 42554 | F4: 42555 | G4: 42556 | H4: 42557 | I4: 42558 | J4: 42559 | K4: 42560 | L4: 42561 | M4: 42562 | N4: 42563 | O4: 42564 | P4: 42565 | Q4: 42566 | R4: 42567 | S4: 42568 | T4: 42569 | U4: 42570 | V4: 42571 | W4: 42572 | X4: 42573 | Y4: 42574 | Z4: 42575 | AA4: 42576 | AB4: 42577 | AC4: 42578 | AD4: 42579 | AE4: 42580 | AF4: 42581 | AG4: 42582 | AH4: Total | AI4: Budget | AJ4: Delta budget
B5: capitaine | M5: 100 | Q5: 150 | T5: 300 | AH5: =SUM(C5:AG5) -> 550 | AI5: ='Budget 2016'!C3 -> 500 | AJ5: =AI5-AH5 -> -50
B6: jérôme | AA6: 400 | AF6: 0 | AH6: =SUM(C6:AG6) -> 400 | AI6: ='Budget 2016'!C4 -> 800 | AJ6: =AI6-AH6 -> 400
B7: dani | AA7: 400 | AF7: 0 | AH7: =SUM(C7:AG7) -> 400 | AI7: ='Budget 2016'!C5 -> 800 | AJ7: =AI7-AH7 -> 400
B8: guide advanced d'appoint | C8: 15 | E8: 15 | F8: 30 | G8: 30 | H8: 50 | I8: 30 | J8: 60 | L8: 10 | S8: 15 | AA8: 15 | AF8: 0 | AG8: 15 | AH8: =SUM(C8:AG8) -> 285 | AI8: ='Budget 2016'!C6 -> 375 | AJ8: =AI8-AH8 -> 90
B9: instructeur | D9: 15 | T9: 100 | AF9: 0 | AH9: =SUM(C9:AG9) -> 115 | AI9: ='Budget 2016'!C7 -> 750 | AJ9: =AI9-AH9 -> 635
B10: gardiennage bateau | Q10: 50 | W10: 100 | AH10: =SUM(C10:AG10) -> 150 | AI10: ='Budget 2016'!C8 -> 130 | AJ10: =AI10-AH10 -> -20
B11: marin | M11: 50 | Q11: 200 | T11: 100 | X11: 15 | AE11: 20 | AH11: =SUM(C11:AG11) -> 385 | AI11: ='Budget 2016'!C9 -> 500 | AJ11: =AI11-AH11 -> 115
B12: secrétaire | AA12: 300 | AF12: 0 | AH12: =SUM(C12:AG12) -> 300 | AI12: ='Budget 2016'!C10 -> 600 | AJ12: =AI12-AH12 -> 300
B13: Sous total charge personnel | C13: =SUM(C5:C12) -> 15 | D13: =SUM(D5:D12) -> 15 | E13: =SUM(E5:E12) -> 15 | F13: =SUM(F5:F12) -> 30 | G13: =SUM(G5:G12) -> 30 | H13: =SUM(H5:H12) -> 50 | I13: =SUM(I5:I12) -> 30 | J13: =SUM(J5:J12) -> 60 | ... AG13: =SUM(AG5:AG12) -> 15 | AH13: =SUM(C13:AG13) -> 2585 | AI13: =SUM(AI5:AI12) -> 4455 | AJ13: =SUM(AJ5:AJ12) -> 1870
B15: autorisation municipale | AH15: =SUM(C15:AG15) -> 0 | AI15: ='Budget 2016'!C14 -> 25 | AJ15: =AI15-AH15 -> 25
B16: camionette pour les bouteilles | F16: 40 | G16: 7 | O16: 15 | R16: 1 | W16: 45 | AA16: 100 | AB16: 40 | AH16: =SUM(C16:AG16) -> 248 | AI16: ='Budget 2016'!C15 -> 182 | AJ16: =AI16-AH16 -> -66
B17: commissions agence par plongeur | O17: 20 | R17: 10 | AD17: 10 | AH17: =SUM(C17:AG17) -> 40 | AI17: ='Budget 2016'!C16 -> 0 | AJ17: =AI17-AH17 -> -40
B18: comptable | AH18: =SUM(C18:AG18) -> 0 | AI18: ='Budget 2016'!C17 -> 90 | AJ18: =AI18-AH18 -> 90
B19: Coût pédagogique cours PADI | D19: 59.25 | G19: 217.25 | K19: 57 | P19: 39.5 | R19: 394.5 | W19: 78.9 | AC19: 355 | AF19: 0 | AH19: =SUM(C19:AG19) -> 1201.4 | AI19: ='Budget 2016'!C18 -> 667.25 | AJ19: =AI19-AH19 -> -534.15
B20: eau | AE20: 1.25 | AH20: =SUM(C20:AG20) -> 1.25 | AI20: ='Budget 2016'!C19 -> 10 | AJ20: =AI20-AH20 -> 8.75
B21: électricité | T21: 35 | AH21: =SUM(C21:AG21) -> 35 | AI21: ='Budget 2016'!C20 -> 130 | AJ21: =AI21-AH21 -> 95
B22: essence bateau | D22: 35 | E22: 45 | G22: 35 | H22: 35 | I22: 35 | J22: 35 | K22: 53 | L22: 35 | N22: 35 | Q22: 20 | S22: 70 | V22: 35 | W22: 53 | X22: 35 | Y22: 35 | Z22: 45 | AB22: 35 | AC22: 53 | AD22: 35 | AE22: 35 | AG22: 35 | AH22: =SUM(C22:AG22) -> 829 | AI22: ='Budget 2016'!C21 -> 1170 | AJ22: =AI22-AH22 -> 341
B23: impôts | AH23: =SUM(C23:AG23) -> 0 | AI23: ='Budget 2016'!C22 -> 170 | AJ23: =AI23-AH23 -> 170
B24: internet | AH24: =SUM(C24:AG24) -> 0 | AI24: ='Budget 2016'!C23 -> 40 | AJ24: =AI24-AH24 -> 40
B25: Loyer du local | F25: 450 | W25: 594 | AH25: =SUM(C25:AG25) -> 1044 | AI25: ='Budget 2016'!C24 -> 450 | AJ25: =AI25-AH25 -> -594
B26: Nourriture clients | C26: 10 | D26: 25 | E26: 15 | F26: 6 | G26: 20 | H26: 19.7 | I26: 18 | J26: 35 | K26: 16 | L26: 17 | N26: 17 | P26: 11 | Q26: 5 | R26: 17 | S26: 22.45 | V26: 11 | W26: 11.09 | X26: 11 | Y26: 20.5 | Z26: 9.79 | AA26: 15 | AB26: 9.53 | AC26: 7 | AD26: 15 | AE26: 23.89 | AG26: 16 | AH26: =SUM(C26:AG26) -> 403.95 | AI26: ='Budget 2016'!C25 -> 600 | AJ26: =AI26-AH26 -> 196.05
B27: pot de vin marine | D27: 20 | E27: 20 | G27: 20 | H27: 20 | I27: 20 | J27: 20 | K27: 20 | L27: 20 | N27: 20 | R27: 20 | S27: 20 | V27: 20 | W27: 20 | X27: 20 | Y27: 20 | Z27: 20 | AB27: 20 | AC27: 20 | AD27: 20 | AE27: 20 | AG27: 20 | AH27: =SUM(C27:AG27) -> 420 | AI27: ='Budget 2016'!C26 -> 520 | AJ27: =AI27-AH27 -> 100
B28: zarpe (taxe portuaire) | D28: 5 | E28: 5 | G28: 5 | H28: 5 | I28: 5 | J28: 5 | K28: 5 | L28: 5 | N28: 5 | R28: 5 | S28: 5 | V28: 5 | W28: 5 | X28: 5 | Y28: 5 | Z28: 5 | AB28: 5 | AC28: 5 | AD28: 5 | AE28: 5 | AG28: 5 | AH28: =SUM(C28:AG28) -> 105 | AI28: ='Budget 2016'!C28 -> 23.833333 | AJ28: =AI28-AH28 -> -81.166667
B29: Fournitures | C29: 10 | D29: 83.5 | E29: 92 | F29: 48.4 | G29: 25.15 | H29: 14 | J29: 12.25 | K29: 2 | O29: 6 | P29: 4 | Q29: 16 | R29: 3.57 | U29: 38 | W29: 2.15 | Z29: 14.65 | AA29: 20 | AC29: 5 | AF29: 10 | AH29: =SUM(C29:AG29) -> 406.67 | AI29: 0 | AJ29: =AI29-AH29 -> -406.67
B30: Matériel | C30: 80 | F30: 455 | O30: 20 | S30: 74 | AB30: 10 | AF30: 48.75 | AH30: =SUM(C30:AG30) -> 687.75 | AI30: 0 | AJ30: =AI30-AH30 -> -687.75
B31: Location bateau | AD31: 460 | AE31: 440 | AH31: =SUM(C31:AG31) -> 900 | AI31: 0 | AJ31: =AI31-AH31 -> -900
B32: Location Tank | AE32: =4*5 -> 20 | AF32: =4*5 -> 20 | AG32: =4*5 -> 20 | AH32: =SUM(C32:AG32) -> 60 | AI32: 0 | AJ32: =AI32-AH32 -> -60
B33: location BCD | AE33: 13 | AH33: =SUM(C33:AG33) -> 13 | AI33: 0 | AJ33: =AI33-AH33 -> -13
B34: location équipement complêt | AH34: =SUM(C34:AG34) -> 0 | AI34: 0 | AJ34: =AI34-AH34 -> 0
B35: Paiement transfert client | AH35: =SUM(C35:AG35) -> 0 | AI35: 0 | AJ35: =AI35-AH35 -> 0
B36: site internet | Q36: 39.2 | AH36: =SUM(C36:AG36) -> 39.2 | AI36: ='Budget 2016'!C27 -> 6 | AJ36: =AI36-AH36 -> -33.2
B37: Panga | C37: 50 | F37: 50 | P37: 50 | Q37: 50 | AA37: 70 | AH37: =SUM(C37:AG37) -> 270 | AI37: 1 | AJ37: =AI37-AH37 -> -269
B38: Sous total charge de fonctionnement | C38: =SUM(C15:C36) -> 100 | D38: =SUM(D15:D36) -> 227.75 | E38: =SUM(E15:E36) -> 177 | F38: =SUM(F15:F36) -> 999.4 | G38: =SUM(G15:G36) -> 329.4 | H38: =SUM(H15:H36) -> 93.7 | I38: =SUM(I15:I36) -> 78 | J38: =SUM(J15:J36) -> 107.25 | ... AG38: =SUM(AG15:AG36) -> 96 | AH38: =SUM(C38:AG38) -> 6434.22 | AI38: =SUM(AI15:AI36) -> 4084.0833 | AJ38: =AI38-AH38 -> -2350.1367
B39: Total charge journalière | C39: =C13+C38 -> 115 | D39: =D13+D38 -> 242.75 | E39: =E13+E38 -> 192 | F39: =F13+F38 -> 1029.4 | G39: =G13+G38 -> 359.4 | H39: =H13+H38 -> 143.7 | I39: =I13+I38 -> 108 | J39: =J13+J38 -> 167.25 | ... AJ39: =AJ13+AJ38 -> -480.13667
A42: Prescripteur | B42: Produit | C42: =C4 -> 42552 | D42: =D4 -> 42553 | E42: =E4 -> 42554 | F42: =F4 -> 42555 | G42: =G4 -> 42556 | H42: =H4 -> 42557 | I42: =I4 -> 42558 | J42: =J4 -> 42559 | ... AG42: =AG4 -> 42582 | AH42: Total | AI42: # élèves | AJ42: # plongées | AK42: # unitaire | AM42: # de plongée réelle
A43: Itay | B43: cours Advanced | AH43: =SUM(C43:AG43) -> 0 | AI43: =AH43/200 -> 0 | AJ43: 5 | AK43: =IF(AH43=0,"0",(AH43/AI43)/AJ43) -> 0 | AM43: =AI43*AJ43 -> 0
B44: cours Open Water | AH44: =SUM(C44:AG44) -> 0 | AI44: =AH44/300 -> 0 | AJ44: 4 | AK44: =IF(AH44=0,"0",(AH44/AI44)/AJ44) -> 0 | AM44: =AI44*AJ44 -> 0
...

Sheet Aout 2016
B1: Mois de : | C1: août
B2: Suivi mensuel
B4: intitulé des charges | C4: 42583 | D4: 42584 | E4: 42585 | F4: 42586 | G4: 42587 | H4: 42588 | I4: 42589 | J4: 42590 | K4: 42591 | L4: 42592 | M4: 42593 | N4: 42594 | O4: 42595 | P4: 42596 | Q4: 42597 | R4: 42598 | S4: 42599 | T4: 42600 | U4: 42601 | V4: 42602 | W4: 42603 | X4: 42604 | Y4: 42605 | Z4: 42606 | AA4: 42607 | AB4: 42608 | AC4: 42609 | AD4: 42610 | AE4: 42611 | AF4: 42612 | AG4: 42613 | AH4: Total | AI4: Budget | AJ4: Delta budget
B5: capitaine | D5: 150 | AH5: =SUM(C5:AG5) -> 150 | AI5: ='Budget 2016'!C3 -> 500 | AJ5: =AI5-AH5 -> 350
B6: jérôme | AH6: =SUM(C6:AG6) -> 0 | AI6: ='Budget 2016'!C4 -> 800 | AJ6: =AI6-AH6 -> 800
B7: dani | AH7: =SUM(C7:AG7) -> 0 | AI7: ='Budget 2016'!C5 -> 800 | AJ7: =AI7-AH7 -> 800
B8: guide advanced d'appoint | E8: 15 | G8: 15 | M8: 15 | AH8: =SUM(C8:AG8) -> 45 | AI8: ='Budget 2016'!C6 -> 375 | AJ8: =AI8-AH8 -> 330
B9: instructeur | D9: 300 | F9: 90 | AH9: =SUM(C9:AG9) -> 390 | AI9: ='Budget 2016'!C7 -> 750 | AJ9: =AI9-AH9 -> 360
B10: gardiennage bateau | C10: 80 | AH10: =SUM(C10:AG10) -> 80 | AI10: ='Budget 2016'!C8 -> 130 | AJ10: =AI10-AH10 -> 50
B11: marin | D11: 130 | L11: 20 | AH11: =SUM(C11:AG11) -> 150 | AI11: ='Budget 2016'!C9 -> 500 | AJ11: =AI11-AH11 -> 350
B12: secrétaire | AH12: =SUM(C12:AG12) -> 0 | AI12: ='Budget 2016'!C10 -> 600 | AJ12: =AI12-AH12 -> 600
B13: Sous total charge personnel | C13: =SUM(C5:C12) -> 80 | D13: =SUM(D5:D12) -> 580 | E13: =SUM(E5:E12) -> 15 | F13: =SUM(F5:F12) -> 90 | G13: =SUM(G5:G12) -> 15 | H13: =SUM(H5:H12) -> 0 | I13: =SUM(I5:I12) -> 0 | J13: =SUM(J5:J12) -> 0 | ... AG13: =SUM(AG5:AG12) -> 0 | AH13: =SUM(C13:AG13) -> 815 | AI13: =SUM(AI5:AI12) -> 4455 | AJ13: =SUM(AJ5:AJ12) -> 3640
B15: autorisation municipale | AH15: =SUM(C15:AG15) -> 0 | AI15: ='Budget 2016'!C14 -> 25 | AJ15: =AI15-AH15 -> 25
B16: camionette pour les bouteilles | L16: 20 | AH16: =SUM(C16:AG16) -> 20 | AI16: ='Budget 2016'!C15 -> 182 | AJ16: =AI16-AH16 -> 162
B17: commissions agence par plongeur | AH17: =SUM(C17:AG17) -> 0 | AI17: ='Budget 2016'!C16 -> 0 | AJ17: =AI17-AH17 -> 0
B18: comptable | AH18: =SUM(C18:AG18) -> 0 | AI18: ='Budget 2016'!C17 -> 90 | AJ18: =AI18-AH18 -> 90
B19: Coût pédagogique cours PADI | AH19: =SUM(C19:AG19) -> 0 | AI19: ='Budget 2016'!C18 -> 667.25 | AJ19: =AI19-AH19 -> 667.25
B20: eau | H20: 1.25 | AH20: =SUM(C20:AG20) -> 1.25 | AI20: ='Budget 2016'!C19 -> 10 | AJ20: =AI20-AH20 -> 8.75
B21: électricité | AH21: =SUM(C21:AG21) -> 0 | AI21: ='Budget 2016'!C20 -> 130 | AJ21: =AI21-AH21 -> 130
B22: essence bateau | C22: 53 | D22: 35 | E22: =35+18 -> 53 | F22: 35 | G22: 35 | H22: 53 | M22: 35 | N22: 105 | O22: 70 | AH22: =SUM(C22:AG22) -> 474 | AI22: ='Budget 2016'!C21 -> 1170 | AJ22: =AI22-AH22 -> 696
B23: impôts | AH23: =SUM(C23:AG23) -> 0 | AI23: ='Budget 2016'!C22 -> 170 | AJ23: =AI23-AH23 -> 170
B24: internet | AH24: =SUM(C24:AG24) -> 0 | AI24: ='Budget 2016'!C23 -> 40 | AJ24: =AI24-AH24 -> 40
B25: Loyer du local | D25: 450 | AH25: =SUM(C25:AG25) -> 450 | AI25: ='Budget 2016'!C24 -> 450 | AJ25: =AI25-AH25 -> 0
B26: Nourriture clients | C26: 6.5 | D26: 20 | E26: 17 | F26: 4.53 | G26: 16.25 | H26: 22 | O26: 22 | AH26: =SUM(C26:AG26) -> 108.28 | AI26: ='Budget 2016'!C25 -> 600 | AJ26: =AI26-AH26 -> 491.72
B27: pot de vin marine | C27: 20 | D27: 20 | E27: 20 | F27: 20 | G27: 20 | H27: 20 | M27: 20 | N27: 20 | O27: 20 | AH27: =SUM(C27:AG27) -> 180 | AI27: ='Budget 2016'!C26 -> 520 | AJ27: =AI27-AH27 -> 340
B28: zarpe (taxe portuaire) | C28: 5 | D28: 5 | E28: 5 | F28: 5 | G28: 5 | H28: 5 | M28: 5 | N28: 5 | O28: 5 | AH28: =SUM(C28:AG28) -> 45 | AI28: ='Budget 2016'!C28 -> 23.833333 | AJ28: =AI28-AH28 -> -21.166667
B29: Fournitures | C29: 5 | D29: 15.5 | E29: 1.25 | F29: 26.95 | H29: 1 | K29: 61.9 | N29: 3 | AH29: =SUM(C29:AG29) -> 114.6 | AI29: 0 | AJ29: =AI29-AH29 -> -114.6
B30: Matériel | D30: 100 | F30: 20 | K30: 25 | L30: 40 | N30: 90 | O30: 50 | AH30: =SUM(C30:AG30) -> 325 | AI30: 0 | AJ30: =AI30-AH30 -> -325
B31: Location bateau | AH31: =SUM(C31:AG31) -> 0 | AI31: 0 | AJ31: =AI31-AH31 -> 0
B32: Location Tank | G32: 15 | H32: 30 | O32: 10 | AH32: =SUM(C32:AG32) -> 55 | AI32: 0 | AJ32: =AI32-AH32 -> -55
B33: location BCD | AH33: =SUM(C33:AG33) -> 0 | AI33: 0 | AJ33: =AI33-AH33 -> 0
B34: location équipement complêt | G34: 60 | O34: 24 | AH34: =SUM(C34:AG34) -> 84 | AI34: 0 | AJ34: =AI34-AH34 -> -84
B35: Paiement transfert client | F35: =120*4 -> 480 | G35: 210 | H35: 240 | AH35: =SUM(C35:AG35) -> 930 | AI35: 0 | AJ35: =AI35-AH35 -> -930
B36: site internet | AH36: =SUM(C36:AG36) -> 0 | AI36: ='Budget 2016'!C27 -> 6 | AJ36: =AI36-AH36 -> 6
B37: Panga | AH37: =SUM(C37:AG37) -> 0 | AI37: 1 | AJ37: =AI37-AH37 -> 1
B38: Sous total charge de fonctionnement | C38: =SUM(C15:C36) -> 89.5 | D38: =SUM(D15:D37) -> 645.5 | E38: =SUM(E15:E36) -> 96.25 | F38: =SUM(F15:F36) -> 591.48 | G38: =SUM(G15:G36) -> 361.25 | H38: =SUM(H15:H36) -> 372.25 | I38: =SUM(I15:I36) -> 0 | J38: =SUM(J15:J36) -> 0 | K38: =SUM(K15:K36) -> 86.9 | L38: =SUM(L15:L36) -> 60 | ... AG38: =SUM(AG15:AG36) -> 0 | AH38: =SUM(C38:AG38) -> 2787.13 | AI38: =SUM(AI15:AI36) -> 4084.0833 | AJ38: =AI38-AH38 -> 1296.9533
B39: Total charge journalière | C39: =C13+C38 -> 169.5 | D39: =D13+D38 -> 1225.5 | E39: =E13+E38 -> 111.25 | F39: =F13+F38 -> 681.48 | G39: =G13+G38 -> 376.25 | H39: =H13+H38 -> 372.25 | I39: =I13+I38 -> 0 | J39: =J13+J38 -> 0 | ... AJ39: =AJ13+AJ38 -> 4936.9533
A42: Prescripteur | B42: Produit | C42: =C4 -> 42583 | D42: =D4 -> 42584 | E42: =E4 -> 42585 | F42: =F4 -> 42586 | G42: =G4 -> 42587 | H42: =H4 -> 42588 | I42: =I4 -> 42589 | J42: =J4 -> 42590 | ... AG42: =AG4 -> 42613 | AH42: Total | AI42: # élèves | AJ42: # plongées | AK42: # unitaire | AM42: # de plongée réelle
A43: Itay | B43: cours Advanced | AH43: =SUM(C43:AG43) -> 0 | AI43: =AH43/200 -> 0 | AJ43: 5 | AK43: =IF(AH43=0,"0",(AH43/AI43)/AJ43) -> 0 | AM43: =AI43*AJ43 -> 0
B44: cours Open Water | AH44: =SUM(C44:AG44) -> 0 | AI44: =AH44/300 -> 0 | AJ44: 4 | AK44: =IF(AH44=0,"0",(AH44/AI44)/AJ44) -> 0 | AM44: =AI44*AJ44 -> 0
...

Sheet Sept 2016
B1: Mois de : | C1: Septembre
B2: Suivi mensuel
B4: intitulé des charges | C4: 42614 | D4: 42615 | E4: 42616 | F4: 42617 | G4: 42618 | H4: 42619 | I4: 42620 | J4: 42621 | K4: 42622 | L4: 42623 | M4: 42624 | N4: 42625 | O4: 42626 | P4: 42627 | Q4: 42628 | R4: 42629 | S4: 42630 | T4: 42631 | U4: 42632 | V4: 42633 | W4: 42634 | X4: 42635 | Y4: 42636 | Z4: 42637 | AA4: 42638 | AB4: 42639 | AC4: 42640 | AD4: 42641 | AE4: 42642 | AF4: 42643 | AH4: Total | AI4: Budget | AJ4: Delta budget
B5: capitaine | AH5: =SUM(C5:AG5) -> 0 | AI5: ='Budget 2016'!C3 -> 500 | AJ5: =AI5-AH5 -> 500
B6: jérôme | AH6: =SUM(C6:AG6) -> 0 | AI6: ='Budget 2016'!C4 -> 800 | AJ6: =AI6-AH6 -> 800
B7: dani | AH7: =SUM(C7:AG7) -> 0 | AI7: ='Budget 2016'!C5 -> 800 | AJ7: =AI7-AH7 -> 800
B8: guide advanced d'appoint | AH8: =SUM(C8:AG8) -> 0 | AI8: ='Budget 2016'!C6 -> 375 | AJ8: =AI8-AH8 -> 375
B9: instructeur | AH9: =SUM(C9:AG9) -> 0 | AI9: ='Budget 2016'!C7 -> 750 | AJ9: =AI9-AH9 -> 750
B10: gardiennage bateau | AH10: =SUM(C10:AG10) -> 0 | AI10: ='Budget 2016'!C8 -> 130 | AJ10: =AI10-AH10 -> 130
B11: marin | AH11: =SUM(C11:AG11) -> 0 | AI11: ='Budget 2016'!C9 -> 500 | AJ11: =AI11-AH11 -> 500
B12: secrétaire | AH12: =SUM(C12:AG12) -> 0 | AI12: ='Budget 2016'!C10 -> 600 | AJ12: =AI12-AH12 -> 600
B13: Sous total charge personnel | C13: =SUM(C5:C12) -> 0 | D13: =SUM(D5:D12) -> 0 | E13: =SUM(E5:E12) -> 0 | F13: =SUM(F5:F12) -> 0 | G13: =SUM(G5:G12) -> 0 | H13: =SUM(H5:H12) -> 0 | I13: =SUM(I5:I12) -> 0 | J13: =SUM(J5:J12) -> 0 | ... AG13: =SUM(AG5:AG12) -> 0 | AH13: =SUM(C13:AG13) -> 0 | AI13: =SUM(AI5:AI12) -> 4455 | AJ13: =SUM(AJ5:AJ12) -> 4455
B15: autorisation municipale | AH15: =SUM(C15:AG15) -> 0 | AI15: ='Budget 2016'!C14 -> 25 | AJ15: =AI15-AH15 -> 25
B16: camionette pour les bouteilles | AH16: =SUM(C16:AG16) -> 0 | AI16: ='Budget 2016'!C15 -> 182 | AJ16: =AI16-AH16 -> 182
B17: commissions agence par plongeur | AH17: =SUM(C17:AG17) -> 0 | AI17: ='Budget 2016'!C16 -> 0 | AJ17: =AI17-AH17 -> 0
B18: comptable | AH18: =SUM(C18:AG18) -> 0 | AI18: ='Budget 2016'!C17 -> 90 | AJ18: =AI18-AH18 -> 90
B19: Coût pédagogique cours PADI | AH19: =SUM(C19:AG19) -> 0 | AI19: ='Budget 2016'!C18 -> 667.25 | AJ19: =AI19-AH19 -> 667.25
B20: eau | AH20: =SUM(C20:AG20) -> 0 | AI20: ='Budget 2016'!C19 -> 10 | AJ20: =AI20-AH20 -> 10
B21: électricité | AH21: =SUM(C21:AG21) -> 0 | AI21: ='Budget 2016'!C20 -> 130 | AJ21: =AI21-AH21 -> 130
B22: essence bateau | AH22: =SUM(C22:AG22) -> 0 | AI22: ='Budget 2016'!C21 -> 1170 | AJ22: =AI22-AH22 -> 1170
B23: impôts | AH23: =SUM(C23:AG23) -> 0 | AI23: ='Budget 2016'!C22 -> 170 | AJ23: =AI23-AH23 -> 170
B24: internet | AH24: =SUM(C24:AG24) -> 0 | AI24: ='Budget 2016'!C23 -> 40 | AJ24: =AI24-AH24 -> 40
B25: Loyer du local | AH25: =SUM(C25:AG25) -> 0 | AI25: ='Budget 2016'!C24 -> 450 | AJ25: =AI25-AH25 -> 450
B26: Nourriture clients | AH26: =SUM(C26:AG26) -> 0 | AI26: ='Budget 2016'!C25 -> 600 | AJ26: =AI26-AH26 -> 600
B27: pot de vin marine | AH27: =SUM(C27:AG27) -> 0 | AI27: ='Budget 2016'!C26 -> 520 | AJ27: =AI27-AH27 -> 520
B28: zarpe (taxe portuaire) | AH28: =SUM(C28:AG28) -> 0 | AI28: ='Budget 2016'!C28 -> 23.833333 | AJ28: =AI28-AH28 -> 23.833333
B29: Fournitures | AH29: =SUM(C29:AG29) -> 0 | AI29: 0 | AJ29: =AI29-AH29 -> 0
B30: Matériel | AH30: =SUM(C30:AG30) -> 0 | AI30: 0 | AJ30: =AI30-AH30 -> 0
B31: Location bateau | AH31: =SUM(C31:AG31) -> 0 | AI31: 0 | AJ31: =AI31-AH31 -> 0
B32: Location Tank | AH32: =SUM(C32:AG32) -> 0 | AI32: 0 | AJ32: =AI32-AH32 -> 0
B33: location BCD | AH33: =SUM(C33:AG33) -> 0 | AI33: 0 | AJ33: =AI33-AH33 -> 0
B34: location équipement complêt | AH34: =SUM(C34:AG34) -> 0 | AI34: 0 | AJ34: =AI34-AH34 -> 0
B35: Paiement transfert client | AH35: =SUM(C35:AG35) -> 0 | AI35: 0 | AJ35: =AI35-AH35 -> 0
B36: site internet | AH36: =SUM(C36:AG36) -> 0 | AI36: ='Budget 2016'!C27 -> 6 | AJ36: =AI36-AH36 -> 6
B37: Panga | AH37: =SUM(C37:AG37) -> 0 | AI37: 1 | AJ37: =AI37-AH37 -> 1
B38: Sous total charge de fonctionnement | C38: =SUM(C15:C36) -> 0 | D38: =SUM(D15:D36) -> 0 | E38: =SUM(E15:E36) -> 0 | F38: =SUM(F15:F36) -> 0 | G38: =SUM(G15:G36) -> 0 | H38: =SUM(H15:H36) -> 0 | I38: =SUM(I15:I36) -> 0 | J38: =SUM(J15:J36) -> 0 | ... AG38: =SUM(AG15:AG36) -> 0 | AH38: =SUM(C38:AG38) -> 0 | AI38: =SUM(AI15:AI36) -> 4084.0833 | AJ38: =AI38-AH38 -> 4084.0833
B39: Total charge journalière | C39: =C13+C38 -> 0 | D39: =D13+D38 -> 0 | E39: =E13+E38 -> 0 | F39: =F13+F38 -> 0 | G39: =G13+G38 -> 0 | H39: =H13+H38 -> 0 | I39: =I13+I38 -> 0 | J39: =J13+J38 -> 0 | ... AJ39: =AJ13+AJ38 -> 8539.0833
A42: Prescripteur | B42: Produit | C42: =C4 -> 42614 | D42: =D4 -> 42615 | E42: =E4 -> 42616 | F42: =F4 -> 42617 | G42: =G4 -> 42618 | H42: =H4 -> 42619 | I42: =I4 -> 42620 | J42: =J4 -> 42621 | ... AF42: =AF4 -> 42643 | AH42: Total | AI42: # élèves | AJ42: # plongées | AK42: # unitaire | AM42: # de plongée réelle
A43: Itay | B43: cours Advanced | AH43: =SUM(C43:AG43) -> 0 | AI43: =AH43/200 -> 0 | AJ43: 5 | AK43: =IF(AH43=0,"0",(AH43/AI43)/AJ43) -> 0 | AM43: =AI43*AJ43 -> 0
B44: cours Open Water | AH44: =SUM(C44:AG44) -> 0 | AI44: =AH44/300 -> 0 | AJ44: 4 | AK44: =IF(AH44=0,"0",(AH44/AI44)/AJ44) -> 0 | AM44: =AI44*AJ44 -> 0
...

Sheet Coût sortie bateau
C3: Coût fixe unitaire d'une sortie bâteau
C5: Essence bateau | E5: 75 | G5: 9 | H5: =E12/G5 -> 19.518519
C6: Pôt de vin | E6: 25
C7: Salaire Capt+Marin | E7: 33
C8: Nourriture | E8: 15
C9: Tank | E9: 1
C10: Loc matériel | E10: 0
C11: Diver master | E11: =800/30 -> 26.666667
D12: S/Total | E12: =SUM(E5:E11) -> 175.66667
C14: Prix suivant le nombre d'élève
B15: Nbre élève | C15: 1 | D15: 2 | E15: 3 | F15: 4 | G15: 5 | H15: 6 | I15: 7 | J15: 8 | K15: 9 | L15: 10 | M15: 11
B16: Coût par élève | C16: =$E12/C15 -> 175.66667 | D16: =$E12/D15 -> 87.833333 | E16: =$E12/E15 -> 58.555556 | F16: =$E12/F15 -> 43.916667 | G16: =$E12/G15 -> 35.133333 | H16: =$E12/H15 -> 29.277778 | I16: =$E12/I15 -> 25.095238 | J16: =$E12/J15 -> 21.958333 | ... M16: =$E12/M15 -> 15.969697
B19: transport | C19: =7*C15 -> 7 | D19: =7*D15 -> 14 | E19: =7*E15 -> 21 | F19: =7*F15 -> 28 | G19: =7*G15 -> 35 | H19: =7*H15 -> 42 | I19: =7*I15 -> 49 | J19: =7*J15 -> 56 | ... M19: =7*M15 -> 77
B20: Coût par élève | C20: =($E12+$C19)/C15 -> 182.66667 | D20: =($E12+$C19)/D15 -> 91.333333 | E20: =($E12+$C19)/E15 -> 60.888889 | F20: =($E12+$C19)/F15 -> 45.666667 | G20: =($E12+$C19)/G15 -> 36.533333 | H20: =($E12+$C19)/H15 -> 30.444444 | I20: =($E12+$C19)/I15 -> 26.095238 | J20: =($E12+$C19)/J15 -> 22.833333 | ... M20: =($E12+$C19)/M15 -> 16.606061
