Workbook
Name montant_du_2eme?: Sanctions!$E$3

Sheet Sanctions
C1: Anti Sportif | F1: Abusif
B2: 1 er…. | C2: =INDEX($C$10:$M$164,MATCH($E2,$L$10:$L$164,0),1) -> Breny | D2: =INDEX($C$10:$M$164,MATCH($E2,$L$10:$L$164,0),2) -> yann | E2: =LARGE($L$10:$L$164,1) -> 50.0001 | F2: =INDEX($C$10:$M$164,MATCH($H2,$M$10:$M$164,0),1) -> Herbert | G2: =INDEX($C$10:$M$164,MATCH($H2,$M$10:$M$164,0),2) -> Florian | H2: =LARGE($M$10:$M$164,1) -> 30.00038 | J2: Partie masquée et protégée
J3: Ne pas modifier ou couper
B4: 2 ème | C4: =INDEX($C$10:$M$164,MATCH($E4,$L$10:$L$164,0),1) -> Commien | D4: =INDEX($C$10:$M$164,MATCH($E4,$L$10:$L$164,0),2) -> Patrick | E4: =LARGE($L$10:$L$164,2) -> 45.00024 | F4: =INDEX($C$10:$M$164,MATCH($H4,$M$10:$M$164,0),1) -> Demazure | G4: =INDEX($C$10:$M$164,MATCH($H4,$M$10:$M$164,0),2) -> Olivier | H4: =LARGE($M$10:$M$164,2) -> 30.00031
A6: Excellence | B6: =COUNTIF(B10:B165,"excellence") -> 13 | E6: =SUM(E10:E164) -> 520 | F6: =SUM(F10:F164) -> 90 | G6: =SUM(G10:G164) -> 0 | H6: =SUM(E6:G6) -> 610
A7: Promotion | B7: =COUNTIF(B10:B164,"promotion 1ere") -> 25 | E7: =COUNTA(E10:E164) -> 32 | F7: =COUNTA(F10:F164) -> 6 | G7: =COUNTA(G10:G164) -> 0
A9: DATE | B9: Catégories | C9: NOMS | D9: PRENOMS | E9: CARTONS | F9: Cartons abusifs | G9: Cartons rouges | H9: vs CLUBS
A10: 41155 | B10: excellence | C10: Breny | D10: yann | E10: 15 | H10: RIBEMONT | L10: =IF(SUMPRODUCT(N(CONCATENATE($C$10:$C10,$D$10:$D10)=$C10&$D10))>1,"",SUMPRODUCT((CONCATENATE($C$10:$C$164,$D$10:$D$164)=$C10&$D10)*(E$10:E$164))+(ROW()/10^5)) -> 50.0001 | M10: =IF(SUMPRODUCT(N(CONCATENATE($C$10:$C10,$D$10:$D10)=$C10&$D10))>1,"",SUMPRODUCT((CONCATENATE($C$10:$C$164,$D$10:$D$164)=$C10&$D10)*(F$10:F$164))+(ROW()/10^5)) -> 0.0001
A11: 41155 | B11: excellence | C11: Le Quellec | D11: jean marie | E11: 15 | H11: RIBEMONT | L11: =IF(SUMPRODUCT(N(CONCATENATE($C$10:$C11,$D$10:$D11)=$C11&$D11))>1,"",SUMPRODUCT((CONCATENATE($C$10:$C$164,$D$10:$D$164)=$C11&$D11)*(E$10:E$164))+(ROW()/10^5)) -> 35.00011 | M11: =IF(SUMPRODUCT(N(CONCATENATE($C$10:$C11,$D$10:$D11)=$C11&$D11))>1,"",SUMPRODUCT((CONCATENATE($C$10:$C$164,$D$10:$D$164)=$C11&$D11)*(F$10:F$164))+(ROW()/10^5)) -> 0.00011
A12: 41155 | B12: promotion 1ere | C12: Demay | D12: Yannick | E12: 15 | H12: CROUY CUFFIES | L12: =IF(SUMPRODUCT(N(CONCATENATE($C$10:$C12,$D$10:$D12)=$C12&$D12))>1,"",SUMPRODUCT((CONCATENATE($C$10:$C$164,$D$10:$D$164)=$C12&$D12)*(E$10:E$164))+(ROW()/10^5)) -> 45.00012 | M12: =IF(SUMPRODUCT(N(CONCATENATE($C$10:$C12,$D$10:$D12)=$C12&$D12))>1,"",SUMPRODUCT((CONCATENATE($C$10:$C$164,$D$10:$D$164)=$C12&$D12)*(F$10:F$164))+(ROW()/10^5)) -> 0.00012
A13: 41155 | B13: excellence | C13: Le Vot | D13: Romuald | E13: 15 | H13: RIBEMONT | L13: =IF(SUMPRODUCT(N(CONCATENATE($C$10:$C13,$D$10:$D13)=$C13&$D13))>1,"",SUMPRODUCT((CONCATENATE($C$10:$C$164,$D$10:$D$164)=$C13&$D13)*(E$10:E$164))+(ROW()/10^5)) -> 15.00013 | M13: =IF(SUMPRODUCT(N(CONCATENATE($C$10:$C13,$D$10:$D13)=$C13&$D13))>1,"",SUMPRODUCT((CONCATENATE($C$10:$C$164,$D$10:$D$164)=$C13&$D13)*(F$10:F$164))+(ROW()/10^5)) -> 0.00013
A14: 41162 | B14: excellence | C14: Brossart | D14: maxime | E14: 15 | H14: BCV | L14: =IF(SUMPRODUCT(N(CONCATENATE($C$10:$C14,$D$10:$D14)=$C14&$D14))>1,"",SUMPRODUCT((CONCATENATE($C$10:$C$164,$D$10:$D$164)=$C14&$D14)*(E$10:E$164))+(ROW()/10^5)) -> 15.00014 | M14: =IF(SUMPRODUCT(N(CONCATENATE($C$10:$C14,$D$10:$D14)=$C14&$D14))>1,"",SUMPRODUCT((CONCATENATE($C$10:$C$164,$D$10:$D$164)=$C14&$D14)*(F$10:F$164))+(ROW()/10^5)) -> 0.00014
A15: 41162 | B15: excellence | C15: Postel | D15: Johann | E15: 15 | H15: BCV | L15: =IF(SUMPRODUCT(N(CONCATENATE($C$10:$C15,$D$10:$D15)=$C15&$D15))>1,"",SUMPRODUCT((CONCATENATE($C$10:$C$164,$D$10:$D$164)=$C15&$D15)*(E$10:E$164))+(ROW()/10^5)) -> 15.00015 | M15: =IF(SUMPRODUCT(N(CONCATENATE($C$10:$C15,$D$10:$D15)=$C15&$D15))>1,"",SUMPRODUCT((CONCATENATE($C$10:$C$164,$D$10:$D$164)=$C15&$D15)*(F$10:F$164))+(ROW()/10^5)) -> 0.00015
A16: 41162 | B16: promotion 1ere | C16: Dos Santos | D16: Joffrey | E16: 15 | H16: PREMONTRE | L16: =IF(SUMPRODUCT(N(CONCATENATE($C$10:$C16,$D$10:$D16)=$C16&$D16))>1,"",SUMPRODUCT((CONCATENATE($C$10:$C$164,$D$10:$D$164)=$C16&$D16)*(E$10:E$164))+(ROW()/10^5)) -> 30.00016 | M16: =IF(SUMPRODUCT(N(CONCATENATE($C$10:$C16,$D$10:$D16)=$C16&$D16))>1,"",SUMPRODUCT((CONCATENATE($C$10:$C$164,$D$10:$D$164)=$C16&$D16)*(F$10:F$164))+(ROW()/10^5)) -> 0.00016
A17: 41169 | B17: excellence | C17: Breny | D17: Yann | E17: 20 | H17: GAUCHY | L17: =IF(SUMPRODUCT(N(CONCATENATE($C$10:$C17,$D$10:$D17)=$C17&$D17))>1,"",SUMPRODUCT((CONCATENATE($C$10:$C$164,$D$10:$D$164)=$C17&$D17)*(E$10:E$164))+(ROW()/10^5)) | M17: =IF(SUMPRODUCT(N(CONCATENATE($C$10:$C17,$D$10:$D17)=$C17&$D17))>1,"",SUMPRODUCT((CONCATENATE($C$10:$C$164,$D$10:$D$164)=$C17&$D17)*(F$10:F$164))+(ROW()/10^5))
A18: 41169 | B18: excellence | C18: Le Quellec | D18: jean marie | E18: 20 | H18: GAUCHY | L18: =IF(SUMPRODUCT(N(CONCATENATE($C$10:$C18,$D$10:$D18)=$C18&$D18))>1,"",SUMPRODUCT((CONCATENATE($C$10:$C$164,$D$10:$D$164)=$C18&$D18)*(E$10:E$164))+(ROW()/10^5)) | M18: =IF(SUMPRODUCT(N(CONCATENATE($C$10:$C18,$D$10:$D18)=$C18&$D18))>1,"",SUMPRODUCT((CONCATENATE($C$10:$C$164,$D$10:$D$164)=$C18&$D18)*(F$10:F$164))+(ROW()/10^5))
A19: 41176 | B19: excellence | C19: Muller | D19: Dorian | E19: 15 | H19: GUIGNICOURT | L19: =IF(SUMPRODUCT(N(CONCATENATE($C$10:$C19,$D$10:$D19)=$C19&$D19))>1,"",SUMPRODUCT((CONCATENATE($C$10:$C$164,$D$10:$D$164)=$C19&$D19)*(E$10:E$164))+(ROW()/10^5)) -> 30.00019 | M19: =IF(SUMPRODUCT(N(CONCATENATE($C$10:$C19,$D$10:$D19)=$C19&$D19))>1,"",SUMPRODUCT((CONCATENATE($C$10:$C$164,$D$10:$D$164)=$C19&$D19)*(F$10:F$164))+(ROW()/10^5)) -> 0.00019
A20: 41176 | B20: excellence | C20: Godart | D20: Maxime | E20: 15 | H20: GUIGNICOURT | L20: =IF(SUMPRODUCT(N(CONCATENATE($C$10:$C20,$D$10:$D20)=$C20&$D20))>1,"",SUMPRODUCT((CONCATENATE($C$10:$C$164,$D$10:$D$164)=$C20&$D20)*(E$10:E$164))+(ROW()/10^5)) -> 30.0002 | M20: =IF(SUMPRODUCT(N(CONCATENATE($C$10:$C20,$D$10:$D20)=$C20&$D20))>1,"",SUMPRODUCT((CONCATENATE($C$10:$C$164,$D$10:$D$164)=$C20&$D20)*(F$10:F$164))+(ROW()/10^5)) -> 0.0002
A21: 41176 | B21: promotion 1ere | C21: Hanon | D21: Bastien | E21: 15 | H21: VALLEE AILETTE | L21: =IF(SUMPRODUCT(N(CONCATENATE($C$10:$C21,$D$10:$D21)=$C21&$D21))>1,"",SUMPRODUCT((CONCATENATE($C$10:$C$164,$D$10:$D$164)=$C21&$D21)*(E$10:E$164))+(ROW()/10^5)) -> 30.00021 | M21: =IF(SUMPRODUCT(N(CONCATENATE($C$10:$C21,$D$10:$D21)=$C21&$D21))>1,"",SUMPRODUCT((CONCATENATE($C$10:$C$164,$D$10:$D$164)=$C21&$D21)*(F$10:F$164))+(ROW()/10^5)) -> 30.00021
... A28: 41190 | B28: promotion 1ere | C28: Da Costa | D28: Raphael | E28: 15 | H28: AULNOIS sous LAON | L28: =IF(SUMPRODUCT(N(CONCATENATE($C$10:$C28,$D$10:$D28)=$C28&$D28))>1,"",SUMPRODUCT((CONCATENATE($C$10:$C$164,$D$10:$D$164)=$C28&$D28)*(E$10:E$164))+(ROW()/10^5)) -> 15.00028 | M28: =IF(SUMPRODUCT(N(CONCATENATE($C$10:$C28,$D$10:$D28)=$C28&$D28))>1,"",SUMPRODUCT((CONCATENATE($C$10:$C$164,$D$10:$D$164)=$C28&$D28)*(F$10:F$164))+(ROW()/10^5)) -> 0.00028
A29: 41204 | B29: promotion 1ere | C29: Hanon | D29: Bastien | F29: 15 | H29: ANIZY PINON | L29: =IF(SUMPRODUCT(N(CONCATENATE($C$10:$C29,$D$10:$D29)=$C29&$D29))>1,"",SUMPRODUCT((CONCATENATE($C$10:$C$164,$D$10:$D$164)=$C29&$D29)*(E$10:E$164))+(ROW()/10^5)) | M29: =IF(SUMPRODUCT(N(CONCATENATE($C$10:$C29,$D$10:$D29)=$C29&$D29))>1,"",SUMPRODUCT((CONCATENATE($C$10:$C$164,$D$10:$D$164)=$C29&$D29)*(F$10:F$164))+(ROW()/10^5))
A30: 41204 | B30: excellence | C30: Dos Santos | D30: Joffrey | E30: 15 | H30: BUIRONFOSSE | L30: =IF(SUMPRODUCT(N(CONCATENATE($C$10:$C30,$D$10:$D30)=$C30&$D30))>1,"",SUMPRODUCT((CONCATENATE($C$10:$C$164,$D$10:$D$164)=$C30&$D30)*(E$10:E$164))+(ROW()/10^5)) | M30: =IF(SUMPRODUCT(N(CONCATENATE($C$10:$C30,$D$10:$D30)=$C30&$D30))>1,"",SUMPRODUCT((CONCATENATE($C$10:$C$164,$D$10:$D$164)=$C30&$D30)*(F$10:F$164))+(ROW()/10^5))
A31: 41204 | B31: promotion 1ere | C31: Demazure | D31: Olivier | F31: 15 | H31: ANIZY PINON | L31: =IF(SUMPRODUCT(N(CONCATENATE($C$10:$C31,$D$10:$D31)=$C31&$D31))>1,"",SUMPRODUCT((CONCATENATE($C$10:$C$164,$D$10:$D$164)=$C31&$D31)*(E$10:E$164))+(ROW()/10^5)) -> 0.00031 | M31: =IF(SUMPRODUCT(N(CONCATENATE($C$10:$C31,$D$10:$D31)=$C31&$D31))>1,"",SUMPRODUCT((CONCATENATE($C$10:$C$164,$D$10:$D$164)=$C31&$D31)*(F$10:F$164))+(ROW()/10^5)) -> 30.00031
A32: 41211 | B32: promotion 1ere | C32: Herbert | D32: Rudy | E32: 15 | H32: AMIGNY ROUY | L32: =IF(SUMPRODUCT(N(CONCATENATE($C$10:$C32,$D$10:$D32)=$C32&$D32))>1,"",SUMPRODUCT((CONCATENATE($C$10:$C$164,$D$10:$D$164)=$C32&$D32)*(E$10:E$164))+(ROW()/10^5)) -> 15.00032 | M32: =IF(SUMPRODUCT(N(CONCATENATE($C$10:$C32,$D$10:$D32)=$C32&$D32))>1,"",SUMPRODUCT((CONCATENATE($C$10:$C$164,$D$10:$D$164)=$C32&$D32)*(F$10:F$164))+(ROW()/10^5)) -> 0.00032
A33: 41211 | B33: promotion 1ere | C33: Hanon | D33: Bastien | E33: 15 | H33: AMIGNY ROUY | L33: =IF(SUMPRODUCT(N(CONCATENATE($C$10:$C33,$D$10:$D33)=$C33&$D33))>1,"",SUMPRODUCT((CONCATENATE($C$10:$C$164,$D$10:$D$164)=$C33&$D33)*(E$10:E$164))+(ROW()/10^5)) | M33: =IF(SUMPRODUCT(N(CONCATENATE($C$10:$C33,$D$10:$D33)=$C33&$D33))>1,"",SUMPRODUCT((CONCATENATE($C$10:$C$164,$D$10:$D$164)=$C33&$D33)*(F$10:F$164))+(ROW()/10^5))
A34: 41211 | B34: promotion 1ere | C34: Demazure | D34: Olivier | F34: 15 | H34: AMIGNY ROUY | L34: =IF(SUMPRODUCT(N(CONCATENATE($C$10:$C34,$D$10:$D34)=$C34&$D34))>1,"",SUMPRODUCT((CONCATENATE($C$10:$C$164,$D$10:$D$164)=$C34&$D34)*(E$10:E$164))+(ROW()/10^5)) | M34: =IF(SUMPRODUCT(N(CONCATENATE($C$10:$C34,$D$10:$D34)=$C34&$D34))>1,"",SUMPRODUCT((CONCATENATE($C$10:$C$164,$D$10:$D$164)=$C34&$D34)*(F$10:F$164))+(ROW()/10^5))
A35: 41218 | B35: promotion 1ere | C35: Poiret | D35: Geoffrey | E35: 30 | H35: SISSONNE | L35: =IF(SUMPRODUCT(N(CONCATENATE($C$10:$C35,$D$10:$D35)=$C35&$D35))>1,"",SUMPRODUCT((CONCATENATE($C$10:$C$164,$D$10:$D$164)=$C35&$D35)*(E$10:E$164))+(ROW()/10^5)) -> 30.00035 | M35: =IF(SUMPRODUCT(N(CONCATENATE($C$10:$C35,$D$10:$D35)=$C35&$D35))>1,"",SUMPRODUCT((CONCATENATE($C$10:$C$164,$D$10:$D$164)=$C35&$D35)*(F$10:F$164))+(ROW()/10^5)) -> 0.00035
A36: 41218 | B36: promotion 1ere | C36: Poiret | D36: Cyril | E36: 15 | H36: SISSONNE | L36: =IF(SUMPRODUCT(N(CONCATENATE($C$10:$C36,$D$10:$D36)=$C36&$D36))>1,"",SUMPRODUCT((CONCATENATE($C$10:$C$164,$D$10:$D$164)=$C36&$D36)*(E$10:E$164))+(ROW()/10^5)) | M36: =IF(SUMPRODUCT(N(CONCATENATE($C$10:$C36,$D$10:$D36)=$C36&$D36))>1,"",SUMPRODUCT((CONCATENATE($C$10:$C$164,$D$10:$D$164)=$C36&$D36)*(F$10:F$164))+(ROW()/10^5))
A37: 41218 | B37: promotion 1ere | C37: Liberolle | D37: Pierre | E37: 15 | H37: SISSONNE | L37: =IF(SUMPRODUCT(N(CONCATENATE($C$10:$C37,$D$10:$D37)=$C37&$D37))>1,"",SUMPRODUCT((CONCATENATE($C$10:$C$164,$D$10:$D$164)=$C37&$D37)*(E$10:E$164))+(ROW()/10^5)) -> 15.00037 | M37: =IF(SUMPRODUCT(N(CONCATENATE($C$10:$C37,$D$10:$D37)=$C37&$D37))>1,"",SUMPRODUCT((CONCATENATE($C$10:$C$164,$D$10:$D$164)=$C37&$D37)*(F$10:F$164))+(ROW()/10^5)) -> 0.00037
A38: 41218 | B38: promotion 1ere | C38: Herbert | D38: Florian | E38: 15 | H38: SISSONNE | L38: =IF(SUMPRODUCT(N(CONCATENATE($C$10:$C38,$D$10:$D38)=$C38&$D38))>1,"",SUMPRODUCT((CONCATENATE($C$10:$C$164,$D$10:$D$164)=$C38&$D38)*(E$10:E$164))+(ROW()/10^5)) -> 15.00038 | M38: =IF(SUMPRODUCT(N(CONCATENATE($C$10:$C38,$D$10:$D38)=$C38&$D38))>1,"",SUMPRODUCT((CONCATENATE($C$10:$C$164,$D$10:$D$164)=$C38&$D38)*(F$10:F$164))+(ROW()/10^5)) -> 30.00038
A39: 41225 | B39: excellence | C39: Godart | D39: maxime | E39: 15 | H39: VILLERS COTTERETS | L39: =IF(SUMPRODUCT(N(CONCATENATE($C$10:$C39,$D$10:$D39)=$C39&$D39))>1,"",SUMPRODUCT((CONCATENATE($C$10:$C$164,$D$10:$D$164)=$C39&$D39)*(E$10:E$164))+(ROW()/10^5)) | M39: =IF(SUMPRODUCT(N(CONCATENATE($C$10:$C39,$D$10:$D39)=$C39&$D39))>1,"",SUMPRODUCT((CONCATENATE($C$10:$C$164,$D$10:$D$164)=$C39&$D39)*(F$10:F$164))+(ROW()/10^5))
A40: 41232 | B40: promotion 1ere | C40: Le Vot | D40: Aymeric | E40: 15 | H40: VALLEE AILETTE | L40: =IF(SUMPRODUCT(N(CONCATENATE($C$10:$C40,$D$10:$D40)=$C40&$D40))>1,"",SUMPRODUCT((CONCATENATE($C$10:$C$164,$D$10:$D$164)=$C40&$D40)*(E$10:E$164))+(ROW()/10^5)) -> 15.0004 | M40: =IF(SUMPRODUCT(N(CONCATENATE($C$10:$C40,$D$10:$D40)=$C40&$D40))>1,"",SUMPRODUCT((CONCATENATE($C$10:$C$164,$D$10:$D$164)=$C40&$D40)*(F$10:F$164))+(ROW()/10^5)) -> 0.0004
A41: 41232 | B41: promotion 1ere | C41: Herbert | D41: Florian | F41: 15 | H41: VALLEE AILETTE | L41: =IF(SUMPRODUCT(N(CONCATENATE($C$10:$C41,$D$10:$D41)=$C41&$D41))>1,"",SUMPRODUCT((CONCATENATE($C$10:$C$164,$D$10:$D$164)=$C41&$D41)*(E$10:E$164))+(ROW()/10^5)) | M41: =IF(SUMPRODUCT(N(CONCATENATE($C$10:$C41,$D$10:$D41)=$C41&$D41))>1,"",SUMPRODUCT((CONCATENATE($C$10:$C$164,$D$10:$D$164)=$C41&$D41)*(F$10:F$164))+(ROW()/10^5))
A42: 41232 | B42: promotion 1ere | C42: Demay | D42: Yannick | E42: 15 | H42: VALLEE AILETTE | L42: =IF(SUMPRODUCT(N(CONCATENATE($C$10:$C42,$D$10:$D42)=$C42&$D42))>1,"",SUMPRODUCT((CONCATENATE($C$10:$C$164,$D$10:$D$164)=$C42&$D42)*(E$10:E$164))+(ROW()/10^5)) | M42: =IF(SUMPRODUCT(N(CONCATENATE($C$10:$C42,$D$10:$D42)=$C42&$D42))>1,"",SUMPRODUCT((CONCATENATE($C$10:$C$164,$D$10:$D$164)=$C42&$D42)*(F$10:F$164))+(ROW()/10^5))
A43: 41239 | B43: promotion 1ere | C43: Bazile | D43: Guillaume | E43: 15 | H43: MONTAIGU | L43: =IF(SUMPRODUCT(N(CONCATENATE($C$10:$C43,$D$10:$D43)=$C43&$D43))>1,"",SUMPRODUCT((CONCATENATE($C$10:$C$164,$D$10:$D$164)=$C43&$D43)*(E$10:E$164))+(ROW()/10^5)) -> 15.00043 | M43: =IF(SUMPRODUCT(N(CONCATENATE($C$10:$C43,$D$10:$D43)=$C43&$D43))>1,"",SUMPRODUCT((CONCATENATE($C$10:$C$164,$D$10:$D$164)=$C43&$D43)*(F$10:F$164))+(ROW()/10^5)) -> 0.00043
A44: 41245 | B44: promotion 1ere | C44: Herbert | D44: Florian | F44: 15 | H44: ASPTT LAON | L44: =IF(SUMPRODUCT(N(CONCATENATE($C$10:$C44,$D$10:$D44)=$C44&$D44))>1,"",SUMPRODUCT((CONCATENATE($C$10:$C$164,$D$10:$D$164)=$C44&$D44)*(E$10:E$164))+(ROW()/10^5)) | M44: =IF(SUMPRODUCT(N(CONCATENATE($C$10:$C44,$D$10:$D44)=$C44&$D44))>1,"",SUMPRODUCT((CONCATENATE($C$10:$C$164,$D$10:$D$164)=$C44&$D44)*(F$10:F$164))+(ROW()/10^5))
A45: 41245 | B45: promotion 1ere | C45: Hanon | D45: Bastien | F45: 15 | H45: ASPTT LAON | L45: =IF(SUMPRODUCT(N(CONCATENATE($C$10:$C45,$D$10:$D45)=$C45&$D45))>1,"",SUMPRODUCT((CONCATENATE($C$10:$C$164,$D$10:$D$164)=$C45&$D45)*(E$10:E$164))+(ROW()/10^5)) | M45: =IF(SUMPRODUCT(N(CONCATENATE($C$10:$C45,$D$10:$D45)=$C45&$D45))>1,"",SUMPRODUCT((CONCATENATE($C$10:$C$164,$D$10:$D$164)=$C45&$D45)*(F$10:F$164))+(ROW()/10^5))
A46: 41245 | B46: promotion 1ere | C46: Demay | D46: Yannick | E46: 15 | H46: ASPTT LAON | L46: =IF(SUMPRODUCT(N(CONCATENATE($C$10:$C46,$D$10:$D46)=$C46&$D46))>1,"",SUMPRODUCT((CONCATENATE($C$10:$C$164,$D$10:$D$164)=$C46&$D46)*(E$10:E$164))+(ROW()/10^5)) | M46: =IF(SUMPRODUCT(N(CONCATENATE($C$10:$C46,$D$10:$D46)=$C46&$D46))>1,"",SUMPRODUCT((CONCATENATE($C$10:$C$164,$D$10:$D$164)=$C46&$D46)*(F$10:F$164))+(ROW()/10^5))
A47: 41245 | B47: promotion 1ere | C47: Muller | D47: Dorian | E47: 15 | H47: ASPTT LAON | L47: =IF(SUMPRODUCT(N(CONCATENATE($C$10:$C47,$D$10:$D47)=$C47&$D47))>1,"",SUMPRODUCT((CONCATENATE($C$10:$C$164,$D$10:$D$164)=$C47&$D47)*(E$10:E$164))+(ROW()/10^5)) | M47: =IF(SUMPRODUCT(N(CONCATENATE($C$10:$C47,$D$10:$D47)=$C47&$D47))>1,"",SUMPRODUCT((CONCATENATE($C$10:$C$164,$D$10:$D$164)=$C47&$D47)*(F$10:F$164))+(ROW()/10^5))
L48: =IF(SUMPRODUCT(N(CONCATENATE($C$10:$C48,$D$10:$D48)=$C48&$D48))>1,"",SUMPRODUCT((CONCATENATE($C$10:$C$164,$D$10:$D$164)=$C48&$D48)*(E$10:E$164))+(ROW()/10^5)) -> 0.00048 | M48: =IF(SUMPRODUCT(N(CONCATENATE($C$10:$C48,$D$10:$D48)=$C48&$D48))>1,"",SUMPRODUCT((CONCATENATE($C$10:$C$164,$D$10:$D$164)=$C48&$D48)*(F$10:F$164))+(ROW()/10^5)) -> 0.00048
...

Sheet The Winner
A2: 2012
F8: The Winner
G12: Catégorie: Cartons jaunes
G13: Catégorie: Cartons jaunes
C14: =SUM(A2) -> 2012
G15: =T(Sanctions!C2) -> Breny | I15: =T(Sanctions!D2) -> yann
B17: =TODAY() -> 41253
G20: Catégorie: Cartons abusifs
G22: =T(Sanctions!F2) -> Herbert | I22: =T(Sanctions!G2) -> Florian

Sheet Feuil3
A1: Tout d'abord: La ou les macros de la feuille 'sanctions' prend elle en compte jusque la ligne 168 ? Car chaque mois il y a de nouveaux inscrits !
A2: Nouveau problème: Dans cette feuille
A3: Je souhaiterais obtenir le nombre de cartons tous confondus(voir feuille 'sanctions') c'est-à-dire: anti-sportif + abusifs + rouge ) par joueur ( nom +
A4: prenom) en colonne D avec les coûts en colonne E _ ATTENTION …seuls les 30 € = 2 cartons !!!
A5: Puis créer un bouton me permettant instantanement de me donner cette liste en ordre décroissant (noms-prenom-nb cartons et cout)…
A6: Ce serait sympa !!
D7: (tous confondus) | E7: (tous confondus)
B8: Noms | C8: Prénoms | D8: Nb cartons | E8: Coût
B9: =T(Sanctions!C10) -> Breny | C9: =T(Sanctions!D10) -> yann
B10: =T(Sanctions!C11) -> Le Quellec | C10: =T(Sanctions!D11) -> jean marie
B11: =T(Sanctions!C12) -> Demay | C11: =T(Sanctions!D12) -> Yannick
B12: =T(Sanctions!C13) -> Le Vot | C12: =T(Sanctions!D13) -> Romuald
B13: =T(Sanctions!C14) -> Brossart | C13: =T(Sanctions!D14) -> maxime
B14: =T(Sanctions!C15) -> Postel | C14: =T(Sanctions!D15) -> Johann
B15: =T(Sanctions!C16) -> Dos Santos | C15: =T(Sanctions!D16) -> Joffrey
B16: =T(Sanctions!C17) -> Breny | C16: =T(Sanctions!D17) -> Yann
B17: =T(Sanctions!C18) -> Le Quellec | C17: =T(Sanctions!D18) -> jean marie
B18: =T(Sanctions!C19) -> Muller | C18: =T(Sanctions!D19) -> Dorian
B19: =T(Sanctions!C20) -> Godart | C19: =T(Sanctions!D20) -> Maxime
B20: =T(Sanctions!C21) -> Hanon | C20: =T(Sanctions!D21) -> Bastien
... B171: =T(Sanctions!C172) | C171: =T(Sanctions!D172)
D172: =SUBTOTAL(9,D9:D171) -> 0
