Workbook

Sheet 1ère série
D3: Série 1 | I3: Tournoi Backgammon Automne 2015 | AA3: 42278 | AE3: 0.5
E5: 1 | F5: 2 | G5: 3 | H5: 4 | I5: 5 | J5: 6 | K5: 7 | L5: 8 | M5: 9 | N5: 10 | O5: 11 | P5: 12 | Q5: 13 | R5: 14 | S5: 15 | T5: 16 | U5: 17 | V5: 18 | W5: 19 | X5: 20 | Y5: 21 | Z5: 22 | AA5: 23 | AB5: 24 | AC5: 25 | AD5: 26 | AE5: 27 | AF5: 28 | AG5: 29 | AH5: 30 | AI5: 31 | AJ5: 32 | AK5: 33 | AL5: 34 | AM5: 35 | AN5: 36 | AO5: 37 | AP5: 38 | AQ5: 39 | AR5: 40
D6: J O U E U R S | E6: =$D7 -> alternative | F6: =$D8 -> artemide | G6: =$D9 -> barbaraluise | H6: =$D10 -> barchan | I6: =$D11 -> bernie | J6: =$D12 -> blackbird | K6: =$D13 -> blackout 67 | L6: =$D14 -> candy | M6: =$D15 -> caro | N6: =$D16 -> casta diva | O6: =$D17 -> chablis | P6: =$D18 -> choumek | Q6: =$D19 -> chris | R6: =$D20 -> chritiane_g | S6: =$D21 -> cleopatre 80 | T6: =$D22 -> Dr Jekkyl | U6: =$D23 -> fanfan 45220 | V6: =$D24 -> fantomette | W6: =$D25 -> gadgette | X6: =$D26 -> goodluck | Y6: =$D27 -> hercule poivrot | Z6: =$D28 -> jltiber | AA6: =$D29 -> lolilola | AB6: =$D30 -> looping | AC6: =$D31 -> mamina | AD6: =$D32 -> motoflo | AE6: =$D33 -> sandrine 13 | AF6: =$D34 -> tatate-fafa | AG6: =$D35 -> titinar | AH6: =$D36 -> um5um6 | AI6: =$D37 -> vahan 3 | AJ6: =$D38 -> w | AK6: =$D39 -> ww | AL6: =$D40 -> www | AM6: =$D41 -> wwww | AN6: =$D42 -> x | AO6: =$D43 -> xx | AP6: =$D44 -> xxx | AQ6: =$D45 -> xxxx | AR6: =$D46 -> xxxxxx | AS6: Pénalités | AT6: Cumul des Points | AU6: Moyenne par Match | AV6: Nombre de matchs joués | AY6: ABSENCES
B7: 1 | D7: alternative | F7: =IF($E8=3,1," ") | G7: =IF($E9=3,1," ") | H7: =IF($E10=3,1," ") | I7: =IF($E11=3,1," ") | J7: =IF($E12=3,1," ") | K7: =IF($E13=3,1," ") | L7: =IF($E14=3,1," ") | M7: =IF($E15=3,1," ") | N7: =IF($E16=3,1," ") | O7: =IF($E17=3,1," ") | P7: =IF($E18=3,1," ") | Q7: =IF($E19=3,1," ") | R7: =IF($E20=3,1," ") | S7: =IF($E21=3,1," ") | T7: =IF($E22=3,1," ") | U7: =IF($E23=3,1," ") | V7: =IF($E24=3,1," ") | W7: =IF($E25=3,1," ") | X7: =IF($E26=3,1," ") | Y7: =IF($E27=3,1," ") | Z7: =IF($E28=3,1," ") | AA7: =IF($E29=3,1," ") | AB7: =IF($E30=3,1," ") | AC7: =IF($E31=3,1," ") | AD7: =IF($E32=3,1," ") | AE7: =IF($E33=3,1," ") | AF7: =IF($E34=3,1," ") | AG7: =IF($E35=3,1," ") | AH7: =IF($E36=3,1," ") | AI7: =IF($E37=3,1," ") | AJ7: =IF($E38=3,1," ") | AK7: =IF($E39=3,1," ") | AL7: =IF($E40=3,1," ") | AM7: =IF($E41=3,1," ") | AN7: =IF($E42=3,1," ") | AO7: =IF($E43=3,1," ") | AP7: =IF($E44=3,1," ") | AQ7: =IF($E45=3,1," ") | AR7: =IF($E46=3,1," ") | AT7: =SUM(E7:AS7) -> 0 | AU7: =AT7/COUNT(E7:AR7) -> #DIV/0! | AV7: =COUNT(E7:AR7) -> 0
B8: 2 | D8: artemide | E8: =IF(F$7=3,1," ") | G8: =IF($F9=3,1," ") | H8: =IF($F10=3,1," ") | I8: =IF($F11=3,1," ") | J8: =IF($F12=3,1," ") | K8: =IF($F13=3,1," ") | L8: =IF($F14=3,1," ") | M8: =IF($F15=3,1," ") | N8: =IF($G16=3,1," ") | O8: =IF($F17=3,1," ") | P8: =IF($F18=3,1," ") | Q8: =IF($F19=3,1," ") | R8: =IF($F20=3,1," ") | S8: =IF($F21=3,1," ") | T8: =IF($F22=3,1," ") | U8: =IF($F23=3,1," ") | V8: =IF($F24=3,1," ") | W8: =IF($F25=3,1," ") | X8: =IF($F26=3,1," ") | Y8: =IF($F27=3,1," ") | Z8: =IF($F28=3,1," ") | AA8: =IF($F29=3,1," ") | AB8: =IF($F30=3,1," ") | AC8: =IF($F31=3,1," ") | AD8: =IF($F32=3,1," ") | AE8: =IF($F33=3,1," ") | AF8: =IF($F34=3,1," ") | AG8: =IF($F35=3,1," ") | AH8: =IF($F36=3,1," ") | AI8: =IF($F37=3,1," ") | AJ8: =IF($F38=3,1," ") | AK8: =IF($F39=3,1," ") | AL8: =IF($F40=3,1," ") | AM8: =IF($F41=3,1," ") | AN8: =IF($F42=3,1," ") | AO8: =IF($F43=3,1," ") | AP8: =IF($F44=3,1," ") | AQ8: =IF($F45=3,1," ") | AR8: =IF($F46=3,1," ") | AT8: =SUM(E8:AS8) -> 0 | AU8: =AT8/COUNT(E8:AR8) -> #DIV/0! | AV8: =COUNT(E8:AR8) -> 0
B9: 3 | D9: barbaraluise | E9: =IF(G$7=3,1," ") | F9: =IF(G$8=3,1," ") | H9: =IF($G10=3,1," ") | I9: =IF($G11=3,1," ") | J9: =IF($G12=3,1," ") | K9: =IF($G13=3,1," ") | L9: =IF($G14=3,1," ") | M9: =IF($G15=3,1," ") | N9: =IF($H16=3,1," ") | O9: =IF($G17=3,1," ") | P9: =IF($G18=3,1," ") | Q9: =IF($G19=3,1," ") | R9: =IF($G20=3,1," ") | S9: =IF($G21=3,1," ") | T9: =IF($G23=3,1," ") | U9: =IF($G24=3,1," ") | V9: =IF($G25=3,1," ") | W9: =IF($G26=3,1," ") | X9: =IF($G27=3,1," ") | Y9: =IF($G28=3,1," ") | Z9: =IF($G29=3,1," ") | AA9: =IF($G30=3,1," ") | AB9: =IF($G31=3,1," ") | AC9: =IF($G32=3,1," ") | AD9: =IF($G33=3,1," ") | AE9: =IF($G34=3,1," ") | AF9: =IF($G35=3,1," ") | AG9: =IF($G36=3,1," ") | AH9: =IF($G37=3,1," ") | AI9: =IF($G38=3,1," ") | AJ9: =IF($G39=3,1," ") | AK9: =IF($G40=3,1," ") | AL9: =IF($G41=3,1," ") | AM9: =IF($G42=3,1," ") | AN9: =IF($G43=3,1," ") | AO9: =IF($G44=3,1," ") | AP9: =IF($G45=3,1," ") | AQ9: =IF($G46=3,1," ") | AR9: =IF($G47=3,1," ") | AT9: =SUM(E9:AS9) -> 0 | AU9: =AT9/COUNT(E9:AR9) -> #DIV/0! | AV9: =COUNT(E9:AR9) -> 0
B10: 4 | D10: barchan | E10: =IF($H7=3,1," ") | F10: =IF($H8=3,1," ") | G10: =IF($H9=3,1," ") | I10: =IF($H11=3,1," ") | J10: =IF($H12=3,1," ") | K10: =IF($H13=3,1," ") | L10: =IF($H14=3,1," ") | M10: =IF($H15=3,1," ") | N10: =IF($I16=3,1," ") | O10: =IF($H17=3,1," ") | P10: =IF($H18=3,1," ") | Q10: =IF($H19=3,1," ") | R10: =IF($H20=3,1," ") | S10: =IF($H21=3,1," ") | T10: =IF($H22=3,1," ") | U10: =IF($H23=3,1," ") | V10: =IF($H24=3,1," ") | W10: =IF($H25=3,1," ") | X10: =IF($H26=3,1," ") | Y10: =IF($H27=3,1," ") | Z10: =IF($H28=3,1," ") | AA10: =IF($H29=3,1," ") | AB10: =IF($H30=3,1," ") | AC10: =IF($H31=3,1," ") | AD10: =IF($H32=3,1," ") | AE10: =IF($H33=3,1," ") | AF10: =IF($H34=3,1," ") | AG10: =IF($H35=3,1," ") | AH10: =IF($H36=3,1," ") | AI10: =IF($H37=3,1," ") | AJ10: =IF($H38=3,1," ") | AK10: =IF($H39=3,1," ") | AL10: =IF($H40=3,1," ") | AM10: =IF($H41=3,1," ") | AN10: =IF($H42=3,1," ") | AO10: =IF($H43=3,1," ") | AP10: =IF($H44=3,1," ") | AQ10: =IF($H45=3,1," ") | AR10: =IF($H46=3,1," ") | AT10: =SUM(E10:AS10) -> 0 | AU10: =AT10/COUNT(E10:AR10) -> #DIV/0! | AV10: =COUNT(E10:AR10) -> 0
B11: 5 | D11: bernie | E11: =IF($I7=3,1," ") | F11: =IF($I9=3,1," ") | G11: =IF($I10=3,1," ") | H11: =IF($I11=3,1," ") | J11: =IF($I12=3,1," ") | K11: =IF($I13=3,1," ") | L11: =IF($I14=3,1," ") | M11: =IF($I15=3,1," ") | N11: =IF($J16=3,1," ") | O11: =IF($I17=3,1," ") | P11: =IF($I18=3,1," ") | Q11: =IF($I19=3,1," ") | R11: =IF($I20=3,1," ") | S11: =IF($I21=3,1," ") | T11: =IF($I22=3,1," ") | U11: =IF($I23=3,1," ") | V11: =IF($I24=3,1," ") | W11: =IF($I25=3,1," ") | X11: =IF($I26=3,1," ") | Y11: =IF($I27=3,1," ") | Z11: =IF($I28=3,1," ") | AA11: =IF($I29=3,1," ") | AB11: =IF($I30=3,1," ") | AC11: =IF($I31=3,1," ") | AD11: =IF($I32=3,1," ") | AE11: =IF($I33=3,1," ") | AF11: =IF($I34=3,1," ") | AG11: =IF($I35=3,1," ") | AH11: =IF($I36=3,1," ") | AI11: =IF($I37=3,1," ") | AJ11: =IF($I38=3,1," ") | AK11: =IF($I39=3,1," ") | AL11: =IF($I40=3,1," ") | AM11: =IF($I41=3,1," ") | AN11: =IF($I42=3,1," ") | AO11: =IF($I43=3,1," ") | AP11: =IF($I44=3,1," ") | AQ11: =IF($I45=3,1," ") | AR11: =IF($I46=3,1," ") | AT11: =SUM(E11:AS11) -> 0 | AU11: =AT11/COUNT(E11:AR11) -> #DIV/0! | AV11: =COUNT(E11:AR11) -> 0
B12: 6 | D12: blackbird | E12: =IF($J7=3,1," ") | F12: =IF($J8=3,1," ") | G12: =IF($J9=3,1," ") | H12: =IF($J10=3,1," ") | I12: =IF($J11=3,1," ") | K12: =IF($J13=3,1," ") | L12: =IF($J14=3,1," ") | M12: =IF($J15=3,1," ") | N12: =IF($K16=3,1," ") | O12: =IF($J17=3,1," ") | P12: =IF($J18=3,1," ") | Q12: =IF($J19=3,1," ") | R12: =IF($J20=3,1," ") | S12: =IF($J21=3,1," ") | T12: =IF($J22=3,1," ") | U12: =IF($J23=3,1," ") | V12: =IF($J24=3,1," ") | W12: =IF($J25=3,1," ") | X12: =IF($J26=3,1," ") | Y12: =IF($J27=3,1," ") | Z12: =IF($J28=3,1," ") | AA12: =IF($J29=3,1," ") | AB12: =IF($J30=3,1," ") | AC12: =IF($J31=3,1," ") | AD12: =IF($J32=3,1," ") | AE12: =IF($J33=3,1," ") | AF12: =IF($J34=3,1," ") | AG12: =IF($J35=3,1," ") | AH12: =IF($J36=3,1," ") | AI12: =IF($J37=3,1," ") | AJ12: =IF($J38=3,1," ") | AK12: =IF($J39=3,1," ") | AL12: =IF($J40=3,1," ") | AM12: =IF($J41=3,1," ") | AN12: =IF($J42=3,1," ") | AO12: =IF($J43=3,1," ") | AP12: =IF($J44=3,1," ") | AQ12: =IF($J45=3,1," ") | AR12: =IF($J46=3,1," ") | AT12: =SUM(E12:AS12) -> 0 | AU12: =AT12/COUNT(E12:AR12) -> #DIV/0! | AV12: =COUNT(E12:AR12) -> 0
B13: 7 | D13: blackout 67 | E13: =IF($K7=3,1," ") | F13: =IF($K8=3,1," ") | G13: =IF($K9=3,1," ") | H13: =IF($K10=3,1," ") | I13: =IF($K11=3,1," ") | J13: =IF($K12=3,1," ") | L13: =IF($K14=3,1," ") | M13: =IF($K15=3,1," ") | N13: =IF($K16=3,1," ") | O13: =IF($K17=3,1," ") | P13: =IF($K18=3,1," ") | Q13: =IF($K19=3,1," ") | R13: =IF($K20=3,1," ") | S13: =IF($K21=3,1," ") | T13: =IF($K22=3,1," ") | U13: =IF($K23=3,1," ") | V13: =IF($K24=3,1," ") | W13: =IF($K25=3,1," ") | X13: =IF($K26=3,1," ") | Y13: =IF($K27=3,1," ") | Z13: =IF($K28=3,1," ") | AA13: =IF($K29=3,1," ") | AB13: =IF($K30=3,1," ") | AC13: =IF($K31=3,1," ") | AD13: =IF($K32=3,1," ") | AE13: =IF($K33=3,1," ") | AF13: =IF($K34=3,1," ") | AG13: =IF($K35=3,1," ") | AH13: =IF($K36=3,1," ") | AI13: =IF($K37=3,1," ") | AJ13: =IF($K38=3,1," ") | AK13: =IF($K39=3,1," ") | AL13: =IF($K40=3,1," ") | AM13: =IF($K41=3,1," ") | AN13: =IF($K42=3,1," ") | AO13: =IF($K43=3,1," ") | AP13: =IF($K44=3,1," ") | AQ13: =IF($K45=3,1," ") | AR13: =IF($K46=3,1," ") | AT13: =SUM(E13:AS13) -> 0 | AU13: =AT13/COUNT(E13:AR13) -> #DIV/0! | AV13: =COUNT(E13:AR13) -> 0
B14: 8 | D14: candy | E14: =IF($L7=3,1," ") | F14: =IF($L8=3,1," ") | G14: =IF($L9=3,1," ") | H14: =IF($L10=3,1," ") | I14: =IF($L11=3,1," ") | J14: =IF($L12=3,1," ") | K14: =IF($L13=3,1," ") | M14: =IF($L15=3,1," ") | N14: =IF($L16=3,1," ") | O14: =IF($L17=3,1," ") | P14: =IF($L18=3,1," ") | Q14: =IF($L19=3,1," ") | R14: =IF($L20=3,1," ") | S14: =IF($L21=3,1," ") | T14: =IF($L22=3,1," ") | U14: =IF($L23=3,1," ") | V14: =IF($L24=3,1," ") | W14: =IF($L25=3,1," ") | X14: =IF($L26=3,1," ") | Y14: =IF($L27=3,1," ") | Z14: =IF($L28=3,1," ") | AA14: =IF($L29=3,1," ") | AB14: =IF($L30=3,1," ") | AC14: =IF($L31=3,1," ") | AD14: =IF($L32=3,1," ") | AE14: =IF($L33=3,1," ") | AF14: =IF($L34=3,1," ") | AG14: =IF($L35=3,1," ") | AH14: =IF($L36=3,1," ") | AI14: =IF($L37=3,1," ") | AJ14: =IF($L38=3,1," ") | AK14: =IF($L39=3,1," ") | AL14: =IF($L40=3,1," ") | AM14: =IF($L41=3,1," ") | AN14: =IF($L42=3,1," ") | AO14: =IF($L43=3,1," ") | AP14: =IF($L44=3,1," ") | AQ14: =IF($L45=3,1," ") | AR14: =IF($L46=3,1," ") | AT14: =SUM(E14:AS14) -> 0 | AU14: =AT14/COUNT(E14:AR14) -> #DIV/0! | AV14: =COUNT(E14:AR14) -> 0
B15: 9 | D15: caro | E15: =IF($M7=3,1," ") | F15: =IF($M8=3,1," ") | G15: =IF($M9=3,1," ") | H15: =IF($M10=3,1," ") | I15: =IF($M11=3,1," ") | J15: =IF($M12=3,1," ") | K15: =IF($M13=3,1," ") | L15: =IF($M14=3,1," ") | N15: =IF($M16=3,1," ") | O15: =IF($M17=3,1," ") | P15: =IF($M18=3,1," ") | Q15: =IF($M19=3,1," ") | R15: =IF($M20=3,1," ") | S15: =IF($M21=3,1," ") | T15: =IF($M22=3,1," ") | U15: =IF($M23=3,1," ") | V15: =IF($M24=3,1," ") | W15: =IF($M25=3,1," ") | X15: =IF($M26=3,1," ") | Y15: =IF($M27=3,1," ") | Z15: =IF($M28=3,1," ") | AA15: =IF($M29=3,1," ") | AB15: =IF($M30=3,1," ") | AC15: =IF($M31=3,1," ") | AD15: =IF($M32=3,1," ") | AE15: =IF($M33=3,1," ") | AF15: =IF($M34=3,1," ") | AG15: =IF($M35=3,1," ") | AH15: =IF($M36=3,1," ") | AI15: =IF($M37=3,1," ") | AJ15: =IF($M38=3,1," ") | AK15: =IF($M39=3,1," ") | AL15: =IF($M40=3,1," ") | AM15: =IF($M41=3,1," ") | AN15: =IF($M42=3,1," ") | AO15: =IF($M43=3,1," ") | AP15: =IF($M44=3,1," ") | AQ15: =IF($M45=3,1," ") | AR15: =IF($M46=3,1," ") | AT15: =SUM(E15:AS15) -> 0 | AU15: =AT15/COUNT(E15:AR15) -> #DIV/0! | AV15: =COUNT(E15:AR15) -> 0
B16: 10 | D16: casta diva | E16: =IF($N7=3,1," ") | F16: =IF($N8=3,1," ") | G16: =IF($N9=3,1," ") | H16: =IF($N10=3,1," ") | I16: =IF($N11=3,1," ") | J16: =IF($N12=3,1," ") | K16: =IF($N13=3,1," ") | L16: =IF($N14=3,1," ") | M16: =IF($N15=3,1," ") | O16: =IF($N17=3,1," ") | P16: =IF($N18=3,1," ") | Q16: =IF($N19=3,1," ") | R16: =IF($N20=3,1," ") | S16: =IF($N21=3,1," ") | T16: =IF($N22=3,1," ") | U16: =IF($N23=3,1," ") | V16: =IF($N24=3,1," ") | W16: =IF($N25=3,1," ") | X16: =IF($N26=3,1," ") | Y16: =IF($N27=3,1," ") | Z16: =IF($N28=3,1," ") | AA16: =IF($N29=3,1," ") | AB16: =IF($N30=3,1," ") | AC16: =IF($N31=3,1," ") | AD16: =IF($N32=3,1," ") | AE16: =IF($N33=3,1," ") | AF16: =IF($N34=3,1," ") | AG16: =IF($N35=3,1," ") | AH16: =IF($N36=3,1," ") | AI16: =IF($N37=3,1," ") | AJ16: =IF($N38=3,1," ") | AK16: =IF($N39=3,1," ") | AL16: =IF($N40=3,1," ") | AM16: =IF($N41=3,1," ") | AN16: =IF($N42=3,1," ") | AO16: =IF($N43=3,1," ") | AP16: =IF($N44=3,1," ") | AQ16: =IF($N45=3,1," ") | AR16: =IF($N46=3,1," ") | AT16: =SUM(E16:AS16) -> 0 | AU16: =AT16/COUNT(E16:AR16) -> #DIV/0! | AV16: =COUNT(E16:AR16) -> 0
B17: 11 | D17: chablis | E17: =IF($O7=3,1," ") | F17: =IF($O8=3,1," ") | G17: =IF($O9=3,1," ") | H17: =IF($O10=3,1," ") | I17: =IF($O11=3,1," ") | J17: =IF($O12=3,1," ") | K17: =IF($O13=3,1," ") | L17: =IF($O14=3,1," ") | M17: =IF($O15=3,1," ") | N17: =IF($O16=3,1," ") | P17: =IF($O18=3,1," ") | Q17: =IF($O19=3,1," ") | R17: =IF($O20=3,1," ") | S17: =IF($O21=3,1," ") | T17: =IF($O22=3,1," ") | U17: =IF($O23=3,1," ") | V17: =IF($O24=3,1," ") | W17: =IF($O25=3,1," ") | X17: =IF($O26=3,1," ") | Y17: =IF($O27=3,1," ") | Z17: =IF($O28=3,1," ") | AA17: =IF($O29=3,1," ") | AB17: =IF($O30=3,1," ") | AC17: =IF($O31=3,1," ") | AD17: =IF($O32=3,1," ") | AE17: =IF($O33=3,1," ") | AF17: =IF($O34=3,1," ") | AG17: =IF($O35=3,1," ") | AH17: =IF($O36=3,1," ") | AI17: =IF($O37=3,1," ") | AJ17: =IF($O38=3,1," ") | AK17: =IF($O39=3,1," ") | AL17: =IF($O40=3,1," ") | AM17: =IF($O41=3,1," ") | AN17: =IF($O42=3,1," ") | AO17: =IF($O43=3,1," ") | AP17: =IF($O44=3,1," ") | AQ17: =IF($O45=3,1," ") | AR17: =IF($O46=3,1," ") | AT17: =SUM(E17:AS17) -> 0 | AU17: =AT17/COUNT(E17:AR17) -> #DIV/0! | AV17: =COUNT(E17:AR17) -> 0
B18: 12 | D18: choumek | E18: =IF($P7=3,1," ") | F18: =IF($P8=3,1," ") | G18: =IF($P9=3,1," ") | H18: =IF($P10=3,1," ") | I18: =IF($P11=3,1," ") | J18: =IF($P12=3,1," ") | K18: =IF($P13=3,1," ") | L18: =IF($P14=3,1," ") | M18: =IF($P15=3,1," ") | N18: =IF($P16=3,1," ") | O18: =IF($P17=3,1," ") | Q18: =IF($P19=3,1," ") | R18: =IF($P20=3,1," ") | S18: =IF($P21=3,1," ") | T18: =IF($P22=3,1," ") | U18: =IF($P23=3,1," ") | V18: =IF($P24=3,1," ") | W18: =IF($P25=3,1," ") | X18: =IF($P26=3,1," ") | Y18: =IF($P27=3,1," ") | Z18: =IF($P28=3,1," ") | AA18: =IF($P29=3,1," ") | AB18: =IF($P30=3,1," ") | AC18: =IF($P31=3,1," ") | AD18: =IF($P32=3,1," ") | AE18: =IF($P33=3,1," ") | AF18: =IF($P34=3,1," ") | AG18: =IF($P35=3,1," ") | AH18: =IF($P36=3,1," ") | AI18: =IF($P37=3,1," ") | AJ18: =IF($P38=3,1," ") | AK18: =IF($P39=3,1," ") | AL18: =IF($P40=3,1," ") | AM18: =IF($P41=3,1," ") | AN18: =IF($P42=3,1," ") | AO18: =IF($P43=3,1," ") | AP18: =IF($P44=3,1," ") | AQ18: =IF($P45=3,1," ") | AR18: =IF($P46=3,1," ") | AT18: =SUM(E18:AS18) -> 0 | AU18: =AT18/COUNT(E18:AR18) -> #DIV/0! | AV18: =COUNT(E18:AR18) -> 0
B19: 13 | D19: chris | E19: =IF($Q7=3,1," ") | F19: =IF($Q8=3,1," ") | G19: =IF($Q9=3,1," ") | H19: =IF($Q10=3,1," ") | I19: =IF($Q11=3,1," ") | J19: =IF($Q12=3,1," ") | K19: =IF($Q13=3,1," ") | L19: =IF($Q14=3,1," ") | M19: =IF($Q15=3,1," ") | N19: =IF($Q16=3,1," ") | O19: =IF($Q17=3,1," ") | P19: =IF($Q18=3,1," ") | R19: =IF($Q20=3,1," ") | S19: =IF($Q21=3,1," ") | T19: =IF($Q22=3,1," ") | U19: =IF($Q23=3,1," ") | V19: =IF($Q24=3,1," ") | W19: =IF($Q25=3,1," ") | X19: =IF($Q26=3,1," ") | Y19: =IF($Q27=3,1," ") | Z19: =IF($Q28=3,1," ") | AA19: =IF($Q29=3,1," ") | AB19: =IF($Q30=3,1," ") | AC19: =IF($Q31=3,1," ") | AD19: =IF($Q32=3,1," ") | AE19: =IF($Q33=3,1," ") | AF19: =IF($Q34=3,1," ") | AG19: =IF($Q35=3,1," ") | AH19: =IF($Q36=3,1," ") | AI19: =IF($Q37=3,1," ") | AJ19: =IF($Q38=3,1," ") | AK19: =IF($Q39=3,1," ") | AL19: =IF($Q40=3,1," ") | AM19: =IF($Q41=3,1," ") | AN19: =IF($Q42=3,1," ") | AO19: =IF($Q43=3,1," ") | AP19: =IF($Q44=3,1," ") | AQ19: =IF($Q45=3,1," ") | AR19: =IF($Q46=3,1," ") | AT19: =SUM(E19:AS19) -> 0 | AU19: =AT19/COUNT(E19:AR19) -> #DIV/0! | AV19: =COUNT(E19:AR19) -> 0
B20: 14 | D20: chritiane_g | E20: =IF($R7=3,1," ") | F20: =IF($R8=3,1," ") | G20: =IF($R9=3,1," ") | H20: =IF($R10=3,1," ") | I20: =IF($R11=3,1," ") | J20: =IF($R12=3,1," ") | K20: =IF($R13=3,1," ") | L20: =IF($R14=3,1," ") | M20: =IF($R15=3,1," ") | N20: =IF($R16=3,1," ") | O20: =IF($R17=3,1," ") | P20: =IF($R18=3,1," ") | Q20: =IF($R19=3,1," ") | S20: =IF($R21=3,1," ") | T20: =IF($R22=3,1," ") | U20: =IF($R23=3,1," ") | V20: =IF($R24=3,1," ") | W20: =IF($R25=3,1," ") | X20: =IF($R26=3,1," ") | Y20: =IF($R27=3,1," ") | Z20: =IF($R28=3,1," ") | AA20: =IF($R29=3,1," ") | AB20: =IF($R30=3,1," ") | AC20: =IF($R31=3,1," ") | AD20: =IF($R32=3,1," ") | AE20: =IF($R33=3,1," ") | AF20: =IF($R34=3,1," ") | AG20: =IF($R35=3,1," ") | AH20: =IF($R36=3,1," ") | AI20: =IF($R37=3,1," ") | AJ20: =IF($R38=3,1," ") | AK20: =IF($R39=3,1," ") | AL20: =IF($R40=3,1," ") | AM20: =IF($R41=3,1," ") | AN20: =IF($R42=3,1," ") | AO20: =IF($R43=3,1," ") | AP20: =IF($R44=3,1," ") | AQ20: =IF($R45=3,1," ") | AR20: =IF($R46=3,1," ") | AT20: =SUM(E20:AS20) -> 0 | AU20: =AT20/COUNT(E20:AR20) -> #DIV/0! | AV20: =COUNT(E20:AR20) -> 0
B21: 15 | D21: cleopatre 80 | E21: =IF($S7=3,1," ") | F21: =IF($S8=3,1," ") | G21: =IF($S9=3,1," ") | H21: =IF($S10=3,1," ") | I21: =IF($S11=3,1," ") | J21: =IF($S12=3,1," ") | K21: =IF($S13=3,1," ") | L21: =IF($S14=3,1," ") | M21: =IF($S15=3,1," ") | N21: =IF($S16=3,1," ") | O21: =IF($S17=3,1," ") | P21: =IF($S18=3,1," ") | Q21: =IF($S19=3,1," ") | R21: =IF($S20=3,1," ") | T21: =IF($S22=3,1," ") | U21: =IF($S23=3,1," ") | V21: =IF($S24=3,1," ") | W21: =IF($S25=3,1," ") | X21: =IF($S26=3,1," ") | Y21: =IF(S$27=3,1," ") | Z21: =IF(T$28=3,1," ") | AA21: =IF($S29=3,1," ") | AB21: =IF($S30=3,1," ") | AC21: =IF($S31=3,1," ") | AD21: =IF($S32=3,1," ") | AE21: =IF($S33=3,1," ") | AF21: =IF($S34=3,1," ") | AG21: =IF($S35=3,1," ") | AH21: =IF($S36=3,1," ") | AI21: =IF($S37=3,1," ") | AJ21: =IF($S38=3,1," ") | AK21: =IF($S39=3,1," ") | AL21: =IF($S40=3,1," ") | AM21: =IF($S41=3,1," ") | AN21: =IF($S42=3,1," ") | AO21: =IF($S43=3,1," ") | AP21: =IF($S44=3,1," ") | AQ21: =IF($S45=3,1," ") | AR21: =IF($S46=3,1," ") | AT21: =SUM(E21:AS21) -> 0 | AU21: =AT21/COUNT(E21:AR21) -> #DIV/0! | AV21: =COUNT(E21:AR21) -> 0
B22: 16 | D22: Dr Jekkyl | E22: =IF($T7=3,1," ") | F22: =IF($T8=3,1," ") | G22: =IF($T9=3,1," ") | H22: =IF($T10=3,1," ") | I22: =IF($T11=3,1," ") | J22: =IF($T12=3,1," ") | K22: =IF($T13=3,1," ") | L22: =IF($T14=3,1," ") | M22: =IF($T15=3,1," ") | N22: =IF($T16=3,1," ") | O22: =IF($T17=3,1," ") | P22: =IF($T18=3,1," ") | Q22: =IF($T19=3,1," ") | R22: =IF($T20=3,1," ") | S22: =IF($T21=3,1," ") | U22: =IF($T23=3,1," ") | V22: =IF($T24=3,1," ") | W22: =IF($T25=3,1," ") | X22: =IF($T26=3,1," ") | Y22: =IF($T27=3,1," ") | Z22: =IF($T28=3,1," ") | AA22: =IF($T29=3,1," ") | AB22: =IF($T30=3,1," ") | AC22: =IF($T31=3,1," ") | AD22: =IF($T32=3,1," ") | AE22: =IF($T33=3,1," ") | AF22: =IF($T34=3,1," ") | AG22: =IF($T35=3,1," ") | AH22: =IF($T36=3,1," ") | AI22: =IF($T37=3,1," ") | AJ22: =IF($T38=3,1," ") | AK22: =IF($T39=3,1," ") | AL22: =IF($T40=3,1," ") | AM22: =IF($T41=3,1," ") | AN22: =IF($T42=3,1," ") | AO22: =IF($T43=3,1," ") | AP22: =IF($T44=3,1," ") | AQ22: =IF($T45=3,1," ") | AR22: =IF($T46=3,1," ") | AT22: =SUM(E22:AS22) -> 0 | AU22: =AT22/COUNT(E22:AR22) -> #DIV/0! | AV22: =COUNT(E22:AR22) -> 0
B23: 17 | D23: fanfan 45220 | E23: =IF($U7=3,1," ") | F23: =IF($U8=3,1," ") | G23: =IF($U9=3,1," ") | H23: =IF($U10=3,1," ") | I23: =IF($U11=3,1," ") | J23: =IF($U12=3,1," ") | K23: =IF($U13=3,1," ") | L23: =IF($U14=3,1," ") | M23: =IF($U15=3,1," ") | N23: =IF($U16=3,1," ") | O23: =IF($U17=3,1," ") | P23: =IF($U18=3,1," ") | Q23: =IF($U19=3,1," ") | R23: =IF($U20=3,1," ") | S23: =IF($U21=3,1," ") | T23: =IF($U22=3,1," ") | V23: =IF($U24=3,1," ") | W23: =IF($U25=3,1," ") | X23: =IF($U26=3,1," ") | Y23: =IF($U27=3,1," ") | Z23: =IF($U28=3,1," ") | AA23: =IF($U29=3,1," ") | AB23: =IF($U30=3,1," ") | AC23: =IF($U31=3,1," ") | AD23: =IF($U32=3,1," ") | AE23: =IF($U33=3,1," ") | AF23: =IF($U34=3,1," ") | AG23: =IF($U35=3,1," ") | AH23: =IF($U36=3,1," ") | AI23: =IF($U37=3,1," ") | AJ23: =IF($U38=3,1," ") | AK23: =IF($U39=3,1," ") | AL23: =IF($U40=3,1," ") | AM23: =IF($U41=3,1," ") | AN23: =IF($U42=3,1," ") | AO23: =IF($U43=3,1," ") | AP23: =IF($U44=3,1," ") | AQ23: =IF($U45=3,1," ") | AR23: =IF($U46=3,1," ") | AT23: =SUM(E23:AS23) -> 0 | AU23: =AT23/COUNT(E23:AR23) -> #DIV/0! | AV23: =COUNT(E23:AR23) -> 0
B24: 18 | D24: fantomette | E24: =IF($V7=3,1," ") | F24: =IF($V8=3,1," ") | G24: =IF($V9=3,1," ") | H24: =IF($V10=3,1," ") | I24: =IF($V11=3,1," ") | J24: =IF($V12=3,1," ") | K24: =IF($V13=3,1," ") | L24: =IF($V14=3,1," ") | M24: =IF($V15=3,1," ") | N24: =IF($V16=3,1," ") | O24: =IF($V17=3,1," ") | P24: =IF($V18=3,1," ") | Q24: =IF($V19=3,1," ") | R24: =IF($V20=3,1," ") | S24: =IF($V21=3,1," ") | T24: =IF($V22=3,1," ") | U24: =IF($V23=3,1," ") | W24: =IF($V25=3,1," ") | X24: =IF($V26=3,1," ") | Y24: =IF($V27=3,1," ") | Z24: =IF($V28=3,1," ") | AA24: =IF($V29=3,1," ") | AB24: =IF($V30=3,1," ") | AC24: =IF($V31=3,1," ") | AD24: =IF($V32=3,1," ") | AE24: =IF($V33=3,1," ") | AF24: =IF($V34=3,1," ") | AG24: =IF($V35=3,1," ") | AH24: =IF($V36=3,1," ") | AI24: =IF($V37=3,1," ") | AJ24: =IF($V38=3,1," ") | AK24: =IF($V39=3,1," ") | AL24: =IF($V40=3,1," ") | AM24: =IF($V41=3,1," ") | AN24: =IF($V42=3,1," ") | AO24: =IF($V43=3,1," ") | AP24: =IF($V44=3,1," ") | AQ24: =IF($V45=3,1," ") | AR24: =IF($V46=3,1," ") | AT24: =SUM(E24:AS24) -> 0 | AU24: =AT24/COUNT(E24:AR24) -> #DIV/0! | AV24: =COUNT(E24:AR24) -> 0
B25: 19 | D25: gadgette | E25: =IF($W7=3,1," ") | F25: =IF($W8=3,1," ") | G25: =IF($W9=3,1," ") | H25: =IF($W10=3,1," ") | I25: =IF($W11=3,1," ") | J25: =IF($W12=3,1," ") | K25: =IF($W13=3,1," ") | L25: =IF($W14=3,1," ") | M25: =IF($W15=3,1," ") | N25: =IF($W16=3,1," ") | O25: =IF($W17=3,1," ") | P25: =IF($W18=3,1," ") | Q25: =IF($W19=3,1," ") | R25: =IF($W20=3,1," ") | S25: =IF($W21=3,1," ") | T25: =IF($W22=3,1," ") | U25: =IF($W23=3,1," ") | V25: =IF($W24=3,1," ") | X25: =IF($W26=3,1," ") | Y25: =IF($W27=3,1," ") | Z25: =IF($W28=3,1," ") | AA25: =IF($W29=3,1," ") | AB25: =IF($W30=3,1," ") | AC25: =IF($W31=3,1," ") | AD25: =IF($W32=3,1," ") | AE25: =IF($W33=3,1," ") | AF25: =IF($W34=3,1," ") | AG25: =IF($W35=3,1," ") | AH25: =IF($W36=3,1," ") | AI25: =IF($W37=3,1," ") | AJ25: =IF($W38=3,1," ") | AK25: =IF($W39=3,1," ") | AL25: =IF($W40=3,1," ") | AM25: =IF($W41=3,1," ") | AN25: =IF($W42=3,1," ") | AO25: =IF($W43=3,1," ") | AP25: =IF($W44=3,1," ") | AQ25: =IF($W45=3,1," ") | AR25: =IF($W46=3,1," ") | AT25: =SUM(E25:AS25) -> 0 | AU25: =AT25/COUNT(E25:AR25) -> #DIV/0! | AV25: =COUNT(E25:AR25) -> 0
B26: 20 | D26: goodluck | E26: =IF($X7=3,1," ") | F26: =IF($X8=3,1," ") | G26: =IF($X9=3,1," ") | H26: =IF($X10=3,1," ") | I26: =IF($X11=3,1," ") | J26: =IF($X12=3,1," ") | K26: =IF($X13=3,1," ") | L26: =IF($X14=3,1," ") | M26: =IF($X15=3,1," ") | N26: =IF($X16=3,1," ") | O26: =IF($X17=3,1," ") | P26: =IF($X18=3,1," ") | Q26: =IF($X19=3,1," ") | R26: =IF($X20=3,1," ") | S26: =IF($X21=3,1," ") | T26: =IF($X22=3,1," ") | U26: =IF($X23=3,1," ") | V26: =IF($X24=3,1," ") | W26: =IF($X25=3,1," ") | Y26: =IF($X27=3,1," ") | Z26: =IF($X28=3,1," ") | AA26: =IF($X29=3,1," ") | AB26: =IF($X30=3,1," ") | AC26: =IF($X31=3,1," ") | AD26: =IF($X32=3,1," ") | AE26: =IF($X33=3,1," ") | AF26: =IF($X34=3,1," ") | AG26: =IF($X35=3,1," ") | AH26: =IF($X36=3,1," ") | AI26: =IF($X37=3,1," ") | AJ26: =IF($X38=3,1," ") | AK26: =IF($X39=3,1," ") | AL26: =IF($X40=3,1," ") | AM26: =IF($X41=3,1," ") | AN26: =IF($X42=3,1," ") | AO26: =IF($X43=3,1," ") | AP26: =IF($X44=3,1," ") | AQ26: =IF($X45=3,1," ") | AR26: =IF($X46=3,1," ") | AT26: =SUM(E26:AS26) -> 0 | AU26: =AT26/COUNT(E26:AR26) -> #DIV/0! | AV26: =COUNT(E26:AR26) -> 0
B27: 21 | D27: hercule poivrot | E27: =IF($Y7=3,1," ") | F27: =IF($Y8=3,1," ") | G27: =IF($Y9=3,1," ") | H27: =IF($Y10=3,1," ") | I27: =IF($Y11=3,1," ") | J27: =IF($Y12=3,1," ") | K27: =IF($Y13=3,1," ") | L27: =IF($Y14=3,1," ") | M27: =IF($Y15=3,1," ") | N27: =IF($Y16=3,1," ") | O27: =IF($Y17=3,1," ") | P27: =IF($Y18=3,1," ") | Q27: =IF($Y19=3,1," ") | R27: =IF($Y20=3,1," ") | S27: =IF($Y21=3,1," ") | T27: =IF($Y22=3,1," ") | U27: =IF($Y23=3,1," ") | V27: =IF($Y24=3,1," ") | W27: =IF($Y25=3,1," ") | X27: =IF($Y26=3,1," ") | Z27: =IF($Y28=3,1," ") | AA27: =IF($Y29=3,1," ") | AB27: =IF($Y30=3,1," ") | AC27: =IF($Y31=3,1," ") | AD27: =IF($Y32=3,1," ") | AE27: =IF($Y33=3,1," ") | AF27: =IF($Y34=3,1," ") | AG27: =IF($Y35=3,1," ") | AH27: =IF($Y36=3,1," ") | AI27: =IF($Y37=3,1," ") | AJ27: =IF($Y38=3,1," ") | AK27: =IF($Y39=3,1," ") | AL27: =IF($Y40=3,1," ") | AM27: =IF($Y41=3,1," ") | AN27: =IF($Y42=3,1," ") | AO27: =IF($Y43=3,1," ") | AP27: =IF($Y44=3,1," ") | AQ27: =IF($Y45=3,1," ") | AR27: =IF($Y46=3,1," ") | AT27: =SUM(E27:AS27) -> 0 | AU27: =AT27/COUNT(E27:AR27) -> #DIV/0! | AV27: =COUNT(E27:AR27) -> 0
B28: 22 | D28: jltiber | E28: =IF($Z7=3,1," ") | F28: =IF($Z8=3,1," ") | G28: =IF($Z9=3,1," ") | H28: =IF($Z10=3,1," ") | I28: =IF($Z11=3,1," ") | J28: =IF($Z12=3,1," ") | K28: =IF($Z13=3,1," ") | L28: =IF($Z14=3,1," ") | M28: =IF($Z15=3,1," ") | N28: =IF($Z16=3,1," ") | O28: =IF($Z17=3,1," ") | P28: =IF($Z18=3,1," ") | Q28: =IF($Z19=3,1," ") | R28: =IF($Z20=3,1," ") | S28: =IF($Z21=3,1," ") | T28: =IF($Z22=3,1," ") | U28: =IF($Z23=3,1," ") | V28: =IF($Z24=3,1," ") | W28: =IF($Z25=3,1," ") | X28: =IF($Z26=3,1," ") | Y28: =IF($Z27=3,1," ") | AA28: =IF($Z29=3,1," ") | AB28: =IF($Z30=3,1," ") | AC28: =IF($Z31=3,1," ") | AD28: =IF($Z32=3,1," ") | AE28: =IF($Z33=3,1," ") | AF28: =IF($Z34=3,1," ") | AG28: =IF($Z35=3,1," ") | AH28: =IF($Z36=3,1," ") | AI28: =IF($Z37=3,1," ") | AJ28: =IF($Z38=3,1," ") | AK28: =IF($Z39=3,1," ") | AL28: =IF($Z40=3,1," ") | AM28: =IF($Z41=3,1," ") | AN28: =IF($Z42=3,1," ") | AO28: =IF($Z43=3,1," ") | AP28: =IF($Z44=3,1," ") | AQ28: =IF($Z45=3,1," ") | AR28: =IF($Z46=3,1," ") | AT28: =SUM(E28:AS28) -> 0 | AU28: =AT28/COUNT(E28:AR28) -> #DIV/0! | AV28: =COUNT(E28:AR28) -> 0
B29: 23 | D29: lolilola | E29: =IF($AA7=3,1," ") | F29: =IF($AA8=3,1," ") | G29: =IF($AA9=3,1," ") | H29: =IF($AA10=3,1," ") | I29: =IF($AA11=3,1," ") | J29: =IF($AA12=3,1," ") | K29: =IF($AA13=3,1," ") | L29: =IF($AA14=3,1," ") | M29: =IF($AA15=3,1," ") | N29: =IF($AA16=3,1," ") | O29: =IF($AA17=3,1," ") | P29: =IF($AA18=3,1," ") | Q29: =IF($AA105=3,1," ") | R29: =IF($AA20=3,1," ") | S29: =IF($AA21=3,1," ") | T29: =IF($AA22=3,1," ") | U29: =IF($AA23=3,1," ") | V29: =IF($AA24=3,1," ") | W29: =IF($AA25=3,1," ") | X29: =IF($AA26=3,1," ") | Y29: =IF($AA27=3,1," ") | Z29: =IF($AA28=3,1," ") | AB29: =IF($AA30=3,1," ") | AC29: =IF($AA31=3,1," ") | AD29: =IF($AA32=3,1," ") | AE29: =IF($AA33=3,1," ") | AF29: =IF($AA34=3,1," ") | AG29: =IF($AA35=3,1," ") | AH29: =IF($AA36=3,1," ") | AI29: =IF($AA37=3,1," ") | AJ29: =IF($AA38=3,1," ") | AK29: =IF($AA39=3,1," ") | AL29: =IF($AA40=3,1," ") | AM29: =IF($AA41=3,1," ") | AN29: =IF($AA42=3,1," ") | AO29: =IF($AA43=3,1," ") | AP29: =IF($AA44=3,1," ") | AQ29: =IF($AA45=3,1," ") | AR29: =IF($AA46=3,1," ") | AT29: =SUM(E29:AS29) -> 0 | AU29: =AT29/COUNT(E29:AR29) -> #DIV/0! | AV29: =COUNT(E29:AR29) -> 0
B30: 24 | D30: looping | E30: =IF($AB7=3,1," ") | F30: =IF($AB8=3,1," ") | G30: =IF($AB9=3,1," ") | H30: =IF($AB10=3,1," ") | I30: =IF($AB11=3,1," ") | J30: =IF($AB12=3,1," ") | K30: =IF($AB13=3,1," ") | L30: =IF($AB14=3,1," ") | M30: =IF($AB15=3,1," ") | N30: =IF($AB16=3,1," ") | O30: =IF($AB17=3,1," ") | P30: =IF($AB18=3,1," ") | Q30: =IF($AB19=3,1," ") | R30: =IF($AB20=3,1," ") | S30: =IF($AB21=3,1," ") | T30: =IF($AB22=3,1," ") | U30: =IF($AB23=3,1," ") | V30: =IF($AB24=3,1," ") | W30: =IF($AB25=3,1," ") | X30: =IF($AB26=3,1," ") | Y30: =IF($AB27=3,1," ") | Z30: =IF($AB28=3,1," ") | AA30: =IF($AB29=3,1," ") | AC30: =IF($AB31=3,1," ") | AD30: =IF($AB32=3,1," ") | AE30: =IF($AB33=3,1," ") | AF30: =IF($AB34=3,1," ") | AG30: =IF($AB35=3,1," ") | AH30: =IF($AB36=3,1," ") | AI30: =IF($AB37=3,1," ") | AJ30: =IF($AB38=3,1," ") | AK30: =IF($AB39=3,1," ") | AL30: =IF($AB40=3,1," ") | AM30: =IF($AB41=3,1," ") | AN30: =IF($AB42=3,1," ") | AO30: =IF($AB43=3,1," ") | AP30: =IF($AB44=3,1," ") | AQ30: =IF($AB45=3,1," ") | AR30: =IF($AB46=3,1," ") | AT30: =SUM(E30:AS30) -> 0 | AU30: =AT30/COUNT(E30:AR30) -> #DIV/0! | AV30: =COUNT(E30:AR30) -> 0
B31: 25 | D31: mamina | E31: =IF($AC7=3,1," ") | F31: =IF($AC8=3,1," ") | G31: =IF($AC9=3,1," ") | H31: =IF($AC10=3,1," ") | I31: =IF($AC11=3,1," ") | J31: =IF($AC12=3,1," ") | K31: =IF($AC13=3,1," ") | L31: =IF($AC14=3,1," ") | M31: =IF($AC15=3,1," ") | N31: =IF($AC16=3,1," ") | O31: =IF($AC17=3,1," ") | P31: =IF($AC18=3,1," ") | Q31: =IF($AC19=3,1," ") | R31: =IF($AC20=3,1," ") | S31: =IF($AC21=3,1," ") | T31: =IF($AC22=3,1," ") | U31: =IF($AC23=3,1," ") | V31: =IF($AC24=3,1," ") | W31: =IF($AC25=3,1," ") | X31: =IF($AC26=3,1," ") | Y31: =IF($AC27=3,1," ") | Z31: =IF($AC28=3,1," ") | AA31: =IF($AC29=3,1," ") | AB31: =IF($AC30=3,1," ") | AD31: =IF($AC32=3,1," ") | AE31: =IF($AC33=3,1," ") | AF31: =IF($AC34=3,1," ") | AG31: =IF($AC35=3,1," ") | AH31: =IF($AC36=3,1," ") | AI31: =IF($AC37=3,1," ") | AJ31: =IF($AC38=3,1," ") | AK31: =IF($AC39=3,1," ") | AL31: =IF($AC40=3,1," ") | AM31: =IF($AC41=3,1," ") | AN31: =IF($AC42=3,1," ") | AO31: =IF($AC43=3,1," ") | AP31: =IF($AC44=3,1," ") | AQ31: =IF($AC45=3,1," ") | AR31: =IF($AC46=3,1," ") | AT31: =SUM(E31:AS31) -> 0 | AU31: =AT31/COUNT(E31:AR31) -> #DIV/0! | AV31: =COUNT(E31:AR31) -> 0
B32: 26 | D32: motoflo | E32: =IF($AD7=3,1," ") | F32: =IF($AD8=3,1," ") | G32: =IF($AD9=3,1," ") | H32: =IF($AD10=3,1," ") | I32: =IF($AD11=3,1," ") | J32: =IF($AD12=3,1," ") | K32: =IF($AD13=3,1," ") | L32: =IF($AD14=3,1," ") | M32: =IF($AD15=3,1," ") | N32: =IF($AD16=3,1," ") | O32: =IF($AD17=3,1," ") | P32: =IF($AD18=3,1," ") | Q32: =IF($AD19=3,1," ") | R32: =IF($AD20=3,1," ") | S32: =IF($AD21=3,1," ") | T32: =IF($AD22=3,1," ") | U32: =IF($AD23=3,1," ") | V32: =IF($AD24=3,1," ") | W32: =IF($AD25=3,1," ") | X32: =IF($AD26=3,1," ") | Y32: =IF($AD27=3,1," ") | Z32: =IF($AD28=3,1," ") | AA32: =IF($AD29=3,1," ") | AB32: =IF($AD30=3,1," ") | AC32: =IF($AD31=3,1," ") | AE32: =IF($AD33=3,1," ") | AF32: =IF($AD34=3,1," ") | AG32: =IF($AD35=3,1," ") | AH32: =IF($AD36=3,1," ") | AI32: =IF($AD37=3,1," ") | AJ32: =IF($AD38=3,1," ") | AK32: =IF($AD39=3,1," ") | AL32: =IF($AD40=3,1," ") | AM32: =IF($AD41=3,1," ") | AN32: =IF($AD42=3,1," ") | AO32: =IF($AD43=3,1," ") | AP32: =IF($AD44=3,1," ") | AQ32: =IF($AD45=3,1," ") | AR32: =IF($AD46=3,1," ") | AT32: =SUM(E32:AS32) -> 0 | AU32: =AT32/COUNT(E32:AR32) -> #DIV/0! | AV32: =COUNT(E32:AR32) -> 0
B33: 27 | D33: sandrine 13 | E33: =IF($AE7=3,1," ") | F33: =IF($AE8=3,1," ") | G33: =IF($AE9=3,1," ") | H33: =IF($AE10=3,1," ") | I33: =IF($AE11=3,1," ") | J33: =IF($AE12=3,1," ") | K33: =IF($AE13=3,1," ") | L33: =IF($AE14=3,1," ") | M33: =IF($AE15=3,1," ") | N33: =IF($AE16=3,1," ") | O33: =IF($AE17=3,1," ") | P33: =IF($AE18=3,1," ") | Q33: =IF($AE19=3,1," ") | R33: =IF($AE20=3,1," ") | S33: =IF($AE21=3,1," ") | T33: =IF($AE22=3,1," ") | U33: =IF($AE23=3,1," ") | V33: =IF($AE24=3,1," ") | W33: =IF($AE25=3,1," ") | X33: =IF($AE26=3,1," ") | Y33: =IF($AE27=3,1," ") | Z33: =IF($AE28=3,1," ") | AA33: =IF($AE29=3,1," ") | AB33: =IF($AE30=3,1," ") | AC33: =IF($AE31=3,1," ") | AD33: =IF($AE32=3,1," ") | AF33: =IF($AE34=3,1," ") | AG33: =IF($AE35=3,1," ") | AH33: =IF($AE36=3,1," ") | AI33: =IF($AE37=3,1," ") | AJ33: =IF($AE38=3,1," ") | AK33: =IF($AE39=3,1," ") | AL33: =IF($AE40=3,1," ") | AM33: =IF($AE41=3,1," ") | AN33: =IF($AE42=3,1," ") | AO33: =IF($AE43=3,1," ") | AP33: =IF($AE44=3,1," ") | AQ33: =IF($AE45=3,1," ") | AR33: =IF($AE46=3,1," ") | AT33: =SUM(E33:AS33) -> 0 | AU33: =AT33/COUNT(E33:AR33) -> #DIV/0! | AV33: =COUNT(E33:AR33) -> 0
B34: 28 | D34: tatate-fafa | E34: =IF($AF7=3,1," ") | F34: =IF($AF8=3,1," ") | G34: =IF($AF9=3,1," ") | H34: =IF($AF10=3,1," ") | I34: =IF($AF11=3,1," ") | J34: =IF($AF12=3,1," ") | K34: =IF($AF13=3,1," ") | L34: =IF($AF14=3,1," ") | M34: =IF($AF15=3,1," ") | N34: =IF($AF16=3,1," ") | O34: =IF($AF17=3,1," ") | P34: =IF($AF18=3,1," ") | Q34: =IF($AF19=3,1," ") | R34: =IF($AF20=3,1," ") | S34: =IF($AF21=3,1," ") | T34: =IF($AF22=3,1," ") | U34: =IF($AF23=3,1," ") | V34: =IF($AF24=3,1," ") | W34: =IF($AF25=3,1," ") | X34: =IF($AF26=3,1," ") | Y34: =IF($AF27=3,1," ") | Z34: =IF($AF28=3,1," ") | AA34: =IF($AF29=3,1," ") | AB34: =IF($AF30=3,1," ") | AC34: =IF($AF31=3,1," ") | AD34: =IF($AF32=3,1," ") | AE34: =IF($AF33=3,1," ") | AG34: =IF($AF35=3,1," ") | AH34: =IF($AF36=3,1," ") | AI34: =IF($AF37=3,1," ") | AJ34: =IF($AF38=3,1," ") | AK34: =IF($AF39=3,1," ") | AL34: =IF($AF40=3,1," ") | AM34: =IF($AF41=3,1," ") | AN34: =IF($AF42=3,1," ") | AO34: =IF($AF43=3,1," ") | AP34: =IF($AF44=3,1," ") | AQ34: =IF($AF45=3,1," ") | AR34: =IF($AF46=3,1," ") | AT34: =SUM(E34:AS34) -> 0 | AU34: =AT34/COUNT(E34:AR34) -> #DIV/0! | AV34: =COUNT(E34:AR34) -> 0
B35: 29 | D35: titinar | E35: =IF($AG7=3,1," ") | F35: =IF($AG8=3,1," ") | G35: =IF($AG9=3,1," ") | H35: =IF($AG10=3,1," ") | I35: =IF($AG11=3,1," ") | J35: =IF($AG12=3,1," ") | K35: =IF($AG13=3,1," ") | L35: =IF($AG14=3,1," ") | M35: =IF($AG15=3,1," ") | N35: =IF($AG16=3,1," ") | O35: =IF($AG17=3,1," ") | P35: =IF($AG18=3,1," ") | Q35: =IF($AG19=3,1," ") | R35: =IF($AG20=3,1," ") | S35: =IF($AG21=3,1," ") | T35: =IF($AG22=3,1," ") | U35: =IF($AG23=3,1," ") | V35: =IF($AG24=3,1," ") | W35: =IF($AG25=3,1," ") | X35: =IF($AG26=3,1," ") | Y35: =IF($AG27=3,1," ") | Z35: =IF($AG28=3,1," ") | AA35: =IF($AG29=3,1," ") | AB35: =IF($AG30=3,1," ") | AC35: =IF($AG31=3,1," ") | AD35: =IF($AG32=3,1," ") | AE35: =IF($AG33=3,1," ") | AF35: =IF($AG34=3,1," ") | AH35: =IF($AG36=3,1," ") | AI35: =IF($AG37=3,1," ") | AJ35: =IF($AG38=3,1," ") | AK35: =IF($AG39=3,1," ") | AL35: =IF($AG40=3,1," ") | AM35: =IF($AG41=3,1," ") | AN35: =IF($AG42=3,1," ") | AO35: =IF($AG43=3,1," ") | AP35: =IF($AG44=3,1," ") | AQ35: =IF($AG45=3,1," ") | AR35: =IF($AG46=3,1," ") | AT35: =SUM(E35:AS35) -> 0 | AU35: =AT35/COUNT(E35:AR35) -> #DIV/0! | AV35: =COUNT(E35:AR35) -> 0
B36: 30 | D36: um5um6 | E36: =IF($AH7=3,1," ") | F36: =IF($AH8=3,1," ") | G36: =IF($AH9=3,1," ") | H36: =IF($AH10=3,1," ") | I36: =IF($AH11=3,1," ") | J36: =IF($AH12=3,1," ") | K36: =IF($AH13=3,1," ") | L36: =IF($AH14=3,1," ") | M36: =IF($AH15=3,1," ") | N36: =IF($AH16=3,1," ") | O36: =IF($AH17=3,1," ") | P36: =IF($AH18=3,1," ") | Q36: =IF($AH19=3,1," ") | R36: =IF($AH20=3,1," ") | S36: =IF($AH21=3,1," ") | T36: =IF($AH22=3,1," ") | U36: =IF($AH23=3,1," ") | V36: =IF($AH24=3,1," ") | W36: =IF($AH25=3,1," ") | X36: =IF($AH26=3,1," ") | Y36: =IF($AH27=3,1," ") | Z36: =IF($AH28=3,1," ") | AA36: =IF($AH29=3,1," ") | AB36: =IF($AH30=3,1," ") | AC36: =IF($AH31=3,1," ") | AD36: =IF($AH32=3,1," ") | AE36: =IF($AH33=3,1," ") | AF36: =IF($AH34=3,1," ") | AG36: =IF($AH35=3,1," ") | AI36: =IF($AH37=3,1," ") | AJ36: =IF($AH38=3,1," ") | AK36: =IF($AH39=3,1," ") | AL36: =IF($AH40=3,1," ") | AM36: =IF($AH41=3,1," ") | AN36: =IF($AH42=3,1," ") | AO36: =IF($AH43=3,1," ") | AP36: =IF($AH44=3,1," ") | AQ36: =IF($AH45=3,1," ") | AR36: =IF($AH46=3,1," ") | AT36: =SUM(E36:AS36) -> 0 | AU36: =AT36/COUNT(E36:AR36) -> #DIV/0! | AV36: =COUNT(E36:AR36) -> 0
B37: 31 | D37: vahan 3 | E37: =IF($AI7=3,1," ") | F37: =IF($AI8=3,1," ") | G37: =IF($AI9=3,1," ") | H37: =IF($AI10=3,1," ") | I37: =IF($AI11=3,1," ") | J37: =IF($AI12=3,1," ") | K37: =IF($AI13=3,1," ") | L37: =IF($AI14=3,1," ") | M37: =IF($AI15=3,1," ") | N37: =IF($AI16=3,1," ") | O37: =IF($AI17=3,1," ") | P37: =IF($AI18=3,1," ") | Q37: =IF($AI19=3,1," ") | R37: =IF($AI20=3,1," ") | S37: =IF($AI21=3,1," ") | T37: =IF($AI22=3,1," ") | U37: =IF($AI23=3,1," ") | V37: =IF($AI24=3,1," ") | W37: =IF($AI25=3,1," ") | X37: =IF($AI26=3,1," ") | Y37: =IF($AI27=3,1," ") | Z37: =IF($AI28=3,1," ") | AA37: =IF($AI29=3,1," ") | AB37: =IF($AI30=3,1," ") | AC37: =IF($AI31=3,1," ") | AD37: =IF($AI32=3,1," ") | AE37: =IF($AI33=3,1," ") | AF37: =IF($AI34=3,1," ") | AG37: =IF($AI35=3,1," ") | AH37: =IF($AI36=3,1," ") | AJ37: =IF($AI38=3,1," ") | AK37: =IF($AI39=3,1," ") | AL37: =IF($AI40=3,1," ") | AM37: =IF($AI41=3,1," ") | AN37: =IF($AI42=3,1," ") | AO37: =IF($AI43=3,1," ") | AP37: =IF($AI44=3,1," ") | AQ37: =IF($AI45=3,1," ") | AR37: =IF($AI46=3,1," ") | AT37: =SUM(E37:AS37) -> 0 | AU37: =AT37/COUNT(E37:AR37) -> #DIV/0! | AV37: =COUNT(E37:AR37) -> 0
B38: 32 | D38: w | E38: =IF($AJ7=3,1," ") | F38: =IF($AJ8=3,1," ") | G38: =IF($AJ9=3,1," ") | H38: =IF($AJ10=3,1," ") | I38: =IF($AJ11=3,1," ") | J38: =IF($AJ12=3,1," ") | K38: =IF($AJ99=3,1," ") | L38: =IF($AJ14=3,1," ") | M38: =IF($AJ15=3,1," ") | N38: =IF($AJ16=3,1," ") | O38: =IF($AJ17=3,1," ") | P38: =IF($AJ18=3,1," ") | Q38: =IF($AJ19=3,1," ") | R38: =IF($AJ20=3,1," ") | S38: =IF($AJ21=3,1," ") | T38: =IF($AJ22=3,1," ") | U38: =IF($AJ23=3,1," ") | V38: =IF($AJ24=3,1," ") | W38: =IF($AJ25=3,1," ") | X38: =IF($AJ26=3,1," ") | Y38: =IF($AJ27=3,1," ") | Z38: =IF($AJ28=3,1," ") | AA38: =IF($AJ29=3,1," ") | AB38: =IF($AJ30=3,1," ") | AC38: =IF($AJ31=3,1," ") | AD38: =IF($AJ32=3,1," ") | AE38: =IF($AJ33=3,1," ") | AF38: =IF($AJ34=3,1," ") | AG38: =IF($AJ35=3,1," ") | AH38: =IF($AJ36=3,1," ") | AI38: =IF($AJ37=3,1," ") | AK38: =IF($AJ39=3,1," ") | AL38: =IF($AJ40=3,1," ") | AM38: =IF($AJ41=3,1," ") | AN38: =IF($AJ42=3,1," ") | AO38: =IF($AJ43=3,1," ") | AP38: =IF($AJ44=3,1," ") | AQ38: =IF($AJ45=3,1," ") | AR38: =IF($AJ46=3,1," ") | AT38: =SUM(E38:AS38) -> 0 | AU38: =AT38/COUNT(E38:AR38) -> #DIV/0! | AV38: =COUNT(E38:AR38) -> 0
B39: 33 | D39: ww | E39: =IF($AK7=3,1," ") | F39: =IF($AK8=3,1," ") | G39: =IF($AK9=3,1," ") | H39: =IF($AK10=3,1," ") | I39: =IF($AK11=3,1," ") | J39: =IF($AK12=3,1," ") | K39: =IF($AK13=3,1," ") | L39: =IF($AK14=3,1," ") | M39: =IF($AK15=3,1," ") | N39: =IF($AK1012=3,1," ") | O39: =IF($AK17=3,1," ") | P39: =IF($AK18=3,1," ") | Q39: =IF($AK19=3,1," ") | R39: =IF($AK20=3,1," ") | S39: =IF($AK21=3,1," ") | T39: =IF($AK22=3,1," ") | U39: =IF($AK23=3,1," ") | V39: =IF($AK24=3,1," ") | W39: =IF($AK25=3,1," ") | X39: =IF($AK26=3,1," ") | Y39: =IF($AK27=3,1," ") | Z39: =IF($AK28=3,1," ") | AA39: =IF($AK29=3,1," ") | AB39: =IF($AK30=3,1," ") | AC39: =IF($AK31=3,1," ") | AD39: =IF($AK32=3,1," ") | AE39: =IF($AK33=3,1," ") | AF39: =IF($AK34=3,1," ") | AG39: =IF($AK35=3,1," ") | AH39: =IF($AK36=3,1," ") | AI39: =IF($AK37=3,1," ") | AJ39: =IF($AK38=3,1," ") | AL39: =IF($AK40=3,1," ") | AM39: =IF($AK41=3,1," ") | AN39: =IF($AK42=3,1," ") | AO39: =IF($AK43=3,1," ") | AP39: =IF($AK44=3,1," ") | AQ39: =IF($AK45=3,1," ") | AR39: =IF($AK46=3,1," ") | AT39: =SUM(E39:AS39) -> 0 | AU39: =AT39/COUNT(E39:AR39) -> #DIV/0! | AV39: =COUNT(E39:AR39) -> 0
B40: 34 | D40: www | E40: =IF($AL7=3,1," ") | F40: =IF($AL8=3,1," ") | G40: =IF($AL9=3,1," ") | H40: =IF($AL10=3,1," ") | I40: =IF($AL11=3,1," ") | J40: =IF($AL12=3,1," ") | K40: =IF($AL13=3,1," ") | L40: =IF($AL14=3,1," ") | M40: =IF($AL15=3,1," ") | N40: =IF($AL16=3,1," ") | O40: =IF($AL17=3,1," ") | P40: =IF($AL18=3,1," ") | Q40: =IF($AL19=3,1," ") | R40: =IF($AL20=3,1," ") | S40: =IF($AL21=3,1," ") | T40: =IF($AL22=3,1," ") | U40: =IF($AL23=3,1," ") | V40: =IF($AL24=3,1," ") | W40: =IF($AL25=3,1," ") | X40: =IF($AL26=3,1," ") | Y40: =IF($AL27=3,1," ") | Z40: =IF($AL28=3,1," ") | AA40: =IF($AL29=3,1," ") | AB40: =IF($AL30=3,1," ") | AC40: =IF($AL31=3,1," ") | AD40: =IF($AL32=3,1," ") | AE40: =IF($AL33=3,1," ") | AF40: =IF($AL34=3,1," ") | AG40: =IF($AL35=3,1," ") | AH40: =IF($AL36=3,1," ") | AI40: =IF($AL37=3,1," ") | AJ40: =IF($AL38=3,1," ") | AK40: =IF($AL39=3,1," ") | AM40: =IF($AL41=3,1," ") | AN40: =IF($AL42=3,1," ") | AO40: =IF($AL43=3,1," ") | AP40: =IF($AL44=3,1," ") | AQ40: =IF($AL45=3,1," ") | AR40: =IF($AL46=3,1," ") | AT40: =SUM(E40:AS40) -> 0 | AU40: =AT40/COUNT(E40:AR40) -> #DIV/0! | AV40: =COUNT(E40:AR40) -> 0
B41: 35 | D41: wwww | E41: =IF($AM7=3,1," ") | F41: =IF($AM8=3,1," ") | G41: =IF($AM9=3,1," ") | H41: =IF($AM10=3,1," ") | I41: =IF($AM11=3,1," ") | J41: =IF($AM12=3,1," ") | K41: =IF($AM13=3,1," ") | L41: =IF($AM14=3,1," ") | M41: =IF($AM15=3,1," ") | N41: =IF($AM16=3,1," ") | O41: =IF($AM17=3,1," ") | P41: =IF($AM18=3,1," ") | Q41: =IF($AM19=3,1," ") | R41: =IF($AM20=3,1," ") | S41: =IF($AM21=3,1," ") | T41: =IF($AM22=3,1," ") | U41: =IF($AM23=3,1," ") | V41: =IF($AM24=3,1," ") | W41: =IF($AM25=3,1," ") | X41: =IF($AM26=3,1," ") | Y41: =IF($AM27=3,1," ") | Z41: =IF($AM28=3,1," ") | AA41: =IF($AM29=3,1," ") | AB41: =IF($AM30=3,1," ") | AC41: =IF($AM31=3,1," ") | AD41: =IF($AM32=3,1," ") | AE41: =IF($AM33=3,1," ") | AF41: =IF($AM34=3,1," ") | AG41: =IF($AM35=3,1," ") | AH41: =IF($AM36=3,1," ") | AI41: =IF($AM37=3,1," ") | AJ41: =IF($AM38=3,1," ") | AK41: =IF($AM39=3,1," ") | AL41: =IF($AM40=3,1," ") | AN41: =IF($AM42=3,1," ") | AO41: =IF($AM43=3,1," ") | AP41: =IF($AM44=3,1," ") | AQ41: =IF($AM45=3,1," ") | AR41: =IF($AM46=3,1," ") | AT41: =SUM(E41:AS41) -> 0 | AU41: =AT41/COUNT(E41:AR41) -> #DIV/0! | AV41: =COUNT(E41:AR41) -> 0
B42: 36 | D42: x | E42: =IF($AN7=3,1," ") | F42: =IF($AN8=3,1," ") | G42: =IF($AN9=3,1," ") | H42: =IF($AN10=3,1," ") | I42: =IF($AN11=3,1," ") | J42: =IF($AN12=3,1," ") | K42: =IF($AN13=3,1," ") | L42: =IF($AN14=3,1," ") | M42: =IF($AN15=3,1," ") | N42: =IF($AN16=3,1," ") | O42: =IF($AN17=3,1," ") | P42: =IF($AN18=3,1," ") | Q42: =IF($AN19=3,1," ") | R42: =IF($AN20=3,1," ") | S42: =IF($AN21=3,1," ") | T42: =IF($AN22=3,1," ") | U42: =IF($AN23=3,1," ") | V42: =IF($AN24=3,1," ") | W42: =IF($AN25=3,1," ") | X42: =IF($AN26=3,1," ") | Y42: =IF($AN27=3,1," ") | Z42: =IF($AN28=3,1," ") | AA42: =IF($AN29=3,1," ") | AB42: =IF($AN30=3,1," ") | AC42: =IF($AN31=3,1," ") | AD42: =IF($AN32=3,1," ") | AE42: =IF($AN33=3,1," ") | AF42: =IF($AN34=3,1," ") | AG42: =IF($AN35=3,1," ") | AH42: =IF($AN36=3,1," ") | AI42: =IF($AN37=3,1," ") | AJ42: =IF($AN38=3,1," ") | AK42: =IF($AN39=3,1," ") | AL42: =IF($AN40=3,1," ") | AM42: =IF($AN41=3,1," ") | AO42: =IF($AN43=3,1," ") | AP42: =IF($AN44=3,1," ") | AQ42: =IF($AN45=3,1," ") | AR42: =IF($AN46=3,1," ") | AT42: =SUM(E42:AS42) -> 0 | AU42: =AT42/COUNT(E42:AR42) -> #DIV/0! | AV42: =COUNT(E42:AR42) -> 0
B43: 37 | D43: xx | E43: =IF($AO7=3,1," ") | F43: =IF($AO8=3,1," ") | G43: =IF($AO9=3,1," ") | H43: =IF($AO10=3,1," ") | I43: =IF($AO11=3,1," ") | J43: =IF($AO12=3,1," ") | K43: =IF($AO13=3,1," ") | L43: =IF($AO14=3,1," ") | M43: =IF($AO15=3,1," ") | N43: =IF($AO16=3,1," ") | O43: =IF($AO17=3,1," ") | P43: =IF($AO18=3,1," ") | Q43: =IF($AO19=3,1," ") | R43: =IF($AO20=3,1," ") | S43: =IF($AO21=3,1," ") | T43: =IF($AO22=3,1," ") | U43: =IF($AO23=3,1," ") | V43: =IF($AO24=3,1," ") | W43: =IF($AO25=3,1," ") | X43: =IF($AO26=3,1," ") | Y43: =IF($AO27=3,1," ") | Z43: =IF($AO28=3,1," ") | AA43: =IF($AO29=3,1," ") | AB43: =IF($AO30=3,1," ") | AC43: =IF($AO31=3,1," ") | AD43: =IF($AO32=3,1," ") | AE43: =IF($AO33=3,1," ") | AF43: =IF($AO34=3,1," ") | AG43: =IF($AO35=3,1," ") | AH43: =IF($AO36=3,1," ") | AI43: =IF($AO37=3,1," ") | AJ43: =IF($AO38=3,1," ") | AK43: =IF($AO39=3,1," ") | AL43: =IF($AO40=3,1," ") | AM43: =IF($AO41=3,1," ") | AN43: =IF($AO42=3,1," ") | AP43: =IF($AO44=3,1," ") | AQ43: =IF($AO45=3,1," ") | AR43: =IF($AO46=3,1," ") | AT43: =SUM(E43:AS43) -> 0 | AU43: =AT43/COUNT(E43:AR43) -> #DIV/0! | AV43: =COUNT(E43:AR43) -> 0
...

Sheet 1ère série  ordre (2)
G4: ='1ère série'!AA3 -> 42278 | L4: ='1ère série'!AE3 -> 0.5
D7: J O U E U R S | E7: Cumul des Points | F7: Moyenne par Match | G7: Nombre de matchs restants | H7: Sélection nés | L7: J O U E U R S | M7: Cumul des Points | N7: Moyenne par Match | O7: Nombre de matchs restants | P7: Sélection nés
B8: 1 | D8: ='1ère série'!D7 -> alternative | E8: ='1ère série'!AT7 -> 0 | F8: ='1ère série'!AU7 -> #DIV/0! | G8: =$B$46-'1ère série'!AV7 -> 39 | J8: 1 | L8: ='1ère série'!D7 -> alternative | M8: ='1ère série'!AT7 -> 0 | N8: ='1ère série'!AU7 -> #DIV/0! | O8: =$B$46-'1ère série'!AV7 -> 39
B9: 2 | D9: ='1ère série'!D8 -> artemide | E9: ='1ère série'!AT8 -> 0 | F9: ='1ère série'!AU8 -> #DIV/0! | G9: =$B$46-'1ère série'!AV8 -> 39 | J9: 2 | L9: ='1ère série'!D8 -> artemide | M9: ='1ère série'!AT8 -> 0 | N9: ='1ère série'!AU8 -> #DIV/0! | O9: =$B$46-'1ère série'!AV8 -> 39
B10: 3 | D10: ='1ère série'!D9 -> barbaraluise | E10: ='1ère série'!AT9 -> 0 | F10: ='1ère série'!AU9 -> #DIV/0! | G10: =$B$46-'1ère série'!AV9 -> 39 | J10: 3 | L10: ='1ère série'!D9 -> barbaraluise | M10: ='1ère série'!AT9 -> 0 | N10: ='1ère série'!AU9 -> #DIV/0! | O10: =$B$46-'1ère série'!AV9 -> 39
B11: 4 | D11: ='1ère série'!D10 -> barchan | E11: ='1ère série'!AT10 -> 0 | F11: ='1ère série'!AU10 -> #DIV/0! | G11: =$B$46-'1ère série'!AV10 -> 39 | J11: 4 | L11: ='1ère série'!D10 -> barchan | M11: ='1ère série'!AT10 -> 0 | N11: ='1ère série'!AU10 -> #DIV/0! | O11: =$B$46-'1ère série'!AV10 -> 39
B12: 5 | D12: ='1ère série'!D11 -> bernie | E12: ='1ère série'!AT11 -> 0 | F12: ='1ère série'!AU11 -> #DIV/0! | G12: =$B$46-'1ère série'!AV11 -> 39 | J12: 5 | K12: 3 | L12: ='1ère série'!D11 -> bernie | M12: ='1ère série'!AT11 -> 0 | N12: ='1ère série'!AU11 -> #DIV/0! | O12: =$B$46-'1ère série'!AV11 -> 39
B13: 6 | D13: ='1ère série'!D12 -> blackbird | E13: ='1ère série'!AT12 -> 0 | F13: ='1ère série'!AU12 -> #DIV/0! | G13: =$B$46-'1ère série'!AV12 -> 39 | J13: 6 | L13: ='1ère série'!D12 -> blackbird | M13: ='1ère série'!AT12 -> 0 | N13: ='1ère série'!AU12 -> #DIV/0! | O13: =$B$46-'1ère série'!AV12 -> 39
B14: 7 | D14: ='1ère série'!D13 -> blackout 67 | E14: ='1ère série'!AT13 -> 0 | F14: ='1ère série'!AU13 -> #DIV/0! | G14: =$B$46-'1ère série'!AV13 -> 39 | J14: 7 | L14: ='1ère série'!D13 -> blackout 67 | M14: ='1ère série'!AT13 -> 0 | N14: ='1ère série'!AU13 -> #DIV/0! | O14: =$B$46-'1ère série'!AV13 -> 39
B15: 8 | D15: ='1ère série'!D14 -> candy | E15: ='1ère série'!AT14 -> 0 | F15: ='1ère série'!AU14 -> #DIV/0! | G15: =$B$46-'1ère série'!AV14 -> 39 | J15: 8 | L15: ='1ère série'!D14 -> candy | M15: ='1ère série'!AT14 -> 0 | N15: ='1ère série'!AU14 -> #DIV/0! | O15: =$B$46-'1ère série'!AV14 -> 39
B16: 9 | D16: ='1ère série'!D15 -> caro | E16: ='1ère série'!AT15 -> 0 | F16: ='1ère série'!AU15 -> #DIV/0! | G16: =$B$46-'1ère série'!AV15 -> 39 | J16: 9 | L16: ='1ère série'!D15 -> caro | M16: ='1ère série'!AT15 -> 0 | N16: ='1ère série'!AU15 -> #DIV/0! | O16: =$B$46-'1ère série'!AV15 -> 39
B17: 10 | D17: ='1ère série'!D16 -> casta diva | E17: ='1ère série'!AT16 -> 0 | F17: ='1ère série'!AU16 -> #DIV/0! | G17: =$B$46-'1ère série'!AV16 -> 39 | J17: 10 | L17: ='1ère série'!D16 -> casta diva | M17: ='1ère série'!AT16 -> 0 | N17: ='1ère série'!AU16 -> #DIV/0! | O17: =$B$46-'1ère série'!AV16 -> 39
B18: 11 | D18: ='1ère série'!D17 -> chablis | E18: ='1ère série'!AT17 -> 0 | F18: ='1ère série'!AU17 -> #DIV/0! | G18: =$B$46-'1ère série'!AV17 -> 39 | J18: 11 | L18: ='1ère série'!D17 -> chablis | M18: ='1ère série'!AT17 -> 0 | N18: ='1ère série'!AU17 -> #DIV/0! | O18: =$B$46-'1ère série'!AV17 -> 39
B19: 12 | D19: ='1ère série'!D18 -> choumek | E19: ='1ère série'!AT18 -> 0 | F19: ='1ère série'!AU18 -> #DIV/0! | G19: =$B$46-'1ère série'!AV18 -> 39 | J19: 12 | K19: 0 | L19: ='1ère série'!D18 -> choumek | M19: ='1ère série'!AT18 -> 0 | N19: ='1ère série'!AU18 -> #DIV/0! | O19: =$B$46-'1ère série'!AV18 -> 39
B20: 13 | D20: ='1ère série'!D19 -> chris | E20: ='1ère série'!AT19 -> 0 | F20: ='1ère série'!AU19 -> #DIV/0! | G20: =$B$46-'1ère série'!AV19 -> 39 | J20: 13 | L20: ='1ère série'!D19 -> chris | M20: ='1ère série'!AT19 -> 0 | N20: ='1ère série'!AU19 -> #DIV/0! | O20: =$B$46-'1ère série'!AV19 -> 39
B21: 14 | D21: ='1ère série'!D20 -> chritiane_g | E21: ='1ère série'!AT20 -> 0 | F21: ='1ère série'!AU20 -> #DIV/0! | G21: =$B$46-'1ère série'!AV20 -> 39 | J21: 14 | K21: 1 | L21: ='1ère série'!D20 -> chritiane_g | M21: ='1ère série'!AT20 -> 0 | N21: ='1ère série'!AU20 -> #DIV/0! | O21: =$B$46-'1ère série'!AV20 -> 39
B22: 15 | D22: ='1ère série'!D21 -> cleopatre 80 | E22: ='1ère série'!AT21 -> 0 | F22: ='1ère série'!AU21 -> #DIV/0! | G22: =$B$46-'1ère série'!AV21 -> 39 | J22: 15 | K22: 3 | L22: ='1ère série'!D21 -> cleopatre 80 | M22: ='1ère série'!AT21 -> 0 | N22: ='1ère série'!AU21 -> #DIV/0! | O22: =$B$46-'1ère série'!AV21 -> 39
B23: 16 | D23: ='1ère série'!D22 -> Dr Jekkyl | E23: ='1ère série'!AT22 -> 0 | F23: ='1ère série'!AU22 -> #DIV/0! | G23: =$B$46-'1ère série'!AV22 -> 39 | J23: 16 | L23: ='1ère série'!D22 -> Dr Jekkyl | M23: ='1ère série'!AT22 -> 0 | N23: ='1ère série'!AU22 -> #DIV/0! | O23: =$B$46-'1ère série'!AV22 -> 39
B24: 17 | D24: ='1ère série'!D23 -> fanfan 45220 | E24: ='1ère série'!AT23 -> 0 | F24: ='1ère série'!AU23 -> #DIV/0! | G24: =$B$46-'1ère série'!AV23 -> 39 | J24: 17 | L24: ='1ère série'!D23 -> fanfan 45220 | M24: ='1ère série'!AT23 -> 0 | N24: ='1ère série'!AU23 -> #DIV/0! | O24: =$B$46-'1ère série'!AV23 -> 39
B25: 18 | D25: ='1ère série'!D24 -> fantomette | E25: ='1ère série'!AT24 -> 0 | F25: ='1ère série'!AU24 -> #DIV/0! | G25: =$B$46-'1ère série'!AV24 -> 39 | J25: 18 | L25: ='1ère série'!D24 -> fantomette | M25: ='1ère série'!AT24 -> 0 | N25: ='1ère série'!AU24 -> #DIV/0! | O25: =$B$46-'1ère série'!AV24 -> 39
B26: 19 | D26: ='1ère série'!D25 -> gadgette | E26: ='1ère série'!AT25 -> 0 | F26: ='1ère série'!AU25 -> #DIV/0! | G26: =$B$46-'1ère série'!AV25 -> 39 | J26: 19 | L26: ='1ère série'!D25 -> gadgette | M26: ='1ère série'!AT25 -> 0 | N26: ='1ère série'!AU25 -> #DIV/0! | O26: =$B$46-'1ère série'!AV25 -> 39
B27: 20 | D27: ='1ère série'!D26 -> goodluck | E27: ='1ère série'!AT26 -> 0 | F27: ='1ère série'!AU26 -> #DIV/0! | G27: =$B$46-'1ère série'!AV26 -> 39 | J27: 20 | L27: ='1ère série'!D26 -> goodluck | M27: ='1ère série'!AT26 -> 0 | N27: ='1ère série'!AU26 -> #DIV/0! | O27: =$B$46-'1ère série'!AV26 -> 39
B28: 21 | D28: ='1ère série'!D27 -> hercule poivrot | E28: ='1ère série'!AT27 -> 0 | F28: ='1ère série'!AU27 -> #DIV/0! | G28: =$B$46-'1ère série'!AV27 -> 39 | J28: 21 | L28: ='1ère série'!D27 -> hercule poivrot | M28: ='1ère série'!AT27 -> 0 | N28: ='1ère série'!AU27 -> #DIV/0! | O28: =$B$46-'1ère série'!AV27 -> 39
B29: 22 | D29: ='1ère série'!D28 -> jltiber | E29: ='1ère série'!AT28 -> 0 | F29: ='1ère série'!AU28 -> #DIV/0! | G29: =$B$46-'1ère série'!AV28 -> 39 | J29: 22 | L29: ='1ère série'!D28 -> jltiber | M29: ='1ère série'!AT28 -> 0 | N29: ='1ère série'!AU28 -> #DIV/0! | O29: =$B$46-'1ère série'!AV28 -> 39
B30: 23 | D30: ='1ère série'!D29 -> lolilola | E30: ='1ère série'!AT29 -> 0 | F30: ='1ère série'!AU29 -> #DIV/0! | G30: =$B$46-'1ère série'!AV29 -> 39 | J30: 23 | L30: ='1ère série'!D29 -> lolilola | M30: ='1ère série'!AT29 -> 0 | N30: ='1ère série'!AU29 -> #DIV/0! | O30: =$B$46-'1ère série'!AV29 -> 39
B31: 24 | D31: ='1ère série'!D30 -> looping | E31: ='1ère série'!AT30 -> 0 | F31: ='1ère série'!AU30 -> #DIV/0! | G31: =$B$46-'1ère série'!AV30 -> 39 | J31: 24 | L31: ='1ère série'!D30 -> looping | M31: ='1ère série'!AT30 -> 0 | N31: ='1ère série'!AU30 -> #DIV/0! | O31: =$B$46-'1ère série'!AV30 -> 39
B32: 25 | D32: ='1ère série'!D31 -> mamina | E32: ='1ère série'!AT31 -> 0 | F32: ='1ère série'!AU31 -> #DIV/0! | G32: =$B$46-'1ère série'!AV31 -> 39 | J32: 25 | K32: 0 | L32: ='1ère série'!D31 -> mamina | M32: ='1ère série'!AT31 -> 0 | N32: ='1ère série'!AU31 -> #DIV/0! | O32: =$B$46-'1ère série'!AV31 -> 39
B33: 26 | D33: ='1ère série'!D32 -> motoflo | E33: ='1ère série'!AT32 -> 0 | F33: ='1ère série'!AU32 -> #DIV/0! | G33: =$B$46-'1ère série'!AV32 -> 39 | J33: 26 | K33: 3 | L33: ='1ère série'!D32 -> motoflo | M33: ='1ère série'!AT32 -> 0 | N33: ='1ère série'!AU32 -> #DIV/0! | O33: =$B$46-'1ère série'!AV32 -> 39
B34: 27 | D34: ='1ère série'!D33 -> sandrine 13 | E34: ='1ère série'!AT33 -> 0 | F34: ='1ère série'!AU33 -> #DIV/0! | G34: =$B$46-'1ère série'!AV33 -> 39 | J34: 27 | L34: ='1ère série'!D33 -> sandrine 13 | M34: ='1ère série'!AT33 -> 0 | N34: ='1ère série'!AU33 -> #DIV/0! | O34: =$B$46-'1ère série'!AV33 -> 39
B35: 28 | D35: ='1ère série'!D34 -> tatate-fafa | E35: ='1ère série'!AT34 -> 0 | F35: ='1ère série'!AU34 -> #DIV/0! | G35: =$B$46-'1ère série'!AV34 -> 39 | J35: 28 | L35: ='1ère série'!D34 -> tatate-fafa | M35: ='1ère série'!AT34 -> 0 | N35: ='1ère série'!AU34 -> #DIV/0! | O35: =$B$46-'1ère série'!AV34 -> 39
B36: 29 | D36: ='1ère série'!D35 -> titinar | E36: ='1ère série'!AT35 -> 0 | F36: ='1ère série'!AU35 -> #DIV/0! | G36: =$B$46-'1ère série'!AV35 -> 39 | J36: 29 | L36: ='1ère série'!D35 -> titinar | M36: ='1ère série'!AT35 -> 0 | N36: ='1ère série'!AU35 -> #DIV/0! | O36: =$B$46-'1ère série'!AV35 -> 39
B37: 30 | D37: ='1ère série'!D36 -> um5um6 | E37: ='1ère série'!AT36 -> 0 | F37: ='1ère série'!AU36 -> #DIV/0! | G37: =$B$46-'1ère série'!AV36 -> 39 | J37: 30 | L37: ='1ère série'!D36 -> um5um6 | M37: ='1ère série'!AT36 -> 0 | N37: ='1ère série'!AU36 -> #DIV/0! | O37: =$B$46-'1ère série'!AV36 -> 39
B38: 31 | D38: ='1ère série'!D37 -> vahan 3 | E38: ='1ère série'!AT37 -> 0 | F38: ='1ère série'!AU37 -> #DIV/0! | G38: =$B$46-'1ère série'!AV37 -> 39 | J38: 31 | L38: ='1ère série'!D37 -> vahan 3 | M38: ='1ère série'!AT37 -> 0 | N38: ='1ère série'!AU37 -> #DIV/0! | O38: =$B$46-'1ère série'!AV37 -> 39
B39: 32 | D39: ='1ère série'!D38 -> w | E39: ='1ère série'!AT38 -> 0 | F39: ='1ère série'!AU38 -> #DIV/0! | G39: =$B$46-'1ère série'!AV38 -> 39 | J39: 32 | L39: ='1ère série'!D38 -> w | M39: ='1ère série'!AT38 -> 0 | N39: ='1ère série'!AU38 -> #DIV/0! | O39: =$B$46-'1ère série'!AV38 -> 39
B40: 33 | D40: ='1ère série'!D39 -> ww | E40: ='1ère série'!AT39 -> 0 | F40: ='1ère série'!AU39 -> #DIV/0! | G40: =$B$46-'1ère série'!AV39 -> 39 | J40: 33 | L40: ='1ère série'!D39 -> ww | M40: ='1ère série'!AT39 -> 0 | N40: ='1ère série'!AU39 -> #DIV/0! | O40: =$B$46-'1ère série'!AV39 -> 39
B41: 34 | D41: ='1ère série'!D40 -> www | E41: ='1ère série'!AT40 -> 0 | F41: ='1ère série'!AU40 -> #DIV/0! | G41: =$B$46-'1ère série'!AV40 -> 39 | J41: 34 | L41: ='1ère série'!D40 -> www | M41: ='1ère série'!AT40 -> 0 | N41: ='1ère série'!AU40 -> #DIV/0! | O41: =$B$46-'1ère série'!AV40 -> 39
B42: 35 | D42: ='1ère série'!D41 -> wwww | E42: ='1ère série'!AT41 -> 0 | F42: ='1ère série'!AU41 -> #DIV/0! | G42: =$B$46-'1ère série'!AV41 -> 39 | J42: 35 | L42: ='1ère série'!D41 -> wwww | M42: ='1ère série'!AT41 -> 0 | N42: ='1ère série'!AU41 -> #DIV/0! | O42: =$B$46-'1ère série'!AV41 -> 39
B43: 36 | D43: ='1ère série'!D42 -> x | E43: ='1ère série'!AT42 -> 0 | F43: ='1ère série'!AU42 -> #DIV/0! | G43: =$B$46-'1ère série'!AV42 -> 39 | J43: 36 | L43: ='1ère série'!D42 -> x | M43: ='1ère série'!AT42 -> 0 | N43: ='1ère série'!AU42 -> #DIV/0! | O43: =$B$46-'1ère série'!AV42 -> 39
B44: 37 | D44: ='1ère série'!D43 -> xx | E44: ='1ère série'!AT43 -> 0 | F44: ='1ère série'!AU43 -> #DIV/0! | G44: =$B$46-'1ère série'!AV43 -> 39 | J44: 37 | L44: ='1ère série'!D43 -> xx | M44: ='1ère série'!AT43 -> 0 | N44: ='1ère série'!AU43 -> #DIV/0! | O44: =$B$46-'1ère série'!AV43 -> 39
B45: 38 | D45: ='1ère série'!D44 -> xxx | E45: ='1ère série'!AT44 -> 0 | F45: ='1ère série'!AU44 -> #DIV/0! | G45: =$B$46-'1ère série'!AV44 -> 39 | J45: 38 | L45: ='1ère série'!D44 -> xxx | M45: ='1ère série'!AT44 -> 0 | N45: ='1ère série'!AU44 -> #DIV/0! | O45: =$B$46-'1ère série'!AV44 -> 39
...

Sheet 1ère série test
D3: Série 1 | I3: Tournoi Backgammon Automne 2015 | AA3: 42278 | AE3: 0.5
E5: 1 | F5: 2 | G5: 3 | H5: 4 | I5: 5 | J5: 6 | K5: 7 | L5: 8 | M5: 9 | N5: 10 | O5: 11 | P5: 12 | Q5: 13 | R5: 14 | S5: 15 | T5: 16 | U5: 17 | V5: 18 | W5: 19 | X5: 20 | Y5: 21 | Z5: 22 | AA5: 23 | AB5: 24 | AC5: 25 | AD5: 26 | AE5: 27 | AF5: 28 | AG5: 29 | AH5: 30 | AI5: 31 | AJ5: 32 | AK5: 33 | AL5: 34 | AM5: 35 | AN5: 36 | AO5: 37 | AP5: 38 | AQ5: 39 | AR5: 40
D6: J O U E U R S | E6: =$D7 -> alternative | F6: =$D8 -> artemide | G6: =$D9 -> barbaraluise | H6: =$D10 -> barchan | I6: =$D11 -> bernie | J6: =$D12 -> blackbird | K6: =$D13 -> blackout 67 | L6: =$D14 -> candy | M6: =$D15 -> caro | N6: =$D16 -> casta diva | O6: =$D17 -> chablis | P6: =$D18 -> choumek | Q6: =$D19 -> chris | R6: =$D20 -> chritiane_g | S6: =$D21 -> cleopatre 80 | T6: =$D22 -> Dr Jekkyl | U6: =$D23 -> fanfan 45220 | V6: =$D24 -> fantomette | W6: =$D25 -> gadgette | X6: =$D26 -> goodluck | Y6: =$D27 -> hercule poivrot | Z6: =$D28 -> jltiber | AA6: =$D29 -> lolilola | AB6: =$D30 -> looping | AC6: =$D31 -> mamina | AD6: =$D32 -> motoflo | AE6: =$D33 -> sandrine 13 | AF6: =$D34 -> tatate-fafa | AG6: =$D35 -> titinar | AH6: =$D36 -> um5um6 | AI6: =$D37 -> vahan 3 | AJ6: =$D38 -> 0 | AK6: =$D39 -> 0 | AL6: =$D40 -> 0 | AM6: =$D41 -> 0 | AN6: =$D42 -> 0 | AO6: =$D43 -> 0 | AP6: =$D44 -> 0 | AQ6: =$D45 -> 0 | AR6: =$D46 -> 0 | AS6: Pénalités | AT6: Cumul des Points | AU6: Moyenne par Match | AV6: Nombre de matchs joués | AY6: ABSENCES
B7: 1 | D7: alternative | F7: =IF(INDIRECT("E"&COLUMN(H1))=3,1,"") -> 1 | G7: =IF(INDIRECT("E"&COLUMN(I1))=3,1,"") | H7: =IF(INDIRECT("E"&COLUMN(J1))=3,1,"") | I7: =IF(INDIRECT("E"&COLUMN(K1))=3,1,"") | J7: =IF(INDIRECT("E"&COLUMN(L1))=3,1,"") | K7: =IF(INDIRECT("E"&COLUMN(M1))=3,1,"") | L7: =IF(INDIRECT("E"&COLUMN(N1))=3,1,"") | M7: =IF(INDIRECT("E"&COLUMN(O1))=3,1,"") | N7: =IF($E16=3,1," ") | O7: =IF($E17=3,1," ") | P7: =IF($E18=3,1," ") | Q7: =IF($E19=3,1," ") | R7: =IF($E20=3,1," ") | S7: =IF($E21=3,1," ") | T7: =IF($E22=3,1," ") | U7: =IF($E23=3,1," ") | V7: =IF($E24=3,1," ") | W7: =IF($E25=3,1," ") | X7: =IF($E26=3,1," ") | Y7: =IF($E27=3,1," ") | Z7: =IF($E28=3,1," ") | AA7: =IF($E29=3,1," ") | AB7: =IF($E30=3,1," ") | AC7: =IF($E31=3,1," ") | AD7: =IF($E32=3,1," ") | AE7: =IF($E33=3,1," ") | AF7: =IF($E34=3,1," ") -> 1 | AG7: =IF($E35=3,1," ") | AH7: =IF($E36=3,1," ") | AI7: =IF($E37=3,1," ") | AJ7: =IF($E38=3,1," ") | AK7: =IF($E39=3,1," ") | AL7: =IF($E40=3,1," ") | AM7: =IF($E41=3,1," ") | AN7: =IF($E42=3,1," ") | AO7: =IF($E43=3,1," ") | AP7: =IF($E44=3,1," ") | AQ7: =IF($E45=3,1," ") | AR7: =IF($E46=3,1," ") | AT7: =SUM(E7:AS7) -> 2 | AU7: =AT7/COUNT(E7:AR7) -> 1 | AV7: =COUNT(E7:AR7) -> 2
B8: 2 | D8: artemide | E8: 3 | G8: =IF($F9=3,1," ") | H8: =IF($F10=3,1," ") | I8: =IF($F11=3,1," ") | J8: =IF($F12=3,1," ") | K8: =IF($F13=3,1," ") | L8: =IF($F14=3,1," ") | M8: =IF($F15=3,1," ") | N8: =IF($G16=3,1," ") | O8: =IF($F17=3,1," ") | P8: =IF($F18=3,1," ") | Q8: =IF($F19=3,1," ") | R8: =IF($F20=3,1," ") | S8: =IF($F21=3,1," ") | T8: =IF($F22=3,1," ") | U8: =IF($F23=3,1," ") | V8: =IF($F24=3,1," ") | W8: =IF($F25=3,1," ") | X8: =IF($F26=3,1," ") | Y8: =IF($F27=3,1," ") | Z8: =IF($F28=3,1," ") | AA8: =IF($F29=3,1," ") | AB8: =IF($F30=3,1," ") | AC8: =IF($F31=3,1," ") | AD8: =IF($F32=3,1," ") | AE8: =IF($F33=3,1," ") | AF8: =IF($F34=3,1," ") | AG8: =IF($F35=3,1," ") | AH8: =IF($F36=3,1," ") | AI8: =IF($F37=3,1," ") | AJ8: =IF($F38=3,1," ") | AK8: =IF($F39=3,1," ") | AL8: =IF($F40=3,1," ") | AM8: =IF($F41=3,1," ") | AN8: =IF($F42=3,1," ") | AO8: =IF($F43=3,1," ") | AP8: =IF($F44=3,1," ") | AQ8: =IF($F45=3,1," ") | AR8: =IF($F46=3,1," ")
B9: 3 | D9: barbaraluise | E9: 1 | F9: =IF(G$8=3,1," ") | H9: =IF($G10=3,1," ") | I9: =IF($G11=3,1," ") | J9: =IF($G12=3,1," ") | K9: =IF($G13=3,1," ") | L9: =IF($G14=3,1," ") | M9: =IF($G15=3,1," ") | N9: =IF($H16=3,1," ") | O9: =IF($G17=3,1," ") | P9: =IF($G18=3,1," ") | Q9: =IF($G19=3,1," ") | R9: =IF($G20=3,1," ") | S9: =IF($G21=3,1," ") | T9: =IF($G23=3,1," ") | U9: =IF($G24=3,1," ") | V9: =IF($G25=3,1," ") | W9: =IF($G26=3,1," ") | X9: =IF($G27=3,1," ") | Y9: =IF($G28=3,1," ") | Z9: =IF($G29=3,1," ") | AA9: =IF($G30=3,1," ") | AB9: =IF($G31=3,1," ") | AC9: =IF($G32=3,1," ") | AD9: =IF($G33=3,1," ") | AE9: =IF($G34=3,1," ") | AF9: =IF($G35=3,1," ") | AG9: =IF($G36=3,1," ") | AH9: =IF($G37=3,1," ") | AI9: =IF($G38=3,1," ") | AJ9: =IF($G39=3,1," ") | AK9: =IF($G40=3,1," ") | AL9: =IF($G41=3,1," ") | AM9: =IF($G42=3,1," ") | AN9: =IF($G43=3,1," ") | AO9: =IF($G44=3,1," ") | AP9: =IF($G45=3,1," ") | AQ9: =IF($G46=3,1," ") | AR9: =IF($G47=3,1," ")
