Workbook
Name Abs: #REF!
Name affaires: #REF!
Name annee: #REF!
Name c_noms: '[1]Visu Code YB'!$L:$L
Name contrat: #REF!
Name CV: #REF!
Name hor: #REF!
Name hs: #REF!
Name Jour: #REF!
Name Km: #REF!
Name Mois: #REF!
Name Secteur: #REF!
Name Semaine: #REF!

Sheet calendar
A1: calendar | B1: l | C1: ma | D1: me | E1: j | F1: v | G1: s | H1: d
A2: 1 | B2: 41274 | C2: =B2+1 -> 41275 | D2: =C2+1 -> 41276 | E2: =D2+1 -> 41277 | F2: =E2+1 -> 41278 | G2: =F2+1 -> 41279 | H2: =G2+1 -> 41280
A3: 2 | B3: =B2+7 -> 41281 | C3: =B3+1 -> 41282 | D3: =C3+1 -> 41283 | E3: =D3+1 -> 41284 | F3: =E3+1 -> 41285 | G3: =F3+1 -> 41286 | H3: =G3+1 -> 41287 | K3: saisir n° semaine | L3: l | M3: ma | N3: me | O3: j | P3: v | Q3: s | R3: d
A4: 3 | B4: =B3+7 -> 41288 | C4: =B4+1 -> 41289 | D4: =C4+1 -> 41290 | E4: =D4+1 -> 41291 | F4: =E4+1 -> 41292 | G4: =F4+1 -> 41293 | H4: =G4+1 -> 41294 | K4: 18 | L4: =VLOOKUP(K4,calendar!$A$2:$H$53,2,FALSE) -> 41393 | M4: =VLOOKUP(K4,calendar!$A$2:$H$53,3,FALSE) -> 41394 | N4: =VLOOKUP(K4,calendar!$A$2:$H$53,4,FALSE) -> 41395 | O4: =VLOOKUP(K4,calendar!$A$2:$H$53,5,FALSE) -> 41396 | P4: =VLOOKUP(K4,calendar!$A$2:$H$53,6,FALSE) -> 41397 | Q4: =VLOOKUP(K4,calendar!$A$2:$H$53,7,FALSE) -> 41398 | R4: =VLOOKUP(K4,calendar!$A$2:$H$53,8,FALSE) -> 41399
A5: 4 | B5: =B4+7 -> 41295 | C5: =B5+1 -> 41296 | D5: =C5+1 -> 41297 | E5: =D5+1 -> 41298 | F5: =E5+1 -> 41299 | G5: =F5+1 -> 41300 | H5: =G5+1 -> 41301
A6: 5 | B6: =B5+7 -> 41302 | C6: =B6+1 -> 41303 | D6: =C6+1 -> 41304 | E6: =D6+1 -> 41305 | F6: =E6+1 -> 41306 | G6: =F6+1 -> 41307 | H6: =G6+1 -> 41308
A7: 6 | B7: =B6+7 -> 41309 | C7: =B7+1 -> 41310 | D7: =C7+1 -> 41311 | E7: =D7+1 -> 41312 | F7: =E7+1 -> 41313 | G7: =F7+1 -> 41314 | H7: =G7+1 -> 41315
A8: 7 | B8: =B7+7 -> 41316 | C8: =B8+1 -> 41317 | D8: =C8+1 -> 41318 | E8: =D8+1 -> 41319 | F8: =E8+1 -> 41320 | G8: =F8+1 -> 41321 | H8: =G8+1 -> 41322
A9: 8 | B9: =B8+7 -> 41323 | C9: =B9+1 -> 41324 | D9: =C9+1 -> 41325 | E9: =D9+1 -> 41326 | F9: =E9+1 -> 41327 | G9: =F9+1 -> 41328 | H9: =G9+1 -> 41329
A10: 9 | B10: =B9+7 -> 41330 | C10: =B10+1 -> 41331 | D10: =C10+1 -> 41332 | E10: =D10+1 -> 41333 | F10: =E10+1 -> 41334 | G10: =F10+1 -> 41335 | H10: =G10+1 -> 41336
A11: 10 | B11: =B10+7 -> 41337 | C11: =B11+1 -> 41338 | D11: =C11+1 -> 41339 | E11: =D11+1 -> 41340 | F11: =E11+1 -> 41341 | G11: =F11+1 -> 41342 | H11: =G11+1 -> 41343
A12: 11 | B12: =B11+7 -> 41344 | C12: =B12+1 -> 41345 | D12: =C12+1 -> 41346 | E12: =D12+1 -> 41347 | F12: =E12+1 -> 41348 | G12: =F12+1 -> 41349 | H12: =G12+1 -> 41350
A13: 12 | B13: =B12+7 -> 41351 | C13: =B13+1 -> 41352 | D13: =C13+1 -> 41353 | E13: =D13+1 -> 41354 | F13: =E13+1 -> 41355 | G13: =F13+1 -> 41356 | H13: =G13+1 -> 41357
A14: 13 | B14: =B13+7 -> 41358 | C14: =B14+1 -> 41359 | D14: =C14+1 -> 41360 | E14: =D14+1 -> 41361 | F14: =E14+1 -> 41362 | G14: =F14+1 -> 41363 | H14: =G14+1 -> 41364
A15: 14 | B15: =B14+7 -> 41365 | C15: =B15+1 -> 41366 | D15: =C15+1 -> 41367 | E15: =D15+1 -> 41368 | F15: =E15+1 -> 41369 | G15: =F15+1 -> 41370 | H15: =G15+1 -> 41371
A16: 15 | B16: =B15+7 -> 41372 | C16: =B16+1 -> 41373 | D16: =C16+1 -> 41374 | E16: =D16+1 -> 41375 | F16: =E16+1 -> 41376 | G16: =F16+1 -> 41377 | H16: =G16+1 -> 41378
... A53: 52 | B53: =B52+7 -> 41631 | C53: =B53+1 -> 41632 | D53: =C53+1 -> 41633 | E53: =D53+1 -> 41634 | F53: =E53+1 -> 41635 | G53: =F53+1 -> 41636 | H53: =G53+1 -> 41637
