Workbook

Sheet Indicateurs produits
A1: Code type | B1: Type produit | C1: Sous-produit | D1: Code indicateur | E1: libellé indicateur | F1: Semaine 1 | G1: Semaine 2 | H1: Semaine 3 | I1: Semaine 4 | J1: Semaine 5 | K1: Semaine 6 | L1: Semaine 7 | M1: Semaine 8 | N1: Semaine 9 | O1: Semaine 10 | P1: Semaine 11 | Q1: Semaine 12
A2: 1 | B2: Articles A | C2: Produit A1 | D2: 1 | E2: Quantité réalisés | F2: 20 | G2: 19 | H2: 18 | I2: 21 | J2: 22 | K2: 20 | L2: 18 | M2: 19
A3: 1 | B3: Articles A | C3: Produit A1 | D3: 10 | E3: Nb avec défaut 1 | F3: 2 | G3: 3 | H3: 3 | I3: 1 | J3: 2 | K3: 1 | L3: 0 | M3: 4
A4: 1 | B4: Articles A | C4: Produit A1 | D4: 11 | E4: Nb avec défaut 2 | F4: 1 | G4: 0 | H4: 4 | I4: 2 | J4: 3 | K4: 0 | L4: 1 | M4: 1
A5: 1 | B5: Articles A | C5: Produit A1 | D5: 12 | E5: Nb avec défaut 3 | F5: 5 | G5: 4 | H5: 4 | I5: 3 | J5: 5 | K5: 1 | L5: 2 | M5: 0
A6: 1 | B6: Articles A | C6: Produit A2 | D6: 1 | E6: Quantité réalisés
A7: 1 | B7: Articles A | C7: Produit A2 | D7: 10 | E7: Nb avec défaut 1
A8: 1 | B8: Articles A | C8: Produit A2 | D8: 11 | E8: Nb avec défaut 2
A9: 1 | B9: Articles A | C9: Produit A2 | D9: 12 | E9: Nb avec défaut 3
A10: 1 | B10: Articles A | C10: Produit A3 | D10: 1 | E10: Quantité réalisés
A11: 1 | B11: Articles A | C11: Produit A3 | D11: 10 | E11: Nb avec défaut 1
A12: 1 | B12: Articles A | C12: Produit A3 | D12: 11 | E12: Nb avec défaut 2
A13: 1 | B13: Articles A | C13: Produit A3 | D13: 12 | E13: Nb avec défaut 3
A14: 1 | B14: Articles A | C14: Produit A4 | D14: 1 | E14: Quantité réalisés
A15: 1 | B15: Articles A | C15: Produit A4 | D15: 10 | E15: Nb avec défaut 1
A16: 1 | B16: Articles A | C16: Produit A4 | D16: 11 | E16: Nb avec défaut 2
A17: 1 | B17: Articles A | C17: Produit A4 | D17: 12 | E17: Nb avec défaut 3
... A49: 12 | B49: Total Articles | C49: Produit B7 | D49: 12 | E49: Nb avec défaut 3

Sheet %Défaults
C1: Semaine1 | D1: Semaine2 | E1: Semaine3 | F1: Semaine4 | G1: Semaine5 | H1: Semaine6
A2: Article A | B2: Quantité réalisés | C2: ='Indicateurs produits'!F2 -> 20 | D2: ='Indicateurs produits'!G2 -> 19 | E2: ='Indicateurs produits'!H2 -> 18 | F2: ='Indicateurs produits'!I2 -> 21 | G2: ='Indicateurs produits'!J2 -> 22 | H2: ='Indicateurs produits'!K2 -> 20
B3: % avec défaut 1 | C3: ='Indicateurs produits'!F3/C2 -> 0.1 | D3: ='Indicateurs produits'!G3/D2 -> 0.15789474 | E3: ='Indicateurs produits'!H3/E2 -> 0.16666667 | F3: ='Indicateurs produits'!I3/F2 -> 0.047619048 | G3: ='Indicateurs produits'!J3/G2 -> 0.090909091 | H3: ='Indicateurs produits'!K3/H2 -> 0.05
B4: % avec défaut 2 | C4: ='Indicateurs produits'!F4/C2 -> 0.05 | D4: ='Indicateurs produits'!G4/D2 -> 0 | E4: ='Indicateurs produits'!H4/E2 -> 0.22222222 | F4: ='Indicateurs produits'!I4/F2 -> 0.095238095 | G4: ='Indicateurs produits'!J4/G2 -> 0.13636364 | H4: ='Indicateurs produits'!K4/H2 -> 0
B5: % avec défaut 3 | C5: ='Indicateurs produits'!F5/C2 -> 0.25 | D5: ='Indicateurs produits'!G5/D2 -> 0.21052632 | E5: ='Indicateurs produits'!H5/E2 -> 0.22222222 | F5: ='Indicateurs produits'!I5/F2 -> 0.14285714 | G5: ='Indicateurs produits'!J5/G2 -> 0.22727273 | H5: ='Indicateurs produits'!K5/H2 -> 0.05
B6: Vérif TOTAL | C6: =SUM(C3:C5) -> 0.4 | D6: =SUM(D3:D5) -> 0.36842105 | E6: =SUM(E3:E5) -> 0.61111111 | F6: =SUM(F3:F5) -> 0.28571429 | G6: =SUM(G3:G5) -> 0.45454545 | H6: =SUM(H3:H5) -> 0.1

Sheet Production
