Workbook
Name Choix_Silo: paramêtres!$B$1:$B$6
Name Choix_Silo_si_différent_1er_silo_bt_produite: paramêtres!$C$1:$C$6

Sheet Soufflage
A1: Date du jour | B1: Produits | C1: Bouteilles produites (1er silo) | D1: Silo | E1: Recyclage 1er silo | F1: Destruction 1er silo | G1: Pertes Qualité 1er silo | H1: Bouteille produite (2ème silo) | I1: Silo 2 | J1: Recyclage 2ème silo | K1: Destruction 2ème silo | L1: Pertes Qualité 2ème silo | M1: BIG BAG (bouteilles) | N1: Choix silo transfert | O1: Heure de production Machine 1 | P1: Heure de production Machine 2 | Q1: Heures prestées (8h/homme) | R1: Chgt format(minute) | S1: Panne(minute) | T1: Choix 1er silo ouvert (Soufflage --> PET) | U1: Choix 2ème silo ouvert (Soufflage --> PET)
A2: 41240 | B2: A | C2: 0 | D2: Silo 1 | E2: 0 | F2: 0 | G2: 0 | H2: 0 | I2: Silo 1 | J2: 0 | K2: 0 | L2: 0 | M2: 1000 | N2: Silo 5 | T2: Silo 5 | U2: Silo 4

Sheet PET
A1: Date | B1: Produits | C1: Compteur | D1: Recyclage | E1: Destruction | F1: BIG BAG (bouteilles) | G1: Compteur + Recyclage + Déstruction
A2: 41275 | B2: A | G2: =SUM(C2:F2) -> 0

Sheet Stocks
A1: Date du jour : | B1: 41240
B3: ="STOCKS SILOS 1-2-3-4-5 au "&TEXT(DATE(YEAR(B1),MONTH(B1),DAY(B1)),"dd/mm/yyyy") -> #VALUE!
A6: Produits | B6: Silo 1 | C6: Déduction Silo 1 | D6: Silo 2 | E6: Déduction Silo 2 | F6: Silo 3 | G6: Déduction Silo 3 | H6: Silo 4 | I6: Déduction Silo 4 | J6: Silo 5 | K6: Déduction Silo 5 | L6: BIG BAG
A7: =paramêtres!A10 -> A | B7: =IF(Soufflage!T2=B$6,Stocks!#REF!-Soufflage!#REF!,IF(AND(Soufflage!U2=B$6,(SUMIF(Soufflage!T2,D$6,D7)+SUMIF(Soufflage!T2,F$6,F7)+SUMIF(Soufflage!T2,H$6,H7)+SUMIF(Soufflage!T2,J$6,J7)<0)),SUMIF(Soufflage!T2,D$6,D7)+SUMIF(Soufflage!T2,F$6,F7)+SUMIF(Soufflage!T2,H$6,H7)+SUMIF(Soufflage!T2,J$6,J7)+Stocks!#REF!,Stocks!#REF!)) -> #REF! | C7: =IF(B7<0,0,B7) -> #REF! | D7: =IF(Soufflage!T2=D$6,Stocks!C21-Soufflage!#REF!,IF(AND(Soufflage!U2=D$6,(SUMIF(Soufflage!T2,B$6,B7)+SUMIF(Soufflage!T2,F$6,F7)+SUMIF(Soufflage!T2,H$6,H7)+SUMIF(Soufflage!T2,J$6,J7))<0),SUMIF(Soufflage!T2,B$6,B7)+SUMIF(Soufflage!T2,F$6,F7)+SUMIF(Soufflage!T2,H$6,H7)+SUMIF(Soufflage!T2,J$6,J7)+Stocks!C21,Stocks!C21)) -> #REF! | E7: =IF(D7<0,0,D7) -> #REF! | F7: =IF(Soufflage!T2=F$6,Stocks!D21-Soufflage!#REF!,IF(AND(Soufflage!U2=F$6,(SUMIF(Soufflage!T2,B$6,B7)+SUMIF(Soufflage!T2,D$6,D7)+SUMIF(Soufflage!T2,H$6,H7)+SUMIF(Soufflage!T2,J$6,J7))<0),SUMIF(Soufflage!T2,B$6,B7)+SUMIF(Soufflage!T2,D$6,D7)+SUMIF(Soufflage!T2,H$6,H7)+SUMIF(Soufflage!T2,J$6,J7)+Stocks!D21,Stocks!D21)) -> #REF! | G7: =IF(F7<0,0,F7) -> #REF! | H7: =IF(Soufflage!T2=H$6,Stocks!E21-Soufflage!#REF!,IF(AND(Soufflage!U2=H$6,(SUMIF(Soufflage!T2,B$6,B7)+SUMIF(Soufflage!T2,D$6,D7)+SUMIF(Soufflage!T2,F$6,F7)+SUMIF(Soufflage!T2,J$6,J7))<0),SUMIF(Soufflage!T2,B$6,B7)+SUMIF(Soufflage!T2,D$6,D7)+SUMIF(Soufflage!T2,F$6,F7)+SUMIF(Soufflage!T2,J$6,J7)+Stocks!E21,Stocks!E21)) -> #REF! | I7: =IF(H7<0,0,H7) -> #REF! | J7: =IF(Soufflage!T2=J$6,Stocks!F21-Soufflage!#REF!,IF(AND(Soufflage!U2=J$6,(SUMIF(Soufflage!T2,B$6,B7)+SUMIF(Soufflage!T2,D$6,D7)+SUMIF(Soufflage!T2,F$6,F7)+SUMIF(Soufflage!T2,H$6,H7))<0),SUMIF(Soufflage!T2,B$6,B7)+SUMIF(Soufflage!T2,D$6,D7)+SUMIF(Soufflage!T2,F$6,F7)+SUMIF(Soufflage!T2,J$6,J7)+Stocks!F21,Stocks!F21)) -> #REF! | K7: =IF(J7<0,0,J7) -> #REF! | L7: =Soufflage!#REF! -> #REF!
A8: =paramêtres!A11 -> B | B8: =IF(Soufflage!#REF!=B$6,Stocks!B22-Soufflage!#REF!,IF(AND(Soufflage!#REF!=B$6,(SUMIF(Soufflage!#REF!,D$6,D8)+SUMIF(Soufflage!#REF!,F$6,F8)+SUMIF(Soufflage!#REF!,H$6,H8)+SUMIF(Soufflage!#REF!,J$6,J8)<0)),SUMIF(Soufflage!#REF!,D$6,D8)+SUMIF(Soufflage!#REF!,F$6,F8)+SUMIF(Soufflage!#REF!,H$6,H8)+SUMIF(Soufflage!#REF!,J$6,J8)+Stocks!B22,Stocks!B22)) -> #REF! | C8: =IF(B8<0,0,B8) -> #REF! | D8: =IF(Soufflage!#REF!=D$6,Stocks!C22-Soufflage!#REF!,IF(AND(Soufflage!#REF!=D$6,(SUMIF(Soufflage!#REF!,B$6,B8)+SUMIF(Soufflage!#REF!,F$6,F8)+SUMIF(Soufflage!#REF!,H$6,H8)+SUMIF(Soufflage!#REF!,J$6,J8))<0),SUMIF(Soufflage!#REF!,B$6,B8)+SUMIF(Soufflage!#REF!,F$6,F8)+SUMIF(Soufflage!#REF!,H$6,H8)+SUMIF(Soufflage!#REF!,J$6,J8)+Stocks!C22,Stocks!C22)) -> #REF! | E8: =IF(D8<0,0,D8) -> #REF! | F8: =IF(Soufflage!#REF!=F$6,Stocks!D22-Soufflage!#REF!,IF(AND(Soufflage!#REF!=F$6,(SUMIF(Soufflage!#REF!,B$6,B8)+SUMIF(Soufflage!#REF!,D$6,D8)+SUMIF(Soufflage!#REF!,H$6,H8)+SUMIF(Soufflage!#REF!,J$6,J8))<0),SUMIF(Soufflage!#REF!,B$6,B8)+SUMIF(Soufflage!#REF!,D$6,D8)+SUMIF(Soufflage!#REF!,H$6,H8)+SUMIF(Soufflage!#REF!,J$6,J8)+Stocks!D22,Stocks!D22)) -> #REF! | G8: =IF(F8<0,0,F8) -> #REF! | H8: =IF(Soufflage!#REF!=H$6,Stocks!E22-Soufflage!#REF!,IF(AND(Soufflage!#REF!=H$6,(SUMIF(Soufflage!#REF!,B$6,B8)+SUMIF(Soufflage!#REF!,D$6,D8)+SUMIF(Soufflage!#REF!,F$6,F8)+SUMIF(Soufflage!#REF!,J$6,J8))<0),SUMIF(Soufflage!#REF!,B$6,B8)+SUMIF(Soufflage!#REF!,D$6,D8)+SUMIF(Soufflage!#REF!,F$6,F8)+SUMIF(Soufflage!#REF!,J$6,J8)+Stocks!E22,Stocks!E22)) -> #REF! | I8: =IF(H8<0,0,H8) -> #REF! | J8: =IF(Soufflage!#REF!=J$6,Stocks!F22-Soufflage!#REF!,IF(AND(Soufflage!#REF!=J$6,(SUMIF(Soufflage!#REF!,B$6,B8)+SUMIF(Soufflage!#REF!,D$6,D8)+SUMIF(Soufflage!#REF!,F$6,F8)+SUMIF(Soufflage!#REF!,H$6,H8))<0),SUMIF(Soufflage!#REF!,B$6,B8)+SUMIF(Soufflage!#REF!,D$6,D8)+SUMIF(Soufflage!#REF!,F$6,F8)+SUMIF(Soufflage!#REF!,J$6,J8)+Stocks!F22,Stocks!F22)) -> #REF! | K8: =IF(J8<0,0,J8) -> #REF! | L8: =Soufflage!#REF! -> #REF!
A9: =paramêtres!A12 -> C | B9: =IF(Soufflage!#REF!=B$6,Stocks!B23-Soufflage!#REF!,IF(AND(Soufflage!#REF!=B$6,(SUMIF(Soufflage!#REF!,D$6,D9)+SUMIF(Soufflage!#REF!,F$6,F9)+SUMIF(Soufflage!#REF!,H$6,H9)+SUMIF(Soufflage!#REF!,J$6,J9)<0)),SUMIF(Soufflage!#REF!,D$6,D9)+SUMIF(Soufflage!#REF!,F$6,F9)+SUMIF(Soufflage!#REF!,H$6,H9)+SUMIF(Soufflage!#REF!,J$6,J9)+Stocks!B23,Stocks!B23)) -> #REF! | C9: =IF(B9<0,0,B9) -> #REF! | D9: =IF(Soufflage!#REF!=D$6,Stocks!C23-Soufflage!#REF!,IF(AND(Soufflage!#REF!=D$6,(SUMIF(Soufflage!#REF!,B$6,B9)+SUMIF(Soufflage!#REF!,F$6,F9)+SUMIF(Soufflage!#REF!,H$6,H9)+SUMIF(Soufflage!#REF!,J$6,J9))<0),SUMIF(Soufflage!#REF!,B$6,B9)+SUMIF(Soufflage!#REF!,F$6,F9)+SUMIF(Soufflage!#REF!,H$6,H9)+SUMIF(Soufflage!#REF!,J$6,J9)+Stocks!C23,Stocks!C23)) -> #REF! | E9: =IF(D9<0,0,D9) -> #REF! | F9: =IF(Soufflage!#REF!=F$6,Stocks!D23-Soufflage!#REF!,IF(AND(Soufflage!#REF!=F$6,(SUMIF(Soufflage!#REF!,B$6,B9)+SUMIF(Soufflage!#REF!,D$6,D9)+SUMIF(Soufflage!#REF!,H$6,H9)+SUMIF(Soufflage!#REF!,J$6,J9))<0),SUMIF(Soufflage!#REF!,B$6,B9)+SUMIF(Soufflage!#REF!,D$6,D9)+SUMIF(Soufflage!#REF!,H$6,H9)+SUMIF(Soufflage!#REF!,J$6,J9)+Stocks!D23,Stocks!D23)) -> #REF! | G9: =IF(F9<0,0,F9) -> #REF! | H9: =IF(Soufflage!#REF!=H$6,Stocks!E23-Soufflage!#REF!,IF(AND(Soufflage!#REF!=H$6,(SUMIF(Soufflage!#REF!,B$6,B9)+SUMIF(Soufflage!#REF!,D$6,D9)+SUMIF(Soufflage!#REF!,F$6,F9)+SUMIF(Soufflage!#REF!,J$6,J9))<0),SUMIF(Soufflage!#REF!,B$6,B9)+SUMIF(Soufflage!#REF!,D$6,D9)+SUMIF(Soufflage!#REF!,F$6,F9)+SUMIF(Soufflage!#REF!,J$6,J9)+Stocks!E23,Stocks!E23)) -> #REF! | I9: =IF(H9<0,0,H9) -> #REF! | J9: =IF(Soufflage!#REF!=J$6,Stocks!F23-Soufflage!#REF!,IF(AND(Soufflage!#REF!=J$6,(SUMIF(Soufflage!#REF!,B$6,B9)+SUMIF(Soufflage!#REF!,D$6,D9)+SUMIF(Soufflage!#REF!,F$6,F9)+SUMIF(Soufflage!#REF!,H$6,H9))<0),SUMIF(Soufflage!#REF!,B$6,B9)+SUMIF(Soufflage!#REF!,D$6,D9)+SUMIF(Soufflage!#REF!,F$6,F9)+SUMIF(Soufflage!#REF!,J$6,J9)+Stocks!F23,Stocks!F23)) -> #REF! | K9: =IF(J9<0,0,J9) -> #REF! | L9: =Soufflage!#REF! -> #REF!
A10: =paramêtres!A13 -> D | B10: =IF(Soufflage!#REF!=B$6,Stocks!B24-Soufflage!#REF!,IF(AND(Soufflage!#REF!=B$6,(SUMIF(Soufflage!#REF!,D$6,D10)+SUMIF(Soufflage!#REF!,F$6,F10)+SUMIF(Soufflage!#REF!,H$6,H10)+SUMIF(Soufflage!#REF!,J$6,J10)<0)),SUMIF(Soufflage!#REF!,D$6,D10)+SUMIF(Soufflage!#REF!,F$6,F10)+SUMIF(Soufflage!#REF!,H$6,H10)+SUMIF(Soufflage!#REF!,J$6,J10)+Stocks!B24,Stocks!B24)) -> #REF! | C10: =IF(B10<0,0,B10) -> #REF! | D10: =IF(Soufflage!#REF!=D$6,Stocks!C24-Soufflage!#REF!,IF(AND(Soufflage!#REF!=D$6,(SUMIF(Soufflage!#REF!,B$6,B10)+SUMIF(Soufflage!#REF!,F$6,F10)+SUMIF(Soufflage!#REF!,H$6,H10)+SUMIF(Soufflage!#REF!,J$6,J10))<0),SUMIF(Soufflage!#REF!,B$6,B10)+SUMIF(Soufflage!#REF!,F$6,F10)+SUMIF(Soufflage!#REF!,H$6,H10)+SUMIF(Soufflage!#REF!,J$6,J10)+Stocks!C24,Stocks!C24)) -> #REF! | E10: =IF(D10<0,0,D10) -> #REF! | F10: =IF(Soufflage!#REF!=F$6,Stocks!D24-Soufflage!#REF!,IF(AND(Soufflage!#REF!=F$6,(SUMIF(Soufflage!#REF!,B$6,B10)+SUMIF(Soufflage!#REF!,D$6,D10)+SUMIF(Soufflage!#REF!,H$6,H10)+SUMIF(Soufflage!#REF!,J$6,J10))<0),SUMIF(Soufflage!#REF!,B$6,B10)+SUMIF(Soufflage!#REF!,D$6,D10)+SUMIF(Soufflage!#REF!,H$6,H10)+SUMIF(Soufflage!#REF!,J$6,J10)+Stocks!D24,Stocks!D24)) -> #REF! | G10: =IF(F10<0,0,F10) -> #REF! | H10: =IF(Soufflage!#REF!=H$6,Stocks!E24-Soufflage!#REF!,IF(AND(Soufflage!#REF!=H$6,(SUMIF(Soufflage!#REF!,B$6,B10)+SUMIF(Soufflage!#REF!,D$6,D10)+SUMIF(Soufflage!#REF!,F$6,F10)+SUMIF(Soufflage!#REF!,J$6,J10))<0),SUMIF(Soufflage!#REF!,B$6,B10)+SUMIF(Soufflage!#REF!,D$6,D10)+SUMIF(Soufflage!#REF!,F$6,F10)+SUMIF(Soufflage!#REF!,J$6,J10)+Stocks!E24,Stocks!E24)) -> #REF! | I10: =IF(H10<0,0,H10) -> #REF! | J10: =IF(Soufflage!#REF!=J$6,Stocks!F24-Soufflage!#REF!,IF(AND(Soufflage!#REF!=J$6,(SUMIF(Soufflage!#REF!,B$6,B10)+SUMIF(Soufflage!#REF!,D$6,D10)+SUMIF(Soufflage!#REF!,F$6,F10)+SUMIF(Soufflage!#REF!,H$6,H10))<0),SUMIF(Soufflage!#REF!,B$6,B10)+SUMIF(Soufflage!#REF!,D$6,D10)+SUMIF(Soufflage!#REF!,F$6,F10)+SUMIF(Soufflage!#REF!,J$6,J10)+Stocks!F24,Stocks!F24)) -> #REF! | K10: =IF(J10<0,0,J10) -> #REF! | L10: =Soufflage!#REF! -> #REF!
A11: =paramêtres!A14 -> E | B11: =IF(Soufflage!#REF!=B$6,Stocks!B25-Soufflage!#REF!,IF(AND(Soufflage!#REF!=B$6,(SUMIF(Soufflage!#REF!,D$6,D11)+SUMIF(Soufflage!#REF!,F$6,F11)+SUMIF(Soufflage!#REF!,H$6,H11)+SUMIF(Soufflage!#REF!,J$6,J11)<0)),SUMIF(Soufflage!#REF!,D$6,D11)+SUMIF(Soufflage!#REF!,F$6,F11)+SUMIF(Soufflage!#REF!,H$6,H11)+SUMIF(Soufflage!#REF!,J$6,J11)+Stocks!B25,Stocks!B25)) -> #REF! | C11: =IF(B11<0,0,B11) -> #REF! | D11: =IF(Soufflage!#REF!=D$6,Stocks!C25-Soufflage!#REF!,IF(AND(Soufflage!#REF!=D$6,(SUMIF(Soufflage!#REF!,B$6,B11)+SUMIF(Soufflage!#REF!,F$6,F11)+SUMIF(Soufflage!#REF!,H$6,H11)+SUMIF(Soufflage!#REF!,J$6,J11))<0),SUMIF(Soufflage!#REF!,B$6,B11)+SUMIF(Soufflage!#REF!,F$6,F11)+SUMIF(Soufflage!#REF!,H$6,H11)+SUMIF(Soufflage!#REF!,J$6,J11)+Stocks!C25,Stocks!C25)) -> #REF! | E11: =IF(D11<0,0,D11) -> #REF! | F11: =IF(Soufflage!#REF!=F$6,Stocks!D25-Soufflage!#REF!,IF(AND(Soufflage!#REF!=F$6,(SUMIF(Soufflage!#REF!,B$6,B11)+SUMIF(Soufflage!#REF!,D$6,D11)+SUMIF(Soufflage!#REF!,H$6,H11)+SUMIF(Soufflage!#REF!,J$6,J11))<0),SUMIF(Soufflage!#REF!,B$6,B11)+SUMIF(Soufflage!#REF!,D$6,D11)+SUMIF(Soufflage!#REF!,H$6,H11)+SUMIF(Soufflage!#REF!,J$6,J11)+Stocks!D25,Stocks!D25)) -> #REF! | G11: =IF(F11<0,0,F11) -> #REF! | H11: =IF(Soufflage!#REF!=H$6,Stocks!E25-Soufflage!#REF!,IF(AND(Soufflage!#REF!=H$6,(SUMIF(Soufflage!#REF!,B$6,B11)+SUMIF(Soufflage!#REF!,D$6,D11)+SUMIF(Soufflage!#REF!,F$6,F11)+SUMIF(Soufflage!#REF!,J$6,J11))<0),SUMIF(Soufflage!#REF!,B$6,B11)+SUMIF(Soufflage!#REF!,D$6,D11)+SUMIF(Soufflage!#REF!,F$6,F11)+SUMIF(Soufflage!#REF!,J$6,J11)+Stocks!E25,Stocks!E25)) -> #REF! | I11: =IF(H11<0,0,H11) -> #REF! | J11: =IF(Soufflage!#REF!=J$6,Stocks!F25-Soufflage!#REF!,IF(AND(Soufflage!#REF!=J$6,(SUMIF(Soufflage!#REF!,B$6,B11)+SUMIF(Soufflage!#REF!,D$6,D11)+SUMIF(Soufflage!#REF!,F$6,F11)+SUMIF(Soufflage!#REF!,H$6,H11))<0),SUMIF(Soufflage!#REF!,B$6,B11)+SUMIF(Soufflage!#REF!,D$6,D11)+SUMIF(Soufflage!#REF!,F$6,F11)+SUMIF(Soufflage!#REF!,J$6,J11)+Stocks!F25,Stocks!F25)) -> #REF! | K11: =IF(J11<0,0,J11) -> #REF! | L11: =Soufflage!#REF! -> #REF!
A12: =paramêtres!A15 -> F | B12: =IF(Soufflage!#REF!=B$6,Stocks!B26-Soufflage!#REF!,IF(AND(Soufflage!#REF!=B$6,(SUMIF(Soufflage!#REF!,D$6,D12)+SUMIF(Soufflage!#REF!,F$6,F12)+SUMIF(Soufflage!#REF!,H$6,H12)+SUMIF(Soufflage!#REF!,J$6,J12)<0)),SUMIF(Soufflage!#REF!,D$6,D12)+SUMIF(Soufflage!#REF!,F$6,F12)+SUMIF(Soufflage!#REF!,H$6,H12)+SUMIF(Soufflage!#REF!,J$6,J12)+Stocks!B26,Stocks!B26)) -> #REF! | C12: =IF(B12<0,0,B12) -> #REF! | D12: =IF(Soufflage!#REF!=D$6,Stocks!C26-Soufflage!#REF!,IF(AND(Soufflage!#REF!=D$6,(SUMIF(Soufflage!#REF!,B$6,B12)+SUMIF(Soufflage!#REF!,F$6,F12)+SUMIF(Soufflage!#REF!,H$6,H12)+SUMIF(Soufflage!#REF!,J$6,J12))<0),SUMIF(Soufflage!#REF!,B$6,B12)+SUMIF(Soufflage!#REF!,F$6,F12)+SUMIF(Soufflage!#REF!,H$6,H12)+SUMIF(Soufflage!#REF!,J$6,J12)+Stocks!C26,Stocks!C26)) -> #REF! | E12: =IF(D12<0,0,D12) -> #REF! | F12: =IF(Soufflage!#REF!=F$6,Stocks!D26-Soufflage!#REF!,IF(AND(Soufflage!#REF!=F$6,(SUMIF(Soufflage!#REF!,B$6,B12)+SUMIF(Soufflage!#REF!,D$6,D12)+SUMIF(Soufflage!#REF!,H$6,H12)+SUMIF(Soufflage!#REF!,J$6,J12))<0),SUMIF(Soufflage!#REF!,B$6,B12)+SUMIF(Soufflage!#REF!,D$6,D12)+SUMIF(Soufflage!#REF!,H$6,H12)+SUMIF(Soufflage!#REF!,J$6,J12)+Stocks!D26,Stocks!D26)) -> #REF! | G12: =IF(F12<0,0,F12) -> #REF! | H12: =IF(Soufflage!#REF!=H$6,Stocks!E26-Soufflage!#REF!,IF(AND(Soufflage!#REF!=H$6,(SUMIF(Soufflage!#REF!,B$6,B12)+SUMIF(Soufflage!#REF!,D$6,D12)+SUMIF(Soufflage!#REF!,F$6,F12)+SUMIF(Soufflage!#REF!,J$6,J12))<0),SUMIF(Soufflage!#REF!,B$6,B12)+SUMIF(Soufflage!#REF!,D$6,D12)+SUMIF(Soufflage!#REF!,F$6,F12)+SUMIF(Soufflage!#REF!,J$6,J12)+Stocks!E26,Stocks!E26)) -> #REF! | I12: =IF(H12<0,0,H12) -> #REF! | J12: =IF(Soufflage!#REF!=J$6,Stocks!F26-Soufflage!#REF!,IF(AND(Soufflage!#REF!=J$6,(SUMIF(Soufflage!#REF!,B$6,B12)+SUMIF(Soufflage!#REF!,D$6,D12)+SUMIF(Soufflage!#REF!,F$6,F12)+SUMIF(Soufflage!#REF!,H$6,H12))<0),SUMIF(Soufflage!#REF!,B$6,B12)+SUMIF(Soufflage!#REF!,D$6,D12)+SUMIF(Soufflage!#REF!,F$6,F12)+SUMIF(Soufflage!#REF!,J$6,J12)+Stocks!F26,Stocks!F26)) -> #REF! | K12: =IF(J12<0,0,J12) -> #REF! | L12: =Soufflage!#REF! -> #REF!
A13: =paramêtres!A16 -> G | B13: =IF(Soufflage!#REF!=B$6,Stocks!B27-Soufflage!#REF!,IF(AND(Soufflage!#REF!=B$6,(SUMIF(Soufflage!#REF!,D$6,D13)+SUMIF(Soufflage!#REF!,F$6,F13)+SUMIF(Soufflage!#REF!,H$6,H13)+SUMIF(Soufflage!#REF!,J$6,J13)<0)),SUMIF(Soufflage!#REF!,D$6,D13)+SUMIF(Soufflage!#REF!,F$6,F13)+SUMIF(Soufflage!#REF!,H$6,H13)+SUMIF(Soufflage!#REF!,J$6,J13)+Stocks!B27,Stocks!B27)) -> #REF! | C13: =IF(B13<0,0,B13) -> #REF! | D13: =IF(Soufflage!#REF!=D$6,Stocks!C27-Soufflage!#REF!,IF(AND(Soufflage!#REF!=D$6,(SUMIF(Soufflage!#REF!,B$6,B13)+SUMIF(Soufflage!#REF!,F$6,F13)+SUMIF(Soufflage!#REF!,H$6,H13)+SUMIF(Soufflage!#REF!,J$6,J13))<0),SUMIF(Soufflage!#REF!,B$6,B13)+SUMIF(Soufflage!#REF!,F$6,F13)+SUMIF(Soufflage!#REF!,H$6,H13)+SUMIF(Soufflage!#REF!,J$6,J13)+Stocks!C27,Stocks!C27)) -> #REF! | E13: =IF(D13<0,0,D13) -> #REF! | F13: =IF(Soufflage!#REF!=F$6,Stocks!D27-Soufflage!#REF!,IF(AND(Soufflage!#REF!=F$6,(SUMIF(Soufflage!#REF!,B$6,B13)+SUMIF(Soufflage!#REF!,D$6,D13)+SUMIF(Soufflage!#REF!,H$6,H13)+SUMIF(Soufflage!#REF!,J$6,J13))<0),SUMIF(Soufflage!#REF!,B$6,B13)+SUMIF(Soufflage!#REF!,D$6,D13)+SUMIF(Soufflage!#REF!,H$6,H13)+SUMIF(Soufflage!#REF!,J$6,J13)+Stocks!D27,Stocks!D27)) -> #REF! | G13: =IF(F13<0,0,F13) -> #REF! | H13: =IF(Soufflage!#REF!=H$6,Stocks!E27-Soufflage!#REF!,IF(AND(Soufflage!#REF!=H$6,(SUMIF(Soufflage!#REF!,B$6,B13)+SUMIF(Soufflage!#REF!,D$6,D13)+SUMIF(Soufflage!#REF!,F$6,F13)+SUMIF(Soufflage!#REF!,J$6,J13))<0),SUMIF(Soufflage!#REF!,B$6,B13)+SUMIF(Soufflage!#REF!,D$6,D13)+SUMIF(Soufflage!#REF!,F$6,F13)+SUMIF(Soufflage!#REF!,J$6,J13)+Stocks!E27,Stocks!E27)) -> #REF! | I13: =IF(H13<0,0,H13) -> #REF! | J13: =IF(Soufflage!#REF!=J$6,Stocks!F27-Soufflage!#REF!,IF(AND(Soufflage!#REF!=J$6,(SUMIF(Soufflage!#REF!,B$6,B13)+SUMIF(Soufflage!#REF!,D$6,D13)+SUMIF(Soufflage!#REF!,F$6,F13)+SUMIF(Soufflage!#REF!,H$6,H13))<0),SUMIF(Soufflage!#REF!,B$6,B13)+SUMIF(Soufflage!#REF!,D$6,D13)+SUMIF(Soufflage!#REF!,F$6,F13)+SUMIF(Soufflage!#REF!,J$6,J13)+Stocks!F27,Stocks!F27)) -> #REF! | K13: =IF(J13<0,0,J13) -> #REF! | L13: =Soufflage!#REF! -> #REF!
A18: ="STOCKS INTERMEDIAIRES SILOS 1-2-3-4-5 au "&TEXT(DATE(YEAR(B1),MONTH(B1),DAY(B1)),"dd/mm/yyyy") -> #VALUE!
A20: Produits | B20: Silo Production 1 | C20: Silo Production 2 | D20: Silo Production 3 | E20: Silo Production 4 | F20: Silo Production 5
A21: =paramêtres!A10 -> A | B21: =SUMIFS(Soufflage!$C$2:$C$370,Soufflage!$A$2:$A$370,$B$1,Soufflage!$B$2:$B$370,$A21,Soufflage!$D$2:$D$370,paramêtres!$A$2) + SUMIFS(Soufflage!$H$2:$H$370,Soufflage!$A$2:$A$370,$B$1,Soufflage!$B$2:$B$370,$A21,Soufflage!$I$2:$I$370,paramêtres!$A$2)-SUMIFS(Soufflage!$E$2:$E$370,Soufflage!$A$2:$A$370,$B$1,Soufflage!$B$2:$B$370,$A21,Soufflage!$D$2:$D$370,paramêtres!$A$2)-SUMIFS(Soufflage!$F$2:$F$370,Soufflage!$A$2:$A$370,$B$1,Soufflage!$B$2:$B$370,$A21,Soufflage!$D$2:$D$370,paramêtres!$A$2)-SUMIFS(Soufflage!$G$2:$G$370,Soufflage!$A$2:$A$370,$B$1,Soufflage!$B$2:$B$370,$A21,Soufflage!$D$2:$D$370,paramêtres!$A$2)-SUMIFS(Soufflage!$J$2:$J$370,Soufflage!$A$2:$A$370,$B$1,Soufflage!$B$2:$B$370,$A21,Soufflage!$I$2:$I$370,paramêtres!$A$2)-SUMIFS(Soufflage!$K$2:$K$370,Soufflage!$A$2:$A$370,$B$1,Soufflage!$B$2:$B$370,$A21,Soufflage!$I$2:$I$370,paramêtres!$A$2)-SUMIFS(Soufflage!$L$2:$L$370,Soufflage!$A$2:$A$370,$B$1,Soufflage!$B$2:$B$370,$A21,Soufflage!$I$2:$I$370,paramêtres!$A$2)+SUMIFS(Soufflage!$M$2:$M$370,Soufflage!$A$2:$A$370,$B$1,Soufflage!$N$2:$N$370,paramêtres!$A$2,Soufflage!$B$2:$B$370,Stocks!$A21) -> 0 | C21: =SUMIFS(Soufflage!$C$2:$C$370,Soufflage!$A$2:$A$370,$B$1,Soufflage!$B$2:$B$370,$A21,Soufflage!$D$2:$D$370,paramêtres!$A$3) + SUMIFS(Soufflage!$H$2:$H$370,Soufflage!$A$2:$A$370,$B$1,Soufflage!$B$2:$B$370,$A21,Soufflage!$I$2:$I$370,paramêtres!$A$3)-SUMIFS(Soufflage!$E$2:$E$370,Soufflage!$A$2:$A$370,$B$1,Soufflage!$B$2:$B$370,$A21,Soufflage!$D$2:$D$370,paramêtres!$A$3)-SUMIFS(Soufflage!$F$2:$F$370,Soufflage!$A$2:$A$370,$B$1,Soufflage!$B$2:$B$370,$A21,Soufflage!$D$2:$D$370,paramêtres!$A$3)-SUMIFS(Soufflage!$G$2:$G$370,Soufflage!$A$2:$A$370,$B$1,Soufflage!$B$2:$B$370,$A21,Soufflage!$D$2:$D$370,paramêtres!$A$3)-SUMIFS(Soufflage!$J$2:$J$370,Soufflage!$A$2:$A$370,$B$1,Soufflage!$B$2:$B$370,$A21,Soufflage!$I$2:$I$370,paramêtres!$A$3)-SUMIFS(Soufflage!$K$2:$K$370,Soufflage!$A$2:$A$370,$B$1,Soufflage!$B$2:$B$370,$A21,Soufflage!$I$2:$I$370,paramêtres!$A$3)-SUMIFS(Soufflage!$L$2:$L$370,Soufflage!$A$2:$A$370,$B$1,Soufflage!$B$2:$B$370,$A21,Soufflage!$I$2:$I$370,paramêtres!$A$3)+SUMIFS(Soufflage!$M$2:$M$370,Soufflage!$A$2:$A$370,$B$1,Soufflage!$N$2:$N$370,paramêtres!$A$3,Soufflage!$B$2:$B$370,Stocks!$A21) -> 0 | D21: =SUMIFS(Soufflage!$C$2:$C$370,Soufflage!$A$2:$A$370,$B$1,Soufflage!$B$2:$B$370,$A21,Soufflage!$D$2:$D$370,paramêtres!$A$4) + SUMIFS(Soufflage!$H$2:$H$370,Soufflage!$A$2:$A$370,$B$1,Soufflage!$B$2:$B$370,$A21,Soufflage!$I$2:$I$370,paramêtres!$A$4)-SUMIFS(Soufflage!$E$2:$E$370,Soufflage!$A$2:$A$370,$B$1,Soufflage!$B$2:$B$370,$A21,Soufflage!$D$2:$D$370,paramêtres!$A$4)-SUMIFS(Soufflage!$F$2:$F$370,Soufflage!$A$2:$A$370,$B$1,Soufflage!$B$2:$B$370,$A21,Soufflage!$D$2:$D$370,paramêtres!$A$4)-SUMIFS(Soufflage!$G$2:$G$370,Soufflage!$A$2:$A$370,$B$1,Soufflage!$B$2:$B$370,$A21,Soufflage!$D$2:$D$370,paramêtres!$A$4)-SUMIFS(Soufflage!$J$2:$J$370,Soufflage!$A$2:$A$370,$B$1,Soufflage!$B$2:$B$370,$A21,Soufflage!$I$2:$I$370,paramêtres!$A$4)-SUMIFS(Soufflage!$K$2:$K$370,Soufflage!$A$2:$A$370,$B$1,Soufflage!$B$2:$B$370,$A21,Soufflage!$I$2:$I$370,paramêtres!$A$4)-SUMIFS(Soufflage!$L$2:$L$370,Soufflage!$A$2:$A$370,$B$1,Soufflage!$B$2:$B$370,$A21,Soufflage!$I$2:$I$370,paramêtres!$A$4)+SUMIFS(Soufflage!$M$2:$M$370,Soufflage!$A$2:$A$370,$B$1,Soufflage!$N$2:$N$370,paramêtres!$A$4,Soufflage!$B$2:$B$370,Stocks!$A21) -> 0 | E21: =SUMIFS(Soufflage!$C$2:$C$370,Soufflage!$A$2:$A$370,$B$1,Soufflage!$B$2:$B$370,$A21,Soufflage!$D$2:$D$370,paramêtres!$A$5) + SUMIFS(Soufflage!$H$2:$H$370,Soufflage!$A$2:$A$370,$B$1,Soufflage!$B$2:$B$370,$A21,Soufflage!$I$2:$I$370,paramêtres!$A$5)-SUMIFS(Soufflage!$E$2:$E$370,Soufflage!$A$2:$A$370,$B$1,Soufflage!$B$2:$B$370,$A21,Soufflage!$D$2:$D$370,paramêtres!$A$5)-SUMIFS(Soufflage!$F$2:$F$370,Soufflage!$A$2:$A$370,$B$1,Soufflage!$B$2:$B$370,$A21,Soufflage!$D$2:$D$370,paramêtres!$A$5)-SUMIFS(Soufflage!$G$2:$G$370,Soufflage!$A$2:$A$370,$B$1,Soufflage!$B$2:$B$370,$A21,Soufflage!$D$2:$D$370,paramêtres!$A$5)-SUMIFS(Soufflage!$J$2:$J$370,Soufflage!$A$2:$A$370,$B$1,Soufflage!$B$2:$B$370,$A21,Soufflage!$I$2:$I$370,paramêtres!$A$5)-SUMIFS(Soufflage!$K$2:$K$370,Soufflage!$A$2:$A$370,$B$1,Soufflage!$B$2:$B$370,$A21,Soufflage!$I$2:$I$370,paramêtres!$A$5)-SUMIFS(Soufflage!$L$2:$L$370,Soufflage!$A$2:$A$370,$B$1,Soufflage!$B$2:$B$370,$A21,Soufflage!$I$2:$I$370,paramêtres!$A$5)+SUMIFS(Soufflage!$M$2:$M$370,Soufflage!$A$2:$A$370,$B$1,Soufflage!$N$2:$N$370,paramêtres!$A$5,Soufflage!$B$2:$B$370,Stocks!$A21) -> 0 | F21: =SUMIFS(Soufflage!$C$2:$C$370,Soufflage!$A$2:$A$370,$B$1,Soufflage!$B$2:$B$370,$A21,Soufflage!$D$2:$D$370,paramêtres!$A$6) + SUMIFS(Soufflage!$H$2:$H$370,Soufflage!$A$2:$A$370,$B$1,Soufflage!$B$2:$B$370,$A21,Soufflage!$I$2:$I$370,paramêtres!$A$6)-SUMIFS(Soufflage!$E$2:$E$370,Soufflage!$A$2:$A$370,$B$1,Soufflage!$B$2:$B$370,$A21,Soufflage!$D$2:$D$370,paramêtres!$A$6)-SUMIFS(Soufflage!$F$2:$F$370,Soufflage!$A$2:$A$370,$B$1,Soufflage!$B$2:$B$370,$A21,Soufflage!$D$2:$D$370,paramêtres!$A$6)-SUMIFS(Soufflage!$G$2:$G$370,Soufflage!$A$2:$A$370,$B$1,Soufflage!$B$2:$B$370,$A21,Soufflage!$D$2:$D$370,paramêtres!$A$6)-SUMIFS(Soufflage!$J$2:$J$370,Soufflage!$A$2:$A$370,$B$1,Soufflage!$B$2:$B$370,$A21,Soufflage!$I$2:$I$370,paramêtres!$A$6)-SUMIFS(Soufflage!$K$2:$K$370,Soufflage!$A$2:$A$370,$B$1,Soufflage!$B$2:$B$370,$A21,Soufflage!$I$2:$I$370,paramêtres!$A$6)-SUMIFS(Soufflage!$L$2:$L$370,Soufflage!$A$2:$A$370,$B$1,Soufflage!$B$2:$B$370,$A21,Soufflage!$I$2:$I$370,paramêtres!$A$6)+SUMIFS(Soufflage!$M$2:$M$370,Soufflage!$A$2:$A$370,$B$1,Soufflage!$N$2:$N$370,paramêtres!$A$6,Soufflage!$B$2:$B$370,Stocks!$A21) -> 1000
A22: =paramêtres!A11 -> B | B22: =SUMIFS(Soufflage!$C$2:$C$370,Soufflage!$A$2:$A$370,$B$1,Soufflage!$B$2:$B$370,$A22,Soufflage!$D$2:$D$370,paramêtres!$A$2) + SUMIFS(Soufflage!$H$2:$H$370,Soufflage!$A$2:$A$370,$B$1,Soufflage!$B$2:$B$370,$A22,Soufflage!$I$2:$I$370,paramêtres!$A$2)-SUMIFS(Soufflage!$E$2:$E$370,Soufflage!$A$2:$A$370,$B$1,Soufflage!$B$2:$B$370,$A22,Soufflage!$D$2:$D$370,paramêtres!$A$2)-SUMIFS(Soufflage!$F$2:$F$370,Soufflage!$A$2:$A$370,$B$1,Soufflage!$B$2:$B$370,$A22,Soufflage!$D$2:$D$370,paramêtres!$A$2)-SUMIFS(Soufflage!$G$2:$G$370,Soufflage!$A$2:$A$370,$B$1,Soufflage!$B$2:$B$370,$A22,Soufflage!$D$2:$D$370,paramêtres!$A$2)-SUMIFS(Soufflage!$J$2:$J$370,Soufflage!$A$2:$A$370,$B$1,Soufflage!$B$2:$B$370,$A22,Soufflage!$I$2:$I$370,paramêtres!$A$2)-SUMIFS(Soufflage!$K$2:$K$370,Soufflage!$A$2:$A$370,$B$1,Soufflage!$B$2:$B$370,$A22,Soufflage!$I$2:$I$370,paramêtres!$A$2)-SUMIFS(Soufflage!$L$2:$L$370,Soufflage!$A$2:$A$370,$B$1,Soufflage!$B$2:$B$370,$A22,Soufflage!$I$2:$I$370,paramêtres!$A$2)+SUMIFS(Soufflage!$M$2:$M$370,Soufflage!$A$2:$A$370,$B$1,Soufflage!$N$2:$N$370,paramêtres!$A$2,Soufflage!$B$2:$B$370,Stocks!$A22) -> 0 | C22: =SUMIFS(Soufflage!$C$2:$C$370,Soufflage!$A$2:$A$370,$B$1,Soufflage!$B$2:$B$370,$A22,Soufflage!$D$2:$D$370,paramêtres!$A$3) + SUMIFS(Soufflage!$H$2:$H$370,Soufflage!$A$2:$A$370,$B$1,Soufflage!$B$2:$B$370,$A22,Soufflage!$I$2:$I$370,paramêtres!$A$3)-SUMIFS(Soufflage!$E$2:$E$370,Soufflage!$A$2:$A$370,$B$1,Soufflage!$B$2:$B$370,$A22,Soufflage!$D$2:$D$370,paramêtres!$A$3)-SUMIFS(Soufflage!$F$2:$F$370,Soufflage!$A$2:$A$370,$B$1,Soufflage!$B$2:$B$370,$A22,Soufflage!$D$2:$D$370,paramêtres!$A$3)-SUMIFS(Soufflage!$G$2:$G$370,Soufflage!$A$2:$A$370,$B$1,Soufflage!$B$2:$B$370,$A22,Soufflage!$D$2:$D$370,paramêtres!$A$3)-SUMIFS(Soufflage!$J$2:$J$370,Soufflage!$A$2:$A$370,$B$1,Soufflage!$B$2:$B$370,$A22,Soufflage!$I$2:$I$370,paramêtres!$A$3)-SUMIFS(Soufflage!$K$2:$K$370,Soufflage!$A$2:$A$370,$B$1,Soufflage!$B$2:$B$370,$A22,Soufflage!$I$2:$I$370,paramêtres!$A$3)-SUMIFS(Soufflage!$L$2:$L$370,Soufflage!$A$2:$A$370,$B$1,Soufflage!$B$2:$B$370,$A22,Soufflage!$I$2:$I$370,paramêtres!$A$3)+SUMIFS(Soufflage!$M$2:$M$370,Soufflage!$A$2:$A$370,$B$1,Soufflage!$N$2:$N$370,paramêtres!$A$3,Soufflage!$B$2:$B$370,Stocks!$A22) -> 0 | D22: =SUMIFS(Soufflage!$C$2:$C$370,Soufflage!$A$2:$A$370,$B$1,Soufflage!$B$2:$B$370,$A22,Soufflage!$D$2:$D$370,paramêtres!$A$4) + SUMIFS(Soufflage!$H$2:$H$370,Soufflage!$A$2:$A$370,$B$1,Soufflage!$B$2:$B$370,$A22,Soufflage!$I$2:$I$370,paramêtres!$A$4)-SUMIFS(Soufflage!$E$2:$E$370,Soufflage!$A$2:$A$370,$B$1,Soufflage!$B$2:$B$370,$A22,Soufflage!$D$2:$D$370,paramêtres!$A$4)-SUMIFS(Soufflage!$F$2:$F$370,Soufflage!$A$2:$A$370,$B$1,Soufflage!$B$2:$B$370,$A22,Soufflage!$D$2:$D$370,paramêtres!$A$4)-SUMIFS(Soufflage!$G$2:$G$370,Soufflage!$A$2:$A$370,$B$1,Soufflage!$B$2:$B$370,$A22,Soufflage!$D$2:$D$370,paramêtres!$A$4)-SUMIFS(Soufflage!$J$2:$J$370,Soufflage!$A$2:$A$370,$B$1,Soufflage!$B$2:$B$370,$A22,Soufflage!$I$2:$I$370,paramêtres!$A$4)-SUMIFS(Soufflage!$K$2:$K$370,Soufflage!$A$2:$A$370,$B$1,Soufflage!$B$2:$B$370,$A22,Soufflage!$I$2:$I$370,paramêtres!$A$4)-SUMIFS(Soufflage!$L$2:$L$370,Soufflage!$A$2:$A$370,$B$1,Soufflage!$B$2:$B$370,$A22,Soufflage!$I$2:$I$370,paramêtres!$A$4)+SUMIFS(Soufflage!$M$2:$M$370,Soufflage!$A$2:$A$370,$B$1,Soufflage!$N$2:$N$370,paramêtres!$A$4,Soufflage!$B$2:$B$370,Stocks!$A22) -> 0 | E22: =SUMIFS(Soufflage!$C$2:$C$370,Soufflage!$A$2:$A$370,$B$1,Soufflage!$B$2:$B$370,$A22,Soufflage!$D$2:$D$370,paramêtres!$A$5) + SUMIFS(Soufflage!$H$2:$H$370,Soufflage!$A$2:$A$370,$B$1,Soufflage!$B$2:$B$370,$A22,Soufflage!$I$2:$I$370,paramêtres!$A$5)-SUMIFS(Soufflage!$E$2:$E$370,Soufflage!$A$2:$A$370,$B$1,Soufflage!$B$2:$B$370,$A22,Soufflage!$D$2:$D$370,paramêtres!$A$5)-SUMIFS(Soufflage!$F$2:$F$370,Soufflage!$A$2:$A$370,$B$1,Soufflage!$B$2:$B$370,$A22,Soufflage!$D$2:$D$370,paramêtres!$A$5)-SUMIFS(Soufflage!$G$2:$G$370,Soufflage!$A$2:$A$370,$B$1,Soufflage!$B$2:$B$370,$A22,Soufflage!$D$2:$D$370,paramêtres!$A$5)-SUMIFS(Soufflage!$J$2:$J$370,Soufflage!$A$2:$A$370,$B$1,Soufflage!$B$2:$B$370,$A22,Soufflage!$I$2:$I$370,paramêtres!$A$5)-SUMIFS(Soufflage!$K$2:$K$370,Soufflage!$A$2:$A$370,$B$1,Soufflage!$B$2:$B$370,$A22,Soufflage!$I$2:$I$370,paramêtres!$A$5)-SUMIFS(Soufflage!$L$2:$L$370,Soufflage!$A$2:$A$370,$B$1,Soufflage!$B$2:$B$370,$A22,Soufflage!$I$2:$I$370,paramêtres!$A$5)+SUMIFS(Soufflage!$M$2:$M$370,Soufflage!$A$2:$A$370,$B$1,Soufflage!$N$2:$N$370,paramêtres!$A$5,Soufflage!$B$2:$B$370,Stocks!$A22) -> 0 | F22: =SUMIFS(Soufflage!$C$2:$C$370,Soufflage!$A$2:$A$370,$B$1,Soufflage!$B$2:$B$370,$A22,Soufflage!$D$2:$D$370,paramêtres!$A$6) + SUMIFS(Soufflage!$H$2:$H$370,Soufflage!$A$2:$A$370,$B$1,Soufflage!$B$2:$B$370,$A22,Soufflage!$I$2:$I$370,paramêtres!$A$6)-SUMIFS(Soufflage!$E$2:$E$370,Soufflage!$A$2:$A$370,$B$1,Soufflage!$B$2:$B$370,$A22,Soufflage!$D$2:$D$370,paramêtres!$A$6)-SUMIFS(Soufflage!$F$2:$F$370,Soufflage!$A$2:$A$370,$B$1,Soufflage!$B$2:$B$370,$A22,Soufflage!$D$2:$D$370,paramêtres!$A$6)-SUMIFS(Soufflage!$G$2:$G$370,Soufflage!$A$2:$A$370,$B$1,Soufflage!$B$2:$B$370,$A22,Soufflage!$D$2:$D$370,paramêtres!$A$6)-SUMIFS(Soufflage!$J$2:$J$370,Soufflage!$A$2:$A$370,$B$1,Soufflage!$B$2:$B$370,$A22,Soufflage!$I$2:$I$370,paramêtres!$A$6)-SUMIFS(Soufflage!$K$2:$K$370,Soufflage!$A$2:$A$370,$B$1,Soufflage!$B$2:$B$370,$A22,Soufflage!$I$2:$I$370,paramêtres!$A$6)-SUMIFS(Soufflage!$L$2:$L$370,Soufflage!$A$2:$A$370,$B$1,Soufflage!$B$2:$B$370,$A22,Soufflage!$I$2:$I$370,paramêtres!$A$6)+SUMIFS(Soufflage!$M$2:$M$370,Soufflage!$A$2:$A$370,$B$1,Soufflage!$N$2:$N$370,paramêtres!$A$6,Soufflage!$B$2:$B$370,Stocks!$A22) -> 0
A23: =paramêtres!A12 -> C | B23: =SUMIFS(Soufflage!$C$2:$C$370,Soufflage!$A$2:$A$370,$B$1,Soufflage!$B$2:$B$370,$A23,Soufflage!$D$2:$D$370,paramêtres!$A$2) + SUMIFS(Soufflage!$H$2:$H$370,Soufflage!$A$2:$A$370,$B$1,Soufflage!$B$2:$B$370,$A23,Soufflage!$I$2:$I$370,paramêtres!$A$2)-SUMIFS(Soufflage!$E$2:$E$370,Soufflage!$A$2:$A$370,$B$1,Soufflage!$B$2:$B$370,$A23,Soufflage!$D$2:$D$370,paramêtres!$A$2)-SUMIFS(Soufflage!$F$2:$F$370,Soufflage!$A$2:$A$370,$B$1,Soufflage!$B$2:$B$370,$A23,Soufflage!$D$2:$D$370,paramêtres!$A$2)-SUMIFS(Soufflage!$G$2:$G$370,Soufflage!$A$2:$A$370,$B$1,Soufflage!$B$2:$B$370,$A23,Soufflage!$D$2:$D$370,paramêtres!$A$2)-SUMIFS(Soufflage!$J$2:$J$370,Soufflage!$A$2:$A$370,$B$1,Soufflage!$B$2:$B$370,$A23,Soufflage!$I$2:$I$370,paramêtres!$A$2)-SUMIFS(Soufflage!$K$2:$K$370,Soufflage!$A$2:$A$370,$B$1,Soufflage!$B$2:$B$370,$A23,Soufflage!$I$2:$I$370,paramêtres!$A$2)-SUMIFS(Soufflage!$L$2:$L$370,Soufflage!$A$2:$A$370,$B$1,Soufflage!$B$2:$B$370,$A23,Soufflage!$I$2:$I$370,paramêtres!$A$2)+SUMIFS(Soufflage!$M$2:$M$370,Soufflage!$A$2:$A$370,$B$1,Soufflage!$N$2:$N$370,paramêtres!$A$2,Soufflage!$B$2:$B$370,Stocks!$A23) -> 0 | C23: =SUMIFS(Soufflage!$C$2:$C$370,Soufflage!$A$2:$A$370,$B$1,Soufflage!$B$2:$B$370,$A23,Soufflage!$D$2:$D$370,paramêtres!$A$3) + SUMIFS(Soufflage!$H$2:$H$370,Soufflage!$A$2:$A$370,$B$1,Soufflage!$B$2:$B$370,$A23,Soufflage!$I$2:$I$370,paramêtres!$A$3)-SUMIFS(Soufflage!$E$2:$E$370,Soufflage!$A$2:$A$370,$B$1,Soufflage!$B$2:$B$370,$A23,Soufflage!$D$2:$D$370,paramêtres!$A$3)-SUMIFS(Soufflage!$F$2:$F$370,Soufflage!$A$2:$A$370,$B$1,Soufflage!$B$2:$B$370,$A23,Soufflage!$D$2:$D$370,paramêtres!$A$3)-SUMIFS(Soufflage!$G$2:$G$370,Soufflage!$A$2:$A$370,$B$1,Soufflage!$B$2:$B$370,$A23,Soufflage!$D$2:$D$370,paramêtres!$A$3)-SUMIFS(Soufflage!$J$2:$J$370,Soufflage!$A$2:$A$370,$B$1,Soufflage!$B$2:$B$370,$A23,Soufflage!$I$2:$I$370,paramêtres!$A$3)-SUMIFS(Soufflage!$K$2:$K$370,Soufflage!$A$2:$A$370,$B$1,Soufflage!$B$2:$B$370,$A23,Soufflage!$I$2:$I$370,paramêtres!$A$3)-SUMIFS(Soufflage!$L$2:$L$370,Soufflage!$A$2:$A$370,$B$1,Soufflage!$B$2:$B$370,$A23,Soufflage!$I$2:$I$370,paramêtres!$A$3)+SUMIFS(Soufflage!$M$2:$M$370,Soufflage!$A$2:$A$370,$B$1,Soufflage!$N$2:$N$370,paramêtres!$A$3,Soufflage!$B$2:$B$370,Stocks!$A23) -> 0 | D23: =SUMIFS(Soufflage!$C$2:$C$370,Soufflage!$A$2:$A$370,$B$1,Soufflage!$B$2:$B$370,$A23,Soufflage!$D$2:$D$370,paramêtres!$A$4) + SUMIFS(Soufflage!$H$2:$H$370,Soufflage!$A$2:$A$370,$B$1,Soufflage!$B$2:$B$370,$A23,Soufflage!$I$2:$I$370,paramêtres!$A$4)-SUMIFS(Soufflage!$E$2:$E$370,Soufflage!$A$2:$A$370,$B$1,Soufflage!$B$2:$B$370,$A23,Soufflage!$D$2:$D$370,paramêtres!$A$4)-SUMIFS(Soufflage!$F$2:$F$370,Soufflage!$A$2:$A$370,$B$1,Soufflage!$B$2:$B$370,$A23,Soufflage!$D$2:$D$370,paramêtres!$A$4)-SUMIFS(Soufflage!$G$2:$G$370,Soufflage!$A$2:$A$370,$B$1,Soufflage!$B$2:$B$370,$A23,Soufflage!$D$2:$D$370,paramêtres!$A$4)-SUMIFS(Soufflage!$J$2:$J$370,Soufflage!$A$2:$A$370,$B$1,Soufflage!$B$2:$B$370,$A23,Soufflage!$I$2:$I$370,paramêtres!$A$4)-SUMIFS(Soufflage!$K$2:$K$370,Soufflage!$A$2:$A$370,$B$1,Soufflage!$B$2:$B$370,$A23,Soufflage!$I$2:$I$370,paramêtres!$A$4)-SUMIFS(Soufflage!$L$2:$L$370,Soufflage!$A$2:$A$370,$B$1,Soufflage!$B$2:$B$370,$A23,Soufflage!$I$2:$I$370,paramêtres!$A$4)+SUMIFS(Soufflage!$M$2:$M$370,Soufflage!$A$2:$A$370,$B$1,Soufflage!$N$2:$N$370,paramêtres!$A$4,Soufflage!$B$2:$B$370,Stocks!$A23) -> 0 | E23: =SUMIFS(Soufflage!$C$2:$C$370,Soufflage!$A$2:$A$370,$B$1,Soufflage!$B$2:$B$370,$A23,Soufflage!$D$2:$D$370,paramêtres!$A$5) + SUMIFS(Soufflage!$H$2:$H$370,Soufflage!$A$2:$A$370,$B$1,Soufflage!$B$2:$B$370,$A23,Soufflage!$I$2:$I$370,paramêtres!$A$5)-SUMIFS(Soufflage!$E$2:$E$370,Soufflage!$A$2:$A$370,$B$1,Soufflage!$B$2:$B$370,$A23,Soufflage!$D$2:$D$370,paramêtres!$A$5)-SUMIFS(Soufflage!$F$2:$F$370,Soufflage!$A$2:$A$370,$B$1,Soufflage!$B$2:$B$370,$A23,Soufflage!$D$2:$D$370,paramêtres!$A$5)-SUMIFS(Soufflage!$G$2:$G$370,Soufflage!$A$2:$A$370,$B$1,Soufflage!$B$2:$B$370,$A23,Soufflage!$D$2:$D$370,paramêtres!$A$5)-SUMIFS(Soufflage!$J$2:$J$370,Soufflage!$A$2:$A$370,$B$1,Soufflage!$B$2:$B$370,$A23,Soufflage!$I$2:$I$370,paramêtres!$A$5)-SUMIFS(Soufflage!$K$2:$K$370,Soufflage!$A$2:$A$370,$B$1,Soufflage!$B$2:$B$370,$A23,Soufflage!$I$2:$I$370,paramêtres!$A$5)-SUMIFS(Soufflage!$L$2:$L$370,Soufflage!$A$2:$A$370,$B$1,Soufflage!$B$2:$B$370,$A23,Soufflage!$I$2:$I$370,paramêtres!$A$5)+SUMIFS(Soufflage!$M$2:$M$370,Soufflage!$A$2:$A$370,$B$1,Soufflage!$N$2:$N$370,paramêtres!$A$5,Soufflage!$B$2:$B$370,Stocks!$A23) -> 0 | F23: =SUMIFS(Soufflage!$C$2:$C$370,Soufflage!$A$2:$A$370,$B$1,Soufflage!$B$2:$B$370,$A23,Soufflage!$D$2:$D$370,paramêtres!$A$6) + SUMIFS(Soufflage!$H$2:$H$370,Soufflage!$A$2:$A$370,$B$1,Soufflage!$B$2:$B$370,$A23,Soufflage!$I$2:$I$370,paramêtres!$A$6)-SUMIFS(Soufflage!$E$2:$E$370,Soufflage!$A$2:$A$370,$B$1,Soufflage!$B$2:$B$370,$A23,Soufflage!$D$2:$D$370,paramêtres!$A$6)-SUMIFS(Soufflage!$F$2:$F$370,Soufflage!$A$2:$A$370,$B$1,Soufflage!$B$2:$B$370,$A23,Soufflage!$D$2:$D$370,paramêtres!$A$6)-SUMIFS(Soufflage!$G$2:$G$370,Soufflage!$A$2:$A$370,$B$1,Soufflage!$B$2:$B$370,$A23,Soufflage!$D$2:$D$370,paramêtres!$A$6)-SUMIFS(Soufflage!$J$2:$J$370,Soufflage!$A$2:$A$370,$B$1,Soufflage!$B$2:$B$370,$A23,Soufflage!$I$2:$I$370,paramêtres!$A$6)-SUMIFS(Soufflage!$K$2:$K$370,Soufflage!$A$2:$A$370,$B$1,Soufflage!$B$2:$B$370,$A23,Soufflage!$I$2:$I$370,paramêtres!$A$6)-SUMIFS(Soufflage!$L$2:$L$370,Soufflage!$A$2:$A$370,$B$1,Soufflage!$B$2:$B$370,$A23,Soufflage!$I$2:$I$370,paramêtres!$A$6)+SUMIFS(Soufflage!$M$2:$M$370,Soufflage!$A$2:$A$370,$B$1,Soufflage!$N$2:$N$370,paramêtres!$A$6,Soufflage!$B$2:$B$370,Stocks!$A23) -> 0
A24: =paramêtres!A13 -> D | B24: =SUMIFS(Soufflage!$C$2:$C$370,Soufflage!$A$2:$A$370,$B$1,Soufflage!$B$2:$B$370,$A24,Soufflage!$D$2:$D$370,paramêtres!$A$2) + SUMIFS(Soufflage!$H$2:$H$370,Soufflage!$A$2:$A$370,$B$1,Soufflage!$B$2:$B$370,$A24,Soufflage!$I$2:$I$370,paramêtres!$A$2)-SUMIFS(Soufflage!$E$2:$E$370,Soufflage!$A$2:$A$370,$B$1,Soufflage!$B$2:$B$370,$A24,Soufflage!$D$2:$D$370,paramêtres!$A$2)-SUMIFS(Soufflage!$F$2:$F$370,Soufflage!$A$2:$A$370,$B$1,Soufflage!$B$2:$B$370,$A24,Soufflage!$D$2:$D$370,paramêtres!$A$2)-SUMIFS(Soufflage!$G$2:$G$370,Soufflage!$A$2:$A$370,$B$1,Soufflage!$B$2:$B$370,$A24,Soufflage!$D$2:$D$370,paramêtres!$A$2)-SUMIFS(Soufflage!$J$2:$J$370,Soufflage!$A$2:$A$370,$B$1,Soufflage!$B$2:$B$370,$A24,Soufflage!$I$2:$I$370,paramêtres!$A$2)-SUMIFS(Soufflage!$K$2:$K$370,Soufflage!$A$2:$A$370,$B$1,Soufflage!$B$2:$B$370,$A24,Soufflage!$I$2:$I$370,paramêtres!$A$2)-SUMIFS(Soufflage!$L$2:$L$370,Soufflage!$A$2:$A$370,$B$1,Soufflage!$B$2:$B$370,$A24,Soufflage!$I$2:$I$370,paramêtres!$A$2)+SUMIFS(Soufflage!$M$2:$M$370,Soufflage!$A$2:$A$370,$B$1,Soufflage!$N$2:$N$370,paramêtres!$A$2,Soufflage!$B$2:$B$370,Stocks!$A24) -> 0 | C24: =SUMIFS(Soufflage!$C$2:$C$370,Soufflage!$A$2:$A$370,$B$1,Soufflage!$B$2:$B$370,$A24,Soufflage!$D$2:$D$370,paramêtres!$A$3) + SUMIFS(Soufflage!$H$2:$H$370,Soufflage!$A$2:$A$370,$B$1,Soufflage!$B$2:$B$370,$A24,Soufflage!$I$2:$I$370,paramêtres!$A$3)-SUMIFS(Soufflage!$E$2:$E$370,Soufflage!$A$2:$A$370,$B$1,Soufflage!$B$2:$B$370,$A24,Soufflage!$D$2:$D$370,paramêtres!$A$3)-SUMIFS(Soufflage!$F$2:$F$370,Soufflage!$A$2:$A$370,$B$1,Soufflage!$B$2:$B$370,$A24,Soufflage!$D$2:$D$370,paramêtres!$A$3)-SUMIFS(Soufflage!$G$2:$G$370,Soufflage!$A$2:$A$370,$B$1,Soufflage!$B$2:$B$370,$A24,Soufflage!$D$2:$D$370,paramêtres!$A$3)-SUMIFS(Soufflage!$J$2:$J$370,Soufflage!$A$2:$A$370,$B$1,Soufflage!$B$2:$B$370,$A24,Soufflage!$I$2:$I$370,paramêtres!$A$3)-SUMIFS(Soufflage!$K$2:$K$370,Soufflage!$A$2:$A$370,$B$1,Soufflage!$B$2:$B$370,$A24,Soufflage!$I$2:$I$370,paramêtres!$A$3)-SUMIFS(Soufflage!$L$2:$L$370,Soufflage!$A$2:$A$370,$B$1,Soufflage!$B$2:$B$370,$A24,Soufflage!$I$2:$I$370,paramêtres!$A$3)+SUMIFS(Soufflage!$M$2:$M$370,Soufflage!$A$2:$A$370,$B$1,Soufflage!$N$2:$N$370,paramêtres!$A$3,Soufflage!$B$2:$B$370,Stocks!$A24) -> 0 | D24: =SUMIFS(Soufflage!$C$2:$C$370,Soufflage!$A$2:$A$370,$B$1,Soufflage!$B$2:$B$370,$A24,Soufflage!$D$2:$D$370,paramêtres!$A$4) + SUMIFS(Soufflage!$H$2:$H$370,Soufflage!$A$2:$A$370,$B$1,Soufflage!$B$2:$B$370,$A24,Soufflage!$I$2:$I$370,paramêtres!$A$4)-SUMIFS(Soufflage!$E$2:$E$370,Soufflage!$A$2:$A$370,$B$1,Soufflage!$B$2:$B$370,$A24,Soufflage!$D$2:$D$370,paramêtres!$A$4)-SUMIFS(Soufflage!$F$2:$F$370,Soufflage!$A$2:$A$370,$B$1,Soufflage!$B$2:$B$370,$A24,Soufflage!$D$2:$D$370,paramêtres!$A$4)-SUMIFS(Soufflage!$G$2:$G$370,Soufflage!$A$2:$A$370,$B$1,Soufflage!$B$2:$B$370,$A24,Soufflage!$D$2:$D$370,paramêtres!$A$4)-SUMIFS(Soufflage!$J$2:$J$370,Soufflage!$A$2:$A$370,$B$1,Soufflage!$B$2:$B$370,$A24,Soufflage!$I$2:$I$370,paramêtres!$A$4)-SUMIFS(Soufflage!$K$2:$K$370,Soufflage!$A$2:$A$370,$B$1,Soufflage!$B$2:$B$370,$A24,Soufflage!$I$2:$I$370,paramêtres!$A$4)-SUMIFS(Soufflage!$L$2:$L$370,Soufflage!$A$2:$A$370,$B$1,Soufflage!$B$2:$B$370,$A24,Soufflage!$I$2:$I$370,paramêtres!$A$4)+SUMIFS(Soufflage!$M$2:$M$370,Soufflage!$A$2:$A$370,$B$1,Soufflage!$N$2:$N$370,paramêtres!$A$4,Soufflage!$B$2:$B$370,Stocks!$A24) -> 0 | E24: =SUMIFS(Soufflage!$C$2:$C$370,Soufflage!$A$2:$A$370,$B$1,Soufflage!$B$2:$B$370,$A24,Soufflage!$D$2:$D$370,paramêtres!$A$5) + SUMIFS(Soufflage!$H$2:$H$370,Soufflage!$A$2:$A$370,$B$1,Soufflage!$B$2:$B$370,$A24,Soufflage!$I$2:$I$370,paramêtres!$A$5)-SUMIFS(Soufflage!$E$2:$E$370,Soufflage!$A$2:$A$370,$B$1,Soufflage!$B$2:$B$370,$A24,Soufflage!$D$2:$D$370,paramêtres!$A$5)-SUMIFS(Soufflage!$F$2:$F$370,Soufflage!$A$2:$A$370,$B$1,Soufflage!$B$2:$B$370,$A24,Soufflage!$D$2:$D$370,paramêtres!$A$5)-SUMIFS(Soufflage!$G$2:$G$370,Soufflage!$A$2:$A$370,$B$1,Soufflage!$B$2:$B$370,$A24,Soufflage!$D$2:$D$370,paramêtres!$A$5)-SUMIFS(Soufflage!$J$2:$J$370,Soufflage!$A$2:$A$370,$B$1,Soufflage!$B$2:$B$370,$A24,Soufflage!$I$2:$I$370,paramêtres!$A$5)-SUMIFS(Soufflage!$K$2:$K$370,Soufflage!$A$2:$A$370,$B$1,Soufflage!$B$2:$B$370,$A24,Soufflage!$I$2:$I$370,paramêtres!$A$5)-SUMIFS(Soufflage!$L$2:$L$370,Soufflage!$A$2:$A$370,$B$1,Soufflage!$B$2:$B$370,$A24,Soufflage!$I$2:$I$370,paramêtres!$A$5)+SUMIFS(Soufflage!$M$2:$M$370,Soufflage!$A$2:$A$370,$B$1,Soufflage!$N$2:$N$370,paramêtres!$A$5,Soufflage!$B$2:$B$370,Stocks!$A24) -> 0 | F24: =SUMIFS(Soufflage!$C$2:$C$370,Soufflage!$A$2:$A$370,$B$1,Soufflage!$B$2:$B$370,$A24,Soufflage!$D$2:$D$370,paramêtres!$A$6) + SUMIFS(Soufflage!$H$2:$H$370,Soufflage!$A$2:$A$370,$B$1,Soufflage!$B$2:$B$370,$A24,Soufflage!$I$2:$I$370,paramêtres!$A$6)-SUMIFS(Soufflage!$E$2:$E$370,Soufflage!$A$2:$A$370,$B$1,Soufflage!$B$2:$B$370,$A24,Soufflage!$D$2:$D$370,paramêtres!$A$6)-SUMIFS(Soufflage!$F$2:$F$370,Soufflage!$A$2:$A$370,$B$1,Soufflage!$B$2:$B$370,$A24,Soufflage!$D$2:$D$370,paramêtres!$A$6)-SUMIFS(Soufflage!$G$2:$G$370,Soufflage!$A$2:$A$370,$B$1,Soufflage!$B$2:$B$370,$A24,Soufflage!$D$2:$D$370,paramêtres!$A$6)-SUMIFS(Soufflage!$J$2:$J$370,Soufflage!$A$2:$A$370,$B$1,Soufflage!$B$2:$B$370,$A24,Soufflage!$I$2:$I$370,paramêtres!$A$6)-SUMIFS(Soufflage!$K$2:$K$370,Soufflage!$A$2:$A$370,$B$1,Soufflage!$B$2:$B$370,$A24,Soufflage!$I$2:$I$370,paramêtres!$A$6)-SUMIFS(Soufflage!$L$2:$L$370,Soufflage!$A$2:$A$370,$B$1,Soufflage!$B$2:$B$370,$A24,Soufflage!$I$2:$I$370,paramêtres!$A$6)+SUMIFS(Soufflage!$M$2:$M$370,Soufflage!$A$2:$A$370,$B$1,Soufflage!$N$2:$N$370,paramêtres!$A$6,Soufflage!$B$2:$B$370,Stocks!$A24) -> 0
A25: =paramêtres!A14 -> E | B25: =SUMIFS(Soufflage!$C$2:$C$370,Soufflage!$A$2:$A$370,$B$1,Soufflage!$B$2:$B$370,$A25,Soufflage!$D$2:$D$370,paramêtres!$A$2) + SUMIFS(Soufflage!$H$2:$H$370,Soufflage!$A$2:$A$370,$B$1,Soufflage!$B$2:$B$370,$A25,Soufflage!$I$2:$I$370,paramêtres!$A$2)-SUMIFS(Soufflage!$E$2:$E$370,Soufflage!$A$2:$A$370,$B$1,Soufflage!$B$2:$B$370,$A25,Soufflage!$D$2:$D$370,paramêtres!$A$2)-SUMIFS(Soufflage!$F$2:$F$370,Soufflage!$A$2:$A$370,$B$1,Soufflage!$B$2:$B$370,$A25,Soufflage!$D$2:$D$370,paramêtres!$A$2)-SUMIFS(Soufflage!$G$2:$G$370,Soufflage!$A$2:$A$370,$B$1,Soufflage!$B$2:$B$370,$A25,Soufflage!$D$2:$D$370,paramêtres!$A$2)-SUMIFS(Soufflage!$J$2:$J$370,Soufflage!$A$2:$A$370,$B$1,Soufflage!$B$2:$B$370,$A25,Soufflage!$I$2:$I$370,paramêtres!$A$2)-SUMIFS(Soufflage!$K$2:$K$370,Soufflage!$A$2:$A$370,$B$1,Soufflage!$B$2:$B$370,$A25,Soufflage!$I$2:$I$370,paramêtres!$A$2)-SUMIFS(Soufflage!$L$2:$L$370,Soufflage!$A$2:$A$370,$B$1,Soufflage!$B$2:$B$370,$A25,Soufflage!$I$2:$I$370,paramêtres!$A$2)+SUMIFS(Soufflage!$M$2:$M$370,Soufflage!$A$2:$A$370,$B$1,Soufflage!$N$2:$N$370,paramêtres!$A$2,Soufflage!$B$2:$B$370,Stocks!$A25) -> 0 | C25: =SUMIFS(Soufflage!$C$2:$C$370,Soufflage!$A$2:$A$370,$B$1,Soufflage!$B$2:$B$370,$A25,Soufflage!$D$2:$D$370,paramêtres!$A$3) + SUMIFS(Soufflage!$H$2:$H$370,Soufflage!$A$2:$A$370,$B$1,Soufflage!$B$2:$B$370,$A25,Soufflage!$I$2:$I$370,paramêtres!$A$3)-SUMIFS(Soufflage!$E$2:$E$370,Soufflage!$A$2:$A$370,$B$1,Soufflage!$B$2:$B$370,$A25,Soufflage!$D$2:$D$370,paramêtres!$A$3)-SUMIFS(Soufflage!$F$2:$F$370,Soufflage!$A$2:$A$370,$B$1,Soufflage!$B$2:$B$370,$A25,Soufflage!$D$2:$D$370,paramêtres!$A$3)-SUMIFS(Soufflage!$G$2:$G$370,Soufflage!$A$2:$A$370,$B$1,Soufflage!$B$2:$B$370,$A25,Soufflage!$D$2:$D$370,paramêtres!$A$3)-SUMIFS(Soufflage!$J$2:$J$370,Soufflage!$A$2:$A$370,$B$1,Soufflage!$B$2:$B$370,$A25,Soufflage!$I$2:$I$370,paramêtres!$A$3)-SUMIFS(Soufflage!$K$2:$K$370,Soufflage!$A$2:$A$370,$B$1,Soufflage!$B$2:$B$370,$A25,Soufflage!$I$2:$I$370,paramêtres!$A$3)-SUMIFS(Soufflage!$L$2:$L$370,Soufflage!$A$2:$A$370,$B$1,Soufflage!$B$2:$B$370,$A25,Soufflage!$I$2:$I$370,paramêtres!$A$3)+SUMIFS(Soufflage!$M$2:$M$370,Soufflage!$A$2:$A$370,$B$1,Soufflage!$N$2:$N$370,paramêtres!$A$3,Soufflage!$B$2:$B$370,Stocks!$A25) -> 0 | D25: =SUMIFS(Soufflage!$C$2:$C$370,Soufflage!$A$2:$A$370,$B$1,Soufflage!$B$2:$B$370,$A25,Soufflage!$D$2:$D$370,paramêtres!$A$4) + SUMIFS(Soufflage!$H$2:$H$370,Soufflage!$A$2:$A$370,$B$1,Soufflage!$B$2:$B$370,$A25,Soufflage!$I$2:$I$370,paramêtres!$A$4)-SUMIFS(Soufflage!$E$2:$E$370,Soufflage!$A$2:$A$370,$B$1,Soufflage!$B$2:$B$370,$A25,Soufflage!$D$2:$D$370,paramêtres!$A$4)-SUMIFS(Soufflage!$F$2:$F$370,Soufflage!$A$2:$A$370,$B$1,Soufflage!$B$2:$B$370,$A25,Soufflage!$D$2:$D$370,paramêtres!$A$4)-SUMIFS(Soufflage!$G$2:$G$370,Soufflage!$A$2:$A$370,$B$1,Soufflage!$B$2:$B$370,$A25,Soufflage!$D$2:$D$370,paramêtres!$A$4)-SUMIFS(Soufflage!$J$2:$J$370,Soufflage!$A$2:$A$370,$B$1,Soufflage!$B$2:$B$370,$A25,Soufflage!$I$2:$I$370,paramêtres!$A$4)-SUMIFS(Soufflage!$K$2:$K$370,Soufflage!$A$2:$A$370,$B$1,Soufflage!$B$2:$B$370,$A25,Soufflage!$I$2:$I$370,paramêtres!$A$4)-SUMIFS(Soufflage!$L$2:$L$370,Soufflage!$A$2:$A$370,$B$1,Soufflage!$B$2:$B$370,$A25,Soufflage!$I$2:$I$370,paramêtres!$A$4)+SUMIFS(Soufflage!$M$2:$M$370,Soufflage!$A$2:$A$370,$B$1,Soufflage!$N$2:$N$370,paramêtres!$A$4,Soufflage!$B$2:$B$370,Stocks!$A25) -> 0 | E25: =SUMIFS(Soufflage!$C$2:$C$370,Soufflage!$A$2:$A$370,$B$1,Soufflage!$B$2:$B$370,$A25,Soufflage!$D$2:$D$370,paramêtres!$A$5) + SUMIFS(Soufflage!$H$2:$H$370,Soufflage!$A$2:$A$370,$B$1,Soufflage!$B$2:$B$370,$A25,Soufflage!$I$2:$I$370,paramêtres!$A$5)-SUMIFS(Soufflage!$E$2:$E$370,Soufflage!$A$2:$A$370,$B$1,Soufflage!$B$2:$B$370,$A25,Soufflage!$D$2:$D$370,paramêtres!$A$5)-SUMIFS(Soufflage!$F$2:$F$370,Soufflage!$A$2:$A$370,$B$1,Soufflage!$B$2:$B$370,$A25,Soufflage!$D$2:$D$370,paramêtres!$A$5)-SUMIFS(Soufflage!$G$2:$G$370,Soufflage!$A$2:$A$370,$B$1,Soufflage!$B$2:$B$370,$A25,Soufflage!$D$2:$D$370,paramêtres!$A$5)-SUMIFS(Soufflage!$J$2:$J$370,Soufflage!$A$2:$A$370,$B$1,Soufflage!$B$2:$B$370,$A25,Soufflage!$I$2:$I$370,paramêtres!$A$5)-SUMIFS(Soufflage!$K$2:$K$370,Soufflage!$A$2:$A$370,$B$1,Soufflage!$B$2:$B$370,$A25,Soufflage!$I$2:$I$370,paramêtres!$A$5)-SUMIFS(Soufflage!$L$2:$L$370,Soufflage!$A$2:$A$370,$B$1,Soufflage!$B$2:$B$370,$A25,Soufflage!$I$2:$I$370,paramêtres!$A$5)+SUMIFS(Soufflage!$M$2:$M$370,Soufflage!$A$2:$A$370,$B$1,Soufflage!$N$2:$N$370,paramêtres!$A$5,Soufflage!$B$2:$B$370,Stocks!$A25) -> 0 | F25: =SUMIFS(Soufflage!$C$2:$C$370,Soufflage!$A$2:$A$370,$B$1,Soufflage!$B$2:$B$370,$A25,Soufflage!$D$2:$D$370,paramêtres!$A$6) + SUMIFS(Soufflage!$H$2:$H$370,Soufflage!$A$2:$A$370,$B$1,Soufflage!$B$2:$B$370,$A25,Soufflage!$I$2:$I$370,paramêtres!$A$6)-SUMIFS(Soufflage!$E$2:$E$370,Soufflage!$A$2:$A$370,$B$1,Soufflage!$B$2:$B$370,$A25,Soufflage!$D$2:$D$370,paramêtres!$A$6)-SUMIFS(Soufflage!$F$2:$F$370,Soufflage!$A$2:$A$370,$B$1,Soufflage!$B$2:$B$370,$A25,Soufflage!$D$2:$D$370,paramêtres!$A$6)-SUMIFS(Soufflage!$G$2:$G$370,Soufflage!$A$2:$A$370,$B$1,Soufflage!$B$2:$B$370,$A25,Soufflage!$D$2:$D$370,paramêtres!$A$6)-SUMIFS(Soufflage!$J$2:$J$370,Soufflage!$A$2:$A$370,$B$1,Soufflage!$B$2:$B$370,$A25,Soufflage!$I$2:$I$370,paramêtres!$A$6)-SUMIFS(Soufflage!$K$2:$K$370,Soufflage!$A$2:$A$370,$B$1,Soufflage!$B$2:$B$370,$A25,Soufflage!$I$2:$I$370,paramêtres!$A$6)-SUMIFS(Soufflage!$L$2:$L$370,Soufflage!$A$2:$A$370,$B$1,Soufflage!$B$2:$B$370,$A25,Soufflage!$I$2:$I$370,paramêtres!$A$6)+SUMIFS(Soufflage!$M$2:$M$370,Soufflage!$A$2:$A$370,$B$1,Soufflage!$N$2:$N$370,paramêtres!$A$6,Soufflage!$B$2:$B$370,Stocks!$A25) -> 0
A26: =paramêtres!A15 -> F | B26: =SUMIFS(Soufflage!$C$2:$C$370,Soufflage!$A$2:$A$370,$B$1,Soufflage!$B$2:$B$370,$A26,Soufflage!$D$2:$D$370,paramêtres!$A$2) + SUMIFS(Soufflage!$H$2:$H$370,Soufflage!$A$2:$A$370,$B$1,Soufflage!$B$2:$B$370,$A26,Soufflage!$I$2:$I$370,paramêtres!$A$2)-SUMIFS(Soufflage!$E$2:$E$370,Soufflage!$A$2:$A$370,$B$1,Soufflage!$B$2:$B$370,$A26,Soufflage!$D$2:$D$370,paramêtres!$A$2)-SUMIFS(Soufflage!$F$2:$F$370,Soufflage!$A$2:$A$370,$B$1,Soufflage!$B$2:$B$370,$A26,Soufflage!$D$2:$D$370,paramêtres!$A$2)-SUMIFS(Soufflage!$G$2:$G$370,Soufflage!$A$2:$A$370,$B$1,Soufflage!$B$2:$B$370,$A26,Soufflage!$D$2:$D$370,paramêtres!$A$2)-SUMIFS(Soufflage!$J$2:$J$370,Soufflage!$A$2:$A$370,$B$1,Soufflage!$B$2:$B$370,$A26,Soufflage!$I$2:$I$370,paramêtres!$A$2)-SUMIFS(Soufflage!$K$2:$K$370,Soufflage!$A$2:$A$370,$B$1,Soufflage!$B$2:$B$370,$A26,Soufflage!$I$2:$I$370,paramêtres!$A$2)-SUMIFS(Soufflage!$L$2:$L$370,Soufflage!$A$2:$A$370,$B$1,Soufflage!$B$2:$B$370,$A26,Soufflage!$I$2:$I$370,paramêtres!$A$2)+SUMIFS(Soufflage!$M$2:$M$370,Soufflage!$A$2:$A$370,$B$1,Soufflage!$N$2:$N$370,paramêtres!$A$2,Soufflage!$B$2:$B$370,Stocks!$A26) -> 0 | C26: =SUMIFS(Soufflage!$C$2:$C$370,Soufflage!$A$2:$A$370,$B$1,Soufflage!$B$2:$B$370,$A26,Soufflage!$D$2:$D$370,paramêtres!$A$3) + SUMIFS(Soufflage!$H$2:$H$370,Soufflage!$A$2:$A$370,$B$1,Soufflage!$B$2:$B$370,$A26,Soufflage!$I$2:$I$370,paramêtres!$A$3)-SUMIFS(Soufflage!$E$2:$E$370,Soufflage!$A$2:$A$370,$B$1,Soufflage!$B$2:$B$370,$A26,Soufflage!$D$2:$D$370,paramêtres!$A$3)-SUMIFS(Soufflage!$F$2:$F$370,Soufflage!$A$2:$A$370,$B$1,Soufflage!$B$2:$B$370,$A26,Soufflage!$D$2:$D$370,paramêtres!$A$3)-SUMIFS(Soufflage!$G$2:$G$370,Soufflage!$A$2:$A$370,$B$1,Soufflage!$B$2:$B$370,$A26,Soufflage!$D$2:$D$370,paramêtres!$A$3)-SUMIFS(Soufflage!$J$2:$J$370,Soufflage!$A$2:$A$370,$B$1,Soufflage!$B$2:$B$370,$A26,Soufflage!$I$2:$I$370,paramêtres!$A$3)-SUMIFS(Soufflage!$K$2:$K$370,Soufflage!$A$2:$A$370,$B$1,Soufflage!$B$2:$B$370,$A26,Soufflage!$I$2:$I$370,paramêtres!$A$3)-SUMIFS(Soufflage!$L$2:$L$370,Soufflage!$A$2:$A$370,$B$1,Soufflage!$B$2:$B$370,$A26,Soufflage!$I$2:$I$370,paramêtres!$A$3)+SUMIFS(Soufflage!$M$2:$M$370,Soufflage!$A$2:$A$370,$B$1,Soufflage!$N$2:$N$370,paramêtres!$A$3,Soufflage!$B$2:$B$370,Stocks!$A26) -> 0 | D26: =SUMIFS(Soufflage!$C$2:$C$370,Soufflage!$A$2:$A$370,$B$1,Soufflage!$B$2:$B$370,$A26,Soufflage!$D$2:$D$370,paramêtres!$A$4) + SUMIFS(Soufflage!$H$2:$H$370,Soufflage!$A$2:$A$370,$B$1,Soufflage!$B$2:$B$370,$A26,Soufflage!$I$2:$I$370,paramêtres!$A$4)-SUMIFS(Soufflage!$E$2:$E$370,Soufflage!$A$2:$A$370,$B$1,Soufflage!$B$2:$B$370,$A26,Soufflage!$D$2:$D$370,paramêtres!$A$4)-SUMIFS(Soufflage!$F$2:$F$370,Soufflage!$A$2:$A$370,$B$1,Soufflage!$B$2:$B$370,$A26,Soufflage!$D$2:$D$370,paramêtres!$A$4)-SUMIFS(Soufflage!$G$2:$G$370,Soufflage!$A$2:$A$370,$B$1,Soufflage!$B$2:$B$370,$A26,Soufflage!$D$2:$D$370,paramêtres!$A$4)-SUMIFS(Soufflage!$J$2:$J$370,Soufflage!$A$2:$A$370,$B$1,Soufflage!$B$2:$B$370,$A26,Soufflage!$I$2:$I$370,paramêtres!$A$4)-SUMIFS(Soufflage!$K$2:$K$370,Soufflage!$A$2:$A$370,$B$1,Soufflage!$B$2:$B$370,$A26,Soufflage!$I$2:$I$370,paramêtres!$A$4)-SUMIFS(Soufflage!$L$2:$L$370,Soufflage!$A$2:$A$370,$B$1,Soufflage!$B$2:$B$370,$A26,Soufflage!$I$2:$I$370,paramêtres!$A$4)+SUMIFS(Soufflage!$M$2:$M$370,Soufflage!$A$2:$A$370,$B$1,Soufflage!$N$2:$N$370,paramêtres!$A$4,Soufflage!$B$2:$B$370,Stocks!$A26) -> 0 | E26: =SUMIFS(Soufflage!$C$2:$C$370,Soufflage!$A$2:$A$370,$B$1,Soufflage!$B$2:$B$370,$A26,Soufflage!$D$2:$D$370,paramêtres!$A$5) + SUMIFS(Soufflage!$H$2:$H$370,Soufflage!$A$2:$A$370,$B$1,Soufflage!$B$2:$B$370,$A26,Soufflage!$I$2:$I$370,paramêtres!$A$5)-SUMIFS(Soufflage!$E$2:$E$370,Soufflage!$A$2:$A$370,$B$1,Soufflage!$B$2:$B$370,$A26,Soufflage!$D$2:$D$370,paramêtres!$A$5)-SUMIFS(Soufflage!$F$2:$F$370,Soufflage!$A$2:$A$370,$B$1,Soufflage!$B$2:$B$370,$A26,Soufflage!$D$2:$D$370,paramêtres!$A$5)-SUMIFS(Soufflage!$G$2:$G$370,Soufflage!$A$2:$A$370,$B$1,Soufflage!$B$2:$B$370,$A26,Soufflage!$D$2:$D$370,paramêtres!$A$5)-SUMIFS(Soufflage!$J$2:$J$370,Soufflage!$A$2:$A$370,$B$1,Soufflage!$B$2:$B$370,$A26,Soufflage!$I$2:$I$370,paramêtres!$A$5)-SUMIFS(Soufflage!$K$2:$K$370,Soufflage!$A$2:$A$370,$B$1,Soufflage!$B$2:$B$370,$A26,Soufflage!$I$2:$I$370,paramêtres!$A$5)-SUMIFS(Soufflage!$L$2:$L$370,Soufflage!$A$2:$A$370,$B$1,Soufflage!$B$2:$B$370,$A26,Soufflage!$I$2:$I$370,paramêtres!$A$5)+SUMIFS(Soufflage!$M$2:$M$370,Soufflage!$A$2:$A$370,$B$1,Soufflage!$N$2:$N$370,paramêtres!$A$5,Soufflage!$B$2:$B$370,Stocks!$A26) -> 0 | F26: =SUMIFS(Soufflage!$C$2:$C$370,Soufflage!$A$2:$A$370,$B$1,Soufflage!$B$2:$B$370,$A26,Soufflage!$D$2:$D$370,paramêtres!$A$6) + SUMIFS(Soufflage!$H$2:$H$370,Soufflage!$A$2:$A$370,$B$1,Soufflage!$B$2:$B$370,$A26,Soufflage!$I$2:$I$370,paramêtres!$A$6)-SUMIFS(Soufflage!$E$2:$E$370,Soufflage!$A$2:$A$370,$B$1,Soufflage!$B$2:$B$370,$A26,Soufflage!$D$2:$D$370,paramêtres!$A$6)-SUMIFS(Soufflage!$F$2:$F$370,Soufflage!$A$2:$A$370,$B$1,Soufflage!$B$2:$B$370,$A26,Soufflage!$D$2:$D$370,paramêtres!$A$6)-SUMIFS(Soufflage!$G$2:$G$370,Soufflage!$A$2:$A$370,$B$1,Soufflage!$B$2:$B$370,$A26,Soufflage!$D$2:$D$370,paramêtres!$A$6)-SUMIFS(Soufflage!$J$2:$J$370,Soufflage!$A$2:$A$370,$B$1,Soufflage!$B$2:$B$370,$A26,Soufflage!$I$2:$I$370,paramêtres!$A$6)-SUMIFS(Soufflage!$K$2:$K$370,Soufflage!$A$2:$A$370,$B$1,Soufflage!$B$2:$B$370,$A26,Soufflage!$I$2:$I$370,paramêtres!$A$6)-SUMIFS(Soufflage!$L$2:$L$370,Soufflage!$A$2:$A$370,$B$1,Soufflage!$B$2:$B$370,$A26,Soufflage!$I$2:$I$370,paramêtres!$A$6)+SUMIFS(Soufflage!$M$2:$M$370,Soufflage!$A$2:$A$370,$B$1,Soufflage!$N$2:$N$370,paramêtres!$A$6,Soufflage!$B$2:$B$370,Stocks!$A26) -> 0
A27: =paramêtres!A16 -> G | B27: =SUMIFS(Soufflage!$C$2:$C$370,Soufflage!$A$2:$A$370,$B$1,Soufflage!$B$2:$B$370,$A27,Soufflage!$D$2:$D$370,paramêtres!$A$2) + SUMIFS(Soufflage!$H$2:$H$370,Soufflage!$A$2:$A$370,$B$1,Soufflage!$B$2:$B$370,$A27,Soufflage!$I$2:$I$370,paramêtres!$A$2)-SUMIFS(Soufflage!$E$2:$E$370,Soufflage!$A$2:$A$370,$B$1,Soufflage!$B$2:$B$370,$A27,Soufflage!$D$2:$D$370,paramêtres!$A$2)-SUMIFS(Soufflage!$F$2:$F$370,Soufflage!$A$2:$A$370,$B$1,Soufflage!$B$2:$B$370,$A27,Soufflage!$D$2:$D$370,paramêtres!$A$2)-SUMIFS(Soufflage!$G$2:$G$370,Soufflage!$A$2:$A$370,$B$1,Soufflage!$B$2:$B$370,$A27,Soufflage!$D$2:$D$370,paramêtres!$A$2)-SUMIFS(Soufflage!$J$2:$J$370,Soufflage!$A$2:$A$370,$B$1,Soufflage!$B$2:$B$370,$A27,Soufflage!$I$2:$I$370,paramêtres!$A$2)-SUMIFS(Soufflage!$K$2:$K$370,Soufflage!$A$2:$A$370,$B$1,Soufflage!$B$2:$B$370,$A27,Soufflage!$I$2:$I$370,paramêtres!$A$2)-SUMIFS(Soufflage!$L$2:$L$370,Soufflage!$A$2:$A$370,$B$1,Soufflage!$B$2:$B$370,$A27,Soufflage!$I$2:$I$370,paramêtres!$A$2)+SUMIFS(Soufflage!$M$2:$M$370,Soufflage!$A$2:$A$370,$B$1,Soufflage!$N$2:$N$370,paramêtres!$A$2,Soufflage!$B$2:$B$370,Stocks!$A27) -> 0 | C27: =SUMIFS(Soufflage!$C$2:$C$370,Soufflage!$A$2:$A$370,$B$1,Soufflage!$B$2:$B$370,$A27,Soufflage!$D$2:$D$370,paramêtres!$A$3) + SUMIFS(Soufflage!$H$2:$H$370,Soufflage!$A$2:$A$370,$B$1,Soufflage!$B$2:$B$370,$A27,Soufflage!$I$2:$I$370,paramêtres!$A$3)-SUMIFS(Soufflage!$E$2:$E$370,Soufflage!$A$2:$A$370,$B$1,Soufflage!$B$2:$B$370,$A27,Soufflage!$D$2:$D$370,paramêtres!$A$3)-SUMIFS(Soufflage!$F$2:$F$370,Soufflage!$A$2:$A$370,$B$1,Soufflage!$B$2:$B$370,$A27,Soufflage!$D$2:$D$370,paramêtres!$A$3)-SUMIFS(Soufflage!$G$2:$G$370,Soufflage!$A$2:$A$370,$B$1,Soufflage!$B$2:$B$370,$A27,Soufflage!$D$2:$D$370,paramêtres!$A$3)-SUMIFS(Soufflage!$J$2:$J$370,Soufflage!$A$2:$A$370,$B$1,Soufflage!$B$2:$B$370,$A27,Soufflage!$I$2:$I$370,paramêtres!$A$3)-SUMIFS(Soufflage!$K$2:$K$370,Soufflage!$A$2:$A$370,$B$1,Soufflage!$B$2:$B$370,$A27,Soufflage!$I$2:$I$370,paramêtres!$A$3)-SUMIFS(Soufflage!$L$2:$L$370,Soufflage!$A$2:$A$370,$B$1,Soufflage!$B$2:$B$370,$A27,Soufflage!$I$2:$I$370,paramêtres!$A$3)+SUMIFS(Soufflage!$M$2:$M$370,Soufflage!$A$2:$A$370,$B$1,Soufflage!$N$2:$N$370,paramêtres!$A$3,Soufflage!$B$2:$B$370,Stocks!$A27) -> 0 | D27: =SUMIFS(Soufflage!$C$2:$C$370,Soufflage!$A$2:$A$370,$B$1,Soufflage!$B$2:$B$370,$A27,Soufflage!$D$2:$D$370,paramêtres!$A$4) + SUMIFS(Soufflage!$H$2:$H$370,Soufflage!$A$2:$A$370,$B$1,Soufflage!$B$2:$B$370,$A27,Soufflage!$I$2:$I$370,paramêtres!$A$4)-SUMIFS(Soufflage!$E$2:$E$370,Soufflage!$A$2:$A$370,$B$1,Soufflage!$B$2:$B$370,$A27,Soufflage!$D$2:$D$370,paramêtres!$A$4)-SUMIFS(Soufflage!$F$2:$F$370,Soufflage!$A$2:$A$370,$B$1,Soufflage!$B$2:$B$370,$A27,Soufflage!$D$2:$D$370,paramêtres!$A$4)-SUMIFS(Soufflage!$G$2:$G$370,Soufflage!$A$2:$A$370,$B$1,Soufflage!$B$2:$B$370,$A27,Soufflage!$D$2:$D$370,paramêtres!$A$4)-SUMIFS(Soufflage!$J$2:$J$370,Soufflage!$A$2:$A$370,$B$1,Soufflage!$B$2:$B$370,$A27,Soufflage!$I$2:$I$370,paramêtres!$A$4)-SUMIFS(Soufflage!$K$2:$K$370,Soufflage!$A$2:$A$370,$B$1,Soufflage!$B$2:$B$370,$A27,Soufflage!$I$2:$I$370,paramêtres!$A$4)-SUMIFS(Soufflage!$L$2:$L$370,Soufflage!$A$2:$A$370,$B$1,Soufflage!$B$2:$B$370,$A27,Soufflage!$I$2:$I$370,paramêtres!$A$4)+SUMIFS(Soufflage!$M$2:$M$370,Soufflage!$A$2:$A$370,$B$1,Soufflage!$N$2:$N$370,paramêtres!$A$4,Soufflage!$B$2:$B$370,Stocks!$A27) -> 0 | E27: =SUMIFS(Soufflage!$C$2:$C$370,Soufflage!$A$2:$A$370,$B$1,Soufflage!$B$2:$B$370,$A27,Soufflage!$D$2:$D$370,paramêtres!$A$5) + SUMIFS(Soufflage!$H$2:$H$370,Soufflage!$A$2:$A$370,$B$1,Soufflage!$B$2:$B$370,$A27,Soufflage!$I$2:$I$370,paramêtres!$A$5)-SUMIFS(Soufflage!$E$2:$E$370,Soufflage!$A$2:$A$370,$B$1,Soufflage!$B$2:$B$370,$A27,Soufflage!$D$2:$D$370,paramêtres!$A$5)-SUMIFS(Soufflage!$F$2:$F$370,Soufflage!$A$2:$A$370,$B$1,Soufflage!$B$2:$B$370,$A27,Soufflage!$D$2:$D$370,paramêtres!$A$5)-SUMIFS(Soufflage!$G$2:$G$370,Soufflage!$A$2:$A$370,$B$1,Soufflage!$B$2:$B$370,$A27,Soufflage!$D$2:$D$370,paramêtres!$A$5)-SUMIFS(Soufflage!$J$2:$J$370,Soufflage!$A$2:$A$370,$B$1,Soufflage!$B$2:$B$370,$A27,Soufflage!$I$2:$I$370,paramêtres!$A$5)-SUMIFS(Soufflage!$K$2:$K$370,Soufflage!$A$2:$A$370,$B$1,Soufflage!$B$2:$B$370,$A27,Soufflage!$I$2:$I$370,paramêtres!$A$5)-SUMIFS(Soufflage!$L$2:$L$370,Soufflage!$A$2:$A$370,$B$1,Soufflage!$B$2:$B$370,$A27,Soufflage!$I$2:$I$370,paramêtres!$A$5)+SUMIFS(Soufflage!$M$2:$M$370,Soufflage!$A$2:$A$370,$B$1,Soufflage!$N$2:$N$370,paramêtres!$A$5,Soufflage!$B$2:$B$370,Stocks!$A27) -> 0 | F27: =SUMIFS(Soufflage!$C$2:$C$370,Soufflage!$A$2:$A$370,$B$1,Soufflage!$B$2:$B$370,$A27,Soufflage!$D$2:$D$370,paramêtres!$A$6) + SUMIFS(Soufflage!$H$2:$H$370,Soufflage!$A$2:$A$370,$B$1,Soufflage!$B$2:$B$370,$A27,Soufflage!$I$2:$I$370,paramêtres!$A$6)-SUMIFS(Soufflage!$E$2:$E$370,Soufflage!$A$2:$A$370,$B$1,Soufflage!$B$2:$B$370,$A27,Soufflage!$D$2:$D$370,paramêtres!$A$6)-SUMIFS(Soufflage!$F$2:$F$370,Soufflage!$A$2:$A$370,$B$1,Soufflage!$B$2:$B$370,$A27,Soufflage!$D$2:$D$370,paramêtres!$A$6)-SUMIFS(Soufflage!$G$2:$G$370,Soufflage!$A$2:$A$370,$B$1,Soufflage!$B$2:$B$370,$A27,Soufflage!$D$2:$D$370,paramêtres!$A$6)-SUMIFS(Soufflage!$J$2:$J$370,Soufflage!$A$2:$A$370,$B$1,Soufflage!$B$2:$B$370,$A27,Soufflage!$I$2:$I$370,paramêtres!$A$6)-SUMIFS(Soufflage!$K$2:$K$370,Soufflage!$A$2:$A$370,$B$1,Soufflage!$B$2:$B$370,$A27,Soufflage!$I$2:$I$370,paramêtres!$A$6)-SUMIFS(Soufflage!$L$2:$L$370,Soufflage!$A$2:$A$370,$B$1,Soufflage!$B$2:$B$370,$A27,Soufflage!$I$2:$I$370,paramêtres!$A$6)+SUMIFS(Soufflage!$M$2:$M$370,Soufflage!$A$2:$A$370,$B$1,Soufflage!$N$2:$N$370,paramêtres!$A$6,Soufflage!$B$2:$B$370,Stocks!$A27) -> 0

Sheet paramêtres
A1: Choix Silo
A2: Silo 1
A3: Silo 2
A4: Silo 3
A5: Silo 4
A6: Silo 5
A7: BIG BAG
A9: Produits
A10: A
A11: B
A12: C
A13: D
... A18: STOCKS INTERMEDIAIRES SILOS 1-2-3-4-5 au 31/12/12
A20: Produits | B20: Silo | C20: Silo | D20: Silo | E20: Silo | F20: Silo
B21: Production 1 | C21: Production 2 | D21: Production 3 | E21: Production 4 | F21: Production 5
A22: A | B22: 0 | C22: 0 | D22: 0 | E22: 0 | F22: 0
A23: B | B23: 0 | C23: 0 | D23: 0 | E23: 0 | F23: 0
A24: C | B24: 0 | C24: 0 | D24: 0 | E24: 0 | F24: 0
A25: D | B25: 0 | C25: 0 | D25: 0 | E25: 0 | F25: 0
A26: E | B26: 0 | C26: 0 | D26: 0 | E26: 0 | F26: 0
A27: F | B27: 0 | C27: 0 | D27: 0 | E27: 0 | F27: 0
A28: G | B28: 0 | C28: 0 | D28: 0 | E28: 0 | F28: 0
