Workbook
Name bois_flottant: OFFSET('Monsieur Y trimestriel'!$D$11,,,,COUNTA('Monsieur Y trimestriel'!$11:$11))
Name boues_fosses: OFFSET('Monsieur Y trimestriel'!$D$9,,,,COUNTA('Monsieur Y trimestriel'!$9:$9))
Name boues_separateur: OFFSET('Monsieur Y trimestriel'!$D$10,,,,COUNTA('Monsieur Y trimestriel'!$10:$10))
Name conso_dispatching: OFFSET('Monsieur X'!$D$19,,,,COUNTA('Monsieur X'!$19:$19)-3)
Name conso_eau: OFFSET('Monsieur Y mensuel'!$D$12,,,,COUNTA('Monsieur Y mensuel'!$12:$12)-1)
Name conso_eau_pers: OFFSET(indicateurs!$D$15,,,,COUNTA(indicateurs!$15:$15)-3)
Name conso_gobelets: OFFSET('Monsieur Y trimestriel'!$D$19,,,,COUNTA('Monsieur Y trimestriel'!$19:$19)-1)
Name conso_papier: OFFSET('Monsieur Y trimestriel'!$D$17,,,,COUNTA('Monsieur Y trimestriel'!$17:$17)-1)
Name conso_SI_barrage: OFFSET('Monsieur X'!$D$20,,,,COUNTA('Monsieur X'!$20:$20)-3)
Name conso_SI_barrage_pers: OFFSET(indicateurs!$D$10,,,,COUNTA(indicateurs!$10:$10)-3)
Name conso_SI_centrale: OFFSET('Monsieur X'!$D$16,,,,COUNTA('Monsieur X'!$16:$16)-3)
Name conso_SI_centrale_pers: OFFSET(indicateurs!$D$9,,,,COUNTA(indicateurs!$9:$9)-3)
Name conso_transfo: OFFSET('Monsieur X'!$D$18,,,,COUNTA('Monsieur X'!$18:$18)-3)
Name dechets_carton: OFFSET('Monsieur Y trimestriel'!$D$13,,,,COUNTA('Monsieur Y trimestriel'!$13:$13))
Name dechets_ferreux: OFFSET('Monsieur Y trimestriel'!$D$12,,,,COUNTA('Monsieur Y trimestriel'!$12:$12))
Name dechets_incin: OFFSET('Monsieur Y mensuel'!$D$8,,,,COUNTA('Monsieur Y mensuel'!$8:$8)-4)
Name dechets_incin_pers: OFFSET(indicateurs!$D$16,,,,COUNTA(indicateurs!$16:$16)-3)
Name dechets_inertes: OFFSET('Monsieur Y trimestriel'!$D$8,,,,COUNTA('Monsieur Y trimestriel'!$8:$8))
Name mois_entier: OFFSET('Monsieur X'!$D$5,,,,COUNTA('Monsieur X'!$5:$5))
Name prod_dot1: OFFSET('Monsieur X'!$D$14,,,,COUNTA('Monsieur X'!$14:$14)-3)
Name prod_dot2: OFFSET('Monsieur X'!$D$15,,,,COUNTA('Monsieur X'!$15:$15)-3)
Name prod_groupe1: OFFSET('Monsieur X'!$D$10,,,,COUNTA('Monsieur X'!$10:$10))
Name prod_groupe2: OFFSET('Monsieur X'!$D$11,,,,COUNTA('Monsieur X'!$11:$11)-3)
Name prod_groupe4: OFFSET('Monsieur X'!$D$12,,,,COUNTA('Monsieur X'!$12:$12)-3)
Name prod_groupe5: OFFSET('Monsieur X'!$D$13,,,,COUNTA('Monsieur X'!$13:$13)-3)
Name rapport_prod_conso: OFFSET(indicateurs!$D$11,,,,COUNTA(indicateurs!$11:$11)-1)
Name trimestriel: OFFSET('Monsieur Y trimestriel'!$D$5,,,,COUNTA('Monsieur Y trimestriel'!$5:$5)-1)

Sheet Monsieur X
C1: Tableau de bord environnemental
P5: Total
B6: Données électricité
B8: Dénomination | C8: N° cpt sur schéma
B10: Prod. Groupe 1 | C10: 317912 | P10: =SUM(D10:O10) -> 0
B11: Prod. Groupe 2 | C11: 317913 | P11: =SUM(D11:O11) -> 0
B12: Prod. Groupe 4 | C12: 317914 | P12: =SUM(D12:O12) -> 0
B13: Prod. Groupe 5 | C13: 330098 | P13: =SUM(D13:O13) -> 0
B14: Prod. dotation 1 | C14: 317932 | P14: =SUM(D14:O14) -> 0
B15: Prod. dotation 2 | C15: 317933 | P15: =SUM(D15:O15) -> 0
B16: Consommation services internes général | C16: 317916 | P16: =SUM(D16:O16) -> 0
B17: Consommation services internes centrale | C17: est égal à 317'916-317'961 | P17: =SUM(D17:O17) -> 0
B18: Consommation du poste de transformation | C18: 317961 | P18: =SUM(D18:O18) -> 0
B19: Consommation dispatching | C19: 328804 | P19: =SUM(D19:O19) -> 0
B20: Consommation service interne barrage | C20: 317934 | P20: =SUM(D20:O20) -> 0
B24: Données de base
C26: Nombre de personnes en équivalent plein temps centrale
C27: Nombre de personnes en équivalent plein temps barrage
C28: Nombre de personnes équivalent plein temps au total | D28: =D26+D27 -> 0 | E28: =E26+E27 -> 0 | F28: =F26+F27 -> 0 | G28: =G26+G27 -> 0 | H28: =H26+H27 -> 0 | I28: =I26+I27 -> 0 | J28: =J26+J27 -> 0 | K28: =K26+K27 -> 0 | ... O28: =O26+O27 -> 0
B31: Par poste
C33: Production de la centrale | D33: =D10+D11+D12+D13+D14+D15 -> 0 | E33: =E10+E11+E12+E13+E14+E15 -> 0 | F33: =F10+F11+F12+F13+F14+F15 -> 0 | G33: =G10+G11+G12+G13+G14+G15 -> 0 | H33: =H10+H11+H12+H13+H14+H15 -> 0 | I33: =I10+I11+I12+I13+I14+I15 -> 0 | J33: =J10+J11+J12+J13+J14+J15 -> 0 | K33: =K10+K11+K12+K13+K14+K15 -> 0 | ... O33: =O10+O11+O12+O13+O14+O15 -> 0 | P33: =SUM(D33:O33) -> 0
C34: Consommation des services internes de la centrale | D34: =D17 -> 0 | E34: =E17 -> 0 | F34: =F17 -> 0 | G34: =G17 -> 0 | H34: =H17 -> 0 | I34: =I17 -> 0 | J34: =J17 -> 0 | K34: =K17 -> 0 | ... O34: =O17 -> 0 | P34: =SUM(D34:O34) -> 0
C35: Consommation du poste de transformation | D35: =D18 -> 0 | E35: =E18 -> 0 | F35: =F18 -> 0 | G35: =G18 -> 0 | H35: =H18 -> 0 | I35: =I18 -> 0 | J35: =J18 -> 0 | K35: =K18 -> 0 | ... O35: =O18 -> 0 | P35: =SUM(D35:O35) -> 0
C36: Consommation dispatching | D36: =D19 -> 0 | E36: =E19 -> 0 | F36: =F19 -> 0 | G36: =G19 -> 0 | H36: =H19 -> 0 | I36: =I19 -> 0 | J36: =J19 -> 0 | K36: =K19 -> 0 | ... O36: =O19 -> 0 | P36: =SUM(D36:O36) -> 0
C37: Consommation des services internes du barrage | D37: =D20 -> 0 | E37: =E20 -> 0 | F37: =F20 -> 0 | G37: =G20 -> 0 | H37: =H20 -> 0 | I37: =I20 -> 0 | J37: =J20 -> 0 | K37: =K20 -> 0 | ... O37: =O20 -> 0 | P37: =SUM(D37:O37) -> 0

Sheet Monsieur Y mensuel
C1: Tableau de bord environnemental
D5: janvier | E5: février | F5: mars | G5: avril | H5: mai | I5: juin | J5: juillet | K5: août | L5: septembre | M5: octobre | N5: novembre | O5: décembre | P5: Total
B6: Déchets | C6: Unité
B8: Déchets incinérables | C8: kg | P8: =SUM(D8:O8) -> 0
B10: Eau
B12: Consommation d'eau | C12: m3 | D12: ='Monsieur Y trimestriel'!$D$23/3 -> 0 | E12: ='Monsieur Y trimestriel'!$D$23/3 -> 0 | F12: ='Monsieur Y trimestriel'!$D$23/3 -> 0 | G12: ='Monsieur Y trimestriel'!$E$23/3 -> 0 | H12: ='Monsieur Y trimestriel'!$E$23/3 -> 0 | I12: ='Monsieur Y trimestriel'!$E$23/3 -> 0 | J12: ='Monsieur Y trimestriel'!$F$23/3 -> 0 | K12: ='Monsieur Y trimestriel'!$F$23/3 -> 0 | L12: ='Monsieur Y trimestriel'!$F$23/3 -> 0 | M12: ='Monsieur Y trimestriel'!$G$23/3 -> 0 | N12: ='Monsieur Y trimestriel'!$G$23/3 -> 0 | O12: ='Monsieur Y trimestriel'!$G$23/3 -> 0

Sheet Monsieur Y trimestriel
C1: Tableau de bord environnemental
H5: Total
B6: Déchets | C6: Déchets
B8: Déchets inertes | C8: m3 | H8: =SUM(D8:G8) -> 0
B9: Boues de fosses septiques | C9: m3 | H9: =SUM(D9:G9) -> 0
B10: Boues de séparateurs d'huiles | C10: kg | H10: =SUM(D10:G10) -> 0
B11: Bois flottant | C11: m3 | H11: =SUM(D11:G11) -> 0
B12: Déchets ferreux | C12: kg | H12: =SUM(D12:G12) -> 0
B13: Papier-carton | C13: m3 | H13: =SUM(D13:G13) -> 0
H14: =SUM(D14:G14) -> 0
B15: Bureau | H15: =SUM(D15:G15) -> 0
B17: Commandes de papier | C17: nbre feuilles | H17: =SUM(D17:G17) -> 0
B18: Commandes de papier | C18: kg | D18: =D17*75/16/1000 -> 0 | E18: =E17*75/16/1000 -> 0 | F18: =F17*75/16/1000 -> 0 | G18: =G17*75/16/1000 -> 0 | H18: =SUM(D18:G18) -> 0
B19: Consommation de gobelets/tasses | C19: nbre | H19: =SUM(D19:G19) -> 0
B21: Eau
B23: Consommation d'eau | C23: m3 | H23: =SUM(D23:G23) -> 0

Sheet indicateurs
C1: Tableau de bord environnemental
B5: Indicateurs | C5: Unité | D5: janvier | E5: février | F5: mars | G5: avril | H5: mai | I5: juin | J5: juillet | K5: août | L5: septembre | M5: octobre | N5: novembre | O5: décembre | P5: Total
B7: DOMAINE ÉLECTRICITÉ
B9: Consommation des SI centrale/pers | C9: kWh/pers | D9: ='Monsieur X'!D34/'Monsieur X'!D26 -> #DIV/0! | E9: ='Monsieur X'!E34/'Monsieur X'!E26 -> #DIV/0! | F9: ='Monsieur X'!F34/'Monsieur X'!F26 -> #DIV/0! | G9: ='Monsieur X'!G34/'Monsieur X'!G26 -> #DIV/0! | H9: ='Monsieur X'!H34/'Monsieur X'!H26 -> #DIV/0! | I9: ='Monsieur X'!I34/'Monsieur X'!I26 -> #DIV/0! | J9: ='Monsieur X'!J34/'Monsieur X'!J26 -> #DIV/0! | K9: ='Monsieur X'!K34/'Monsieur X'!K26 -> #DIV/0! | ... O9: ='Monsieur X'!O34/'Monsieur X'!O26 -> #DIV/0! | P9: =SUM(D9:O9) -> #DIV/0!
B10: Consommation des SI barrage/pers | C10: kWh/pers | D10: ='Monsieur X'!D37/'Monsieur X'!D27 -> #DIV/0! | E10: ='Monsieur X'!E37/'Monsieur X'!E27 -> #DIV/0! | F10: ='Monsieur X'!F37/'Monsieur X'!F27 -> #DIV/0! | G10: ='Monsieur X'!G37/'Monsieur X'!G27 -> #DIV/0! | H10: ='Monsieur X'!H37/'Monsieur X'!H27 -> #DIV/0! | I10: ='Monsieur X'!I37/'Monsieur X'!I27 -> #DIV/0! | J10: ='Monsieur X'!J37/'Monsieur X'!J27 -> #DIV/0! | K10: ='Monsieur X'!K37/'Monsieur X'!K27 -> #DIV/0! | ... O10: ='Monsieur X'!O37/'Monsieur X'!O27 -> #DIV/0! | P10: =SUM(D10:O10) -> #DIV/0!
B11: % de la production consommé par les SI | C11: % | D11: =('Monsieur X'!D37+'Monsieur X'!D34)/('Monsieur X'!D33/100) -> #DIV/0! | E11: =('Monsieur X'!E37+'Monsieur X'!E34)/('Monsieur X'!E33/100) -> #DIV/0! | F11: =('Monsieur X'!F37+'Monsieur X'!F34)/('Monsieur X'!F33/100) -> #DIV/0! | G11: =('Monsieur X'!G37+'Monsieur X'!G34)/('Monsieur X'!G33/100) -> #DIV/0! | H11: =('Monsieur X'!H37+'Monsieur X'!H34)/('Monsieur X'!H33/100) -> #DIV/0! | I11: =('Monsieur X'!I37+'Monsieur X'!I34)/('Monsieur X'!I33/100) -> #DIV/0! | J11: =('Monsieur X'!J37+'Monsieur X'!J34)/('Monsieur X'!J33/100) -> #DIV/0! | K11: =('Monsieur X'!K37+'Monsieur X'!K34)/('Monsieur X'!K33/100) -> #DIV/0! | ... O11: =('Monsieur X'!O37+'Monsieur X'!O34)/('Monsieur X'!O33/100) -> #DIV/0! | P11: =SUM(D11:O11) -> #DIV/0!
B13: DIVERS
B15: Consommation moyenne d'eau/personne | C15: l/pers | D15: ='Monsieur Y mensuel'!D12/3/'Monsieur X'!D28 -> #DIV/0! | E15: ='Monsieur Y mensuel'!E12/3/'Monsieur X'!E28 -> #DIV/0! | F15: ='Monsieur Y mensuel'!F12/3/'Monsieur X'!F28 -> #DIV/0! | G15: ='Monsieur Y mensuel'!G12/3/'Monsieur X'!G28 -> #DIV/0! | H15: ='Monsieur Y mensuel'!H12/3/'Monsieur X'!H28 -> #DIV/0! | I15: ='Monsieur Y mensuel'!I12/3/'Monsieur X'!I28 -> #DIV/0! | J15: ='Monsieur Y mensuel'!J12/3/'Monsieur X'!J28 -> #DIV/0! | K15: ='Monsieur Y mensuel'!K12/3/'Monsieur X'!K28 -> #DIV/0! | ... O15: ='Monsieur Y mensuel'!O12/3/'Monsieur X'!O28 -> #DIV/0! | P15: =SUM(D15:O15) -> #DIV/0!
B16: Production de déchets incinérables/personne | C16: kg/pers | D16: ='Monsieur Y mensuel'!D8/'Monsieur X'!D26 -> #DIV/0! | E16: ='Monsieur Y mensuel'!E8/'Monsieur X'!E26 -> #DIV/0! | F16: ='Monsieur Y mensuel'!F8/'Monsieur X'!F26 -> #DIV/0! | G16: ='Monsieur Y mensuel'!G8/'Monsieur X'!G26 -> #DIV/0! | H16: ='Monsieur Y mensuel'!H8/'Monsieur X'!H26 -> #DIV/0! | I16: ='Monsieur Y mensuel'!I8/'Monsieur X'!I26 -> #DIV/0! | J16: ='Monsieur Y mensuel'!J8/'Monsieur X'!J26 -> #DIV/0! | K16: ='Monsieur Y mensuel'!K8/'Monsieur X'!K26 -> #DIV/0! | ... O16: ='Monsieur Y mensuel'!O8/'Monsieur X'!O26 -> #DIV/0! | P16: =SUM(D16:O16) -> #DIV/0!

Sheet graphiques_energie

Sheet graphiques_divers

Sheet gestion_noms
A1: Nom | B1: Description
A2: dechets_incin | B2: quantité mensuelle de déchets incinérables évacués
A3: dechets_inertes | B3: quantité trimestrielle de déchets inertes évacués
A4: boues_fosses | B4: quantité trimestrielle de boues des fosses septiques évacués
A5: boues_separateur | B5: quantité trimestrielle de boues dans les séparateurs d'huiles évacués
A6: bois_flottant | B6: quantité trimestrielle de bois flottant récupéré
A7: dechets_ferreux | B7: quantité trimestrielle de déchets ferreux évacués
A8: dechets_carton | B8: quantité trimestrielle de papier et carton évacuées
A9: conso_papier | B9: commandes trimestrielles de papier
A10: conso_gobelets | B10: commandes trimestrielles de gobelets/tasses
A11: conso_eau | B11: consommation trimestrielle d'eau
A12: mois_entier | B12: légende avec tous les mois
... A28: rapport_prod_conso | B28: rapport entre la consommation électrique et la production, en pourcent

Sheet bilan_CO2
A1: Paramètre | B1: Unité | C1: Valeur
A2: Informations générales organisation
A3: Nombre d'employés | B3: # | C3: =AVERAGE('Monsieur X'!D28:O28) -> 0
A4: Nombre d'employés en équivalent temps plein (ETP). Par exemple: 2 employés engagés à 50% équivalent 1 ETP. Un employé à 80% représente 0.8 ETP.
A5: Surface de référence énergétique des locaux | B5: m2
A6: Somme de toutes les surfaces chauffées qui sont comprises à l’intérieur du bâtiment (inclus sous-sols chauffés)
A7: Statut bâtiment
A8: Merci d'indiquer si le bâtiment est en possession de l'entreprise ou si le bâtiment est loué par l'entreprise.
A9: Irrégularités majeures dans l'activité économique
A10: Par ex., dépression économique, accident, fusion, acquisitions, etc. Merci d'indiquer une référence temporelle
A11: Chauffage
A12: Reporter en kWh la consommation totale de combustibles utilisés pour produire de l'énergie sur le site (par ex. boilers, incinerateurs). Cette information est typiquement disponible sur les factures des fournisseurs ou est mesurée sur place
A13: Gaz naturel | B13: kWh
A15: Biogaz | B15: kWh
A16: Merci d'indiquer dans l'espace commentaire l'origine du biogaz
A17: Mazout | B17: kWh
A19: Chauffage à distance | B19: kWh
A20: Merci d'indiquer dans l'espace commentaire le type de chauffage à distance, par exemple chauffage à bois, récupération de chaleur d'une usine d'incinération, etc.
A21: Pellet | B21: kWh
A23: Géothermie | B23: kWh
A24: Si la consommation d'électricité pour le chauffage ne peut être dissociée de la consommation globale d'électricité, merci de l'indiquer dans l'espace commentaire
A25: Chauffage électrique | B25: kWh
A26: Si la consommation d'électricité pour le chauffage ne peut être dissociée de la consommation globale d'électricité, merci de l'indiquer dans l'espace commentaire
A27: Pompe à chaleur | B27: kWh
A28: Si la consommation d'électricité pour le chauffage ne peut être dissociée de la consommation globale d'électricité, merci de l'indiquer dans l'espace commentaire
A29: Coûts chauffage CHF | B29: CHF
A30: Coûts annuels totaux
A31: Electricité
A32: Consommation électricité | B32: kWh
A33: Par ex. électricité composée d'un mix de différents types d'électricité comme charbon, nucléaire ou origine inconnue
A34: Consommation électricité garantie d'origine (GO) | B34: kWh
A35: Indiquer la quantité d'électricité consommée qui n'est pas certifiée comme courant vert, mais qui possède un certificat d'origine (GO) pour énergie renouvelable . Par ex. énergie hydraulique qui n'ai pas certifiée par une agence de verification
A36: Consommation électricité usine d'incinération | B36: kWh
A37: Electricité provenant d'une usine d'incinération
A38: Consommation électricité verte | B38: kWh | C38: ='Monsieur X'!P16+'Monsieur X'!P17+'Monsieur X'!P18+'Monsieur X'!P20+'Monsieur X'!P19 -> 0
A39: Indiquer la quantité d'électricité consommée qui est labélisée ou spécifiée "verte". Un exemple d'énergie verte certifiée est l'électricité labelisée "nature made star". Merci de fournir une pièce justificative (certificat)
A40: Nom des types d'électricité | C40: HYDRO
A41: Merci d'indiquer le nom exact des types d'électricité consommés, par ex. "ewb.Basis.Kraft", "SIG Vitale Bleu", etc. Cette information se trouve typiquement sur votre facture d'électricité
A42: Coûts électricité CHF | B42: CHF
A43: Coûts annuels totaux
...
