Workbook

Sheet TeamOverview
C4: Group A | D4: Group B | E4: Group C | L4: Group modus
B5: 1 | C5: Team1 | D5: Team 7 | E5: Team 13 | L5: Game | M5: VS | O5: Referree
B6: 2 | C6: Team 2 | D6: Team 8 | E6: Team 14 | L6: 1 | M6: 1 | N6: 4 | O6: 5
B7: 3 | C7: Team 3 | D7: Team 9 | E7: Team 15 | L7: 2 | M7: 2 | N7: 5 | O7: 1
B8: 4 | C8: Team 4 | D8: Team 10 | E8: Team 16 | L8: 3 | M8: 3 | N8: 6 | O8: 2
B9: 5 | C9: Team 5 | D9: Team 11 | E9: Team 17 | L9: 4 | M9: 2 | N9: 4 | O9: 6
B10: 6 | C10: Team 6 | D10: Team 12 | E10: Team 18 | L10: 5 | M10: 1 | N10: 6 | O10: 4
L11: 6 | M11: 3 | N11: 5 | O11: 1
L12: 7 | M12: 2 | N12: 6 | O12: 3
L13: 8 | M13: 4 | N13: 5 | O13: 6
L14: 9 | M14: 1 | N14: 3 | O14: 5
L15: 10 | M15: 4 | N15: 6 | O15: 3
L16: 11 | M16: 2 | N16: 3 | O16: 4
L17: 12 | M17: 1 | N17: 5 | O17: 2
L18: 13 | M18: 3 | N18: 4 | O18: 1
L19: 14 | M19: 5 | N19: 6 | O19: 3
L20: 15 | M20: 1 | N20: 2 | O20: 6
M23: Vorrunde: 3 Gruppen je 6 Teams :
M24: - 6 Mannschaften
M25: - keine Timeouts
M26: - die ersten beiden der Vorrunden pro Gruppe qualifizieren sich fürs 1/4 Finale, ebenso die beiden besten Gruppendritten
M28: - Rangieren nach folgenden Kriterien: Satzpunkte, Ballpunkte, direkte Begegnung
M29: - Gespielt wird ein Satz auf 25 Pkt, 2pkt unterschied
M30: - Alle Sätze beginnen bei 0
M32: 1/4 Finale und die Platzierungsspiele :
M33: - 2 Sätze à 15 Punkte, 2pkt unterschied
M34: - bei Satzgleichstand zählen die Ballpunkte, wenn die auch gleich sind, werden 2 Punkte Unterschied ausgespielt.
M37: Halbfinali & Spiel um 3. Platz:
M38: - Best of 3 auf 15 Pkt, 2 Pkt Unterschied
... M41: - Best of 3 auf 25 (3. Satz auf 15) 2 Pkt Unterschied

Sheet Group A
B2: Group A --> 1set : 25 pts
L6: Result check
B7: Schedule Time | C7: Team | D7: Points | E7: Diff | F7: Team | G7: Points | H7: Diff | I7: Referee | J7: Winner | K7: Loser
B8: 0.45833333 | C8: =O9 -> Team1 | D8: 25 | E8: =D8-G8 -> 3 | F8: =O12 -> Team 4 | G8: 22 | H8: =G8-D8 -> -3 | I8: =O13 -> Team 5 | J8: =IF(E8>0,C8,IF(H8>0,F8,"-")) -> Team1 | K8: =IF(E8<0,C8,IF(H8<0,F8,"-")) -> Team 4 | N8: Teams | P8: Played | Q8: Win | R8: Lose | S8: Diff | T8: Rank
B9: 0.47222222 | C9: =O10 -> Team 2 | D9: 25 | E9: =D9-G9 -> 10 | F9: =O13 -> Team 5 | G9: 15 | H9: =G9-D9 -> -10 | I9: =O9 -> Team1 | J9: =IF(E9>0,C9,IF(H9>0,F9,"-")) -> Team 2 | K9: =IF(E9<0,C9,IF(H9<0,F9,"-")) -> Team 5 | N9: 1 | O9: =TeamOverview!C5 -> Team1 | P9: =SUM(Q9:R9) -> 5 | Q9: =COUNTIF($J$8:$J$22,O9) -> 4 | R9: =COUNTIF($K$8:$K$22,O9) -> 1 | S9: =(SUMIF($C$8:$C$22,O9,$E$8:$E$22)+SUMIF($F$8:$F$22,O9,$H$8:$H$22)) -> 28 | T9: =RANK(Q9,$Q$9:$Q$14)+SUMPRODUCT(($Q$9:$Q$14=Q9)*($S$9:$S$14>S9)) -> 1 | U9: =O9 -> Team1
B10: 0.48611111 | C10: =O11 -> Team 3 | D10: 25 | E10: =D10-G10 -> 8 | F10: =O14 -> Team 6 | G10: 17 | H10: =G10-D10 -> -8 | I10: =O10 -> Team 2 | J10: =IF(E10>0,C10,IF(H10>0,F10,"-")) -> Team 3 | K10: =IF(E10<0,C10,IF(H10<0,F10,"-")) -> Team 6 | N10: 2 | O10: =TeamOverview!C6 -> Team 2 | P10: =SUM(Q10:R10) -> 5 | Q10: =COUNTIF($J$8:$J$22,O10) -> 4 | R10: =COUNTIF($K$8:$K$22,O10) -> 1 | S10: =(SUMIF($C$8:$C$22,O10,$E$8:$E$22)+SUMIF($F$8:$F$22,O10,$H$8:$H$22)) -> 16 | T10: =RANK(Q10,$Q$9:$Q$14)+SUMPRODUCT(($Q$9:$Q$14=Q10)*($S$9:$S$14>S10)) -> 2 | U10: =O10 -> Team 2
B11: 0.5 | C11: =O10 -> Team 2 | D11: 25 | E11: =D11-G11 -> 2 | F11: =O12 -> Team 4 | G11: 23 | H11: =G11-D11 -> -2 | I11: =O14 -> Team 6 | J11: =IF(E11>0,C11,IF(H11>0,F11,"-")) -> Team 2 | K11: =IF(E11<0,C11,IF(H11<0,F11,"-")) -> Team 4 | N11: 3 | O11: =TeamOverview!C7 -> Team 3 | P11: =SUM(Q11:R11) -> 5 | Q11: =COUNTIF($J$8:$J$22,O11) -> 2 | R11: =COUNTIF($K$8:$K$22,O11) -> 3 | S11: =(SUMIF($C$8:$C$22,O11,$E$8:$E$22)+SUMIF($F$8:$F$22,O11,$H$8:$H$22)) -> 3 | T11: =RANK(Q11,$Q$9:$Q$14)+SUMPRODUCT(($Q$9:$Q$14=Q11)*($S$9:$S$14>S11)) -> 4 | U11: =O11 -> Team 3
B12: 0.51388889 | C12: =O9 -> Team1 | D12: 25 | E12: =D12-G12 -> -2 | F12: =O14 -> Team 6 | G12: 27 | H12: =G12-D12 -> 2 | I12: =O12 -> Team 4 | J12: =IF(E12>0,C12,IF(H12>0,F12,"-")) -> Team 6 | K12: =IF(E12<0,C12,IF(H12<0,F12,"-")) -> Team1 | N12: 4 | O12: =TeamOverview!C8 -> Team 4 | P12: =SUM(Q12:R12) -> 5 | Q12: =COUNTIF($J$8:$J$22,O12) -> 2 | R12: =COUNTIF($K$8:$K$22,O12) -> 3 | S12: =(SUMIF($C$8:$C$22,O12,$E$8:$E$22)+SUMIF($F$8:$F$22,O12,$H$8:$H$22)) -> 8 | T12: =RANK(Q12,$Q$9:$Q$14)+SUMPRODUCT(($Q$9:$Q$14=Q12)*($S$9:$S$14>S12)) -> 3 | U12: =O12 -> Team 4
B13: 0.52777778 | C13: =O11 -> Team 3 | D13: 25 | E13: =D13-G13 -> -2 | F13: =O13 -> Team 5 | G13: 27 | H13: =G13-D13 -> 2 | I13: =O9 -> Team1 | J13: =IF(E13>0,C13,IF(H13>0,F13,"-")) -> Team 5 | K13: =IF(E13<0,C13,IF(H13<0,F13,"-")) -> Team 3 | N13: 5 | O13: =TeamOverview!C9 -> Team 5 | P13: =SUM(Q13:R13) -> 5 | Q13: =COUNTIF($J$8:$J$22,O13) -> 2 | R13: =COUNTIF($K$8:$K$22,O13) -> 3 | S13: =(SUMIF($C$8:$C$22,O13,$E$8:$E$22)+SUMIF($F$8:$F$22,O13,$H$8:$H$22)) -> -17 | T13: =RANK(Q13,$Q$9:$Q$14)+SUMPRODUCT(($Q$9:$Q$14=Q13)*($S$9:$S$14>S13)) -> 5 | U13: =O13 -> Team 5
B14: 0.54166667 | C14: =O10 -> Team 2 | D14: 25 | E14: =D14-G14 -> 10 | F14: =O14 -> Team 6 | G14: 15 | H14: =G14-D14 -> -10 | I14: =O11 -> Team 3 | J14: =IF(E14>0,C14,IF(H14>0,F14,"-")) -> Team 2 | K14: =IF(E14<0,C14,IF(H14<0,F14,"-")) -> Team 6 | N14: 6 | O14: =TeamOverview!C10 -> Team 6 | P14: =SUM(Q14:R14) -> 5 | Q14: =COUNTIF($J$8:$J$22,O14) -> 1 | R14: =COUNTIF($K$8:$K$22,O14) -> 4 | S14: =(SUMIF($C$8:$C$22,O14,$E$8:$E$22)+SUMIF($F$8:$F$22,O14,$H$8:$H$22)) -> -38 | T14: =RANK(Q14,$Q$9:$Q$14)+SUMPRODUCT(($Q$9:$Q$14=Q14)*($S$9:$S$14>S14)) -> 6 | U14: =O14 -> Team 6
B15: 0.55555556 | C15: =O12 -> Team 4 | D15: 25 | E15: =D15-G15 -> 17 | F15: =O13 -> Team 5 | G15: 8 | H15: =G15-D15 -> -17 | I15: =O14 -> Team 6 | J15: =IF(E15>0,C15,IF(H15>0,F15,"-")) -> Team 4 | K15: =IF(E15<0,C15,IF(H15<0,F15,"-")) -> Team 5
B16: 0.56944444 | C16: =O9 -> Team1 | D16: 25 | E16: =D16-G16 -> 6 | F16: =O11 -> Team 3 | G16: 19 | H16: =G16-D16 -> -6 | I16: =O13 -> Team 5 | J16: =IF(E16>0,C16,IF(H16>0,F16,"-")) -> Team1 | K16: =IF(E16<0,C16,IF(H16<0,F16,"-")) -> Team 3 | N16: Rank | O16: Team
B17: 0.58333333 | C17: =O12 -> Team 4 | D17: 25 | E17: =D17-G17 -> 4 | F17: =O14 -> Team 6 | G17: 21 | H17: =G17-D17 -> -4 | I17: =O11 -> Team 3 | J17: =IF(E17>0,C17,IF(H17>0,F17,"-")) -> Team 4 | K17: =IF(E17<0,C17,IF(H17<0,F17,"-")) -> Team 6 | N17: 1 | O17: =VLOOKUP(N17,$T$9:$U$14,2,0) -> Team1
B18: 0.59722222 | C18: =O10 -> Team 2 | D18: 25 | E18: =D18-G18 -> 5 | F18: =O11 -> Team 3 | G18: 20 | H18: =G18-D18 -> -5 | I18: =O12 -> Team 4 | J18: =IF(E18>0,C18,IF(H18>0,F18,"-")) -> Team 2 | K18: =IF(E18<0,C18,IF(H18<0,F18,"-")) -> Team 3 | N18: 2 | O18: =VLOOKUP(N18,$T$9:$U$14,2,0) -> Team 2
B19: 0.61111111 | C19: =O9 -> Team1 | D19: 25 | E19: =D19-G19 -> 10 | F19: =O13 -> Team 5 | G19: 15 | H19: =G19-D19 -> -10 | I19: =O9 -> Team1 | J19: =IF(E19>0,C19,IF(H19>0,F19,"-")) -> Team1 | K19: =IF(E19<0,C19,IF(H19<0,F19,"-")) -> Team 5 | N19: 3 | O19: =VLOOKUP(N19,$T$9:$U$14,2,0) -> Team 4
B20: 0.625 | C20: =O11 -> Team 3 | D20: 25 | E20: =D20-G20 -> 8 | F20: =O12 -> Team 4 | G20: 17 | H20: =G20-D20 -> -8 | I20: =O10 -> Team 2 | J20: =IF(E20>0,C20,IF(H20>0,F20,"-")) -> Team 3 | K20: =IF(E20<0,C20,IF(H20<0,F20,"-")) -> Team 4 | N20: 4 | O20: =VLOOKUP(N20,$T$9:$U$14,2,0) -> Team 3
B21: 0.63888889 | C21: =O13 -> Team 5 | D21: 25 | E21: =D21-G21 -> 18 | F21: =O14 -> Team 6 | G21: 7 | H21: =G21-D21 -> -18 | I21: =O14 -> Team 6 | J21: =IF(E21>0,C21,IF(H21>0,F21,"-")) -> Team 5 | K21: =IF(E21<0,C21,IF(H21<0,F21,"-")) -> Team 6 | N21: 5 | O21: =VLOOKUP(N21,$T$9:$U$14,2,0) -> Team 5
B22: 0.65277778 | C22: =O9 -> Team1 | D22: 25 | E22: =D22-G22 -> 11 | F22: =O10 -> Team 2 | G22: 14 | H22: =G22-D22 -> -11 | I22: =O11 -> Team 3 | J22: =IF(E22>0,C22,IF(H22>0,F22,"-")) -> Team1 | K22: =IF(E22<0,C22,IF(H22<0,F22,"-")) -> Team 2 | N22: 6 | O22: =VLOOKUP(N22,$T$9:$U$14,2,0) -> Team 6
K24: Group check | L24: =IF(AND(ABS(SUM(D8:D22)-SUM(G8:G22))=ABS(SUM(E8:E22)),SUM(S9:S14)=0,SUM(E8:E22)+SUM(H8:H22)=0),"Group OK","Group wrong") -> Group OK
K25: Rank check | L25: =IF(SUM(T9:T14)=21,"Rank OK","Face to Face") -> Rank OK

Sheet Group B
B2: Group B --> 1set : 25 pts
L6: Result check
B7: Schedule Time | C7: Team | D7: Points | E7: Diff | F7: Team | G7: Points | H7: Diff | I7: Referee | J7: Winner | K7: Loser
B8: 0.45833333 | C8: =O9 -> Team 7 | D8: 25 | E8: =D8-G8 -> 3 | F8: =O12 -> Team 10 | G8: 22 | H8: =G8-D8 -> -3 | I8: =O13 -> Team 11 | J8: =IF(E8>0,C8,IF(H8>0,F8,"-")) -> Team 7 | K8: =IF(E8<0,C8,IF(H8<0,F8,"-")) -> Team 10 | N8: Teams | P8: Played | Q8: Win | R8: Lose | S8: Diff | T8: Rank
B9: 0.47222222 | C9: =O10 -> Team 8 | D9: 25 | E9: =D9-G9 -> 10 | F9: =O13 -> Team 11 | G9: 15 | H9: =G9-D9 -> -10 | I9: =O9 -> Team 7 | J9: =IF(E9>0,C9,IF(H9>0,F9,"-")) -> Team 8 | K9: =IF(E9<0,C9,IF(H9<0,F9,"-")) -> Team 11 | N9: 1 | O9: =TeamOverview!D5 -> Team 7 | P9: =SUM(Q9:R9) -> 5 | Q9: =COUNTIF($J$8:$J$22,O9) -> 4 | R9: =COUNTIF($K$8:$K$22,O9) -> 1 | S9: =(SUMIF($C$8:$C$22,O9,$E$8:$E$22)+SUMIF($F$8:$F$22,O9,$H$8:$H$22)) -> 28 | T9: =RANK(Q9,$Q$9:$Q$14)+SUMPRODUCT(($Q$9:$Q$14=Q9)*($S$9:$S$14>S9)) -> 1 | U9: =O9 -> Team 7
B10: 0.48611111 | C10: =O11 -> Team 9 | D10: 25 | E10: =D10-G10 -> 8 | F10: =O14 -> Team 12 | G10: 17 | H10: =G10-D10 -> -8 | I10: =O10 -> Team 8 | J10: =IF(E10>0,C10,IF(H10>0,F10,"-")) -> Team 9 | K10: =IF(E10<0,C10,IF(H10<0,F10,"-")) -> Team 12 | N10: 2 | O10: =TeamOverview!D6 -> Team 8 | P10: =SUM(Q10:R10) -> 5 | Q10: =COUNTIF($J$8:$J$22,O10) -> 4 | R10: =COUNTIF($K$8:$K$22,O10) -> 1 | S10: =(SUMIF($C$8:$C$22,O10,$E$8:$E$22)+SUMIF($F$8:$F$22,O10,$H$8:$H$22)) -> 16 | T10: =RANK(Q10,$Q$9:$Q$14)+SUMPRODUCT(($Q$9:$Q$14=Q10)*($S$9:$S$14>S10)) -> 2 | U10: =O10 -> Team 8
B11: 0.5 | C11: =O10 -> Team 8 | D11: 25 | E11: =D11-G11 -> 2 | F11: =O12 -> Team 10 | G11: 23 | H11: =G11-D11 -> -2 | I11: =O14 -> Team 12 | J11: =IF(E11>0,C11,IF(H11>0,F11,"-")) -> Team 8 | K11: =IF(E11<0,C11,IF(H11<0,F11,"-")) -> Team 10 | N11: 3 | O11: =TeamOverview!D7 -> Team 9 | P11: =SUM(Q11:R11) -> 5 | Q11: =COUNTIF($J$8:$J$22,O11) -> 2 | R11: =COUNTIF($K$8:$K$22,O11) -> 3 | S11: =(SUMIF($C$8:$C$22,O11,$E$8:$E$22)+SUMIF($F$8:$F$22,O11,$H$8:$H$22)) -> 3 | T11: =RANK(Q11,$Q$9:$Q$14)+SUMPRODUCT(($Q$9:$Q$14=Q11)*($S$9:$S$14>S11)) -> 4 | U11: =O11 -> Team 9
B12: 0.51388889 | C12: =O9 -> Team 7 | D12: 25 | E12: =D12-G12 -> -2 | F12: =O14 -> Team 12 | G12: 27 | H12: =G12-D12 -> 2 | I12: =O12 -> Team 10 | J12: =IF(E12>0,C12,IF(H12>0,F12,"-")) -> Team 12 | K12: =IF(E12<0,C12,IF(H12<0,F12,"-")) -> Team 7 | N12: 4 | O12: =TeamOverview!D8 -> Team 10 | P12: =SUM(Q12:R12) -> 5 | Q12: =COUNTIF($J$8:$J$22,O12) -> 2 | R12: =COUNTIF($K$8:$K$22,O12) -> 3 | S12: =(SUMIF($C$8:$C$22,O12,$E$8:$E$22)+SUMIF($F$8:$F$22,O12,$H$8:$H$22)) -> 8 | T12: =RANK(Q12,$Q$9:$Q$14)+SUMPRODUCT(($Q$9:$Q$14=Q12)*($S$9:$S$14>S12)) -> 3 | U12: =O12 -> Team 10
B13: 0.52777778 | C13: =O11 -> Team 9 | D13: 25 | E13: =D13-G13 -> -2 | F13: =O13 -> Team 11 | G13: 27 | H13: =G13-D13 -> 2 | I13: =O9 -> Team 7 | J13: =IF(E13>0,C13,IF(H13>0,F13,"-")) -> Team 11 | K13: =IF(E13<0,C13,IF(H13<0,F13,"-")) -> Team 9 | N13: 5 | O13: =TeamOverview!D9 -> Team 11 | P13: =SUM(Q13:R13) -> 5 | Q13: =COUNTIF($J$8:$J$22,O13) -> 2 | R13: =COUNTIF($K$8:$K$22,O13) -> 3 | S13: =(SUMIF($C$8:$C$22,O13,$E$8:$E$22)+SUMIF($F$8:$F$22,O13,$H$8:$H$22)) -> -17 | T13: =RANK(Q13,$Q$9:$Q$14)+SUMPRODUCT(($Q$9:$Q$14=Q13)*($S$9:$S$14>S13)) -> 5 | U13: =O13 -> Team 11
B14: 0.54166667 | C14: =O10 -> Team 8 | D14: 25 | E14: =D14-G14 -> 10 | F14: =O14 -> Team 12 | G14: 15 | H14: =G14-D14 -> -10 | I14: =O11 -> Team 9 | J14: =IF(E14>0,C14,IF(H14>0,F14,"-")) -> Team 8 | K14: =IF(E14<0,C14,IF(H14<0,F14,"-")) -> Team 12 | N14: 6 | O14: =TeamOverview!D10 -> Team 12 | P14: =SUM(Q14:R14) -> 5 | Q14: =COUNTIF($J$8:$J$22,O14) -> 1 | R14: =COUNTIF($K$8:$K$22,O14) -> 4 | S14: =(SUMIF($C$8:$C$22,O14,$E$8:$E$22)+SUMIF($F$8:$F$22,O14,$H$8:$H$22)) -> -38 | T14: =RANK(Q14,$Q$9:$Q$14)+SUMPRODUCT(($Q$9:$Q$14=Q14)*($S$9:$S$14>S14)) -> 6 | U14: =O14 -> Team 12
B15: 0.55555556 | C15: =O12 -> Team 10 | D15: 25 | E15: =D15-G15 -> 17 | F15: =O13 -> Team 11 | G15: 8 | H15: =G15-D15 -> -17 | I15: =O14 -> Team 12 | J15: =IF(E15>0,C15,IF(H15>0,F15,"-")) -> Team 10 | K15: =IF(E15<0,C15,IF(H15<0,F15,"-")) -> Team 11
B16: 0.56944444 | C16: =O9 -> Team 7 | D16: 25 | E16: =D16-G16 -> 6 | F16: =O11 -> Team 9 | G16: 19 | H16: =G16-D16 -> -6 | I16: =O13 -> Team 11 | J16: =IF(E16>0,C16,IF(H16>0,F16,"-")) -> Team 7 | K16: =IF(E16<0,C16,IF(H16<0,F16,"-")) -> Team 9 | N16: Rank | O16: Team
B17: 0.58333333 | C17: =O12 -> Team 10 | D17: 25 | E17: =D17-G17 -> 4 | F17: =O14 -> Team 12 | G17: 21 | H17: =G17-D17 -> -4 | I17: =O11 -> Team 9 | J17: =IF(E17>0,C17,IF(H17>0,F17,"-")) -> Team 10 | K17: =IF(E17<0,C17,IF(H17<0,F17,"-")) -> Team 12 | N17: 1 | O17: =VLOOKUP(N17,$T$9:$U$14,2,0) -> Team 7
B18: 0.59722222 | C18: =O10 -> Team 8 | D18: 25 | E18: =D18-G18 -> 5 | F18: =O11 -> Team 9 | G18: 20 | H18: =G18-D18 -> -5 | I18: =O12 -> Team 10 | J18: =IF(E18>0,C18,IF(H18>0,F18,"-")) -> Team 8 | K18: =IF(E18<0,C18,IF(H18<0,F18,"-")) -> Team 9 | N18: 2 | O18: =VLOOKUP(N18,$T$9:$U$14,2,0) -> Team 8
B19: 0.61111111 | C19: =O9 -> Team 7 | D19: 25 | E19: =D19-G19 -> 10 | F19: =O13 -> Team 11 | G19: 15 | H19: =G19-D19 -> -10 | I19: =O9 -> Team 7 | J19: =IF(E19>0,C19,IF(H19>0,F19,"-")) -> Team 7 | K19: =IF(E19<0,C19,IF(H19<0,F19,"-")) -> Team 11 | N19: 3 | O19: =VLOOKUP(N19,$T$9:$U$14,2,0) -> Team 10
B20: 0.625 | C20: =O11 -> Team 9 | D20: 25 | E20: =D20-G20 -> 8 | F20: =O12 -> Team 10 | G20: 17 | H20: =G20-D20 -> -8 | I20: =O10 -> Team 8 | J20: =IF(E20>0,C20,IF(H20>0,F20,"-")) -> Team 9 | K20: =IF(E20<0,C20,IF(H20<0,F20,"-")) -> Team 10 | N20: 4 | O20: =VLOOKUP(N20,$T$9:$U$14,2,0) -> Team 9
B21: 0.63888889 | C21: =O13 -> Team 11 | D21: 25 | E21: =D21-G21 -> 18 | F21: =O14 -> Team 12 | G21: 7 | H21: =G21-D21 -> -18 | I21: =O14 -> Team 12 | J21: =IF(E21>0,C21,IF(H21>0,F21,"-")) -> Team 11 | K21: =IF(E21<0,C21,IF(H21<0,F21,"-")) -> Team 12 | N21: 5 | O21: =VLOOKUP(N21,$T$9:$U$14,2,0) -> Team 11
B22: 0.65277778 | C22: =O9 -> Team 7 | D22: 25 | E22: =D22-G22 -> 11 | F22: =O10 -> Team 8 | G22: 14 | H22: =G22-D22 -> -11 | I22: =O11 -> Team 9 | J22: =IF(E22>0,C22,IF(H22>0,F22,"-")) -> Team 7 | K22: =IF(E22<0,C22,IF(H22<0,F22,"-")) -> Team 8 | N22: 6 | O22: =VLOOKUP(N22,$T$9:$U$14,2,0) -> Team 12
K24: Group check | L24: =IF(AND(ABS(SUM(D8:D22)-SUM(G8:G22))=ABS(SUM(E8:E22)),SUM(S9:S14)=0,SUM(E8:E22)+SUM(H8:H22)=0),"Group OK","Group wrong") -> Group OK

Sheet Group C
B2: Group C --> 1set : 25 pts
L6: Result check
B7: Schedule Time | C7: Team | D7: Points | E7: Diff | F7: Team | G7: Points | H7: Diff | I7: Referee | J7: Winner | K7: Loser
B8: 0.45833333 | C8: =O9 -> Team 13 | D8: 25 | E8: =D8-G8 -> 3 | F8: =O12 -> Team 16 | G8: 22 | H8: =G8-D8 -> -3 | I8: =O13 -> Team 17 | J8: =IF(E8>0,C8,IF(H8>0,F8,"-")) -> Team 13 | K8: =IF(E8<0,C8,IF(H8<0,F8,"-")) -> Team 16 | N8: Teams | P8: Played | Q8: Win | R8: Lose | S8: Diff | T8: Rank
B9: 0.47222222 | C9: =O10 -> Team 14 | D9: 25 | E9: =D9-G9 -> 10 | F9: =O13 -> Team 17 | G9: 15 | H9: =G9-D9 -> -10 | I9: =O9 -> Team 13 | J9: =IF(E9>0,C9,IF(H9>0,F9,"-")) -> Team 14 | K9: =IF(E9<0,C9,IF(H9<0,F9,"-")) -> Team 17 | N9: 1 | O9: =TeamOverview!E5 -> Team 13 | P9: =SUM(Q9:R9) -> 5 | Q9: =COUNTIF($J$8:$J$22,O9) -> 4 | R9: =COUNTIF($K$8:$K$22,O9) -> 1 | S9: =(SUMIF($C$8:$C$22,O9,$E$8:$E$22)+SUMIF($F$8:$F$22,O9,$H$8:$H$22)) -> 28 | T9: =RANK(Q9,$Q$9:$Q$14)+SUMPRODUCT(($Q$9:$Q$14=Q9)*($S$9:$S$14>S9)) -> 1 | U9: =O9 -> Team 13
B10: 0.48611111 | C10: =O11 -> Team 15 | D10: 25 | E10: =D10-G10 -> 8 | F10: =O14 -> Team 18 | G10: 17 | H10: =G10-D10 -> -8 | I10: =O10 -> Team 14 | J10: =IF(E10>0,C10,IF(H10>0,F10,"-")) -> Team 15 | K10: =IF(E10<0,C10,IF(H10<0,F10,"-")) -> Team 18 | N10: 2 | O10: =TeamOverview!E6 -> Team 14 | P10: =SUM(Q10:R10) -> 5 | Q10: =COUNTIF($J$8:$J$22,O10) -> 4 | R10: =COUNTIF($K$8:$K$22,O10) -> 1 | S10: =(SUMIF($C$8:$C$22,O10,$E$8:$E$22)+SUMIF($F$8:$F$22,O10,$H$8:$H$22)) -> 16 | T10: =RANK(Q10,$Q$9:$Q$14)+SUMPRODUCT(($Q$9:$Q$14=Q10)*($S$9:$S$14>S10)) -> 2 | U10: =O10 -> Team 14
B11: 0.5 | C11: =O10 -> Team 14 | D11: 25 | E11: =D11-G11 -> 2 | F11: =O12 -> Team 16 | G11: 23 | H11: =G11-D11 -> -2 | I11: =O14 -> Team 18 | J11: =IF(E11>0,C11,IF(H11>0,F11,"-")) -> Team 14 | K11: =IF(E11<0,C11,IF(H11<0,F11,"-")) -> Team 16 | N11: 3 | O11: =TeamOverview!E7 -> Team 15 | P11: =SUM(Q11:R11) -> 5 | Q11: =COUNTIF($J$8:$J$22,O11) -> 2 | R11: =COUNTIF($K$8:$K$22,O11) -> 3 | S11: =(SUMIF($C$8:$C$22,O11,$E$8:$E$22)+SUMIF($F$8:$F$22,O11,$H$8:$H$22)) -> 3 | T11: =RANK(Q11,$Q$9:$Q$14)+SUMPRODUCT(($Q$9:$Q$14=Q11)*($S$9:$S$14>S11)) -> 4 | U11: =O11 -> Team 15
B12: 0.51388889 | C12: =O9 -> Team 13 | D12: 25 | E12: =D12-G12 -> -2 | F12: =O14 -> Team 18 | G12: 27 | H12: =G12-D12 -> 2 | I12: =O12 -> Team 16 | J12: =IF(E12>0,C12,IF(H12>0,F12,"-")) -> Team 18 | K12: =IF(E12<0,C12,IF(H12<0,F12,"-")) -> Team 13 | N12: 4 | O12: =TeamOverview!E8 -> Team 16 | P12: =SUM(Q12:R12) -> 5 | Q12: =COUNTIF($J$8:$J$22,O12) -> 2 | R12: =COUNTIF($K$8:$K$22,O12) -> 3 | S12: =(SUMIF($C$8:$C$22,O12,$E$8:$E$22)+SUMIF($F$8:$F$22,O12,$H$8:$H$22)) -> 8 | T12: =RANK(Q12,$Q$9:$Q$14)+SUMPRODUCT(($Q$9:$Q$14=Q12)*($S$9:$S$14>S12)) -> 3 | U12: =O12 -> Team 16
B13: 0.52777778 | C13: =O11 -> Team 15 | D13: 25 | E13: =D13-G13 -> -2 | F13: =O13 -> Team 17 | G13: 27 | H13: =G13-D13 -> 2 | I13: =O9 -> Team 13 | J13: =IF(E13>0,C13,IF(H13>0,F13,"-")) -> Team 17 | K13: =IF(E13<0,C13,IF(H13<0,F13,"-")) -> Team 15 | N13: 5 | O13: =TeamOverview!E9 -> Team 17 | P13: =SUM(Q13:R13) -> 5 | Q13: =COUNTIF($J$8:$J$22,O13) -> 2 | R13: =COUNTIF($K$8:$K$22,O13) -> 3 | S13: =(SUMIF($C$8:$C$22,O13,$E$8:$E$22)+SUMIF($F$8:$F$22,O13,$H$8:$H$22)) -> -17 | T13: =RANK(Q13,$Q$9:$Q$14)+SUMPRODUCT(($Q$9:$Q$14=Q13)*($S$9:$S$14>S13)) -> 5 | U13: =O13 -> Team 17
B14: 0.54166667 | C14: =O10 -> Team 14 | D14: 25 | E14: =D14-G14 -> 10 | F14: =O14 -> Team 18 | G14: 15 | H14: =G14-D14 -> -10 | I14: =O11 -> Team 15 | J14: =IF(E14>0,C14,IF(H14>0,F14,"-")) -> Team 14 | K14: =IF(E14<0,C14,IF(H14<0,F14,"-")) -> Team 18 | N14: 6 | O14: =TeamOverview!E10 -> Team 18 | P14: =SUM(Q14:R14) -> 5 | Q14: =COUNTIF($J$8:$J$22,O14) -> 1 | R14: =COUNTIF($K$8:$K$22,O14) -> 4 | S14: =(SUMIF($C$8:$C$22,O14,$E$8:$E$22)+SUMIF($F$8:$F$22,O14,$H$8:$H$22)) -> -38 | T14: =RANK(Q14,$Q$9:$Q$14)+SUMPRODUCT(($Q$9:$Q$14=Q14)*($S$9:$S$14>S14)) -> 6 | U14: =O14 -> Team 18
B15: 0.55555556 | C15: =O12 -> Team 16 | D15: 25 | E15: =D15-G15 -> 17 | F15: =O13 -> Team 17 | G15: 8 | H15: =G15-D15 -> -17 | I15: =O14 -> Team 18 | J15: =IF(E15>0,C15,IF(H15>0,F15,"-")) -> Team 16 | K15: =IF(E15<0,C15,IF(H15<0,F15,"-")) -> Team 17
B16: 0.56944444 | C16: =O9 -> Team 13 | D16: 25 | E16: =D16-G16 -> 6 | F16: =O11 -> Team 15 | G16: 19 | H16: =G16-D16 -> -6 | I16: =O13 -> Team 17 | J16: =IF(E16>0,C16,IF(H16>0,F16,"-")) -> Team 13 | K16: =IF(E16<0,C16,IF(H16<0,F16,"-")) -> Team 15 | N16: Rank | O16: Team
B17: 0.58333333 | C17: =O12 -> Team 16 | D17: 25 | E17: =D17-G17 -> 4 | F17: =O14 -> Team 18 | G17: 21 | H17: =G17-D17 -> -4 | I17: =O11 -> Team 15 | J17: =IF(E17>0,C17,IF(H17>0,F17,"-")) -> Team 16 | K17: =IF(E17<0,C17,IF(H17<0,F17,"-")) -> Team 18 | N17: 1 | O17: =VLOOKUP(N17,$T$9:$U$14,2,0) -> Team 13
B18: 0.59722222 | C18: =O10 -> Team 14 | D18: 25 | E18: =D18-G18 -> 5 | F18: =O11 -> Team 15 | G18: 20 | H18: =G18-D18 -> -5 | I18: =O12 -> Team 16 | J18: =IF(E18>0,C18,IF(H18>0,F18,"-")) -> Team 14 | K18: =IF(E18<0,C18,IF(H18<0,F18,"-")) -> Team 15 | N18: 2 | O18: =VLOOKUP(N18,$T$9:$U$14,2,0) -> Team 14
B19: 0.61111111 | C19: =O9 -> Team 13 | D19: 25 | E19: =D19-G19 -> 10 | F19: =O13 -> Team 17 | G19: 15 | H19: =G19-D19 -> -10 | I19: =O9 -> Team 13 | J19: =IF(E19>0,C19,IF(H19>0,F19,"-")) -> Team 13 | K19: =IF(E19<0,C19,IF(H19<0,F19,"-")) -> Team 17 | N19: 3 | O19: =VLOOKUP(N19,$T$9:$U$14,2,0) -> Team 16
B20: 0.625 | C20: =O11 -> Team 15 | D20: 25 | E20: =D20-G20 -> 8 | F20: =O12 -> Team 16 | G20: 17 | H20: =G20-D20 -> -8 | I20: =O10 -> Team 14 | J20: =IF(E20>0,C20,IF(H20>0,F20,"-")) -> Team 15 | K20: =IF(E20<0,C20,IF(H20<0,F20,"-")) -> Team 16 | N20: 4 | O20: =VLOOKUP(N20,$T$9:$U$14,2,0) -> Team 15
B21: 0.63888889 | C21: =O13 -> Team 17 | D21: 25 | E21: =D21-G21 -> 18 | F21: =O14 -> Team 18 | G21: 7 | H21: =G21-D21 -> -18 | I21: =O14 -> Team 18 | J21: =IF(E21>0,C21,IF(H21>0,F21,"-")) -> Team 17 | K21: =IF(E21<0,C21,IF(H21<0,F21,"-")) -> Team 18 | N21: 5 | O21: =VLOOKUP(N21,$T$9:$U$14,2,0) -> Team 17
B22: 0.65277778 | C22: =O9 -> Team 13 | D22: 25 | E22: =D22-G22 -> 11 | F22: =O10 -> Team 14 | G22: 14 | H22: =G22-D22 -> -11 | I22: =O11 -> Team 15 | J22: =IF(E22>0,C22,IF(H22>0,F22,"-")) -> Team 13 | K22: =IF(E22<0,C22,IF(H22<0,F22,"-")) -> Team 14 | N22: 6 | O22: =VLOOKUP(N22,$T$9:$U$14,2,0) -> Team 18
K24: Group check | L24: =IF(AND(ABS(SUM(D8:D22)-SUM(G8:G22))=ABS(SUM(E8:E22)),SUM(S9:S14)=0,SUM(E8:E22)+SUM(H8:H22)=0),"Group OK","Group wrong") -> Group OK

Sheet Play off

Sheet Play down

Sheet Field occupation
