Workbook
Name classementl: Feuil2!$B$2:$I$156
Name Equipe: Feuil3!$A:$A
Name latest.asp?league_france: ligue1!$A$1:$O$21
Name latest.asp?league_france_1: ligue1!$A$23:$J$65
Name pmatch.asp?league_france_matchid_499_t1_32_t2_36_ly_2015_articleid_499: Feuil1!$B$2:$H$22
Name scorers.asp?league_france: ligue1!$A$141:$N$196
Name team_trends.asp?league_france_pmtype_overunder: ligue1!$A$67:$J$138

Sheet Martingale
A1: 50 | V1: CONSEIL
K3: 0.1 | L3: 0.2 | M3: 0.3 | N3: 0.4 | O3: 0.5 | P3: 0.6 | Q3: 0.7 | R3: 0.8 | S3: 0.9 | T3: 1
A4: =Tableau1[[#This Row],[Colonne1]] -> 0.1 | B4: =A4*2 -> 0.2 | C4: =A4*3 -> 0.3 | D4: =A4*4 -> 0.4 | E4: =A4*5 -> 0.5 | F4: =A4*6 -> 0.6 | G4: =A4*7 -> 0.7 | H4: =A4*8 -> 0.8 | I4: =A4*9 -> 0.9 | J4: =A4*10 -> 1 | K4: =K3*1 -> 0.1 | L4: =L3*1 -> 0.2 | M4: =M3*1 -> 0.3 | N4: =N3*1 -> 0.4 | O4: =O3*1 -> 0.5 | P4: =P3*1 -> 0.6 | Q4: =Q3*1 -> 0.7 | R4: =R3*1 -> 0.8 | ... T4: =T3*1 -> 1 | V4: Bankroll | W4: Colonne | X4: Colonne1
A5: =K5+K4 -> 0.3 | B5: =A5*2 -> 0.6 | C5: =A5*3 -> 0.9 | D5: =A5*4 -> 1.2 | E5: =A5*5 -> 1.5 | F5: =A5*6 -> 1.8 | G5: =A5*7 -> 2.1 | H5: =A5*8 -> 2.4 | I5: =A5*9 -> 2.7 | J5: =A5*10 -> 3 | K5: =K4*2 -> 0.2 | L5: =L4*2 -> 0.4 | M5: =M4*2 -> 0.6 | N5: =N4*2 -> 0.8 | O5: =O4*2 -> 1 | P5: =P4*2 -> 1.2 | Q5: =Q4*2 -> 1.4 | R5: =R4*2 -> 1.6 | ... T5: =T4*2 -> 2 | V5: 25-39 | W5: 0.1 | X5: =$A$1 -> 50
A6: =K6+K5+K4 -> 0.7 | B6: =A6*2 -> 1.4 | C6: =A6*3 -> 2.1 | D6: =A6*4 -> 2.8 | E6: =A6*5 -> 3.5 | F6: =A6*6 -> 4.2 | G6: =A6*7 -> 4.9 | H6: =A6*8 -> 5.6 | I6: =A6*9 -> 6.3 | J6: =A6*10 -> 7 | K6: =K5*2 -> 0.4 | L6: =L5*2 -> 0.8 | M6: =M5*2 -> 1.2 | N6: =N5*2 -> 1.6 | O6: =O5*2 -> 2 | P6: =P5*2 -> 2.4 | Q6: =Q5*2 -> 2.8 | R6: =R5*2 -> 3.2 | ... T6: =T5*2 -> 4 | V6: 25-39 | W6: 0.2 | X6: =$A$1 -> 50
A7: =K7+K6+K5+K4 -> 1.5 | B7: =A7*2 -> 3 | C7: =A7*3 -> 4.5 | D7: =A7*4 -> 6 | E7: =A7*5 -> 7.5 | F7: =A7*6 -> 9 | G7: =A7*7 -> 10.5 | H7: =A7*8 -> 12 | I7: =A7*9 -> 13.5 | J7: =A7*10 -> 15 | K7: =K6*2 -> 0.8 | L7: =L6*2 -> 1.6 | M7: =M6*2 -> 2.4 | N7: =N6*2 -> 3.2 | O7: =O6*2 -> 4 | P7: =P6*2 -> 4.8 | Q7: =Q6*2 -> 5.6 | R7: =R6*2 -> 6.4 | ... T7: =T6*2 -> 8 | V7: 39-50 | W7: 0.3 | X7: =$A$1 -> 50
A8: =K8+K7+K6+K5+K4 -> 3.1 | B8: =A8*2 -> 6.2 | C8: =A8*3 -> 9.3 | D8: =A8*4 -> 12.4 | E8: =A8*5 -> 15.5 | F8: =A8*6 -> 18.6 | G8: =A8*7 -> 21.7 | H8: =A8*8 -> 24.8 | I8: =A8*9 -> 27.9 | J8: =A8*10 -> 31 | K8: =K7*2 -> 1.6 | L8: =L7*2 -> 3.2 | M8: =M7*2 -> 4.8 | N8: =N7*2 -> 6.4 | O8: =O7*2 -> 8 | P8: =P7*2 -> 9.6 | Q8: =Q7*2 -> 11.2 | R8: =R7*2 -> 12.8 | ... T8: =T7*2 -> 16 | V8: 50-64 | W8: 0.4 | X8: =$A$1 -> 50
A9: =K9+K8+K7+K6+K5+K4 -> 6.3 | B9: =A9*2 -> 12.6 | C9: =A9*3 -> 18.9 | D9: =A9*4 -> 25.2 | E9: =A9*5 -> 31.5 | F9: =A9*6 -> 37.8 | G9: =A9*7 -> 44.1 | H9: =A9*8 -> 50.4 | I9: =A9*9 -> 56.7 | J9: =A9*10 -> 63 | K9: =K8*2 -> 3.2 | L9: =L8*2 -> 6.4 | M9: =M8*2 -> 9.6 | N9: =N8*2 -> 12.8 | O9: =O8*2 -> 16 | P9: =P8*2 -> 19.2 | Q9: =Q8*2 -> 22.4 | R9: =R8*2 -> 25.6 | ... T9: =T8*2 -> 32 | V9: 64-77 | W9: 0.5 | X9: =$A$1 -> 50
A10: =K10+K9+K8+K7+K6+K5+K4 -> 12.7 | B10: =A10*2 -> 25.4 | C10: =A10*3 -> 38.1 | D10: =A10*4 -> 50.8 | E10: =A10*5 -> 63.5 | F10: =A10*6 -> 76.2 | G10: =A10*7 -> 88.9 | H10: =A10*8 -> 101.6 | I10: =A10*9 -> 114.3 | J10: =A10*10 -> 127 | K10: =K9*2 -> 6.4 | L10: =L9*2 -> 12.8 | M10: =M9*2 -> 19.2 | N10: =N9*2 -> 25.6 | O10: =O9*2 -> 32 | P10: =P9*2 -> 38.4 | Q10: =Q9*2 -> 44.8 | R10: =R9*2 -> 51.2 | ... T10: =T9*2 -> 64 | V10: 77-89 | W10: 0.6 | X10: =$A$1 -> 50
A11: =K11+K10+K9+K8+K7+K6+K5+K4 -> 25.5 | B11: =A11*2 -> 51 | C11: =A11*3 -> 76.5 | D11: =A11*4 -> 102 | E11: =A11*5 -> 127.5 | F11: =A11*6 -> 153 | G11: =A11*7 -> 178.5 | H11: =A11*8 -> 204 | I11: =A11*9 -> 229.5 | J11: =A11*10 -> 255 | K11: =K10*2 -> 12.8 | L11: =L10*2 -> 25.6 | M11: =M10*2 -> 38.4 | N11: =N10*2 -> 51.2 | O11: =O10*2 -> 64 | P11: =P10*2 -> 76.8 | Q11: =Q10*2 -> 89.6 | R11: =R10*2 -> 102.4 | ... T11: =T10*2 -> 128 | V11: 89-102 | W11: 0.7 | X11: =$A$1 -> 50
A12: =K12+K11+K10+K9+K8+K7+K6+K5+K4 -> 51.1 | B12: =A12*2 -> 102.2 | C12: =A12*3 -> 153.3 | D12: =A12*4 -> 204.4 | E12: =A12*5 -> 255.5 | F12: =A12*6 -> 306.6 | G12: =A12*7 -> 357.7 | H12: =A12*8 -> 408.8 | I12: =A12*9 -> 459.9 | J12: =A12*10 -> 511 | K12: =K11*2 -> 25.6 | L12: =L11*2 -> 51.2 | M12: =M11*2 -> 76.8 | N12: =N11*2 -> 102.4 | O12: =O11*2 -> 128 | P12: =P11*2 -> 153.6 | Q12: =Q11*2 -> 179.2 | R12: =R11*2 -> 204.8 | ... T12: =T11*2 -> 256 | V12: 102-115 | W12: 0.8 | X12: =$A$1 -> 50
A13: =$K$11+$K$8+$K$9+$K$10+$K$6+$K$7+$K$4+$K$5+$K$12+$K$13 -> 102.3 | B13: =A13*2 -> 204.6 | C13: =A13*3 -> 306.9 | D13: =A13*4 -> 409.2 | E13: =A13*5 -> 511.5 | F13: =A13*6 -> 613.8 | G13: =A13*7 -> 716.1 | H13: =A13*8 -> 818.4 | I13: =A13*9 -> 920.7 | J13: =A13*10 -> 1023 | K13: =K12*2 -> 51.2 | L13: =L12*2 -> 102.4 | M13: =M12*2 -> 153.6 | N13: =N12*2 -> 204.8 | O13: =O12*2 -> 256 | P13: =P12*2 -> 307.2 | Q13: =Q12*2 -> 358.4 | R13: =R12*2 -> 409.6 | ... T13: =T12*2 -> 512 | V13: 115-127 | W13: 0.9 | X13: =$A$1 -> 50
A14: =$K$11+$K$8+$K$9+$K$10+$K$6+$K$7+$K$4+$K$5+$K$12+$K$13+$K$14 -> 204.7 | B14: =A14*2 -> 409.4 | C14: =A14*3 -> 614.1 | D14: =A14*4 -> 818.8 | E14: =A14*5 -> 1023.5 | F14: =A14*6 -> 1228.2 | G14: =A14*7 -> 1432.9 | H14: =A14*8 -> 1637.6 | I14: =A14*9 -> 1842.3 | J14: =A14*10 -> 2047 | K14: =K13*2 -> 102.4 | L14: =L13*2 -> 204.8 | M14: =M13*2 -> 307.2 | N14: =N13*2 -> 409.6 | O14: =O13*2 -> 512 | P14: =P13*2 -> 614.4 | Q14: =Q13*2 -> 716.8 | R14: =R13*2 -> 819.2 | ... T14: =T13*2 -> 1024 | V14: 127-140 | W14: 1 | X14: =$A$1 -> 50
A15: =$K$11+$K$8+$K$9+$K$10+$K$6+$K$7+$K$4+$K$5+$K$12+$K$13+$K$14+$K$15 -> 409.5 | B15: =A15*2 -> 819 | C15: =A15*3 -> 1228.5 | D15: =A15*4 -> 1638 | E15: =A15*5 -> 2047.5 | F15: =A15*6 -> 2457 | G15: =A15*7 -> 2866.5 | H15: =A15*8 -> 3276 | I15: =A15*9 -> 3685.5 | J15: =A15*10 -> 4095 | K15: =K14*2 -> 204.8 | L15: =L14*2 -> 409.6 | M15: =M14*2 -> 614.4 | N15: =N14*2 -> 819.2 | O15: =O14*2 -> 1024 | P15: =P14*2 -> 1228.8 | Q15: =Q14*2 -> 1433.6 | R15: =R14*2 -> 1638.4 | ... T15: =T14*2 -> 2048 | V15: 140-153 | W15: 1.1 | X15: =$A$1 -> 50
A16: =$K$11+$K$8+$K$9+$K$10+$K$6+$K$7+$K$4+$K$5+$K$12+$K$13+$K$14+$K$15+$K$16 -> 819.1 | B16: =A16*2 -> 1638.2 | C16: =A16*3 -> 2457.3 | D16: =A16*4 -> 3276.4 | E16: =A16*5 -> 4095.5 | F16: =A16*6 -> 4914.6 | G16: =A16*7 -> 5733.7 | H16: =A16*8 -> 6552.8 | I16: =A16*9 -> 7371.9 | J16: =A16*10 -> 8191 | K16: =K15*2 -> 409.6 | L16: =L15*2 -> 819.2 | M16: =M15*2 -> 1228.8 | N16: =N15*2 -> 1638.4 | O16: =O15*2 -> 2048 | P16: =P15*2 -> 2457.6 | Q16: =Q15*2 -> 2867.2 | R16: =R15*2 -> 3276.8 | ... T16: =T15*2 -> 4096 | V16: 153-166 | W16: 1.2 | X16: =$A$1 -> 50
A17: =$K$11+$K$8+$K$9+$K$10+$K$6+$K$7+$K$4+$K$5+$K$12+$K$13+$K$14+$K$15+$K$16+$K$17 -> 1638.3 | B17: =A17*2 -> 3276.6 | C17: =A17*3 -> 4914.9 | D17: =A17*4 -> 6553.2 | E17: =A17*5 -> 8191.5 | F17: =A17*6 -> 9829.8 | G17: =A17*7 -> 11468.1 | H17: =A17*8 -> 13106.4 | I17: =A17*9 -> 14744.7 | J17: =A17*10 -> 16383 | K17: =K16*2 -> 819.2 | L17: =L16*2 -> 1638.4 | M17: =M16*2 -> 2457.6 | N17: =N16*2 -> 3276.8 | O17: =O16*2 -> 4096 | P17: =P16*2 -> 4915.2 | Q17: =Q16*2 -> 5734.4 | R17: =R16*2 -> 6553.6 | ... T17: =T16*2 -> 8192 | V17: 166-178 | W17: 1.3 | X17: =$A$1 -> 50
A18: =$K$11+$K$8+$K$9+$K$10+$K$6+$K$7+$K$4+$K$5+$K$12+$K$13+$K$14+$K$15+$K$16+$K$17+$K$18 -> 3276.7 | B18: =A18*2 -> 6553.4 | C18: =A18*3 -> 9830.1 | D18: =A18*4 -> 13106.8 | E18: =A18*5 -> 16383.5 | F18: =A18*6 -> 19660.2 | G18: =A18*7 -> 22936.9 | H18: =A18*8 -> 26213.6 | I18: =A18*9 -> 29490.3 | J18: =A18*10 -> 32767 | K18: =K17*2 -> 1638.4 | L18: =L17*2 -> 3276.8 | M18: =M17*2 -> 4915.2 | N18: =N17*2 -> 6553.6 | O18: =O17*2 -> 8192 | P18: =P17*2 -> 9830.4 | Q18: =Q17*2 -> 11468.8 | R18: =R17*2 -> 13107.2 | ... T18: =T17*2 -> 16384 | V18: 178-191 | W18: 1.4 | X18: =$A$1 -> 50
A19: =$K$11+$K$8+$K$9+$K$10+$K$6+$K$7+$K$4+$K$5+$K$12+$K$13+$K$14+$K$15+$K$16+$K$17+$K$18+$K$19 -> 6553.5 | B19: =A19*2 -> 13107 | C19: =A19*3 -> 19660.5 | D19: =A19*4 -> 26214 | E19: =A19*5 -> 32767.5 | F19: =A19*6 -> 39321 | G19: =A19*7 -> 45874.5 | H19: =A19*8 -> 52428 | I19: =A19*9 -> 58981.5 | J19: =A19*10 -> 65535 | K19: =K18*2 -> 3276.8 | L19: =L18*2 -> 6553.6 | M19: =M18*2 -> 9830.4 | N19: =N18*2 -> 13107.2 | O19: =O18*2 -> 16384 | P19: =P18*2 -> 19660.8 | Q19: =Q18*2 -> 22937.6 | R19: =R18*2 -> 26214.4 | ... T19: =T18*2 -> 32768 | V19: 191-204 | W19: 1.5 | X19: =$A$1 -> 50
V20: 204-216 | W20: 1.6 | X20: =$A$1 -> 50
V21: 216-229 | W21: 1.7 | X21: =$A$1 -> 50
V22: 229-242 | W22: 1.8 | X22: =$A$1 -> 50
K23: 1.1 | L23: 1.2 | M23: 1.3 | N23: 1.4 | O23: 1.5 | P23: 1.6 | Q23: 1.7 | R23: 1.8 | S23: 1.9 | T23: 2 | V23: 242-254 | W23: 1.9 | X23: =$A$1 -> 50
A24: =K23*1 -> 1.1 | B24: =L23*1 -> 1.2 | C24: =M23*1 -> 1.3 | D24: =N23*1 -> 1.4 | E24: =O23*1 -> 1.5 | F24: =P23*1 -> 1.6 | G24: =Q23*1 -> 1.7 | H24: =R23*1 -> 1.8 | ... J24: =T23*1 -> 2 | K24: =K23*1 -> 1.1 | L24: =L23*1 -> 1.2 | M24: =M23*1 -> 1.3 | N24: =N23*1 -> 1.4 | O24: =O23*1 -> 1.5 | P24: =P23*1 -> 1.6 | Q24: =Q23*1 -> 1.7 | R24: =R23*1 -> 1.8 | ... T24: =T23*1 -> 2 | V24: 254 ET + | W24: 2 | X24: =$A$1 -> 50
A25: =K25+A24 -> 3.3 | B25: =L25+B24 -> 3.6 | C25: =M25+C24 -> 3.9 | D25: =N25+D24 -> 4.2 | E25: =O25+E24 -> 4.5 | F25: =P25+F24 -> 4.8 | G25: =Q25+G24 -> 5.1 | H25: =R25+H24 -> 5.4 | ... J25: =T25+J24 -> 6 | K25: =K24*2 -> 2.2 | L25: =L24*2 -> 2.4 | M25: =M24*2 -> 2.6 | N25: =N24*2 -> 2.8 | O25: =O24*2 -> 3 | P25: =P24*2 -> 3.2 | Q25: =Q24*2 -> 3.4 | R25: =R24*2 -> 3.6 | ... T25: =T24*2 -> 4
A26: =K26+A25 -> 7.7 | B26: =L26+B25 -> 8.4 | C26: =M26+C25 -> 9.1 | D26: =N26+D25 -> 9.8 | E26: =O26+E25 -> 10.5 | F26: =P26+F25 -> 11.2 | G26: =Q26+G25 -> 11.9 | H26: =R26+H25 -> 12.6 | ... J26: =T26+J25 -> 14 | K26: =K25*2 -> 4.4 | L26: =L25*2 -> 4.8 | M26: =M25*2 -> 5.2 | N26: =N25*2 -> 5.6 | O26: =O25*2 -> 6 | P26: =P25*2 -> 6.4 | Q26: =Q25*2 -> 6.8 | R26: =R25*2 -> 7.2 | ... T26: =T25*2 -> 8
A27: =K27+A26 -> 16.5 | B27: =L27+B26 -> 18 | C27: =M27+C26 -> 19.5 | D27: =N27+D26 -> 21 | E27: =O27+E26 -> 22.5 | F27: =P27+F26 -> 24 | G27: =Q27+G26 -> 25.5 | H27: =R27+H26 -> 27 | ... J27: =T27+J26 -> 30 | K27: =K26*2 -> 8.8 | L27: =L26*2 -> 9.6 | M27: =M26*2 -> 10.4 | N27: =N26*2 -> 11.2 | O27: =O26*2 -> 12 | P27: =P26*2 -> 12.8 | Q27: =Q26*2 -> 13.6 | R27: =R26*2 -> 14.4 | ... T27: =T26*2 -> 16
A28: =K28+A27 -> 34.1 | B28: =L28+B27 -> 37.2 | C28: =M28+C27 -> 40.3 | D28: =N28+D27 -> 43.4 | E28: =O28+E27 -> 46.5 | F28: =P28+F27 -> 49.6 | G28: =Q28+G27 -> 52.7 | H28: =R28+H27 -> 55.8 | ... J28: =T28+J27 -> 62 | K28: =K27*2 -> 17.6 | L28: =L27*2 -> 19.2 | M28: =M27*2 -> 20.8 | N28: =N27*2 -> 22.4 | O28: =O27*2 -> 24 | P28: =P27*2 -> 25.6 | Q28: =Q27*2 -> 27.2 | R28: =R27*2 -> 28.8 | ... T28: =T27*2 -> 32
A29: =K29+A28 -> 69.3 | B29: =L29+B28 -> 75.6 | C29: =M29+C28 -> 81.9 | D29: =N29+D28 -> 88.2 | E29: =O29+E28 -> 94.5 | F29: =P29+F28 -> 100.8 | G29: =Q29+G28 -> 107.1 | H29: =R29+H28 -> 113.4 | ... J29: =T29+J28 -> 126 | K29: =K28*2 -> 35.2 | L29: =L28*2 -> 38.4 | M29: =M28*2 -> 41.6 | N29: =N28*2 -> 44.8 | O29: =O28*2 -> 48 | P29: =P28*2 -> 51.2 | Q29: =Q28*2 -> 54.4 | R29: =R28*2 -> 57.6 | ... T29: =T28*2 -> 64
A30: =K30+A29 -> 139.7 | B30: =L30+B29 -> 152.4 | C30: =M30+C29 -> 165.1 | D30: =N30+D29 -> 177.8 | E30: =O30+E29 -> 190.5 | F30: =P30+F29 -> 203.2 | G30: =Q30+G29 -> 215.9 | H30: =R30+H29 -> 228.6 | ... J30: =T30+J29 -> 254 | K30: =K29*2 -> 70.4 | L30: =L29*2 -> 76.8 | M30: =M29*2 -> 83.2 | N30: =N29*2 -> 89.6 | O30: =O29*2 -> 96 | P30: =P29*2 -> 102.4 | Q30: =Q29*2 -> 108.8 | R30: =R29*2 -> 115.2 | ... T30: =T29*2 -> 128
A31: =K31+A30 -> 280.5 | B31: =L31+B30 -> 306 | C31: =M31+C30 -> 331.5 | D31: =N31+D30 -> 357 | E31: =O31+E30 -> 382.5 | F31: =P31+F30 -> 408 | G31: =Q31+G30 -> 433.5 | H31: =R31+H30 -> 459 | ... J31: =T31+J30 -> 510 | K31: =K30*2 -> 140.8 | L31: =L30*2 -> 153.6 | M31: =M30*2 -> 166.4 | N31: =N30*2 -> 179.2 | O31: =O30*2 -> 192 | P31: =P30*2 -> 204.8 | Q31: =Q30*2 -> 217.6 | R31: =R30*2 -> 230.4 | ... T31: =T30*2 -> 256
A32: =K32+A31 -> 562.1 | B32: =L32+B31 -> 613.2 | C32: =M32+C31 -> 664.3 | D32: =N32+D31 -> 715.4 | E32: =O32+E31 -> 766.5 | F32: =P32+F31 -> 817.6 | G32: =Q32+G31 -> 868.7 | H32: =R32+H31 -> 919.8 | ... J32: =T32+J31 -> 1022 | K32: =K31*2 -> 281.6 | L32: =L31*2 -> 307.2 | M32: =M31*2 -> 332.8 | N32: =N31*2 -> 358.4 | O32: =O31*2 -> 384 | P32: =P31*2 -> 409.6 | Q32: =Q31*2 -> 435.2 | R32: =R31*2 -> 460.8 | ... T32: =T31*2 -> 512
A33: =K33+A32 -> 1125.3 | B33: =L33+B32 -> 1227.6 | C33: =M33+C32 -> 1329.9 | D33: =N33+D32 -> 1432.2 | E33: =O33+E32 -> 1534.5 | F33: =P33+F32 -> 1636.8 | G33: =Q33+G32 -> 1739.1 | H33: =R33+H32 -> 1841.4 | ... J33: =T33+J32 -> 2046 | K33: =K32*2 -> 563.2 | L33: =L32*2 -> 614.4 | M33: =M32*2 -> 665.6 | N33: =N32*2 -> 716.8 | O33: =O32*2 -> 768 | P33: =P32*2 -> 819.2 | Q33: =Q32*2 -> 870.4 | R33: =R32*2 -> 921.6 | ... T33: =T32*2 -> 1024
A34: =K34+A33 -> 2251.7 | B34: =L34+B33 -> 2456.4 | C34: =M34+C33 -> 2661.1 | D34: =N34+D33 -> 2865.8 | E34: =O34+E33 -> 3070.5 | F34: =P34+F33 -> 3275.2 | G34: =Q34+G33 -> 3479.9 | H34: =R34+H33 -> 3684.6 | ... J34: =T34+J33 -> 4094 | K34: =K33*2 -> 1126.4 | L34: =L33*2 -> 1228.8 | M34: =M33*2 -> 1331.2 | N34: =N33*2 -> 1433.6 | O34: =O33*2 -> 1536 | P34: =P33*2 -> 1638.4 | Q34: =Q33*2 -> 1740.8 | R34: =R33*2 -> 1843.2 | ... T34: =T33*2 -> 2048
A35: =K35+A34 -> 4504.5 | B35: =L35+B34 -> 4914 | C35: =M35+C34 -> 5323.5 | D35: =N35+D34 -> 5733 | E35: =O35+E34 -> 6142.5 | F35: =P35+F34 -> 6552 | G35: =Q35+G34 -> 6961.5 | H35: =R35+H34 -> 7371 | ... J35: =T35+J34 -> 8190 | K35: =K34*2 -> 2252.8 | L35: =L34*2 -> 2457.6 | M35: =M34*2 -> 2662.4 | N35: =N34*2 -> 2867.2 | O35: =O34*2 -> 3072 | P35: =P34*2 -> 3276.8 | Q35: =Q34*2 -> 3481.6 | R35: =R34*2 -> 3686.4 | ... T35: =T34*2 -> 4096
A36: =K36+A35 -> 9010.1 | B36: =L36+B35 -> 9829.2 | C36: =M36+C35 -> 10648.3 | D36: =N36+D35 -> 11467.4 | E36: =O36+E35 -> 12286.5 | F36: =P36+F35 -> 13105.6 | G36: =Q36+G35 -> 13924.7 | H36: =R36+H35 -> 14743.8 | ... J36: =T36+J35 -> 16382 | K36: =K35*2 -> 4505.6 | L36: =L35*2 -> 4915.2 | M36: =M35*2 -> 5324.8 | N36: =N35*2 -> 5734.4 | O36: =O35*2 -> 6144 | P36: =P35*2 -> 6553.6 | Q36: =Q35*2 -> 6963.2 | R36: =R35*2 -> 7372.8 | ... T36: =T35*2 -> 8192
... A39: =K39+A38 -> 72088.5 | B39: =L39+B38 -> 78642 | C39: =M39+C38 -> 85195.5 | D39: =N39+D38 -> 91749 | E39: =O39+E38 -> 98302.5 | F39: =P39+F38 -> 104856 | G39: =Q39+G38 -> 111409.5 | H39: =R39+H38 -> 117963 | ... J39: =T39+J38 -> 131070 | K39: =K38*2 -> 36044.8 | L39: =L38*2 -> 39321.6 | M39: =M38*2 -> 42598.4 | N39: =N38*2 -> 45875.2 | O39: =O38*2 -> 49152 | P39: =P38*2 -> 52428.8 | Q39: =Q38*2 -> 55705.6 | R39: =R38*2 -> 58982.4 | ... T39: =T38*2 -> 65536

Sheet Aide pour choisir son match
B1: http://www.soccerstats.fr/latest.asp?league=france
D2: Bordeaux | I2: Toulouse
H4: =SUM(D5+I5) -> 58
B5: matchs de +2.5 buts à domicile de l'équipe 1 | D5: 25 | H5: STOP | I5: 33 | N5: matchs de +2.5 buts à domicile de l'équipe 2
D7: =IF(D5+I5>=120,"1","0") -> 0 | G7: > à 60%
B8: Moyenne de buts des 4 dernier matchs | D8: =Feuil1!K12 -> 10 | H8: STOP | I8: =Feuil1!K24 -> 8 | N8: Moyenne de buts des 4 dernier matchs
D9: =SUM(D8/4) -> 2.5 | I9: =SUM(I8/4) -> 2
D10: =IF((D9+I9)/2>=2.5,"1","0") -> 0 | H10: > à 2.5 buts
D11: =RIGHT(Feuil1!B14,4) -> 2.00 | L11: =LEFT(Feuil1!F14,4) -> 1.00
A12: % | B12: moy. buts marqués domicile : moy. buts concédés domicile : | D12: =SUBSTITUTE(D11,".",",") -> 2,00 | H12: STOP | I12: =SUBSTITUTE(L11,".",",") -> 1,00 | N12: moy. buts marqués domicile : moy. buts concédés domicile :
D13: =SUBSTITUTE(E14,".",",") -> 2,00 | I13: =SUBSTITUTE(L14,".",",") -> 1,33
D14: =IF(G14>=2.5,"1","0") -> 1 | E14: =RIGHT(Feuil1!B14,4) -> 2.00 | G14: =SUM((D12+D13)/2)+((I12+I13)/2)/2 -> 2.5825 | L14: =LEFT(Feuil1!F15,4) -> 1.33
A15: % | B15: moy. buts marqués extérieur : moy. buts concédés extérieur : | D15: =SUBSTITUTE(D14,".",",") -> 1 | H15: STOP | I15: =SUBSTITUTE(L14,".",",") -> 1,33 | N15: moy. buts marqués extérieur : moy. buts concédés extérieur :
D16: 2 | I16: 2
D17: =IF(H17>=2.5,"1","0") -> 0 | H17: =SUM((D15+D16)/2)+((I15+I16)/2)/2 -> 2.3325
B18: Écart des 2 équipes (5 classements mini) | D18: 9 | H18: STOP | I18: 1 | N18: les 2 équipes sont proches (3 classements maxi)
D20: =ABS(D18-I18) -> 8 | H20: =IF(D20<5,"0","1") -> 1 | L20: =ABS(I18-D18) -> 8
B23: 1/5 = 5% de la Bankroll | D23: =SUM(D7+D10+D14+H20) -> 2 | H23: / | I23: 5
B24: 2/5 = 10% de la Bankroll
B25: 3/5 = 20% de la Bankroll
B26: 4/5 = 40% de la Bankroll
B27: 5/5 = 40% de la Bankroll

Sheet Feuil3
A1: Equipes | B1: Top 3 buteurs | C1: Top 3 défense | D1: Top 3 attaque | E1: moy. buts marqués domicile moy. buts concédés domicile
A2: Bastia | B2: =IF(COUNTIF(ligue1!$T$142:$T$144,TRIM(A2)),"1","0") -> 0 | C2: =IF(COUNTIF(ligue1!$R$26:$R$28,TRIM(A2)),"1","0") -> 0
A3: Bordeaux | B3: =IF(COUNTIF(ligue1!$T$142:$T$144,TRIM(A3)),"1","0") -> 0 | C3: =IF(COUNTIF(ligue1!$R$26:$R$28,TRIM(A3)),"1","0") -> 0
A4: Caen | B4: =IF(COUNTIF(ligue1!$T$142:$T$144,TRIM(A4)),"1","0") -> 0 | C4: =IF(COUNTIF(ligue1!$R$26:$R$28,TRIM(A4)),"1","0") -> 0
A5: Evian TG | B5: =IF(COUNTIF(ligue1!$T$142:$T$144,TRIM(A5)),"1","0") -> 0 | C5: =IF(COUNTIF(ligue1!$R$26:$R$28,TRIM(A5)),"1","0") -> 0
A6: Guingamp | B6: =IF(COUNTIF(ligue1!$T$142:$T$144,TRIM(A6)),"1","0") -> 0 | C6: =IF(COUNTIF(ligue1!$R$26:$R$28,TRIM(A6)),"1","0") -> 0
A7: Lens | B7: =IF(COUNTIF(ligue1!$T$142:$T$144,TRIM(A7)),"1","0") -> 0 | C7: =IF(COUNTIF(ligue1!$R$26:$R$28,TRIM(A7)),"1","0") -> 0
A8: Lille | B8: =IF(COUNTIF(ligue1!$T$142:$T$144,TRIM(A8)),"1","0") -> 0 | C8: =IF(COUNTIF(ligue1!$R$26:$R$28,TRIM(A8)),"1","0") -> 0
A9: Lorient | B9: =IF(COUNTIF(ligue1!$T$142:$T$144,TRIM(A9)),"1","0") -> 0 | C9: =IF(COUNTIF(ligue1!$R$26:$R$28,TRIM(A9)),"1","0") -> 0
A10: Lyon | B10: =IF(COUNTIF(ligue1!$T$142:$T$144,TRIM(A10)),"1","0") -> 1 | C10: =IF(COUNTIF(ligue1!$R$26:$R$28,TRIM(A10)),"1","0") -> 0
A11: Marseille | B11: =IF(COUNTIF(ligue1!$T$142:$T$144,TRIM(A11)),"1","0") -> 1 | C11: =IF(COUNTIF(ligue1!$R$26:$R$28,TRIM(A11)),"1","0") -> 0
A12: Metz | B12: =IF(COUNTIF(ligue1!$T$142:$T$144,TRIM(A12)),"1","0") -> 0 | C12: =IF(COUNTIF(ligue1!$R$26:$R$28,TRIM(A12)),"1","0") -> 0
A13: Monaco | B13: =IF(COUNTIF(ligue1!$T$142:$T$144,TRIM(A13)),"1","0") -> 0 | C13: =IF(COUNTIF(ligue1!$R$26:$R$28,TRIM(A13)),"1","0") -> 0
... A21: Toulouse | B21: =IF(COUNTIF(ligue1!$T$142:$T$144,TRIM(A21)),"1","0") -> 0 | C21: =IF(COUNTIF(ligue1!$R$26:$R$28,TRIM(A21)),"1","0") -> 0
B33: =IF(ligue1!T146=Feuil3!A33,1,0) -> 1
Y157: 3
Y158: 2
Y159: 2
Y160: 1
Y161: 2
Y162: 1
Y163: 2
Y164: 1
Y165: 2
Y166: 1
Y167: 1
Y168: 1
... Y176: 1

Sheet Feuil1
J1: NOMBRE | W1: =LEN($F9)-LEN(SUBSTITUTE($F9,"1","")) -> 0 | X1: =LEN(G9)-LEN(SUBSTITUTE(G9,"1","")) -> 0
B2: Bordeaux | C2: Dim. 2 Nov 2014 | D2: Toulouse | J2: 1 | K2: =SUM(L$2:L$5) -> 6 | L2: =LEN(D6)-LEN(SUBSTITUTE(D6,"1","")) -> 2 | M2: =LEN(D6)-LEN(SUBSTITUTE(D6,"2","")) -> 0 | N2: =LEN(D6)-LEN(SUBSTITUTE(D6,"3","")) -> 0 | O2: =LEN(D6)-LEN(SUBSTITUTE(D6,"$4","")) -> 0 | P2: =LEN(D6)-LEN(SUBSTITUTE(D6,"$5","")) -> 0 | Q2: =LEN(D6)-LEN(SUBSTITUTE(D6,"$6","")) -> 0 | R2: =LEN(D6)-LEN(SUBSTITUTE(D6,"$7","")) -> 0 | S2: =LEN(D6)-LEN(SUBSTITUTE(D6,"$8","")) -> 0 | T2: =LEN(D6)-LEN(SUBSTITUTE(D6,"$9","")) -> 0 | U2: =LEN(D6)-LEN(SUBSTITUTE(D6,"$10","")) -> 0 | W2: =LEN(D4)-LEN(SUBSTITUTE(D4,"1","")) -> 1
J3: 2 | K3: =SUM(M$2:M$5)*2 -> 4 | L3: =LEN(D7)-LEN(SUBSTITUTE(D7,"1","")) -> 1 | M3: =LEN(D7)-LEN(SUBSTITUTE(D7,"2","")) -> 1 | N3: =LEN(D7)-LEN(SUBSTITUTE(D7,"3","")) -> 0 | O3: =LEN(D7)-LEN(SUBSTITUTE(D7,"$4","")) -> 0 | P3: =LEN(D7)-LEN(SUBSTITUTE(D7,"$5","")) -> 0 | Q3: =LEN(D7)-LEN(SUBSTITUTE(D7,"$6","")) -> 0 | R3: =LEN(D7)-LEN(SUBSTITUTE(D7,"$7","")) -> 0 | S3: =LEN(D7)-LEN(SUBSTITUTE(D7,"$8","")) -> 0 | T3: =LEN(D7)-LEN(SUBSTITUTE(D7,"$9","")) -> 0 | U3: =LEN(D7)-LEN(SUBSTITUTE(D7,"$10","")) -> 0
B4: (6ème) | D4: (12ème) | J4: 3 | K4: =SUM(N$2:N$5)*3 -> 0 | L4: =LEN(D8)-LEN(SUBSTITUTE(D8,"1","")) -> 1 | M4: =LEN(D8)-LEN(SUBSTITUTE(D8,"2","")) -> 1 | N4: =LEN(D8)-LEN(SUBSTITUTE(D8,"3","")) -> 0 | O4: =LEN(D8)-LEN(SUBSTITUTE(D8,"$4","")) -> 0 | P4: =LEN(D8)-LEN(SUBSTITUTE(D8,"$5","")) -> 0 | Q4: =LEN(D8)-LEN(SUBSTITUTE(D8,"$6","")) -> 0 | R4: =LEN(D8)-LEN(SUBSTITUTE(D8,"$7","")) -> 0 | S4: =LEN(D8)-LEN(SUBSTITUTE(D8,"$8","")) -> 0 | T4: =LEN(D8)-LEN(SUBSTITUTE(D8,"$9","")) -> 0 | U4: =LEN(D8)-LEN(SUBSTITUTE(D8,"$10","")) -> 0
J5: 4 | K5: =SUM(O$2:O$5)*4 -> 0 | L5: =LEN(D9)-LEN(SUBSTITUTE(D9,"1","")) -> 2 | M5: =LEN(D9)-LEN(SUBSTITUTE(D9,"2","")) -> 0 | N5: =LEN(D9)-LEN(SUBSTITUTE(D9,"3","")) -> 0 | O5: =LEN(D9)-LEN(SUBSTITUTE(D9,"$4","")) -> 0 | P5: =LEN(D9)-LEN(SUBSTITUTE(D9,"$5","")) -> 0 | Q5: =LEN(D9)-LEN(SUBSTITUTE(D9,"$6","")) -> 0 | R5: =LEN(D9)-LEN(SUBSTITUTE(D9,"$7","")) -> 0 | S5: =LEN(D9)-LEN(SUBSTITUTE(D9,"$8","")) -> 0 | T5: =LEN(D9)-LEN(SUBSTITUTE(D9,"$9","")) -> 0 | U5: =LEN(D9)-LEN(SUBSTITUTE(D9,"$10","")) -> 0
B6: 19 Oct | C6: BOR - Caen | D6: 1-1 | F6: 2-0 | G6: Marseille - TOU | H6: 19 Oct | J6: 5 | K6: =SUM(P2:P5)*5 -> 0
B7: 28 Sep | C7: BOR - Rennes | D7: 2-1 | F7: 0-1 | G7: Saint-Etienne - TOU | H7: 5 Oct | J7: 6 | K7: =SUM(Q2:Q5)*6 -> 0
B8: 19 Sep | C8: BOR - Evian TG | D8: 2-1 | F8: 0-3 | G8: Rennes - TOU | H8: 23 Sep | J8: 7 | K8: =SUM(R2:R5)*7 -> 0
B9: 31 Aug | C9: BOR - Bastia | D9: 1-1 | F9: 2-0 | G9: Reims - TOU | H9: 13 Sep | J9: 8 | K9: =SUM(S2:S5)*8 -> 0
J10: 9 | K10: =SUM(T2:T5)*9 -> 0
B11: Domicile | C11: Général | D11: SCORING | E11: Général | F11: Extérieur | J11: 10 | K11: =SUM(U2:U5)*10 -> 0
B12: 10 | C12: 16 | D12: Buts marqués | E12: 13 | F12: 6 | K12: =SUM(K2+K3+K4+K5+K6+K7+K8+K9+K10+K11) -> 10
B13: 5 | C13: 13 | D13: Buts concédés | E13: 15 | F13: 8 | J13: NOMBRE
B14: (1) 2.00 | C14: 1.45 | D14: Moy. buts marqués | E14: 1.18 | F14: 1.00 (3) | J14: 1 | K14: =SUM(L14:L17) -> 1 | L14: =LEN(F6)-LEN(SUBSTITUTE(F6,"1","")) -> 0 | M14: =LEN(F6)-LEN(SUBSTITUTE(F6,"2","")) -> 1 | N14: =LEN(F6)-LEN(SUBSTITUTE(F6,"3","")) -> 0 | O14: =LEN(F6)-LEN(SUBSTITUTE(F6,"4","")) -> 0 | P14: =LEN(F6)-LEN(SUBSTITUTE(F6,"5","")) -> 0 | Q14: =LEN(F6)-LEN(SUBSTITUTE(F6,"6","")) -> 0 | R14: =LEN(F6)-LEN(SUBSTITUTE(F6,"7","")) -> 0 | S14: =LEN(F6)-LEN(SUBSTITUTE(F6,"8","")) -> 0 | T14: =LEN(F6)-LEN(SUBSTITUTE(F6,"9","")) -> 0 | U14: =LEN(F6)-LEN(SUBSTITUTE(F6,"10","")) -> 0
B15: (2) 1.00 | C15: 1.18 | D15: Moy. buts concédés | E15: 1.36 | F15: 1.33 (4) | J15: 2 | K15: =SUM(M14:M17)*2 -> 4 | L15: =LEN(F7)-LEN(SUBSTITUTE(F7,"1","")) -> 1 | M15: =LEN(F7)-LEN(SUBSTITUTE(F7,"2","")) -> 0 | N15: =LEN(F7)-LEN(SUBSTITUTE(F7,"3","")) -> 0 | O15: =LEN(F7)-LEN(SUBSTITUTE(F7,"4","")) -> 0 | P15: =LEN(F7)-LEN(SUBSTITUTE(F7,"5","")) -> 0 | Q15: =LEN(F7)-LEN(SUBSTITUTE(F7,"6","")) -> 0 | R15: =LEN(F7)-LEN(SUBSTITUTE(F7,"7","")) -> 0 | S15: =LEN(F7)-LEN(SUBSTITUTE(F7,"8","")) -> 0 | T15: =LEN(F7)-LEN(SUBSTITUTE(F7,"9","")) -> 0 | U15: =LEN(F7)-LEN(SUBSTITUTE(F7,"10","")) -> 0
B16: (A) 3.00 | C16: (B) 2.64 | D16: Moy. marqués + concédés | E16: 2.55 (C) | F16: 2.33 (D) | J16: 3 | K16: =SUM(N14:N17)*3 -> 3 | L16: =LEN(F8)-LEN(SUBSTITUTE(F8,"1","")) -> 0 | M16: =LEN(F8)-LEN(SUBSTITUTE(F8,"2","")) -> 0 | N16: =LEN(F8)-LEN(SUBSTITUTE(F8,"3","")) -> 1 | O16: =LEN(F8)-LEN(SUBSTITUTE(F8,"4","")) -> 0 | P16: =LEN(F8)-LEN(SUBSTITUTE(F8,"5","")) -> 0 | Q16: =LEN(F8)-LEN(SUBSTITUTE(F8,"6","")) -> 0 | R16: =LEN(F8)-LEN(SUBSTITUTE(F8,"7","")) -> 0 | S16: =LEN(F8)-LEN(SUBSTITUTE(F8,"8","")) -> 0 | T16: =LEN(F8)-LEN(SUBSTITUTE(F8,"9","")) -> 0 | U16: =LEN(F8)-LEN(SUBSTITUTE(F8,"10","")) -> 0
B17: (E) 60% | C17: (F) 55% | D17: Matchs à plus de 2,5 buts | E17: 36% (G) | F17: 33% (H) | J17: 4 | K17: =SUM(O14:O17)*4 -> 0 | L17: =LEN(F9)-LEN(SUBSTITUTE(F9,"1","")) -> 0 | M17: =LEN(F9)-LEN(SUBSTITUTE(F9,"2","")) -> 1 | N17: =LEN(F9)-LEN(SUBSTITUTE(F9,"3","")) -> 0 | O17: =LEN(F9)-LEN(SUBSTITUTE(F9,"4","")) -> 0 | P17: =LEN(F9)-LEN(SUBSTITUTE(F9,"5","")) -> 0 | Q17: =LEN(F9)-LEN(SUBSTITUTE(F9,"6","")) -> 0 | R17: =LEN(F9)-LEN(SUBSTITUTE(F9,"7","")) -> 0 | S17: =LEN(F9)-LEN(SUBSTITUTE(F9,"8","")) -> 0 | T17: =LEN(F9)-LEN(SUBSTITUTE(F9,"9","")) -> 0 | U17: =LEN(F9)-LEN(SUBSTITUTE(F9,"10","")) -> 0
B18: 0.2 | C18: 0.18 | D18: Matchs à plus de 3,5 buts | E18: 0.18 | F18: 0.17 | J18: 5 | K18: =SUM(P14:P17)*5 -> 0
B19: 0.2 | C19: 0.09 | D19: Matchs à plus de 4,5 buts | E19: 0.18 | F19: 0.17 | J19: 6 | K19: =SUM(Q14:Q17)*6 -> 0
B20: 1 | C20: 0.73 | D20: Les 2 équipes ont marqué | E20: 0.36 | F20: 0.17 | J20: 7 | K20: =SUM(R14:R17)*7 -> 0
B21: 0 | C21: 0.09 | D21: Matchs sans but encaissé | E21: 0.27 | F21: 0.33 | J21: 8 | K21: =SUM(S14:S17)*8 -> 0
B22: 0 | C22: 0.18 | D22: Matchs sans but marqué | E22: 0.36 | F22: 0.5 | J22: 9 | K22: =SUM(T14:T17)*9 -> 0
J23: 10 | K23: =SUM(U14:U17)*10 -> 0
K24: =SUM(K14+K15+K16+K17+K18+K19+K20+K21+K22+K23) -> 8
B25: =RIGHT(B14,4) -> 2.00

Sheet Feuil2
B2: # | C2: team | D2: G | E2: W | F2: D | G2: L | H2: goals | I2: points
B3: 1 | C3: Marseille | D3: 12 | E3: 9 | F3: 1 | G3: 2 | H3: 1.1319444 | I3: 28
B4: 2 | C4: Paris Saint Germain | D4: 12 | E4: 6 | F4: 6 | G4: 0 | H4: 0.96388889 | I4: 24
B5: 3 | C5: Lyon | D5: 12 | E5: 7 | F5: 2 | G5: 3 | H5: 1.0069444 | I5: 23
B6: 4 | C6: Bordeaux | D6: 12 | E6: 6 | F6: 3 | G6: 3 | H6: 0.75972222 | I6: 21
B7: 5 | C7: Saint Etienne | D7: 12 | E7: 6 | F7: 3 | G7: 3 | H7: 0.50763889 | I7: 21
B8: 6 | C8: Nantes | D8: 12 | E8: 5 | F8: 5 | G8: 2 | H8: 0.46388889 | I8: 20
B9: 7 | C9: Monaco | D9: 12 | E9: 5 | F9: 3 | G9: 4 | H9: 0.59236111 | I9: 18
B10: 8 | C10: Metz | D10: 12 | E10: 5 | F10: 3 | G10: 4 | H10: 0.55 | I10: 18
B11: 9 | C11: Montpellier | D11: 12 | E11: 5 | F11: 2 | G11: 5 | H11: 0.46597222 | I11: 17
B12: 10 | C12: Nice | D12: 12 | E12: 5 | F12: 2 | G12: 5 | H12: 0.72083333 | I12: 17
B13: 11 | C13: Rennes | D13: 12 | E13: 4 | F13: 4 | G13: 4 | H13: 0.59305556 | I13: 16
B14: 12 | C14: Lille | D14: 12 | E14: 4 | F14: 4 | G14: 4 | H14: 0.38194444 | I14: 16
... B22: 20 | C22: Evian Thonon Gaillard | D22: 12 | E22: 3 | F22: 1 | G22: 8 | H22: 0.47361111 | I22: 10
B23: champions league champions league champions league qualification champions league qualification uefa qualification uefa qualification relegation relegation
B25: Home
B26: 1 | C26: Lyon | D26: 7 | E26: 6 | F26: 0 | G26: 1 | H26: 0.71041667 | I26: 18
B27: 2 | C27: Marseille | D27: 6 | E27: 5 | F27: 0 | G27: 1 | H27: 0.54444444 | I27: 15
B28: 3 | C28: Bordeaux | D28: 6 | E28: 4 | F28: 2 | G28: 0 | H28: 0.50416667 | I28: 14
B29: 4 | C29: Metz | D29: 6 | E29: 4 | F29: 2 | G29: 0 | H29: 0.50347222 | I29: 14
B30: 5 | C30: Montpellier | D30: 6 | E30: 4 | F30: 0 | G30: 2 | H30: 0.29375 | I30: 12
B31: 6 | C31: Nantes | D31: 7 | E31: 3 | F31: 3 | G31: 1 | H31: 0.29513889 | I31: 12
B32: 7 | C32: Lille | D32: 7 | E32: 3 | F32: 3 | G32: 1 | H32: 0.29375 | I32: 12
B33: 8 | C33: Saint Etienne | D33: 6 | E33: 3 | F33: 2 | G33: 1 | H33: 0.25208333 | I33: 11
B34: 9 | C34: Paris Saint Germain | D34: 5 | E34: 3 | F34: 2 | G34: 0 | H34: 0.50138889 | I34: 11
B35: 10 | C35: Rennes | D35: 5 | E35: 3 | F35: 1 | G35: 1 | H35: 0.4625 | I35: 10
B36: 11 | C36: Reims | D36: 6 | E36: 3 | F36: 1 | G36: 2 | H36: 0.25625 | I36: 10
B37: 12 | C37: Nice | D37: 7 | E37: 3 | F37: 1 | G37: 3 | H37: 0.34027778 | I37: 10
... B45: 20 | C45: Caen | D45: 5 | E45: 1 | F45: 0 | G45: 4 | H45: 0.12986111 | I45: 3
B47: Away
B48: 1 | C48: Paris Saint Germain | D48: 7 | E48: 3 | F48: 4 | G48: 0 | H48: 0.4625 | I48: 13
B49: 2 | C49: Marseille | D49: 6 | E49: 4 | F49: 1 | G49: 1 | H49: 0.5875 | I49: 13
B50: 3 | C50: Saint Etienne | D50: 6 | E50: 3 | F50: 1 | G50: 2 | H50: 0.25555556 | I50: 10
B51: 4 | C51: Monaco | D51: 6 | E51: 3 | F51: 1 | G51: 2 | H51: 0.33888889 | I51: 10
B52: 5 | C52: Caen | D52: 7 | E52: 2 | F52: 3 | G52: 2 | H52: 0.46388889 | I52: 9
B53: 6 | C53: Nantes | D53: 5 | E53: 2 | F53: 2 | G53: 1 | H53: 0.16875 | I53: 8
B54: 7 | C54: Nice | D54: 5 | E54: 2 | F54: 1 | G54: 2 | H54: 0.38055556 | I54: 7
B55: 8 | C55: Bordeaux | D55: 6 | E55: 2 | F55: 1 | G55: 3 | H55: 0.25555556 | I55: 7
B56: 9 | C56: Lens | D56: 7 | E56: 2 | F56: 1 | G56: 4 | H56: 0.25555556 | I56: 7
B57: 10 | C57: Toulouse | D57: 7 | E57: 2 | F57: 0 | G57: 5 | H57: 0.29861111 | I57: 6
...

Sheet ligue1
A1: 2 | B1: Paris SG | C1: 24 | D1: 12 | E1: 6 | F1: 6 | G1: 0 | H1: 23 | I1: 8 | J1: 15 | L1: 2.00 | M1: 0.67 | N1: 0.42 | O1: 0.08 | U1: 1 | V1: 2 | W1: 3 | X1: 4 | Y1: 5 | Z1: 6 | AA1: 7 | AB1: 8 | AC1: 9 | AD1: 10 | AE1: 11 | AF1: 12 | AG1: 13 | AH1: 14 | AI1: 15 | AJ1: 16 | AK1: 17 | AL1: 18 | AM1: 19 | AN1: 20 | AO1: 21 | AP1: 22 | AQ1: 23 | AR1: 24 | AS1: 25 | AT1: 26 | AU1: 27 | AV1: 28 | AW1: 29 | AX1: 30 | AY1: 31 | AZ1: 32 | BA1: 33 | BB1: 34 | BC1: 35 | BD1: 36 | BE1: 37 | BF1: 38
A2: 6 | B2: Nantes | C2: 20 | D2: 12 | E2: 5 | F2: 5 | G2: 2 | H2: 11 | I2: 8 | J2: 3 | L2: 1.67 | M2: 0.56 | N2: 0.42 | O2: 0.25 | R2: Marseille | S2: =SUM(T2:BF2) -> 37 | T2: 0 | U2: 6 | V2: 2 | W2: 1 | X2: 4 | Y2: 4 | Z2: 3 | AA2: 5 | AB2: 3 | AC2: 3 | AD2: 2 | AE2: 1 | AF2: 3 | AG2: 0 | AH2: 0 | AI2: 0 | AJ2: 0 | AK2: 0 | AL2: 0 | AM2: 0 | AN2: 0 | AO2: 0 | AP2: 0 | AQ2: 0 | AR2: 0 | AS2: 0 | AT2: 0 | AU2: 0 | AV2: 0 | AW2: 0 | AX2: 0 | AY2: 0 | AZ2: 0 | BA2: 0 | BB2: 0 | BC2: 0 | BD2: 0 | BE2: 0 | BF2: 0
A3: 1 | B3: Marseille | C3: 28 | D3: 12 | E3: 9 | F3: 1 | G3: 2 | H3: 27 | I3: 10 | J3: 17 | L3: 2.33 | M3: 0.78 | N3: 0.42 | O3: 0.17 | R3: Paris SG | S3: =SUM(U3:BF3) -> 31 | T3: 0 | U3: 4 | V3: 2 | W3: 0 | X3: 5 | Y3: 2 | Z3: 2 | AA3: 2 | AB3: 2 | AC3: 2 | AD3: 4 | AE3: 3 | AF3: 3 | AG3: 0 | AH3: 0 | AI3: 0 | AJ3: 0 | AK3: 0 | AL3: 0 | AM3: 0 | AN3: 0 | AO3: 0 | AP3: 0 | AQ3: 0 | AR3: 0 | AS3: 0 | AT3: 0 | AU3: 0 | AV3: 0 | AW3: 0 | AX3: 0 | AY3: 0 | AZ3: 0 | BA3: 0 | BB3: 0 | BC3: 0 | BD3: 0 | BE3: 0 | BF3: 0
A4: 3 | B4: Lyon | C4: 23 | D4: 12 | E4: 7 | F4: 2 | G4: 3 | H4: 24 | I4: 10 | J4: 14 | L4: 1.92 | M4: 0.64 | N4: 0.33 | O4: 0.08 | R4: Lyon | S4: =SUM(U4:BF4) -> 34 | T4: 0 | U4: 2 | V4: 3 | W4: 1 | X4: 3 | Y4: 3 | Z4: 2 | AA4: 4 | AB4: 2 | AC4: 3 | AD4: 6 | AE4: 1 | AF4: 4 | AG4: 0 | AH4: 0 | AI4: 0 | AJ4: 0 | AK4: 0 | AL4: 0 | AM4: 0 | AN4: 0 | AO4: 0 | AP4: 0 | AQ4: 0 | AR4: 0 | AS4: 0 | AT4: 0 | AU4: 0 | AV4: 0 | AW4: 0 | AX4: 0 | AY4: 0 | AZ4: 0 | BA4: 0 | BB4: 0 | BC4: 0 | BD4: 0 | BE4: 0 | BF4: 0
A5: 12 | B5: Lille | C5: 16 | D5: 12 | E5: 4 | F5: 4 | G5: 4 | H5: 9 | I5: 10 | J5: -1 | L5: 1.33 | M5: 0.44 | N5: 0.5 | O5: 0.42 | R5: Bordeaux | S5: =SUM(U5:BF5) -> 32 | T5: 0 | U5: 1 | V5: 5 | W5: 4 | X5: 2 | Y5: 3 | Z5: 3 | AA5: 2 | AB5: 3 | AC5: 1 | AD5: 2 | AE5: 3 | AF5: 3 | AG5: 0 | AH5: 0 | AI5: 0 | AJ5: 0 | AK5: 0 | AL5: 0 | AM5: 0 | AN5: 0 | AO5: 0 | AP5: 0 | AQ5: 0 | AR5: 0 | AS5: 0 | AT5: 0 | AU5: 0 | AV5: 0 | AW5: 0 | AX5: 0 | AY5: 0 | AZ5: 0 | BA5: 0 | BB5: 0 | BC5: 0 | BD5: 0 | BE5: 0 | BF5: 0
A6: 5 | B6: Saint-Etienne | C6: 21 | D6: 12 | E6: 6 | F6: 3 | G6: 3 | H6: 12 | I6: 11 | J6: 1 | L6: 1.75 | M6: 0.58 | N6: 0.5 | O6: 0.25 | R6: Saint-Etienne | S6: =SUM(U6:BF6) -> 23 | T6: 0 | U6: 2 | V6: 4 | W6: 0 | X6: 5 | Y6: 1 | Z6: 1 | AA6: 2 | AB6: 3 | AC6: 1 | AD6: 1 | AE6: 1 | AF6: 2 | AG6: 0 | AH6: 0 | AI6: 0 | AJ6: 0 | AK6: 0 | AL6: 0 | AM6: 0 | AN6: 0 | AO6: 0 | AP6: 0 | AQ6: 0 | AR6: 0 | AS6: 0 | AT6: 0 | AU6: 0 | AV6: 0 | AW6: 0 | AX6: 0 | AY6: 0 | AZ6: 0 | BA6: 0 | BB6: 0 | BC6: 0 | BD6: 0 | BE6: 0 | BF6: 0
A7: 9 | B7: Montpellier | C7: 17 | D7: 12 | E7: 5 | F7: 2 | G7: 5 | H7: 11 | I7: 11 | J7: 0 | L7: 1.42 | M7: 0.47 | N7: 0.42 | O7: 0.42 | R7: Nantes | S7: =SUM(U7:BF7) -> 19 | T7: 0 | U7: 1 | V7: 2 | W7: 1 | X7: 1 | Y7: 2 | Z7: 3 | AA7: 0 | AB7: 2 | AC7: 1 | AD7: 2 | AE7: 2 | AF7: 2 | AG7: 0 | AH7: 0 | AI7: 0 | AJ7: 0 | AK7: 0 | AL7: 0 | AM7: 0 | AN7: 0 | AO7: 0 | AP7: 0 | AQ7: 0 | AR7: 0 | AS7: 0 | AT7: 0 | AU7: 0 | AV7: 0 | AW7: 0 | AX7: 0 | AY7: 0 | AZ7: 0 | BA7: 0 | BB7: 0 | BC7: 0 | BD7: 0 | BE7: 0 | BF7: 0
A8: 8 | B8: Metz | C8: 18 | D8: 12 | E8: 5 | F8: 3 | G8: 4 | H8: 13 | I8: 12 | J8: 1 | L8: 1.50 | M8: 0.5 | N8: 0.33 | O8: 0.5 | R8: Monaco | S8: =SUM(U8:BF8) -> 27 | T8: 0 | U8: 3 | V8: 5 | W8: 1 | X8: 2 | Y8: 3 | Z8: 1 | AA8: 1 | AB8: 1 | AC8: 2 | AD8: 2 | AE8: 4 | AF8: 2 | AG8: 0 | AH8: 0 | AI8: 0 | AJ8: 0 | AK8: 0 | AL8: 0 | AM8: 0 | AN8: 0 | AO8: 0 | AP8: 0 | AQ8: 0 | AR8: 0 | AS8: 0 | AT8: 0 | AU8: 0 | AV8: 0 | AW8: 0 | AX8: 0 | AY8: 0 | AZ8: 0 | BA8: 0 | BB8: 0 | BC8: 0 | BD8: 0 | BE8: 0 | BF8: 0
A9: 7 | B9: Monaco | C9: 18 | D9: 12 | E9: 5 | F9: 3 | G9: 4 | H9: 14 | I9: 13 | J9: 1 | L9: 1.50 | M9: 0.5 | N9: 0.33 | O9: 0.08 | R9: Metz | S9: =SUM(U9:BF9) -> 25 | T9: 0 | U9: 0 | V9: 2 | W9: 2 | X9: 3 | Y9: 1 | Z9: 4 | AA9: 1 | AB9: 3 | AC9: 3 | AD9: 0 | AE9: 1 | AF9: 5 | AG9: 0 | AH9: 0 | AI9: 0 | AJ9: 0 | AK9: 0 | AL9: 0 | AM9: 0 | AN9: 0 | AO9: 0 | AP9: 0 | AQ9: 0 | AR9: 0 | AS9: 0 | AT9: 0 | AU9: 0 | AV9: 0 | AW9: 0 | AX9: 0 | AY9: 0 | AZ9: 0 | BA9: 0 | BB9: 0 | BC9: 0 | BD9: 0 | BE9: 0 | BF9: 0
A10: 4 | B10: Bordeaux | C10: 21 | D10: 12 | E10: 6 | F10: 3 | G10: 3 | H10: 18 | I10: 14 | J10: 4 | L10: 1.75 | M10: 0.58 | N10: 0.08 | O10: 0.17 | R10: Montpellier | S10: =SUM(U10:BF10) -> 22 | T10: 0 | U10: 1 | V10: 2 | W10: 2 | X10: 1 | Y10: 1 | Z10: 0 | AA10: 1 | AB10: 3 | AC10: 2 | AD10: 6 | AE10: 1 | AF10: 2 | AG10: 0 | AH10: 0 | AI10: 0 | AJ10: 0 | AK10: 0 | AL10: 0 | AM10: 0 | AN10: 0 | AO10: 0 | AP10: 0 | AQ10: 0 | AR10: 0 | AS10: 0 | AT10: 0 | AU10: 0 | AV10: 0 | AW10: 0 | AX10: 0 | AY10: 0 | AZ10: 0 | BA10: 0 | BB10: 0 | BC10: 0 | BD10: 0 | BE10: 0 | BF10: 0
A11: 11 | B11: Rennes | C11: 16 | D11: 12 | E11: 4 | F11: 4 | G11: 4 | H11: 14 | I11: 14 | J11: 0 | L11: 1.33 | M11: 0.44 | N11: 0.42 | O11: 0.42 | R11: Nice | S11: =SUM(U11:BF11) -> 35 | T11: 0 | U11: 5 | V11: 0 | W11: 4 | X11: 4 | Y11: 1 | Z11: 3 | AA11: 1 | AB11: 1 | AC11: 2 | AD11: 1 | AE11: 9 | AF11: 4 | AG11: 0 | AH11: 0 | AI11: 0 | AJ11: 0 | AK11: 0 | AL11: 0 | AM11: 0 | AN11: 0 | AO11: 0 | AP11: 0 | AQ11: 0 | AR11: 0 | AS11: 0 | AT11: 0 | AU11: 0 | AV11: 0 | AW11: 0 | AX11: 0 | AY11: 0 | AZ11: 0 | BA11: 0 | BB11: 0 | BC11: 0 | BD11: 0 | BE11: 0 | BF11: 0
A12: 15 | B12: Caen | C12: 12 | D12: 12 | E12: 3 | F12: 3 | G12: 6 | H12: 14 | I12: 15 | J12: -1 | L12: 1.00 | M12: 0.33 | N12: 0.25 | O12: 0.42 | R12: Rennes | S12: =SUM(U12:BF12) -> 28 | T12: 0 | U12: 2 | V12: 8 | W12: 0 | X12: 1 | Y12: 2 | Z12: 3 | AA12: 3 | AB12: 3 | AC12: 2 | AD12: 0 | AE12: 2 | AF12: 2 | AG12: 0 | AH12: 0 | AI12: 0 | AJ12: 0 | AK12: 0 | AL12: 0 | AM12: 0 | AN12: 0 | AO12: 0 | AP12: 0 | AQ12: 0 | AR12: 0 | AS12: 0 | AT12: 0 | AU12: 0 | AV12: 0 | AW12: 0 | AX12: 0 | AY12: 0 | AZ12: 0 | BA12: 0 | BB12: 0 | BC12: 0 | BD12: 0 | BE12: 0 | BF12: 0
A13: 17 | B13: Lens | C13: 11 | D13: 12 | E13: 3 | F13: 2 | G13: 7 | H13: 11 | I13: 15 | J13: -4 | L13: 0.92 | M13: 0.31 | N13: 0.25 | O13: 0.42 | R13: Lille | S13: =SUM(U13:BF13) -> 19 | T13: 0 | U13: 0 | V13: 1 | W13: 2 | X13: 2 | Y13: 2 | Z13: 0 | AA13: 1 | AB13: 1 | AC13: 3 | AD13: 3 | AE13: 2 | AF13: 2 | AG13: 0 | AH13: 0 | AI13: 0 | AJ13: 0 | AK13: 0 | AL13: 0 | AM13: 0 | AN13: 0 | AO13: 0 | AP13: 0 | AQ13: 0 | AR13: 0 | AS13: 0 | AT13: 0 | AU13: 0 | AV13: 0 | AW13: 0 | AX13: 0 | AY13: 0 | AZ13: 0 | BA13: 0 | BB13: 0 | BC13: 0 | BD13: 0 | BE13: 0 | BF13: 0
A14: 18 | B14: Lorient | C14: 10 | D14: 12 | E14: 3 | F14: 1 | G14: 8 | H14: 10 | I14: 16 | J14: -6 | L14: 0.83 | M14: 0.28 | N14: 0.25 | O14: 0.58 | R14: Reims | S14: =SUM(U14:BF14) -> 33 | T14: 0 | U14: 4 | V14: 4 | W14: 2 | X14: 6 | Y14: 2 | Z14: 1 | AA14: 5 | AB14: 3 | AC14: 1 | AD14: 2 | AE14: 1 | AF14: 2 | AG14: 0 | AH14: 0 | AI14: 0 | AJ14: 0 | AK14: 0 | AL14: 0 | AM14: 0 | AN14: 0 | AO14: 0 | AP14: 0 | AQ14: 0 | AR14: 0 | AS14: 0 | AT14: 0 | AU14: 0 | AV14: 0 | AW14: 0 | AX14: 0 | AY14: 0 | AZ14: 0 | BA14: 0 | BB14: 0 | BC14: 0 | BD14: 0 | BE14: 0 | BF14: 0
... A20: 20 | B20: Evian TG | C20: 10 | D20: 12 | E20: 3 | F20: 1 | G20: 8 | H20: 11 | I20: 22 | J20: -11 | L20: 0.83 | M20: 0.28 | N20: 0.25 | O20: 0.5 | R20: Bastia | S20: =SUM(U20:BF20) -> 26 | T20: 0 | U20: 6 | V20: 2 | W20: 1 | X20: 2 | Y20: 2 | Z20: 4 | AA20: 0 | AB20: 1 | AC20: 2 | AD20: 1 | AE20: 4 | AF20: 1 | AG20: 0 | AH20: 0 | AI20: 0 | AJ20: 0 | AK20: 0 | AL20: 0 | AM20: 0 | AN20: 0 | AO20: 0 | AP20: 0 | AQ20: 0 | AR20: 0 | AS20: 0 | AT20: 0 | AU20: 0 | AV20: 0 | AW20: 0 | AX20: 0 | AY20: 0 | AZ20: 0 | BA20: 0 | BB20: 0 | BC20: 0 | BD20: 0 | BE20: 0 | BF20: 0
C21: Pts | D21: J | E21: G | F21: N | G21: P | H21: BP | I21: BC | J21: Dif | K21: 8 der. | L21: PPM | M21: %PP | N21: SBE | O21: SBM | R21: Evian TG | S21: =SUM(U21:BF21) -> 33 | T21: 0 | U21: 3 | V21: 8 | W21: 0 | X21: 1 | Y21: 4 | Z21: 3 | AA21: 3 | AB21: 2 | AC21: 3 | AD21: 2 | AE21: 2 | AF21: 2 | AG21: 0 | AH21: 0 | AI21: 0 | AJ21: 0 | AK21: 0 | AL21: 0 | AM21: 0 | AN21: 0 | AO21: 0 | AP21: 0 | AQ21: 0 | AR21: 0 | AS21: 0 | AT21: 0 | AU21: 0 | AV21: 0 | AW21: 0 | AX21: 0 | AY21: 0 | AZ21: 0 | BA21: 0 | BB21: 0 | BC21: 0 | BD21: 0 | BE21: 0 | BF21: 0
C23: Pts | D23: J | E23: G | F23: N | G23: P | H23: BP | I23: BC | J23: Diff.
A24: 1 | B24: Lyon | C24: 18 | D24: 7 | E24: 6 | F24: 0 | G24: 1 | H24: 17 | I24: 3 | J24: 14 | Q24: 3 meilleurs défense
A25: 2 | B25: Marseille | C25: 15 | D25: 6 | E25: 5 | F25: 0 | G25: 1 | H25: 13 | I25: 4 | J25: 9
A26: 3 | B26: Metz | C26: 14 | D26: 6 | E26: 4 | F26: 2 | G26: 0 | H26: 12 | I26: 5 | J26: 7 | Q26: 1 | R26: =B1 -> Paris SG | S26: =I1 -> 8 | T26: =IF(COUNTIF($B$1,"*Paris SG*"),"1","0") -> 1 | U26: =IF(COUNTIF($B1,"*Nantes*"),"1","0") -> 0 | V26: =IF(COUNTIF($B1,"*Marseille*"),"1","0") -> 0 | W26: =IF(COUNTIF($B1,"*Lyon*"),"1","0") -> 0 | X26: =IF(COUNTIF($B1,"*Lilles*"),"1","0") -> 0 | Y26: =IF(COUNTIF($B1,"*Saint-Etienne*"),"1","0") -> 0
A27: 4 | B27: Bordeaux | C27: 14 | D27: 6 | E27: 4 | F27: 2 | G27: 0 | H27: 12 | I27: 6 | J27: 6 | Q27: 2 | R27: =B2 -> Nantes | S27: =I2 -> 8 | T27: =IF(COUNTIF($B$2,"*Paris SG*"),"1","0") -> 0 | U27: =IF(COUNTIF($B2,"*Nantes*"),"1","0") -> 1 | V27: =IF(COUNTIF($B2,"*Marseille*"),"1","0") -> 0 | W27: =IF(COUNTIF($B2,"*Lyon*"),"1","0") -> 0 | X27: =IF(COUNTIF($B2,"*Lilles*"),"1","0") -> 0 | Y27: =IF(COUNTIF($B2,"*Saint-Etienne*"),"1","0") -> 0
A28: 5 | B28: Lille | C28: 12 | D28: 7 | E28: 3 | F28: 3 | G28: 1 | H28: 7 | I28: 3 | J28: 4 | Q28: 3 | R28: =B3 -> Marseille | S28: =I3 -> 10 | T28: =IF(COUNTIF($B$3,"*Paris SG*"),"1","0") -> 0 | U28: =IF(COUNTIF($B3,"*Nantes*"),"1","0") -> 0 | V28: =IF(COUNTIF($B3,"*Marseille*"),"1","0") -> 1 | W28: =IF(COUNTIF($B3,"*Lyon*"),"1","0") -> 0 | X28: =IF(COUNTIF($B3,"*Lilles*"),"1","0") -> 0 | Y28: =IF(COUNTIF($B3,"*Saint-Etienne*"),"1","0") -> 0
A29: 6 | B29: Montpellier | C29: 12 | D29: 6 | E29: 4 | F29: 0 | G29: 2 | H29: 7 | I29: 3 | J29: 4
A30: 7 | B30: Nantes | C30: 12 | D30: 7 | E30: 3 | F30: 3 | G30: 1 | H30: 7 | I30: 5 | J30: 2 | R30: =IF(COUNTIF(A18,"*Paris SG*"),"1","0") -> 0
A31: 8 | B31: Paris SG | C31: 11 | D31: 5 | E31: 3 | F31: 2 | G31: 0 | H31: 12 | I31: 2 | J31: 10
A32: 9 | B32: Saint-Etienne | C32: 11 | D32: 6 | E32: 3 | F32: 2 | G32: 1 | H32: 6 | I32: 3 | J32: 3
A33: 10 | B33: Rennes | C33: 10 | D33: 5 | E33: 3 | F33: 1 | G33: 1 | H33: 11 | I33: 6 | J33: 5
A34: 11 | B34: Nice | C34: 10 | D34: 7 | E34: 3 | F34: 1 | G34: 3 | H34: 8 | I34: 10 | J34: -2
A35: 12 | B35: Reims | C35: 10 | D35: 6 | E35: 3 | F35: 1 | G35: 2 | H35: 6 | I35: 9 | J35: -3
A36: 13 | B36: Monaco | C36: 8 | D36: 6 | E36: 2 | F36: 2 | G36: 2 | H36: 6 | I36: 5 | J36: 1
A37: 14 | B37: Toulouse | C37: 8 | D37: 5 | E37: 2 | F37: 2 | G37: 1 | H37: 7 | I37: 7 | J37: 0
A38: 15 | B38: Evian TG | C38: 7 | D38: 6 | E38: 2 | F38: 1 | G38: 3 | H38: 6 | I38: 9 | J38: -3
A39: 16 | B39: Bastia | C39: 6 | D39: 6 | E39: 1 | F39: 3 | G39: 2 | H39: 6 | I39: 9 | J39: -3
A40: 17 | B40: Guingamp | C40: 6 | D40: 7 | E40: 2 | F40: 0 | G40: 5 | H40: 5 | I40: 13 | J40: -8
A41: 18 | B41: Lorient | C41: 4 | D41: 6 | E41: 1 | F41: 1 | G41: 4 | H41: 5 | I41: 6 | J41: -1
A42: 19 | B42: Lens | C42: 4 | D42: 5 | E42: 1 | F42: 1 | G42: 3 | H42: 5 | I42: 7 | J42: -2
A43: 20 | B43: Caen | C43: 3 | D43: 5 | E43: 1 | F43: 0 | G43: 4 | H43: 3 | I43: 7 | J43: -4
C45: Pts | D45: J | E45: G | F45: N | G45: P | H45: BP | I45: BC | J45: Diff.
A46: 1 | B46: Marseille | C46: 13 | D46: 6 | E46: 4 | F46: 1 | G46: 1 | H46: 14 | I46: 6 | J46: 8
A47: 2 | B47: Paris SG | C47: 13 | D47: 7 | E47: 3 | F47: 4 | G47: 0 | H47: 11 | I47: 6 | J47: 5
...

Sheet Feuil5
D1: Bordeaux | I1: Toulouse
H3: =SUM(D4+I4) -> 0
B4: l'équipe qui joue à domicile:
B7: classement globale: | D7: 1
B10: classement de l'équipe à domicile et de celle à l'extérieur | D10: 1
B13: forme de l'équipe domicile et celle à l'extérieur ( 5 derniers matchs) : | D13: 1
B16: selon son placement dans le classement, 1 pt dans le top3 et 1 point au 5 derniere place | D16: 1
B19: confrontation allé: +0,5 si l'équipe qui était à domicile l'a emporté, +0.5 si match nul pour l'équipe qui était à l'extérieur ou +1 point si l'équipe qui était à l'extérieur l'avais emporté
D20: 1
B24: top 3 attaque champ : +1 point à l'équipe qui y figure | D24: 1
B27: top 3 défense champ: +1 point à l'équipe qui y figure. | D27: 1
B30: l'équipe à un buteur performant dans ce championnat (top5): +1 point si oui. | I30: 1
D32: 1 | I32: 0
A34: =IF($D$34=1,1,0) -> 1 | B34: 1/10 = 10% de la Bankroll | D34: =ABS(D32-I32) -> 1 | H34: / | I34: 10
A35: =IF($D$34=2,1,0) -> 0 | B35: 2/10 = 20% de la Bankroll
A36: =IF($D$34=3,1,0) -> 0 | B36: 3/10 = 30% de la Bankroll
A37: =IF($D$34=4,1,0) -> 0 | B37: 4/10 = 40% de la Bankroll
A38: =IF($D$34=5,1,0) -> 0 | B38: 5/10 = 50% de la Bankroll
A39: =IF($D$34=6,1,0) -> 0 | B39: 6/10 = 60% de la Bankroll
A40: =IF($D$34=7,1,0) -> 0 | B40: 7/10 = 70% de la Bankroll
A41: =IF($D$34=8,1,0) -> 0 | B41: 8/10 = 80% de la Bankroll
A42: =IF($D$34=9,1,0) -> 0 | B42: 9/10 = 90% de la Bankroll
A43: =IF($D$34=10,1,0) -> 0 | B43: 10/10 = 100% de la Bankroll

Sheet Ligue 2
