Workbook
Name latest.asp?league_austria: 'Matchs Autriche'!$A$1:$K$22
Name latest.asp?league_belgium: 'Matchs Belgique'!$A$1:$K$29
Name latest.asp?league_brazil: 'Matchs Bresil'!$A$1:$K$35
Name latest.asp?league_england: 'Matchs Premier League'!$A$1:$K$35
Name latest.asp?league_france: 'Matchs ligue 1'!$A$1:$K$35
Name latest.asp?league_germany: 'Matchs Bundesliga'!$A$1:$K$32
Name latest.asp?league_italy: 'Matchs Serie A'!$A$1:$K$33
Name latest.asp?league_italy2: Feuil6!#REF!
Name latest.asp?league_scotland: Ecosse!$A$1:$K$21
Name latest.asp?league_spain: 'Matchs La liga'!$A$1:$K$35
Name latest.asp?league_sweden: Suède!$A$1:$K$23
Name latest.asp?league_switzerland: 'Matchs Suisse'!$A$1:$K$19
Name latest.asp?league_turkey: Turquie!$A$1:$K$29
Name matches.asp?matchday_6: 'Matchs Argentine'!$A$1:$K$39
Name table.asp?league_argentina_tid_c: Argentine!$A$1:$P$177
Name table.asp?league_argentina_tid_c: Autriche!$A$1:$P$105
Name table.asp?league_australia_tid_c: Australie!$A$1:$P$93
Name table.asp?league_belgium_tid_c: Belgique!$A$1:$P$129
Name table.asp?league_brazil_tid_c: Bresil!$A$1:$K$32
Name table.asp?league_england_tid_c: 'Premier League'!$A$1:$P$153
Name table.asp?league_england2_tid_c: Championship!$A$1:$P$177
Name table.asp?league_england3_tid_c: 'League One'!$A$1:$P$171
Name table.asp?league_finland_tid_c: 'Finland - Veikkausliiga'!$A$1:$P$105
Name table.asp?league_france_tid_c: 'Ligue 1'!$A$1:$P$153
Name table.asp?league_france2_tid_c: 'Ligue 2'!$A$1:$P$153
Name table.asp?league_germany_tid_c: Bundesliga!$A$1:$P$141
Name table.asp?league_germany2_tid_c: 'Bundesliga 2'!$A$1:$P$141
Name table.asp?league_italy_tid_c: 'Italie - Serie A'!$A$1:$P$145
Name table.asp?league_italy2_tid_c_1: 'Italie - Serie B'!#REF!
Name table.asp?league_italy2_tid_c_2: 'Italie - Serie B'!$A$1:$P$153
Name table.asp?league_japan_tid_c: 'Japon - J1 League'!$A$1:$P$141
Name table.asp?league_netherlands_tid_c: 'Pays-bas Eredivisie'!$A$1:$P$141
Name table.asp?league_norway_tid_c: 'Norvege - Eliteserien'!$A$1:$P$129
Name table.asp?league_poland_tid_c: 'Pologne - Ekstraklasa'!$A$1:$P$129
Name table.asp?league_portugal_tid_c: 'Portugal - Primeira Liga'!$A$1:$P$141
Name table.asp?league_russia_tid_c: 'Russie - Premier League'!$A$1:$P$129
Name table.asp?league_scotland_tid_c: 'Ecosse - Premiership'!$A$1:$P$105
Name table.asp?league_spain_tid_c: 'La Liga'!$A$1:$P$147
Name table.asp?league_spain2_tid_c: 'Segunda Division'!$A$1:$P$165
Name table.asp?league_sweden_tid_c: 'Suède - Allsvenskan'!$A$1:$P$129
Name table.asp?league_switzerland_tid_c: Suisse!$A$1:$P$93
Name table.asp?league_turkey_tid_c: 'Turquie - Super Lig'!$A$1:$P$141
Name team_results.asp?league_argentina_pmtype_bydate: Feuil1!#REF!

Sheet Matchs Argentine
A1: Home / Away | D1: % Points per game | G1: W D L | H1: TG | I1: 2.5+ | J1: Last 4
A4: Sat | B4: 0.76041667 | C4: home | D4: Arsenal Sarandi | F4: 0.5 | H4: 1.5 | I4: 0 | K4: stats
A5: 14 | C5: away | D5: Union Santa Fe | F5: 0.11 | H5: 1.67 | I5: 0.33
A7: Sat | B7: 0.85416667 | C7: home | D7: Central Córdoba | F7: 0.67 | H7: 0.5 | I7: 0 | K7: stats
A8: 14 | C8: away | D8: Defensa y J. | F8: 0.5 | H8: 2 | I8: 0.5
A10: Sat | B10: 0.85416667 | C10: home | D10: Godoy Cruz | F10: 0.5 | H10: 2.5 | I10: 0.5 | K10: stats
A11: 14 | C11: away | D11: Argentinos Jrs | F11: 0.33 | H11: 0 | I11: 0
A13: Sat | B13: 0.94791667 | C13: home | D13: Colon | F13: 0.44 | H13: 2 | I13: 0.33 | K13: stats
A14: 14 | C14: away | D14: San Lorenzo | F14: 1 | H14: 1.5 | I14: 0
A17: Sun | B17: 0.041666667 | C17: home | D17: Huracan | F17: 0.67 | H17: 1 | I17: 0 | K17: stats
A18: 15 | C18: away | D18: River Plate | F18: 0.67 | H18: 4.5 | I18: 0.5
A20: Sun | B20: 0.66666667 | C20: home | D20: Gimnasia | F20: 0 | H20: 1 | I20: 0 | K20: stats
A21: 15 | C21: away | D21: Racing Club | F21: 0.33 | H21: 2 | I21: 0.5
A23: Sun | B23: 0.76041667 | C23: home | D23: Banfield | F23: 0.5 | H23: 1 | I23: 0 | K23: stats
A24: 15 | C24: away | D24: T. de Cordoba | F24: 0.5 | H24: 1 | I24: 0
A26: Sun | B26: 0.85416667 | C26: home | D26: Rosario | F26: 0.67 | H26: 1.5 | I26: 0 | K26: stats
A27: 15 | C27: away | D27: Newells | F27: 0 | H27: 4 | I27: 1
A29: Sun | B29: 0.94791667 | C29: home | D29: Independiente | F29: 1 | H29: 2 | I29: 0 | K29: stats
A30: 15 | C30: away | D30: Lanus | F30: 0.5 | H30: 3 | I30: 1
A33: Mon | B33: 0.041666667 | C33: home | D33: Boca Juniors | F33: 0.67 | H33: 1 | I33: 0 | K33: stats
A34: 16 | C34: away | D34: Estudiantes | F34: 0 | H34: 2 | I34: 0.5
A37: Tue | B37: 0 | C37: home | D37: Aldosivi | F37: 0.67 | H37: 1.5 | I37: 0.5 | K37: stats
A38: 17 | C38: away | D38: Patronato | F38: 0.67 | H38: 1.5 | I38: 0
A39: Calculations based on home results of the home team and away results of the visiting team recorded during the current season in the league.

Sheet Argentine
A1: Over / Under (total goals) | Q1: 0.85
A3: Matches of... | B3: GP | C3: Avg | D3: 0.5+ | E3: 1.5+ | F3: 2.5+ | G3: 3.5+ | H3: 4.5+ | I3: 5.5+ | J3: 6.5+ | K3: BTS | L3: CS | M3: FTS | N3: WTN | O3: LTN | R3: 0.5 | S3: 1.5 | T3: 2.5 | U3: 3.5 | AB3: Colonne1 | AC3: Colonne2 | AD3: Colonne3 | AE3: Colonne4 | AF3: Colonne5 | AG3: Colonne6
B4: Newells | C4: 4 | D4: 3.25 | E4: 1 | F4: 1 | G4: 0.5 | H4: 0.5 | I4: 0.25 | J4: 0 | K4: 0 | L4: 0.5 | M4: 0.5 | N4: 0 | O4: 0.5 | P4: 0 | Q4: =B4 -> Newells | R4: =IF(E4<$Q$1,"No Bet","Bet") -> Bet | S4: =IF(F4<$Q$1,"No Bet","Bet") -> Bet | T4: =IF(G4<$Q$1,"No Bet","Bet") -> No Bet | U4: =IF(H4<$Q$1,"No Bet","Bet") -> No Bet | V4: =IF(R4="bet",1,0) -> 1 | W4: =IF(S4="bet",1,0) -> 1 | X4: =IF(T4="bet",1,0) -> 0 | Y4: =IF(U4="bet",1,0) -> 0 | Z4: =SUM(V4:Y4) -> 2 | AG4: BET
A5: Godoy Cruz | B5: 5 | C5: 3 | D5: 1 | E5: 0.8 | F5: 0.6 | G5: 0.4 | H5: 0.2 | I5: 0 | J5: 0 | K5: 0.6 | L5: 0 | M5: 0.4 | N5: 0 | O5: 0.4 | Q5: =A5 -> Godoy Cruz | R5: =IF(D5<$Q$1,"No Bet","Bet") -> Bet | S5: =IF(E5<$Q$1,"No Bet","Bet") -> No Bet | T5: =IF(F5<$Q$1,"No Bet","Bet") -> No Bet | U5: =IF(G5<$Q$1,"No Bet","Bet") -> No Bet | V5: =IF(R5="bet",1,0) -> 1 | W5: =IF(S5="bet",1,0) -> 0 | X5: =IF(T5="bet",1,0) -> 0 | Y5: =IF(U5="bet",1,0) -> 0 | Z5: =SUM(V5:Y5) -> 1 | AB5: ='Matchs Argentine'!D4 -> Arsenal Sarandi | AC5: =VLOOKUP(TRIM(AB5)&" ",Q$4:Z$27,10,0) -> 1 | AD5: ='Matchs Argentine'!D5 -> Union Santa Fe | AE5: =VLOOKUP(TRIM(AD5)&" ",Q$4:Z$27,10,0) -> 0 | AF5: =AC5+AE5 -> 1 | AG5: =IF(AF5<2,"",IF(AF5=2,"0.5",IF(AF5=3,"1",IF(AF5=4,"1.5",IF(AF5=5,"2",IF(AF5=6,"2.5",IF(AF5=7,"3",IF(AF5=8,"3.5"))))))))
A6: Racing Club | B6: 5 | C6: 3 | D6: 0.6 | E6: 0.6 | F6: 0.6 | G6: 0.6 | H6: 0.2 | I6: 0.2 | J6: 0.2 | K6: 0.6 | L6: 0.4 | M6: 0.4 | N6: 0 | O6: 0 | Q6: =A6 -> Racing Club | R6: =IF(D6<$Q$1,"No Bet","Bet") -> No Bet | S6: =IF(E6<$Q$1,"No Bet","Bet") -> No Bet | T6: =IF(F6<$Q$1,"No Bet","Bet") -> No Bet | U6: =IF(G6<$Q$1,"No Bet","Bet") -> No Bet | V6: =IF(R6="bet",1,0) -> 0 | W6: =IF(S6="bet",1,0) -> 0 | X6: =IF(T6="bet",1,0) -> 0 | Y6: =IF(U6="bet",1,0) -> 0 | Z6: =SUM(V6:Y6) -> 0 | AB6: ='Matchs Argentine'!D7 -> Central Córdoba | AC6: =VLOOKUP(TRIM(AB6)&" ",Q$4:Z$27,10,0) -> 0 | AD6: ='Matchs Argentine'!D8 -> Defensa y J. | AE6: =VLOOKUP(TRIM(AD6)&" ",Q$4:Z$27,10,0) -> 0 | AF6: =AC6+AE6 -> 0 | AG6: =IF(AF6<2,"",IF(AF6=2,"0.5",IF(AF6=3,"1",IF(AF6=4,"1.5",IF(AF6=5,"2",IF(AF6=6,"2.5",IF(AF6=7,"3",IF(AF6=8,"3.5"))))))))
A7: San Lorenzo | B7: 5 | C7: 3 | D7: 1 | E7: 0.8 | F7: 0.6 | G7: 0.4 | H7: 0.2 | I7: 0 | J7: 0 | K7: 0.6 | L7: 0.4 | M7: 0 | N7: 0.4 | O7: 0 | Q7: =A7 -> San Lorenzo | R7: =IF(D7<$Q$1,"No Bet","Bet") -> Bet | S7: =IF(E7<$Q$1,"No Bet","Bet") -> No Bet | T7: =IF(F7<$Q$1,"No Bet","Bet") -> No Bet | U7: =IF(G7<$Q$1,"No Bet","Bet") -> No Bet | V7: =IF(R7="bet",1,0) -> 1 | W7: =IF(S7="bet",1,0) -> 0 | X7: =IF(T7="bet",1,0) -> 0 | Y7: =IF(U7="bet",1,0) -> 0 | Z7: =SUM(V7:Y7) -> 1 | AB7: ='Matchs Argentine'!D10 -> Godoy Cruz | AC7: =VLOOKUP(TRIM(AB7)&" ",Q$4:Z$27,10,0) -> 1 | AD7: ='Matchs Argentine'!D11 -> Argentinos Jrs | AE7: =VLOOKUP(TRIM(AD7)&" ",Q$4:Z$27,10,0) -> 0 | AF7: =AC7+AE7 -> 1 | AG7: =IF(AF7<2,"",IF(AF7=2,"0.5",IF(AF7=3,"1",IF(AF7=4,"1.5",IF(AF7=5,"2",IF(AF7=6,"2.5",IF(AF7=7,"3",IF(AF7=8,"3.5"))))))))
A8: Velez Sarsfield | B8: 5 | C8: 2.8 | D8: 1 | E8: 0.6 | F8: 0.6 | G8: 0.6 | H8: 0 | I8: 0 | J8: 0 | K8: 0.6 | L8: 0.2 | M8: 0.2 | N8: 0.2 | O8: 0.2 | Q8: =A8 -> Velez Sarsfield | R8: =IF(D8<$Q$1,"No Bet","Bet") -> Bet | S8: =IF(E8<$Q$1,"No Bet","Bet") -> No Bet | T8: =IF(F8<$Q$1,"No Bet","Bet") -> No Bet | U8: =IF(G8<$Q$1,"No Bet","Bet") -> No Bet | V8: =IF(R8="bet",1,0) -> 1 | W8: =IF(S8="bet",1,0) -> 0 | X8: =IF(T8="bet",1,0) -> 0 | Y8: =IF(U8="bet",1,0) -> 0 | Z8: =SUM(V8:Y8) -> 1 | AB8: ='Matchs Argentine'!D13 -> Colon | AC8: =VLOOKUP(TRIM(AB8)&" ",Q$4:Z$27,10,0) -> 1 | AD8: ='Matchs Argentine'!D14 -> San Lorenzo | AE8: =VLOOKUP(TRIM(AD8)&" ",Q$4:Z$27,10,0) -> 1 | AF8: =AC8+AE8 -> 2 | AG8: =IF(AF8<2,"",IF(AF8=2,"0.5",IF(AF8=3,"1",IF(AF8=4,"1.5",IF(AF8=5,"2",IF(AF8=6,"2.5",IF(AF8=7,"3",IF(AF8=8,"3.5")))))))) -> 0.5
A9: Lanus | B9: 5 | C9: 2.6 | D9: 1 | E9: 0.8 | F9: 0.6 | G9: 0.2 | H9: 0 | I9: 0 | J9: 0 | K9: 0.6 | L9: 0.2 | M9: 0.2 | N9: 0.2 | O9: 0.2 | Q9: =A9 -> Lanus | R9: =IF(D9<$Q$1,"No Bet","Bet") -> Bet | S9: =IF(E9<$Q$1,"No Bet","Bet") -> No Bet | T9: =IF(F9<$Q$1,"No Bet","Bet") -> No Bet | U9: =IF(G9<$Q$1,"No Bet","Bet") -> No Bet | V9: =IF(R9="bet",1,0) -> 1 | W9: =IF(S9="bet",1,0) -> 0 | X9: =IF(T9="bet",1,0) -> 0 | Y9: =IF(U9="bet",1,0) -> 0 | Z9: =SUM(V9:Y9) -> 1 | AB9: ='Matchs Argentine'!D16 -> 0 | AC9: =VLOOKUP(TRIM(AB9)&" ",Q$4:Z$27,10,0) -> #N/A | AD9: ='Matchs Argentine'!D17 -> Huracan | AE9: =VLOOKUP(TRIM(AD9)&" ",Q$4:Z$27,10,0) -> 0 | AF9: =AC9+AE9 -> #N/A | AG9: =IF(AF9<2,"",IF(AF9=2,"0.5",IF(AF9=3,"1",IF(AF9=4,"1.5",IF(AF9=5,"2",IF(AF9=6,"2.5",IF(AF9=7,"3",IF(AF9=8,"3.5")))))))) -> #N/A
A10: River Plate | B10: 5 | C10: 2.6 | D10: 0.8 | E10: 0.6 | F10: 0.4 | G10: 0.2 | H10: 0.2 | I10: 0.2 | J10: 0.2 | K10: 0.4 | L10: 0.4 | M10: 0.4 | N10: 0.2 | O10: 0.2 | Q10: =A10 -> River Plate | R10: =IF(D10<$Q$1,"No Bet","Bet") -> No Bet | S10: =IF(E10<$Q$1,"No Bet","Bet") -> No Bet | T10: =IF(F10<$Q$1,"No Bet","Bet") -> No Bet | U10: =IF(G10<$Q$1,"No Bet","Bet") -> No Bet | V10: =IF(R10="bet",1,0) -> 0 | W10: =IF(S10="bet",1,0) -> 0 | X10: =IF(T10="bet",1,0) -> 0 | Y10: =IF(U10="bet",1,0) -> 0 | Z10: =SUM(V10:Y10) -> 0 | AB10: ='Matchs Argentine'!D19 -> 0 | AC10: =VLOOKUP(TRIM(AB10)&" ",Q$4:Z$27,10,0) -> #N/A | AD10: ='Matchs Argentine'!D20 -> Gimnasia | AE10: =VLOOKUP(TRIM(AD10)&" ",Q$4:Z$27,10,0) -> 1 | AF10: =AC10+AE10 -> #N/A | AG10: =IF(AF10<2,"",IF(AF10=2,"0.5",IF(AF10=3,"1",IF(AF10=4,"1.5",IF(AF10=5,"2",IF(AF10=6,"2.5",IF(AF10=7,"3",IF(AF10=8,"3.5")))))))) -> #N/A
A11: Rosario | B11: 5 | C11: 2.4 | D11: 1 | E11: 0.8 | F11: 0.4 | G11: 0.2 | H11: 0 | I11: 0 | J11: 0 | K11: 0.8 | L11: 0.2 | M11: 0 | N11: 0.2 | O11: 0 | Q11: =A11 -> Rosario | R11: =IF(D11<$Q$1,"No Bet","Bet") -> Bet | S11: =IF(E11<$Q$1,"No Bet","Bet") -> No Bet | T11: =IF(F11<$Q$1,"No Bet","Bet") -> No Bet | U11: =IF(G11<$Q$1,"No Bet","Bet") -> No Bet | V11: =IF(R11="bet",1,0) -> 1 | W11: =IF(S11="bet",1,0) -> 0 | X11: =IF(T11="bet",1,0) -> 0 | Y11: =IF(U11="bet",1,0) -> 0 | Z11: =SUM(V11:Y11) -> 1 | AB11: ='Matchs Argentine'!D22 -> 0 | AC11: =VLOOKUP(TRIM(AB11)&" ",Q$4:Z$27,10,0) -> #N/A | AD11: ='Matchs Argentine'!D23 -> Banfield | AE11: =VLOOKUP(TRIM(AD11)&" ",Q$4:Z$27,10,0) -> 0 | AF11: =AC11+AE11 -> #N/A | AG11: =IF(AF11<2,"",IF(AF11=2,"0.5",IF(AF11=3,"1",IF(AF11=4,"1.5",IF(AF11=5,"2",IF(AF11=6,"2.5",IF(AF11=7,"3",IF(AF11=8,"3.5")))))))) -> #N/A
A12: Union Santa Fe | B12: 5 | C12: 2.2 | D12: 0.8 | E12: 0.8 | F12: 0.6 | G12: 0 | H12: 0 | I12: 0 | J12: 0 | K12: 0.6 | L12: 0.2 | M12: 0.4 | N12: 0 | O12: 0.2 | Q12: =A12 -> Union Santa Fe | R12: =IF(D12<$Q$1,"No Bet","Bet") -> No Bet | S12: =IF(E12<$Q$1,"No Bet","Bet") -> No Bet | T12: =IF(F12<$Q$1,"No Bet","Bet") -> No Bet | U12: =IF(G12<$Q$1,"No Bet","Bet") -> No Bet | V12: =IF(R12="bet",1,0) -> 0 | W12: =IF(S12="bet",1,0) -> 0 | X12: =IF(T12="bet",1,0) -> 0 | Y12: =IF(U12="bet",1,0) -> 0 | Z12: =SUM(V12:Y12) -> 0 | AB12: ='Matchs Argentine'!D25 -> 0 | AC12: =VLOOKUP(TRIM(AB12)&" ",Q$4:Z$27,10,0) -> #N/A | AD12: ='Matchs Argentine'!D26 -> Rosario | AE12: =VLOOKUP(TRIM(AD12)&" ",Q$4:Z$27,10,0) -> 1 | AF12: =AC12+AE12 -> #N/A | AG12: =IF(AF12<2,"",IF(AF12=2,"0.5",IF(AF12=3,"1",IF(AF12=4,"1.5",IF(AF12=5,"2",IF(AF12=6,"2.5",IF(AF12=7,"3",IF(AF12=8,"3.5")))))))) -> #N/A
A13: Colon | B13: 5 | C13: 2 | D13: 1 | E13: 0.8 | F13: 0.2 | G13: 0 | H13: 0 | I13: 0 | J13: 0 | K13: 0.4 | L13: 0 | M13: 0.6 | N13: 0 | O13: 0.6 | Q13: =A13 -> Colon | R13: =IF(D13<$Q$1,"No Bet","Bet") -> Bet | S13: =IF(E13<$Q$1,"No Bet","Bet") -> No Bet | T13: =IF(F13<$Q$1,"No Bet","Bet") -> No Bet | U13: =IF(G13<$Q$1,"No Bet","Bet") -> No Bet | V13: =IF(R13="bet",1,0) -> 1 | W13: =IF(S13="bet",1,0) -> 0 | X13: =IF(T13="bet",1,0) -> 0 | Y13: =IF(U13="bet",1,0) -> 0 | Z13: =SUM(V13:Y13) -> 1 | AB13: ='Matchs Argentine'!D28 -> 0 | AC13: =VLOOKUP(TRIM(AB13)&" ",Q$4:Z$27,10,0) -> #N/A | AD13: ='Matchs Argentine'!D29 -> Independiente | AE13: =VLOOKUP(TRIM(AD13)&" ",Q$4:Z$27,10,0) -> 1 | AF13: =AC13+AE13 -> #N/A | AG13: =IF(AF13<2,"",IF(AF13=2,"0.5",IF(AF13=3,"1",IF(AF13=4,"1.5",IF(AF13=5,"2",IF(AF13=6,"2.5",IF(AF13=7,"3",IF(AF13=8,"3.5")))))))) -> #N/A
A14: Huracan | B14: 5 | C14: 2 | D14: 0.6 | E14: 0.6 | F14: 0.4 | G14: 0.2 | H14: 0.2 | I14: 0 | J14: 0 | K14: 0.4 | L14: 0.6 | M14: 0.4 | N14: 0.2 | O14: 0 | Q14: =A14 -> Huracan | R14: =IF(D14<$Q$1,"No Bet","Bet") -> No Bet | S14: =IF(E14<$Q$1,"No Bet","Bet") -> No Bet | T14: =IF(F14<$Q$1,"No Bet","Bet") -> No Bet | U14: =IF(G14<$Q$1,"No Bet","Bet") -> No Bet | V14: =IF(R14="bet",1,0) -> 0 | W14: =IF(S14="bet",1,0) -> 0 | X14: =IF(T14="bet",1,0) -> 0 | Y14: =IF(U14="bet",1,0) -> 0 | Z14: =SUM(V14:Y14) -> 0 | AB14: ='Matchs Argentine'!D31 -> 0 | AC14: =VLOOKUP(TRIM(AB14)&" ",Q$4:Z$27,10,0) -> #N/A | AD14: ='Matchs Argentine'!D32 -> 0 | AE14: =VLOOKUP(TRIM(AD14)&" ",Q$4:Z$27,10,0) -> #N/A | AF14: =AC14+AE14 -> #N/A | AG14: =IF(AF14<2,"",IF(AF14=2,"0.5",IF(AF14=3,"1",IF(AF14=4,"1.5",IF(AF14=5,"2",IF(AF14=6,"2.5",IF(AF14=7,"3",IF(AF14=8,"3.5")))))))) -> #N/A
A15: Aldosivi | B15: 5 | C15: 1.8 | D15: 0.8 | E15: 0.6 | F15: 0.4 | G15: 0 | H15: 0 | I15: 0 | J15: 0 | K15: 0.2 | L15: 0.4 | M15: 0.6 | N15: 0.2 | O15: 0.4 | Q15: =A15 -> Aldosivi | R15: =IF(D15<$Q$1,"No Bet","Bet") -> No Bet | S15: =IF(E15<$Q$1,"No Bet","Bet") -> No Bet | T15: =IF(F15<$Q$1,"No Bet","Bet") -> No Bet | U15: =IF(G15<$Q$1,"No Bet","Bet") -> No Bet | V15: =IF(R15="bet",1,0) -> 0 | W15: =IF(S15="bet",1,0) -> 0 | X15: =IF(T15="bet",1,0) -> 0 | Y15: =IF(U15="bet",1,0) -> 0 | Z15: =SUM(V15:Y15) -> 0 | AB15: ='Matchs Argentine'!D34 -> Estudiantes | AC15: =VLOOKUP(TRIM(AB15)&" ",Q$4:Z$27,10,0) -> 1 | AD15: ='Matchs Argentine'!D35 -> 0 | AE15: =VLOOKUP(TRIM(AD15)&" ",Q$4:Z$27,10,0) -> #N/A | AF15: =AC15+AE15 -> #N/A | AG15: =IF(AF15<2,"",IF(AF15=2,"0.5",IF(AF15=3,"1",IF(AF15=4,"1.5",IF(AF15=5,"2",IF(AF15=6,"2.5",IF(AF15=7,"3",IF(AF15=8,"3.5")))))))) -> #N/A
A16: Arsenal Sarandi | B16: 5 | C16: 1.8 | D16: 1 | E16: 0.6 | F16: 0.2 | G16: 0 | H16: 0 | I16: 0 | J16: 0 | K16: 0 | L16: 0.6 | M16: 0.4 | N16: 0.6 | O16: 0.4 | Q16: =A16 -> Arsenal Sarandi | R16: =IF(D16<$Q$1,"No Bet","Bet") -> Bet | S16: =IF(E16<$Q$1,"No Bet","Bet") -> No Bet | T16: =IF(F16<$Q$1,"No Bet","Bet") -> No Bet | U16: =IF(G16<$Q$1,"No Bet","Bet") -> No Bet | V16: =IF(R16="bet",1,0) -> 1 | W16: =IF(S16="bet",1,0) -> 0 | X16: =IF(T16="bet",1,0) -> 0 | Y16: =IF(U16="bet",1,0) -> 0 | Z16: =SUM(V16:Y16) -> 1 | AB16: ='Matchs Argentine'!D37 -> Aldosivi | AC16: =VLOOKUP(TRIM(AB16)&" ",Q$4:Z$27,10,0) -> 0 | AD16: ='Matchs Argentine'!D38 -> Patronato | AE16: =VLOOKUP(TRIM(AD16)&" ",Q$4:Z$27,10,0) -> 1 | AF16: =AC16+AE16 -> 1 | AG16: =IF(AF16<2,"",IF(AF16=2,"0.5",IF(AF16=3,"1",IF(AF16=4,"1.5",IF(AF16=5,"2",IF(AF16=6,"2.5",IF(AF16=7,"3",IF(AF16=8,"3.5"))))))))
A17: Atl. Tucuman | B17: 5 | C17: 1.8 | D17: 1 | E17: 0.4 | F17: 0.4 | G17: 0 | H17: 0 | I17: 0 | J17: 0 | K17: 0.2 | L17: 0.4 | M17: 0.4 | N17: 0.4 | O17: 0.4 | Q17: =A17 -> Atl. Tucuman | R17: =IF(D17<$Q$1,"No Bet","Bet") -> Bet | S17: =IF(E17<$Q$1,"No Bet","Bet") -> No Bet | T17: =IF(F17<$Q$1,"No Bet","Bet") -> No Bet | U17: =IF(G17<$Q$1,"No Bet","Bet") -> No Bet | V17: =IF(R17="bet",1,0) -> 1 | W17: =IF(S17="bet",1,0) -> 0 | X17: =IF(T17="bet",1,0) -> 0 | Y17: =IF(U17="bet",1,0) -> 0 | Z17: =SUM(V17:Y17) -> 1
A18: Estudiantes | B18: 5 | C18: 1.8 | D18: 1 | E18: 0.4 | F18: 0.4 | G18: 0 | H18: 0 | I18: 0 | J18: 0 | K18: 0.2 | L18: 0.4 | M18: 0.4 | N18: 0.4 | O18: 0.4 | Q18: =A18 -> Estudiantes | R18: =IF(D18<$Q$1,"No Bet","Bet") -> Bet | S18: =IF(E18<$Q$1,"No Bet","Bet") -> No Bet | T18: =IF(F18<$Q$1,"No Bet","Bet") -> No Bet | U18: =IF(G18<$Q$1,"No Bet","Bet") -> No Bet | V18: =IF(R18="bet",1,0) -> 1 | W18: =IF(S18="bet",1,0) -> 0 | X18: =IF(T18="bet",1,0) -> 0 | Y18: =IF(U18="bet",1,0) -> 0 | Z18: =SUM(V18:Y18) -> 1
A19: Patronato | B19: 5 | C19: 1.8 | D19: 1 | E19: 0.6 | F19: 0.2 | G19: 0 | H19: 0 | I19: 0 | J19: 0 | K19: 0.4 | L19: 0.4 | M19: 0.2 | N19: 0.4 | O19: 0.2 | Q19: =A19 -> Patronato | R19: =IF(D19<$Q$1,"No Bet","Bet") -> Bet | S19: =IF(E19<$Q$1,"No Bet","Bet") -> No Bet | T19: =IF(F19<$Q$1,"No Bet","Bet") -> No Bet | U19: =IF(G19<$Q$1,"No Bet","Bet") -> No Bet | V19: =IF(R19="bet",1,0) -> 1 | W19: =IF(S19="bet",1,0) -> 0 | X19: =IF(T19="bet",1,0) -> 0 | Y19: =IF(U19="bet",1,0) -> 0 | Z19: =SUM(V19:Y19) -> 1
A20: Independiente | B20: 4 | C20: 1.75 | D20: 1 | E20: 0.5 | F20: 0.25 | G20: 0 | H20: 0 | I20: 0 | J20: 0 | K20: 0 | L20: 0.5 | M20: 0.5 | N20: 0.5 | O20: 0.5 | Q20: =A20 -> Independiente | R20: =IF(D20<$Q$1,"No Bet","Bet") -> Bet | S20: =IF(E20<$Q$1,"No Bet","Bet") -> No Bet | T20: =IF(F20<$Q$1,"No Bet","Bet") -> No Bet | U20: =IF(G20<$Q$1,"No Bet","Bet") -> No Bet | V20: =IF(R20="bet",1,0) -> 1 | W20: =IF(S20="bet",1,0) -> 0 | X20: =IF(T20="bet",1,0) -> 0 | Y20: =IF(U20="bet",1,0) -> 0 | Z20: =SUM(V20:Y20) -> 1
A21: Argentinos Jrs | B21: 5 | C21: 1.6 | D21: 0.6 | E21: 0.4 | F21: 0.2 | G21: 0.2 | H21: 0.2 | I21: 0 | J21: 0 | K21: 0.4 | L21: 0.6 | M21: 0.4 | N21: 0.2 | O21: 0 | Q21: =A21 -> Argentinos Jrs | R21: =IF(D21<$Q$1,"No Bet","Bet") -> No Bet | S21: =IF(E21<$Q$1,"No Bet","Bet") -> No Bet | T21: =IF(F21<$Q$1,"No Bet","Bet") -> No Bet | U21: =IF(G21<$Q$1,"No Bet","Bet") -> No Bet | V21: =IF(R21="bet",1,0) -> 0 | W21: =IF(S21="bet",1,0) -> 0 | X21: =IF(T21="bet",1,0) -> 0 | Y21: =IF(U21="bet",1,0) -> 0 | Z21: =SUM(V21:Y21) -> 0
A22: Banfield | B22: 5 | C22: 1.6 | D22: 0.8 | E22: 0.2 | F22: 0.2 | G22: 0.2 | H22: 0.2 | I22: 0 | J22: 0 | K22: 0.2 | L22: 0.4 | M22: 0.6 | N22: 0.2 | O22: 0.4 | Q22: =A22 -> Banfield | R22: =IF(D22<$Q$1,"No Bet","Bet") -> No Bet | S22: =IF(E22<$Q$1,"No Bet","Bet") -> No Bet | T22: =IF(F22<$Q$1,"No Bet","Bet") -> No Bet | U22: =IF(G22<$Q$1,"No Bet","Bet") -> No Bet | V22: =IF(R22="bet",1,0) -> 0 | W22: =IF(S22="bet",1,0) -> 0 | X22: =IF(T22="bet",1,0) -> 0 | Y22: =IF(U22="bet",1,0) -> 0 | Z22: =SUM(V22:Y22) -> 0
A23: Defensa y J. | B23: 5 | C23: 1.6 | D23: 0.8 | E23: 0.4 | F23: 0.4 | G23: 0 | H23: 0 | I23: 0 | J23: 0 | K23: 0.2 | L23: 0.4 | M23: 0.6 | N23: 0.2 | O23: 0.4 | Q23: =A23 -> Defensa y J. | R23: =IF(D23<$Q$1,"No Bet","Bet") -> No Bet | S23: =IF(E23<$Q$1,"No Bet","Bet") -> No Bet | T23: =IF(F23<$Q$1,"No Bet","Bet") -> No Bet | U23: =IF(G23<$Q$1,"No Bet","Bet") -> No Bet | V23: =IF(R23="bet",1,0) -> 0 | W23: =IF(S23="bet",1,0) -> 0 | X23: =IF(T23="bet",1,0) -> 0 | Y23: =IF(U23="bet",1,0) -> 0 | Z23: =SUM(V23:Y23) -> 0
A24: Gimnasia | B24: 5 | C24: 1.6 | D24: 1 | E24: 0.4 | F24: 0.2 | G24: 0 | H24: 0 | I24: 0 | J24: 0 | K24: 0.4 | L24: 0 | M24: 0.6 | N24: 0 | O24: 0.6 | Q24: =A24 -> Gimnasia | R24: =IF(D24<$Q$1,"No Bet","Bet") -> Bet | S24: =IF(E24<$Q$1,"No Bet","Bet") -> No Bet | T24: =IF(F24<$Q$1,"No Bet","Bet") -> No Bet | U24: =IF(G24<$Q$1,"No Bet","Bet") -> No Bet | V24: =IF(R24="bet",1,0) -> 1 | W24: =IF(S24="bet",1,0) -> 0 | X24: =IF(T24="bet",1,0) -> 0 | Y24: =IF(U24="bet",1,0) -> 0 | Z24: =SUM(V24:Y24) -> 1
A25: T. de Cordoba | B25: 5 | C25: 1.6 | D25: 1 | E25: 0.4 | F25: 0.2 | G25: 0 | H25: 0 | I25: 0 | J25: 0 | K25: 0.4 | L25: 0.4 | M25: 0.2 | N25: 0.4 | O25: 0.2 | Q25: =A25 -> T. de Cordoba | R25: =IF(D25<$Q$1,"No Bet","Bet") -> Bet | S25: =IF(E25<$Q$1,"No Bet","Bet") -> No Bet | T25: =IF(F25<$Q$1,"No Bet","Bet") -> No Bet | U25: =IF(G25<$Q$1,"No Bet","Bet") -> No Bet | V25: =IF(R25="bet",1,0) -> 1 | W25: =IF(S25="bet",1,0) -> 0 | X25: =IF(T25="bet",1,0) -> 0 | Y25: =IF(U25="bet",1,0) -> 0 | Z25: =SUM(V25:Y25) -> 1
A26: Central Córdoba | B26: 5 | C26: 1.2 | D26: 0.8 | E26: 0.4 | F26: 0 | G26: 0 | H26: 0 | I26: 0 | J26: 0 | K26: 0.2 | L26: 0.4 | M26: 0.6 | N26: 0.2 | O26: 0.4 | Q26: =A26 -> Central Córdoba | R26: =IF(D26<$Q$1,"No Bet","Bet") -> No Bet | S26: =IF(E26<$Q$1,"No Bet","Bet") -> No Bet | T26: =IF(F26<$Q$1,"No Bet","Bet") -> No Bet | U26: =IF(G26<$Q$1,"No Bet","Bet") -> No Bet | V26: =IF(R26="bet",1,0) -> 0 | W26: =IF(S26="bet",1,0) -> 0 | X26: =IF(T26="bet",1,0) -> 0 | Y26: =IF(U26="bet",1,0) -> 0 | Z26: =SUM(V26:Y26) -> 0
A27: Boca Juniors | B27: 5 | C27: 1 | D27: 0.6 | E27: 0.4 | F27: 0 | G27: 0 | H27: 0 | I27: 0 | J27: 0 | K27: 0 | L27: 1 | M27: 0.4 | N27: 0.6 | O27: 0 | Q27: =A27 -> Boca Juniors | R27: =IF(D27<$Q$1,"No Bet","Bet") -> No Bet | S27: =IF(E27<$Q$1,"No Bet","Bet") -> No Bet | T27: =IF(F27<$Q$1,"No Bet","Bet") -> No Bet | U27: =IF(G27<$Q$1,"No Bet","Bet") -> No Bet | V27: =IF(R27="bet",1,0) -> 0 | W27: =IF(S27="bet",1,0) -> 0 | X27: =IF(T27="bet",1,0) -> 0 | Y27: =IF(U27="bet",1,0) -> 0 | Z27: =SUM(V27:Y27) -> 0
A29: League average | D29: 0.881 | E29: 0.576 | F29: 0.356 | G29: 0.153 | H29: 0.068 | I29: 0.017 | J29: 0.017 | K29: 0.373 | L29: 0.373 | M29: 0.373 | N29: 0.254 | O29: 0.254
A30: Home matches of... | B30: GP | C30: Avg | D30: 0.5+ | E30: 1.5+ | F30: 2.5+ | G30: 3.5+ | H30: 4.5+ | I30: 5.5+ | J30: 6.5+ | K30: BTS | L30: CS | M30: FTS | N30: WTN | O30: LTN | R30: 0.5 | S30: 1.5 | T30: 2.5 | U30: 3.5
B31: San Lorenzo | C31: 3 | D31: 4 | E31: 1 | F31: 1 | G31: 1 | H31: 0.67 | I31: 0.33 | J31: 0 | K31: 0 | L31: 1 | M31: 0 | N31: 0 | O31: 0 | P31: 0 | R31: =IF(E31<$Q$1,"No Bet","Bet") -> Bet | S31: =IF(F31<$Q$1,"No Bet","Bet") -> Bet | T31: =IF(G31<$Q$1,"No Bet","Bet") -> Bet | U31: =IF(H31<$Q$1,"No Bet","Bet") -> No Bet
A32: Velez Sarsfield | B32: 2 | C32: 4 | D32: 1 | E32: 1 | F32: 1 | G32: 1 | H32: 0 | I32: 0 | J32: 0 | K32: 1 | L32: 0 | M32: 0 | N32: 0 | O32: 0 | R32: =IF(D32<$Q$1,"No Bet","Bet") -> Bet | S32: =IF(E32<$Q$1,"No Bet","Bet") -> Bet | T32: =IF(F32<$Q$1,"No Bet","Bet") -> Bet | U32: =IF(G32<$Q$1,"No Bet","Bet") -> Bet
A33: Racing Club | B33: 3 | C33: 3.67 | D33: 0.67 | E33: 0.67 | F33: 0.67 | G33: 0.67 | H33: 0.33 | I33: 0.33 | J33: 0.33 | K33: 0.67 | L33: 0.33 | M33: 0.33 | N33: 0 | O33: 0 | R33: =IF(D33<$Q$1,"No Bet","Bet") -> No Bet | S33: =IF(E33<$Q$1,"No Bet","Bet") -> No Bet | T33: =IF(F33<$Q$1,"No Bet","Bet") -> No Bet | U33: =IF(G33<$Q$1,"No Bet","Bet") -> No Bet
A34: Newells | B34: 3 | C34: 3 | D34: 1 | E34: 1 | F34: 0.33 | G34: 0.33 | H34: 0.33 | I34: 0 | J34: 0 | K34: 0.33 | L34: 0.67 | M34: 0 | N34: 0.67 | O34: 0 | R34: =IF(D34<$Q$1,"No Bet","Bet") -> Bet | S34: =IF(E34<$Q$1,"No Bet","Bet") -> Bet | T34: =IF(F34<$Q$1,"No Bet","Bet") -> No Bet | U34: =IF(G34<$Q$1,"No Bet","Bet") -> No Bet
A35: Union Santa Fe | B35: 2 | C35: 3 | D35: 1 | E35: 1 | F35: 1 | G35: 0 | H35: 0 | I35: 0 | J35: 0 | K35: 1 | L35: 0 | M35: 0 | N35: 0 | O35: 0 | R35: =IF(D35<$Q$1,"No Bet","Bet") -> Bet | S35: =IF(E35<$Q$1,"No Bet","Bet") -> Bet | T35: =IF(F35<$Q$1,"No Bet","Bet") -> Bet | U35: =IF(G35<$Q$1,"No Bet","Bet") -> No Bet
A36: Argentinos Jrs | B36: 3 | C36: 2.67 | D36: 1 | E36: 0.67 | F36: 0.33 | G36: 0.33 | H36: 0.33 | I36: 0 | J36: 0 | K36: 0.67 | L36: 0.33 | M36: 0 | N36: 0.33 | O36: 0 | R36: =IF(D36<$Q$1,"No Bet","Bet") -> Bet | S36: =IF(E36<$Q$1,"No Bet","Bet") -> No Bet | T36: =IF(F36<$Q$1,"No Bet","Bet") -> No Bet | U36: =IF(G36<$Q$1,"No Bet","Bet") -> No Bet
A37: Godoy Cruz | B37: 2 | C37: 2.5 | D37: 1 | E37: 1 | F37: 0.5 | G37: 0 | H37: 0 | I37: 0 | J37: 0 | K37: 0.5 | L37: 0 | M37: 0.5 | N37: 0 | O37: 0.5 | R37: =IF(D37<$Q$1,"No Bet","Bet") -> Bet | S37: =IF(E37<$Q$1,"No Bet","Bet") -> Bet | T37: =IF(F37<$Q$1,"No Bet","Bet") -> No Bet | U37: =IF(G37<$Q$1,"No Bet","Bet") -> No Bet
A38: Lanus | B38: 3 | C38: 2.33 | D38: 1 | E38: 0.67 | F38: 0.33 | G38: 0.33 | H38: 0 | I38: 0 | J38: 0 | K38: 0.67 | L38: 0.33 | M38: 0 | N38: 0.33 | O38: 0 | R38: =IF(D38<$Q$1,"No Bet","Bet") -> Bet | S38: =IF(E38<$Q$1,"No Bet","Bet") -> No Bet | T38: =IF(F38<$Q$1,"No Bet","Bet") -> No Bet | U38: =IF(G38<$Q$1,"No Bet","Bet") -> No Bet
A39: Colon | B39: 3 | C39: 2 | D39: 1 | E39: 0.67 | F39: 0.33 | G39: 0 | H39: 0 | I39: 0 | J39: 0 | K39: 0.67 | L39: 0 | M39: 0.33 | N39: 0 | O39: 0.33 | R39: =IF(D39<$Q$1,"No Bet","Bet") -> Bet | S39: =IF(E39<$Q$1,"No Bet","Bet") -> No Bet | T39: =IF(F39<$Q$1,"No Bet","Bet") -> No Bet | U39: =IF(G39<$Q$1,"No Bet","Bet") -> No Bet
A40: Independiente | B40: 1 | C40: 2 | D40: 1 | E40: 1 | F40: 0 | G40: 0 | H40: 0 | I40: 0 | J40: 0 | K40: 0 | L40: 1 | M40: 0 | N40: 1 | O40: 0 | R40: =IF(D40<$Q$1,"No Bet","Bet") -> Bet | S40: =IF(E40<$Q$1,"No Bet","Bet") -> Bet | T40: =IF(F40<$Q$1,"No Bet","Bet") -> No Bet | U40: =IF(G40<$Q$1,"No Bet","Bet") -> No Bet
A41: Patronato | B41: 3 | C41: 2 | D41: 1 | E41: 0.67 | F41: 0.33 | G41: 0 | H41: 0 | I41: 0 | J41: 0 | K41: 0.33 | L41: 0.33 | M41: 0.33 | N41: 0.33 | O41: 0.33 | R41: =IF(D41<$Q$1,"No Bet","Bet") -> Bet | S41: =IF(E41<$Q$1,"No Bet","Bet") -> No Bet | T41: =IF(F41<$Q$1,"No Bet","Bet") -> No Bet | U41: =IF(G41<$Q$1,"No Bet","Bet") -> No Bet
A42: T. de Cordoba | B42: 3 | C42: 2 | D42: 1 | E42: 0.67 | F42: 0.33 | G42: 0 | H42: 0 | I42: 0 | J42: 0 | K42: 0.67 | L42: 0.33 | M42: 0 | N42: 0.33 | O42: 0 | R42: =IF(D42<$Q$1,"No Bet","Bet") -> Bet | S42: =IF(E42<$Q$1,"No Bet","Bet") -> No Bet | T42: =IF(F42<$Q$1,"No Bet","Bet") -> No Bet | U42: =IF(G42<$Q$1,"No Bet","Bet") -> No Bet
A43: Atl. Tucuman | B43: 3 | C43: 1.67 | D43: 1 | E43: 0.33 | F43: 0.33 | G43: 0 | H43: 0 | I43: 0 | J43: 0 | K43: 0.33 | L43: 0.67 | M43: 0 | N43: 0.67 | O43: 0 | R43: =IF(D43<$Q$1,"No Bet","Bet") -> Bet | S43: =IF(E43<$Q$1,"No Bet","Bet") -> No Bet | T43: =IF(F43<$Q$1,"No Bet","Bet") -> No Bet | U43: =IF(G43<$Q$1,"No Bet","Bet") -> No Bet
... A54: Central Córdoba | B54: 2 | C54: 0.5 | D54: 0.5 | E54: 0 | F54: 0 | G54: 0 | H54: 0 | I54: 0 | J54: 0 | K54: 0 | L54: 1 | M54: 0.5 | N54: 0.5 | O54: 0 | R54: =IF(D54<$Q$1,"No Bet","Bet") -> No Bet | S54: =IF(E54<$Q$1,"No Bet","Bet") -> No Bet | T54: =IF(F54<$Q$1,"No Bet","Bet") -> No Bet | U54: =IF(G54<$Q$1,"No Bet","Bet") -> No Bet
A56: League average | D56: 0.881 | E56: 0.576 | F56: 0.356 | G56: 0.153 | H56: 0.068 | I56: 0.017 | J56: 0.017 | K56: 0.373 | L56: 0.441 | M56: 0.305 | N56: 0.322 | O56: 0.186
A57: Away matches of... | B57: GP | C57: Avg | D57: 0.5+ | E57: 1.5+ | F57: 2.5+ | G57: 3.5+ | H57: 4.5+ | I57: 5.5+ | J57: 6.5+ | K57: BTS | L57: CS | M57: FTS | N57: WTN | O57: LTN | R57: 0.5 | S57: 1.5 | T57: 2.5 | U57: 3.5
B58: River Plate | C58: 2 | D58: 4.5 | E58: 1 | F58: 1 | G58: 0.5 | H58: 0.5 | I58: 0.5 | J58: 0.5 | K58: 0.5 | L58: 1 | M58: 0 | N58: 0 | O58: 0 | P58: 0 | R58: =IF(E58<$Q$1,"No Bet","Bet") -> Bet | S58: =IF(F58<$Q$1,"No Bet","Bet") -> Bet | T58: =IF(G58<$Q$1,"No Bet","Bet") -> No Bet | U58: =IF(H58<$Q$1,"No Bet","Bet") -> No Bet
A59: Newells | B59: 1 | C59: 4 | D59: 1 | E59: 1 | F59: 1 | G59: 1 | H59: 0 | I59: 0 | J59: 0 | K59: 1 | L59: 0 | M59: 0 | N59: 0 | O59: 0 | R59: =IF(D59<$Q$1,"No Bet","Bet") -> Bet | S59: =IF(E59<$Q$1,"No Bet","Bet") -> Bet | T59: =IF(F59<$Q$1,"No Bet","Bet") -> Bet | U59: =IF(G59<$Q$1,"No Bet","Bet") -> Bet
A60: Godoy Cruz | B60: 3 | C60: 3.33 | D60: 1 | E60: 0.67 | F60: 0.67 | G60: 0.67 | H60: 0.33 | I60: 0 | J60: 0 | K60: 0.67 | L60: 0 | M60: 0.33 | N60: 0 | O60: 0.33 | R60: =IF(D60<$Q$1,"No Bet","Bet") -> Bet | S60: =IF(E60<$Q$1,"No Bet","Bet") -> No Bet | T60: =IF(F60<$Q$1,"No Bet","Bet") -> No Bet | U60: =IF(G60<$Q$1,"No Bet","Bet") -> No Bet
A61: Lanus | B61: 2 | C61: 3 | D61: 1 | E61: 1 | F61: 1 | G61: 0 | H61: 0 | I61: 0 | J61: 0 | K61: 0.5 | L61: 0 | M61: 0.5 | N61: 0 | O61: 0.5 | R61: =IF(D61<$Q$1,"No Bet","Bet") -> Bet | S61: =IF(E61<$Q$1,"No Bet","Bet") -> Bet | T61: =IF(F61<$Q$1,"No Bet","Bet") -> Bet | U61: =IF(G61<$Q$1,"No Bet","Bet") -> No Bet
A62: Rosario | B62: 3 | C62: 3 | D62: 1 | E62: 1 | F62: 0.67 | G62: 0.33 | H62: 0 | I62: 0 | J62: 0 | K62: 1 | L62: 0 | M62: 0 | N62: 0 | O62: 0 | R62: =IF(D62<$Q$1,"No Bet","Bet") -> Bet | S62: =IF(E62<$Q$1,"No Bet","Bet") -> Bet | T62: =IF(F62<$Q$1,"No Bet","Bet") -> No Bet | U62: =IF(G62<$Q$1,"No Bet","Bet") -> No Bet
A63: Huracan | B63: 3 | C63: 2.67 | D63: 0.67 | E63: 0.67 | F63: 0.67 | G63: 0.33 | H63: 0.33 | I63: 0 | J63: 0 | K63: 0.67 | L63: 0.33 | M63: 0.33 | N63: 0 | O63: 0 | R63: =IF(D63<$Q$1,"No Bet","Bet") -> No Bet | S63: =IF(E63<$Q$1,"No Bet","Bet") -> No Bet | T63: =IF(F63<$Q$1,"No Bet","Bet") -> No Bet | U63: =IF(G63<$Q$1,"No Bet","Bet") -> No Bet
A64: Aldosivi | B64: 3 | C64: 2 | D64: 1 | E64: 0.67 | F64: 0.33 | G64: 0 | H64: 0 | I64: 0 | J64: 0 | K64: 0.33 | L64: 0 | M64: 0.67 | N64: 0 | O64: 0.67 | R64: =IF(D64<$Q$1,"No Bet","Bet") -> Bet | S64: =IF(E64<$Q$1,"No Bet","Bet") -> No Bet | T64: =IF(F64<$Q$1,"No Bet","Bet") -> No Bet | U64: =IF(G64<$Q$1,"No Bet","Bet") -> No Bet
A65: Arsenal Sarandi | B65: 3 | C65: 2 | D65: 1 | E65: 0.67 | F65: 0.33 | G65: 0 | H65: 0 | I65: 0 | J65: 0 | K65: 0 | L65: 0.67 | M65: 0.33 | N65: 0.67 | O65: 0.33 | R65: =IF(D65<$Q$1,"No Bet","Bet") -> Bet | S65: =IF(E65<$Q$1,"No Bet","Bet") -> No Bet | T65: =IF(F65<$Q$1,"No Bet","Bet") -> No Bet | U65: =IF(G65<$Q$1,"No Bet","Bet") -> No Bet
A66: Atl. Tucuman | B66: 2 | C66: 2 | D66: 1 | E66: 0.5 | F66: 0.5 | G66: 0 | H66: 0 | I66: 0 | J66: 0 | K66: 0 | L66: 0 | M66: 1 | N66: 0 | O66: 1 | R66: =IF(D66<$Q$1,"No Bet","Bet") -> Bet | S66: =IF(E66<$Q$1,"No Bet","Bet") -> No Bet | T66: =IF(F66<$Q$1,"No Bet","Bet") -> No Bet | U66: =IF(G66<$Q$1,"No Bet","Bet") -> No Bet
A67: Banfield | B67: 3 | C67: 2 | D67: 0.67 | E67: 0.33 | F67: 0.33 | G67: 0.33 | H67: 0.33 | I67: 0 | J67: 0 | K67: 0.33 | L67: 0.33 | M67: 0.67 | N67: 0 | O67: 0.33 | R67: =IF(D67<$Q$1,"No Bet","Bet") -> No Bet | S67: =IF(E67<$Q$1,"No Bet","Bet") -> No Bet | T67: =IF(F67<$Q$1,"No Bet","Bet") -> No Bet | U67: =IF(G67<$Q$1,"No Bet","Bet") -> No Bet
A68: Colon | B68: 2 | C68: 2 | D68: 1 | E68: 1 | F68: 0 | G68: 0 | H68: 0 | I68: 0 | J68: 0 | K68: 0 | L68: 0 | M68: 1 | N68: 0 | O68: 1 | R68: =IF(D68<$Q$1,"No Bet","Bet") -> Bet | S68: =IF(E68<$Q$1,"No Bet","Bet") -> Bet | T68: =IF(F68<$Q$1,"No Bet","Bet") -> No Bet | U68: =IF(G68<$Q$1,"No Bet","Bet") -> No Bet
A69: Defensa y J. | B69: 2 | C69: 2 | D69: 1 | E69: 0.5 | F69: 0.5 | G69: 0 | H69: 0 | I69: 0 | J69: 0 | K69: 0.5 | L69: 0.5 | M69: 0 | N69: 0.5 | O69: 0 | R69: =IF(D69<$Q$1,"No Bet","Bet") -> Bet | S69: =IF(E69<$Q$1,"No Bet","Bet") -> No Bet | T69: =IF(F69<$Q$1,"No Bet","Bet") -> No Bet | U69: =IF(G69<$Q$1,"No Bet","Bet") -> No Bet
A70: Estudiantes | B70: 2 | C70: 2 | D70: 1 | E70: 0.5 | F70: 0.5 | G70: 0 | H70: 0 | I70: 0 | J70: 0 | K70: 0.5 | L70: 0 | M70: 0.5 | N70: 0 | O70: 0.5 | R70: =IF(D70<$Q$1,"No Bet","Bet") -> Bet | S70: =IF(E70<$Q$1,"No Bet","Bet") -> No Bet | T70: =IF(F70<$Q$1,"No Bet","Bet") -> No Bet | U70: =IF(G70<$Q$1,"No Bet","Bet") -> No Bet
... A81: Argentinos Jrs | B81: 2 | C81: 0 | D81: 0 | E81: 0 | F81: 0 | G81: 0 | H81: 0 | I81: 0 | J81: 0 | K81: 0 | L81: 1 | M81: 1 | N81: 0 | O81: 0 | R81: =IF(D81<$Q$1,"No Bet","Bet") -> No Bet | S81: =IF(E81<$Q$1,"No Bet","Bet") -> No Bet | T81: =IF(F81<$Q$1,"No Bet","Bet") -> No Bet | U81: =IF(G81<$Q$1,"No Bet","Bet") -> No Bet
A83: League average | D83: 0.881 | E83: 0.576 | F83: 0.356 | G83: 0.153 | H83: 0.068 | I83: 0.017 | J83: 0.017 | K83: 0.373 | L83: 0.305 | M83: 0.441 | N83: 0.186 | O83: 0.322
A86: Over / Under (total goals) at Halftime
A89: Match goals stats at half-time
A90: Matches of... | B90: GP | C90: Avg | D90: 0.5+ | E90: 1.5+ | F90: 2.5+ | G90: 3.5+ | H90: 4.5+ | I90: 5.5+ | J90: 6.5+ | K90: BTS | L90: CS | M90: FTS | N90: WTN | O90: LTN
B91: Racing Club | C91: 5 | D91: 2 | E91: 0.6 | F91: 0.6 | G91: 0.4 | H91: 0.4 | I91: 0 | J91: 0 | K91: 0 | L91: 0.4 | M91: 0.4 | N91: 0.6 | O91: 0 | P91: 0.2
A92: San Lorenzo | B92: 5 | C92: 2 | D92: 0.8 | E92: 0.6 | F92: 0.4 | G92: 0.2 | H92: 0 | I92: 0 | J92: 0 | K92: 0.4 | L92: 0.6 | M92: 0.2 | N92: 0.4 | O92: 0
A93: Rosario | B93: 5 | C93: 1.6 | D93: 0.8 | E93: 0.4 | F93: 0.2 | G93: 0.2 | H93: 0 | I93: 0 | J93: 0 | K93: 0.4 | L93: 0.6 | M93: 0.2 | N93: 0.4 | O93: 0
A94: Newells | B94: 4 | C94: 1.5 | D94: 0.75 | E94: 0.5 | F94: 0.25 | G94: 0 | H94: 0 | I94: 0 | J94: 0 | K94: 0.5 | L94: 0.5 | M94: 0.25 | N94: 0.25 | O94: 0
A95: Arsenal Sarandi | B95: 5 | C95: 1.4 | D95: 1 | E95: 0.4 | F95: 0 | G95: 0 | H95: 0 | I95: 0 | J95: 0 | K95: 0 | L95: 0.6 | M95: 0.4 | N95: 0.6 | O95: 0.4
A96: Godoy Cruz | B96: 5 | C96: 1.4 | D96: 0.8 | E96: 0.2 | F96: 0.2 | G96: 0.2 | H96: 0 | I96: 0 | J96: 0 | K96: 0.2 | L96: 0.2 | M96: 0.8 | N96: 0 | O96: 0.6
A97: River Plate | B97: 5 | C97: 1.4 | D97: 0.6 | E97: 0.4 | F97: 0.2 | G97: 0.2 | H97: 0 | I97: 0 | J97: 0 | K97: 0.2 | L97: 0.6 | M97: 0.6 | N97: 0.2 | O97: 0.2
A98: Banfield | B98: 5 | C98: 1.2 | D98: 0.8 | E98: 0.2 | F98: 0.2 | G98: 0 | H98: 0 | I98: 0 | J98: 0 | K98: 0.2 | L98: 0.4 | M98: 0.6 | N98: 0.2 | O98: 0.4
A99: Patronato | B99: 5 | C99: 1.2 | D99: 1 | E99: 0.2 | F99: 0 | G99: 0 | H99: 0 | I99: 0 | J99: 0 | K99: 0 | L99: 0.6 | M99: 0.4 | N99: 0.6 | O99: 0.4
A100: Aldosivi | B100: 5 | C100: 1 | D100: 0.6 | E100: 0.2 | F100: 0.2 | G100: 0 | H100: 0 | I100: 0 | J100: 0 | K100: 0.2 | L100: 0.4 | M100: 0.8 | N100: 0 | O100: 0.4
A101: Argentinos Jrs | B101: 5 | C101: 1 | D101: 0.6 | E101: 0.2 | F101: 0.2 | G101: 0 | H101: 0 | I101: 0 | J101: 0 | K101: 0.2 | L101: 0.8 | M101: 0.4 | N101: 0.4 | O101: 0
A102: Colon | B102: 5 | C102: 1 | D102: 0.8 | E102: 0.2 | F102: 0 | G102: 0 | H102: 0 | I102: 0 | J102: 0 | K102: 0.2 | L102: 0.4 | M102: 0.6 | N102: 0.2 | O102: 0.4
A103: Lanus | B103: 5 | C103: 1 | D103: 0.8 | E103: 0.2 | F103: 0 | G103: 0 | H103: 0 | I103: 0 | J103: 0 | K103: 0 | L103: 0.8 | M103: 0.4 | N103: 0.6 | O103: 0.2
... A114: Gimnasia | B114: 5 | C114: 0.6 | D114: 0.6 | E114: 0 | F114: 0 | G114: 0 | H114: 0 | I114: 0 | J114: 0 | K114: 0 | L114: 0.4 | M114: 1 | N114: 0 | O114: 0.6
A116: League average | D116: 0.695 | E116: 0.237 | F116: 0.119 | G116: 0.051 | H116: 0 | I116: 0 | J116: 0 | K116: 0.153 | L116: 0.576 | M116: 0.576 | N116: 0.271 | O116: 0.271
A118: Match goals stats at half-time (at home)
A119: Home matches of... | B119: GP | C119: Avg | D119: 0.5+ | E119: 1.5+ | F119: 2.5+ | G119: 3.5+ | H119: 4.5+ | I119: 5.5+ | J119: 6.5+ | K119: BTS | L119: CS | M119: FTS | N119: WTN | O119: LTN
B120: Racing Club | C120: 3 | D120: 2.67 | E120: 0.67 | F120: 0.67 | G120: 0.67 | H120: 0.67 | I120: 0 | J120: 0 | K120: 0 | L120: 0.67 | M120: 0.33 | N120: 0.33 | O120: 0 | P120: 0
A121: San Lorenzo | B121: 3 | C121: 2.67 | D121: 1 | E121: 0.67 | F121: 0.67 | G121: 0.33 | H121: 0 | I121: 0 | J121: 0 | K121: 0.67 | L121: 0.33 | M121: 0 | N121: 0.33 | O121: 0
A122: Velez Sarsfield | B122: 2 | C122: 2 | D122: 1 | E122: 1 | F122: 0 | G122: 0 | H122: 0 | I122: 0 | J122: 0 | K122: 0.5 | L122: 0.5 | M122: 0 | N122: 0.5 | O122: 0
A123: Argentinos Jrs | B123: 3 | C123: 1.67 | D123: 1 | E123: 0.33 | F123: 0.33 | G123: 0 | H123: 0 | I123: 0 | J123: 0 | K123: 0.33 | L123: 0.67 | M123: 0 | N123: 0.67 | O123: 0
A124: Arsenal Sarandi | B124: 2 | C124: 1.5 | D124: 1 | E124: 0.5 | F124: 0 | G124: 0 | H124: 0 | I124: 0 | J124: 0 | K124: 0 | L124: 0.5 | M124: 0.5 | N124: 0.5 | O124: 0.5
A125: Colon | B125: 3 | C125: 1.33 | D125: 1 | E125: 0.33 | F125: 0 | G125: 0 | H125: 0 | I125: 0 | J125: 0 | K125: 0.33 | L125: 0.33 | M125: 0.33 | N125: 0.33 | O125: 0.33
A126: Newells | B126: 3 | C126: 1.33 | D126: 0.67 | E126: 0.33 | F126: 0.33 | G126: 0 | H126: 0 | I126: 0 | J126: 0 | K126: 0.33 | L126: 0.67 | M126: 0.33 | N126: 0.33 | O126: 0
A127: Patronato | B127: 3 | C127: 1.33 | D127: 1 | E127: 0.33 | F127: 0 | G127: 0 | H127: 0 | I127: 0 | J127: 0 | K127: 0 | L127: 0.67 | M127: 0.33 | N127: 0.67 | O127: 0.33
A128: T. de Cordoba | B128: 3 | C128: 1.33 | D128: 0.67 | E128: 0.33 | F128: 0.33 | G128: 0 | H128: 0 | I128: 0 | J128: 0 | K128: 0.33 | L128: 0.67 | M128: 0.33 | N128: 0.33 | O128: 0
A129: Banfield | B129: 2 | C129: 1 | D129: 1 | E129: 0 | F129: 0 | G129: 0 | H129: 0 | I129: 0 | J129: 0 | K129: 0 | L129: 0.5 | M129: 0.5 | N129: 0.5 | O129: 0.5
A130: Defensa y J. | B130: 3 | C130: 1 | D130: 0.67 | E130: 0.33 | F130: 0 | G130: 0 | H130: 0 | I130: 0 | J130: 0 | K130: 0 | L130: 0.33 | M130: 1 | N130: 0 | O130: 0.67
A131: Godoy Cruz | B131: 2 | C131: 1 | D131: 1 | E131: 0 | F131: 0 | G131: 0 | H131: 0 | I131: 0 | J131: 0 | K131: 0 | L131: 0 | M131: 1 | N131: 0 | O131: 1
A132: Independiente | B132: 1 | C132: 1 | D132: 1 | E132: 0 | F132: 0 | G132: 0 | H132: 0 | I132: 0 | J132: 0 | K132: 0 | L132: 1 | M132: 0 | N132: 1 | O132: 0
... A143: Huracan | B143: 2 | C143: 0 | D143: 0 | E143: 0 | F143: 0 | G143: 0 | H143: 0 | I143: 0 | J143: 0 | K143: 0 | L143: 1 | M143: 1 | N143: 0 | O143: 0
A145: League average | D145: 0.695 | E145: 0.237 | F145: 0.119 | G145: 0.051 | H145: 0 | I145: 0 | J145: 0 | K145: 0.153 | L145: 0.661 | M145: 0.492 | N145: 0.356 | O145: 0.186
A147: Match goals stats at half-time (away)
A148: Away matches of... | B148: GP | C148: Avg | D148: 0.5+ | E148: 1.5+ | F148: 2.5+ | G148: 3.5+ | H148: 4.5+ | I148: 5.5+ | J148: 6.5+ | K148: BTS | L148: CS | M148: FTS | N148: WTN | O148: LTN
B149: River Plate | C149: 2 | D149: 2.5 | E149: 1 | F149: 0.5 | G149: 0.5 | H149: 0.5 | I149: 0 | J149: 0 | K149: 0 | L149: 0.5 | M149: 0 | N149: 0.5 | O149: 0 | P149: 0.5
A150: Rosario | B150: 3 | C150: 2.33 | D150: 1 | E150: 0.67 | F150: 0.33 | G150: 0.33 | H150: 0 | I150: 0 | J150: 0 | K150: 0.67 | L150: 0.33 | M150: 0 | N150: 0.33 | O150: 0
A151: Newells | B151: 1 | C151: 2 | D151: 1 | E151: 1 | F151: 0 | G151: 0 | H151: 0 | I151: 0 | J151: 0 | K151: 1 | L151: 0 | M151: 0 | N151: 0 | O151: 0
A152: Aldosivi | B152: 3 | C152: 1.67 | D152: 1 | E152: 0.33 | F152: 0.33 | G152: 0 | H152: 0 | I152: 0 | J152: 0 | K152: 0.33 | L152: 0 | M152: 0.67 | N152: 0 | O152: 0.67
...

Sheet Matchs Autriche
A1: Home / Away | D1: % Points per game | G1: W D L | H1: TG | I1: 2.5+ | J1: Last 4
A4: Sat | B4: 0.70833333 | C4: home | D4: Mattersburg | F4: 0.33 | H4: 3.33 | I4: 0.67 | K4: stats
A5: 14 | C5: away | D5: WSG Wattens | F5: 0.11 | H5: 3 | I5: 0.33
A7: Sat | B7: 0.70833333 | C7: home | D7: Salzburg | F7: 1 | H7: 5.67 | I7: 1 | K7: stats
A8: 14 | C8: away | D8: Hartberg | F8: 0.44 | H8: 4.33 | I8: 1
A10: Sat | B10: 0.70833333 | C10: home | D10: Sturm Graz | F10: 0.67 | H10: 2 | I10: 0.33 | K10: stats
A11: 14 | C11: away | D11: LASK Linz | F11: 1 | H11: 2.33 | I11: 0.67
A14: Sun | B14: 0.60416667 | C14: home | D14: Altach | F14: 0.44 | H14: 4.67 | I14: 1 | K14: stats
A15: 15 | C15: away | D15: St. Poelten | F15: 0.44 | H15: 2 | I15: 0.33
A17: Sun | B17: 0.60416667 | C17: home | D17: Rapid Wien | F17: 0.33 | H17: 2.67 | I17: 0.67 | K17: stats
A18: 15 | C18: away | D18: Admira Wacker | F18: 0.11 | H18: 4 | I18: 0.67
A20: Sun | B20: 0.70833333 | C20: home | D20: Wolfsberger AC | F20: 0.67 | H20: 4.33 | I20: 0.67 | K20: stats
A21: 15 | C21: away | D21: Austria Wien | F21: 0.44 | H21: 4.67 | I21: 1
A22: Calculations based on home results of the home team and away results of the visiting team recorded during the current season in the league.

Sheet Autriche
A1: Over / Under (total goals) | Q1: 0.85
A3: Matches of... | B3: GP | C3: Avg | D3: 0.5+ | E3: 1.5+ | F3: 2.5+ | G3: 3.5+ | H3: 4.5+ | I3: 5.5+ | J3: 6.5+ | K3: BTS | L3: CS | M3: FTS | N3: WTN | O3: LTN | R3: 0.5 | S3: 1.5 | T3: 2.5 | U3: 3.5 | AB3: Colonne1 | AC3: Colonne2 | AD3: Colonne3 | AE3: Colonne4 | AF3: Colonne5 | AG3: Colonne6
B4: Salzburg | C4: 6 | D4: 5.17 | E4: 1 | F4: 1 | G4: 0.83 | H4: 0.83 | I4: 0.83 | J4: 0.5 | K4: 0.17 | L4: 0.5 | M4: 0.5 | N4: 0 | O4: 0.5 | P4: 0 | Q4: =B4 -> Salzburg | R4: =IF(E4<$Q$1,"No Bet","Bet") -> Bet | S4: =IF(F4<$Q$1,"No Bet","Bet") -> Bet | T4: =IF(G4<$Q$1,"No Bet","Bet") -> No Bet | U4: =IF(H4<$Q$1,"No Bet","Bet") -> No Bet | V4: =IF(R4="bet",1,0) -> 1 | W4: =IF(S4="bet",1,0) -> 1 | X4: =IF(T4="bet",1,0) -> 0 | Y4: =IF(U4="bet",1,0) -> 0 | Z4: =SUM(V4:Y4) -> 2 | AG4: BET
A5: Altach | B5: 6 | C5: 4.33 | D5: 1 | E5: 1 | F5: 0.83 | G5: 0.5 | H5: 0.5 | I5: 0.33 | J5: 0.17 | K5: 0.83 | L5: 0 | M5: 0.17 | N5: 0 | O5: 0.17 | Q5: =A5 -> Altach | R5: =IF(D5<$Q$1,"No Bet","Bet") -> Bet | S5: =IF(E5<$Q$1,"No Bet","Bet") -> Bet | T5: =IF(F5<$Q$1,"No Bet","Bet") -> No Bet | U5: =IF(G5<$Q$1,"No Bet","Bet") -> No Bet | V5: =IF(R5="bet",1,0) -> 1 | W5: =IF(S5="bet",1,0) -> 1 | X5: =IF(T5="bet",1,0) -> 0 | Y5: =IF(U5="bet",1,0) -> 0 | Z5: =SUM(V5:Y5) -> 2 | AB5: ='Matchs Autriche'!D4 -> Mattersburg | AC5: =VLOOKUP(TRIM(AB5)&" ",Q$4:Z$27,10,0) -> 1 | AD5: ='Matchs Autriche'!D5 -> WSG Wattens | AE5: =VLOOKUP(TRIM(AD5)&" ",Q$4:Z$27,10,0) -> 2 | AF5: =AC5+AE5 -> 3 | AG5: =IF(AF5<2,"",IF(AF5=2,"0.5",IF(AF5=3,"1",IF(AF5=4,"1.5",IF(AF5=5,"2",IF(AF5=6,"2.5",IF(AF5=7,"3",IF(AF5=8,"3.5")))))))) -> 1
A6: Mattersburg | B6: 6 | C6: 4 | D6: 1 | E6: 0.83 | F6: 0.83 | G6: 0.67 | H6: 0.5 | I6: 0.17 | J6: 0 | K6: 0.67 | L6: 0 | M6: 0.33 | N6: 0 | O6: 0.33 | Q6: =A6 -> Mattersburg | R6: =IF(D6<$Q$1,"No Bet","Bet") -> Bet | S6: =IF(E6<$Q$1,"No Bet","Bet") -> No Bet | T6: =IF(F6<$Q$1,"No Bet","Bet") -> No Bet | U6: =IF(G6<$Q$1,"No Bet","Bet") -> No Bet | V6: =IF(R6="bet",1,0) -> 1 | W6: =IF(S6="bet",1,0) -> 0 | X6: =IF(T6="bet",1,0) -> 0 | Y6: =IF(U6="bet",1,0) -> 0 | Z6: =SUM(V6:Y6) -> 1 | AB6: ='Matchs Autriche'!D7 -> Salzburg | AC6: =VLOOKUP(TRIM(AB6)&" ",Q$4:Z$27,10,0) -> 2 | AD6: ='Matchs Autriche'!D8 -> Hartberg | AE6: =VLOOKUP(TRIM(AD6)&" ",Q$4:Z$27,10,0) -> 1 | AF6: =AC6+AE6 -> 3 | AG6: =IF(AF6<2,"",IF(AF6=2,"0.5",IF(AF6=3,"1",IF(AF6=4,"1.5",IF(AF6=5,"2",IF(AF6=6,"2.5",IF(AF6=7,"3",IF(AF6=8,"3.5")))))))) -> 1
A7: Wolfsberger AC | B7: 6 | C7: 4 | D7: 1 | E7: 0.67 | F7: 0.67 | G7: 0.5 | H7: 0.5 | I7: 0.33 | J7: 0.33 | K7: 0.33 | L7: 0.5 | M7: 0.17 | N7: 0.5 | O7: 0.17 | Q7: =A7 -> Wolfsberger AC | R7: =IF(D7<$Q$1,"No Bet","Bet") -> Bet | S7: =IF(E7<$Q$1,"No Bet","Bet") -> No Bet | T7: =IF(F7<$Q$1,"No Bet","Bet") -> No Bet | U7: =IF(G7<$Q$1,"No Bet","Bet") -> No Bet | V7: =IF(R7="bet",1,0) -> 1 | W7: =IF(S7="bet",1,0) -> 0 | X7: =IF(T7="bet",1,0) -> 0 | Y7: =IF(U7="bet",1,0) -> 0 | Z7: =SUM(V7:Y7) -> 1 | AB7: ='Matchs Autriche'!D10 -> Sturm Graz | AC7: =VLOOKUP(TRIM(AB7)&" ",Q$4:Z$27,10,0) -> 1 | AD7: ='Matchs Autriche'!D11 -> LASK Linz | AE7: =VLOOKUP(TRIM(AD7)&" ",Q$4:Z$27,10,0) -> 1 | AF7: =AC7+AE7 -> 2 | AG7: =IF(AF7<2,"",IF(AF7=2,"0.5",IF(AF7=3,"1",IF(AF7=4,"1.5",IF(AF7=5,"2",IF(AF7=6,"2.5",IF(AF7=7,"3",IF(AF7=8,"3.5")))))))) -> 0.5
A8: Austria Wien | B8: 6 | C8: 3.83 | D8: 1 | E8: 1 | F8: 0.83 | G8: 0.67 | H8: 0.17 | I8: 0.17 | J8: 0 | K8: 0.83 | L8: 0 | M8: 0.17 | N8: 0 | O8: 0.17 | Q8: =A8 -> Austria Wien | R8: =IF(D8<$Q$1,"No Bet","Bet") -> Bet | S8: =IF(E8<$Q$1,"No Bet","Bet") -> Bet | T8: =IF(F8<$Q$1,"No Bet","Bet") -> No Bet | U8: =IF(G8<$Q$1,"No Bet","Bet") -> No Bet | V8: =IF(R8="bet",1,0) -> 1 | W8: =IF(S8="bet",1,0) -> 1 | X8: =IF(T8="bet",1,0) -> 0 | Y8: =IF(U8="bet",1,0) -> 0 | Z8: =SUM(V8:Y8) -> 2 | AB8: ='Matchs Autriche'!D14 -> Altach | AC8: =VLOOKUP(TRIM(AB8)&" ",Q$4:Z$27,10,0) -> 2 | AD8: ='Matchs Autriche'!D15 -> St. Poelten | AE8: =VLOOKUP(TRIM(AD8)&" ",Q$4:Z$27,10,0) -> 1 | AF8: =AC8+AE8 -> 3 | AG8: =IF(AF8<2,"",IF(AF8=2,"0.5",IF(AF8=3,"1",IF(AF8=4,"1.5",IF(AF8=5,"2",IF(AF8=6,"2.5",IF(AF8=7,"3",IF(AF8=8,"3.5")))))))) -> 1
A9: Hartberg | B9: 6 | C9: 3.83 | D9: 1 | E9: 0.83 | F9: 0.83 | G9: 0.67 | H9: 0.33 | I9: 0.17 | J9: 0 | K9: 0.83 | L9: 0.17 | M9: 0 | N9: 0.17 | O9: 0 | Q9: =A9 -> Hartberg | R9: =IF(D9<$Q$1,"No Bet","Bet") -> Bet | S9: =IF(E9<$Q$1,"No Bet","Bet") -> No Bet | T9: =IF(F9<$Q$1,"No Bet","Bet") -> No Bet | U9: =IF(G9<$Q$1,"No Bet","Bet") -> No Bet | V9: =IF(R9="bet",1,0) -> 1 | W9: =IF(S9="bet",1,0) -> 0 | X9: =IF(T9="bet",1,0) -> 0 | Y9: =IF(U9="bet",1,0) -> 0 | Z9: =SUM(V9:Y9) -> 1 | AB9: ='Matchs Autriche'!D17 -> Rapid Wien | AC9: =VLOOKUP(TRIM(AB9)&" ",Q$4:Z$27,10,0) -> 1 | AD9: ='Matchs Autriche'!D18 -> Admira Wacker | AE9: =VLOOKUP(TRIM(AD9)&" ",Q$4:Z$27,10,0) -> 1 | AF9: =AC9+AE9 -> 2 | AG9: =IF(AF9<2,"",IF(AF9=2,"0.5",IF(AF9=3,"1",IF(AF9=4,"1.5",IF(AF9=5,"2",IF(AF9=6,"2.5",IF(AF9=7,"3",IF(AF9=8,"3.5")))))))) -> 0.5
A10: WSG Wattens | B10: 6 | C10: 3.5 | D10: 1 | E10: 1 | F10: 0.5 | G10: 0.5 | H10: 0.33 | I10: 0.17 | J10: 0 | K10: 0.83 | L10: 0 | M10: 0.17 | N10: 0 | O10: 0.17 | Q10: =A10 -> WSG Wattens | R10: =IF(D10<$Q$1,"No Bet","Bet") -> Bet | S10: =IF(E10<$Q$1,"No Bet","Bet") -> Bet | T10: =IF(F10<$Q$1,"No Bet","Bet") -> No Bet | U10: =IF(G10<$Q$1,"No Bet","Bet") -> No Bet | V10: =IF(R10="bet",1,0) -> 1 | W10: =IF(S10="bet",1,0) -> 1 | X10: =IF(T10="bet",1,0) -> 0 | Y10: =IF(U10="bet",1,0) -> 0 | Z10: =SUM(V10:Y10) -> 2 | AB10: ='Matchs Autriche'!D20 -> Wolfsberger AC | AC10: =VLOOKUP(TRIM(AB10)&" ",Q$4:Z$27,10,0) -> 1 | AD10: ='Matchs Autriche'!D21 -> Austria Wien | AE10: =VLOOKUP(TRIM(AD10)&" ",Q$4:Z$27,10,0) -> 2 | AF10: =AC10+AE10 -> 3 | AG10: =IF(AF10<2,"",IF(AF10=2,"0.5",IF(AF10=3,"1",IF(AF10=4,"1.5",IF(AF10=5,"2",IF(AF10=6,"2.5",IF(AF10=7,"3",IF(AF10=8,"3.5")))))))) -> 1
A11: Admira Wacker | B11: 6 | C11: 3.33 | D11: 1 | E11: 0.83 | F11: 0.67 | G11: 0.5 | H11: 0.33 | I11: 0 | J11: 0 | K11: 0.5 | L11: 0 | M11: 0.5 | N11: 0 | O11: 0.5 | Q11: =A11 -> Admira Wacker | R11: =IF(D11<$Q$1,"No Bet","Bet") -> Bet | S11: =IF(E11<$Q$1,"No Bet","Bet") -> No Bet | T11: =IF(F11<$Q$1,"No Bet","Bet") -> No Bet | U11: =IF(G11<$Q$1,"No Bet","Bet") -> No Bet | V11: =IF(R11="bet",1,0) -> 1 | W11: =IF(S11="bet",1,0) -> 0 | X11: =IF(T11="bet",1,0) -> 0 | Y11: =IF(U11="bet",1,0) -> 0 | Z11: =SUM(V11:Y11) -> 1
A12: St. Poelten | B12: 6 | C12: 3.33 | D12: 1 | E12: 0.83 | F12: 0.67 | G12: 0.5 | H12: 0.17 | I12: 0.17 | J12: 0 | K12: 0.5 | L12: 0.17 | M12: 0.33 | N12: 0.17 | O12: 0.33 | Q12: =A12 -> St. Poelten | R12: =IF(D12<$Q$1,"No Bet","Bet") -> Bet | S12: =IF(E12<$Q$1,"No Bet","Bet") -> No Bet | T12: =IF(F12<$Q$1,"No Bet","Bet") -> No Bet | U12: =IF(G12<$Q$1,"No Bet","Bet") -> No Bet | V12: =IF(R12="bet",1,0) -> 1 | W12: =IF(S12="bet",1,0) -> 0 | X12: =IF(T12="bet",1,0) -> 0 | Y12: =IF(U12="bet",1,0) -> 0 | Z12: =SUM(V12:Y12) -> 1
A13: Rapid Wien | B13: 6 | C13: 2.83 | D13: 1 | E13: 0.83 | F13: 0.67 | G13: 0.33 | H13: 0 | I13: 0 | J13: 0 | K13: 0.67 | L13: 0.17 | M13: 0.17 | N13: 0.17 | O13: 0.17 | Q13: =A13 -> Rapid Wien | R13: =IF(D13<$Q$1,"No Bet","Bet") -> Bet | S13: =IF(E13<$Q$1,"No Bet","Bet") -> No Bet | T13: =IF(F13<$Q$1,"No Bet","Bet") -> No Bet | U13: =IF(G13<$Q$1,"No Bet","Bet") -> No Bet | V13: =IF(R13="bet",1,0) -> 1 | W13: =IF(S13="bet",1,0) -> 0 | X13: =IF(T13="bet",1,0) -> 0 | Y13: =IF(U13="bet",1,0) -> 0 | Z13: =SUM(V13:Y13) -> 1
A14: LASK Linz | B14: 6 | C14: 2 | D14: 1 | E14: 0.67 | F14: 0.33 | G14: 0 | H14: 0 | I14: 0 | J14: 0 | K14: 0.33 | L14: 0.5 | M14: 0.17 | N14: 0.5 | O14: 0.17 | Q14: =A14 -> LASK Linz | R14: =IF(D14<$Q$1,"No Bet","Bet") -> Bet | S14: =IF(E14<$Q$1,"No Bet","Bet") -> No Bet | T14: =IF(F14<$Q$1,"No Bet","Bet") -> No Bet | U14: =IF(G14<$Q$1,"No Bet","Bet") -> No Bet | V14: =IF(R14="bet",1,0) -> 1 | W14: =IF(S14="bet",1,0) -> 0 | X14: =IF(T14="bet",1,0) -> 0 | Y14: =IF(U14="bet",1,0) -> 0 | Z14: =SUM(V14:Y14) -> 1
A15: Sturm Graz | B15: 6 | C15: 1.83 | D15: 1 | E15: 0.5 | F15: 0.33 | G15: 0 | H15: 0 | I15: 0 | J15: 0 | K15: 0.17 | L15: 0.5 | M15: 0.33 | N15: 0.5 | O15: 0.33 | Q15: =A15 -> Sturm Graz | R15: =IF(D15<$Q$1,"No Bet","Bet") -> Bet | S15: =IF(E15<$Q$1,"No Bet","Bet") -> No Bet | T15: =IF(F15<$Q$1,"No Bet","Bet") -> No Bet | U15: =IF(G15<$Q$1,"No Bet","Bet") -> No Bet | V15: =IF(R15="bet",1,0) -> 1 | W15: =IF(S15="bet",1,0) -> 0 | X15: =IF(T15="bet",1,0) -> 0 | Y15: =IF(U15="bet",1,0) -> 0 | Z15: =SUM(V15:Y15) -> 1
A17: League average | D17: 1 | E17: 0.833 | F17: 0.667 | G17: 0.472 | H17: 0.306 | I17: 0.167 | J17: 0.056 | K17: 0.583 | L17: 0.208 | M17: 0.208 | N17: 0.208 | O17: 0.208
A18: Home matches of... | B18: GP | C18: Avg | D18: 0.5+ | E18: 1.5+ | F18: 2.5+ | G18: 3.5+ | H18: 4.5+ | I18: 5.5+ | J18: 6.5+ | K18: BTS | L18: CS | M18: FTS | N18: WTN | O18: LTN | R18: 0.5 | S18: 1.5 | T18: 2.5 | U18: 3.5
B19: Salzburg | C19: 3 | D19: 5.67 | E19: 1 | F19: 1 | G19: 1 | H19: 1 | I19: 1 | J19: 0.33 | K19: 0.33 | L19: 0.67 | M19: 0.33 | N19: 0 | O19: 0.33 | P19: 0 | R19: =IF(E19<$Q$1,"No Bet","Bet") -> Bet | S19: =IF(F19<$Q$1,"No Bet","Bet") -> Bet | T19: =IF(G19<$Q$1,"No Bet","Bet") -> Bet | U19: =IF(H19<$Q$1,"No Bet","Bet") -> Bet
A20: Altach | B20: 3 | C20: 4.67 | D20: 1 | E20: 1 | F20: 1 | G20: 0.67 | H20: 0.67 | I20: 0.33 | J20: 0 | K20: 1 | L20: 0 | M20: 0 | N20: 0 | O20: 0 | R20: =IF(D20<$Q$1,"No Bet","Bet") -> Bet | S20: =IF(E20<$Q$1,"No Bet","Bet") -> Bet | T20: =IF(F20<$Q$1,"No Bet","Bet") -> Bet | U20: =IF(G20<$Q$1,"No Bet","Bet") -> No Bet
A21: St. Poelten | B21: 3 | C21: 4.67 | D21: 1 | E21: 1 | F21: 1 | G21: 1 | H21: 0.33 | I21: 0.33 | J21: 0 | K21: 0.67 | L21: 0 | M21: 0.33 | N21: 0 | O21: 0.33 | R21: =IF(D21<$Q$1,"No Bet","Bet") -> Bet | S21: =IF(E21<$Q$1,"No Bet","Bet") -> Bet | T21: =IF(F21<$Q$1,"No Bet","Bet") -> Bet | U21: =IF(G21<$Q$1,"No Bet","Bet") -> Bet
A22: Wolfsberger AC | B22: 3 | C22: 4.33 | D22: 1 | E22: 0.67 | F22: 0.67 | G22: 0.67 | H22: 0.67 | I22: 0.33 | J22: 0.33 | K22: 0.33 | L22: 0.33 | M22: 0.33 | N22: 0.33 | O22: 0.33 | R22: =IF(D22<$Q$1,"No Bet","Bet") -> Bet | S22: =IF(E22<$Q$1,"No Bet","Bet") -> No Bet | T22: =IF(F22<$Q$1,"No Bet","Bet") -> No Bet | U22: =IF(G22<$Q$1,"No Bet","Bet") -> No Bet
A23: WSG Wattens | B23: 3 | C23: 4 | D23: 1 | E23: 1 | F23: 0.67 | G23: 0.67 | H23: 0.33 | I23: 0.33 | J23: 0 | K23: 1 | L23: 0 | M23: 0 | N23: 0 | O23: 0 | R23: =IF(D23<$Q$1,"No Bet","Bet") -> Bet | S23: =IF(E23<$Q$1,"No Bet","Bet") -> Bet | T23: =IF(F23<$Q$1,"No Bet","Bet") -> No Bet | U23: =IF(G23<$Q$1,"No Bet","Bet") -> No Bet
A24: Hartberg | B24: 3 | C24: 3.33 | D24: 1 | E24: 0.67 | F24: 0.67 | G24: 0.67 | H24: 0.33 | I24: 0 | J24: 0 | K24: 0.67 | L24: 0.33 | M24: 0 | N24: 0.33 | O24: 0 | R24: =IF(D24<$Q$1,"No Bet","Bet") -> Bet | S24: =IF(E24<$Q$1,"No Bet","Bet") -> No Bet | T24: =IF(F24<$Q$1,"No Bet","Bet") -> No Bet | U24: =IF(G24<$Q$1,"No Bet","Bet") -> No Bet
A25: Mattersburg | B25: 3 | C25: 3.33 | D25: 1 | E25: 0.67 | F25: 0.67 | G25: 0.33 | H25: 0.33 | I25: 0.33 | J25: 0 | K25: 0.67 | L25: 0 | M25: 0.33 | N25: 0 | O25: 0.33 | R25: =IF(D25<$Q$1,"No Bet","Bet") -> Bet | S25: =IF(E25<$Q$1,"No Bet","Bet") -> No Bet | T25: =IF(F25<$Q$1,"No Bet","Bet") -> No Bet | U25: =IF(G25<$Q$1,"No Bet","Bet") -> No Bet
A26: Austria Wien | B26: 3 | C26: 3 | D26: 1 | E26: 1 | F26: 0.67 | G26: 0.33 | H26: 0 | I26: 0 | J26: 0 | K26: 0.67 | L26: 0 | M26: 0.33 | N26: 0 | O26: 0.33 | R26: =IF(D26<$Q$1,"No Bet","Bet") -> Bet | S26: =IF(E26<$Q$1,"No Bet","Bet") -> Bet | T26: =IF(F26<$Q$1,"No Bet","Bet") -> No Bet | U26: =IF(G26<$Q$1,"No Bet","Bet") -> No Bet
A27: Admira Wacker | B27: 3 | C27: 2.67 | D27: 1 | E27: 0.67 | F27: 0.67 | G27: 0.33 | H27: 0 | I27: 0 | J27: 0 | K27: 0.33 | L27: 0 | M27: 0.67 | N27: 0 | O27: 0.67 | R27: =IF(D27<$Q$1,"No Bet","Bet") -> Bet | S27: =IF(E27<$Q$1,"No Bet","Bet") -> No Bet | T27: =IF(F27<$Q$1,"No Bet","Bet") -> No Bet | U27: =IF(G27<$Q$1,"No Bet","Bet") -> No Bet
A28: Rapid Wien | B28: 3 | C28: 2.67 | D28: 1 | E28: 1 | F28: 0.67 | G28: 0 | H28: 0 | I28: 0 | J28: 0 | K28: 0.67 | L28: 0 | M28: 0.33 | N28: 0 | O28: 0.33 | R28: =IF(D28<$Q$1,"No Bet","Bet") -> Bet | S28: =IF(E28<$Q$1,"No Bet","Bet") -> Bet | T28: =IF(F28<$Q$1,"No Bet","Bet") -> No Bet | U28: =IF(G28<$Q$1,"No Bet","Bet") -> No Bet
A29: Sturm Graz | B29: 3 | C29: 2 | D29: 1 | E29: 0.67 | F29: 0.33 | G29: 0 | H29: 0 | I29: 0 | J29: 0 | K29: 0 | L29: 0.67 | M29: 0.33 | N29: 0.67 | O29: 0.33 | R29: =IF(D29<$Q$1,"No Bet","Bet") -> Bet | S29: =IF(E29<$Q$1,"No Bet","Bet") -> No Bet | T29: =IF(F29<$Q$1,"No Bet","Bet") -> No Bet | U29: =IF(G29<$Q$1,"No Bet","Bet") -> No Bet
A30: LASK Linz | B30: 3 | C30: 1.67 | D30: 1 | E30: 0.67 | F30: 0 | G30: 0 | H30: 0 | I30: 0 | J30: 0 | K30: 0.33 | L30: 0.33 | M30: 0.33 | N30: 0.33 | O30: 0.33 | R30: =IF(D30<$Q$1,"No Bet","Bet") -> Bet | S30: =IF(E30<$Q$1,"No Bet","Bet") -> No Bet | T30: =IF(F30<$Q$1,"No Bet","Bet") -> No Bet | U30: =IF(G30<$Q$1,"No Bet","Bet") -> No Bet
A32: League average | D32: 1 | E32: 0.833 | F32: 0.667 | G32: 0.472 | H32: 0.306 | I32: 0.167 | J32: 0.056 | K32: 0.583 | L32: 0.167 | M32: 0.25 | N32: 0.167 | O32: 0.25
A33: Away matches of... | B33: GP | C33: Avg | D33: 0.5+ | E33: 1.5+ | F33: 2.5+ | G33: 3.5+ | H33: 4.5+ | I33: 5.5+ | J33: 6.5+ | K33: BTS | L33: CS | M33: FTS | N33: WTN | O33: LTN | R33: 0.5 | S33: 1.5 | T33: 2.5 | U33: 3.5
B34: Austria Wien | C34: 3 | D34: 4.67 | E34: 1 | F34: 1 | G34: 1 | H34: 1 | I34: 0.33 | J34: 0.33 | K34: 0 | L34: 1 | M34: 0 | N34: 0 | O34: 0 | P34: 0 | R34: =IF(E34<$Q$1,"No Bet","Bet") -> Bet | S34: =IF(F34<$Q$1,"No Bet","Bet") -> Bet | T34: =IF(G34<$Q$1,"No Bet","Bet") -> Bet | U34: =IF(H34<$Q$1,"No Bet","Bet") -> Bet
A35: Mattersburg | B35: 3 | C35: 4.67 | D35: 1 | E35: 1 | F35: 1 | G35: 1 | H35: 0.67 | I35: 0 | J35: 0 | K35: 0.67 | L35: 0 | M35: 0.33 | N35: 0 | O35: 0.33 | R35: =IF(D35<$Q$1,"No Bet","Bet") -> Bet | S35: =IF(E35<$Q$1,"No Bet","Bet") -> Bet | T35: =IF(F35<$Q$1,"No Bet","Bet") -> Bet | U35: =IF(G35<$Q$1,"No Bet","Bet") -> Bet
A36: Salzburg | B36: 3 | C36: 4.67 | D36: 1 | E36: 1 | F36: 0.67 | G36: 0.67 | H36: 0.67 | I36: 0.67 | J36: 0 | K36: 0.33 | L36: 0.67 | M36: 0 | N36: 0.67 | O36: 0 | R36: =IF(D36<$Q$1,"No Bet","Bet") -> Bet | S36: =IF(E36<$Q$1,"No Bet","Bet") -> Bet | T36: =IF(F36<$Q$1,"No Bet","Bet") -> No Bet | U36: =IF(G36<$Q$1,"No Bet","Bet") -> No Bet
A37: Hartberg | B37: 3 | C37: 4.33 | D37: 1 | E37: 1 | F37: 1 | G37: 0.67 | H37: 0.33 | I37: 0.33 | J37: 0 | K37: 1 | L37: 0 | M37: 0 | N37: 0 | O37: 0 | R37: =IF(D37<$Q$1,"No Bet","Bet") -> Bet | S37: =IF(E37<$Q$1,"No Bet","Bet") -> Bet | T37: =IF(F37<$Q$1,"No Bet","Bet") -> Bet | U37: =IF(G37<$Q$1,"No Bet","Bet") -> No Bet
A38: Admira Wacker | B38: 3 | C38: 4 | D38: 1 | E38: 1 | F38: 0.67 | G38: 0.67 | H38: 0.67 | I38: 0 | J38: 0 | K38: 0.67 | L38: 0 | M38: 0.33 | N38: 0 | O38: 0.33 | R38: =IF(D38<$Q$1,"No Bet","Bet") -> Bet | S38: =IF(E38<$Q$1,"No Bet","Bet") -> Bet | T38: =IF(F38<$Q$1,"No Bet","Bet") -> No Bet | U38: =IF(G38<$Q$1,"No Bet","Bet") -> No Bet
A39: Altach | B39: 3 | C39: 4 | D39: 1 | E39: 1 | F39: 0.67 | G39: 0.33 | H39: 0.33 | I39: 0.33 | J39: 0.33 | K39: 0.67 | L39: 0 | M39: 0.33 | N39: 0 | O39: 0.33 | R39: =IF(D39<$Q$1,"No Bet","Bet") -> Bet | S39: =IF(E39<$Q$1,"No Bet","Bet") -> Bet | T39: =IF(F39<$Q$1,"No Bet","Bet") -> No Bet | U39: =IF(G39<$Q$1,"No Bet","Bet") -> No Bet
A40: Wolfsberger AC | B40: 3 | C40: 3.67 | D40: 1 | E40: 0.67 | F40: 0.67 | G40: 0.33 | H40: 0.33 | I40: 0.33 | J40: 0.33 | K40: 0.33 | L40: 0.67 | M40: 0 | N40: 0.67 | O40: 0 | R40: =IF(D40<$Q$1,"No Bet","Bet") -> Bet | S40: =IF(E40<$Q$1,"No Bet","Bet") -> No Bet | T40: =IF(F40<$Q$1,"No Bet","Bet") -> No Bet | U40: =IF(G40<$Q$1,"No Bet","Bet") -> No Bet
A41: Rapid Wien | B41: 3 | C41: 3 | D41: 1 | E41: 0.67 | F41: 0.67 | G41: 0.67 | H41: 0 | I41: 0 | J41: 0 | K41: 0.67 | L41: 0.33 | M41: 0 | N41: 0.33 | O41: 0 | R41: =IF(D41<$Q$1,"No Bet","Bet") -> Bet | S41: =IF(E41<$Q$1,"No Bet","Bet") -> No Bet | T41: =IF(F41<$Q$1,"No Bet","Bet") -> No Bet | U41: =IF(G41<$Q$1,"No Bet","Bet") -> No Bet
A42: WSG Wattens | B42: 3 | C42: 3 | D42: 1 | E42: 1 | F42: 0.33 | G42: 0.33 | H42: 0.33 | I42: 0 | J42: 0 | K42: 0.67 | L42: 0 | M42: 0.33 | N42: 0 | O42: 0.33 | R42: =IF(D42<$Q$1,"No Bet","Bet") -> Bet | S42: =IF(E42<$Q$1,"No Bet","Bet") -> Bet | T42: =IF(F42<$Q$1,"No Bet","Bet") -> No Bet | U42: =IF(G42<$Q$1,"No Bet","Bet") -> No Bet
A43: LASK Linz | B43: 3 | C43: 2.33 | D43: 1 | E43: 0.67 | F43: 0.67 | G43: 0 | H43: 0 | I43: 0 | J43: 0 | K43: 0.33 | L43: 0.67 | M43: 0 | N43: 0.67 | O43: 0 | R43: =IF(D43<$Q$1,"No Bet","Bet") -> Bet | S43: =IF(E43<$Q$1,"No Bet","Bet") -> No Bet | T43: =IF(F43<$Q$1,"No Bet","Bet") -> No Bet | U43: =IF(G43<$Q$1,"No Bet","Bet") -> No Bet
A44: St. Poelten | B44: 3 | C44: 2 | D44: 1 | E44: 0.67 | F44: 0.33 | G44: 0 | H44: 0 | I44: 0 | J44: 0 | K44: 0.33 | L44: 0.33 | M44: 0.33 | N44: 0.33 | O44: 0.33 | R44: =IF(D44<$Q$1,"No Bet","Bet") -> Bet | S44: =IF(E44<$Q$1,"No Bet","Bet") -> No Bet | T44: =IF(F44<$Q$1,"No Bet","Bet") -> No Bet | U44: =IF(G44<$Q$1,"No Bet","Bet") -> No Bet
A45: Sturm Graz | B45: 3 | C45: 1.67 | D45: 1 | E45: 0.33 | F45: 0.33 | G45: 0 | H45: 0 | I45: 0 | J45: 0 | K45: 0.33 | L45: 0.33 | M45: 0.33 | N45: 0.33 | O45: 0.33 | R45: =IF(D45<$Q$1,"No Bet","Bet") -> Bet | S45: =IF(E45<$Q$1,"No Bet","Bet") -> No Bet | T45: =IF(F45<$Q$1,"No Bet","Bet") -> No Bet | U45: =IF(G45<$Q$1,"No Bet","Bet") -> No Bet
A47: League average | D47: 1 | E47: 0.833 | F47: 0.667 | G47: 0.472 | H47: 0.306 | I47: 0.167 | J47: 0.056 | K47: 0.583 | L47: 0.25 | M47: 0.167 | N47: 0.25 | O47: 0.167
A50: Over / Under (total goals) at Halftime
A53: Match goals stats at half-time
A54: Matches of... | B54: GP | C54: Avg | D54: 0.5+ | E54: 1.5+ | F54: 2.5+ | G54: 3.5+ | H54: 4.5+ | I54: 5.5+ | J54: 6.5+ | K54: BTS | L54: CS | M54: FTS | N54: WTN | O54: LTN
B55: Altach | C55: 6 | D55: 2.67 | E55: 1 | F55: 0.67 | G55: 0.67 | H55: 0.33 | I55: 0 | J55: 0 | K55: 0 | L55: 0.5 | M55: 0 | N55: 0.5 | O55: 0 | P55: 0.5
A56: Salzburg | B56: 6 | C56: 2.5 | D56: 1 | E56: 0.83 | F56: 0.67 | G56: 0 | H56: 0 | I56: 0 | J56: 0 | K56: 0.17 | L56: 0.83 | M56: 0 | N56: 0.83 | O56: 0
A57: Mattersburg | B57: 6 | C57: 2 | D57: 1 | E57: 0.67 | F57: 0.33 | G57: 0 | H57: 0 | I57: 0 | J57: 0 | K57: 0.17 | L57: 0.17 | M57: 0.67 | N57: 0.17 | O57: 0.67
A58: Admira Wacker | B58: 6 | C58: 1.83 | D58: 1 | E58: 0.5 | F58: 0.33 | G58: 0 | H58: 0 | I58: 0 | J58: 0 | K58: 0.17 | L58: 0 | M58: 0.83 | N58: 0 | O58: 0.83
A59: Wolfsberger AC | B59: 6 | C59: 1.83 | D59: 0.83 | E59: 0.5 | F59: 0.33 | G59: 0.17 | H59: 0 | I59: 0 | J59: 0 | K59: 0.33 | L59: 0.5 | M59: 0.33 | N59: 0.33 | O59: 0.17
A60: WSG Wattens | B60: 6 | C60: 1.83 | D60: 1 | E60: 0.33 | F60: 0.33 | G60: 0.17 | H60: 0 | I60: 0 | J60: 0 | K60: 0.17 | L60: 0.5 | M60: 0.33 | N60: 0.5 | O60: 0.33
A61: Rapid Wien | B61: 6 | C61: 1.67 | D61: 1 | E61: 0.5 | F61: 0.17 | G61: 0 | H61: 0 | I61: 0 | J61: 0 | K61: 0.5 | L61: 0.17 | M61: 0.33 | N61: 0.17 | O61: 0.33
A62: St. Poelten | B62: 6 | C62: 1.67 | D62: 1 | E62: 0.67 | F62: 0 | G62: 0 | H62: 0 | I62: 0 | J62: 0 | K62: 0.17 | L62: 0.17 | M62: 0.67 | N62: 0.17 | O62: 0.67
A63: Hartberg | B63: 6 | C63: 1.5 | D63: 0.83 | E63: 0.5 | F63: 0.17 | G63: 0 | H63: 0 | I63: 0 | J63: 0 | K63: 0 | L63: 0.83 | M63: 0.33 | N63: 0.67 | O63: 0.17
A64: Austria Wien | B64: 6 | C64: 1.33 | D64: 1 | E64: 0.33 | F64: 0 | G64: 0 | H64: 0 | I64: 0 | J64: 0 | K64: 0.17 | L64: 0.33 | M64: 0.5 | N64: 0.33 | O64: 0.5
A65: Sturm Graz | B65: 6 | C65: 1 | D65: 0.83 | E65: 0.17 | F65: 0 | G65: 0 | H65: 0 | I65: 0 | J65: 0 | K65: 0 | L65: 0.83 | M65: 0.33 | N65: 0.67 | O65: 0.17
A66: LASK Linz | B66: 6 | C66: 0.83 | D66: 0.83 | E66: 0 | F66: 0 | G66: 0 | H66: 0 | I66: 0 | J66: 0 | K66: 0 | L66: 0.83 | M66: 0.33 | N66: 0.67 | O66: 0.17
A68: League average | D68: 0.944 | E68: 0.472 | F68: 0.25 | G68: 0.056 | H68: 0 | I68: 0 | J68: 0 | K68: 0.194 | L68: 0.431 | M68: 0.431 | N68: 0.375 | O68: 0.375
A70: Match goals stats at half-time (at home)
A71: Home matches of... | B71: GP | C71: Avg | D71: 0.5+ | E71: 1.5+ | F71: 2.5+ | G71: 3.5+ | H71: 4.5+ | I71: 5.5+ | J71: 6.5+ | K71: BTS | L71: CS | M71: FTS | N71: WTN | O71: LTN
B72: Salzburg | C72: 3 | D72: 3 | E72: 1 | F72: 1 | G72: 1 | H72: 0 | I72: 0 | J72: 0 | K72: 0 | L72: 0.33 | M72: 0.67 | N72: 0 | O72: 0.67 | P72: 0
A73: Altach | B73: 3 | C73: 2.67 | D73: 1 | E73: 0.67 | F73: 0.67 | G73: 0.33 | H73: 0 | I73: 0 | J73: 0 | K73: 0.33 | L73: 0 | M73: 0.67 | N73: 0 | O73: 0.67
A74: Wolfsberger AC | B74: 3 | C74: 2.33 | D74: 1 | E74: 0.67 | F74: 0.33 | G74: 0.33 | H74: 0 | I74: 0 | J74: 0 | K74: 0.33 | L74: 0.33 | M74: 0.33 | N74: 0.33 | O74: 0.33
A75: St. Poelten | B75: 3 | C75: 2 | D75: 1 | E75: 1 | F75: 0 | G75: 0 | H75: 0 | I75: 0 | J75: 0 | K75: 0.33 | L75: 0 | M75: 0.67 | N75: 0 | O75: 0.67
A76: Admira Wacker | B76: 3 | C76: 1.67 | D76: 1 | E76: 0.33 | F76: 0.33 | G76: 0 | H76: 0 | I76: 0 | J76: 0 | K76: 0.33 | L76: 0 | M76: 0.67 | N76: 0 | O76: 0.67
A77: Rapid Wien | B77: 3 | C77: 1.67 | D77: 1 | E77: 0.33 | F77: 0.33 | G77: 0 | H77: 0 | I77: 0 | J77: 0 | K77: 0.33 | L77: 0 | M77: 0.67 | N77: 0 | O77: 0.67
A78: WSG Wattens | B78: 3 | C78: 1.67 | D78: 1 | E78: 0.33 | F78: 0.33 | G78: 0 | H78: 0 | I78: 0 | J78: 0 | K78: 0 | L78: 0.67 | M78: 0.33 | N78: 0.67 | O78: 0.33
A79: Austria Wien | B79: 3 | C79: 1.33 | D79: 1 | E79: 0.33 | F79: 0 | G79: 0 | H79: 0 | I79: 0 | J79: 0 | K79: 0.33 | L79: 0.33 | M79: 0.33 | N79: 0.33 | O79: 0.33
A80: Mattersburg | B80: 3 | C80: 1.33 | D80: 1 | E80: 0.33 | F80: 0 | G80: 0 | H80: 0 | I80: 0 | J80: 0 | K80: 0 | L80: 0.33 | M80: 0.67 | N80: 0.33 | O80: 0.67
A81: Sturm Graz | B81: 3 | C81: 1.33 | D81: 1 | E81: 0.33 | F81: 0 | G81: 0 | H81: 0 | I81: 0 | J81: 0 | K81: 0 | L81: 0.67 | M81: 0.33 | N81: 0.67 | O81: 0.33
A82: Hartberg | B82: 3 | C82: 1 | D82: 0.67 | E82: 0.33 | F82: 0 | G82: 0 | H82: 0 | I82: 0 | J82: 0 | K82: 0 | L82: 1 | M82: 0.33 | N82: 0.67 | O82: 0
A83: LASK Linz | B83: 3 | C83: 0.67 | D83: 0.67 | E83: 0 | F83: 0 | G83: 0 | H83: 0 | I83: 0 | J83: 0 | K83: 0 | L83: 0.67 | M83: 0.67 | N83: 0.33 | O83: 0.33
A85: League average | D85: 0.944 | E85: 0.472 | F85: 0.25 | G85: 0.056 | H85: 0 | I85: 0 | J85: 0 | K85: 0.194 | L85: 0.389 | M85: 0.472 | N85: 0.333 | O85: 0.417
A87: Match goals stats at half-time (away)
A88: Away matches of... | B88: GP | C88: Avg | D88: 0.5+ | E88: 1.5+ | F88: 2.5+ | G88: 3.5+ | H88: 4.5+ | I88: 5.5+ | J88: 6.5+ | K88: BTS | L88: CS | M88: FTS | N88: WTN | O88: LTN
B89: Altach | C89: 3 | D89: 2.67 | E89: 1 | F89: 0.67 | G89: 0.67 | H89: 0.33 | I89: 0 | J89: 0 | K89: 0 | L89: 0.67 | M89: 0 | N89: 0.33 | O89: 0 | P89: 0.33
A90: Mattersburg | B90: 3 | C90: 2.67 | D90: 1 | E90: 1 | F90: 0.67 | G90: 0 | H90: 0 | I90: 0 | J90: 0 | K90: 0.33 | L90: 0 | M90: 0.67 | N90: 0 | O90: 0.67
A91: Admira Wacker | B91: 3 | C91: 2 | D91: 1 | E91: 0.67 | F91: 0.33 | G91: 0 | H91: 0 | I91: 0 | J91: 0 | K91: 0 | L91: 0 | M91: 1 | N91: 0 | O91: 1
A92: Hartberg | B92: 3 | C92: 2 | D92: 1 | E92: 0.67 | F92: 0.33 | G92: 0 | H92: 0 | I92: 0 | J92: 0 | K92: 0 | L92: 0.67 | M92: 0.33 | N92: 0.67 | O92: 0.33
A93: Salzburg | B93: 3 | C93: 2 | D93: 1 | E93: 0.67 | F93: 0.33 | G93: 0 | H93: 0 | I93: 0 | J93: 0 | K93: 0 | L93: 1 | M93: 0 | N93: 1 | O93: 0
A94: WSG Wattens | B94: 3 | C94: 2 | D94: 1 | E94: 0.33 | F94: 0.33 | G94: 0.33 | H94: 0 | I94: 0 | J94: 0 | K94: 0.33 | L94: 0.33 | M94: 0.33 | N94: 0.33 | O94: 0.33
A95: Rapid Wien | B95: 3 | C95: 1.67 | D95: 1 | E95: 0.67 | F95: 0 | G95: 0 | H95: 0 | I95: 0 | J95: 0 | K95: 0.67 | L95: 0.33 | M95: 0 | N95: 0.33 | O95: 0
A96: Austria Wien | B96: 3 | C96: 1.33 | D96: 1 | E96: 0.33 | F96: 0 | G96: 0 | H96: 0 | I96: 0 | J96: 0 | K96: 0 | L96: 0.33 | M96: 0.67 | N96: 0.33 | O96: 0.67
A97: St. Poelten | B97: 3 | C97: 1.33 | D97: 1 | E97: 0.33 | F97: 0 | G97: 0 | H97: 0 | I97: 0 | J97: 0 | K97: 0 | L97: 0.33 | M97: 0.67 | N97: 0.33 | O97: 0.67
A98: Wolfsberger AC | B98: 3 | C98: 1.33 | D98: 0.67 | E98: 0.33 | F98: 0.33 | G98: 0 | H98: 0 | I98: 0 | J98: 0 | K98: 0.33 | L98: 0.67 | M98: 0.33 | N98: 0.33 | O98: 0
A99: LASK Linz | B99: 3 | C99: 1 | D99: 1 | E99: 0 | F99: 0 | G99: 0 | H99: 0 | I99: 0 | J99: 0 | K99: 0 | L99: 1 | M99: 0 | N99: 1 | O99: 0
A100: Sturm Graz | B100: 3 | C100: 0.67 | D100: 0.67 | E100: 0 | F100: 0 | G100: 0 | H100: 0 | I100: 0 | J100: 0 | K100: 0 | L100: 1 | M100: 0.33 | N100: 0.67 | O100: 0
A102: League average | D102: 0.944 | E102: 0.472 | F102: 0.25 | G102: 0.056 | H102: 0 | I102: 0 | J102: 0 | K102: 0.194 | L102: 0.472 | M102: 0.389 | N102: 0.417 | O102: 0.333
A104: See also:
A105: - Goal margins

Sheet Matchs Australie

Sheet Australie
A1: Over / Under (total goals) | Q1: 0.85
A3: Matches of... | B3: Pld | C3: Avg | D3: 0.5+ | E3: 1.5+ | F3: 2.5+ | G3: 3.5+ | H3: 4.5+ | I3: 5.5+ | J3: 6.5+ | K3: BTS | L3: CS | M3: FTS | N3: WTN | O3: LTN | R3: 0.5 | S3: 1.5 | T3: 2.5 | U3: 3.5 | AB3: Colonne1 | AC3: Colonne2 | AD3: Colonne3 | AE3: Colonne4 | AF3: Colonne5 | AG3: Colonne6
B4: Brisbane Roar | C4: 27 | D4: 4.04 | E4: 0.96 | F4: 0.93 | G4: 0.78 | H4: 0.56 | I4: 0.37 | J4: 0.22 | K4: 0.15 | L4: 0.78 | M4: 0.07 | N4: 0.19 | O4: 0.04 | P4: 0.15 | Q4: =B4 -> Brisbane Roar | R4: =IF(E4<$Q$1,"No Bet","Bet") -> Bet | S4: =IF(F4<$Q$1,"No Bet","Bet") -> Bet | T4: =IF(G4<$Q$1,"No Bet","Bet") -> No Bet | U4: =IF(H4<$Q$1,"No Bet","Bet") -> No Bet | V4: =IF(R4="bet",1,0) -> 1 | W4: =IF(S4="bet",1,0) -> 1 | X4: =IF(T4="bet",1,0) -> 0 | Y4: =IF(U4="bet",1,0) -> 0 | Z4: =SUM(V4:Y4) -> 2 | AG4: BET
A5: Central Coast | B5: 27 | C5: 3.74 | D5: 1 | E5: 0.93 | F5: 0.67 | G5: 0.41 | H5: 0.37 | I5: 0.11 | J5: 0.11 | K5: 0.7 | L5: 0 | M5: 0.3 | N5: 0 | O5: 0.3 | Q5: =A5 -> Central Coast | R5: =IF(D5<$Q$1,"No Bet","Bet") -> Bet | S5: =IF(E5<$Q$1,"No Bet","Bet") -> Bet | T5: =IF(F5<$Q$1,"No Bet","Bet") -> No Bet | U5: =IF(G5<$Q$1,"No Bet","Bet") -> No Bet | V5: =IF(R5="bet",1,0) -> 1 | W5: =IF(S5="bet",1,0) -> 1 | X5: =IF(T5="bet",1,0) -> 0 | Y5: =IF(U5="bet",1,0) -> 0 | Z5: =SUM(V5:Y5) -> 2 | AB5: ='Matchs Autriche'!D4 -> Mattersburg | AC5: =VLOOKUP(TRIM(AB5)&" ",Q$4:Z$27,10,0) -> #N/A | AD5: ='Matchs Autriche'!D5 -> WSG Wattens | AE5: =VLOOKUP(TRIM(AD5)&" ",Q$4:Z$27,10,0) -> #N/A | AF5: =AC5+AE5 -> #N/A | AG5: =IF(AF5<2,"",IF(AF5=2,"0.5",IF(AF5=3,"1",IF(AF5=4,"1.5",IF(AF5=5,"2",IF(AF5=6,"2.5",IF(AF5=7,"3",IF(AF5=8,"3.5")))))))) -> #N/A
A6: Western Sydney | B6: 27 | C6: 3.56 | D6: 1 | E6: 0.96 | F6: 0.67 | G6: 0.52 | H6: 0.22 | I6: 0.11 | J6: 0.07 | K6: 0.67 | L6: 0.15 | M6: 0.19 | N6: 0.15 | O6: 0.19 | Q6: =A6 -> Western Sydney | R6: =IF(D6<$Q$1,"No Bet","Bet") -> Bet | S6: =IF(E6<$Q$1,"No Bet","Bet") -> Bet | T6: =IF(F6<$Q$1,"No Bet","Bet") -> No Bet | U6: =IF(G6<$Q$1,"No Bet","Bet") -> No Bet | V6: =IF(R6="bet",1,0) -> 1 | W6: =IF(S6="bet",1,0) -> 1 | X6: =IF(T6="bet",1,0) -> 0 | Y6: =IF(U6="bet",1,0) -> 0 | Z6: =SUM(V6:Y6) -> 2 | AB6: ='Matchs Autriche'!D7 -> Salzburg | AC6: =VLOOKUP(TRIM(AB6)&" ",Q$4:Z$27,10,0) -> #N/A | AD6: ='Matchs Autriche'!D8 -> Hartberg | AE6: =VLOOKUP(TRIM(AD6)&" ",Q$4:Z$27,10,0) -> #N/A | AF6: =AC6+AE6 -> #N/A | AG6: =IF(AF6<2,"",IF(AF6=2,"0.5",IF(AF6=3,"1",IF(AF6=4,"1.5",IF(AF6=5,"2",IF(AF6=6,"2.5",IF(AF6=7,"3",IF(AF6=8,"3.5")))))))) -> #N/A
A7: Wellington | B7: 27 | C7: 3.3 | D7: 0.93 | E7: 0.81 | F7: 0.59 | G7: 0.44 | H7: 0.3 | I7: 0.07 | J7: 0.04 | K7: 0.63 | L7: 0.15 | M7: 0.3 | N7: 0.07 | O7: 0.22 | Q7: =A7 -> Wellington | R7: =IF(D7<$Q$1,"No Bet","Bet") -> Bet | S7: =IF(E7<$Q$1,"No Bet","Bet") -> No Bet | T7: =IF(F7<$Q$1,"No Bet","Bet") -> No Bet | U7: =IF(G7<$Q$1,"No Bet","Bet") -> No Bet | V7: =IF(R7="bet",1,0) -> 1 | W7: =IF(S7="bet",1,0) -> 0 | X7: =IF(T7="bet",1,0) -> 0 | Y7: =IF(U7="bet",1,0) -> 0 | Z7: =SUM(V7:Y7) -> 1 | AB7: ='Matchs Autriche'!D10 -> Sturm Graz | AC7: =VLOOKUP(TRIM(AB7)&" ",Q$4:Z$27,10,0) -> #N/A | AD7: ='Matchs Autriche'!D11 -> LASK Linz | AE7: =VLOOKUP(TRIM(AD7)&" ",Q$4:Z$27,10,0) -> #N/A | AF7: =AC7+AE7 -> #N/A | AG7: =IF(AF7<2,"",IF(AF7=2,"0.5",IF(AF7=3,"1",IF(AF7=4,"1.5",IF(AF7=5,"2",IF(AF7=6,"2.5",IF(AF7=7,"3",IF(AF7=8,"3.5")))))))) -> #N/A
A8: Melbourne Vic. | B8: 27 | C8: 3.04 | D8: 1 | E8: 0.89 | F8: 0.59 | G8: 0.26 | H8: 0.22 | I8: 0.07 | J8: 0 | K8: 0.67 | L8: 0.22 | M8: 0.11 | N8: 0.22 | O8: 0.11 | Q8: =A8 -> Melbourne Vic. | R8: =IF(D8<$Q$1,"No Bet","Bet") -> Bet | S8: =IF(E8<$Q$1,"No Bet","Bet") -> Bet | T8: =IF(F8<$Q$1,"No Bet","Bet") -> No Bet | U8: =IF(G8<$Q$1,"No Bet","Bet") -> No Bet | V8: =IF(R8="bet",1,0) -> 1 | W8: =IF(S8="bet",1,0) -> 1 | X8: =IF(T8="bet",1,0) -> 0 | Y8: =IF(U8="bet",1,0) -> 0 | Z8: =SUM(V8:Y8) -> 2 | AB8: ='Matchs Autriche'!D8 -> Hartberg | AC8: =VLOOKUP(TRIM(AB8)&" ",Q$4:Z$27,10,0) -> #N/A | AD8: ='Matchs Autriche'!D11 -> LASK Linz | AE8: =VLOOKUP(TRIM(AD8)&" ",Q$4:Z$27,10,0) -> #N/A | AF8: =AC8+AE8 -> #N/A | AG8: =IF(AF8<2,"",IF(AF8=2,"0.5",IF(AF8=3,"1",IF(AF8=4,"1.5",IF(AF8=5,"2",IF(AF8=6,"2.5",IF(AF8=7,"3",IF(AF8=8,"3.5")))))))) -> #N/A
A9: Perth Glory | B9: 27 | C9: 2.93 | D9: 0.93 | E9: 0.81 | F9: 0.52 | G9: 0.33 | H9: 0.22 | I9: 0.07 | J9: 0.04 | K9: 0.48 | L9: 0.44 | M9: 0.15 | N9: 0.37 | O9: 0.07 | Q9: =A9 -> Perth Glory | R9: =IF(D9<$Q$1,"No Bet","Bet") -> Bet | S9: =IF(E9<$Q$1,"No Bet","Bet") -> No Bet | T9: =IF(F9<$Q$1,"No Bet","Bet") -> No Bet | U9: =IF(G9<$Q$1,"No Bet","Bet") -> No Bet | V9: =IF(R9="bet",1,0) -> 1 | W9: =IF(S9="bet",1,0) -> 0 | X9: =IF(T9="bet",1,0) -> 0 | Y9: =IF(U9="bet",1,0) -> 0 | Z9: =SUM(V9:Y9) -> 1 | AB9: ='Matchs Autriche'!D14 -> Altach | AC9: =VLOOKUP(TRIM(AB9)&" ",Q$4:Z$27,10,0) -> #N/A | AD9: ='Matchs Autriche'!D15 -> St. Poelten | AE9: =VLOOKUP(TRIM(AD9)&" ",Q$4:Z$27,10,0) -> #N/A | AF9: =AC9+AE9 -> #N/A | AG9: =IF(AF9<2,"",IF(AF9=2,"0.5",IF(AF9=3,"1",IF(AF9=4,"1.5",IF(AF9=5,"2",IF(AF9=6,"2.5",IF(AF9=7,"3",IF(AF9=8,"3.5")))))))) -> #N/A
A10: Newcastle Jets | B10: 27 | C10: 2.81 | D10: 0.96 | E10: 0.81 | F10: 0.48 | G10: 0.26 | H10: 0.19 | I10: 0.07 | J10: 0.04 | K10: 0.56 | L10: 0.22 | M10: 0.26 | N10: 0.19 | O10: 0.22 | Q10: =A10 -> Newcastle Jets | R10: =IF(D10<$Q$1,"No Bet","Bet") -> Bet | S10: =IF(E10<$Q$1,"No Bet","Bet") -> No Bet | T10: =IF(F10<$Q$1,"No Bet","Bet") -> No Bet | U10: =IF(G10<$Q$1,"No Bet","Bet") -> No Bet | V10: =IF(R10="bet",1,0) -> 1 | W10: =IF(S10="bet",1,0) -> 0 | X10: =IF(T10="bet",1,0) -> 0 | Y10: =IF(U10="bet",1,0) -> 0 | Z10: =SUM(V10:Y10) -> 1 | AB10: ='Matchs Autriche'!D17 -> Rapid Wien | AC10: =VLOOKUP(TRIM(AB10)&" ",Q$4:Z$27,10,0) -> #N/A | AD10: ='Matchs Autriche'!D18 -> Admira Wacker | AE10: =VLOOKUP(TRIM(AD10)&" ",Q$4:Z$27,10,0) -> #N/A | AF10: =AC10+AE10 -> #N/A | AG10: =IF(AF10<2,"",IF(AF10=2,"0.5",IF(AF10=3,"1",IF(AF10=4,"1.5",IF(AF10=5,"2",IF(AF10=6,"2.5",IF(AF10=7,"3",IF(AF10=8,"3.5")))))))) -> #N/A
A11: Sydney FC | B11: 27 | C11: 2.67 | D11: 1 | E11: 0.85 | F11: 0.52 | G11: 0.19 | H11: 0.04 | I11: 0.04 | J11: 0.04 | K11: 0.63 | L11: 0.3 | M11: 0.07 | N11: 0.3 | O11: 0.07 | Q11: =A11 -> Sydney FC | R11: =IF(D11<$Q$1,"No Bet","Bet") -> Bet | S11: =IF(E11<$Q$1,"No Bet","Bet") -> Bet | T11: =IF(F11<$Q$1,"No Bet","Bet") -> No Bet | U11: =IF(G11<$Q$1,"No Bet","Bet") -> No Bet | V11: =IF(R11="bet",1,0) -> 1 | W11: =IF(S11="bet",1,0) -> 1 | X11: =IF(T11="bet",1,0) -> 0 | Y11: =IF(U11="bet",1,0) -> 0 | Z11: =SUM(V11:Y11) -> 2 | AB11: ='Matchs Autriche'!D20 -> Wolfsberger AC | AC11: =VLOOKUP(TRIM(AB11)&" ",Q$4:Z$27,10,0) -> #N/A | AD11: ='Matchs Autriche'!D21 -> Austria Wien | AE11: =VLOOKUP(TRIM(AD11)&" ",Q$4:Z$27,10,0) -> #N/A | AF11: =AC11+AE11 -> #N/A | AG11: =IF(AF11<2,"",IF(AF11=2,"0.5",IF(AF11=3,"1",IF(AF11=4,"1.5",IF(AF11=5,"2",IF(AF11=6,"2.5",IF(AF11=7,"3",IF(AF11=8,"3.5")))))))) -> #N/A
A12: Melbourne City | B12: 27 | C12: 2.63 | D12: 0.93 | E12: 0.81 | F12: 0.44 | G12: 0.22 | H12: 0.15 | I12: 0.04 | J12: 0.04 | K12: 0.44 | L12: 0.33 | M12: 0.3 | N12: 0.26 | O12: 0.22 | Q12: =A12 -> Melbourne City | R12: =IF(D12<$Q$1,"No Bet","Bet") -> Bet | S12: =IF(E12<$Q$1,"No Bet","Bet") -> No Bet | T12: =IF(F12<$Q$1,"No Bet","Bet") -> No Bet | U12: =IF(G12<$Q$1,"No Bet","Bet") -> No Bet | V12: =IF(R12="bet",1,0) -> 1 | W12: =IF(S12="bet",1,0) -> 0 | X12: =IF(T12="bet",1,0) -> 0 | Y12: =IF(U12="bet",1,0) -> 0 | Z12: =SUM(V12:Y12) -> 1
A13: Adelaide Utd | B13: 27 | C13: 2.56 | D13: 0.85 | E13: 0.78 | F13: 0.44 | G13: 0.22 | H13: 0.07 | I13: 0.07 | J13: 0.07 | K13: 0.52 | L13: 0.3 | M13: 0.33 | N13: 0.15 | O13: 0.19 | Q13: =A13 -> Adelaide Utd | R13: =IF(D13<$Q$1,"No Bet","Bet") -> Bet | S13: =IF(E13<$Q$1,"No Bet","Bet") -> No Bet | T13: =IF(F13<$Q$1,"No Bet","Bet") -> No Bet | U13: =IF(G13<$Q$1,"No Bet","Bet") -> No Bet | V13: =IF(R13="bet",1,0) -> 1 | W13: =IF(S13="bet",1,0) -> 0 | X13: =IF(T13="bet",1,0) -> 0 | Y13: =IF(U13="bet",1,0) -> 0 | Z13: =SUM(V13:Y13) -> 1
A15: League average | D15: 0.956 | E15: 0.859 | F15: 0.57 | G15: 0.341 | H15: 0.215 | I15: 0.089 | J15: 0.059 | K15: 0.607 | L15: 0.219 | M15: 0.219 | N15: 0.174 | O15: 0.174
A16: Home matches of... | B16: Pld | C16: Avg | D16: 0.5+ | E16: 1.5+ | F16: 2.5+ | G16: 3.5+ | H16: 4.5+ | I16: 5.5+ | J16: 6.5+ | K16: BTS | L16: CS | M16: FTS | N16: WTN | O16: LTN | R16: 0.5 | S16: 1.5 | T16: 2.5 | U16: 3.5
B17: Brisbane Roar | C17: 13 | D17: 4.23 | E17: 0.92 | F17: 0.92 | G17: 0.77 | H17: 0.62 | I17: 0.46 | J17: 0.31 | K17: 0.15 | L17: 0.77 | M17: 0.15 | N17: 0.15 | O17: 0.08 | P17: 0.08 | R17: =IF(E17<$Q$1,"No Bet","Bet") -> Bet | S17: =IF(F17<$Q$1,"No Bet","Bet") -> Bet | T17: =IF(G17<$Q$1,"No Bet","Bet") -> No Bet | U17: =IF(H17<$Q$1,"No Bet","Bet") -> No Bet
A18: Central Coast | B18: 13 | C18: 4 | D18: 1 | E18: 0.92 | F18: 0.77 | G18: 0.38 | H18: 0.31 | I18: 0.15 | J18: 0.15 | K18: 0.77 | L18: 0 | M18: 0.23 | N18: 0 | O18: 0.23 | R18: =IF(D18<$Q$1,"No Bet","Bet") -> Bet | S18: =IF(E18<$Q$1,"No Bet","Bet") -> Bet | T18: =IF(F18<$Q$1,"No Bet","Bet") -> No Bet | U18: =IF(G18<$Q$1,"No Bet","Bet") -> No Bet
A19: Melbourne Vic. | B19: 14 | C19: 3.29 | D19: 1 | E19: 1 | F19: 0.71 | G19: 0.29 | H19: 0.21 | I19: 0.07 | J19: 0 | K19: 0.79 | L19: 0.14 | M19: 0.07 | N19: 0.14 | O19: 0.07 | R19: =IF(D19<$Q$1,"No Bet","Bet") -> Bet | S19: =IF(E19<$Q$1,"No Bet","Bet") -> Bet | T19: =IF(F19<$Q$1,"No Bet","Bet") -> No Bet | U19: =IF(G19<$Q$1,"No Bet","Bet") -> No Bet
A20: Wellington | B20: 14 | C20: 3.07 | D20: 1 | E20: 0.79 | F20: 0.57 | G20: 0.43 | H20: 0.29 | I20: 0 | J20: 0 | K20: 0.64 | L20: 0.14 | M20: 0.21 | N20: 0.14 | O20: 0.21 | R20: =IF(D20<$Q$1,"No Bet","Bet") -> Bet | S20: =IF(E20<$Q$1,"No Bet","Bet") -> No Bet | T20: =IF(F20<$Q$1,"No Bet","Bet") -> No Bet | U20: =IF(G20<$Q$1,"No Bet","Bet") -> No Bet
A21: Perth Glory | B21: 14 | C21: 3 | D21: 0.93 | E21: 0.79 | F21: 0.57 | G21: 0.36 | H21: 0.21 | I21: 0.07 | J21: 0.07 | K21: 0.43 | L21: 0.5 | M21: 0.14 | N21: 0.43 | O21: 0.07 | R21: =IF(D21<$Q$1,"No Bet","Bet") -> Bet | S21: =IF(E21<$Q$1,"No Bet","Bet") -> No Bet | T21: =IF(F21<$Q$1,"No Bet","Bet") -> No Bet | U21: =IF(G21<$Q$1,"No Bet","Bet") -> No Bet
A22: Western Sydney | B22: 14 | C22: 2.93 | D22: 1 | E22: 0.93 | F22: 0.5 | G22: 0.29 | H22: 0.14 | I22: 0.07 | J22: 0 | K22: 0.57 | L22: 0.21 | M22: 0.21 | N22: 0.21 | O22: 0.21 | R22: =IF(D22<$Q$1,"No Bet","Bet") -> Bet | S22: =IF(E22<$Q$1,"No Bet","Bet") -> Bet | T22: =IF(F22<$Q$1,"No Bet","Bet") -> No Bet | U22: =IF(G22<$Q$1,"No Bet","Bet") -> No Bet
A23: Melbourne City | B23: 13 | C23: 2.85 | D23: 0.85 | E23: 0.77 | F23: 0.54 | G23: 0.31 | H23: 0.23 | I23: 0.08 | J23: 0.08 | K23: 0.46 | L23: 0.46 | M23: 0.23 | N23: 0.31 | O23: 0.08 | R23: =IF(D23<$Q$1,"No Bet","Bet") -> Bet | S23: =IF(E23<$Q$1,"No Bet","Bet") -> No Bet | T23: =IF(F23<$Q$1,"No Bet","Bet") -> No Bet | U23: =IF(G23<$Q$1,"No Bet","Bet") -> No Bet
A24: Adelaide Utd | B24: 14 | C24: 2.71 | D24: 0.93 | E24: 0.86 | F24: 0.43 | G24: 0.29 | H24: 0.07 | I24: 0.07 | J24: 0.07 | K24: 0.57 | L24: 0.21 | M24: 0.29 | N24: 0.14 | O24: 0.21 | R24: =IF(D24<$Q$1,"No Bet","Bet") -> Bet | S24: =IF(E24<$Q$1,"No Bet","Bet") -> Bet | T24: =IF(F24<$Q$1,"No Bet","Bet") -> No Bet | U24: =IF(G24<$Q$1,"No Bet","Bet") -> No Bet
A25: Sydney FC | B25: 13 | C25: 2.69 | D25: 1 | E25: 0.85 | F25: 0.46 | G25: 0.15 | H25: 0.08 | I25: 0.08 | J25: 0.08 | K25: 0.54 | L25: 0.38 | M25: 0.08 | N25: 0.38 | O25: 0.08 | R25: =IF(D25<$Q$1,"No Bet","Bet") -> Bet | S25: =IF(E25<$Q$1,"No Bet","Bet") -> Bet | T25: =IF(F25<$Q$1,"No Bet","Bet") -> No Bet | U25: =IF(G25<$Q$1,"No Bet","Bet") -> No Bet
A26: Newcastle Jets | B26: 13 | C26: 2.54 | D26: 0.92 | E26: 0.77 | F26: 0.38 | G26: 0.31 | H26: 0.15 | I26: 0 | J26: 0 | K26: 0.54 | L26: 0.31 | M26: 0.23 | N26: 0.23 | O26: 0.15 | R26: =IF(D26<$Q$1,"No Bet","Bet") -> Bet | S26: =IF(E26<$Q$1,"No Bet","Bet") -> No Bet | T26: =IF(F26<$Q$1,"No Bet","Bet") -> No Bet | U26: =IF(G26<$Q$1,"No Bet","Bet") -> No Bet
A28: League average | D28: 0.956 | E28: 0.859 | F28: 0.57 | G28: 0.341 | H28: 0.215 | I28: 0.089 | J28: 0.059 | K28: 0.607 | L28: 0.252 | M28: 0.185 | N28: 0.207 | O28: 0.141
A29: Away matches of... | B29: Pld | C29: Avg | D29: 0.5+ | E29: 1.5+ | F29: 2.5+ | G29: 3.5+ | H29: 4.5+ | I29: 5.5+ | J29: 6.5+ | K29: BTS | L29: CS | M29: FTS | N29: WTN | O29: LTN | R29: 0.5 | S29: 1.5 | T29: 2.5 | U29: 3.5
B30: Western Sydney | C30: 13 | D30: 4.23 | E30: 1 | F30: 1 | G30: 0.85 | H30: 0.77 | I30: 0.31 | J30: 0.15 | K30: 0.15 | L30: 0.77 | M30: 0.08 | N30: 0.15 | O30: 0.08 | P30: 0.15 | R30: =IF(E30<$Q$1,"No Bet","Bet") -> Bet | S30: =IF(F30<$Q$1,"No Bet","Bet") -> Bet | T30: =IF(G30<$Q$1,"No Bet","Bet") -> Bet | U30: =IF(H30<$Q$1,"No Bet","Bet") -> No Bet
A31: Brisbane Roar | B31: 14 | C31: 3.86 | D31: 1 | E31: 0.93 | F31: 0.79 | G31: 0.5 | H31: 0.29 | I31: 0.14 | J31: 0.14 | K31: 0.79 | L31: 0 | M31: 0.21 | N31: 0 | O31: 0.21 | R31: =IF(D31<$Q$1,"No Bet","Bet") -> Bet | S31: =IF(E31<$Q$1,"No Bet","Bet") -> Bet | T31: =IF(F31<$Q$1,"No Bet","Bet") -> No Bet | U31: =IF(G31<$Q$1,"No Bet","Bet") -> No Bet
A32: Wellington | B32: 13 | C32: 3.54 | D32: 0.85 | E32: 0.85 | F32: 0.62 | G32: 0.46 | H32: 0.31 | I32: 0.15 | J32: 0.08 | K32: 0.62 | L32: 0.15 | M32: 0.38 | N32: 0 | O32: 0.23 | R32: =IF(D32<$Q$1,"No Bet","Bet") -> Bet | S32: =IF(E32<$Q$1,"No Bet","Bet") -> Bet | T32: =IF(F32<$Q$1,"No Bet","Bet") -> No Bet | U32: =IF(G32<$Q$1,"No Bet","Bet") -> No Bet
A33: Central Coast | B33: 14 | C33: 3.5 | D33: 1 | E33: 0.93 | F33: 0.57 | G33: 0.43 | H33: 0.43 | I33: 0.07 | J33: 0.07 | K33: 0.64 | L33: 0 | M33: 0.36 | N33: 0 | O33: 0.36 | R33: =IF(D33<$Q$1,"No Bet","Bet") -> Bet | S33: =IF(E33<$Q$1,"No Bet","Bet") -> Bet | T33: =IF(F33<$Q$1,"No Bet","Bet") -> No Bet | U33: =IF(G33<$Q$1,"No Bet","Bet") -> No Bet
A34: Newcastle Jets | B34: 14 | C34: 3.07 | D34: 1 | E34: 0.86 | F34: 0.57 | G34: 0.21 | H34: 0.21 | I34: 0.14 | J34: 0.07 | K34: 0.57 | L34: 0.14 | M34: 0.29 | N34: 0.14 | O34: 0.29 | R34: =IF(D34<$Q$1,"No Bet","Bet") -> Bet | S34: =IF(E34<$Q$1,"No Bet","Bet") -> Bet | T34: =IF(F34<$Q$1,"No Bet","Bet") -> No Bet | U34: =IF(G34<$Q$1,"No Bet","Bet") -> No Bet
A35: Perth Glory | B35: 13 | C35: 2.85 | D35: 0.92 | E35: 0.85 | F35: 0.46 | G35: 0.31 | H35: 0.23 | I35: 0.08 | J35: 0 | K35: 0.54 | L35: 0.38 | M35: 0.15 | N35: 0.31 | O35: 0.08 | R35: =IF(D35<$Q$1,"No Bet","Bet") -> Bet | S35: =IF(E35<$Q$1,"No Bet","Bet") -> Bet | T35: =IF(F35<$Q$1,"No Bet","Bet") -> No Bet | U35: =IF(G35<$Q$1,"No Bet","Bet") -> No Bet
A36: Melbourne Vic. | B36: 13 | C36: 2.77 | D36: 1 | E36: 0.77 | F36: 0.46 | G36: 0.23 | H36: 0.23 | I36: 0.08 | J36: 0 | K36: 0.54 | L36: 0.31 | M36: 0.15 | N36: 0.31 | O36: 0.15 | R36: =IF(D36<$Q$1,"No Bet","Bet") -> Bet | S36: =IF(E36<$Q$1,"No Bet","Bet") -> No Bet | T36: =IF(F36<$Q$1,"No Bet","Bet") -> No Bet | U36: =IF(G36<$Q$1,"No Bet","Bet") -> No Bet
A37: Sydney FC | B37: 14 | C37: 2.64 | D37: 1 | E37: 0.86 | F37: 0.57 | G37: 0.21 | H37: 0 | I37: 0 | J37: 0 | K37: 0.71 | L37: 0.21 | M37: 0.07 | N37: 0.21 | O37: 0.07 | R37: =IF(D37<$Q$1,"No Bet","Bet") -> Bet | S37: =IF(E37<$Q$1,"No Bet","Bet") -> Bet | T37: =IF(F37<$Q$1,"No Bet","Bet") -> No Bet | U37: =IF(G37<$Q$1,"No Bet","Bet") -> No Bet
A38: Melbourne City | B38: 14 | C38: 2.43 | D38: 1 | E38: 0.86 | F38: 0.36 | G38: 0.14 | H38: 0.07 | I38: 0 | J38: 0 | K38: 0.43 | L38: 0.21 | M38: 0.36 | N38: 0.21 | O38: 0.36 | R38: =IF(D38<$Q$1,"No Bet","Bet") -> Bet | S38: =IF(E38<$Q$1,"No Bet","Bet") -> Bet | T38: =IF(F38<$Q$1,"No Bet","Bet") -> No Bet | U38: =IF(G38<$Q$1,"No Bet","Bet") -> No Bet
A39: Adelaide Utd | B39: 13 | C39: 2.38 | D39: 0.77 | E39: 0.69 | F39: 0.46 | G39: 0.15 | H39: 0.08 | I39: 0.08 | J39: 0.08 | K39: 0.46 | L39: 0.38 | M39: 0.38 | N39: 0.15 | O39: 0.15 | R39: =IF(D39<$Q$1,"No Bet","Bet") -> No Bet | S39: =IF(E39<$Q$1,"No Bet","Bet") -> No Bet | T39: =IF(F39<$Q$1,"No Bet","Bet") -> No Bet | U39: =IF(G39<$Q$1,"No Bet","Bet") -> No Bet
A41: League average | D41: 0.956 | E41: 0.859 | F41: 0.57 | G41: 0.341 | H41: 0.215 | I41: 0.089 | J41: 0.059 | K41: 0.607 | L41: 0.185 | M41: 0.252 | N41: 0.141 | O41: 0.207
A44: Over / Under (total goals) at Halftime
A47: Match goals stats at half-time
A48: Matches of... | B48: Pld | C48: Avg | D48: 0.5+ | E48: 1.5+ | F48: 2.5+ | G48: 3.5+ | H48: 4.5+ | I48: 5.5+ | J48: 6.5+ | K48: BTS | L48: CS | M48: FTS | N48: WTN | O48: LTN
B49: Brisbane Roar | C49: 27 | D49: 1.96 | E49: 0.89 | F49: 0.56 | G49: 0.26 | H49: 0.15 | I49: 0.07 | J49: 0.04 | K49: 0 | L49: 0.33 | M49: 0.22 | N49: 0.56 | O49: 0.11 | P49: 0.44
A50: Central Coast | B50: 27 | C50: 1.67 | D50: 0.93 | E50: 0.48 | F50: 0.15 | G50: 0.07 | H50: 0.04 | I50: 0 | J50: 0 | K50: 0.15 | L50: 0.44 | M50: 0.48 | N50: 0.37 | O50: 0.41
A51: Western Sydney | B51: 27 | C51: 1.67 | D51: 1 | E51: 0.41 | F51: 0.22 | G51: 0.04 | H51: 0 | I51: 0 | J51: 0 | K51: 0.22 | L51: 0.3 | M51: 0.48 | N51: 0.3 | O51: 0.48
A52: Wellington | B52: 27 | C52: 1.59 | D52: 0.81 | E52: 0.52 | F52: 0.19 | G52: 0.07 | H52: 0 | I52: 0 | J52: 0 | K52: 0.19 | L52: 0.48 | M52: 0.52 | N52: 0.3 | O52: 0.33
A53: Melbourne Vic. | B53: 27 | C53: 1.41 | D53: 0.7 | E53: 0.41 | F53: 0.15 | G53: 0.07 | H53: 0.04 | I53: 0.04 | J53: 0 | K53: 0.19 | L53: 0.63 | M53: 0.48 | N53: 0.33 | O53: 0.19
A54: Perth Glory | B54: 27 | C54: 1.33 | D54: 0.81 | E54: 0.41 | F54: 0.11 | G54: 0 | H54: 0 | I54: 0 | J54: 0 | K54: 0.04 | L54: 0.7 | M54: 0.44 | N54: 0.52 | O54: 0.26
A55: Sydney FC | B55: 27 | C55: 1.22 | D55: 0.89 | E55: 0.26 | F55: 0.07 | G55: 0 | H55: 0 | I55: 0 | J55: 0 | K55: 0.19 | L55: 0.56 | M55: 0.37 | N55: 0.44 | O55: 0.26
A56: Melbourne City | B56: 27 | C56: 1.19 | D56: 0.81 | E56: 0.3 | F56: 0.07 | G56: 0 | H56: 0 | I56: 0 | J56: 0 | K56: 0.15 | L56: 0.48 | M56: 0.56 | N56: 0.3 | O56: 0.37
A57: Adelaide Utd | B57: 27 | C57: 1.11 | D57: 0.7 | E57: 0.26 | F57: 0.11 | G57: 0.04 | H57: 0 | I57: 0 | J57: 0 | K57: 0.15 | L57: 0.63 | M57: 0.52 | N57: 0.33 | O57: 0.22
A58: Newcastle Jets | B58: 27 | C58: 1 | D58: 0.74 | E58: 0.19 | F58: 0.07 | G58: 0 | H58: 0 | I58: 0 | J58: 0 | K58: 0.04 | L58: 0.59 | M58: 0.63 | N58: 0.33 | O58: 0.37
A60: League average | D60: 0.83 | E60: 0.378 | F60: 0.141 | G60: 0.044 | H60: 0.015 | I60: 0.007 | J60: 0 | K60: 0.163 | L60: 0.504 | M60: 0.504 | N60: 0.333 | O60: 0.333
A62: Match goals stats at half-time (at home)
A63: Home matches of... | B63: Pld | C63: Avg | D63: 0.5+ | E63: 1.5+ | F63: 2.5+ | G63: 3.5+ | H63: 4.5+ | I63: 5.5+ | J63: 6.5+ | K63: BTS | L63: CS | M63: FTS | N63: WTN | O63: LTN
B64: Central Coast | C64: 13 | D64: 2.08 | E64: 1 | F64: 0.62 | G64: 0.23 | H64: 0.15 | I64: 0.08 | J64: 0 | K64: 0 | L64: 0.23 | M64: 0.38 | N64: 0.38 | O64: 0.38 | P64: 0.38
A65: Brisbane Roar | B65: 13 | C65: 1.92 | D65: 0.85 | E65: 0.54 | F65: 0.23 | G65: 0.15 | H65: 0.08 | I65: 0.08 | J65: 0 | K65: 0.23 | L65: 0.38 | M65: 0.54 | N65: 0.23 | O65: 0.38
A66: Western Sydney | B66: 14 | C66: 1.5 | D66: 1 | E66: 0.36 | F66: 0.14 | G66: 0 | H66: 0 | I66: 0 | J66: 0 | K66: 0.21 | L66: 0.21 | M66: 0.57 | N66: 0.21 | O66: 0.57
A67: Melbourne Vic. | B67: 14 | C67: 1.43 | D67: 0.71 | E67: 0.43 | F67: 0.21 | G67: 0.07 | H67: 0 | I67: 0 | J67: 0 | K67: 0.14 | L67: 0.64 | M67: 0.5 | N67: 0.36 | O67: 0.21
A68: Perth Glory | B68: 14 | C68: 1.36 | D68: 0.86 | E68: 0.36 | F68: 0.14 | G68: 0 | H68: 0 | I68: 0 | J68: 0 | K68: 0.07 | L68: 0.71 | M68: 0.36 | N68: 0.57 | O68: 0.21
A69: Wellington | B69: 14 | C69: 1.36 | D69: 0.86 | E69: 0.43 | F69: 0.07 | G69: 0 | H69: 0 | I69: 0 | J69: 0 | K69: 0.21 | L69: 0.57 | M69: 0.36 | N69: 0.43 | O69: 0.21
A70: Sydney FC | B70: 13 | C70: 1.31 | D70: 0.92 | E70: 0.31 | F70: 0.08 | G70: 0 | H70: 0 | I70: 0 | J70: 0 | K70: 0.23 | L70: 0.54 | M70: 0.31 | N70: 0.46 | O70: 0.23
A71: Melbourne City | B71: 13 | C71: 1.23 | D71: 0.69 | E71: 0.38 | F71: 0.15 | G71: 0 | H71: 0 | I71: 0 | J71: 0 | K71: 0.15 | L71: 0.69 | M71: 0.46 | N71: 0.38 | O71: 0.15
A72: Adelaide Utd | B72: 14 | C72: 1.21 | D72: 0.71 | E72: 0.29 | F72: 0.14 | G72: 0.07 | H72: 0 | I72: 0 | J72: 0 | K72: 0.14 | L72: 0.57 | M72: 0.57 | N72: 0.29 | O72: 0.29
A73: Newcastle Jets | B73: 13 | C73: 0.77 | D73: 0.69 | E73: 0.08 | F73: 0 | G73: 0 | H73: 0 | I73: 0 | J73: 0 | K73: 0 | L73: 0.69 | M73: 0.62 | N73: 0.38 | O73: 0.31
A75: League average | D75: 0.83 | E75: 0.378 | F75: 0.141 | G75: 0.044 | H75: 0.015 | I75: 0.007 | J75: 0 | K75: 0.163 | L75: 0.541 | M75: 0.467 | N75: 0.37 | O75: 0.296
A77: Match goals stats at half-time (away)
A78: Away matches of... | B78: Pld | C78: Avg | D78: 0.5+ | E78: 1.5+ | F78: 2.5+ | G78: 3.5+ | H78: 4.5+ | I78: 5.5+ | J78: 6.5+ | K78: BTS | L78: CS | M78: FTS | N78: WTN | O78: LTN
B79: Brisbane Roar | C79: 14 | D79: 2 | E79: 0.93 | F79: 0.57 | G79: 0.29 | H79: 0.14 | I79: 0.07 | J79: 0 | K79: 0 | L79: 0.43 | M79: 0.07 | N79: 0.57 | O79: 0 | P79: 0.5
A80: Wellington | B80: 13 | C80: 1.85 | D80: 0.77 | E80: 0.62 | F80: 0.31 | G80: 0.15 | H80: 0 | I80: 0 | J80: 0 | K80: 0.15 | L80: 0.38 | M80: 0.69 | N80: 0.15 | O80: 0.46
A81: Western Sydney | B81: 13 | C81: 1.85 | D81: 1 | E81: 0.46 | F81: 0.31 | G81: 0.08 | H81: 0 | I81: 0 | J81: 0 | K81: 0.23 | L81: 0.38 | M81: 0.38 | N81: 0.38 | O81: 0.38
A82: Melbourne Vic. | B82: 13 | C82: 1.38 | D82: 0.69 | E82: 0.38 | F82: 0.08 | G82: 0.08 | H82: 0.08 | I82: 0.08 | J82: 0 | K82: 0.23 | L82: 0.62 | M82: 0.46 | N82: 0.31 | O82: 0.15
A83: Perth Glory | B83: 13 | C83: 1.31 | D83: 0.77 | E83: 0.46 | F83: 0.08 | G83: 0 | H83: 0 | I83: 0 | J83: 0 | K83: 0 | L83: 0.69 | M83: 0.54 | N83: 0.46 | O83: 0.31
A84: Central Coast | B84: 14 | C84: 1.29 | D84: 0.86 | E84: 0.36 | F84: 0.07 | G84: 0 | H84: 0 | I84: 0 | J84: 0 | K84: 0.07 | L84: 0.5 | M84: 0.57 | N84: 0.36 | O84: 0.43
A85: Newcastle Jets | B85: 14 | C85: 1.21 | D85: 0.79 | E85: 0.29 | F85: 0.14 | G85: 0 | H85: 0 | I85: 0 | J85: 0 | K85: 0.07 | L85: 0.5 | M85: 0.64 | N85: 0.29 | O85: 0.43
A86: Melbourne City | B86: 14 | C86: 1.14 | D86: 0.93 | E86: 0.21 | F86: 0 | G86: 0 | H86: 0 | I86: 0 | J86: 0 | K86: 0.14 | L86: 0.29 | M86: 0.64 | N86: 0.21 | O86: 0.57
A87: Sydney FC | B87: 14 | C87: 1.14 | D87: 0.86 | E87: 0.21 | F87: 0.07 | G87: 0 | H87: 0 | I87: 0 | J87: 0 | K87: 0.14 | L87: 0.57 | M87: 0.43 | N87: 0.43 | O87: 0.29
A88: Adelaide Utd | B88: 13 | C88: 1 | D88: 0.69 | E88: 0.23 | F88: 0.08 | G88: 0 | H88: 0 | I88: 0 | J88: 0 | K88: 0.15 | L88: 0.69 | M88: 0.46 | N88: 0.38 | O88: 0.15
A90: League average | D90: 0.83 | E90: 0.378 | F90: 0.141 | G90: 0.044 | H90: 0.015 | I90: 0.007 | J90: 0 | K90: 0.163 | L90: 0.467 | M90: 0.541 | N90: 0.296 | O90: 0.37
A92: See also:
A93: - Goal margins

Sheet Matchs Belgique
A1: Home / Away | D1: % Points per game | G1: W D L | H1: TG | I1: 2.5+ | J1: Last 4
A4: Fri | B4: 0.85416667 | C4: home | D4: Charleroi | F4: 0.67 | H4: 2.5 | I4: 0.5 | K4: stats
A5: 13 | C5: away | D5: KRC Genk | F5: 0.44 | H5: 3.33 | I5: 0.67
A8: Sat | B8: 0.75 | C8: home | D8: Oostende | F8: 0.67 | H8: 3 | I8: 0.67 | K8: stats
A9: 14 | C9: away | D9: Standard Liege | F9: 0.33 | H9: 2 | I9: 0.33
A11: Sat | B11: 0.83333333 | C11: home | D11: Eupen | F11: 0.11 | H11: 3 | I11: 0.33 | K11: stats
A12: 14 | C12: away | D12: Zulte-Waregem | F12: 0.44 | H12: 2 | I12: 0.33
A14: Sat | B14: 0.83333333 | C14: home | D14: Sint-Truiden | F14: 0.44 | H14: 1.33 | I14: 0.33 | K14: stats
A15: 14 | C15: away | D15: Beveren | F15: 0.11 | H15: 2.67 | I15: 0.33
A17: Sat | B17: 0.85416667 | C17: home | D17: Cercle Brugge | F17: 0.33 | H17: 2.33 | I17: 0.33 | K17: stats
A18: 14 | C18: away | D18: Club Brugge | F18: 1 | H18: 3 | I18: 0.5
A21: Sun | B21: 0.60416667 | C21: home | D21: Anderlecht | F21: 0.44 | H21: 1.33 | I21: 0.33 | K21: stats
A22: 15 | C22: away | D22: Antwerp | F22: 0.33 | H22: 3.33 | I22: 0.67
A24: Sun | B24: 0.75 | C24: home | D24: Gent | F24: 1 | H24: 4.67 | I24: 0.67 | K24: stats
A25: 15 | C25: away | D25: KV Mechelen | F25: 0.44 | H25: 1.67 | I25: 0.33
A27: Sun | B27: 0.85416667 | C27: home | D27: Mouscron-P | F27: 0.78 | H27: 1.67 | I27: 0.33 | K27: stats
A28: 15 | C28: away | D28: Kortrijk | F28: 0.33 | H28: 3.33 | I28: 1
A29: Calculations based on home results of the home team and away results of the visiting team recorded during the current season in the league.

Sheet Belgique
A1: Over / Under (total goals) | Q1: 0.85
A3: Matches of... | B3: GP | C3: Avg | D3: 0.5+ | E3: 1.5+ | F3: 2.5+ | G3: 3.5+ | H3: 4.5+ | I3: 5.5+ | J3: 6.5+ | K3: BTS | L3: CS | M3: FTS | N3: WTN | O3: LTN | R3: 0.5 | S3: 1.5 | T3: 2.5 | U3: 3.5 | AB3: Colonne1 | AC3: Colonne2 | AD3: Colonne3 | AE3: Colonne4 | AF3: Colonne5 | AG3: Colonne6
B4: Gent | C4: 5 | D4: 3.8 | E4: 1 | F4: 1 | G4: 0.6 | H4: 0.4 | I4: 0.4 | J4: 0.2 | K4: 0.2 | L4: 0.8 | M4: 0.2 | N4: 0 | O4: 0.2 | P4: 0 | Q4: =B4 -> Gent | R4: =IF(E4<$Q$1,"No Bet","Bet") -> Bet | S4: =IF(F4<$Q$1,"No Bet","Bet") -> Bet | T4: =IF(G4<$Q$1,"No Bet","Bet") -> No Bet | U4: =IF(H4<$Q$1,"No Bet","Bet") -> No Bet | V4: =IF(R4="bet",1,0) -> 1 | W4: =IF(S4="bet",1,0) -> 1 | X4: =IF(T4="bet",1,0) -> 0 | Y4: =IF(U4="bet",1,0) -> 0 | Z4: =SUM(V4:Y4) -> 2 | AG4: BET
A5: Kortrijk | B5: 6 | C5: 3.67 | D5: 1 | E5: 1 | F5: 0.83 | G5: 0.5 | H5: 0.17 | I5: 0.17 | J5: 0 | K5: 1 | L5: 0 | M5: 0 | N5: 0 | O5: 0 | Q5: =A5 -> Kortrijk | R5: =IF(D5<$Q$1,"No Bet","Bet") -> Bet | S5: =IF(E5<$Q$1,"No Bet","Bet") -> Bet | T5: =IF(F5<$Q$1,"No Bet","Bet") -> No Bet | U5: =IF(G5<$Q$1,"No Bet","Bet") -> No Bet | V5: =IF(R5="bet",1,0) -> 1 | W5: =IF(S5="bet",1,0) -> 1 | X5: =IF(T5="bet",1,0) -> 0 | Y5: =IF(U5="bet",1,0) -> 0 | Z5: =SUM(V5:Y5) -> 2 | AB5: ='Matchs Belgique'!D4 -> Charleroi | AC5: =VLOOKUP(TRIM(AB5)&" ",Q$4:Z$27,10,0) -> 2 | AD5: ='Matchs Belgique'!D5 -> KRC Genk | AE5: =VLOOKUP(TRIM(AD5)&" ",Q$4:Z$27,10,0) -> 1 | AF5: =AC5+AE5 -> 3 | AG5: =IF(AF5<2,"",IF(AF5=2,"0.5",IF(AF5=3,"1",IF(AF5=4,"1.5",IF(AF5=5,"2",IF(AF5=6,"2.5",IF(AF5=7,"3",IF(AF5=8,"3.5")))))))) -> 1
A6: Antwerp | B6: 5 | C6: 3.4 | D6: 1 | E6: 1 | F6: 0.6 | G6: 0.4 | H6: 0.4 | I6: 0 | J6: 0 | K6: 0.6 | L6: 0.2 | M6: 0.2 | N6: 0.2 | O6: 0.2 | Q6: =A6 -> Antwerp | R6: =IF(D6<$Q$1,"No Bet","Bet") -> Bet | S6: =IF(E6<$Q$1,"No Bet","Bet") -> Bet | T6: =IF(F6<$Q$1,"No Bet","Bet") -> No Bet | U6: =IF(G6<$Q$1,"No Bet","Bet") -> No Bet | V6: =IF(R6="bet",1,0) -> 1 | W6: =IF(S6="bet",1,0) -> 1 | X6: =IF(T6="bet",1,0) -> 0 | Y6: =IF(U6="bet",1,0) -> 0 | Z6: =SUM(V6:Y6) -> 2 | AB6: ='Matchs Belgique'!D8 -> Oostende | AC6: =VLOOKUP(TRIM(AB6)&" ",Q$4:Z$27,10,0) -> 2 | AD6: ='Matchs Belgique'!D9 -> Standard Liege | AE6: =VLOOKUP(TRIM(AD6)&" ",Q$4:Z$27,10,0) -> 1 | AF6: =AC6+AE6 -> 3 | AG6: =IF(AF6<2,"",IF(AF6=2,"0.5",IF(AF6=3,"1",IF(AF6=4,"1.5",IF(AF6=5,"2",IF(AF6=6,"2.5",IF(AF6=7,"3",IF(AF6=8,"3.5")))))))) -> 1
A7: Beveren | B7: 6 | C7: 3.33 | D7: 1 | E7: 0.83 | F7: 0.67 | G7: 0.67 | H7: 0.17 | I7: 0 | J7: 0 | K7: 0.5 | L7: 0 | M7: 0.5 | N7: 0 | O7: 0.5 | Q7: =A7 -> Beveren | R7: =IF(D7<$Q$1,"No Bet","Bet") -> Bet | S7: =IF(E7<$Q$1,"No Bet","Bet") -> No Bet | T7: =IF(F7<$Q$1,"No Bet","Bet") -> No Bet | U7: =IF(G7<$Q$1,"No Bet","Bet") -> No Bet | V7: =IF(R7="bet",1,0) -> 1 | W7: =IF(S7="bet",1,0) -> 0 | X7: =IF(T7="bet",1,0) -> 0 | Y7: =IF(U7="bet",1,0) -> 0 | Z7: =SUM(V7:Y7) -> 1 | AB7: ='Matchs Belgique'!D11 -> Eupen | AC7: =VLOOKUP(TRIM(AB7)&" ",Q$4:Z$27,10,0) -> 0 | AD7: ='Matchs Belgique'!D12 -> Zulte-Waregem | AE7: =VLOOKUP(TRIM(AD7)&" ",Q$4:Z$27,10,0) -> 0 | AF7: =AC7+AE7 -> 0 | AG7: =IF(AF7<2,"",IF(AF7=2,"0.5",IF(AF7=3,"1",IF(AF7=4,"1.5",IF(AF7=5,"2",IF(AF7=6,"2.5",IF(AF7=7,"3",IF(AF7=8,"3.5"))))))))
A8: Cercle Brugge | B8: 6 | C8: 3.33 | D8: 1 | E8: 0.83 | F8: 0.67 | G8: 0.67 | H8: 0.17 | I8: 0 | J8: 0 | K8: 0.67 | L8: 0.17 | M8: 0.17 | N8: 0.17 | O8: 0.17 | Q8: =A8 -> Cercle Brugge | R8: =IF(D8<$Q$1,"No Bet","Bet") -> Bet | S8: =IF(E8<$Q$1,"No Bet","Bet") -> No Bet | T8: =IF(F8<$Q$1,"No Bet","Bet") -> No Bet | U8: =IF(G8<$Q$1,"No Bet","Bet") -> No Bet | V8: =IF(R8="bet",1,0) -> 1 | W8: =IF(S8="bet",1,0) -> 0 | X8: =IF(T8="bet",1,0) -> 0 | Y8: =IF(U8="bet",1,0) -> 0 | Z8: =SUM(V8:Y8) -> 1 | AB8: ='Matchs Belgique'!D14 -> Sint-Truiden | AC8: =VLOOKUP(TRIM(AB8)&" ",Q$4:Z$27,10,0) -> 0 | AD8: ='Matchs Belgique'!D15 -> Beveren | AE8: =VLOOKUP(TRIM(AD8)&" ",Q$4:Z$27,10,0) -> 1 | AF8: =AC8+AE8 -> 1 | AG8: =IF(AF8<2,"",IF(AF8=2,"0.5",IF(AF8=3,"1",IF(AF8=4,"1.5",IF(AF8=5,"2",IF(AF8=6,"2.5",IF(AF8=7,"3",IF(AF8=8,"3.5"))))))))
A9: Charleroi | B9: 5 | C9: 3 | D9: 1 | E9: 1 | F9: 0.6 | G9: 0.4 | H9: 0 | I9: 0 | J9: 0 | K9: 0.8 | L9: 0.2 | M9: 0 | N9: 0.2 | O9: 0 | Q9: =A9 -> Charleroi | R9: =IF(D9<$Q$1,"No Bet","Bet") -> Bet | S9: =IF(E9<$Q$1,"No Bet","Bet") -> Bet | T9: =IF(F9<$Q$1,"No Bet","Bet") -> No Bet | U9: =IF(G9<$Q$1,"No Bet","Bet") -> No Bet | V9: =IF(R9="bet",1,0) -> 1 | W9: =IF(S9="bet",1,0) -> 1 | X9: =IF(T9="bet",1,0) -> 0 | Y9: =IF(U9="bet",1,0) -> 0 | Z9: =SUM(V9:Y9) -> 2 | AB9: ='Matchs Belgique'!D17 -> Cercle Brugge | AC9: =VLOOKUP(TRIM(AB9)&" ",Q$4:Z$27,10,0) -> 1 | AD9: ='Matchs Belgique'!D18 -> Club Brugge | AE9: =VLOOKUP(TRIM(AD9)&" ",Q$4:Z$27,10,0) -> 0 | AF9: =AC9+AE9 -> 1 | AG9: =IF(AF9<2,"",IF(AF9=2,"0.5",IF(AF9=3,"1",IF(AF9=4,"1.5",IF(AF9=5,"2",IF(AF9=6,"2.5",IF(AF9=7,"3",IF(AF9=8,"3.5"))))))))
A10: Eupen | B10: 6 | C10: 3 | D10: 0.83 | E10: 0.83 | F10: 0.33 | G10: 0.33 | H10: 0.33 | I10: 0.17 | J10: 0.17 | K10: 0.5 | L10: 0.17 | M10: 0.5 | N10: 0 | O10: 0.33 | Q10: =A10 -> Eupen | R10: =IF(D10<$Q$1,"No Bet","Bet") -> No Bet | S10: =IF(E10<$Q$1,"No Bet","Bet") -> No Bet | T10: =IF(F10<$Q$1,"No Bet","Bet") -> No Bet | U10: =IF(G10<$Q$1,"No Bet","Bet") -> No Bet | V10: =IF(R10="bet",1,0) -> 0 | W10: =IF(S10="bet",1,0) -> 0 | X10: =IF(T10="bet",1,0) -> 0 | Y10: =IF(U10="bet",1,0) -> 0 | Z10: =SUM(V10:Y10) -> 0 | AB10: ='Matchs Belgique'!D21 -> Anderlecht | AC10: =VLOOKUP(TRIM(AB10)&" ",Q$4:Z$27,10,0) -> 0 | AD10: ='Matchs Belgique'!D22 -> Antwerp | AE10: =VLOOKUP(TRIM(AD10)&" ",Q$4:Z$27,10,0) -> 2 | AF10: =AC10+AE10 -> 2 | AG10: =IF(AF10<2,"",IF(AF10=2,"0.5",IF(AF10=3,"1",IF(AF10=4,"1.5",IF(AF10=5,"2",IF(AF10=6,"2.5",IF(AF10=7,"3",IF(AF10=8,"3.5")))))))) -> 0.5
A11: Oostende | B11: 6 | C11: 3 | D11: 1 | E11: 1 | F11: 0.67 | G11: 0.33 | H11: 0 | I11: 0 | J11: 0 | K11: 0.67 | L11: 0 | M11: 0.33 | N11: 0 | O11: 0.33 | Q11: =A11 -> Oostende | R11: =IF(D11<$Q$1,"No Bet","Bet") -> Bet | S11: =IF(E11<$Q$1,"No Bet","Bet") -> Bet | T11: =IF(F11<$Q$1,"No Bet","Bet") -> No Bet | U11: =IF(G11<$Q$1,"No Bet","Bet") -> No Bet | V11: =IF(R11="bet",1,0) -> 1 | W11: =IF(S11="bet",1,0) -> 1 | X11: =IF(T11="bet",1,0) -> 0 | Y11: =IF(U11="bet",1,0) -> 0 | Z11: =SUM(V11:Y11) -> 2 | AB11: ='Matchs Belgique'!D24 -> Gent | AC11: =VLOOKUP(TRIM(AB11)&" ",Q$4:Z$27,10,0) -> 2 | AD11: ='Matchs Belgique'!D25 -> KV Mechelen | AE11: =VLOOKUP(TRIM(AD11)&" ",Q$4:Z$27,10,0) -> 0 | AF11: =AC11+AE11 -> 2 | AG11: =IF(AF11<2,"",IF(AF11=2,"0.5",IF(AF11=3,"1",IF(AF11=4,"1.5",IF(AF11=5,"2",IF(AF11=6,"2.5",IF(AF11=7,"3",IF(AF11=8,"3.5")))))))) -> 0.5
A12: Standard Liege | B12: 6 | C12: 3 | D12: 1 | E12: 0.83 | F12: 0.67 | G12: 0.33 | H12: 0.17 | I12: 0 | J12: 0 | K12: 0.5 | L12: 0.33 | M12: 0.17 | N12: 0.33 | O12: 0.17 | Q12: =A12 -> Standard Liege | R12: =IF(D12<$Q$1,"No Bet","Bet") -> Bet | S12: =IF(E12<$Q$1,"No Bet","Bet") -> No Bet | T12: =IF(F12<$Q$1,"No Bet","Bet") -> No Bet | U12: =IF(G12<$Q$1,"No Bet","Bet") -> No Bet | V12: =IF(R12="bet",1,0) -> 1 | W12: =IF(S12="bet",1,0) -> 0 | X12: =IF(T12="bet",1,0) -> 0 | Y12: =IF(U12="bet",1,0) -> 0 | Z12: =SUM(V12:Y12) -> 1 | AB12: ='Matchs Belgique'!D27 -> Mouscron-P | AC12: =VLOOKUP(TRIM(AB12)&" ",Q$4:Z$27,10,0) -> 0 | AD12: ='Matchs Belgique'!D28 -> Kortrijk | AE12: =VLOOKUP(TRIM(AD12)&" ",Q$4:Z$27,10,0) -> 2 | AF12: =AC12+AE12 -> 2 | AG12: =IF(AF12<2,"",IF(AF12=2,"0.5",IF(AF12=3,"1",IF(AF12=4,"1.5",IF(AF12=5,"2",IF(AF12=6,"2.5",IF(AF12=7,"3",IF(AF12=8,"3.5")))))))) -> 0.5
A13: KV Mechelen | B13: 6 | C13: 2.83 | D13: 0.83 | E13: 0.83 | F13: 0.67 | G13: 0.5 | H13: 0 | I13: 0 | J13: 0 | K13: 0.67 | L13: 0.33 | M13: 0.17 | N13: 0.17 | O13: 0 | Q13: =A13 -> KV Mechelen | R13: =IF(D13<$Q$1,"No Bet","Bet") -> No Bet | S13: =IF(E13<$Q$1,"No Bet","Bet") -> No Bet | T13: =IF(F13<$Q$1,"No Bet","Bet") -> No Bet | U13: =IF(G13<$Q$1,"No Bet","Bet") -> No Bet | V13: =IF(R13="bet",1,0) -> 0 | W13: =IF(S13="bet",1,0) -> 0 | X13: =IF(T13="bet",1,0) -> 0 | Y13: =IF(U13="bet",1,0) -> 0 | Z13: =SUM(V13:Y13) -> 0
A14: Club Brugge | B14: 5 | C14: 2.8 | D14: 0.8 | E14: 0.8 | F14: 0.4 | G14: 0.4 | H14: 0.2 | I14: 0.2 | J14: 0 | K14: 0.4 | L14: 0.6 | M14: 0.2 | N14: 0.4 | O14: 0 | Q14: =A14 -> Club Brugge | R14: =IF(D14<$Q$1,"No Bet","Bet") -> No Bet | S14: =IF(E14<$Q$1,"No Bet","Bet") -> No Bet | T14: =IF(F14<$Q$1,"No Bet","Bet") -> No Bet | U14: =IF(G14<$Q$1,"No Bet","Bet") -> No Bet | V14: =IF(R14="bet",1,0) -> 0 | W14: =IF(S14="bet",1,0) -> 0 | X14: =IF(T14="bet",1,0) -> 0 | Y14: =IF(U14="bet",1,0) -> 0 | Z14: =SUM(V14:Y14) -> 0
A15: KRC Genk | B15: 6 | C15: 2.67 | D15: 1 | E15: 0.83 | F15: 0.5 | G15: 0.33 | H15: 0 | I15: 0 | J15: 0 | K15: 0.5 | L15: 0.33 | M15: 0.17 | N15: 0.33 | O15: 0.17 | Q15: =A15 -> KRC Genk | R15: =IF(D15<$Q$1,"No Bet","Bet") -> Bet | S15: =IF(E15<$Q$1,"No Bet","Bet") -> No Bet | T15: =IF(F15<$Q$1,"No Bet","Bet") -> No Bet | U15: =IF(G15<$Q$1,"No Bet","Bet") -> No Bet | V15: =IF(R15="bet",1,0) -> 1 | W15: =IF(S15="bet",1,0) -> 0 | X15: =IF(T15="bet",1,0) -> 0 | Y15: =IF(U15="bet",1,0) -> 0 | Z15: =SUM(V15:Y15) -> 1
A16: Mouscron-P | B16: 6 | C16: 2.5 | D16: 0.83 | E16: 0.67 | F16: 0.5 | G16: 0.33 | H16: 0.17 | I16: 0 | J16: 0 | K16: 0.5 | L16: 0.5 | M16: 0.17 | N16: 0.33 | O16: 0 | Q16: =A16 -> Mouscron-P | R16: =IF(D16<$Q$1,"No Bet","Bet") -> No Bet | S16: =IF(E16<$Q$1,"No Bet","Bet") -> No Bet | T16: =IF(F16<$Q$1,"No Bet","Bet") -> No Bet | U16: =IF(G16<$Q$1,"No Bet","Bet") -> No Bet | V16: =IF(R16="bet",1,0) -> 0 | W16: =IF(S16="bet",1,0) -> 0 | X16: =IF(T16="bet",1,0) -> 0 | Y16: =IF(U16="bet",1,0) -> 0 | Z16: =SUM(V16:Y16) -> 0
A17: Sint-Truiden | B17: 6 | C17: 2.33 | D17: 0.83 | E17: 0.67 | F17: 0.33 | G17: 0.17 | H17: 0.17 | I17: 0.17 | J17: 0 | K17: 0.17 | L17: 0.33 | M17: 0.67 | N17: 0.17 | O17: 0.5 | Q17: =A17 -> Sint-Truiden | R17: =IF(D17<$Q$1,"No Bet","Bet") -> No Bet | S17: =IF(E17<$Q$1,"No Bet","Bet") -> No Bet | T17: =IF(F17<$Q$1,"No Bet","Bet") -> No Bet | U17: =IF(G17<$Q$1,"No Bet","Bet") -> No Bet | V17: =IF(R17="bet",1,0) -> 0 | W17: =IF(S17="bet",1,0) -> 0 | X17: =IF(T17="bet",1,0) -> 0 | Y17: =IF(U17="bet",1,0) -> 0 | Z17: =SUM(V17:Y17) -> 0
A18: Zulte-Waregem | B18: 6 | C18: 2.33 | D18: 0.83 | E18: 0.83 | F18: 0.33 | G18: 0.33 | H18: 0 | I18: 0 | J18: 0 | K18: 0.17 | L18: 0.5 | M18: 0.5 | N18: 0.33 | O18: 0.33 | Q18: =A18 -> Zulte-Waregem | R18: =IF(D18<$Q$1,"No Bet","Bet") -> No Bet | S18: =IF(E18<$Q$1,"No Bet","Bet") -> No Bet | T18: =IF(F18<$Q$1,"No Bet","Bet") -> No Bet | U18: =IF(G18<$Q$1,"No Bet","Bet") -> No Bet | V18: =IF(R18="bet",1,0) -> 0 | W18: =IF(S18="bet",1,0) -> 0 | X18: =IF(T18="bet",1,0) -> 0 | Y18: =IF(U18="bet",1,0) -> 0 | Z18: =SUM(V18:Y18) -> 0
A19: Anderlecht | B19: 6 | C19: 1.83 | D19: 0.67 | E19: 0.33 | F19: 0.33 | G19: 0.17 | H19: 0.17 | I19: 0.17 | J19: 0 | K19: 0.33 | L19: 0.5 | M19: 0.5 | N19: 0.17 | O19: 0.17 | Q19: =A19 -> Anderlecht | R19: =IF(D19<$Q$1,"No Bet","Bet") -> No Bet | S19: =IF(E19<$Q$1,"No Bet","Bet") -> No Bet | T19: =IF(F19<$Q$1,"No Bet","Bet") -> No Bet | U19: =IF(G19<$Q$1,"No Bet","Bet") -> No Bet | V19: =IF(R19="bet",1,0) -> 0 | W19: =IF(S19="bet",1,0) -> 0 | X19: =IF(T19="bet",1,0) -> 0 | Y19: =IF(U19="bet",1,0) -> 0 | Z19: =SUM(V19:Y19) -> 0
A21: League average | D21: 0.913 | E21: 0.826 | F21: 0.543 | G21: 0.391 | H21: 0.152 | I21: 0.065 | J21: 0.022 | K21: 0.543 | L21: 0.272 | M21: 0.272 | N21: 0.185 | O21: 0.185
A22: Home matches of... | B22: GP | C22: Avg | D22: 0.5+ | E22: 1.5+ | F22: 2.5+ | G22: 3.5+ | H22: 4.5+ | I22: 5.5+ | J22: 6.5+ | K22: BTS | L22: CS | M22: FTS | N22: WTN | O22: LTN | R22: 0.5 | S22: 1.5 | T22: 2.5 | U22: 3.5
B23: Gent | C23: 3 | D23: 4.67 | E23: 1 | F23: 1 | G23: 0.67 | H23: 0.67 | I23: 0.67 | J23: 0.33 | K23: 0.33 | L23: 0.67 | M23: 0.33 | N23: 0 | O23: 0.33 | P23: 0 | R23: =IF(E23<$Q$1,"No Bet","Bet") -> Bet | S23: =IF(F23<$Q$1,"No Bet","Bet") -> Bet | T23: =IF(G23<$Q$1,"No Bet","Bet") -> No Bet | U23: =IF(H23<$Q$1,"No Bet","Bet") -> No Bet
A24: Beveren | B24: 3 | C24: 4 | D24: 1 | E24: 1 | F24: 1 | G24: 1 | H24: 0 | I24: 0 | J24: 0 | K24: 0.33 | L24: 0 | M24: 0.67 | N24: 0 | O24: 0.67 | R24: =IF(D24<$Q$1,"No Bet","Bet") -> Bet | S24: =IF(E24<$Q$1,"No Bet","Bet") -> Bet | T24: =IF(F24<$Q$1,"No Bet","Bet") -> Bet | U24: =IF(G24<$Q$1,"No Bet","Bet") -> Bet
A25: Kortrijk | B25: 3 | C25: 4 | D25: 1 | E25: 1 | F25: 0.67 | G25: 0.67 | H25: 0.33 | I25: 0.33 | J25: 0 | K25: 1 | L25: 0 | M25: 0 | N25: 0 | O25: 0 | R25: =IF(D25<$Q$1,"No Bet","Bet") -> Bet | S25: =IF(E25<$Q$1,"No Bet","Bet") -> Bet | T25: =IF(F25<$Q$1,"No Bet","Bet") -> No Bet | U25: =IF(G25<$Q$1,"No Bet","Bet") -> No Bet
A26: KV Mechelen | B26: 3 | C26: 4 | D26: 1 | E26: 1 | F26: 1 | G26: 1 | H26: 0 | I26: 0 | J26: 0 | K26: 1 | L26: 0 | M26: 0 | N26: 0 | O26: 0 | R26: =IF(D26<$Q$1,"No Bet","Bet") -> Bet | S26: =IF(E26<$Q$1,"No Bet","Bet") -> Bet | T26: =IF(F26<$Q$1,"No Bet","Bet") -> Bet | U26: =IF(G26<$Q$1,"No Bet","Bet") -> Bet
A27: Standard Liege | B27: 3 | C27: 4 | D27: 1 | E27: 1 | F27: 1 | G27: 0.67 | H27: 0.33 | I27: 0 | J27: 0 | K27: 0.67 | L27: 0.33 | M27: 0 | N27: 0.33 | O27: 0 | R27: =IF(D27<$Q$1,"No Bet","Bet") -> Bet | S27: =IF(E27<$Q$1,"No Bet","Bet") -> Bet | T27: =IF(F27<$Q$1,"No Bet","Bet") -> Bet | U27: =IF(G27<$Q$1,"No Bet","Bet") -> No Bet
A28: Antwerp | B28: 2 | C28: 3.5 | D28: 1 | E28: 1 | F28: 0.5 | G28: 0.5 | H28: 0.5 | I28: 0 | J28: 0 | K28: 0.5 | L28: 0.5 | M28: 0 | N28: 0.5 | O28: 0 | R28: =IF(D28<$Q$1,"No Bet","Bet") -> Bet | S28: =IF(E28<$Q$1,"No Bet","Bet") -> Bet | T28: =IF(F28<$Q$1,"No Bet","Bet") -> No Bet | U28: =IF(G28<$Q$1,"No Bet","Bet") -> No Bet
A29: Eupen | B29: 3 | C29: 3 | D29: 1 | E29: 1 | F29: 0.33 | G29: 0.33 | H29: 0.33 | I29: 0 | J29: 0 | K29: 0.67 | L29: 0 | M29: 0.33 | N29: 0 | O29: 0.33 | R29: =IF(D29<$Q$1,"No Bet","Bet") -> Bet | S29: =IF(E29<$Q$1,"No Bet","Bet") -> Bet | T29: =IF(F29<$Q$1,"No Bet","Bet") -> No Bet | U29: =IF(G29<$Q$1,"No Bet","Bet") -> No Bet
A30: Oostende | B30: 3 | C30: 3 | D30: 1 | E30: 1 | F30: 0.67 | G30: 0.33 | H30: 0 | I30: 0 | J30: 0 | K30: 0.67 | L30: 0 | M30: 0.33 | N30: 0 | O30: 0.33 | R30: =IF(D30<$Q$1,"No Bet","Bet") -> Bet | S30: =IF(E30<$Q$1,"No Bet","Bet") -> Bet | T30: =IF(F30<$Q$1,"No Bet","Bet") -> No Bet | U30: =IF(G30<$Q$1,"No Bet","Bet") -> No Bet
A31: Club Brugge | B31: 3 | C31: 2.67 | D31: 0.67 | E31: 0.67 | F31: 0.33 | G31: 0.33 | H31: 0.33 | I31: 0.33 | J31: 0 | K31: 0.33 | L31: 0.67 | M31: 0.33 | N31: 0.33 | O31: 0 | R31: =IF(D31<$Q$1,"No Bet","Bet") -> No Bet | S31: =IF(E31<$Q$1,"No Bet","Bet") -> No Bet | T31: =IF(F31<$Q$1,"No Bet","Bet") -> No Bet | U31: =IF(G31<$Q$1,"No Bet","Bet") -> No Bet
A32: Zulte-Waregem | B32: 3 | C32: 2.67 | D32: 1 | E32: 1 | F32: 0.33 | G32: 0.33 | H32: 0 | I32: 0 | J32: 0 | K32: 0.33 | L32: 0.33 | M32: 0.33 | N32: 0.33 | O32: 0.33 | R32: =IF(D32<$Q$1,"No Bet","Bet") -> Bet | S32: =IF(E32<$Q$1,"No Bet","Bet") -> Bet | T32: =IF(F32<$Q$1,"No Bet","Bet") -> No Bet | U32: =IF(G32<$Q$1,"No Bet","Bet") -> No Bet
A33: Charleroi | B33: 2 | C33: 2.5 | D33: 1 | E33: 1 | F33: 0.5 | G33: 0 | H33: 0 | I33: 0 | J33: 0 | K33: 1 | L33: 0 | M33: 0 | N33: 0 | O33: 0 | R33: =IF(D33<$Q$1,"No Bet","Bet") -> Bet | S33: =IF(E33<$Q$1,"No Bet","Bet") -> Bet | T33: =IF(F33<$Q$1,"No Bet","Bet") -> No Bet | U33: =IF(G33<$Q$1,"No Bet","Bet") -> No Bet
A34: Cercle Brugge | B34: 3 | C34: 2.33 | D34: 1 | E34: 0.67 | F34: 0.33 | G34: 0.33 | H34: 0 | I34: 0 | J34: 0 | K34: 0.33 | L34: 0.33 | M34: 0.33 | N34: 0.33 | O34: 0.33 | R34: =IF(D34<$Q$1,"No Bet","Bet") -> Bet | S34: =IF(E34<$Q$1,"No Bet","Bet") -> No Bet | T34: =IF(F34<$Q$1,"No Bet","Bet") -> No Bet | U34: =IF(G34<$Q$1,"No Bet","Bet") -> No Bet
A35: KRC Genk | B35: 3 | C35: 2 | D35: 1 | E35: 0.67 | F35: 0.33 | G35: 0 | H35: 0 | I35: 0 | J35: 0 | K35: 0.33 | L35: 0.33 | M35: 0.33 | N35: 0.33 | O35: 0.33 | R35: =IF(D35<$Q$1,"No Bet","Bet") -> Bet | S35: =IF(E35<$Q$1,"No Bet","Bet") -> No Bet | T35: =IF(F35<$Q$1,"No Bet","Bet") -> No Bet | U35: =IF(G35<$Q$1,"No Bet","Bet") -> No Bet
... A38: Sint-Truiden | B38: 3 | C38: 1.33 | D38: 0.67 | E38: 0.33 | F38: 0.33 | G38: 0 | H38: 0 | I38: 0 | J38: 0 | K38: 0.33 | L38: 0.33 | M38: 0.67 | N38: 0 | O38: 0.33 | R38: =IF(D38<$Q$1,"No Bet","Bet") -> No Bet | S38: =IF(E38<$Q$1,"No Bet","Bet") -> No Bet | T38: =IF(F38<$Q$1,"No Bet","Bet") -> No Bet | U38: =IF(G38<$Q$1,"No Bet","Bet") -> No Bet
A40: League average | D40: 0.913 | E40: 0.826 | F40: 0.543 | G40: 0.391 | H40: 0.152 | I40: 0.065 | J40: 0.022 | K40: 0.543 | L40: 0.283 | M40: 0.261 | N40: 0.196 | O40: 0.174
A41: Away matches of... | B41: GP | C41: Avg | D41: 0.5+ | E41: 1.5+ | F41: 2.5+ | G41: 3.5+ | H41: 4.5+ | I41: 5.5+ | J41: 6.5+ | K41: BTS | L41: CS | M41: FTS | N41: WTN | O41: LTN | R41: 0.5 | S41: 1.5 | T41: 2.5 | U41: 3.5
B42: Cercle Brugge | C42: 3 | D42: 4.33 | E42: 1 | F42: 1 | G42: 1 | H42: 1 | I42: 0.33 | J42: 0 | K42: 0 | L42: 1 | M42: 0 | N42: 0 | O42: 0 | P42: 0 | Q42: =B42 -> Cercle Brugge | R42: =IF(E42<$Q$1,"No Bet","Bet") -> Bet | S42: =IF(F42<$Q$1,"No Bet","Bet") -> Bet | T42: =IF(G42<$Q$1,"No Bet","Bet") -> Bet | U42: =IF(H42<$Q$1,"No Bet","Bet") -> Bet
A43: Antwerp | B43: 3 | C43: 3.33 | D43: 1 | E43: 1 | F43: 0.67 | G43: 0.33 | H43: 0.33 | I43: 0 | J43: 0 | K43: 0.67 | L43: 0 | M43: 0.33 | N43: 0 | O43: 0.33 | Q43: =A43 -> Antwerp | R43: =IF(D43<$Q$1,"No Bet","Bet") -> Bet | S43: =IF(E43<$Q$1,"No Bet","Bet") -> Bet | T43: =IF(F43<$Q$1,"No Bet","Bet") -> No Bet | U43: =IF(G43<$Q$1,"No Bet","Bet") -> No Bet
A44: Charleroi | B44: 3 | C44: 3.33 | D44: 1 | E44: 1 | F44: 0.67 | G44: 0.67 | H44: 0 | I44: 0 | J44: 0 | K44: 0.67 | L44: 0.33 | M44: 0 | N44: 0.33 | O44: 0 | Q44: =A44 -> Charleroi | R44: =IF(D44<$Q$1,"No Bet","Bet") -> Bet | S44: =IF(E44<$Q$1,"No Bet","Bet") -> Bet | T44: =IF(F44<$Q$1,"No Bet","Bet") -> No Bet | U44: =IF(G44<$Q$1,"No Bet","Bet") -> No Bet
A45: Kortrijk | B45: 3 | C45: 3.33 | D45: 1 | E45: 1 | F45: 1 | G45: 0.33 | H45: 0 | I45: 0 | J45: 0 | K45: 1 | L45: 0 | M45: 0 | N45: 0 | O45: 0 | Q45: =A45 -> Kortrijk | R45: =IF(D45<$Q$1,"No Bet","Bet") -> Bet | S45: =IF(E45<$Q$1,"No Bet","Bet") -> Bet | T45: =IF(F45<$Q$1,"No Bet","Bet") -> Bet | U45: =IF(G45<$Q$1,"No Bet","Bet") -> No Bet
A46: KRC Genk | B46: 3 | C46: 3.33 | D46: 1 | E46: 1 | F46: 0.67 | G46: 0.67 | H46: 0 | I46: 0 | J46: 0 | K46: 0.67 | L46: 0.33 | M46: 0 | N46: 0.33 | O46: 0 | Q46: =A46 -> KRC Genk | R46: =IF(D46<$Q$1,"No Bet","Bet") -> Bet | S46: =IF(E46<$Q$1,"No Bet","Bet") -> Bet | T46: =IF(F46<$Q$1,"No Bet","Bet") -> No Bet | U46: =IF(G46<$Q$1,"No Bet","Bet") -> No Bet
A47: Mouscron-P | B47: 3 | C47: 3.33 | D47: 1 | E47: 0.67 | F47: 0.67 | G47: 0.67 | H47: 0.33 | I47: 0 | J47: 0 | K47: 0.67 | L47: 0.33 | M47: 0 | N47: 0.33 | O47: 0 | Q47: =A47 -> Mouscron-P | R47: =IF(D47<$Q$1,"No Bet","Bet") -> Bet | S47: =IF(E47<$Q$1,"No Bet","Bet") -> No Bet | T47: =IF(F47<$Q$1,"No Bet","Bet") -> No Bet | U47: =IF(G47<$Q$1,"No Bet","Bet") -> No Bet
A48: Sint-Truiden | B48: 3 | C48: 3.33 | D48: 1 | E48: 1 | F48: 0.33 | G48: 0.33 | H48: 0.33 | I48: 0.33 | J48: 0 | K48: 0 | L48: 0.33 | M48: 0.67 | N48: 0.33 | O48: 0.67 | Q48: =A48 -> Sint-Truiden | R48: =IF(D48<$Q$1,"No Bet","Bet") -> Bet | S48: =IF(E48<$Q$1,"No Bet","Bet") -> Bet | T48: =IF(F48<$Q$1,"No Bet","Bet") -> No Bet | U48: =IF(G48<$Q$1,"No Bet","Bet") -> No Bet
A49: Club Brugge | B49: 2 | C49: 3 | D49: 1 | E49: 1 | F49: 0.5 | G49: 0.5 | H49: 0 | I49: 0 | J49: 0 | K49: 0.5 | L49: 0.5 | M49: 0 | N49: 0.5 | O49: 0 | Q49: =A49 -> Club Brugge | R49: =IF(D49<$Q$1,"No Bet","Bet") -> Bet | S49: =IF(E49<$Q$1,"No Bet","Bet") -> Bet | T49: =IF(F49<$Q$1,"No Bet","Bet") -> No Bet | U49: =IF(G49<$Q$1,"No Bet","Bet") -> No Bet
A50: Eupen | B50: 3 | C50: 3 | D50: 0.67 | E50: 0.67 | F50: 0.33 | G50: 0.33 | H50: 0.33 | I50: 0.33 | J50: 0.33 | K50: 0.33 | L50: 0.33 | M50: 0.67 | N50: 0 | O50: 0.33 | Q50: =A50 -> Eupen | R50: =IF(D50<$Q$1,"No Bet","Bet") -> No Bet | S50: =IF(E50<$Q$1,"No Bet","Bet") -> No Bet | T50: =IF(F50<$Q$1,"No Bet","Bet") -> No Bet | U50: =IF(G50<$Q$1,"No Bet","Bet") -> No Bet
A51: Oostende | B51: 3 | C51: 3 | D51: 1 | E51: 1 | F51: 0.67 | G51: 0.33 | H51: 0 | I51: 0 | J51: 0 | K51: 0.67 | L51: 0 | M51: 0.33 | N51: 0 | O51: 0.33 | Q51: =A51 -> Oostende | R51: =IF(D51<$Q$1,"No Bet","Bet") -> Bet | S51: =IF(E51<$Q$1,"No Bet","Bet") -> Bet | T51: =IF(F51<$Q$1,"No Bet","Bet") -> No Bet | U51: =IF(G51<$Q$1,"No Bet","Bet") -> No Bet
A52: Beveren | B52: 3 | C52: 2.67 | D52: 1 | E52: 0.67 | F52: 0.33 | G52: 0.33 | H52: 0.33 | I52: 0 | J52: 0 | K52: 0.67 | L52: 0 | M52: 0.33 | N52: 0 | O52: 0.33 | Q52: =A52 -> Beveren | R52: =IF(D52<$Q$1,"No Bet","Bet") -> Bet | S52: =IF(E52<$Q$1,"No Bet","Bet") -> No Bet | T52: =IF(F52<$Q$1,"No Bet","Bet") -> No Bet | U52: =IF(G52<$Q$1,"No Bet","Bet") -> No Bet
A53: Gent | B53: 2 | C53: 2.5 | D53: 1 | E53: 1 | F53: 0.5 | G53: 0 | H53: 0 | I53: 0 | J53: 0 | K53: 1 | L53: 0 | M53: 0 | N53: 0 | O53: 0 | Q53: =A53 -> Gent | R53: =IF(D53<$Q$1,"No Bet","Bet") -> Bet | S53: =IF(E53<$Q$1,"No Bet","Bet") -> Bet | T53: =IF(F53<$Q$1,"No Bet","Bet") -> No Bet | U53: =IF(G53<$Q$1,"No Bet","Bet") -> No Bet
A54: Anderlecht | B54: 3 | C54: 2.33 | D54: 0.67 | E54: 0.33 | F54: 0.33 | G54: 0.33 | H54: 0.33 | I54: 0.33 | J54: 0 | K54: 0.33 | L54: 0.33 | M54: 0.67 | N54: 0 | O54: 0.33 | Q54: =A54 -> Anderlecht | R54: =IF(D54<$Q$1,"No Bet","Bet") -> No Bet | S54: =IF(E54<$Q$1,"No Bet","Bet") -> No Bet | T54: =IF(F54<$Q$1,"No Bet","Bet") -> No Bet | U54: =IF(G54<$Q$1,"No Bet","Bet") -> No Bet
... A57: KV Mechelen | B57: 3 | C57: 1.67 | D57: 0.67 | E57: 0.67 | F57: 0.33 | G57: 0 | H57: 0 | I57: 0 | J57: 0 | K57: 0.33 | L57: 0.67 | M57: 0.33 | N57: 0.33 | O57: 0 | Q57: =A57 -> KV Mechelen | R57: =IF(D57<$Q$1,"No Bet","Bet") -> No Bet | S57: =IF(E57<$Q$1,"No Bet","Bet") -> No Bet | T57: =IF(F57<$Q$1,"No Bet","Bet") -> No Bet | U57: =IF(G57<$Q$1,"No Bet","Bet") -> No Bet
A59: League average | D59: 0.913 | E59: 0.826 | F59: 0.543 | G59: 0.391 | H59: 0.152 | I59: 0.065 | J59: 0.022 | K59: 0.543 | L59: 0.261 | M59: 0.283 | N59: 0.174 | O59: 0.196
A62: Over / Under (total goals) at Halftime
A65: Match goals stats at half-time
A66: Matches of... | B66: GP | C66: Avg | D66: 0.5+ | E66: 1.5+ | F66: 2.5+ | G66: 3.5+ | H66: 4.5+ | I66: 5.5+ | J66: 6.5+ | K66: BTS | L66: CS | M66: FTS | N66: WTN | O66: LTN
B67: Gent | C67: 5 | D67: 2.2 | E67: 0.6 | F67: 0.6 | G67: 0.6 | H67: 0.4 | I67: 0 | J67: 0 | K67: 0 | L67: 0.4 | M67: 0.6 | N67: 0.4 | O67: 0.2 | P67: 0
A68: Mouscron-P | B68: 6 | C68: 1.67 | D68: 0.83 | E68: 0.5 | F68: 0.33 | G68: 0 | H68: 0 | I68: 0 | J68: 0 | K68: 0.33 | L68: 0.5 | M68: 0.33 | N68: 0.33 | O68: 0.17
A69: Antwerp | B69: 5 | C69: 1.6 | D69: 0.8 | E69: 0.6 | F69: 0.2 | G69: 0 | H69: 0 | I69: 0 | J69: 0 | K69: 0.4 | L69: 0.4 | M69: 0.4 | N69: 0.2 | O69: 0.2
A70: Cercle Brugge | B70: 6 | C70: 1.5 | D70: 0.67 | E70: 0.33 | F70: 0.33 | G70: 0.17 | H70: 0 | I70: 0 | J70: 0 | K70: 0.33 | L70: 0.67 | M70: 0.33 | N70: 0.33 | O70: 0
A71: Eupen | B71: 6 | C71: 1.5 | D71: 0.83 | E71: 0.33 | F71: 0.17 | G71: 0.17 | H71: 0 | I71: 0 | J71: 0 | K71: 0.17 | L71: 0.17 | M71: 0.83 | N71: 0 | O71: 0.67
A72: Sint-Truiden | B72: 6 | C72: 1.5 | D72: 0.83 | E72: 0.33 | F72: 0.17 | G72: 0.17 | H72: 0 | I72: 0 | J72: 0 | K72: 0 | L72: 0.5 | M72: 0.67 | N72: 0.33 | O72: 0.5
A73: Club Brugge | B73: 5 | C73: 1.4 | D73: 0.6 | E73: 0.4 | F73: 0.2 | G73: 0.2 | H73: 0 | I73: 0 | J73: 0 | K73: 0.2 | L73: 0.8 | M73: 0.4 | N73: 0.4 | O73: 0
A74: Beveren | B74: 6 | C74: 1.33 | D74: 0.83 | E74: 0.33 | F74: 0.17 | G74: 0 | H74: 0 | I74: 0 | J74: 0 | K74: 0.33 | L74: 0.33 | M74: 0.5 | N74: 0.17 | O74: 0.33
A75: Standard Liege | B75: 6 | C75: 1.33 | D75: 0.83 | E75: 0.5 | F75: 0 | G75: 0 | H75: 0 | I75: 0 | J75: 0 | K75: 0 | L75: 0.5 | M75: 0.67 | N75: 0.33 | O75: 0.5
A76: KV Mechelen | B76: 6 | C76: 1.17 | D76: 0.67 | E76: 0.33 | F76: 0.17 | G76: 0 | H76: 0 | I76: 0 | J76: 0 | K76: 0.33 | L76: 0.5 | M76: 0.5 | N76: 0.17 | O76: 0.17
A77: Zulte-Waregem | B77: 6 | C77: 1.17 | D77: 0.83 | E77: 0.33 | F77: 0 | G77: 0 | H77: 0 | I77: 0 | J77: 0 | K77: 0 | L77: 0.67 | M77: 0.5 | N77: 0.5 | O77: 0.33
A78: Kortrijk | B78: 6 | C78: 1 | D78: 1 | E78: 0 | F78: 0 | G78: 0 | H78: 0 | I78: 0 | J78: 0 | K78: 0 | L78: 0.33 | M78: 0.67 | N78: 0.33 | O78: 0.67
A79: KRC Genk | B79: 6 | C79: 1 | D79: 0.83 | E79: 0.17 | F79: 0 | G79: 0 | H79: 0 | I79: 0 | J79: 0 | K79: 0.17 | L79: 0.33 | M79: 0.67 | N79: 0.17 | O79: 0.5
... A82: Charleroi | B82: 5 | C82: 0.6 | D82: 0.6 | E82: 0 | F82: 0 | G82: 0 | H82: 0 | I82: 0 | J82: 0 | K82: 0 | L82: 0.8 | M82: 0.6 | N82: 0.4 | O82: 0.2
A84: League average | D84: 0.739 | E84: 0.326 | F84: 0.152 | G84: 0.065 | H84: 0 | I84: 0 | J84: 0 | K84: 0.196 | L84: 0.533 | M84: 0.533 | N84: 0.272 | O84: 0.272
A86: Match goals stats at half-time (at home)
A87: Home matches of... | B87: GP | C87: Avg | D87: 0.5+ | E87: 1.5+ | F87: 2.5+ | G87: 3.5+ | H87: 4.5+ | I87: 5.5+ | J87: 6.5+ | K87: BTS | L87: CS | M87: FTS | N87: WTN | O87: LTN
B88: Gent | C88: 3 | D88: 2.67 | E88: 0.67 | F88: 0.67 | G88: 0.67 | H88: 0.67 | I88: 0 | J88: 0 | K88: 0 | L88: 0.33 | M88: 0.67 | N88: 0.33 | O88: 0.33 | P88: 0
A89: Antwerp | B89: 2 | C89: 2 | D89: 1 | E89: 0.5 | F89: 0.5 | G89: 0 | H89: 0 | I89: 0 | J89: 0 | K89: 0.5 | L89: 0.5 | M89: 0 | N89: 0.5 | O89: 0
A90: KV Mechelen | B90: 3 | C90: 2 | D90: 1 | E90: 0.67 | F90: 0.33 | G90: 0 | H90: 0 | I90: 0 | J90: 0 | K90: 0.67 | L90: 0 | M90: 0.33 | N90: 0 | O90: 0.33
A91: Club Brugge | B91: 3 | C91: 1.67 | D91: 0.67 | E91: 0.33 | F91: 0.33 | G91: 0.33 | H91: 0 | I91: 0 | J91: 0 | K91: 0 | L91: 1 | M91: 0.33 | N91: 0.67 | O91: 0
A92: Standard Liege | B92: 3 | C92: 1.67 | D92: 1 | E92: 0.67 | F92: 0 | G92: 0 | H92: 0 | I92: 0 | J92: 0 | K92: 0 | L92: 0.67 | M92: 0.33 | N92: 0.67 | O92: 0.33
A93: Beveren | B93: 3 | C93: 1.33 | D93: 1 | E93: 0.33 | F93: 0 | G93: 0 | H93: 0 | I93: 0 | J93: 0 | K93: 0.33 | L93: 0 | M93: 0.67 | N93: 0 | O93: 0.67
A94: Eupen | B94: 3 | C94: 1.33 | D94: 1 | E94: 0.33 | F94: 0 | G94: 0 | H94: 0 | I94: 0 | J94: 0 | K94: 0.33 | L94: 0 | M94: 0.67 | N94: 0 | O94: 0.67
A95: Mouscron-P | B95: 3 | C95: 1.33 | D95: 0.67 | E95: 0.33 | F95: 0.33 | G95: 0 | H95: 0 | I95: 0 | J95: 0 | K95: 0.33 | L95: 0.67 | M95: 0.33 | N95: 0.33 | O95: 0
A96: Zulte-Waregem | B96: 3 | C96: 1.33 | D96: 1 | E96: 0.33 | F96: 0 | G96: 0 | H96: 0 | I96: 0 | J96: 0 | K96: 0 | L96: 0.67 | M96: 0.33 | N96: 0.67 | O96: 0.33
A97: Anderlecht | B97: 3 | C97: 1 | D97: 0.67 | E97: 0.33 | F97: 0 | G97: 0 | H97: 0 | I97: 0 | J97: 0 | K97: 0.33 | L97: 0.67 | M97: 0.33 | N97: 0.33 | O97: 0
A98: Kortrijk | B98: 3 | C98: 1 | D98: 1 | E98: 0 | F98: 0 | G98: 0 | H98: 0 | I98: 0 | J98: 0 | K98: 0 | L98: 0 | M98: 1 | N98: 0 | O98: 1
A99: Oostende | B99: 3 | C99: 1 | D99: 0.33 | E99: 0.33 | F99: 0.33 | G99: 0 | H99: 0 | I99: 0 | J99: 0 | K99: 0.33 | L99: 0.67 | M99: 0.67 | N99: 0 | O99: 0
A100: Sint-Truiden | B100: 3 | C100: 1 | D100: 0.67 | E100: 0.33 | F100: 0 | G100: 0 | H100: 0 | I100: 0 | J100: 0 | K100: 0 | L100: 0.67 | M100: 0.67 | N100: 0.33 | O100: 0.33
... A103: Charleroi | B103: 2 | C103: 0 | D103: 0 | E103: 0 | F103: 0 | G103: 0 | H103: 0 | I103: 0 | J103: 0 | K103: 0 | L103: 1 | M103: 1 | N103: 0 | O103: 0
A105: League average | D105: 0.739 | E105: 0.326 | F105: 0.152 | G105: 0.065 | H105: 0 | I105: 0 | J105: 0 | K105: 0.196 | L105: 0.522 | M105: 0.543 | N105: 0.261 | O105: 0.283
A107: Match goals stats at half-time (away)
A108: Away matches of... | B108: GP | C108: Avg | D108: 0.5+ | E108: 1.5+ | F108: 2.5+ | G108: 3.5+ | H108: 4.5+ | I108: 5.5+ | J108: 6.5+ | K108: BTS | L108: CS | M108: FTS | N108: WTN | O108: LTN
B109: Cercle Brugge | C109: 3 | D109: 2.67 | E109: 1 | F109: 0.67 | G109: 0.67 | H109: 0.33 | I109: 0 | J109: 0 | K109: 0 | L109: 0.67 | M109: 0.33 | N109: 0 | O109: 0.33 | P109: 0
A110: Mouscron-P | B110: 3 | C110: 2 | D110: 1 | E110: 0.67 | F110: 0.33 | G110: 0 | H110: 0 | I110: 0 | J110: 0 | K110: 0.33 | L110: 0.33 | M110: 0.33 | N110: 0.33 | O110: 0.33
A111: Sint-Truiden | B111: 3 | C111: 2 | D111: 1 | E111: 0.33 | F111: 0.33 | G111: 0.33 | H111: 0 | I111: 0 | J111: 0 | K111: 0 | L111: 0.33 | M111: 0.67 | N111: 0.33 | O111: 0.67
A112: Eupen | B112: 3 | C112: 1.67 | D112: 0.67 | E112: 0.33 | F112: 0.33 | G112: 0.33 | H112: 0 | I112: 0 | J112: 0 | K112: 0 | L112: 0.33 | M112: 1 | N112: 0 | O112: 0.67
A113: Gent | B113: 2 | C113: 1.5 | D113: 0.5 | E113: 0.5 | F113: 0.5 | G113: 0 | H113: 0 | I113: 0 | J113: 0 | K113: 0.5 | L113: 0.5 | M113: 0.5 | N113: 0 | O113: 0
A114: Antwerp | B114: 3 | C114: 1.33 | D114: 0.67 | E114: 0.67 | F114: 0 | G114: 0 | H114: 0 | I114: 0 | J114: 0 | K114: 0.33 | L114: 0.33 | M114: 0.67 | N114: 0 | O114: 0.33
A115: Beveren | B115: 3 | C115: 1.33 | D115: 0.67 | E115: 0.33 | F115: 0.33 | G115: 0 | H115: 0 | I115: 0 | J115: 0 | K115: 0.33 | L115: 0.67 | M115: 0.33 | N115: 0.33 | O115: 0
A116: KRC Genk | B116: 3 | C116: 1.33 | D116: 1 | E116: 0.33 | F116: 0 | G116: 0 | H116: 0 | I116: 0 | J116: 0 | K116: 0.33 | L116: 0.33 | M116: 0.33 | N116: 0.33 | O116: 0.33
A117: Charleroi | B117: 3 | C117: 1 | D117: 1 | E117: 0 | F117: 0 | G117: 0 | H117: 0 | I117: 0 | J117: 0 | K117: 0 | L117: 0.67 | M117: 0.33 | N117: 0.67 | O117: 0.33
A118: Club Brugge | B118: 2 | C118: 1 | D118: 0.5 | E118: 0.5 | F118: 0 | G118: 0 | H118: 0 | I118: 0 | J118: 0 | K118: 0.5 | L118: 0.5 | M118: 0.5 | N118: 0 | O118: 0
A119: Kortrijk | B119: 3 | C119: 1 | D119: 1 | E119: 0 | F119: 0 | G119: 0 | H119: 0 | I119: 0 | J119: 0 | K119: 0 | L119: 0.67 | M119: 0.33 | N119: 0.67 | O119: 0.33
A120: Oostende | B120: 3 | C120: 1 | D120: 0.67 | E120: 0.33 | F120: 0 | G120: 0 | H120: 0 | I120: 0 | J120: 0 | K120: 0.33 | L120: 0.67 | M120: 0.33 | N120: 0.33 | O120: 0
...

Sheet Matchs Bresil
A1: Home / Away | D1: % Points per game | G1: W D L | H1: TG | I1: 2.5+ | J1: Last 4
A4: Wed | B4: 0.083333333 | C4: home | D4: Palmeiras | F4: 0.81 | H4: 2.57 | I4: 0.43 | K4: stats
A5: 11 | C5: away | D5: Fluminense | F5: 0.29 | H5: 3.63 | I5: 0.75
A8: Sat | B8: 0.91666667 | C8: home | D8: Flamengo | F8: 1 | H8: 4.13 | I8: 0.88 | K8: stats
A9: 14 | C9: away | D9: Santos | F9: 0.59 | H9: 2 | I9: 0.33
A12: Sun | B12: 0 | C12: home | D12: Chapecoense | F12: 0.33 | H12: 2 | I12: 0.33 | K12: stats
A13: 15 | C13: away | D13: Vasco da Gama | F13: 0.21 | H13: 2.25 | I13: 0.38
A15: Sun | B15: 0 | C15: home | D15: Palmeiras | F15: 0.81 | H15: 2.57 | I15: 0.43 | K15: stats
A16: 15 | C16: away | D16: Cruzeiro | F16: 0.15 | H16: 2.89 | I16: 0.56
A18: Sun | B18: 0.083333333 | C18: home | D18: Ceara | F18: 0.59 | H18: 2.67 | I18: 0.67 | K18: stats
A19: 15 | C19: away | D19: Botafogo | F19: 0.37 | H19: 2.33 | I19: 0.33
A21: Sun | B21: 0.66666667 | C21: home | D21: Atletico MG | F21: 0.63 | H21: 2.67 | I21: 0.56 | K21: stats
A22: 15 | C22: away | D22: Internacional | F22: 0.17 | H22: 1.75 | I22: 0.38
A24: Sun | B24: 0.66666667 | C24: home | D24: Atletico PR | F24: 0.75 | H24: 1.88 | I24: 0.25 | K24: stats
A25: 15 | C25: away | D25: Avai | F25: 0.15 | H25: 2 | I25: 0.22
A27: Sun | B27: 0.875 | C27: home | D27: Bahia | F27: 0.74 | H27: 2.11 | I27: 0.33 | K27: stats
A28: 15 | C28: away | D28: Fortaleza | F28: 0.3 | H28: 3 | I28: 0.56
A30: Sun | B30: 0.875 | C30: home | D30: Fluminense | F30: 0.3 | H30: 1.89 | I30: 0.33 | K30: stats
A31: 15 | C31: away | D31: Corinthians | F31: 0.42 | H31: 2 | I31: 0.25
A33: Sun | B33: 0.875 | C33: home | D33: Grêmio | F33: 0.58 | H33: 3.5 | I33: 0.62 | K33: stats
A34: 15 | C34: away | D34: Goias | F34: 0.19 | H34: 2.78 | I34: 0.33
A35: Calculations based on home results of the home team and away results of the visiting team recorded during the current season in the league.

Sheet Bresil
A1: Home / Away | D1: % Points per game | G1: W D L | H1: TG | I1: 2.5+ | J1: Last 4 | Q1: 0.85
R3: 0.5 | S3: 1.5 | T3: 2.5 | U3: 3.5 | AB3: Colonne1 | AC3: Colonne2 | AD3: Colonne3 | AE3: Colonne4 | AF3: Colonne5 | AG3: Colonne6
A4: Fri | B4: 0.875 | C4: home | D4: Pordenone | F4: 1 | H4: 3 | I4: 1 | K4: stats | Q4: =B4 -> 0.875 | R4: =IF(E4<$Q$1,"No Bet","Bet") -> No Bet | S4: =IF(F4<$Q$1,"No Bet","Bet") -> Bet | T4: =IF(G4<$Q$1,"No Bet","Bet") -> No Bet | U4: =IF(H4<$Q$1,"No Bet","Bet") -> Bet | V4: =IF(R4="bet",1,0) -> 0 | W4: =IF(S4="bet",1,0) -> 1 | X4: =IF(T4="bet",1,0) -> 0 | Y4: =IF(U4="bet",1,0) -> 1 | Z4: =SUM(V4:Y4) -> 2 | AG4: BET
A5: 13 | C5: away | D5: Spezia | F5: 1 | H5: 3 | I5: 1 | Q5: =A5 -> 13 | R5: =IF(D5<$Q$1,"No Bet","Bet") -> Bet | S5: =IF(E5<$Q$1,"No Bet","Bet") -> No Bet | T5: =IF(F5<$Q$1,"No Bet","Bet") -> Bet | U5: =IF(G5<$Q$1,"No Bet","Bet") -> No Bet | V5: =IF(R5="bet",1,0) -> 1 | W5: =IF(S5="bet",1,0) -> 0 | X5: =IF(T5="bet",1,0) -> 1 | Y5: =IF(U5="bet",1,0) -> 0 | Z5: =SUM(V5:Y5) -> 2 | AB5: ='Matchs Bresil'!D4 -> Palmeiras | AC5: =VLOOKUP(TRIM(AB5)&" ",Q$4:Z$27,10,0) -> #N/A | AD5: ='Matchs Bresil'!D5 -> Fluminense | AE5: =VLOOKUP(TRIM(AD5)&" ",Q$4:Z$27,10,0) -> #N/A | AF5: =AC5+AE5 -> #N/A | AG5: =IF(AF5<2,"",IF(AF5=2,"0.5",IF(AF5=3,"1",IF(AF5=4,"1.5",IF(AF5=5,"2",IF(AF5=6,"2.5",IF(AF5=7,"3",IF(AF5=8,"3.5")))))))) -> #N/A
Q6: =A6 -> 0 | R6: =IF(D6<$Q$1,"No Bet","Bet") -> No Bet | S6: =IF(E6<$Q$1,"No Bet","Bet") -> No Bet | T6: =IF(F6<$Q$1,"No Bet","Bet") -> No Bet | U6: =IF(G6<$Q$1,"No Bet","Bet") -> No Bet | V6: =IF(R6="bet",1,0) -> 0 | W6: =IF(S6="bet",1,0) -> 0 | X6: =IF(T6="bet",1,0) -> 0 | Y6: =IF(U6="bet",1,0) -> 0 | Z6: =SUM(V6:Y6) -> 0 | AB6: ='Matchs Bresil'!D7 -> 0 | AC6: =VLOOKUP(TRIM(AB6)&" ",Q$4:Z$27,10,0) -> #N/A | AD6: ='Matchs Bresil'!D8 -> Flamengo | AE6: =VLOOKUP(TRIM(AD6)&" ",Q$4:Z$27,10,0) -> #N/A | AF6: =AC6+AE6 -> #N/A | AG6: =IF(AF6<2,"",IF(AF6=2,"0.5",IF(AF6=3,"1",IF(AF6=4,"1.5",IF(AF6=5,"2",IF(AF6=6,"2.5",IF(AF6=7,"3",IF(AF6=8,"3.5")))))))) -> #N/A
Q7: =A7 -> 0 | R7: =IF(D7<$Q$1,"No Bet","Bet") -> No Bet | S7: =IF(E7<$Q$1,"No Bet","Bet") -> No Bet | T7: =IF(F7<$Q$1,"No Bet","Bet") -> No Bet | U7: =IF(G7<$Q$1,"No Bet","Bet") -> No Bet | V7: =IF(R7="bet",1,0) -> 0 | W7: =IF(S7="bet",1,0) -> 0 | X7: =IF(T7="bet",1,0) -> 0 | Y7: =IF(U7="bet",1,0) -> 0 | Z7: =SUM(V7:Y7) -> 0 | AB7: ='Matchs Bresil'!D10 -> 0 | AC7: =VLOOKUP(TRIM(AB7)&" ",Q$4:Z$27,10,0) -> #N/A | AD7: ='Matchs Bresil'!D11 -> 0 | AE7: =VLOOKUP(TRIM(AD7)&" ",Q$4:Z$27,10,0) -> #N/A | AF7: =AC7+AE7 -> #N/A | AG7: =IF(AF7<2,"",IF(AF7=2,"0.5",IF(AF7=3,"1",IF(AF7=4,"1.5",IF(AF7=5,"2",IF(AF7=6,"2.5",IF(AF7=7,"3",IF(AF7=8,"3.5")))))))) -> #N/A
A8: Sat | B8: 0.625 | C8: home | D8: Ascoli | F8: 1 | H8: 4 | I8: 1 | K8: stats | Q8: =A8 -> Sat | R8: =IF(D8<$Q$1,"No Bet","Bet") -> Bet | S8: =IF(E8<$Q$1,"No Bet","Bet") -> No Bet | T8: =IF(F8<$Q$1,"No Bet","Bet") -> Bet | U8: =IF(G8<$Q$1,"No Bet","Bet") -> No Bet | V8: =IF(R8="bet",1,0) -> 1 | W8: =IF(S8="bet",1,0) -> 0 | X8: =IF(T8="bet",1,0) -> 1 | Y8: =IF(U8="bet",1,0) -> 0 | Z8: =SUM(V8:Y8) -> 2 | AB8: ='Matchs Bresil'!D13 -> Vasco da Gama | AC8: =VLOOKUP(TRIM(AB8)&" ",Q$4:Z$27,10,0) -> #N/A | AD8: ='Matchs Bresil'!D14 -> 0 | AE8: =VLOOKUP(TRIM(AD8)&" ",Q$4:Z$27,10,0) -> #N/A | AF8: =AC8+AE8 -> #N/A | AG8: =IF(AF8<2,"",IF(AF8=2,"0.5",IF(AF8=3,"1",IF(AF8=4,"1.5",IF(AF8=5,"2",IF(AF8=6,"2.5",IF(AF8=7,"3",IF(AF8=8,"3.5")))))))) -> #N/A
A9: 14 | C9: away | D9: Livorno | F9: 0 | H9: 1 | I9: 0 | Q9: =A9 -> 14 | R9: =IF(D9<$Q$1,"No Bet","Bet") -> Bet | S9: =IF(E9<$Q$1,"No Bet","Bet") -> No Bet | T9: =IF(F9<$Q$1,"No Bet","Bet") -> No Bet | U9: =IF(G9<$Q$1,"No Bet","Bet") -> No Bet | V9: =IF(R9="bet",1,0) -> 1 | W9: =IF(S9="bet",1,0) -> 0 | X9: =IF(T9="bet",1,0) -> 0 | Y9: =IF(U9="bet",1,0) -> 0 | Z9: =SUM(V9:Y9) -> 1 | AB9: ='Matchs Bresil'!D17 -> 0 | AC9: =VLOOKUP(TRIM(AB9)&" ",Q$4:Z$27,10,0) -> #N/A | AD9: ='Matchs Bresil'!D18 -> Ceara | AE9: =VLOOKUP(TRIM(AD9)&" ",Q$4:Z$27,10,0) -> #N/A | AF9: =AC9+AE9 -> #N/A | AG9: =IF(AF9<2,"",IF(AF9=2,"0.5",IF(AF9=3,"1",IF(AF9=4,"1.5",IF(AF9=5,"2",IF(AF9=6,"2.5",IF(AF9=7,"3",IF(AF9=8,"3.5")))))))) -> #N/A
Q10: =A10 -> 0 | R10: =IF(D10<$Q$1,"No Bet","Bet") -> No Bet | S10: =IF(E10<$Q$1,"No Bet","Bet") -> No Bet | T10: =IF(F10<$Q$1,"No Bet","Bet") -> No Bet | U10: =IF(G10<$Q$1,"No Bet","Bet") -> No Bet | V10: =IF(R10="bet",1,0) -> 0 | W10: =IF(S10="bet",1,0) -> 0 | X10: =IF(T10="bet",1,0) -> 0 | Y10: =IF(U10="bet",1,0) -> 0 | Z10: =SUM(V10:Y10) -> 0 | AB10: ='Matchs Bresil'!D20 -> 0 | AC10: =VLOOKUP(TRIM(AB10)&" ",Q$4:Z$27,10,0) -> #N/A | AD10: ='Matchs Bresil'!D21 -> Atletico MG | AE10: =VLOOKUP(TRIM(AD10)&" ",Q$4:Z$27,10,0) -> #N/A | AF10: =AC10+AE10 -> #N/A | AG10: =IF(AF10<2,"",IF(AF10=2,"0.5",IF(AF10=3,"1",IF(AF10=4,"1.5",IF(AF10=5,"2",IF(AF10=6,"2.5",IF(AF10=7,"3",IF(AF10=8,"3.5")))))))) -> #N/A
A11: Sat | B11: 0.625 | C11: home | D11: Cittadella | F11: 0 | H11: 3 | I11: 1 | K11: stats | Q11: =A11 -> Sat | R11: =IF(D11<$Q$1,"No Bet","Bet") -> Bet | S11: =IF(E11<$Q$1,"No Bet","Bet") -> No Bet | T11: =IF(F11<$Q$1,"No Bet","Bet") -> No Bet | U11: =IF(G11<$Q$1,"No Bet","Bet") -> No Bet | V11: =IF(R11="bet",1,0) -> 1 | W11: =IF(S11="bet",1,0) -> 0 | X11: =IF(T11="bet",1,0) -> 0 | Y11: =IF(U11="bet",1,0) -> 0 | Z11: =SUM(V11:Y11) -> 1 | AB11: ='Matchs Bresil'!D23 -> 0 | AC11: =VLOOKUP(TRIM(AB11)&" ",Q$4:Z$27,10,0) -> #N/A | AD11: ='Matchs Bresil'!D24 -> Atletico PR | AE11: =VLOOKUP(TRIM(AD11)&" ",Q$4:Z$27,10,0) -> #N/A | AF11: =AC11+AE11 -> #N/A | AG11: =IF(AF11<2,"",IF(AF11=2,"0.5",IF(AF11=3,"1",IF(AF11=4,"1.5",IF(AF11=5,"2",IF(AF11=6,"2.5",IF(AF11=7,"3",IF(AF11=8,"3.5")))))))) -> #N/A
A12: 14 | C12: away | D12: Trapani | F12: 0 | H12: 4 | I12: 1 | Q12: =A12 -> 14 | R12: =IF(D12<$Q$1,"No Bet","Bet") -> Bet | S12: =IF(E12<$Q$1,"No Bet","Bet") -> No Bet | T12: =IF(F12<$Q$1,"No Bet","Bet") -> No Bet | U12: =IF(G12<$Q$1,"No Bet","Bet") -> No Bet | V12: =IF(R12="bet",1,0) -> 1 | W12: =IF(S12="bet",1,0) -> 0 | X12: =IF(T12="bet",1,0) -> 0 | Y12: =IF(U12="bet",1,0) -> 0 | Z12: =SUM(V12:Y12) -> 1 | AB12: ='Matchs Bresil'!D26 -> 0 | AC12: =VLOOKUP(TRIM(AB12)&" ",Q$4:Z$27,10,0) -> #N/A | AD12: ='Matchs Bresil'!D30 -> Fluminense | AE12: =VLOOKUP(TRIM(AD12)&" ",Q$4:Z$27,10,0) -> #N/A | AF12: =AC12+AE12 -> #N/A | AG12: =IF(AF12<2,"",IF(AF12=2,"0.5",IF(AF12=3,"1",IF(AF12=4,"1.5",IF(AF12=5,"2",IF(AF12=6,"2.5",IF(AF12=7,"3",IF(AF12=8,"3.5")))))))) -> #N/A
Q13: =A13 -> 0 | R13: =IF(D13<$Q$1,"No Bet","Bet") -> No Bet | S13: =IF(E13<$Q$1,"No Bet","Bet") -> No Bet | T13: =IF(F13<$Q$1,"No Bet","Bet") -> No Bet | U13: =IF(G13<$Q$1,"No Bet","Bet") -> No Bet | V13: =IF(R13="bet",1,0) -> 0 | W13: =IF(S13="bet",1,0) -> 0 | X13: =IF(T13="bet",1,0) -> 0 | Y13: =IF(U13="bet",1,0) -> 0 | Z13: =SUM(V13:Y13) -> 0 | AB13: ='Matchs Bresil'!D29 -> 0 | AC13: =VLOOKUP(TRIM(AB13)&" ",Q$4:Z$27,10,0) -> #N/A | AD13: ='Matchs Bresil'!D30 -> Fluminense | AE13: =VLOOKUP(TRIM(AD13)&" ",Q$4:Z$27,10,0) -> #N/A | AF13: =AC13+AE13 -> #N/A | AG13: =IF(AF13<2,"",IF(AF13=2,"0.5",IF(AF13=3,"1",IF(AF13=4,"1.5",IF(AF13=5,"2",IF(AF13=6,"2.5",IF(AF13=7,"3",IF(AF13=8,"3.5")))))))) -> #N/A
A14: Sat | B14: 0.625 | C14: home | D14: Perugia | F14: 1 | H14: 3 | I14: 1 | K14: stats | Q14: =A14 -> Sat | R14: =IF(D14<$Q$1,"No Bet","Bet") -> Bet | S14: =IF(E14<$Q$1,"No Bet","Bet") -> No Bet | T14: =IF(F14<$Q$1,"No Bet","Bet") -> Bet | U14: =IF(G14<$Q$1,"No Bet","Bet") -> No Bet | V14: =IF(R14="bet",1,0) -> 1 | W14: =IF(S14="bet",1,0) -> 0 | X14: =IF(T14="bet",1,0) -> 1 | Y14: =IF(U14="bet",1,0) -> 0 | Z14: =SUM(V14:Y14) -> 2 | AB14: ='Matchs Bresil'!D33 -> Grêmio | AC14: =VLOOKUP(TRIM(AB14)&" ",Q$4:Z$27,10,0) -> #N/A | AD14: ='Matchs Bresil'!D34 -> Goias | AE14: =VLOOKUP(TRIM(AD14)&" ",Q$4:Z$27,10,0) -> #N/A | AF14: =AC14+AE14 -> #N/A | AG14: =IF(AF14<2,"",IF(AF14=2,"0.5",IF(AF14=3,"1",IF(AF14=4,"1.5",IF(AF14=5,"2",IF(AF14=6,"2.5",IF(AF14=7,"3",IF(AF14=8,"3.5")))))))) -> #N/A
A15: 14 | C15: away | D15: Juve Stabia | F15: 0 | H15: 3 | I15: 1 | Q15: =A15 -> 14 | R15: =IF(D15<$Q$1,"No Bet","Bet") -> Bet | S15: =IF(E15<$Q$1,"No Bet","Bet") -> No Bet | T15: =IF(F15<$Q$1,"No Bet","Bet") -> No Bet | U15: =IF(G15<$Q$1,"No Bet","Bet") -> No Bet | V15: =IF(R15="bet",1,0) -> 1 | W15: =IF(S15="bet",1,0) -> 0 | X15: =IF(T15="bet",1,0) -> 0 | Y15: =IF(U15="bet",1,0) -> 0 | Z15: =SUM(V15:Y15) -> 1
Q16: =A16 -> 0 | R16: =IF(D16<$Q$1,"No Bet","Bet") -> No Bet | S16: =IF(E16<$Q$1,"No Bet","Bet") -> No Bet | T16: =IF(F16<$Q$1,"No Bet","Bet") -> No Bet | U16: =IF(G16<$Q$1,"No Bet","Bet") -> No Bet | V16: =IF(R16="bet",1,0) -> 0 | W16: =IF(S16="bet",1,0) -> 0 | X16: =IF(T16="bet",1,0) -> 0 | Y16: =IF(U16="bet",1,0) -> 0 | Z16: =SUM(V16:Y16) -> 0
A17: Sat | B17: 0.625 | C17: home | D17: Virtus Entella | F17: 1 | H17: 1 | I17: 0 | K17: stats | Q17: =A17 -> Sat | R17: =IF(D17<$Q$1,"No Bet","Bet") -> Bet | S17: =IF(E17<$Q$1,"No Bet","Bet") -> No Bet | T17: =IF(F17<$Q$1,"No Bet","Bet") -> Bet | U17: =IF(G17<$Q$1,"No Bet","Bet") -> No Bet | V17: =IF(R17="bet",1,0) -> 1 | W17: =IF(S17="bet",1,0) -> 0 | X17: =IF(T17="bet",1,0) -> 1 | Y17: =IF(U17="bet",1,0) -> 0 | Z17: =SUM(V17:Y17) -> 2
A18: 14 | C18: away | D18: Frosinone | F18: 0 | H18: 3 | I18: 1 | Q18: =A18 -> 14 | R18: =IF(D18<$Q$1,"No Bet","Bet") -> Bet | S18: =IF(E18<$Q$1,"No Bet","Bet") -> No Bet | T18: =IF(F18<$Q$1,"No Bet","Bet") -> No Bet | U18: =IF(G18<$Q$1,"No Bet","Bet") -> No Bet | V18: =IF(R18="bet",1,0) -> 1 | W18: =IF(S18="bet",1,0) -> 0 | X18: =IF(T18="bet",1,0) -> 0 | Y18: =IF(U18="bet",1,0) -> 0 | Z18: =SUM(V18:Y18) -> 1
Q19: =A19 -> 0 | R19: =IF(D19<$Q$1,"No Bet","Bet") -> No Bet | S19: =IF(E19<$Q$1,"No Bet","Bet") -> No Bet | T19: =IF(F19<$Q$1,"No Bet","Bet") -> No Bet | U19: =IF(G19<$Q$1,"No Bet","Bet") -> No Bet | V19: =IF(R19="bet",1,0) -> 0 | W19: =IF(S19="bet",1,0) -> 0 | X19: =IF(T19="bet",1,0) -> 0 | Y19: =IF(U19="bet",1,0) -> 0 | Z19: =SUM(V19:Y19) -> 0
A20: Sat | B20: 0.75 | C20: home | D20: Venezia | F20: 0 | H20: 3 | I20: 1 | K20: stats | Q20: =A20 -> Sat | R20: =IF(D20<$Q$1,"No Bet","Bet") -> Bet | S20: =IF(E20<$Q$1,"No Bet","Bet") -> No Bet | T20: =IF(F20<$Q$1,"No Bet","Bet") -> No Bet | U20: =IF(G20<$Q$1,"No Bet","Bet") -> No Bet | V20: =IF(R20="bet",1,0) -> 1 | W20: =IF(S20="bet",1,0) -> 0 | X20: =IF(T20="bet",1,0) -> 0 | Y20: =IF(U20="bet",1,0) -> 0 | Z20: =SUM(V20:Y20) -> 1
A21: 14 | C21: away | D21: Chievo | F21: 0 | H21: 3 | I21: 1 | Q21: =A21 -> 14 | R21: =IF(D21<$Q$1,"No Bet","Bet") -> Bet | S21: =IF(E21<$Q$1,"No Bet","Bet") -> No Bet | T21: =IF(F21<$Q$1,"No Bet","Bet") -> No Bet | U21: =IF(G21<$Q$1,"No Bet","Bet") -> No Bet | V21: =IF(R21="bet",1,0) -> 1 | W21: =IF(S21="bet",1,0) -> 0 | X21: =IF(T21="bet",1,0) -> 0 | Y21: =IF(U21="bet",1,0) -> 0 | Z21: =SUM(V21:Y21) -> 1
Q22: =A22 -> 0 | R22: =IF(D22<$Q$1,"No Bet","Bet") -> No Bet | S22: =IF(E22<$Q$1,"No Bet","Bet") -> No Bet | T22: =IF(F22<$Q$1,"No Bet","Bet") -> No Bet | U22: =IF(G22<$Q$1,"No Bet","Bet") -> No Bet | V22: =IF(R22="bet",1,0) -> 0 | W22: =IF(S22="bet",1,0) -> 0 | X22: =IF(T22="bet",1,0) -> 0 | Y22: =IF(U22="bet",1,0) -> 0 | Z22: =SUM(V22:Y22) -> 0
Q23: =A23 -> 0 | R23: =IF(D23<$Q$1,"No Bet","Bet") -> No Bet | S23: =IF(E23<$Q$1,"No Bet","Bet") -> No Bet | T23: =IF(F23<$Q$1,"No Bet","Bet") -> No Bet | U23: =IF(G23<$Q$1,"No Bet","Bet") -> No Bet | V23: =IF(R23="bet",1,0) -> 0 | W23: =IF(S23="bet",1,0) -> 0 | X23: =IF(T23="bet",1,0) -> 0 | Y23: =IF(U23="bet",1,0) -> 0 | Z23: =SUM(V23:Y23) -> 0
A24: Sun | B24: 0.625 | C24: home | D24: Cosenza | F24: 0 | H24: 1 | I24: 0 | K24: stats
A25: 15 | C25: away | D25: Pescara | F25: 0 | H25: 4 | I25: 1
R26: 0.5 | S26: 1.5 | T26: 2.5 | U26: 3.5
A27: Sun | B27: 0.625 | C27: home | D27: Crotone | F27: 0.33 | H27: 0 | I27: 0 | K27: stats | R27: =IF(E27<$Q$1,"No Bet","Bet") -> No Bet | S27: =IF(F27<$Q$1,"No Bet","Bet") -> No Bet | T27: =IF(G27<$Q$1,"No Bet","Bet") -> No Bet | U27: =IF(H27<$Q$1,"No Bet","Bet") -> No Bet
A28: 15 | C28: away | D28: Empoli | F28: 0.33 | H28: 2 | I28: 0 | R28: =IF(D28<$Q$1,"No Bet","Bet") -> Bet | S28: =IF(E28<$Q$1,"No Bet","Bet") -> No Bet | T28: =IF(F28<$Q$1,"No Bet","Bet") -> No Bet | U28: =IF(G28<$Q$1,"No Bet","Bet") -> No Bet
R29: =IF(D29<$Q$1,"No Bet","Bet") -> No Bet | S29: =IF(E29<$Q$1,"No Bet","Bet") -> No Bet | T29: =IF(F29<$Q$1,"No Bet","Bet") -> No Bet | U29: =IF(G29<$Q$1,"No Bet","Bet") -> No Bet
A30: Sun | B30: 0.875 | C30: home | D30: Pisa | F30: 0.33 | H30: 0 | I30: 0 | K30: stats | R30: =IF(D30<$Q$1,"No Bet","Bet") -> Bet | S30: =IF(E30<$Q$1,"No Bet","Bet") -> No Bet | T30: =IF(F30<$Q$1,"No Bet","Bet") -> No Bet | U30: =IF(G30<$Q$1,"No Bet","Bet") -> No Bet
A31: 15 | C31: away | D31: Cremonese | F31: 1 | H31: 3 | I31: 1 | R31: =IF(D31<$Q$1,"No Bet","Bet") -> Bet | S31: =IF(E31<$Q$1,"No Bet","Bet") -> No Bet | T31: =IF(F31<$Q$1,"No Bet","Bet") -> Bet | U31: =IF(G31<$Q$1,"No Bet","Bet") -> No Bet
A32: Calculations based on home results of the home team and away results of the visiting team recorded during the current season in the league. | R32: =IF(#REF!<$Q$1,"No Bet","Bet") -> #REF! | S32: =IF(#REF!<$Q$1,"No Bet","Bet") -> #REF! | T32: =IF(#REF!<$Q$1,"No Bet","Bet") -> #REF! | U32: =IF(#REF!<$Q$1,"No Bet","Bet") -> #REF!
R33: =IF(#REF!<$Q$1,"No Bet","Bet") -> #REF! | S33: =IF(#REF!<$Q$1,"No Bet","Bet") -> #REF! | T33: =IF(#REF!<$Q$1,"No Bet","Bet") -> #REF! | U33: =IF(#REF!<$Q$1,"No Bet","Bet") -> #REF!
R34: =IF(#REF!<$Q$1,"No Bet","Bet") -> #REF! | S34: =IF(#REF!<$Q$1,"No Bet","Bet") -> #REF! | T34: =IF(#REF!<$Q$1,"No Bet","Bet") -> #REF! | U34: =IF(#REF!<$Q$1,"No Bet","Bet") -> #REF!
R35: =IF(#REF!<$Q$1,"No Bet","Bet") -> #REF! | S35: =IF(#REF!<$Q$1,"No Bet","Bet") -> #REF! | T35: =IF(#REF!<$Q$1,"No Bet","Bet") -> #REF! | U35: =IF(#REF!<$Q$1,"No Bet","Bet") -> #REF!
R36: =IF(#REF!<$Q$1,"No Bet","Bet") -> #REF! | S36: =IF(#REF!<$Q$1,"No Bet","Bet") -> #REF! | T36: =IF(#REF!<$Q$1,"No Bet","Bet") -> #REF! | U36: =IF(#REF!<$Q$1,"No Bet","Bet") -> #REF!
R37: =IF(#REF!<$Q$1,"No Bet","Bet") -> #REF! | S37: =IF(#REF!<$Q$1,"No Bet","Bet") -> #REF! | T37: =IF(#REF!<$Q$1,"No Bet","Bet") -> #REF! | U37: =IF(#REF!<$Q$1,"No Bet","Bet") -> #REF!
R38: =IF(#REF!<$Q$1,"No Bet","Bet") -> #REF! | S38: =IF(#REF!<$Q$1,"No Bet","Bet") -> #REF! | T38: =IF(#REF!<$Q$1,"No Bet","Bet") -> #REF! | U38: =IF(#REF!<$Q$1,"No Bet","Bet") -> #REF!
R39: =IF(#REF!<$Q$1,"No Bet","Bet") -> #REF! | S39: =IF(#REF!<$Q$1,"No Bet","Bet") -> #REF! | T39: =IF(#REF!<$Q$1,"No Bet","Bet") -> #REF! | U39: =IF(#REF!<$Q$1,"No Bet","Bet") -> #REF!
R40: =IF(#REF!<$Q$1,"No Bet","Bet") -> #REF! | S40: =IF(#REF!<$Q$1,"No Bet","Bet") -> #REF! | T40: =IF(#REF!<$Q$1,"No Bet","Bet") -> #REF! | U40: =IF(#REF!<$Q$1,"No Bet","Bet") -> #REF!
R41: =IF(#REF!<$Q$1,"No Bet","Bet") -> #REF! | S41: =IF(#REF!<$Q$1,"No Bet","Bet") -> #REF! | T41: =IF(#REF!<$Q$1,"No Bet","Bet") -> #REF! | U41: =IF(#REF!<$Q$1,"No Bet","Bet") -> #REF!
R42: =IF(#REF!<$Q$1,"No Bet","Bet") -> #REF! | S42: =IF(#REF!<$Q$1,"No Bet","Bet") -> #REF! | T42: =IF(#REF!<$Q$1,"No Bet","Bet") -> #REF! | U42: =IF(#REF!<$Q$1,"No Bet","Bet") -> #REF!
R43: =IF(#REF!<$Q$1,"No Bet","Bet") -> #REF! | S43: =IF(#REF!<$Q$1,"No Bet","Bet") -> #REF! | T43: =IF(#REF!<$Q$1,"No Bet","Bet") -> #REF! | U43: =IF(#REF!<$Q$1,"No Bet","Bet") -> #REF!
R44: =IF(#REF!<$Q$1,"No Bet","Bet") -> #REF! | S44: =IF(#REF!<$Q$1,"No Bet","Bet") -> #REF! | T44: =IF(#REF!<$Q$1,"No Bet","Bet") -> #REF! | U44: =IF(#REF!<$Q$1,"No Bet","Bet") -> #REF!
... R46: =IF(#REF!<$Q$1,"No Bet","Bet") -> #REF! | S46: =IF(#REF!<$Q$1,"No Bet","Bet") -> #REF! | T46: =IF(#REF!<$Q$1,"No Bet","Bet") -> #REF! | U46: =IF(#REF!<$Q$1,"No Bet","Bet") -> #REF!
R49: 0.5 | S49: 1.5 | T49: 2.5 | U49: 3.5
R50: =IF(#REF!<$Q$1,"No Bet","Bet") -> #REF! | S50: =IF(#REF!<$Q$1,"No Bet","Bet") -> #REF! | T50: =IF(#REF!<$Q$1,"No Bet","Bet") -> #REF! | U50: =IF(#REF!<$Q$1,"No Bet","Bet") -> #REF!
R51: =IF(#REF!<$Q$1,"No Bet","Bet") -> #REF! | S51: =IF(#REF!<$Q$1,"No Bet","Bet") -> #REF! | T51: =IF(#REF!<$Q$1,"No Bet","Bet") -> #REF! | U51: =IF(#REF!<$Q$1,"No Bet","Bet") -> #REF!
R52: =IF(#REF!<$Q$1,"No Bet","Bet") -> #REF! | S52: =IF(#REF!<$Q$1,"No Bet","Bet") -> #REF! | T52: =IF(#REF!<$Q$1,"No Bet","Bet") -> #REF! | U52: =IF(#REF!<$Q$1,"No Bet","Bet") -> #REF!
R53: =IF(#REF!<$Q$1,"No Bet","Bet") -> #REF! | S53: =IF(#REF!<$Q$1,"No Bet","Bet") -> #REF! | T53: =IF(#REF!<$Q$1,"No Bet","Bet") -> #REF! | U53: =IF(#REF!<$Q$1,"No Bet","Bet") -> #REF!
R54: =IF(#REF!<$Q$1,"No Bet","Bet") -> #REF! | S54: =IF(#REF!<$Q$1,"No Bet","Bet") -> #REF! | T54: =IF(#REF!<$Q$1,"No Bet","Bet") -> #REF! | U54: =IF(#REF!<$Q$1,"No Bet","Bet") -> #REF!
R55: =IF(#REF!<$Q$1,"No Bet","Bet") -> #REF! | S55: =IF(#REF!<$Q$1,"No Bet","Bet") -> #REF! | T55: =IF(#REF!<$Q$1,"No Bet","Bet") -> #REF! | U55: =IF(#REF!<$Q$1,"No Bet","Bet") -> #REF!
R56: =IF(#REF!<$Q$1,"No Bet","Bet") -> #REF! | S56: =IF(#REF!<$Q$1,"No Bet","Bet") -> #REF! | T56: =IF(#REF!<$Q$1,"No Bet","Bet") -> #REF! | U56: =IF(#REF!<$Q$1,"No Bet","Bet") -> #REF!
R57: =IF(#REF!<$Q$1,"No Bet","Bet") -> #REF! | S57: =IF(#REF!<$Q$1,"No Bet","Bet") -> #REF! | T57: =IF(#REF!<$Q$1,"No Bet","Bet") -> #REF! | U57: =IF(#REF!<$Q$1,"No Bet","Bet") -> #REF!
R58: =IF(#REF!<$Q$1,"No Bet","Bet") -> #REF! | S58: =IF(#REF!<$Q$1,"No Bet","Bet") -> #REF! | T58: =IF(#REF!<$Q$1,"No Bet","Bet") -> #REF! | U58: =IF(#REF!<$Q$1,"No Bet","Bet") -> #REF!
R59: =IF(#REF!<$Q$1,"No Bet","Bet") -> #REF! | S59: =IF(#REF!<$Q$1,"No Bet","Bet") -> #REF! | T59: =IF(#REF!<$Q$1,"No Bet","Bet") -> #REF! | U59: =IF(#REF!<$Q$1,"No Bet","Bet") -> #REF!
R60: =IF(#REF!<$Q$1,"No Bet","Bet") -> #REF! | S60: =IF(#REF!<$Q$1,"No Bet","Bet") -> #REF! | T60: =IF(#REF!<$Q$1,"No Bet","Bet") -> #REF! | U60: =IF(#REF!<$Q$1,"No Bet","Bet") -> #REF!
R61: =IF(#REF!<$Q$1,"No Bet","Bet") -> #REF! | S61: =IF(#REF!<$Q$1,"No Bet","Bet") -> #REF! | T61: =IF(#REF!<$Q$1,"No Bet","Bet") -> #REF! | U61: =IF(#REF!<$Q$1,"No Bet","Bet") -> #REF!
... R69: =IF(#REF!<$Q$1,"No Bet","Bet") -> #REF! | S69: =IF(#REF!<$Q$1,"No Bet","Bet") -> #REF! | T69: =IF(#REF!<$Q$1,"No Bet","Bet") -> #REF! | U69: =IF(#REF!<$Q$1,"No Bet","Bet") -> #REF!

Sheet Matchs Suisse
A1: Home / Away | D1: % Points per game | G1: W D L | H1: TG | I1: 2.5+ | J1: Last 4
A4: Sat | B4: 0.79166667 | C4: home | D4: Neuchâtel Xamax | F4: 0.11 | H4: 2 | I4: 0.33 | K4: stats
A5: 21 | C5: away | D5: Sion | F5: 0.78 | H5: 0.67 | I5: 0
A7: Sat | B7: 0.79166667 | C7: home | D7: St. Gallen | F7: 0.33 | H7: 4 | I7: 0.67 | K7: stats
A8: 21 | C8: away | D8: Servette | F8: 0.44 | H8: 3.33 | I8: 0.67
A11: Sun | B11: 0.66666667 | C11: home | D11: BSC Young Boys | F11: 0.78 | H11: 2.67 | I11: 0.33 | K11: stats
A12: 22 | C12: away | D12: FC Basel | F12: 1 | H12: 4.33 | I12: 1
A14: Sun | B14: 0.66666667 | C14: home | D14: FC Zürich | F14: 0.44 | H14: 3.67 | I14: 1 | K14: stats
A15: 22 | C15: away | D15: FC Thun | F15: 0.67 | H15: 1 | I15: 0
A17: Sun | B17: 0.66666667 | C17: home | D17: Lugano | F17: 0.17 | H17: 0.5 | I17: 0 | K17: stats
A18: 22 | C18: away | D18: Luzern | F18: 0.33 | H18: 2 | I18: 0.33
A19: Calculations based on home results of the home team and away results of the visiting team recorded during the current season in the league.

Sheet Suisse
A1: Over / Under (total goals) | Q1: 0.85
A3: Matches of... | B3: GP | C3: Avg | D3: 0.5+ | E3: 1.5+ | F3: 2.5+ | G3: 3.5+ | H3: 4.5+ | I3: 5.5+ | J3: 6.5+ | K3: BTS | L3: CS | M3: FTS | N3: WTN | O3: LTN | R3: 0.5 | S3: 1.5 | T3: 2.5 | U3: 3.5 | AB3: Colonne1 | AC3: Colonne2 | AD3: Colonne3 | AE3: Colonne4 | AF3: Colonne5 | AG3: Colonne6
B4: FC Basel | C4: 6 | D4: 3.83 | E4: 1 | F4: 1 | G4: 1 | H4: 0.5 | I4: 0.33 | J4: 0 | K4: 0 | L4: 0.83 | M4: 0.17 | N4: 0 | O4: 0.17 | P4: 0 | Q4: =B4 -> FC Basel | R4: =IF(E4<$Q$1,"No Bet","Bet") -> Bet | S4: =IF(F4<$Q$1,"No Bet","Bet") -> Bet | T4: =IF(G4<$Q$1,"No Bet","Bet") -> Bet | U4: =IF(H4<$Q$1,"No Bet","Bet") -> No Bet | V4: =IF(R4="bet",1,0) -> 1 | W4: =IF(S4="bet",1,0) -> 1 | X4: =IF(T4="bet",1,0) -> 1 | Y4: =IF(U4="bet",1,0) -> 0 | Z4: =SUM(V4:Y4) -> 3 | AG4: BET
A5: St. Gallen | B5: 6 | C5: 3.33 | D5: 1 | E5: 1 | F5: 0.67 | G5: 0.33 | H5: 0.33 | I5: 0 | J5: 0 | K5: 0.83 | L5: 0 | M5: 0.17 | N5: 0 | O5: 0.17 | Q5: =A5 -> St. Gallen | R5: =IF(D5<$Q$1,"No Bet","Bet") -> Bet | S5: =IF(E5<$Q$1,"No Bet","Bet") -> Bet | T5: =IF(F5<$Q$1,"No Bet","Bet") -> No Bet | U5: =IF(G5<$Q$1,"No Bet","Bet") -> No Bet | V5: =IF(R5="bet",1,0) -> 1 | W5: =IF(S5="bet",1,0) -> 1 | X5: =IF(T5="bet",1,0) -> 0 | Y5: =IF(U5="bet",1,0) -> 0 | Z5: =SUM(V5:Y5) -> 2 | AB5: ='Matchs Suisse'!D4 -> Neuchâtel Xamax | AC5: =VLOOKUP(TRIM(AB5)&" ",Q$4:Z$27,10,0) -> 1 | AD5: ='Matchs Suisse'!D5 -> Sion | AE5: =VLOOKUP(TRIM(AD5)&" ",Q$4:Z$27,10,0) -> 0 | AF5: =AC5+AE5 -> 1 | AG5: =IF(AF5<2,"",IF(AF5=2,"0.5",IF(AF5=3,"1",IF(AF5=4,"1.5",IF(AF5=5,"2",IF(AF5=6,"2.5",IF(AF5=7,"3",IF(AF5=8,"3.5"))))))))
A6: FC Zürich | B6: 6 | C6: 3.17 | D6: 0.83 | E6: 0.83 | F6: 0.83 | G6: 0.67 | H6: 0 | I6: 0 | J6: 0 | K6: 0.5 | L6: 0.17 | M6: 0.5 | N6: 0 | O6: 0.33 | Q6: =A6 -> FC Zürich | R6: =IF(D6<$Q$1,"No Bet","Bet") -> No Bet | S6: =IF(E6<$Q$1,"No Bet","Bet") -> No Bet | T6: =IF(F6<$Q$1,"No Bet","Bet") -> No Bet | U6: =IF(G6<$Q$1,"No Bet","Bet") -> No Bet | V6: =IF(R6="bet",1,0) -> 0 | W6: =IF(S6="bet",1,0) -> 0 | X6: =IF(T6="bet",1,0) -> 0 | Y6: =IF(U6="bet",1,0) -> 0 | Z6: =SUM(V6:Y6) -> 0 | AB6: ='Matchs Suisse'!D7 -> St. Gallen | AC6: =VLOOKUP(TRIM(AB6)&" ",Q$4:Z$27,10,0) -> 2 | AD6: ='Matchs Suisse'!D8 -> Servette | AE6: =VLOOKUP(TRIM(AD6)&" ",Q$4:Z$27,10,0) -> 0 | AF6: =AC6+AE6 -> 2 | AG6: =IF(AF6<2,"",IF(AF6=2,"0.5",IF(AF6=3,"1",IF(AF6=4,"1.5",IF(AF6=5,"2",IF(AF6=6,"2.5",IF(AF6=7,"3",IF(AF6=8,"3.5")))))))) -> 0.5
A7: BSC Young Boys | B7: 6 | C7: 3 | D7: 1 | E7: 0.83 | F7: 0.5 | G7: 0.5 | H7: 0.17 | I7: 0 | J7: 0 | K7: 0.5 | L7: 0.5 | M7: 0 | N7: 0.5 | O7: 0 | Q7: =A7 -> BSC Young Boys | R7: =IF(D7<$Q$1,"No Bet","Bet") -> Bet | S7: =IF(E7<$Q$1,"No Bet","Bet") -> No Bet | T7: =IF(F7<$Q$1,"No Bet","Bet") -> No Bet | U7: =IF(G7<$Q$1,"No Bet","Bet") -> No Bet | V7: =IF(R7="bet",1,0) -> 1 | W7: =IF(S7="bet",1,0) -> 0 | X7: =IF(T7="bet",1,0) -> 0 | Y7: =IF(U7="bet",1,0) -> 0 | Z7: =SUM(V7:Y7) -> 1 | AB7: ='Matchs Suisse'!D11 -> BSC Young Boys | AC7: =VLOOKUP(TRIM(AB7)&" ",Q$4:Z$27,10,0) -> 1 | AD7: ='Matchs Suisse'!D12 -> FC Basel | AE7: =VLOOKUP(TRIM(AD7)&" ",Q$4:Z$27,10,0) -> 3 | AF7: =AC7+AE7 -> 4 | AG7: =IF(AF7<2,"",IF(AF7=2,"0.5",IF(AF7=3,"1",IF(AF7=4,"1.5",IF(AF7=5,"2",IF(AF7=6,"2.5",IF(AF7=7,"3",IF(AF7=8,"3.5")))))))) -> 1.5
A8: Neuchâtel Xamax | B8: 6 | C8: 3 | D8: 1 | E8: 0.83 | F8: 0.67 | G8: 0.5 | H8: 0 | I8: 0 | J8: 0 | K8: 0.67 | L8: 0 | M8: 0.33 | N8: 0 | O8: 0.33 | Q8: =A8 -> Neuchâtel Xamax | R8: =IF(D8<$Q$1,"No Bet","Bet") -> Bet | S8: =IF(E8<$Q$1,"No Bet","Bet") -> No Bet | T8: =IF(F8<$Q$1,"No Bet","Bet") -> No Bet | U8: =IF(G8<$Q$1,"No Bet","Bet") -> No Bet | V8: =IF(R8="bet",1,0) -> 1 | W8: =IF(S8="bet",1,0) -> 0 | X8: =IF(T8="bet",1,0) -> 0 | Y8: =IF(U8="bet",1,0) -> 0 | Z8: =SUM(V8:Y8) -> 1 | AB8: ='Matchs Suisse'!D14 -> FC Zürich | AC8: =VLOOKUP(TRIM(AB8)&" ",Q$4:Z$27,10,0) -> 0 | AD8: ='Matchs Suisse'!D15 -> FC Thun | AE8: =VLOOKUP(TRIM(AD8)&" ",Q$4:Z$27,10,0) -> 0 | AF8: =AC8+AE8 -> 0 | AG8: =IF(AF8<2,"",IF(AF8=2,"0.5",IF(AF8=3,"1",IF(AF8=4,"1.5",IF(AF8=5,"2",IF(AF8=6,"2.5",IF(AF8=7,"3",IF(AF8=8,"3.5"))))))))
A9: FC Thun | B9: 6 | C9: 2.67 | D9: 0.83 | E9: 0.67 | F9: 0.5 | G9: 0.5 | H9: 0.17 | I9: 0 | J9: 0 | K9: 0.33 | L9: 0.33 | M9: 0.5 | N9: 0.17 | O9: 0.33 | Q9: =A9 -> FC Thun | R9: =IF(D9<$Q$1,"No Bet","Bet") -> No Bet | S9: =IF(E9<$Q$1,"No Bet","Bet") -> No Bet | T9: =IF(F9<$Q$1,"No Bet","Bet") -> No Bet | U9: =IF(G9<$Q$1,"No Bet","Bet") -> No Bet | V9: =IF(R9="bet",1,0) -> 0 | W9: =IF(S9="bet",1,0) -> 0 | X9: =IF(T9="bet",1,0) -> 0 | Y9: =IF(U9="bet",1,0) -> 0 | Z9: =SUM(V9:Y9) -> 0 | AB9: ='Matchs Suisse'!D17 -> Lugano | AC9: =VLOOKUP(TRIM(AB9)&" ",Q$4:Z$27,10,0) -> 0 | AD9: ='Matchs Suisse'!D18 -> Luzern | AE9: =VLOOKUP(TRIM(AD9)&" ",Q$4:Z$27,10,0) -> 0 | AF9: =AC9+AE9 -> 0 | AG9: =IF(AF9<2,"",IF(AF9=2,"0.5",IF(AF9=3,"1",IF(AF9=4,"1.5",IF(AF9=5,"2",IF(AF9=6,"2.5",IF(AF9=7,"3",IF(AF9=8,"3.5"))))))))
A10: Lugano | B10: 6 | C10: 2.5 | D10: 0.83 | E10: 0.67 | F10: 0.5 | G10: 0.33 | H10: 0.17 | I10: 0 | J10: 0 | K10: 0.33 | L10: 0.33 | M10: 0.5 | N10: 0.17 | O10: 0.33 | Q10: =A10 -> Lugano | R10: =IF(D10<$Q$1,"No Bet","Bet") -> No Bet | S10: =IF(E10<$Q$1,"No Bet","Bet") -> No Bet | T10: =IF(F10<$Q$1,"No Bet","Bet") -> No Bet | U10: =IF(G10<$Q$1,"No Bet","Bet") -> No Bet | V10: =IF(R10="bet",1,0) -> 0 | W10: =IF(S10="bet",1,0) -> 0 | X10: =IF(T10="bet",1,0) -> 0 | Y10: =IF(U10="bet",1,0) -> 0 | Z10: =SUM(V10:Y10) -> 0
A11: Servette | B11: 6 | C11: 2.5 | D11: 0.83 | E11: 0.67 | F11: 0.5 | G11: 0.5 | H11: 0 | I11: 0 | J11: 0 | K11: 0.5 | L11: 0.5 | M11: 0.17 | N11: 0.33 | O11: 0 | Q11: =A11 -> Servette | R11: =IF(D11<$Q$1,"No Bet","Bet") -> No Bet | S11: =IF(E11<$Q$1,"No Bet","Bet") -> No Bet | T11: =IF(F11<$Q$1,"No Bet","Bet") -> No Bet | U11: =IF(G11<$Q$1,"No Bet","Bet") -> No Bet | V11: =IF(R11="bet",1,0) -> 0 | W11: =IF(S11="bet",1,0) -> 0 | X11: =IF(T11="bet",1,0) -> 0 | Y11: =IF(U11="bet",1,0) -> 0 | Z11: =SUM(V11:Y11) -> 0
A12: Sion | B12: 6 | C12: 2.33 | D12: 0.83 | E12: 0.5 | F12: 0.5 | G12: 0.33 | H12: 0.17 | I12: 0 | J12: 0 | K12: 0.5 | L12: 0.5 | M12: 0.17 | N12: 0.33 | O12: 0 | Q12: =A12 -> Sion | R12: =IF(D12<$Q$1,"No Bet","Bet") -> No Bet | S12: =IF(E12<$Q$1,"No Bet","Bet") -> No Bet | T12: =IF(F12<$Q$1,"No Bet","Bet") -> No Bet | U12: =IF(G12<$Q$1,"No Bet","Bet") -> No Bet | V12: =IF(R12="bet",1,0) -> 0 | W12: =IF(S12="bet",1,0) -> 0 | X12: =IF(T12="bet",1,0) -> 0 | Y12: =IF(U12="bet",1,0) -> 0 | Z12: =SUM(V12:Y12) -> 0
A13: Luzern | B13: 6 | C13: 2 | D13: 0.83 | E13: 0.67 | F13: 0.33 | G13: 0.17 | H13: 0 | I13: 0 | J13: 0 | K13: 0.33 | L13: 0.33 | M13: 0.5 | N13: 0.17 | O13: 0.33 | Q13: =A13 -> Luzern | R13: =IF(D13<$Q$1,"No Bet","Bet") -> No Bet | S13: =IF(E13<$Q$1,"No Bet","Bet") -> No Bet | T13: =IF(F13<$Q$1,"No Bet","Bet") -> No Bet | U13: =IF(G13<$Q$1,"No Bet","Bet") -> No Bet | V13: =IF(R13="bet",1,0) -> 0 | W13: =IF(S13="bet",1,0) -> 0 | X13: =IF(T13="bet",1,0) -> 0 | Y13: =IF(U13="bet",1,0) -> 0 | Z13: =SUM(V13:Y13) -> 0
A15: League average | D15: 0.9 | E15: 0.767 | F15: 0.6 | G15: 0.433 | H15: 0.133 | I15: 0 | J15: 0 | K15: 0.533 | L15: 0.283 | M15: 0.283 | N15: 0.183 | O15: 0.183
A16: Home matches of... | B16: GP | C16: Avg | D16: 0.5+ | E16: 1.5+ | F16: 2.5+ | G16: 3.5+ | H16: 4.5+ | I16: 5.5+ | J16: 6.5+ | K16: BTS | L16: CS | M16: FTS | N16: WTN | O16: LTN | R16: 0.5 | S16: 1.5 | T16: 2.5 | U16: 3.5
B17: Sion | C17: 3 | D17: 4 | E17: 1 | F17: 1 | G17: 1 | H17: 0.67 | I17: 0.33 | J17: 0 | K17: 0 | L17: 1 | M17: 0 | N17: 0 | O17: 0 | P17: 0 | R17: =IF(E17<$Q$1,"No Bet","Bet") -> Bet | S17: =IF(F17<$Q$1,"No Bet","Bet") -> Bet | T17: =IF(G17<$Q$1,"No Bet","Bet") -> Bet | U17: =IF(H17<$Q$1,"No Bet","Bet") -> No Bet
A18: St. Gallen | B18: 3 | C18: 4 | D18: 1 | E18: 1 | F18: 0.67 | G18: 0.67 | H18: 0.67 | I18: 0 | J18: 0 | K18: 0.67 | L18: 0 | M18: 0.33 | N18: 0 | O18: 0.33 | R18: =IF(D18<$Q$1,"No Bet","Bet") -> Bet | S18: =IF(E18<$Q$1,"No Bet","Bet") -> Bet | T18: =IF(F18<$Q$1,"No Bet","Bet") -> No Bet | U18: =IF(G18<$Q$1,"No Bet","Bet") -> No Bet
A19: FC Zürich | B19: 3 | C19: 3.67 | D19: 1 | E19: 1 | F19: 1 | G19: 0.67 | H19: 0 | I19: 0 | J19: 0 | K19: 0.67 | L19: 0 | M19: 0.33 | N19: 0 | O19: 0.33 | R19: =IF(D19<$Q$1,"No Bet","Bet") -> Bet | S19: =IF(E19<$Q$1,"No Bet","Bet") -> Bet | T19: =IF(F19<$Q$1,"No Bet","Bet") -> Bet | U19: =IF(G19<$Q$1,"No Bet","Bet") -> No Bet
A20: FC Thun | B20: 4 | C20: 3.5 | D20: 1 | E20: 0.75 | F20: 0.75 | G20: 0.75 | H20: 0.25 | I20: 0 | J20: 0 | K20: 0.5 | L20: 0 | M20: 0.5 | N20: 0 | O20: 0.5 | R20: =IF(D20<$Q$1,"No Bet","Bet") -> Bet | S20: =IF(E20<$Q$1,"No Bet","Bet") -> No Bet | T20: =IF(F20<$Q$1,"No Bet","Bet") -> No Bet | U20: =IF(G20<$Q$1,"No Bet","Bet") -> No Bet
A21: FC Basel | B21: 3 | C21: 3.33 | D21: 1 | E21: 1 | F21: 1 | G21: 0.33 | H21: 0 | I21: 0 | J21: 0 | K21: 1 | L21: 0 | M21: 0 | N21: 0 | O21: 0 | R21: =IF(D21<$Q$1,"No Bet","Bet") -> Bet | S21: =IF(E21<$Q$1,"No Bet","Bet") -> Bet | T21: =IF(F21<$Q$1,"No Bet","Bet") -> Bet | U21: =IF(G21<$Q$1,"No Bet","Bet") -> No Bet
A22: BSC Young Boys | B22: 3 | C22: 2.67 | D22: 1 | E22: 1 | F22: 0.33 | G22: 0.33 | H22: 0 | I22: 0 | J22: 0 | K22: 0.33 | L22: 0.67 | M22: 0 | N22: 0.67 | O22: 0 | R22: =IF(D22<$Q$1,"No Bet","Bet") -> Bet | S22: =IF(E22<$Q$1,"No Bet","Bet") -> Bet | T22: =IF(F22<$Q$1,"No Bet","Bet") -> No Bet | U22: =IF(G22<$Q$1,"No Bet","Bet") -> No Bet
A23: Luzern | B23: 3 | C23: 2 | D23: 0.67 | E23: 0.67 | F23: 0.33 | G23: 0.33 | H23: 0 | I23: 0 | J23: 0 | K23: 0.33 | L23: 0.33 | M23: 0.67 | N23: 0 | O23: 0.33 | R23: =IF(D23<$Q$1,"No Bet","Bet") -> No Bet | S23: =IF(E23<$Q$1,"No Bet","Bet") -> No Bet | T23: =IF(F23<$Q$1,"No Bet","Bet") -> No Bet | U23: =IF(G23<$Q$1,"No Bet","Bet") -> No Bet
A24: Neuchâtel Xamax | B24: 3 | C24: 2 | D24: 1 | E24: 0.67 | F24: 0.33 | G24: 0 | H24: 0 | I24: 0 | J24: 0 | K24: 0.33 | L24: 0 | M24: 0.67 | N24: 0 | O24: 0.67 | R24: =IF(D24<$Q$1,"No Bet","Bet") -> Bet | S24: =IF(E24<$Q$1,"No Bet","Bet") -> No Bet | T24: =IF(F24<$Q$1,"No Bet","Bet") -> No Bet | U24: =IF(G24<$Q$1,"No Bet","Bet") -> No Bet
A25: Servette | B25: 3 | C25: 1.67 | D25: 0.67 | E25: 0.33 | F25: 0.33 | G25: 0.33 | H25: 0 | I25: 0 | J25: 0 | K25: 0.33 | L25: 0.67 | M25: 0.33 | N25: 0.33 | O25: 0 | R25: =IF(D25<$Q$1,"No Bet","Bet") -> No Bet | S25: =IF(E25<$Q$1,"No Bet","Bet") -> No Bet | T25: =IF(F25<$Q$1,"No Bet","Bet") -> No Bet | U25: =IF(G25<$Q$1,"No Bet","Bet") -> No Bet
A26: Lugano | B26: 2 | C26: 0.5 | D26: 0.5 | E26: 0 | F26: 0 | G26: 0 | H26: 0 | I26: 0 | J26: 0 | K26: 0 | L26: 0.5 | M26: 1 | N26: 0 | O26: 0.5 | R26: =IF(D26<$Q$1,"No Bet","Bet") -> No Bet | S26: =IF(E26<$Q$1,"No Bet","Bet") -> No Bet | T26: =IF(F26<$Q$1,"No Bet","Bet") -> No Bet | U26: =IF(G26<$Q$1,"No Bet","Bet") -> No Bet
A28: League average | D28: 0.9 | E28: 0.767 | F28: 0.6 | G28: 0.433 | H28: 0.133 | I28: 0 | J28: 0 | K28: 0.533 | L28: 0.2 | M28: 0.367 | N28: 0.1 | O28: 0.267
A29: Away matches of... | B29: GP | C29: Avg | D29: 0.5+ | E29: 1.5+ | F29: 2.5+ | G29: 3.5+ | H29: 4.5+ | I29: 5.5+ | J29: 6.5+ | K29: BTS | L29: CS | M29: FTS | N29: WTN | O29: LTN | R29: 0.5 | S29: 1.5 | T29: 2.5 | U29: 3.5
B30: FC Basel | C30: 3 | D30: 4.33 | E30: 1 | F30: 1 | G30: 1 | H30: 0.67 | I30: 0.67 | J30: 0 | K30: 0 | L30: 0.67 | M30: 0.33 | N30: 0 | O30: 0.33 | P30: 0 | R30: =IF(E30<$Q$1,"No Bet","Bet") -> Bet | S30: =IF(F30<$Q$1,"No Bet","Bet") -> Bet | T30: =IF(G30<$Q$1,"No Bet","Bet") -> Bet | U30: =IF(H30<$Q$1,"No Bet","Bet") -> No Bet
A31: Neuchâtel Xamax | B31: 3 | C31: 4 | D31: 1 | E31: 1 | F31: 1 | G31: 1 | H31: 0 | I31: 0 | J31: 0 | K31: 1 | L31: 0 | M31: 0 | N31: 0 | O31: 0 | R31: =IF(D31<$Q$1,"No Bet","Bet") -> Bet | S31: =IF(E31<$Q$1,"No Bet","Bet") -> Bet | T31: =IF(F31<$Q$1,"No Bet","Bet") -> Bet | U31: =IF(G31<$Q$1,"No Bet","Bet") -> Bet
A32: Lugano | B32: 4 | C32: 3.5 | D32: 1 | E32: 1 | F32: 0.75 | G32: 0.5 | H32: 0.25 | I32: 0 | J32: 0 | K32: 0.5 | L32: 0.25 | M32: 0.25 | N32: 0.25 | O32: 0.25 | R32: =IF(D32<$Q$1,"No Bet","Bet") -> Bet | S32: =IF(E32<$Q$1,"No Bet","Bet") -> Bet | T32: =IF(F32<$Q$1,"No Bet","Bet") -> No Bet | U32: =IF(G32<$Q$1,"No Bet","Bet") -> No Bet
A33: BSC Young Boys | B33: 3 | C33: 3.33 | D33: 1 | E33: 0.67 | F33: 0.67 | G33: 0.67 | H33: 0.33 | I33: 0 | J33: 0 | K33: 0.67 | L33: 0.33 | M33: 0 | N33: 0.33 | O33: 0 | R33: =IF(D33<$Q$1,"No Bet","Bet") -> Bet | S33: =IF(E33<$Q$1,"No Bet","Bet") -> No Bet | T33: =IF(F33<$Q$1,"No Bet","Bet") -> No Bet | U33: =IF(G33<$Q$1,"No Bet","Bet") -> No Bet
A34: Servette | B34: 3 | C34: 3.33 | D34: 1 | E34: 1 | F34: 0.67 | G34: 0.67 | H34: 0 | I34: 0 | J34: 0 | K34: 0.67 | L34: 0.33 | M34: 0 | N34: 0.33 | O34: 0 | R34: =IF(D34<$Q$1,"No Bet","Bet") -> Bet | S34: =IF(E34<$Q$1,"No Bet","Bet") -> Bet | T34: =IF(F34<$Q$1,"No Bet","Bet") -> No Bet | U34: =IF(G34<$Q$1,"No Bet","Bet") -> No Bet
A35: FC Zürich | B35: 3 | C35: 2.67 | D35: 0.67 | E35: 0.67 | F35: 0.67 | G35: 0.67 | H35: 0 | I35: 0 | J35: 0 | K35: 0.33 | L35: 0.33 | M35: 0.67 | N35: 0 | O35: 0.33 | R35: =IF(D35<$Q$1,"No Bet","Bet") -> No Bet | S35: =IF(E35<$Q$1,"No Bet","Bet") -> No Bet | T35: =IF(F35<$Q$1,"No Bet","Bet") -> No Bet | U35: =IF(G35<$Q$1,"No Bet","Bet") -> No Bet
A36: St. Gallen | B36: 3 | C36: 2.67 | D36: 1 | E36: 1 | F36: 0.67 | G36: 0 | H36: 0 | I36: 0 | J36: 0 | K36: 1 | L36: 0 | M36: 0 | N36: 0 | O36: 0 | R36: =IF(D36<$Q$1,"No Bet","Bet") -> Bet | S36: =IF(E36<$Q$1,"No Bet","Bet") -> Bet | T36: =IF(F36<$Q$1,"No Bet","Bet") -> No Bet | U36: =IF(G36<$Q$1,"No Bet","Bet") -> No Bet
A37: Luzern | B37: 3 | C37: 2 | D37: 1 | E37: 0.67 | F37: 0.33 | G37: 0 | H37: 0 | I37: 0 | J37: 0 | K37: 0.33 | L37: 0.33 | M37: 0.33 | N37: 0.33 | O37: 0.33 | R37: =IF(D37<$Q$1,"No Bet","Bet") -> Bet | S37: =IF(E37<$Q$1,"No Bet","Bet") -> No Bet | T37: =IF(F37<$Q$1,"No Bet","Bet") -> No Bet | U37: =IF(G37<$Q$1,"No Bet","Bet") -> No Bet
A38: FC Thun | B38: 2 | C38: 1 | D38: 0.5 | E38: 0.5 | F38: 0 | G38: 0 | H38: 0 | I38: 0 | J38: 0 | K38: 0 | L38: 1 | M38: 0.5 | N38: 0.5 | O38: 0 | R38: =IF(D38<$Q$1,"No Bet","Bet") -> No Bet | S38: =IF(E38<$Q$1,"No Bet","Bet") -> No Bet | T38: =IF(F38<$Q$1,"No Bet","Bet") -> No Bet | U38: =IF(G38<$Q$1,"No Bet","Bet") -> No Bet
A39: Sion | B39: 3 | C39: 0.67 | D39: 0.67 | E39: 0 | F39: 0 | G39: 0 | H39: 0 | I39: 0 | J39: 0 | K39: 0 | L39: 1 | M39: 0.33 | N39: 0.67 | O39: 0 | R39: =IF(D39<$Q$1,"No Bet","Bet") -> No Bet | S39: =IF(E39<$Q$1,"No Bet","Bet") -> No Bet | T39: =IF(F39<$Q$1,"No Bet","Bet") -> No Bet | U39: =IF(G39<$Q$1,"No Bet","Bet") -> No Bet
A41: League average | D41: 0.9 | E41: 0.767 | F41: 0.6 | G41: 0.433 | H41: 0.133 | I41: 0 | J41: 0 | K41: 0.533 | L41: 0.367 | M41: 0.2 | N41: 0.267 | O41: 0.1
A44: Over / Under (total goals) at Halftime
A47: Match goals stats at half-time
A48: Matches of... | B48: GP | C48: Avg | D48: 0.5+ | E48: 1.5+ | F48: 2.5+ | G48: 3.5+ | H48: 4.5+ | I48: 5.5+ | J48: 6.5+ | K48: BTS | L48: CS | M48: FTS | N48: WTN | O48: LTN
B49: BSC Young Boys | C49: 6 | D49: 1.67 | E49: 0.83 | F49: 0.5 | G49: 0.33 | H49: 0 | I49: 0 | J49: 0 | K49: 0 | L49: 0.5 | M49: 0.5 | N49: 0.17 | O49: 0.33 | P49: 0
A50: FC Basel | B50: 6 | C50: 1.5 | D50: 0.83 | E50: 0.5 | F50: 0.17 | G50: 0 | H50: 0 | I50: 0 | J50: 0 | K50: 0.5 | L50: 0.33 | M50: 0.33 | N50: 0.17 | O50: 0.17
A51: FC Zürich | B51: 6 | C51: 1.5 | D51: 0.83 | E51: 0.5 | F51: 0.17 | G51: 0 | H51: 0 | I51: 0 | J51: 0 | K51: 0.33 | L51: 0.33 | M51: 0.5 | N51: 0.17 | O51: 0.33
A52: Servette | B52: 6 | C52: 1.5 | D52: 0.67 | E52: 0.67 | F52: 0.17 | G52: 0 | H52: 0 | I52: 0 | J52: 0 | K52: 0.33 | L52: 0.5 | M52: 0.5 | N52: 0.17 | O52: 0.17
A53: St. Gallen | B53: 6 | C53: 1.33 | D53: 0.83 | E53: 0.33 | F53: 0.17 | G53: 0 | H53: 0 | I53: 0 | J53: 0 | K53: 0.33 | L53: 0.5 | M53: 0.33 | N53: 0.33 | O53: 0.17
A54: FC Thun | B54: 6 | C54: 1.17 | D54: 0.83 | E54: 0.33 | F54: 0 | G54: 0 | H54: 0 | I54: 0 | J54: 0 | K54: 0.17 | L54: 0.33 | M54: 0.67 | N54: 0.17 | O54: 0.5
A55: Lugano | B55: 6 | C55: 1 | D55: 0.67 | E55: 0.17 | F55: 0.17 | G55: 0 | H55: 0 | I55: 0 | J55: 0 | K55: 0 | L55: 0.67 | M55: 0.67 | N55: 0.33 | O55: 0.33
A56: Sion | B56: 6 | C56: 1 | D56: 0.67 | E56: 0.33 | F56: 0 | G56: 0 | H56: 0 | I56: 0 | J56: 0 | K56: 0.33 | L56: 0.67 | M56: 0.33 | N56: 0.33 | O56: 0
A57: Luzern | B57: 6 | C57: 0.83 | D57: 0.5 | E57: 0.17 | F57: 0.17 | G57: 0 | H57: 0 | I57: 0 | J57: 0 | K57: 0.17 | L57: 0.5 | M57: 0.83 | N57: 0 | O57: 0.33
A58: Neuchâtel Xamax | B58: 6 | C58: 0.83 | D58: 0.67 | E58: 0.17 | F58: 0 | G58: 0 | H58: 0 | I58: 0 | J58: 0 | K58: 0 | L58: 0.67 | M58: 0.67 | N58: 0.33 | O58: 0.33
A60: League average | D60: 0.733 | E60: 0.367 | F60: 0.133 | G60: 0 | H60: 0 | I60: 0 | J60: 0 | K60: 0.267 | L60: 0.5 | M60: 0.5 | N60: 0.233 | O60: 0.233
A62: Match goals stats at half-time (at home)
A63: Home matches of... | B63: GP | C63: Avg | D63: 0.5+ | E63: 1.5+ | F63: 2.5+ | G63: 3.5+ | H63: 4.5+ | I63: 5.5+ | J63: 6.5+ | K63: BTS | L63: CS | M63: FTS | N63: WTN | O63: LTN
B64: FC Zürich | C64: 3 | D64: 2 | E64: 1 | F64: 0.67 | G64: 0.33 | H64: 0 | I64: 0 | J64: 0 | K64: 0 | L64: 0.33 | M64: 0.33 | N64: 0.33 | O64: 0.33 | P64: 0.33
A65: FC Basel | B65: 3 | C65: 1.67 | D65: 1 | E65: 0.33 | F65: 0.33 | G65: 0 | H65: 0 | I65: 0 | J65: 0 | K65: 0.33 | L65: 0.33 | M65: 0.33 | N65: 0.33 | O65: 0.33
A66: Sion | B66: 3 | C66: 1.67 | D66: 1 | E66: 0.67 | F66: 0 | G66: 0 | H66: 0 | I66: 0 | J66: 0 | K66: 0.67 | L66: 0.33 | M66: 0 | N66: 0.33 | O66: 0
A67: FC Thun | B67: 4 | C67: 1.5 | D67: 1 | E67: 0.5 | F67: 0 | G67: 0 | H67: 0 | I67: 0 | J67: 0 | K67: 0.25 | L67: 0 | M67: 0.75 | N67: 0 | O67: 0.75
A68: BSC Young Boys | B68: 3 | C68: 1.33 | D68: 1 | E68: 0.33 | F68: 0 | G68: 0 | H68: 0 | I68: 0 | J68: 0 | K68: 0.33 | L68: 0.67 | M68: 0 | N68: 0.67 | O68: 0
A69: Luzern | B69: 3 | C69: 1.33 | D69: 0.67 | E69: 0.33 | F69: 0.33 | G69: 0 | H69: 0 | I69: 0 | J69: 0 | K69: 0.33 | L69: 0.33 | M69: 0.67 | N69: 0 | O69: 0.33
A70: St. Gallen | B70: 3 | C70: 1.33 | D70: 0.67 | E70: 0.33 | F70: 0.33 | G70: 0 | H70: 0 | I70: 0 | J70: 0 | K70: 0.33 | L70: 0.33 | M70: 0.67 | N70: 0 | O70: 0.33
A71: Servette | B71: 3 | C71: 0.67 | D71: 0.33 | E71: 0.33 | F71: 0 | G71: 0 | H71: 0 | I71: 0 | J71: 0 | K71: 0 | L71: 0.67 | M71: 1 | N71: 0 | O71: 0.33
A72: Neuchâtel Xamax | B72: 3 | C72: 0.33 | D72: 0.33 | E72: 0 | F72: 0 | G72: 0 | H72: 0 | I72: 0 | J72: 0 | K72: 0 | L72: 0.67 | M72: 1 | N72: 0 | O72: 0.33
A73: Lugano | B73: 2 | C73: 0 | D73: 0 | E73: 0 | F73: 0 | G73: 0 | H73: 0 | I73: 0 | J73: 0 | K73: 0 | L73: 1 | M73: 1 | N73: 0 | O73: 0
A75: League average | D75: 0.733 | E75: 0.367 | F75: 0.133 | G75: 0 | H75: 0 | I75: 0 | J75: 0 | K75: 0.267 | L75: 0.433 | M75: 0.567 | N75: 0.167 | O75: 0.3
A77: Match goals stats at half-time (away)
A78: Away matches of... | B78: GP | C78: Avg | D78: 0.5+ | E78: 1.5+ | F78: 2.5+ | G78: 3.5+ | H78: 4.5+ | I78: 5.5+ | J78: 6.5+ | K78: BTS | L78: CS | M78: FTS | N78: WTN | O78: LTN
B79: Servette | C79: 3 | D79: 2.33 | E79: 1 | F79: 1 | G79: 0.33 | H79: 0 | I79: 0 | J79: 0 | K79: 0 | L79: 0.67 | M79: 0.33 | N79: 0 | O79: 0.33 | P79: 0
A80: BSC Young Boys | B80: 3 | C80: 2 | D80: 0.67 | E80: 0.67 | F80: 0.67 | G80: 0 | H80: 0 | I80: 0 | J80: 0 | K80: 0.67 | L80: 0.33 | M80: 0.33 | N80: 0 | O80: 0
A81: Lugano | B81: 4 | C81: 1.5 | D81: 1 | E81: 0.25 | F81: 0.25 | G81: 0 | H81: 0 | I81: 0 | J81: 0 | K81: 0 | L81: 0.5 | M81: 0.5 | N81: 0.5 | O81: 0.5
A82: FC Basel | B82: 3 | C82: 1.33 | D82: 0.67 | E82: 0.67 | F82: 0 | G82: 0 | H82: 0 | I82: 0 | J82: 0 | K82: 0.67 | L82: 0.33 | M82: 0.33 | N82: 0 | O82: 0
A83: Neuchâtel Xamax | B83: 3 | C83: 1.33 | D83: 1 | E83: 0.33 | F83: 0 | G83: 0 | H83: 0 | I83: 0 | J83: 0 | K83: 0 | L83: 0.67 | M83: 0.33 | N83: 0.67 | O83: 0.33
A84: St. Gallen | B84: 3 | C84: 1.33 | D84: 1 | E84: 0.33 | F84: 0 | G84: 0 | H84: 0 | I84: 0 | J84: 0 | K84: 0.33 | L84: 0.67 | M84: 0 | N84: 0.67 | O84: 0
A85: FC Zürich | B85: 3 | C85: 1 | D85: 0.67 | E85: 0.33 | F85: 0 | G85: 0 | H85: 0 | I85: 0 | J85: 0 | K85: 0.33 | L85: 0.33 | M85: 0.67 | N85: 0 | O85: 0.33
A86: FC Thun | B86: 2 | C86: 0.5 | D86: 0.5 | E86: 0 | F86: 0 | G86: 0 | H86: 0 | I86: 0 | J86: 0 | K86: 0 | L86: 1 | M86: 0.5 | N86: 0.5 | O86: 0
A87: Luzern | B87: 3 | C87: 0.33 | D87: 0.33 | E87: 0 | F87: 0 | G87: 0 | H87: 0 | I87: 0 | J87: 0 | K87: 0 | L87: 0.67 | M87: 1 | N87: 0 | O87: 0.33
A88: Sion | B88: 3 | C88: 0.33 | D88: 0.33 | E88: 0 | F88: 0 | G88: 0 | H88: 0 | I88: 0 | J88: 0 | K88: 0 | L88: 1 | M88: 0.67 | N88: 0.33 | O88: 0
A90: League average | D90: 0.733 | E90: 0.367 | F90: 0.133 | G90: 0 | H90: 0 | I90: 0 | J90: 0 | K90: 0.267 | L90: 0.567 | M90: 0.433 | N90: 0.3 | O90: 0.167
A92: See also:
A93: - Goal margins

Sheet Matchs Bundesliga
A1: Home / Away | D1: % Points per game | G1: W D L | H1: TG | I1: 2.5+ | J1: Last 4
A4: Fri | B4: 0.85416667 | C4: home | D4: Düsseldorf | F4: 0 | H4: 4 | I4: 1 | K4: stats
A5: 13 | C5: away | D5: Wolfsburg | F5: 1 | H5: 3 | I5: 1
A8: Sat | B8: 0.64583333 | C8: home | D8: Dortmund | F8: 1 | H8: 6 | I8: 1 | K8: stats
A9: 14 | C9: away | D9: Leverkusen | F9: 1 | H9: 4 | I9: 1
A11: Sat | B11: 0.64583333 | C11: home | D11: FC Augsburg | F11: 0.33 | H11: 2 | I11: 0 | K11: stats
A12: 14 | C12: away | D12: Frankfurt | F12: 0 | H12: 3 | I12: 1
A14: Sat | B14: 0.64583333 | C14: home | D14: FC Köln | F14: 0 | H14: 4 | I14: 1 | K14: stats
A15: 14 | C15: away | D15: Moenchengladb. | F15: 1 | H15: 4 | I15: 1
A17: Sat | B17: 0.64583333 | C17: home | D17: FSV Mainz | F17: 0 | H17: 4 | I17: 1 | K17: stats
A18: 14 | C18: away | D18: Hertha Berlin | F18: 0.17 | H18: 3.5 | I18: 1
A20: Sat | B20: 0.64583333 | C20: home | D20: Union Berlin | F20: 0.5 | H20: 4 | I20: 1 | K20: stats
A21: 14 | C21: away | D21: Werder Bremen | F21: 0 | H21: 5 | I21: 1
A23: Sat | B23: 0.77083333 | C23: home | D23: RB Leipzig | F23: 1 | H23: 3 | I23: 1 | K23: stats
A24: 14 | C24: away | D24: Bayern Munich | F24: 1 | H24: 3 | I24: 1
A27: Sun | B27: 0.64583333 | C27: home | D27: Hoffenheim | F27: 1 | H27: 5 | I27: 1 | K27: stats
A28: 15 | C28: away | D28: Freiburg | F28: 1 | H28: 4 | I28: 1
A30: Sun | B30: 0.75 | C30: home | D30: Paderborn | F30: 0 | H30: 4 | I30: 1 | K30: stats
A31: 15 | C31: away | D31: Schalke 04 | F31: 0.33 | H31: 0 | I31: 0
A32: Calculations based on home results of the home team and away results of the visiting team recorded during the current season in the league.

Sheet Bundesliga
A1: Over / Under (total goals) | Q1: 0.85
A3: Matches of... | B3: GP | C3: Avg | D3: 0.5+ | E3: 1.5+ | F3: 2.5+ | G3: 3.5+ | H3: 4.5+ | I3: 5.5+ | J3: 6.5+ | K3: BTS | L3: CS | M3: FTS | N3: WTN | O3: LTN | R3: 0.5 | S3: 1.5 | T3: 2.5 | U3: 3.5 | AB3: Colonne1 | AC3: Colonne2 | AD3: Colonne3 | AE3: Colonne4 | AF3: Colonne5 | AG3: Colonne6
B4: Bayern Munich | C4: 3 | D4: 4.67 | E4: 1 | F4: 1 | G4: 1 | H4: 0.67 | I4: 0.33 | J4: 0.33 | K4: 0.33 | L4: 0.67 | M4: 0.33 | N4: 0 | O4: 0.33 | P4: 0 | Q4: =B4 -> Bayern Munich | R4: =IF(E4<$Q$1,"No Bet","Bet") -> Bet | S4: =IF(F4<$Q$1,"No Bet","Bet") -> Bet | T4: =IF(G4<$Q$1,"No Bet","Bet") -> Bet | U4: =IF(H4<$Q$1,"No Bet","Bet") -> No Bet | V4: =IF(R4="bet",1,0) -> 1 | W4: =IF(S4="bet",1,0) -> 1 | X4: =IF(T4="bet",1,0) -> 1 | Y4: =IF(U4="bet",1,0) -> 0 | Z4: =SUM(V4:Y4) -> 3 | AG4: BET
A5: Dortmund | B5: 3 | C5: 4.67 | D5: 1 | E5: 1 | F5: 1 | G5: 1 | H5: 0.33 | I5: 0.33 | J5: 0 | K5: 1 | L5: 0 | M5: 0 | N5: 0 | O5: 0 | Q5: =A5 -> Dortmund | R5: =IF(D5<$Q$1,"No Bet","Bet") -> Bet | S5: =IF(E5<$Q$1,"No Bet","Bet") -> Bet | T5: =IF(F5<$Q$1,"No Bet","Bet") -> Bet | U5: =IF(G5<$Q$1,"No Bet","Bet") -> Bet | V5: =IF(R5="bet",1,0) -> 1 | W5: =IF(S5="bet",1,0) -> 1 | X5: =IF(T5="bet",1,0) -> 1 | Y5: =IF(U5="bet",1,0) -> 1 | Z5: =SUM(V5:Y5) -> 4 | AB5: ='Matchs Bundesliga'!D4 -> Düsseldorf | AC5: =VLOOKUP(TRIM(AB5)&" ",Q$4:Z$27,10,0) -> 3 | AD5: ='Matchs Bundesliga'!D5 -> Wolfsburg | AE5: =VLOOKUP(TRIM(AD5)&" ",Q$4:Z$27,10,0) -> 2 | AF5: =AC5+AE5 -> 5 | AG5: =IF(AF5<2,"",IF(AF5=2,"0.5",IF(AF5=3,"1",IF(AF5=4,"1.5",IF(AF5=5,"2",IF(AF5=6,"2.5",IF(AF5=7,"3",IF(AF5=8,"3.5")))))))) -> 2
A6: FSV Mainz | B6: 3 | C6: 4.67 | D6: 1 | E6: 1 | F6: 1 | G6: 0.67 | H6: 0.33 | I6: 0.33 | J6: 0.33 | K6: 0.67 | L6: 0 | M6: 0.33 | N6: 0 | O6: 0.33 | Q6: =A6 -> FSV Mainz | R6: =IF(D6<$Q$1,"No Bet","Bet") -> Bet | S6: =IF(E6<$Q$1,"No Bet","Bet") -> Bet | T6: =IF(F6<$Q$1,"No Bet","Bet") -> Bet | U6: =IF(G6<$Q$1,"No Bet","Bet") -> No Bet | V6: =IF(R6="bet",1,0) -> 1 | W6: =IF(S6="bet",1,0) -> 1 | X6: =IF(T6="bet",1,0) -> 1 | Y6: =IF(U6="bet",1,0) -> 0 | Z6: =SUM(V6:Y6) -> 3 | AB6: ='Matchs Bundesliga'!D8 -> Dortmund | AC6: =VLOOKUP(TRIM(AB6)&" ",Q$4:Z$27,10,0) -> 4 | AD6: ='Matchs Bundesliga'!D9 -> Leverkusen | AE6: =VLOOKUP(TRIM(AD6)&" ",Q$4:Z$27,10,0) -> 0 | AF6: =AC6+AE6 -> 4 | AG6: =IF(AF6<2,"",IF(AF6=2,"0.5",IF(AF6=3,"1",IF(AF6=4,"1.5",IF(AF6=5,"2",IF(AF6=6,"2.5",IF(AF6=7,"3",IF(AF6=8,"3.5")))))))) -> 1.5
A7: Werder Bremen | B7: 3 | C7: 4.67 | D7: 1 | E7: 1 | F7: 1 | G7: 1 | H7: 0.67 | I7: 0 | J7: 0 | K7: 1 | L7: 0 | M7: 0 | N7: 0 | O7: 0 | Q7: =A7 -> Werder Bremen | R7: =IF(D7<$Q$1,"No Bet","Bet") -> Bet | S7: =IF(E7<$Q$1,"No Bet","Bet") -> Bet | T7: =IF(F7<$Q$1,"No Bet","Bet") -> Bet | U7: =IF(G7<$Q$1,"No Bet","Bet") -> Bet | V7: =IF(R7="bet",1,0) -> 1 | W7: =IF(S7="bet",1,0) -> 1 | X7: =IF(T7="bet",1,0) -> 1 | Y7: =IF(U7="bet",1,0) -> 1 | Z7: =SUM(V7:Y7) -> 4 | AB7: ='Matchs Bundesliga'!D11 -> FC Augsburg | AC7: =VLOOKUP(TRIM(AB7)&" ",Q$4:Z$27,10,0) -> 2 | AD7: ='Matchs Bundesliga'!D12 -> Frankfurt | AE7: =VLOOKUP(TRIM(AD7)&" ",Q$4:Z$27,10,0) -> 1 | AF7: =AC7+AE7 -> 3 | AG7: =IF(AF7<2,"",IF(AF7=2,"0.5",IF(AF7=3,"1",IF(AF7=4,"1.5",IF(AF7=5,"2",IF(AF7=6,"2.5",IF(AF7=7,"3",IF(AF7=8,"3.5")))))))) -> 1
A8: FC Augsburg | B8: 3 | C8: 4.33 | D8: 1 | E8: 1 | F8: 0.67 | G8: 0.67 | H8: 0.67 | I8: 0.33 | J8: 0 | K8: 1 | L8: 0 | M8: 0 | N8: 0 | O8: 0 | Q8: =A8 -> FC Augsburg | R8: =IF(D8<$Q$1,"No Bet","Bet") -> Bet | S8: =IF(E8<$Q$1,"No Bet","Bet") -> Bet | T8: =IF(F8<$Q$1,"No Bet","Bet") -> No Bet | U8: =IF(G8<$Q$1,"No Bet","Bet") -> No Bet | V8: =IF(R8="bet",1,0) -> 1 | W8: =IF(S8="bet",1,0) -> 1 | X8: =IF(T8="bet",1,0) -> 0 | Y8: =IF(U8="bet",1,0) -> 0 | Z8: =SUM(V8:Y8) -> 2 | AB8: ='Matchs Bundesliga'!D14 -> FC Köln | AC8: =VLOOKUP(TRIM(AB8)&" ",Q$4:Z$27,10,0) -> 3 | AD8: ='Matchs Bundesliga'!D15 -> Moenchengladb. | AE8: =VLOOKUP(TRIM(AD8)&" ",Q$4:Z$27,10,0) -> 0 | AF8: =AC8+AE8 -> 3 | AG8: =IF(AF8<2,"",IF(AF8=2,"0.5",IF(AF8=3,"1",IF(AF8=4,"1.5",IF(AF8=5,"2",IF(AF8=6,"2.5",IF(AF8=7,"3",IF(AF8=8,"3.5")))))))) -> 1
A9: Düsseldorf | B9: 3 | C9: 3.67 | D9: 1 | E9: 1 | F9: 1 | G9: 0.67 | H9: 0 | I9: 0 | J9: 0 | K9: 1 | L9: 0 | M9: 0 | N9: 0 | O9: 0 | Q9: =A9 -> Düsseldorf | R9: =IF(D9<$Q$1,"No Bet","Bet") -> Bet | S9: =IF(E9<$Q$1,"No Bet","Bet") -> Bet | T9: =IF(F9<$Q$1,"No Bet","Bet") -> Bet | U9: =IF(G9<$Q$1,"No Bet","Bet") -> No Bet | V9: =IF(R9="bet",1,0) -> 1 | W9: =IF(S9="bet",1,0) -> 1 | X9: =IF(T9="bet",1,0) -> 1 | Y9: =IF(U9="bet",1,0) -> 0 | Z9: =SUM(V9:Y9) -> 3 | AB9: ='Matchs Bundesliga'!D17 -> FSV Mainz | AC9: =VLOOKUP(TRIM(AB9)&" ",Q$4:Z$27,10,0) -> 3 | AD9: ='Matchs Bundesliga'!D18 -> Hertha Berlin | AE9: =VLOOKUP(TRIM(AD9)&" ",Q$4:Z$27,10,0) -> 3 | AF9: =AC9+AE9 -> 6 | AG9: =IF(AF9<2,"",IF(AF9=2,"0.5",IF(AF9=3,"1",IF(AF9=4,"1.5",IF(AF9=5,"2",IF(AF9=6,"2.5",IF(AF9=7,"3",IF(AF9=8,"3.5")))))))) -> 2.5
A10: Paderborn | B10: 3 | C10: 3.67 | D10: 1 | E10: 1 | F10: 0.67 | G10: 0.67 | H10: 0.33 | I10: 0 | J10: 0 | K10: 1 | L10: 0 | M10: 0 | N10: 0 | O10: 0 | Q10: =A10 -> Paderborn | R10: =IF(D10<$Q$1,"No Bet","Bet") -> Bet | S10: =IF(E10<$Q$1,"No Bet","Bet") -> Bet | T10: =IF(F10<$Q$1,"No Bet","Bet") -> No Bet | U10: =IF(G10<$Q$1,"No Bet","Bet") -> No Bet | V10: =IF(R10="bet",1,0) -> 1 | W10: =IF(S10="bet",1,0) -> 1 | X10: =IF(T10="bet",1,0) -> 0 | Y10: =IF(U10="bet",1,0) -> 0 | Z10: =SUM(V10:Y10) -> 2 | AB10: ='Matchs Bundesliga'!D20 -> Union Berlin | AC10: =VLOOKUP(TRIM(AB10)&" ",Q$4:Z$27,10,0) -> 2 | AD10: ='Matchs Bundesliga'!D21 -> Werder Bremen | AE10: =VLOOKUP(TRIM(AD10)&" ",Q$4:Z$27,10,0) -> 4 | AF10: =AC10+AE10 -> 6 | AG10: =IF(AF10<2,"",IF(AF10=2,"0.5",IF(AF10=3,"1",IF(AF10=4,"1.5",IF(AF10=5,"2",IF(AF10=6,"2.5",IF(AF10=7,"3",IF(AF10=8,"3.5")))))))) -> 2.5
A11: RB Leipzig | B11: 3 | C11: 3.67 | D11: 1 | E11: 1 | F11: 1 | G11: 0.67 | H11: 0 | I11: 0 | J11: 0 | K11: 0.67 | L11: 0.33 | M11: 0 | N11: 0.33 | O11: 0 | Q11: =A11 -> RB Leipzig | R11: =IF(D11<$Q$1,"No Bet","Bet") -> Bet | S11: =IF(E11<$Q$1,"No Bet","Bet") -> Bet | T11: =IF(F11<$Q$1,"No Bet","Bet") -> Bet | U11: =IF(G11<$Q$1,"No Bet","Bet") -> No Bet | V11: =IF(R11="bet",1,0) -> 1 | W11: =IF(S11="bet",1,0) -> 1 | X11: =IF(T11="bet",1,0) -> 1 | Y11: =IF(U11="bet",1,0) -> 0 | Z11: =SUM(V11:Y11) -> 3 | AB11: ='Matchs Bundesliga'!D23 -> RB Leipzig | AC11: =VLOOKUP(TRIM(AB11)&" ",Q$4:Z$27,10,0) -> 3 | AD11: ='Matchs Bundesliga'!D24 -> Bayern Munich | AE11: =VLOOKUP(TRIM(AD11)&" ",Q$4:Z$27,10,0) -> 3 | AF11: =AC11+AE11 -> 6 | AG11: =IF(AF11<2,"",IF(AF11=2,"0.5",IF(AF11=3,"1",IF(AF11=4,"1.5",IF(AF11=5,"2",IF(AF11=6,"2.5",IF(AF11=7,"3",IF(AF11=8,"3.5")))))))) -> 2.5
A12: FC Köln | B12: 3 | C12: 3.33 | D12: 1 | E12: 1 | F12: 1 | G12: 0.33 | H12: 0 | I12: 0 | J12: 0 | K12: 1 | L12: 0 | M12: 0 | N12: 0 | O12: 0 | Q12: =A12 -> FC Köln | R12: =IF(D12<$Q$1,"No Bet","Bet") -> Bet | S12: =IF(E12<$Q$1,"No Bet","Bet") -> Bet | T12: =IF(F12<$Q$1,"No Bet","Bet") -> Bet | U12: =IF(G12<$Q$1,"No Bet","Bet") -> No Bet | V12: =IF(R12="bet",1,0) -> 1 | W12: =IF(S12="bet",1,0) -> 1 | X12: =IF(T12="bet",1,0) -> 1 | Y12: =IF(U12="bet",1,0) -> 0 | Z12: =SUM(V12:Y12) -> 3 | AB12: ='Matchs Bundesliga'!D27 -> Hoffenheim | AC12: =VLOOKUP(TRIM(AB12)&" ",Q$4:Z$27,10,0) -> 0 | AD12: ='Matchs Bundesliga'!D28 -> Freiburg | AE12: =VLOOKUP(TRIM(AD12)&" ",Q$4:Z$27,10,0) -> 3 | AF12: =AC12+AE12 -> 3 | AG12: =IF(AF12<2,"",IF(AF12=2,"0.5",IF(AF12=3,"1",IF(AF12=4,"1.5",IF(AF12=5,"2",IF(AF12=6,"2.5",IF(AF12=7,"3",IF(AF12=8,"3.5")))))))) -> 1
A13: Freiburg | B13: 3 | C13: 3.33 | D13: 1 | E13: 1 | F13: 1 | G13: 0.33 | H13: 0 | I13: 0 | J13: 0 | K13: 0.67 | L13: 0.33 | M13: 0 | N13: 0.33 | O13: 0 | Q13: =A13 -> Freiburg | R13: =IF(D13<$Q$1,"No Bet","Bet") -> Bet | S13: =IF(E13<$Q$1,"No Bet","Bet") -> Bet | T13: =IF(F13<$Q$1,"No Bet","Bet") -> Bet | U13: =IF(G13<$Q$1,"No Bet","Bet") -> No Bet | V13: =IF(R13="bet",1,0) -> 1 | W13: =IF(S13="bet",1,0) -> 1 | X13: =IF(T13="bet",1,0) -> 1 | Y13: =IF(U13="bet",1,0) -> 0 | Z13: =SUM(V13:Y13) -> 3 | AB13: ='Matchs Bundesliga'!D30 -> Paderborn | AC13: =VLOOKUP(TRIM(AB13)&" ",Q$4:Z$27,10,0) -> 2 | AD13: ='Matchs Bundesliga'!D31 -> Schalke 04 | AE13: =VLOOKUP(TRIM(AD13)&" ",Q$4:Z$27,10,0) -> 0 | AF13: =AC13+AE13 -> 2 | AG13: =IF(AF13<2,"",IF(AF13=2,"0.5",IF(AF13=3,"1",IF(AF13=4,"1.5",IF(AF13=5,"2",IF(AF13=6,"2.5",IF(AF13=7,"3",IF(AF13=8,"3.5")))))))) -> 0.5
A14: Hertha Berlin | B14: 3 | C14: 3.33 | D14: 1 | E14: 1 | F14: 1 | G14: 0.33 | H14: 0 | I14: 0 | J14: 0 | K14: 0.33 | L14: 0 | M14: 0.67 | N14: 0 | O14: 0.67 | Q14: =A14 -> Hertha Berlin | R14: =IF(D14<$Q$1,"No Bet","Bet") -> Bet | S14: =IF(E14<$Q$1,"No Bet","Bet") -> Bet | T14: =IF(F14<$Q$1,"No Bet","Bet") -> Bet | U14: =IF(G14<$Q$1,"No Bet","Bet") -> No Bet | V14: =IF(R14="bet",1,0) -> 1 | W14: =IF(S14="bet",1,0) -> 1 | X14: =IF(T14="bet",1,0) -> 1 | Y14: =IF(U14="bet",1,0) -> 0 | Z14: =SUM(V14:Y14) -> 3
A15: Union Berlin | B15: 3 | C15: 3.33 | D15: 1 | E15: 1 | F15: 0.67 | G15: 0.67 | H15: 0 | I15: 0 | J15: 0 | K15: 0.67 | L15: 0 | M15: 0.33 | N15: 0 | O15: 0.33 | Q15: =A15 -> Union Berlin | R15: =IF(D15<$Q$1,"No Bet","Bet") -> Bet | S15: =IF(E15<$Q$1,"No Bet","Bet") -> Bet | T15: =IF(F15<$Q$1,"No Bet","Bet") -> No Bet | U15: =IF(G15<$Q$1,"No Bet","Bet") -> No Bet | V15: =IF(R15="bet",1,0) -> 1 | W15: =IF(S15="bet",1,0) -> 1 | X15: =IF(T15="bet",1,0) -> 0 | Y15: =IF(U15="bet",1,0) -> 0 | Z15: =SUM(V15:Y15) -> 2
A16: Leverkusen | B16: 3 | C16: 3 | D16: 0.67 | E16: 0.67 | F16: 0.67 | G16: 0.67 | H16: 0.33 | I16: 0 | J16: 0 | K16: 0.67 | L16: 0.33 | M16: 0.33 | N16: 0 | O16: 0 | Q16: =A16 -> Leverkusen | R16: =IF(D16<$Q$1,"No Bet","Bet") -> No Bet | S16: =IF(E16<$Q$1,"No Bet","Bet") -> No Bet | T16: =IF(F16<$Q$1,"No Bet","Bet") -> No Bet | U16: =IF(G16<$Q$1,"No Bet","Bet") -> No Bet | V16: =IF(R16="bet",1,0) -> 0 | W16: =IF(S16="bet",1,0) -> 0 | X16: =IF(T16="bet",1,0) -> 0 | Y16: =IF(U16="bet",1,0) -> 0 | Z16: =SUM(V16:Y16) -> 0
A17: Moenchengladb. | B17: 3 | C17: 2.67 | D17: 0.67 | E17: 0.67 | F17: 0.67 | G17: 0.67 | H17: 0 | I17: 0 | J17: 0 | K17: 0.67 | L17: 0.33 | M17: 0.33 | N17: 0 | O17: 0 | Q17: =A17 -> Moenchengladb. | R17: =IF(D17<$Q$1,"No Bet","Bet") -> No Bet | S17: =IF(E17<$Q$1,"No Bet","Bet") -> No Bet | T17: =IF(F17<$Q$1,"No Bet","Bet") -> No Bet | U17: =IF(G17<$Q$1,"No Bet","Bet") -> No Bet | V17: =IF(R17="bet",1,0) -> 0 | W17: =IF(S17="bet",1,0) -> 0 | X17: =IF(T17="bet",1,0) -> 0 | Y17: =IF(U17="bet",1,0) -> 0 | Z17: =SUM(V17:Y17) -> 0
A18: Wolfsburg | B18: 3 | C18: 2.67 | D18: 1 | E18: 1 | F18: 0.67 | G18: 0 | H18: 0 | I18: 0 | J18: 0 | K18: 0.67 | L18: 0.33 | M18: 0 | N18: 0.33 | O18: 0 | Q18: =A18 -> Wolfsburg | R18: =IF(D18<$Q$1,"No Bet","Bet") -> Bet | S18: =IF(E18<$Q$1,"No Bet","Bet") -> Bet | T18: =IF(F18<$Q$1,"No Bet","Bet") -> No Bet | U18: =IF(G18<$Q$1,"No Bet","Bet") -> No Bet | V18: =IF(R18="bet",1,0) -> 1 | W18: =IF(S18="bet",1,0) -> 1 | X18: =IF(T18="bet",1,0) -> 0 | Y18: =IF(U18="bet",1,0) -> 0 | Z18: =SUM(V18:Y18) -> 2
A19: Frankfurt | B19: 3 | C19: 2.33 | D19: 1 | E19: 0.67 | F19: 0.67 | G19: 0 | H19: 0 | I19: 0 | J19: 0 | K19: 0.67 | L19: 0.33 | M19: 0 | N19: 0.33 | O19: 0 | Q19: =A19 -> Frankfurt | R19: =IF(D19<$Q$1,"No Bet","Bet") -> Bet | S19: =IF(E19<$Q$1,"No Bet","Bet") -> No Bet | T19: =IF(F19<$Q$1,"No Bet","Bet") -> No Bet | U19: =IF(G19<$Q$1,"No Bet","Bet") -> No Bet | V19: =IF(R19="bet",1,0) -> 1 | W19: =IF(S19="bet",1,0) -> 0 | X19: =IF(T19="bet",1,0) -> 0 | Y19: =IF(U19="bet",1,0) -> 0 | Z19: =SUM(V19:Y19) -> 1
A20: Hoffenheim | B20: 3 | C20: 2 | D20: 0.67 | E20: 0.33 | F20: 0.33 | G20: 0.33 | H20: 0.33 | I20: 0 | J20: 0 | K20: 0.33 | L20: 0.33 | M20: 0.67 | N20: 0 | O20: 0.33 | Q20: =A20 -> Hoffenheim | R20: =IF(D20<$Q$1,"No Bet","Bet") -> No Bet | S20: =IF(E20<$Q$1,"No Bet","Bet") -> No Bet | T20: =IF(F20<$Q$1,"No Bet","Bet") -> No Bet | U20: =IF(G20<$Q$1,"No Bet","Bet") -> No Bet | V20: =IF(R20="bet",1,0) -> 0 | W20: =IF(S20="bet",1,0) -> 0 | X20: =IF(T20="bet",1,0) -> 0 | Y20: =IF(U20="bet",1,0) -> 0 | Z20: =SUM(V20:Y20) -> 0
A21: Schalke 04 | B21: 3 | C21: 2 | D21: 0.67 | E21: 0.67 | F21: 0.67 | G21: 0 | H21: 0 | I21: 0 | J21: 0 | K21: 0 | L21: 0.67 | M21: 0.67 | N21: 0.33 | O21: 0.33 | Q21: =A21 -> Schalke 04 | R21: =IF(D21<$Q$1,"No Bet","Bet") -> No Bet | S21: =IF(E21<$Q$1,"No Bet","Bet") -> No Bet | T21: =IF(F21<$Q$1,"No Bet","Bet") -> No Bet | U21: =IF(G21<$Q$1,"No Bet","Bet") -> No Bet | V21: =IF(R21="bet",1,0) -> 0 | W21: =IF(S21="bet",1,0) -> 0 | X21: =IF(T21="bet",1,0) -> 0 | Y21: =IF(U21="bet",1,0) -> 0 | Z21: =SUM(V21:Y21) -> 0
A23: League average | D23: 0.926 | E23: 0.889 | F23: 0.815 | G23: 0.519 | H23: 0.185 | I23: 0.074 | J23: 0.037 | K23: 0.704 | L23: 0.185 | M23: 0.185 | N23: 0.111 | O23: 0.111
A24: Home matches of... | B24: GP | C24: Avg | D24: 0.5+ | E24: 1.5+ | F24: 2.5+ | G24: 3.5+ | H24: 4.5+ | I24: 5.5+ | J24: 6.5+ | K24: BTS | L24: CS | M24: FTS | N24: WTN | O24: LTN | R24: 0.5 | S24: 1.5 | T24: 2.5 | U24: 3.5
B25: Dortmund | C25: 1 | D25: 6 | E25: 1 | F25: 1 | G25: 1 | H25: 1 | I25: 1 | J25: 1 | K25: 0 | L25: 1 | M25: 0 | N25: 0 | O25: 0 | P25: 0 | R25: =IF(E25<$Q$1,"No Bet","Bet") -> Bet | S25: =IF(F25<$Q$1,"No Bet","Bet") -> Bet | T25: =IF(G25<$Q$1,"No Bet","Bet") -> Bet | U25: =IF(H25<$Q$1,"No Bet","Bet") -> Bet
A26: Bayern Munich | B26: 2 | C26: 5.5 | D26: 1 | E26: 1 | F26: 1 | G26: 1 | H26: 0.5 | I26: 0.5 | J26: 0.5 | K26: 1 | L26: 0 | M26: 0 | N26: 0 | O26: 0 | R26: =IF(D26<$Q$1,"No Bet","Bet") -> Bet | S26: =IF(E26<$Q$1,"No Bet","Bet") -> Bet | T26: =IF(F26<$Q$1,"No Bet","Bet") -> Bet | U26: =IF(G26<$Q$1,"No Bet","Bet") -> Bet
A27: Hoffenheim | B27: 1 | C27: 5 | D27: 1 | E27: 1 | F27: 1 | G27: 1 | H27: 1 | I27: 0 | J27: 0 | K27: 1 | L27: 0 | M27: 0 | N27: 0 | O27: 0 | R27: =IF(D27<$Q$1,"No Bet","Bet") -> Bet | S27: =IF(E27<$Q$1,"No Bet","Bet") -> Bet | T27: =IF(F27<$Q$1,"No Bet","Bet") -> Bet | U27: =IF(G27<$Q$1,"No Bet","Bet") -> Bet
A28: Werder Bremen | B28: 2 | C28: 4.5 | D28: 1 | E28: 1 | F28: 1 | G28: 1 | H28: 0.5 | I28: 0 | J28: 0 | K28: 1 | L28: 0 | M28: 0 | N28: 0 | O28: 0 | R28: =IF(D28<$Q$1,"No Bet","Bet") -> Bet | S28: =IF(E28<$Q$1,"No Bet","Bet") -> Bet | T28: =IF(F28<$Q$1,"No Bet","Bet") -> Bet | U28: =IF(G28<$Q$1,"No Bet","Bet") -> Bet
A29: Düsseldorf | B29: 1 | C29: 4 | D29: 1 | E29: 1 | F29: 1 | G29: 1 | H29: 0 | I29: 0 | J29: 0 | K29: 1 | L29: 0 | M29: 0 | N29: 0 | O29: 0 | R29: =IF(D29<$Q$1,"No Bet","Bet") -> Bet | S29: =IF(E29<$Q$1,"No Bet","Bet") -> Bet | T29: =IF(F29<$Q$1,"No Bet","Bet") -> Bet | U29: =IF(G29<$Q$1,"No Bet","Bet") -> Bet
A30: FC Köln | B30: 1 | C30: 4 | D30: 1 | E30: 1 | F30: 1 | G30: 1 | H30: 0 | I30: 0 | J30: 0 | K30: 1 | L30: 0 | M30: 0 | N30: 0 | O30: 0 | R30: =IF(D30<$Q$1,"No Bet","Bet") -> Bet | S30: =IF(E30<$Q$1,"No Bet","Bet") -> Bet | T30: =IF(F30<$Q$1,"No Bet","Bet") -> Bet | U30: =IF(G30<$Q$1,"No Bet","Bet") -> Bet
A31: FSV Mainz | B31: 1 | C31: 4 | D31: 1 | E31: 1 | F31: 1 | G31: 1 | H31: 0 | I31: 0 | J31: 0 | K31: 1 | L31: 0 | M31: 0 | N31: 0 | O31: 0 | R31: =IF(D31<$Q$1,"No Bet","Bet") -> Bet | S31: =IF(E31<$Q$1,"No Bet","Bet") -> Bet | T31: =IF(F31<$Q$1,"No Bet","Bet") -> Bet | U31: =IF(G31<$Q$1,"No Bet","Bet") -> Bet
A32: Paderborn | B32: 1 | C32: 4 | D32: 1 | E32: 1 | F32: 1 | G32: 1 | H32: 0 | I32: 0 | J32: 0 | K32: 1 | L32: 0 | M32: 0 | N32: 0 | O32: 0 | R32: =IF(D32<$Q$1,"No Bet","Bet") -> Bet | S32: =IF(E32<$Q$1,"No Bet","Bet") -> Bet | T32: =IF(F32<$Q$1,"No Bet","Bet") -> Bet | U32: =IF(G32<$Q$1,"No Bet","Bet") -> Bet
A33: Union Berlin | B33: 2 | C33: 4 | D33: 1 | E33: 1 | F33: 1 | G33: 1 | H33: 0 | I33: 0 | J33: 0 | K33: 0.5 | L33: 0 | M33: 0.5 | N33: 0 | O33: 0.5 | R33: =IF(D33<$Q$1,"No Bet","Bet") -> Bet | S33: =IF(E33<$Q$1,"No Bet","Bet") -> Bet | T33: =IF(F33<$Q$1,"No Bet","Bet") -> Bet | U33: =IF(G33<$Q$1,"No Bet","Bet") -> Bet
A34: Freiburg | B34: 2 | C34: 3 | D34: 1 | E34: 1 | F34: 1 | G34: 0 | H34: 0 | I34: 0 | J34: 0 | K34: 0.5 | L34: 0.5 | M34: 0 | N34: 0.5 | O34: 0 | R34: =IF(D34<$Q$1,"No Bet","Bet") -> Bet | S34: =IF(E34<$Q$1,"No Bet","Bet") -> Bet | T34: =IF(F34<$Q$1,"No Bet","Bet") -> Bet | U34: =IF(G34<$Q$1,"No Bet","Bet") -> No Bet
A35: Hertha Berlin | B35: 1 | C35: 3 | D35: 1 | E35: 1 | F35: 1 | G35: 0 | H35: 0 | I35: 0 | J35: 0 | K35: 0 | L35: 0 | M35: 1 | N35: 0 | O35: 1 | R35: =IF(D35<$Q$1,"No Bet","Bet") -> Bet | S35: =IF(E35<$Q$1,"No Bet","Bet") -> Bet | T35: =IF(F35<$Q$1,"No Bet","Bet") -> Bet | U35: =IF(G35<$Q$1,"No Bet","Bet") -> No Bet
A36: RB Leipzig | B36: 1 | C36: 3 | D36: 1 | E36: 1 | F36: 1 | G36: 0 | H36: 0 | I36: 0 | J36: 0 | K36: 1 | L36: 0 | M36: 0 | N36: 0 | O36: 0 | R36: =IF(D36<$Q$1,"No Bet","Bet") -> Bet | S36: =IF(E36<$Q$1,"No Bet","Bet") -> Bet | T36: =IF(F36<$Q$1,"No Bet","Bet") -> Bet | U36: =IF(G36<$Q$1,"No Bet","Bet") -> No Bet
A37: Schalke 04 | B37: 2 | C37: 3 | D37: 1 | E37: 1 | F37: 1 | G37: 0 | H37: 0 | I37: 0 | J37: 0 | K37: 0 | L37: 0.5 | M37: 0.5 | N37: 0.5 | O37: 0.5 | R37: =IF(D37<$Q$1,"No Bet","Bet") -> Bet | S37: =IF(E37<$Q$1,"No Bet","Bet") -> Bet | T37: =IF(F37<$Q$1,"No Bet","Bet") -> Bet | U37: =IF(G37<$Q$1,"No Bet","Bet") -> No Bet
... A42: Moenchengladb. | B42: 2 | C42: 2 | D42: 0.5 | E42: 0.5 | F42: 0.5 | G42: 0.5 | H42: 0 | I42: 0 | J42: 0 | K42: 0.5 | L42: 0.5 | M42: 0.5 | N42: 0 | O42: 0 | R42: =IF(D42<$Q$1,"No Bet","Bet") -> No Bet | S42: =IF(E42<$Q$1,"No Bet","Bet") -> No Bet | T42: =IF(F42<$Q$1,"No Bet","Bet") -> No Bet | U42: =IF(G42<$Q$1,"No Bet","Bet") -> No Bet
A44: League average | D44: 0.926 | E44: 0.889 | F44: 0.815 | G44: 0.519 | H44: 0.185 | I44: 0.074 | J44: 0.037 | K44: 0.704 | L44: 0.185 | M44: 0.185 | N44: 0.111 | O44: 0.111
A45: Away matches of... | B45: GP | C45: Avg | D45: 0.5+ | E45: 1.5+ | F45: 2.5+ | G45: 3.5+ | H45: 4.5+ | I45: 5.5+ | J45: 6.5+ | K45: BTS | L45: CS | M45: FTS | N45: WTN | O45: LTN | R45: 0.5 | S45: 1.5 | T45: 2.5 | U45: 3.5
B46: FC Augsburg | C46: 2 | D46: 5.5 | E46: 1 | F46: 1 | G46: 1 | H46: 1 | I46: 1 | J46: 0.5 | K46: 0 | L46: 1 | M46: 0 | N46: 0 | O46: 0 | P46: 0 | R46: =IF(E46<$Q$1,"No Bet","Bet") -> Bet | S46: =IF(F46<$Q$1,"No Bet","Bet") -> Bet | T46: =IF(G46<$Q$1,"No Bet","Bet") -> Bet | U46: =IF(H46<$Q$1,"No Bet","Bet") -> Bet
A47: FSV Mainz | B47: 2 | C47: 5 | D47: 1 | E47: 1 | F47: 1 | G47: 0.5 | H47: 0.5 | I47: 0.5 | J47: 0.5 | K47: 0.5 | L47: 0 | M47: 0.5 | N47: 0 | O47: 0.5 | R47: =IF(D47<$Q$1,"No Bet","Bet") -> Bet | S47: =IF(E47<$Q$1,"No Bet","Bet") -> Bet | T47: =IF(F47<$Q$1,"No Bet","Bet") -> Bet | U47: =IF(G47<$Q$1,"No Bet","Bet") -> No Bet
A48: Werder Bremen | B48: 1 | C48: 5 | D48: 1 | E48: 1 | F48: 1 | G48: 1 | H48: 1 | I48: 0 | J48: 0 | K48: 1 | L48: 0 | M48: 0 | N48: 0 | O48: 0 | R48: =IF(D48<$Q$1,"No Bet","Bet") -> Bet | S48: =IF(E48<$Q$1,"No Bet","Bet") -> Bet | T48: =IF(F48<$Q$1,"No Bet","Bet") -> Bet | U48: =IF(G48<$Q$1,"No Bet","Bet") -> Bet
A49: Dortmund | B49: 2 | C49: 4 | D49: 1 | E49: 1 | F49: 1 | G49: 1 | H49: 0 | I49: 0 | J49: 0 | K49: 1 | L49: 0 | M49: 0 | N49: 0 | O49: 0 | R49: =IF(D49<$Q$1,"No Bet","Bet") -> Bet | S49: =IF(E49<$Q$1,"No Bet","Bet") -> Bet | T49: =IF(F49<$Q$1,"No Bet","Bet") -> Bet | U49: =IF(G49<$Q$1,"No Bet","Bet") -> Bet
A50: Freiburg | B50: 1 | C50: 4 | D50: 1 | E50: 1 | F50: 1 | G50: 1 | H50: 0 | I50: 0 | J50: 0 | K50: 1 | L50: 0 | M50: 0 | N50: 0 | O50: 0 | R50: =IF(D50<$Q$1,"No Bet","Bet") -> Bet | S50: =IF(E50<$Q$1,"No Bet","Bet") -> Bet | T50: =IF(F50<$Q$1,"No Bet","Bet") -> Bet | U50: =IF(G50<$Q$1,"No Bet","Bet") -> Bet
A51: Leverkusen | B51: 1 | C51: 4 | D51: 1 | E51: 1 | F51: 1 | G51: 1 | H51: 0 | I51: 0 | J51: 0 | K51: 1 | L51: 0 | M51: 0 | N51: 0 | O51: 0 | R51: =IF(D51<$Q$1,"No Bet","Bet") -> Bet | S51: =IF(E51<$Q$1,"No Bet","Bet") -> Bet | T51: =IF(F51<$Q$1,"No Bet","Bet") -> Bet | U51: =IF(G51<$Q$1,"No Bet","Bet") -> Bet
A52: Moenchengladb. | B52: 1 | C52: 4 | D52: 1 | E52: 1 | F52: 1 | G52: 1 | H52: 0 | I52: 0 | J52: 0 | K52: 1 | L52: 0 | M52: 0 | N52: 0 | O52: 0 | R52: =IF(D52<$Q$1,"No Bet","Bet") -> Bet | S52: =IF(E52<$Q$1,"No Bet","Bet") -> Bet | T52: =IF(F52<$Q$1,"No Bet","Bet") -> Bet | U52: =IF(G52<$Q$1,"No Bet","Bet") -> Bet
A53: RB Leipzig | B53: 2 | C53: 4 | D53: 1 | E53: 1 | F53: 1 | G53: 1 | H53: 0 | I53: 0 | J53: 0 | K53: 0.5 | L53: 0.5 | M53: 0 | N53: 0.5 | O53: 0 | R53: =IF(D53<$Q$1,"No Bet","Bet") -> Bet | S53: =IF(E53<$Q$1,"No Bet","Bet") -> Bet | T53: =IF(F53<$Q$1,"No Bet","Bet") -> Bet | U53: =IF(G53<$Q$1,"No Bet","Bet") -> Bet
A54: Düsseldorf | B54: 2 | C54: 3.5 | D54: 1 | E54: 1 | F54: 1 | G54: 0.5 | H54: 0 | I54: 0 | J54: 0 | K54: 1 | L54: 0 | M54: 0 | N54: 0 | O54: 0 | R54: =IF(D54<$Q$1,"No Bet","Bet") -> Bet | S54: =IF(E54<$Q$1,"No Bet","Bet") -> Bet | T54: =IF(F54<$Q$1,"No Bet","Bet") -> Bet | U54: =IF(G54<$Q$1,"No Bet","Bet") -> No Bet
A55: Hertha Berlin | B55: 2 | C55: 3.5 | D55: 1 | E55: 1 | F55: 1 | G55: 0.5 | H55: 0 | I55: 0 | J55: 0 | K55: 0.5 | L55: 0 | M55: 0.5 | N55: 0 | O55: 0.5 | R55: =IF(D55<$Q$1,"No Bet","Bet") -> Bet | S55: =IF(E55<$Q$1,"No Bet","Bet") -> Bet | T55: =IF(F55<$Q$1,"No Bet","Bet") -> Bet | U55: =IF(G55<$Q$1,"No Bet","Bet") -> No Bet
A56: Paderborn | B56: 2 | C56: 3.5 | D56: 1 | E56: 1 | F56: 0.5 | G56: 0.5 | H56: 0.5 | I56: 0 | J56: 0 | K56: 1 | L56: 0 | M56: 0 | N56: 0 | O56: 0 | R56: =IF(D56<$Q$1,"No Bet","Bet") -> Bet | S56: =IF(E56<$Q$1,"No Bet","Bet") -> Bet | T56: =IF(F56<$Q$1,"No Bet","Bet") -> No Bet | U56: =IF(G56<$Q$1,"No Bet","Bet") -> No Bet
A57: Bayern Munich | B57: 1 | C57: 3 | D57: 1 | E57: 1 | F57: 1 | G57: 0 | H57: 0 | I57: 0 | J57: 0 | K57: 0 | L57: 1 | M57: 0 | N57: 1 | O57: 0 | R57: =IF(D57<$Q$1,"No Bet","Bet") -> Bet | S57: =IF(E57<$Q$1,"No Bet","Bet") -> Bet | T57: =IF(F57<$Q$1,"No Bet","Bet") -> Bet | U57: =IF(G57<$Q$1,"No Bet","Bet") -> No Bet
A58: FC Köln | B58: 2 | C58: 3 | D58: 1 | E58: 1 | F58: 1 | G58: 0 | H58: 0 | I58: 0 | J58: 0 | K58: 1 | L58: 0 | M58: 0 | N58: 0 | O58: 0 | R58: =IF(D58<$Q$1,"No Bet","Bet") -> Bet | S58: =IF(E58<$Q$1,"No Bet","Bet") -> Bet | T58: =IF(F58<$Q$1,"No Bet","Bet") -> Bet | U58: =IF(G58<$Q$1,"No Bet","Bet") -> No Bet
... A63: Schalke 04 | B63: 1 | C63: 0 | D63: 0 | E63: 0 | F63: 0 | G63: 0 | H63: 0 | I63: 0 | J63: 0 | K63: 0 | L63: 1 | M63: 1 | N63: 0 | O63: 0 | R63: =IF(D63<$Q$1,"No Bet","Bet") -> No Bet | S63: =IF(E63<$Q$1,"No Bet","Bet") -> No Bet | T63: =IF(F63<$Q$1,"No Bet","Bet") -> No Bet | U63: =IF(G63<$Q$1,"No Bet","Bet") -> No Bet
A65: League average | D65: 0.926 | E65: 0.889 | F65: 0.815 | G65: 0.519 | H65: 0.185 | I65: 0.074 | J65: 0.037 | K65: 0.704 | L65: 0.185 | M65: 0.185 | N65: 0.111 | O65: 0.111
A68: Over / Under (total goals) at Halftime
A71: Match goals stats at half-time
A72: Matches of... | B72: GP | C72: Avg | D72: 0.5+ | E72: 1.5+ | F72: 2.5+ | G72: 3.5+ | H72: 4.5+ | I72: 5.5+ | J72: 6.5+ | K72: BTS | L72: CS | M72: FTS | N72: WTN | O72: LTN
B73: Paderborn | C73: 3 | D73: 2.67 | E73: 1 | F73: 0.67 | G73: 0.67 | H73: 0.33 | I73: 0 | J73: 0 | K73: 0 | L73: 0.67 | M73: 0.33 | N73: 0 | O73: 0.33 | P73: 0
A74: Bayern Munich | B74: 3 | C74: 2.33 | D74: 1 | E74: 0.67 | F74: 0.67 | G74: 0 | H74: 0 | I74: 0 | J74: 0 | K74: 0.67 | L74: 0.33 | M74: 0 | N74: 0.33 | O74: 0
A75: Leverkusen | B75: 3 | C75: 2.33 | D75: 0.67 | E75: 0.67 | F75: 0.67 | G75: 0.33 | H75: 0 | I75: 0 | J75: 0 | K75: 0.33 | L75: 0.67 | M75: 0.33 | N75: 0.33 | O75: 0
A76: Dortmund | B76: 3 | C76: 1.67 | D76: 1 | E76: 0.67 | F76: 0 | G76: 0 | H76: 0 | I76: 0 | J76: 0 | K76: 0.67 | L76: 0 | M76: 0.33 | N76: 0 | O76: 0.33
A77: Düsseldorf | B77: 3 | C77: 1.67 | D77: 1 | E77: 0.33 | F77: 0.33 | G77: 0 | H77: 0 | I77: 0 | J77: 0 | K77: 0 | L77: 0.67 | M77: 0.33 | N77: 0.67 | O77: 0.33
A78: FC Augsburg | B78: 3 | C78: 1.67 | D78: 0.67 | E78: 0.67 | F78: 0.33 | G78: 0 | H78: 0 | I78: 0 | J78: 0 | K78: 0.67 | L78: 0.33 | M78: 0.33 | N78: 0 | O78: 0
A79: FSV Mainz | B79: 3 | C79: 1.67 | D79: 0.67 | E79: 0.67 | F79: 0.33 | G79: 0 | H79: 0 | I79: 0 | J79: 0 | K79: 0.67 | L79: 0.33 | M79: 0.33 | N79: 0 | O79: 0
A80: Hertha Berlin | B80: 3 | C80: 1.67 | D80: 1 | E80: 0.33 | F80: 0.33 | G80: 0 | H80: 0 | I80: 0 | J80: 0 | K80: 0.33 | L80: 0 | M80: 0.67 | N80: 0 | O80: 0.67
A81: RB Leipzig | B81: 3 | C81: 1.67 | D81: 1 | E81: 0.33 | F81: 0.33 | G81: 0 | H81: 0 | I81: 0 | J81: 0 | K81: 0 | L81: 1 | M81: 0 | N81: 1 | O81: 0
A82: Union Berlin | B82: 3 | C82: 1.67 | D82: 0.67 | E82: 0.67 | F82: 0.33 | G82: 0 | H82: 0 | I82: 0 | J82: 0 | K82: 0.33 | L82: 0.33 | M82: 0.67 | N82: 0 | O82: 0.33
A83: Werder Bremen | B83: 3 | C83: 1.67 | D83: 1 | E83: 0.33 | F83: 0.33 | G83: 0 | H83: 0 | I83: 0 | J83: 0 | K83: 0.33 | L83: 0.33 | M83: 0.33 | N83: 0.33 | O83: 0.33
A84: Freiburg | B84: 3 | C84: 1.33 | D84: 0.67 | E84: 0.33 | F84: 0.33 | G84: 0 | H84: 0 | I84: 0 | J84: 0 | K84: 0.33 | L84: 0.67 | M84: 0.33 | N84: 0.33 | O84: 0
A85: FC Köln | B85: 3 | C85: 1 | D85: 1 | E85: 0 | F85: 0 | G85: 0 | H85: 0 | I85: 0 | J85: 0 | K85: 0 | L85: 0.33 | M85: 0.67 | N85: 0.33 | O85: 0.67
... A90: Schalke 04 | B90: 3 | C90: 0.67 | D90: 0.67 | E90: 0 | F90: 0 | G90: 0 | H90: 0 | I90: 0 | J90: 0 | K90: 0 | L90: 0.67 | M90: 0.67 | N90: 0.33 | O90: 0.33
A92: League average | D92: 0.852 | E92: 0.37 | F92: 0.259 | G92: 0.037 | H92: 0 | I92: 0 | J92: 0 | K92: 0.296 | L92: 0.426 | M92: 0.426 | N92: 0.278 | O92: 0.278
A94: Match goals stats at half-time (at home)
A95: Home matches of... | B95: GP | C95: Avg | D95: 0.5+ | E95: 1.5+ | F95: 2.5+ | G95: 3.5+ | H95: 4.5+ | I95: 5.5+ | J95: 6.5+ | K95: BTS | L95: CS | M95: FTS | N95: WTN | O95: LTN
B96: Bayern Munich | C96: 2 | D96: 3 | E96: 1 | F96: 1 | G96: 1 | H96: 0 | I96: 0 | J96: 0 | K96: 0 | L96: 1 | M96: 0 | N96: 0 | O96: 0 | P96: 0
A97: Düsseldorf | B97: 1 | C97: 3 | D97: 1 | E97: 1 | F97: 1 | G97: 0 | H97: 0 | I97: 0 | J97: 0 | K97: 0 | L97: 0 | M97: 1 | N97: 0 | O97: 1
A98: Paderborn | B98: 1 | C98: 3 | D98: 1 | E98: 1 | F98: 1 | G98: 0 | H98: 0 | I98: 0 | J98: 0 | K98: 1 | L98: 0 | M98: 0 | N98: 0 | O98: 0
A99: Union Berlin | B99: 2 | C99: 2.5 | D99: 1 | E99: 1 | F99: 0.5 | G99: 0 | H99: 0 | I99: 0 | J99: 0 | K99: 0.5 | L99: 0 | M99: 0.5 | N99: 0 | O99: 0.5
A100: Dortmund | B100: 1 | C100: 2 | D100: 1 | E100: 1 | F100: 0 | G100: 0 | H100: 0 | I100: 0 | J100: 0 | K100: 1 | L100: 0 | M100: 0 | N100: 0 | O100: 0
A101: FSV Mainz | B101: 1 | C101: 2 | D101: 1 | E101: 1 | F101: 0 | G101: 0 | H101: 0 | I101: 0 | J101: 0 | K101: 1 | L101: 0 | M101: 0 | N101: 0 | O101: 0
A102: Leverkusen | B102: 2 | C102: 2 | D102: 0.5 | E102: 0.5 | F102: 0.5 | G102: 0.5 | H102: 0 | I102: 0 | J102: 0 | K102: 0.5 | L102: 0.5 | M102: 0.5 | N102: 0 | O102: 0
A103: Werder Bremen | B103: 2 | C103: 2 | D103: 1 | E103: 0.5 | F103: 0.5 | G103: 0 | H103: 0 | I103: 0 | J103: 0 | K103: 0.5 | L103: 0 | M103: 0.5 | N103: 0 | O103: 0.5
A104: FC Köln | B104: 1 | C104: 1 | D104: 1 | E104: 0 | F104: 0 | G104: 0 | H104: 0 | I104: 0 | J104: 0 | K104: 0 | L104: 1 | M104: 0 | N104: 1 | O104: 0
A105: Frankfurt | B105: 2 | C105: 1 | D105: 1 | E105: 0 | F105: 0 | G105: 0 | H105: 0 | I105: 0 | J105: 0 | K105: 0 | L105: 0.5 | M105: 0.5 | N105: 0.5 | O105: 0.5
A106: Hertha Berlin | B106: 1 | C106: 1 | D106: 1 | E106: 0 | F106: 0 | G106: 0 | H106: 0 | I106: 0 | J106: 0 | K106: 0 | L106: 0 | M106: 1 | N106: 0 | O106: 1
A107: Hoffenheim | B107: 1 | C107: 1 | D107: 1 | E107: 0 | F107: 0 | G107: 0 | H107: 0 | I107: 0 | J107: 0 | K107: 0 | L107: 0 | M107: 1 | N107: 0 | O107: 1
A108: RB Leipzig | B108: 1 | C108: 1 | D108: 1 | E108: 0 | F108: 0 | G108: 0 | H108: 0 | I108: 0 | J108: 0 | K108: 0 | L108: 1 | M108: 0 | N108: 1 | O108: 0
... A113: FC Augsburg | B113: 1 | C113: 0 | D113: 0 | E113: 0 | F113: 0 | G113: 0 | H113: 0 | I113: 0 | J113: 0 | K113: 0 | L113: 1 | M113: 1 | N113: 0 | O113: 0
A115: League average | D115: 0.852 | E115: 0.37 | F115: 0.259 | G115: 0.037 | H115: 0 | I115: 0 | J115: 0 | K115: 0.296 | L115: 0.37 | M115: 0.481 | N115: 0.222 | O115: 0.333
A117: Match goals stats at half-time (away)
A118: Away matches of... | B118: GP | C118: Avg | D118: 0.5+ | E118: 1.5+ | F118: 2.5+ | G118: 3.5+ | H118: 4.5+ | I118: 5.5+ | J118: 6.5+ | K118: BTS | L118: CS | M118: FTS | N118: WTN | O118: LTN
B119: Freiburg | C119: 1 | D119: 3 | E119: 1 | F119: 1 | G119: 1 | H119: 0 | I119: 0 | J119: 0 | K119: 0 | L119: 1 | M119: 0 | N119: 0 | O119: 0 | P119: 0
A120: Leverkusen | B120: 1 | C120: 3 | D120: 1 | E120: 1 | F120: 1 | G120: 0 | H120: 0 | I120: 0 | J120: 0 | K120: 0 | L120: 1 | M120: 0 | N120: 1 | O120: 0
A121: FC Augsburg | B121: 2 | C121: 2.5 | D121: 1 | E121: 1 | F121: 0.5 | G121: 0 | H121: 0 | I121: 0 | J121: 0 | K121: 1 | L121: 0 | M121: 0 | N121: 0 | O121: 0
A122: Paderborn | B122: 2 | C122: 2.5 | D122: 1 | E122: 0.5 | F122: 0.5 | G122: 0.5 | H122: 0 | I122: 0 | J122: 0 | K122: 0.5 | L122: 0.5 | M122: 0 | N122: 0.5 | O122: 0
A123: Hertha Berlin | B123: 2 | C123: 2 | D123: 1 | E123: 0.5 | F123: 0.5 | G123: 0 | H123: 0 | I123: 0 | J123: 0 | K123: 0.5 | L123: 0 | M123: 0.5 | N123: 0 | O123: 0.5
A124: Moenchengladb. | B124: 1 | C124: 2 | D124: 1 | E124: 1 | F124: 0 | G124: 0 | H124: 0 | I124: 0 | J124: 0 | K124: 1 | L124: 0 | M124: 0 | N124: 0 | O124: 0
A125: RB Leipzig | B125: 2 | C125: 2 | D125: 1 | E125: 0.5 | F125: 0.5 | G125: 0 | H125: 0 | I125: 0 | J125: 0 | K125: 0 | L125: 1 | M125: 0 | N125: 1 | O125: 0
A126: Dortmund | B126: 2 | C126: 1.5 | D126: 1 | E126: 0.5 | F126: 0 | G126: 0 | H126: 0 | I126: 0 | J126: 0 | K126: 0.5 | L126: 0 | M126: 0.5 | N126: 0 | O126: 0.5
A127: FSV Mainz | B127: 2 | C127: 1.5 | D127: 0.5 | E127: 0.5 | F127: 0.5 | G127: 0 | H127: 0 | I127: 0 | J127: 0 | K127: 0.5 | L127: 0.5 | M127: 0.5 | N127: 0 | O127: 0
A128: Bayern Munich | B128: 1 | C128: 1 | D128: 1 | E128: 0 | F128: 0 | G128: 0 | H128: 0 | I128: 0 | J128: 0 | K128: 0 | L128: 1 | M128: 0 | N128: 1 | O128: 0
...

Sheet Bundesliga 2
A1: Over / Under (total goals) | Q1: 0.85
A3: Matches of... | B3: GP | C3: Avg | D3: 0.5+ | E3: 1.5+ | F3: 2.5+ | G3: 3.5+ | H3: 4.5+ | I3: 5.5+ | J3: 6.5+ | K3: BTS | L3: CS | M3: FTS | N3: WTN | O3: LTN | R3: 0.5 | S3: 1.5 | T3: 2.5 | U3: 3.5
B4: Wehen Wiesbaden | C4: 5 | D4: 4.4 | E4: 1 | F4: 1 | G4: 1 | H4: 0.6 | I4: 0.6 | J4: 0.2 | K4: 0 | L4: 0.6 | M4: 0 | N4: 0.4 | O4: 0 | P4: 0.4 | R4: =IF(E4<$Q$1,"No Bet","Bet") -> Bet | S4: =IF(F4<$Q$1,"No Bet","Bet") -> Bet | T4: =IF(G4<$Q$1,"No Bet","Bet") -> Bet | U4: =IF(H4<$Q$1,"No Bet","Bet") -> No Bet
A5: Karlsruher SC | B5: 5 | C5: 4.2 | D5: 1 | E5: 1 | F5: 1 | G5: 0.4 | H5: 0.4 | I5: 0.4 | J5: 0 | K5: 0.8 | L5: 0 | M5: 0.2 | N5: 0 | O5: 0.2 | R5: =IF(D5<$Q$1,"No Bet","Bet") -> Bet | S5: =IF(E5<$Q$1,"No Bet","Bet") -> Bet | T5: =IF(F5<$Q$1,"No Bet","Bet") -> Bet | U5: =IF(G5<$Q$1,"No Bet","Bet") -> No Bet
A6: Bielefeld | B6: 5 | C6: 4 | D6: 1 | E6: 1 | F6: 0.8 | G6: 0.8 | H6: 0.2 | I6: 0.2 | J6: 0 | K6: 1 | L6: 0 | M6: 0 | N6: 0 | O6: 0 | R6: =IF(D6<$Q$1,"No Bet","Bet") -> Bet | S6: =IF(E6<$Q$1,"No Bet","Bet") -> Bet | T6: =IF(F6<$Q$1,"No Bet","Bet") -> No Bet | U6: =IF(G6<$Q$1,"No Bet","Bet") -> No Bet
A7: Bochum | B7: 5 | C7: 4 | D7: 1 | E7: 0.8 | F7: 0.8 | G7: 0.6 | H7: 0.4 | I7: 0.4 | J7: 0 | K7: 0.8 | L7: 0 | M7: 0.2 | N7: 0 | O7: 0.2 | R7: =IF(D7<$Q$1,"No Bet","Bet") -> Bet | S7: =IF(E7<$Q$1,"No Bet","Bet") -> No Bet | T7: =IF(F7<$Q$1,"No Bet","Bet") -> No Bet | U7: =IF(G7<$Q$1,"No Bet","Bet") -> No Bet
A8: St. Pauli | B8: 5 | C8: 3.6 | D8: 1 | E8: 1 | F8: 0.8 | G8: 0.4 | H8: 0.2 | I8: 0.2 | J8: 0 | K8: 1 | L8: 0 | M8: 0 | N8: 0 | O8: 0 | R8: =IF(D8<$Q$1,"No Bet","Bet") -> Bet | S8: =IF(E8<$Q$1,"No Bet","Bet") -> Bet | T8: =IF(F8<$Q$1,"No Bet","Bet") -> No Bet | U8: =IF(G8<$Q$1,"No Bet","Bet") -> No Bet
A9: Heidenheim | B9: 5 | C9: 3.4 | D9: 1 | E9: 1 | F9: 0.8 | G9: 0.6 | H9: 0 | I9: 0 | J9: 0 | K9: 0.8 | L9: 0 | M9: 0.2 | N9: 0 | O9: 0.2 | R9: =IF(D9<$Q$1,"No Bet","Bet") -> Bet | S9: =IF(E9<$Q$1,"No Bet","Bet") -> Bet | T9: =IF(F9<$Q$1,"No Bet","Bet") -> No Bet | U9: =IF(G9<$Q$1,"No Bet","Bet") -> No Bet
A10: Dynamo Dresden | B10: 5 | C10: 3.2 | D10: 0.8 | E10: 0.6 | F10: 0.6 | G10: 0.4 | H10: 0.4 | I10: 0.4 | J10: 0 | K10: 0.6 | L10: 0.2 | M10: 0.4 | N10: 0 | O10: 0.2 | R10: =IF(D10<$Q$1,"No Bet","Bet") -> No Bet | S10: =IF(E10<$Q$1,"No Bet","Bet") -> No Bet | T10: =IF(F10<$Q$1,"No Bet","Bet") -> No Bet | U10: =IF(G10<$Q$1,"No Bet","Bet") -> No Bet
A11: Hamburger SV | B11: 5 | C11: 3.2 | D11: 1 | E11: 0.8 | F11: 0.6 | G11: 0.4 | H11: 0.2 | I11: 0.2 | J11: 0 | K11: 0.4 | L11: 0.6 | M11: 0 | N11: 0.6 | O11: 0 | R11: =IF(D11<$Q$1,"No Bet","Bet") -> Bet | S11: =IF(E11<$Q$1,"No Bet","Bet") -> No Bet | T11: =IF(F11<$Q$1,"No Bet","Bet") -> No Bet | U11: =IF(G11<$Q$1,"No Bet","Bet") -> No Bet
A12: Regensburg | B12: 5 | C12: 3.2 | D12: 1 | E12: 0.8 | F12: 0.6 | G12: 0.6 | H12: 0.2 | I12: 0 | J12: 0 | K12: 0.6 | L12: 0.2 | M12: 0.2 | N12: 0.2 | O12: 0.2 | R12: =IF(D12<$Q$1,"No Bet","Bet") -> Bet | S12: =IF(E12<$Q$1,"No Bet","Bet") -> No Bet | T12: =IF(F12<$Q$1,"No Bet","Bet") -> No Bet | U12: =IF(G12<$Q$1,"No Bet","Bet") -> No Bet
A13: FC Nürnberg | B13: 5 | C13: 3 | D13: 1 | E13: 0.6 | F13: 0.6 | G13: 0.6 | H13: 0.2 | I13: 0 | J13: 0 | K13: 0.4 | L13: 0.4 | M13: 0.2 | N13: 0.4 | O13: 0.2 | R13: =IF(D13<$Q$1,"No Bet","Bet") -> Bet | S13: =IF(E13<$Q$1,"No Bet","Bet") -> No Bet | T13: =IF(F13<$Q$1,"No Bet","Bet") -> No Bet | U13: =IF(G13<$Q$1,"No Bet","Bet") -> No Bet
A14: Erzgebirge Aue | B14: 5 | C14: 2.6 | D14: 0.8 | E14: 0.8 | F14: 0.4 | G14: 0.4 | H14: 0.2 | I14: 0 | J14: 0 | K14: 0.6 | L14: 0.4 | M14: 0.2 | N14: 0.2 | O14: 0 | R14: =IF(D14<$Q$1,"No Bet","Bet") -> No Bet | S14: =IF(E14<$Q$1,"No Bet","Bet") -> No Bet | T14: =IF(F14<$Q$1,"No Bet","Bet") -> No Bet | U14: =IF(G14<$Q$1,"No Bet","Bet") -> No Bet
A15: Greuther Fürth | B15: 5 | C15: 2.6 | D15: 1 | E15: 0.8 | F15: 0.4 | G15: 0.4 | H15: 0 | I15: 0 | J15: 0 | K15: 0.6 | L15: 0.2 | M15: 0.2 | N15: 0.2 | O15: 0.2 | R15: =IF(D15<$Q$1,"No Bet","Bet") -> Bet | S15: =IF(E15<$Q$1,"No Bet","Bet") -> No Bet | T15: =IF(F15<$Q$1,"No Bet","Bet") -> No Bet | U15: =IF(G15<$Q$1,"No Bet","Bet") -> No Bet
A16: Hannover 96 | B16: 5 | C16: 2.6 | D16: 1 | E16: 1 | F16: 0.6 | G16: 0 | H16: 0 | I16: 0 | J16: 0 | K16: 0.6 | L16: 0.2 | M16: 0.2 | N16: 0.2 | O16: 0.2 | R16: =IF(D16<$Q$1,"No Bet","Bet") -> Bet | S16: =IF(E16<$Q$1,"No Bet","Bet") -> Bet | T16: =IF(F16<$Q$1,"No Bet","Bet") -> No Bet | U16: =IF(G16<$Q$1,"No Bet","Bet") -> No Bet
... A21: Darmstadt | B21: 5 | C21: 1.8 | D21: 0.8 | E21: 0.6 | F21: 0.2 | G21: 0.2 | H21: 0 | I21: 0 | J21: 0 | K21: 0.2 | L21: 0.4 | M21: 0.6 | N21: 0.2 | O21: 0.4 | R21: =IF(D21<$Q$1,"No Bet","Bet") -> No Bet | S21: =IF(E21<$Q$1,"No Bet","Bet") -> No Bet | T21: =IF(F21<$Q$1,"No Bet","Bet") -> No Bet | U21: =IF(G21<$Q$1,"No Bet","Bet") -> No Bet
A23: League average | D23: 0.956 | E23: 0.822 | F23: 0.622 | G23: 0.4 | H23: 0.178 | I23: 0.111 | J23: 0 | K23: 0.622 | L23: 0.211 | M23: 0.211 | N23: 0.167 | O23: 0.167
A24: Home matches of... | B24: GP | C24: Avg | D24: 0.5+ | E24: 1.5+ | F24: 2.5+ | G24: 3.5+ | H24: 4.5+ | I24: 5.5+ | J24: 6.5+ | K24: BTS | L24: CS | M24: FTS | N24: WTN | O24: LTN | R24: 0.5 | S24: 1.5 | T24: 2.5 | U24: 3.5
B25: Bochum | C25: 2 | D25: 6 | E25: 1 | F25: 1 | G25: 1 | H25: 1 | I25: 1 | J25: 1 | K25: 0 | L25: 1 | M25: 0 | N25: 0 | O25: 0 | P25: 0 | R25: =IF(E25<$Q$1,"No Bet","Bet") -> Bet | S25: =IF(F25<$Q$1,"No Bet","Bet") -> Bet | T25: =IF(G25<$Q$1,"No Bet","Bet") -> Bet | U25: =IF(H25<$Q$1,"No Bet","Bet") -> Bet
A26: Karlsruher SC | B26: 2 | C26: 6 | D26: 1 | E26: 1 | F26: 1 | G26: 1 | H26: 1 | I26: 1 | J26: 0 | K26: 1 | L26: 0 | M26: 0 | N26: 0 | O26: 0 | R26: =IF(D26<$Q$1,"No Bet","Bet") -> Bet | S26: =IF(E26<$Q$1,"No Bet","Bet") -> Bet | T26: =IF(F26<$Q$1,"No Bet","Bet") -> Bet | U26: =IF(G26<$Q$1,"No Bet","Bet") -> Bet
A27: Regensburg | B27: 2 | C27: 4 | D27: 1 | E27: 1 | F27: 1 | G27: 1 | H27: 0 | I27: 0 | J27: 0 | K27: 1 | L27: 0 | M27: 0 | N27: 0 | O27: 0 | R27: =IF(D27<$Q$1,"No Bet","Bet") -> Bet | S27: =IF(E27<$Q$1,"No Bet","Bet") -> Bet | T27: =IF(F27<$Q$1,"No Bet","Bet") -> Bet | U27: =IF(G27<$Q$1,"No Bet","Bet") -> Bet
A28: Osnabrück | B28: 3 | C28: 3.67 | D28: 1 | E28: 1 | F28: 1 | G28: 0.67 | H28: 0 | I28: 0 | J28: 0 | K28: 0.33 | L28: 0.67 | M28: 0 | N28: 0.67 | O28: 0 | R28: =IF(D28<$Q$1,"No Bet","Bet") -> Bet | S28: =IF(E28<$Q$1,"No Bet","Bet") -> Bet | T28: =IF(F28<$Q$1,"No Bet","Bet") -> Bet | U28: =IF(G28<$Q$1,"No Bet","Bet") -> No Bet
A29: Wehen Wiesbaden | B29: 3 | C29: 3.67 | D29: 1 | E29: 1 | F29: 1 | G29: 0.33 | H29: 0.33 | I29: 0 | J29: 0 | K29: 0.33 | L29: 0 | M29: 0.67 | N29: 0 | O29: 0.67 | R29: =IF(D29<$Q$1,"No Bet","Bet") -> Bet | S29: =IF(E29<$Q$1,"No Bet","Bet") -> Bet | T29: =IF(F29<$Q$1,"No Bet","Bet") -> Bet | U29: =IF(G29<$Q$1,"No Bet","Bet") -> No Bet
A30: St. Pauli | B30: 2 | C30: 3.5 | D30: 1 | E30: 1 | F30: 1 | G30: 0.5 | H30: 0 | I30: 0 | J30: 0 | K30: 1 | L30: 0 | M30: 0 | N30: 0 | O30: 0 | R30: =IF(D30<$Q$1,"No Bet","Bet") -> Bet | S30: =IF(E30<$Q$1,"No Bet","Bet") -> Bet | T30: =IF(F30<$Q$1,"No Bet","Bet") -> Bet | U30: =IF(G30<$Q$1,"No Bet","Bet") -> No Bet
A31: Bielefeld | B31: 3 | C31: 3.33 | D31: 1 | E31: 1 | F31: 0.67 | G31: 0.67 | H31: 0 | I31: 0 | J31: 0 | K31: 1 | L31: 0 | M31: 0 | N31: 0 | O31: 0 | R31: =IF(D31<$Q$1,"No Bet","Bet") -> Bet | S31: =IF(E31<$Q$1,"No Bet","Bet") -> Bet | T31: =IF(F31<$Q$1,"No Bet","Bet") -> No Bet | U31: =IF(G31<$Q$1,"No Bet","Bet") -> No Bet
A32: Dynamo Dresden | B32: 3 | C32: 3.33 | D32: 1 | E32: 0.67 | F32: 0.67 | G32: 0.33 | H32: 0.33 | I32: 0.33 | J32: 0 | K32: 0.67 | L32: 0 | M32: 0.33 | N32: 0 | O32: 0.33 | R32: =IF(D32<$Q$1,"No Bet","Bet") -> Bet | S32: =IF(E32<$Q$1,"No Bet","Bet") -> No Bet | T32: =IF(F32<$Q$1,"No Bet","Bet") -> No Bet | U32: =IF(G32<$Q$1,"No Bet","Bet") -> No Bet
A33: FC Nürnberg | B33: 3 | C33: 3 | D33: 1 | E33: 0.67 | F33: 0.67 | G33: 0.67 | H33: 0 | I33: 0 | J33: 0 | K33: 0.33 | L33: 0.33 | M33: 0.33 | N33: 0.33 | O33: 0.33 | R33: =IF(D33<$Q$1,"No Bet","Bet") -> Bet | S33: =IF(E33<$Q$1,"No Bet","Bet") -> No Bet | T33: =IF(F33<$Q$1,"No Bet","Bet") -> No Bet | U33: =IF(G33<$Q$1,"No Bet","Bet") -> No Bet
A34: Heidenheim | B34: 2 | C34: 3 | D34: 1 | E34: 1 | F34: 0.5 | G34: 0.5 | H34: 0 | I34: 0 | J34: 0 | K34: 0.5 | L34: 0 | M34: 0.5 | N34: 0 | O34: 0.5 | R34: =IF(D34<$Q$1,"No Bet","Bet") -> Bet | S34: =IF(E34<$Q$1,"No Bet","Bet") -> Bet | T34: =IF(F34<$Q$1,"No Bet","Bet") -> No Bet | U34: =IF(G34<$Q$1,"No Bet","Bet") -> No Bet
