Workbook
Name latest.asp?league_austria: 'Matchs Autriche'!$A$1:$K$22
Name latest.asp?league_belgium: 'Matchs Belgique'!$A$1:$K$29
Name latest.asp?league_brazil: 'Matchs Bresil'!$A$1:$K$35
Name latest.asp?league_england: 'Matchs Premier League'!$A$1:$K$35
Name latest.asp?league_france: 'Matchs ligue 1'!$A$1:$K$35
Name latest.asp?league_germany: 'Matchs Bundesliga'!$A$1:$K$32
Name latest.asp?league_italy: 'Matchs Serie A'!$A$1:$K$33
Name latest.asp?league_italy2: Feuil6!#REF!
Name latest.asp?league_scotland: Ecosse!$A$1:$K$21
Name latest.asp?league_spain: 'Matchs La liga'!$A$1:$K$35
Name latest.asp?league_sweden: Suède!$A$1:$K$23
Name latest.asp?league_switzerland: 'Matchs Suisse'!$A$1:$K$19
Name latest.asp?league_turkey: Turquie!$A$1:$K$29
Name matches.asp?matchday_6: 'Matchs Argentine'!$A$1:$K$39
Name table.asp?league_argentina_tid_c: Argentine!$A$1:$P$177
Name table.asp?league_argentina_tid_c: Autriche!$A$1:$P$105
Name table.asp?league_australia_tid_c: Australie!$A$1:$P$93
Name table.asp?league_belgium_tid_c: Belgique!$A$1:$P$129
Name table.asp?league_brazil_tid_c: Bresil!$A$1:$K$32
Name table.asp?league_england_tid_c: 'Premier League'!$A$1:$P$153
Name table.asp?league_england2_tid_c: Championship!$A$1:$P$177
Name table.asp?league_england3_tid_c: 'League One'!$A$1:$P$171
Name table.asp?league_finland_tid_c: 'Finland - Veikkausliiga'!$A$1:$P$105
Name table.asp?league_france_tid_c: 'Ligue 1'!$A$1:$P$153
Name table.asp?league_france2_tid_c: 'Ligue 2'!$A$1:$P$153
Name table.asp?league_germany_tid_c: Bundesliga!$A$1:$P$141
Name table.asp?league_germany2_tid_c: 'Bundesliga 2'!$A$1:$P$141
Name table.asp?league_italy_tid_c: 'Italie - Serie A'!$A$1:$P$145
Name table.asp?league_italy2_tid_c_1: 'Italie - Serie B'!#REF!
Name table.asp?league_italy2_tid_c_2: 'Italie - Serie B'!$A$1:$P$153
Name table.asp?league_japan_tid_c: 'Japon - J1 League'!$A$1:$P$141
Name table.asp?league_netherlands_tid_c: 'Pays-bas Eredivisie'!$A$1:$P$141
Name table.asp?league_norway_tid_c: 'Norvege - Eliteserien'!$A$1:$P$129
Name table.asp?league_poland_tid_c: 'Pologne - Ekstraklasa'!$A$1:$P$129
Name table.asp?league_portugal_tid_c: 'Portugal - Primeira Liga'!$A$1:$P$141
Name table.asp?league_russia_tid_c: 'Russie - Premier League'!$A$1:$P$129
Name table.asp?league_scotland_tid_c: 'Ecosse - Premiership'!$A$1:$P$105
Name table.asp?league_spain_tid_c: 'La Liga'!$A$1:$P$147
Name table.asp?league_spain2_tid_c: 'Segunda Division'!$A$1:$P$165
Name table.asp?league_sweden_tid_c: 'Suède - Allsvenskan'!$A$1:$P$129
Name table.asp?league_switzerland_tid_c: Suisse!$A$1:$P$93
Name table.asp?league_turkey_tid_c: 'Turquie - Super Lig'!$A$1:$P$141
Name team_results.asp?league_argentina_pmtype_bydate: Feuil1!#REF!

Sheet Matchs Argentine
A1: Home / Away | D1: % Points per game | G1: W D L | H1: TG | I1: 2.5+ | J1: Last 4
A4: Sat | B4: 0.76041667 | C4: home | D4: Arsenal Sarandi | F4: 0.5 | H4: 1.5 | I4: 0 | K4: stats
A5: 14 | C5: away | D5: Union Santa Fe | F5: 0.11 | H5: 1.67 | I5: 0.33
A7: Sat | B7: 0.85416667 | C7: home | D7: Central Córdoba | F7: 0.67 | H7: 0.5 | I7: 0 | K7: stats
A8: 14 | C8: away | D8: Defensa y J. | F8: 0.5 | H8: 2 | I8: 0.5
A10: Sat | B10: 0.85416667 | C10: home | D10: Godoy Cruz | F10: 0.5 | H10: 2.5 | I10: 0.5 | K10: stats
A11: 14 | C11: away | D11: Argentinos Jrs | F11: 0.33 | H11: 0 | I11: 0
A13: Sat | B13: 0.94791667 | C13: home | D13: Colon | F13: 0.44 | H13: 2 | I13: 0.33 | K13: stats
A14: 14 | C14: away | D14: San Lorenzo | F14: 1 | H14: 1.5 | I14: 0
A17: Sun | B17: 0.041666667 | C17: home | D17: Huracan | F17: 0.67 | H17: 1 | I17: 0 | K17: stats
A18: 15 | C18: away | D18: River Plate | F18: 0.67 | H18: 4.5 | I18: 0.5
A20: Sun | B20: 0.66666667 | C20: home | D20: Gimnasia | F20: 0 | H20: 1 | I20: 0 | K20: stats
A21: 15 | C21: away | D21: Racing Club | F21: 0.33 | H21: 2 | I21: 0.5
A23: Sun | B23: 0.76041667 | C23: home | D23: Banfield | F23: 0.5 | H23: 1 | I23: 0 | K23: stats
A24: 15 | C24: away | D24: T. de Cordoba | F24: 0.5 | H24: 1 | I24: 0
A26: Sun | B26: 0.85416667 | C26: home | D26: Rosario | F26: 0.67 | H26: 1.5 | I26: 0 | K26: stats
A27: 15 | C27: away | D27: Newells | F27: 0 | H27: 4 | I27: 1
A29: Sun | B29: 0.94791667 | C29: home | D29: Independiente | F29: 1 | H29: 2 | I29: 0 | K29: stats
A30: 15 | C30: away | D30: Lanus | F30: 0.5 | H30: 3 | I30: 1
A33: Mon | B33: 0.041666667 | C33: home | D33: Boca Juniors | F33: 0.67 | H33: 1 | I33: 0 | K33: stats
A34: 16 | C34: away | D34: Estudiantes | F34: 0 | H34: 2 | I34: 0.5
A37: Tue | B37: 0 | C37: home | D37: Aldosivi | F37: 0.67 | H37: 1.5 | I37: 0.5 | K37: stats
A38: 17 | C38: away | D38: Patronato | F38: 0.67 | H38: 1.5 | I38: 0
A39: Calculations based on home results of the home team and away results of the visiting team recorded during the current season in the league.

Sheet Argentine
A1: Over / Under (total goals) | Q1: 0.85
A3: Matches of... | B3: GP | C3: Avg | D3: 0.5+ | E3: 1.5+ | F3: 2.5+ | G3: 3.5+ | H3: 4.5+ | I3: 5.5+ | J3: 6.5+ | K3: BTS | L3: CS | M3: FTS | N3: WTN | O3: LTN | R3: 0.5 | S3: 1.5 | T3: 2.5 | U3: 3.5 | AB3: Colonne1 | AC3: Colonne2 | AD3: Colonne3 | AE3: Colonne4 | AF3: Colonne5 | AG3: Colonne6
B4: Newells | C4: 4 | D4: 3.25 | E4: 1 | F4: 1 | G4: 0.5 | H4: 0.5 | I4: 0.25 | J4: 0 | K4: 0 | L4: 0.5 | M4: 0.5 | N4: 0 | O4: 0.5 | P4: 0 | Q4: =B4 -> Newells | R4: =IF(E4<$Q$1,"No Bet","Bet") -> Bet | S4: =IF(F4<$Q$1,"No Bet","Bet") -> Bet | T4: =IF(G4<$Q$1,"No Bet","Bet") -> No Bet | U4: =IF(H4<$Q$1,"No Bet","Bet") -> No Bet | V4: =IF(R4="bet",1,0) -> 1 | W4: =IF(S4="bet",1,0) -> 1 | X4: =IF(T4="bet",1,0) -> 0 | Y4: =IF(U4="bet",1,0) -> 0 | Z4: =SUM(V4:Y4) -> 2 | AG4: BET
A5: Godoy Cruz | B5: 5 | C5: 3 | D5: 1 | E5: 0.8 | F5: 0.6 | G5: 0.4 | H5: 0.2 | I5: 0 | J5: 0 | K5: 0.6 | L5: 0 | M5: 0.4 | N5: 0 | O5: 0.4 | Q5: =A5 -> Godoy Cruz | R5: =IF(D5<$Q$1,"No Bet","Bet") -> Bet | S5: =IF(E5<$Q$1,"No Bet","Bet") -> No Bet | T5: =IF(F5<$Q$1,"No Bet","Bet") -> No Bet | U5: =IF(G5<$Q$1,"No Bet","Bet") -> No Bet | V5: =IF(R5="bet",1,0) -> 1 | W5: =IF(S5="bet",1,0) -> 0 | X5: =IF(T5="bet",1,0) -> 0 | Y5: =IF(U5="bet",1,0) -> 0 | Z5: =SUM(V5:Y5) -> 1 | AB5: ='Matchs Argentine'!D4 -> Arsenal Sarandi | AC5: =VLOOKUP(TRIM(AB5)&" ",Q$4:Z$27,10,0) -> 1 | AD5: ='Matchs Argentine'!D5 -> Union Santa Fe | AE5: =VLOOKUP(TRIM(AD5)&" ",Q$4:Z$27,10,0) -> 0 | AF5: =AC5+AE5 -> 1 | AG5: =IF(AF5<2,"",IF(AF5=2,"0.5",IF(AF5=3,"1",IF(AF5=4,"1.5",IF(AF5=5,"2",IF(AF5=6,"2.5",IF(AF5=7,"3",IF(AF5=8,"3.5"))))))))
A6: Racing Club | B6: 5 | C6: 3 | D6: 0.6 | E6: 0.6 | F6: 0.6 | G6: 0.6 | H6: 0.2 | I6: 0.2 | J6: 0.2 | K6: 0.6 | L6: 0.4 | M6: 0.4 | N6: 0 | O6: 0 | Q6: =A6 -> Racing Club | R6: =IF(D6<$Q$1,"No Bet","Bet") -> No Bet | S6: =IF(E6<$Q$1,"No Bet","Bet") -> No Bet | T6: =IF(F6<$Q$1,"No Bet","Bet") -> No Bet | U6: =IF(G6<$Q$1,"No Bet","Bet") -> No Bet | V6: =IF(R6="bet",1,0) -> 0 | W6: =IF(S6="bet",1,0) -> 0 | X6: =IF(T6="bet",1,0) -> 0 | Y6: =IF(U6="bet",1,0) -> 0 | Z6: =SUM(V6:Y6) -> 0 | AB6: ='Matchs Argentine'!D7 -> Central Córdoba | AC6: =VLOOKUP(TRIM(AB6)&" ",Q$4:Z$27,10,0) -> 0 | AD6: ='Matchs Argentine'!D8 -> Defensa y J. | AE6: =VLOOKUP(TRIM(AD6)&" ",Q$4:Z$27,10,0) -> 0 | AF6: =AC6+AE6 -> 0 | AG6: =IF(AF6<2,"",IF(AF6=2,"0.5",IF(AF6=3,"1",IF(AF6=4,"1.5",IF(AF6=5,"2",IF(AF6=6,"2.5",IF(AF6=7,"3",IF(AF6=8,"3.5"))))))))
A7: San Lorenzo | B7: 5 | C7: 3 | D7: 1 | E7: 0.8 | F7: 0.6 | G7: 0.4 | H7: 0.2 | I7: 0 | J7: 0 | K7: 0.6 | L7: 0.4 | M7: 0 | N7: 0.4 | O7: 0 | Q7: =A7 -> San Lorenzo | R7: =IF(D7<$Q$1,"No Bet","Bet") -> Bet | S7: =IF(E7<$Q$1,"No Bet","Bet") -> No Bet | T7: =IF(F7<$Q$1,"No Bet","Bet") -> No Bet | U7: =IF(G7<$Q$1,"No Bet","Bet") -> No Bet | V7: =IF(R7="bet",1,0) -> 1 | W7: =IF(S7="bet",1,0) -> 0 | X7: =IF(T7="bet",1,0) -> 0 | Y7: =IF(U7="bet",1,0) -> 0 | Z7: =SUM(V7:Y7) -> 1 | AB7: ='Matchs Argentine'!D10 -> Godoy Cruz | AC7: =VLOOKUP(TRIM(AB7)&" ",Q$4:Z$27,10,0) -> 1 | AD7: ='Matchs Argentine'!D11 -> Argentinos Jrs | AE7: =VLOOKUP(TRIM(AD7)&" ",Q$4:Z$27,10,0) -> 0 | AF7: =AC7+AE7 -> 1 | AG7: =IF(AF7<2,"",IF(AF7=2,"0.5",IF(AF7=3,"1",IF(AF7=4,"1.5",IF(AF7=5,"2",IF(AF7=6,"2.5",IF(AF7=7,"3",IF(AF7=8,"3.5"))))))))
A8: Velez Sarsfield | B8: 5 | C8: 2.8 | D8: 1 | E8: 0.6 | F8: 0.6 | G8: 0.6 | H8: 0 | I8: 0 | J8: 0 | K8: 0.6 | L8: 0.2 | M8: 0.2 | N8: 0.2 | O8: 0.2 | Q8: =A8 -> Velez Sarsfield | R8: =IF(D8<$Q$1,"No Bet","Bet") -> Bet | S8: =IF(E8<$Q$1,"No Bet","Bet") -> No Bet | T8: =IF(F8<$Q$1,"No Bet","Bet") -> No Bet | U8: =IF(G8<$Q$1,"No Bet","Bet") -> No Bet | V8: =IF(R8="bet",1,0) -> 1 | W8: =IF(S8="bet",1,0) -> 0 | X8: =IF(T8="bet",1,0) -> 0 | Y8: =IF(U8="bet",1,0) -> 0 | Z8: =SUM(V8:Y8) -> 1 | AB8: ='Matchs Argentine'!D13 -> Colon | AC8: =VLOOKUP(TRIM(AB8)&" ",Q$4:Z$27,10,0) -> 1 | AD8: ='Matchs Argentine'!D14 -> San Lorenzo | AE8: =VLOOKUP(TRIM(AD8)&" ",Q$4:Z$27,10,0) -> 1 | AF8: =AC8+AE8 -> 2 | AG8: =IF(AF8<2,"",IF(AF8=2,"0.5",IF(AF8=3,"1",IF(AF8=4,"1.5",IF(AF8=5,"2",IF(AF8=6,"2.5",IF(AF8=7,"3",IF(AF8=8,"3.5")))))))) -> 0.5
A9: Lanus | B9: 5 | C9: 2.6 | D9: 1 | E9: 0.8 | F9: 0.6 | G9: 0.2 | H9: 0 | I9: 0 | J9: 0 | K9: 0.6 | L9: 0.2 | M9: 0.2 | N9: 0.2 | O9: 0.2 | Q9: =A9 -> Lanus | R9: =IF(D9<$Q$1,"No Bet","Bet") -> Bet | S9: =IF(E9<$Q$1,"No Bet","Bet") -> No Bet | T9: =IF(F9<$Q$1,"No Bet","Bet") -> No Bet | U9: =IF(G9<$Q$1,"No Bet","Bet") -> No Bet | V9: =IF(R9="bet",1,0) -> 1 | W9: =IF(S9="bet",1,0) -> 0 | X9: =IF(T9="bet",1,0) -> 0 | Y9: =IF(U9="bet",1,0) -> 0 | Z9: =SUM(V9:Y9) -> 1 | AB9: ='Matchs Argentine'!D16 -> 0 | AC9: =VLOOKUP(TRIM(AB9)&" ",Q$4:Z$27,10,0) -> #N/A | AD9: ='Matchs Argentine'!D17 -> Huracan | AE9: =VLOOKUP(TRIM(AD9)&" ",Q$4:Z$27,10,0) -> 0 | AF9: =AC9+AE9 -> #N/A | AG9: =IF(AF9<2,"",IF(AF9=2,"0.5",IF(AF9=3,"1",IF(AF9=4,"1.5",IF(AF9=5,"2",IF(AF9=6,"2.5",IF(AF9=7,"3",IF(AF9=8,"3.5")))))))) -> #N/A
A10: River Plate | B10: 5 | C10: 2.6 | D10: 0.8 | E10: 0.6 | F10: 0.4 | G10: 0.2 | H10: 0.2 | I10: 0.2 | J10: 0.2 | K10: 0.4 | L10: 0.4 | M10: 0.4 | N10: 0.2 | O10: 0.2 | Q10: =A10 -> River Plate | R10: =IF(D10<$Q$1,"No Bet","Bet") -> No Bet | S10: =IF(E10<$Q$1,"No Bet","Bet") -> No Bet | T10: =IF(F10<$Q$1,"No Bet","Bet") -> No Bet | U10: =IF(G10<$Q$1,"No Bet","Bet") -> No Bet | V10: =IF(R10="bet",1,0) -> 0 | W10: =IF(S10="bet",1,0) -> 0 | X10: =IF(T10="bet",1,0) -> 0 | Y10: =IF(U10="bet",1,0) -> 0 | Z10: =SUM(V10:Y10) -> 0 | AB10: ='Matchs Argentine'!D19 -> 0 | AC10: =VLOOKUP(TRIM(AB10)&" ",Q$4:Z$27,10,0) -> #N/A | AD10: ='Matchs Argentine'!D20 -> Gimnasia | AE10: =VLOOKUP(TRIM(AD10)&" ",Q$4:Z$27,10,0) -> 1 | AF10: =AC10+AE10 -> #N/A | AG10: =IF(AF10<2,"",IF(AF10=2,"0.5",IF(AF10=3,"1",IF(AF10=4,"1.5",IF(AF10=5,"2",IF(AF10=6,"2.5",IF(AF10=7,"3",IF(AF10=8,"3.5")))))))) -> #N/A
A11: Rosario | B11: 5 | C11: 2.4 | D11: 1 | E11: 0.8 | F11: 0.4 | G11: 0.2 | H11: 0 | I11: 0 | J11: 0 | K11: 0.8 | L11: 0.2 | M11: 0 | N11: 0.2 | O11: 0 | Q11: =A11 -> Rosario | R11: =IF(D11<$Q$1,"No Bet","Bet") -> Bet | S11: =IF(E11<$Q$1,"No Bet","Bet") -> No Bet | T11: =IF(F11<$Q$1,"No Bet","Bet") -> No Bet | U11: =IF(G11<$Q$1,"No Bet","Bet") -> No Bet | V11: =IF(R11="bet",1,0) -> 1 | W11: =IF(S11="bet",1,0) -> 0 | X11: =IF(T11="bet",1,0) -> 0 | Y11: =IF(U11="bet",1,0) -> 0 | Z11: =SUM(V11:Y11) -> 1 | AB11: ='Matchs Argentine'!D22 -> 0 | AC11: =VLOOKUP(TRIM(AB11)&" ",Q$4:Z$27,10,0) -> #N/A | AD11: ='Matchs Argentine'!D23 -> Banfield | AE11: =VLOOKUP(TRIM(AD11)&" ",Q$4:Z$27,10,0) -> 0 | AF11: =AC11+AE11 -> #N/A | AG11: =IF(AF11<2,"",IF(AF11=2,"0.5",IF(AF11=3,"1",IF(AF11=4,"1.5",IF(AF11=5,"2",IF(AF11=6,"2.5",IF(AF11=7,"3",IF(AF11=8,"3.5")))))))) -> #N/A
A12: Union Santa Fe | B12: 5 | C12: 2.2 | D12: 0.8 | E12: 0.8 | F12: 0.6 | G12: 0 | H12: 0 | I12: 0 | J12: 0 | K12: 0.6 | L12: 0.2 | M12: 0.4 | N12: 0 | O12: 0.2 | Q12: =A12 -> Union Santa Fe | R12: =IF(D12<$Q$1,"No Bet","Bet") -> No Bet | S12: =IF(E12<$Q$1,"No Bet","Bet") -> No Bet | T12: =IF(F12<$Q$1,"No Bet","Bet") -> No Bet | U12: =IF(G12<$Q$1,"No Bet","Bet") -> No Bet | V12: =IF(R12="bet",1,0) -> 0 | W12: =IF(S12="bet",1,0) -> 0 | X12: =IF(T12="bet",1,0) -> 0 | Y12: =IF(U12="bet",1,0) -> 0 | Z12: =SUM(V12:Y12) -> 0 | AB12: ='Matchs Argentine'!D25 -> 0 | AC12: =VLOOKUP(TRIM(AB12)&" ",Q$4:Z$27,10,0) -> #N/A | AD12: ='Matchs Argentine'!D26 -> Rosario | AE12: =VLOOKUP(TRIM(AD12)&" ",Q$4:Z$27,10,0) -> 1 | AF12: =AC12+AE12 -> #N/A | AG12: =IF(AF12<2,"",IF(AF12=2,"0.5",IF(AF12=3,"1",IF(AF12=4,"1.5",IF(AF12=5,"2",IF(AF12=6,"2.5",IF(AF12=7,"3",IF(AF12=8,"3.5")))))))) -> #N/A
A13: Colon | B13: 5 | C13: 2 | D13: 1 | E13: 0.8 | F13: 0.2 | G13: 0 | H13: 0 | I13: 0 | J13: 0 | K13: 0.4 | L13: 0 | M13: 0.6 | N13: 0 | O13: 0.6 | Q13: =A13 -> Colon | R13: =IF(D13<$Q$1,"No Bet","Bet") -> Bet | S13: =IF(E13<$Q$1,"No Bet","Bet") -> No Bet | T13: =IF(F13<$Q$1,"No Bet","Bet") -> No Bet | U13: =IF(G13<$Q$1,"No Bet","Bet") -> No Bet | V13: =IF(R13="bet",1,0) -> 1 | W13: =IF(S13="bet",1,0) -> 0 | X13: =IF(T13="bet",1,0) -> 0 | Y13: =IF(U13="bet",1,0) -> 0 | Z13: =SUM(V13:Y13) -> 1 | AB13: ='Matchs Argentine'!D28 -> 0 | AC13: =VLOOKUP(TRIM(AB13)&" ",Q$4:Z$27,10,0) -> #N/A | AD13: ='Matchs Argentine'!D29 -> Independiente | AE13: =VLOOKUP(TRIM(AD13)&" ",Q$4:Z$27,10,0) -> 1 | AF13: =AC13+AE13 -> #N/A | AG13: =IF(AF13<2,"",IF(AF13=2,"0.5",IF(AF13=3,"1",IF(AF13=4,"1.5",IF(AF13=5,"2",IF(AF13=6,"2.5",IF(AF13=7,"3",IF(AF13=8,"3.5")))))))) -> #N/A
A14: Huracan | B14: 5 | C14: 2 | D14: 0.6 | E14: 0.6 | F14: 0.4 | G14: 0.2 | H14: 0.2 | I14: 0 | J14: 0 | K14: 0.4 | L14: 0.6 | M14: 0.4 | N14: 0.2 | O14: 0 | Q14: =A14 -> Huracan | R14: =IF(D14<$Q$1,"No Bet","Bet") -> No Bet | S14: =IF(E14<$Q$1,"No Bet","Bet") -> No Bet | T14: =IF(F14<$Q$1,"No Bet","Bet") -> No Bet | U14: =IF(G14<$Q$1,"No Bet","Bet") -> No Bet | V14: =IF(R14="bet",1,0) -> 0 | W14: =IF(S14="bet",1,0) -> 0 | X14: =IF(T14="bet",1,0) -> 0 | Y14: =IF(U14="bet",1,0) -> 0 | Z14: =SUM(V14:Y14) -> 0 | AB14: ='Matchs Argentine'!D31 -> 0 | AC14: =VLOOKUP(TRIM(AB14)&" ",Q$4:Z$27,10,0) -> #N/A | AD14: ='Matchs Argentine'!D32 -> 0 | AE14: =VLOOKUP(TRIM(AD14)&" ",Q$4:Z$27,10,0) -> #N/A | AF14: =AC14+AE14 -> #N/A | AG14: =IF(AF14<2,"",IF(AF14=2,"0.5",IF(AF14=3,"1",IF(AF14=4,"1.5",IF(AF14=5,"2",IF(AF14=6,"2.5",IF(AF14=7,"3",IF(AF14=8,"3.5")))))))) -> #N/A
A15: Aldosivi | B15: 5 | C15: 1.8 | D15: 0.8 | E15: 0.6 | F15: 0.4 | G15: 0 | H15: 0 | I15: 0 | J15: 0 | K15: 0.2 | L15: 0.4 | M15: 0.6 | N15: 0.2 | O15: 0.4 | Q15: =A15 -> Aldosivi | R15: =IF(D15<$Q$1,"No Bet","Bet") -> No Bet | S15: =IF(E15<$Q$1,"No Bet","Bet") -> No Bet | T15: =IF(F15<$Q$1,"No Bet","Bet") -> No Bet | U15: =IF(G15<$Q$1,"No Bet","Bet") -> No Bet | V15: =IF(R15="bet",1,0) -> 0 | W15: =IF(S15="bet",1,0) -> 0 | X15: =IF(T15="bet",1,0) -> 0 | Y15: =IF(U15="bet",1,0) -> 0 | Z15: =SUM(V15:Y15) -> 0 | AB15: ='Matchs Argentine'!D34 -> Estudiantes | AC15: =VLOOKUP(TRIM(AB15)&" ",Q$4:Z$27,10,0) -> 1 | AD15: ='Matchs Argentine'!D35 -> 0 | AE15: =VLOOKUP(TRIM(AD15)&" ",Q$4:Z$27,10,0) -> #N/A | AF15: =AC15+AE15 -> #N/A | AG15: =IF(AF15<2,"",IF(AF15=2,"0.5",IF(AF15=3,"1",IF(AF15=4,"1.5",IF(AF15=5,"2",IF(AF15=6,"2.5",IF(AF15=7,"3",IF(AF15=8,"3.5")))))))) -> #N/A
A16: Arsenal Sarandi | B16: 5 | C16: 1.8 | D16: 1 | E16: 0.6 | F16: 0.2 | G16: 0 | H16: 0 | I16: 0 | J16: 0 | K16: 0 | L16: 0.6 | M16: 0.4 | N16: 0.6 | O16: 0.4 | Q16: =A16 -> Arsenal Sarandi | R16: =IF(D16<$Q$1,"No Bet","Bet") -> Bet | S16: =IF(E16<$Q$1,"No Bet","Bet") -> No Bet | T16: =IF(F16<$Q$1,"No Bet","Bet") -> No Bet | U16: =IF(G16<$Q$1,"No Bet","Bet") -> No Bet | V16: =IF(R16="bet",1,0) -> 1 | W16: =IF(S16="bet",1,0) -> 0 | X16: =IF(T16="bet",1,0) -> 0 | Y16: =IF(U16="bet",1,0) -> 0 | Z16: =SUM(V16:Y16) -> 1 | AB16: ='Matchs Argentine'!D37 -> Aldosivi | AC16: =VLOOKUP(TRIM(AB16)&" ",Q$4:Z$27,10,0) -> 0 | AD16: ='Matchs Argentine'!D38 -> Patronato | AE16: =VLOOKUP(TRIM(AD16)&" ",Q$4:Z$27,10,0) -> 1 | AF16: =AC16+AE16 -> 1 | AG16: =IF(AF16<2,"",IF(AF16=2,"0.5",IF(AF16=3,"1",IF(AF16=4,"1.5",IF(AF16=5,"2",IF(AF16=6,"2.5",IF(AF16=7,"3",IF(AF16=8,"3.5"))))))))
A17: Atl. Tucuman | B17: 5 | C17: 1.8 | D17: 1 | E17: 0.4 | F17: 0.4 | G17: 0 | H17: 0 | I17: 0 | J17: 0 | K17: 0.2 | L17: 0.4 | M17: 0.4 | N17: 0.4 | O17: 0.4 | Q17: =A17 -> Atl. Tucuman | R17: =IF(D17<$Q$1,"No Bet","Bet") -> Bet | S17: =IF(E17<$Q$1,"No Bet","Bet") -> No Bet | T17: =IF(F17<$Q$1,"No Bet","Bet") -> No Bet | U17: =IF(G17<$Q$1,"No Bet","Bet") -> No Bet | V17: =IF(R17="bet",1,0) -> 1 | W17: =IF(S17="bet",1,0) -> 0 | X17: =IF(T17="bet",1,0) -> 0 | Y17: =IF(U17="bet",1,0) -> 0 | Z17: =SUM(V17:Y17) -> 1
A18: Estudiantes | B18: 5 | C18: 1.8 | D18: 1 | E18: 0.4 | F18: 0.4 | G18: 0 | H18: 0 | I18: 0 | J18: 0 | K18: 0.2 | L18: 0.4 | M18: 0.4 | N18: 0.4 | O18: 0.4 | Q18: =A18 -> Estudiantes | R18: =IF(D18<$Q$1,"No Bet","Bet") -> Bet | S18: =IF(E18<$Q$1,"No Bet","Bet") -> No Bet | T18: =IF(F18<$Q$1,"No Bet","Bet") -> No Bet | U18: =IF(G18<$Q$1,"No Bet","Bet") -> No Bet | V18: =IF(R18="bet",1,0) -> 1 | W18: =IF(S18="bet",1,0) -> 0 | X18: =IF(T18="bet",1,0) -> 0 | Y18: =IF(U18="bet",1,0) -> 0 | Z18: =SUM(V18:Y18) -> 1
A19: Patronato | B19: 5 | C19: 1.8 | D19: 1 | E19: 0.6 | F19: 0.2 | G19: 0 | H19: 0 | I19: 0 | J19: 0 | K19: 0.4 | L19: 0.4 | M19: 0.2 | N19: 0.4 | O19: 0.2 | Q19: =A19 -> Patronato | R19: =IF(D19<$Q$1,"No Bet","Bet") -> Bet | S19: =IF(E19<$Q$1,"No Bet","Bet") -> No Bet | T19: =IF(F19<$Q$1,"No Bet","Bet") -> No Bet | U19: =IF(G19<$Q$1,"No Bet","Bet") -> No Bet | V19: =IF(R19="bet",1,0) -> 1 | W19: =IF(S19="bet",1,0) -> 0 | X19: =IF(T19="bet",1,0) -> 0 | Y19: =IF(U19="bet",1,0) -> 0 | Z19: =SUM(V19:Y19) -> 1
A20: Independiente | B20: 4 | C20: 1.75 | D20: 1 | E20: 0.5 | F20: 0.25 | G20: 0 | H20: 0 | I20: 0 | J20: 0 | K20: 0 | L20: 0.5 | M20: 0.5 | N20: 0.5 | O20: 0.5 | Q20: =A20 -> Independiente | R20: =IF(D20<$Q$1,"No Bet","Bet") -> Bet | S20: =IF(E20<$Q$1,"No Bet","Bet") -> No Bet | T20: =IF(F20<$Q$1,"No Bet","Bet") -> No Bet | U20: =IF(G20<$Q$1,"No Bet","Bet") -> No Bet | V20: =IF(R20="bet",1,0) -> 1 | W20: =IF(S20="bet",1,0) -> 0 | X20: =IF(T20="bet",1,0) -> 0 | Y20: =IF(U20="bet",1,0) -> 0 | Z20: =SUM(V20:Y20) -> 1
A21: Argentinos Jrs | B21: 5 | C21: 1.6 | D21: 0.6 | E21: 0.4 | F21: 0.2 | G21: 0.2 | H21: 0.2 | I21: 0 | J21: 0 | K21: 0.4 | L21: 0.6 | M21: 0.4 | N21: 0.2 | O21: 0 | Q21: =A21 -> Argentinos Jrs | R21: =IF(D21<$Q$1,"No Bet","Bet") -> No Bet | S21: =IF(E21<$Q$1,"No Bet","Bet") -> No Bet | T21: =IF(F21<$Q$1,"No Bet","Bet") -> No Bet | U21: =IF(G21<$Q$1,"No Bet","Bet") -> No Bet | V21: =IF(R21="bet",1,0) -> 0 | W21: =IF(S21="bet",1,0) -> 0 | X21: =IF(T21="bet",1,0) -> 0 | Y21: =IF(U21="bet",1,0) -> 0 | Z21: =SUM(V21:Y21) -> 0
A22: Banfield | B22: 5 | C22: 1.6 | D22: 0.8 | E22: 0.2 | F22: 0.2 | G22: 0.2 | H22: 0.2 | I22: 0 | J22: 0 | K22: 0.2 | L22: 0.4 | M22: 0.6 | N22: 0.2 | O22: 0.4 | Q22: =A22 -> Banfield | R22: =IF(D22<$Q$1,"No Bet","Bet") -> No Bet | S22: =IF(E22<$Q$1,"No Bet","Bet") -> No Bet | T22: =IF(F22<$Q$1,"No Bet","Bet") -> No Bet | U22: =IF(G22<$Q$1,"No Bet","Bet") -> No Bet | V22: =IF(R22="bet",1,0) -> 0 | W22: =IF(S22="bet",1,0) -> 0 | X22: =IF(T22="bet",1,0) -> 0 | Y22: =IF(U22="bet",1,0) -> 0 | Z22: =SUM(V22:Y22) -> 0
A23: Defensa y J. | B23: 5 | C23: 1.6 | D23: 0.8 | E23: 0.4 | F23: 0.4 | G23: 0 | H23: 0 | I23: 0 | J23: 0 | K23: 0.2 | L23: 0.4 | M23: 0.6 | N23: 0.2 | O23: 0.4 | Q23: =A23 -> Defensa y J. | R23: =IF(D23<$Q$1,"No Bet","Bet") -> No Bet | S23: =IF(E23<$Q$1,"No Bet","Bet") -> No Bet | T23: =IF(F23<$Q$1,"No Bet","Bet") -> No Bet | U23: =IF(G23<$Q$1,"No Bet","Bet") -> No Bet | V23: =IF(R23="bet",1,0) -> 0 | W23: =IF(S23="bet",1,0) -> 0 | X23: =IF(T23="bet",1,0) -> 0 | Y23: =IF(U23="bet",1,0) -> 0 | Z23: =SUM(V23:Y23) -> 0
A24: Gimnasia | B24: 5 | C24: 1.6 | D24: 1 | E24: 0.4 | F24: 0.2 | G24: 0 | H24: 0 | I24: 0 | J24: 0 | K24: 0.4 | L24: 0 | M24: 0.6 | N24: 0 | O24: 0.6 | Q24: =A24 -> Gimnasia | R24: =IF(D24<$Q$1,"No Bet","Bet") -> Bet | S24: =IF(E24<$Q$1,"No Bet","Bet") -> No Bet | T24: =IF(F24<$Q$1,"No Bet","Bet") -> No Bet | U24: =IF(G24<$Q$1,"No Bet","Bet") -> No Bet | V24: =IF(R24="bet",1,0) -> 1 | W24: =IF(S24="bet",1,0) -> 0 | X24: =IF(T24="bet",1,0) -> 0 | Y24: =IF(U24="bet",1,0) -> 0 | Z24: =SUM(V24:Y24) -> 1
A25: T. de Cordoba | B25: 5 | C25: 1.6 | D25: 1 | E25: 0.4 | F25: 0.2 | G25: 0 | H25: 0 | I25: 0 | J25: 0 | K25: 0.4 | L25: 0.4 | M25: 0.2 | N25: 0.4 | O25: 0.2 | Q25: =A25 -> T. de Cordoba | R25: =IF(D25<$Q$1,"No Bet","Bet") -> Bet | S25: =IF(E25<$Q$1,"No Bet","Bet") -> No Bet | T25: =IF(F25<$Q$1,"No Bet","Bet") -> No Bet | U25: =IF(G25<$Q$1,"No Bet","Bet") -> No Bet | V25: =IF(R25="bet",1,0) -> 1 | W25: =IF(S25="bet",1,0) -> 0 | X25: =IF(T25="bet",1,0) -> 0 | Y25: =IF(U25="bet",1,0) -> 0 | Z25: =SUM(V25:Y25) -> 1
A26: Central Córdoba | B26: 5 | C26: 1.2 | D26: 0.8 | E26: 0.4 | F26: 0 | G26: 0 | H26: 0 | I26: 0 | J26: 0 | K26: 0.2 | L26: 0.4 | M26: 0.6 | N26: 0.2 | O26: 0.4 | Q26: =A26 -> Central Córdoba | R26: =IF(D26<$Q$1,"No Bet","Bet") -> No Bet | S26: =IF(E26<$Q$1,"No Bet","Bet") -> No Bet | T26: =IF(F26<$Q$1,"No Bet","Bet") -> No Bet | U26: =IF(G26<$Q$1,"No Bet","Bet") -> No Bet | V26: =IF(R26="bet",1,0) -> 0 | W26: =IF(S26="bet",1,0) -> 0 | X26: =IF(T26="bet",1,0) -> 0 | Y26: =IF(U26="bet",1,0) -> 0 | Z26: =SUM(V26:Y26) -> 0
A27: Boca Juniors | B27: 5 | C27: 1 | D27: 0.6 | E27: 0.4 | F27: 0 | G27: 0 | H27: 0 | I27: 0 | J27: 0 | K27: 0 | L27: 1 | M27: 0.4 | N27: 0.6 | O27: 0 | Q27: =A27 -> Boca Juniors | R27: =IF(D27<$Q$1,"No Bet","Bet") -> No Bet | S27: =IF(E27<$Q$1,"No Bet","Bet") -> No Bet | T27: =IF(F27<$Q$1,"No Bet","Bet") -> No Bet | U27: =IF(G27<$Q$1,"No Bet","Bet") -> No Bet | V27: =IF(R27="bet",1,0) -> 0 | W27: =IF(S27="bet",1,0) -> 0 | X27: =IF(T27="bet",1,0) -> 0 | Y27: =IF(U27="bet",1,0) -> 0 | Z27: =SUM(V27:Y27) -> 0
A29: League average | D29: 0.881 | E29: 0.576 | F29: 0.356 | G29: 0.153 | H29: 0.068 | I29: 0.017 | J29: 0.017 | K29: 0.373 | L29: 0.373 | M29: 0.373 | N29: 0.254 | O29: 0.254
A30: Home matches of... | B30: GP | C30: Avg | D30: 0.5+ | E30: 1.5+ | F30: 2.5+ | G30: 3.5+ | H30: 4.5+ | I30: 5.5+ | J30: 6.5+ | K30: BTS | L30: CS | M30: FTS | N30: WTN | O30: LTN | R30: 0.5 | S30: 1.5 | T30: 2.5 | U30: 3.5
B31: San Lorenzo | C31: 3 | D31: 4 | E31: 1 | F31: 1 | G31: 1 | H31: 0.67 | I31: 0.33 | J31: 0 | K31: 0 | L31: 1 | M31: 0 | N31: 0 | O31: 0 | P31: 0 | R31: =IF(E31<$Q$1,"No Bet","Bet") -> Bet | S31: =IF(F31<$Q$1,"No Bet","Bet") -> Bet | T31: =IF(G31<$Q$1,"No Bet","Bet") -> Bet | U31: =IF(H31<$Q$1,"No Bet","Bet") -> No Bet
A32: Velez Sarsfield | B32: 2 | C32: 4 | D32: 1 | E32: 1 | F32: 1 | G32: 1 | H32: 0 | I32: 0 | J32: 0 | K32: 1 | L32: 0 | M32: 0 | N32: 0 | O32: 0 | R32: =IF(D32<$Q$1,"No Bet","Bet") -> Bet | S32: =IF(E32<$Q$1,"No Bet","Bet") -> Bet | T32: =IF(F32<$Q$1,"No Bet","Bet") -> Bet | U32: =IF(G32<$Q$1,"No Bet","Bet") -> Bet
A33: Racing Club | B33: 3 | C33: 3.67 | D33: 0.67 | E33: 0.67 | F33: 0.67 | G33: 0.67 | H33: 0.33 | I33: 0.33 | J33: 0.33 | K33: 0.67 | L33: 0.33 | M33: 0.33 | N33: 0 | O33: 0 | R33: =IF(D33<$Q$1,"No Bet","Bet") -> No Bet | S33: =IF(E33<$Q$1,"No Bet","Bet") -> No Bet | T33: =IF(F33<$Q$1,"No Bet","Bet") -> No Bet | U33: =IF(G33<$Q$1,"No Bet","Bet") -> No Bet
A34: Newells | B34: 3 | C34: 3 | D34: 1 | E34: 1 | F34: 0.33 | G34: 0.33 | H34: 0.33 | I34: 0 | J34: 0 | K34: 0.33 | L34: 0.67 | M34: 0 | N34: 0.67 | O34: 0 | R34: =IF(D34<$Q$1,"No Bet","Bet") -> Bet | S34: =IF(E34<$Q$1,"No Bet","Bet") -> Bet | T34: =IF(F34<$Q$1,"No Bet","Bet") -> No Bet | U34: =IF(G34<$Q$1,"No Bet","Bet") -> No Bet
A35: Union Santa Fe | B35: 2 | C35: 3 | D35: 1 | E35: 1 | F35: 1 | G35: 0 | H35: 0 | I35: 0 | J35: 0 | K35: 1 | L35: 0 | M35: 0 | N35: 0 | O35: 0 | R35: =IF(D35<$Q$1,"No Bet","Bet") -> Bet | S35: =IF(E35<$Q$1,"No Bet","Bet") -> Bet | T35: =IF(F35<$Q$1,"No Bet","Bet") -> Bet | U35: =IF(G35<$Q$1,"No Bet","Bet") -> No Bet
A36: Argentinos Jrs | B36: 3 | C36: 2.67 | D36: 1 | E36: 0.67 | F36: 0.33 | G36: 0.33 | H36: 0.33 | I36: 0 | J36: 0 | K36: 0.67 | L36: 0.33 | M36: 0 | N36: 0.33 | O36: 0 | R36: =IF(D36<$Q$1,"No Bet","Bet") -> Bet | S36: =IF(E36<$Q$1,"No Bet","Bet") -> No Bet | T36: =IF(F36<$Q$1,"No Bet","Bet") -> No Bet | U36: =IF(G36<$Q$1,"No Bet","Bet") -> No Bet
A37: Godoy Cruz | B37: 2 | C37: 2.5 | D37: 1 | E37: 1 | F37: 0.5 | G37: 0 | H37: 0 | I37: 0 | J37: 0 | K37: 0.5 | L37: 0 | M37: 0.5 | N37: 0 | O37: 0.5 | R37: =IF(D37<$Q$1,"No Bet","Bet") -> Bet | S37: =IF(E37<$Q$1,"No Bet","Bet") -> Bet | T37: =IF(F37<$Q$1,"No Bet","Bet") -> No Bet | U37: =IF(G37<$Q$1,"No Bet","Bet") -> No Bet
A38: Lanus | B38: 3 | C38: 2.33 | D38: 1 | E38: 0.67 | F38: 0.33 | G38: 0.33 | H38: 0 | I38: 0 | J38: 0 | K38: 0.67 | L38: 0.33 | M38: 0 | N38: 0.33 | O38: 0 | R38: =IF(D38<$Q$1,"No Bet","Bet") -> Bet | S38: =IF(E38<$Q$1,"No Bet","Bet") -> No Bet | T38: =IF(F38<$Q$1,"No Bet","Bet") -> No Bet | U38: =IF(G38<$Q$1,"No Bet","Bet") -> No Bet
A39: Colon | B39: 3 | C39: 2 | D39: 1 | E39: 0.67 | F39: 0.33 | G39: 0 | H39: 0 | I39: 0 | J39: 0 | K39: 0.67 | L39: 0 | M39: 0.33 | N39: 0 | O39: 0.33 | R39: =IF(D39<$Q$1,"No Bet","Bet") -> Bet | S39: =IF(E39<$Q$1,"No Bet","Bet") -> No Bet | T39: =IF(F39<$Q$1,"No Bet","Bet") -> No Bet | U39: =IF(G39<$Q$1,"No Bet","Bet") -> No Bet
A40: Independiente | B40: 1 | C40: 2 | D40: 1 | E40: 1 | F40: 0 | G40: 0 | H40: 0 | I40: 0 | J40: 0 | K40: 0 | L40: 1 | M40: 0 | N40: 1 | O40: 0 | R40: =IF(D40<$Q$1,"No Bet","Bet") -> Bet | S40: =IF(E40<$Q$1,"No Bet","Bet") -> Bet | T40: =IF(F40<$Q$1,"No Bet","Bet") -> No Bet | U40: =IF(G40<$Q$1,"No Bet","Bet") -> No Bet
A41: Patronato | B41: 3 | C41: 2 | D41: 1 | E41: 0.67 | F41: 0.33 | G41: 0 | H41: 0 | I41: 0 | J41: 0 | K41: 0.33 | L41: 0.33 | M41: 0.33 | N41: 0.33 | O41: 0.33 | R41: =IF(D41<$Q$1,"No Bet","Bet") -> Bet | S41: =IF(E41<$Q$1,"No Bet","Bet") -> No Bet | T41: =IF(F41<$Q$1,"No Bet","Bet") -> No Bet | U41: =IF(G41<$Q$1,"No Bet","Bet") -> No Bet
A42: T. de Cordoba | B42: 3 | C42: 2 | D42: 1 | E42: 0.67 | F42: 0.33 | G42: 0 | H42: 0 | I42: 0 | J42: 0 | K42: 0.67 | L42: 0.33 | M42: 0 | N42: 0.33 | O42: 0 | R42: =IF(D42<$Q$1,"No Bet","Bet") -> Bet | S42: =IF(E42<$Q$1,"No Bet","Bet") -> No Bet | T42: =IF(F42<$Q$1,"No Bet","Bet") -> No Bet | U42: =IF(G42<$Q$1,"No Bet","Bet") -> No Bet
...

Sheet Matchs Autriche
A1: Home / Away | D1: % Points per game | G1: W D L | H1: TG | I1: 2.5+ | J1: Last 4
A4: Sat | B4: 0.70833333 | C4: home | D4: Mattersburg | F4: 0.33 | H4: 3.33 | I4: 0.67 | K4: stats
A5: 14 | C5: away | D5: WSG Wattens | F5: 0.11 | H5: 3 | I5: 0.33
A7: Sat | B7: 0.70833333 | C7: home | D7: Salzburg | F7: 1 | H7: 5.67 | I7: 1 | K7: stats
A8: 14 | C8: away | D8: Hartberg | F8: 0.44 | H8: 4.33 | I8: 1
A10: Sat | B10: 0.70833333 | C10: home | D10: Sturm Graz | F10: 0.67 | H10: 2 | I10: 0.33 | K10: stats
A11: 14 | C11: away | D11: LASK Linz | F11: 1 | H11: 2.33 | I11: 0.67
A14: Sun | B14: 0.60416667 | C14: home | D14: Altach | F14: 0.44 | H14: 4.67 | I14: 1 | K14: stats
A15: 15 | C15: away | D15: St. Poelten | F15: 0.44 | H15: 2 | I15: 0.33
A17: Sun | B17: 0.60416667 | C17: home | D17: Rapid Wien | F17: 0.33 | H17: 2.67 | I17: 0.67 | K17: stats
A18: 15 | C18: away | D18: Admira Wacker | F18: 0.11 | H18: 4 | I18: 0.67
A20: Sun | B20: 0.70833333 | C20: home | D20: Wolfsberger AC | F20: 0.67 | H20: 4.33 | I20: 0.67 | K20: stats
A21: 15 | C21: away | D21: Austria Wien | F21: 0.44 | H21: 4.67 | I21: 1
A22: Calculations based on home results of the home team and away results of the visiting team recorded during the current season in the league.

Sheet Autriche
A1: Over / Under (total goals) | Q1: 0.85
A3: Matches of... | B3: GP | C3: Avg | D3: 0.5+ | E3: 1.5+ | F3: 2.5+ | G3: 3.5+ | H3: 4.5+ | I3: 5.5+ | J3: 6.5+ | K3: BTS | L3: CS | M3: FTS | N3: WTN | O3: LTN | R3: 0.5 | S3: 1.5 | T3: 2.5 | U3: 3.5 | AB3: Colonne1 | AC3: Colonne2 | AD3: Colonne3 | AE3: Colonne4 | AF3: Colonne5 | AG3: Colonne6
B4: Salzburg | C4: 6 | D4: 5.17 | E4: 1 | F4: 1 | G4: 0.83 | H4: 0.83 | I4: 0.83 | J4: 0.5 | K4: 0.17 | L4: 0.5 | M4: 0.5 | N4: 0 | O4: 0.5 | P4: 0 | Q4: =B4 -> Salzburg | R4: =IF(E4<$Q$1,"No Bet","Bet") -> Bet | S4: =IF(F4<$Q$1,"No Bet","Bet") -> Bet | T4: =IF(G4<$Q$1,"No Bet","Bet") -> No Bet | U4: =IF(H4<$Q$1,"No Bet","Bet") -> No Bet | V4: =IF(R4="bet",1,0) -> 1 | W4: =IF(S4="bet",1,0) -> 1 | X4: =IF(T4="bet",1,0) -> 0 | Y4: =IF(U4="bet",1,0) -> 0 | Z4: =SUM(V4:Y4) -> 2 | AG4: BET
A5: Altach | B5: 6 | C5: 4.33 | D5: 1 | E5: 1 | F5: 0.83 | G5: 0.5 | H5: 0.5 | I5: 0.33 | J5: 0.17 | K5: 0.83 | L5: 0 | M5: 0.17 | N5: 0 | O5: 0.17 | Q5: =A5 -> Altach | R5: =IF(D5<$Q$1,"No Bet","Bet") -> Bet | S5: =IF(E5<$Q$1,"No Bet","Bet") -> Bet | T5: =IF(F5<$Q$1,"No Bet","Bet") -> No Bet | U5: =IF(G5<$Q$1,"No Bet","Bet") -> No Bet | V5: =IF(R5="bet",1,0) -> 1 | W5: =IF(S5="bet",1,0) -> 1 | X5: =IF(T5="bet",1,0) -> 0 | Y5: =IF(U5="bet",1,0) -> 0 | Z5: =SUM(V5:Y5) -> 2 | AB5: ='Matchs Autriche'!D4 -> Mattersburg | AC5: =VLOOKUP(TRIM(AB5)&" ",Q$4:Z$27,10,0) -> 1 | AD5: ='Matchs Autriche'!D5 -> WSG Wattens | AE5: =VLOOKUP(TRIM(AD5)&" ",Q$4:Z$27,10,0) -> 2 | AF5: =AC5+AE5 -> 3 | AG5: =IF(AF5<2,"",IF(AF5=2,"0.5",IF(AF5=3,"1",IF(AF5=4,"1.5",IF(AF5=5,"2",IF(AF5=6,"2.5",IF(AF5=7,"3",IF(AF5=8,"3.5")))))))) -> 1
A6: Mattersburg | B6: 6 | C6: 4 | D6: 1 | E6: 0.83 | F6: 0.83 | G6: 0.67 | H6: 0.5 | I6: 0.17 | J6: 0 | K6: 0.67 | L6: 0 | M6: 0.33 | N6: 0 | O6: 0.33 | Q6: =A6 -> Mattersburg | R6: =IF(D6<$Q$1,"No Bet","Bet") -> Bet | S6: =IF(E6<$Q$1,"No Bet","Bet") -> No Bet | T6: =IF(F6<$Q$1,"No Bet","Bet") -> No Bet | U6: =IF(G6<$Q$1,"No Bet","Bet") -> No Bet | V6: =IF(R6="bet",1,0) -> 1 | W6: =IF(S6="bet",1,0) -> 0 | X6: =IF(T6="bet",1,0) -> 0 | Y6: =IF(U6="bet",1,0) -> 0 | Z6: =SUM(V6:Y6) -> 1 | AB6: ='Matchs Autriche'!D7 -> Salzburg | AC6: =VLOOKUP(TRIM(AB6)&" ",Q$4:Z$27,10,0) -> 2 | AD6: ='Matchs Autriche'!D8 -> Hartberg | AE6: =VLOOKUP(TRIM(AD6)&" ",Q$4:Z$27,10,0) -> 1 | AF6: =AC6+AE6 -> 3 | AG6: =IF(AF6<2,"",IF(AF6=2,"0.5",IF(AF6=3,"1",IF(AF6=4,"1.5",IF(AF6=5,"2",IF(AF6=6,"2.5",IF(AF6=7,"3",IF(AF6=8,"3.5")))))))) -> 1
A7: Wolfsberger AC | B7: 6 | C7: 4 | D7: 1 | E7: 0.67 | F7: 0.67 | G7: 0.5 | H7: 0.5 | I7: 0.33 | J7: 0.33 | K7: 0.33 | L7: 0.5 | M7: 0.17 | N7: 0.5 | O7: 0.17 | Q7: =A7 -> Wolfsberger AC | R7: =IF(D7<$Q$1,"No Bet","Bet") -> Bet | S7: =IF(E7<$Q$1,"No Bet","Bet") -> No Bet | T7: =IF(F7<$Q$1,"No Bet","Bet") -> No Bet | U7: =IF(G7<$Q$1,"No Bet","Bet") -> No Bet | V7: =IF(R7="bet",1,0) -> 1 | W7: =IF(S7="bet",1,0) -> 0 | X7: =IF(T7="bet",1,0) -> 0 | Y7: =IF(U7="bet",1,0) -> 0 | Z7: =SUM(V7:Y7) -> 1 | AB7: ='Matchs Autriche'!D10 -> Sturm Graz | AC7: =VLOOKUP(TRIM(AB7)&" ",Q$4:Z$27,10,0) -> 1 | AD7: ='Matchs Autriche'!D11 -> LASK Linz | AE7: =VLOOKUP(TRIM(AD7)&" ",Q$4:Z$27,10,0) -> 1 | AF7: =AC7+AE7 -> 2 | AG7: =IF(AF7<2,"",IF(AF7=2,"0.5",IF(AF7=3,"1",IF(AF7=4,"1.5",IF(AF7=5,"2",IF(AF7=6,"2.5",IF(AF7=7,"3",IF(AF7=8,"3.5")))))))) -> 0.5
A8: Austria Wien | B8: 6 | C8: 3.83 | D8: 1 | E8: 1 | F8: 0.83 | G8: 0.67 | H8: 0.17 | I8: 0.17 | J8: 0 | K8: 0.83 | L8: 0 | M8: 0.17 | N8: 0 | O8: 0.17 | Q8: =A8 -> Austria Wien | R8: =IF(D8<$Q$1,"No Bet","Bet") -> Bet | S8: =IF(E8<$Q$1,"No Bet","Bet") -> Bet | T8: =IF(F8<$Q$1,"No Bet","Bet") -> No Bet | U8: =IF(G8<$Q$1,"No Bet","Bet") -> No Bet | V8: =IF(R8="bet",1,0) -> 1 | W8: =IF(S8="bet",1,0) -> 1 | X8: =IF(T8="bet",1,0) -> 0 | Y8: =IF(U8="bet",1,0) -> 0 | Z8: =SUM(V8:Y8) -> 2 | AB8: ='Matchs Autriche'!D14 -> Altach | AC8: =VLOOKUP(TRIM(AB8)&" ",Q$4:Z$27,10,0) -> 2 | AD8: ='Matchs Autriche'!D15 -> St. Poelten | AE8: =VLOOKUP(TRIM(AD8)&" ",Q$4:Z$27,10,0) -> 1 | AF8: =AC8+AE8 -> 3 | AG8: =IF(AF8<2,"",IF(AF8=2,"0.5",IF(AF8=3,"1",IF(AF8=4,"1.5",IF(AF8=5,"2",IF(AF8=6,"2.5",IF(AF8=7,"3",IF(AF8=8,"3.5")))))))) -> 1
A9: Hartberg | B9: 6 | C9: 3.83 | D9: 1 | E9: 0.83 | F9: 0.83 | G9: 0.67 | H9: 0.33 | I9: 0.17 | J9: 0 | K9: 0.83 | L9: 0.17 | M9: 0 | N9: 0.17 | O9: 0 | Q9: =A9 -> Hartberg | R9: =IF(D9<$Q$1,"No Bet","Bet") -> Bet | S9: =IF(E9<$Q$1,"No Bet","Bet") -> No Bet | T9: =IF(F9<$Q$1,"No Bet","Bet") -> No Bet | U9: =IF(G9<$Q$1,"No Bet","Bet") -> No Bet | V9: =IF(R9="bet",1,0) -> 1 | W9: =IF(S9="bet",1,0) -> 0 | X9: =IF(T9="bet",1,0) -> 0 | Y9: =IF(U9="bet",1,0) -> 0 | Z9: =SUM(V9:Y9) -> 1 | AB9: ='Matchs Autriche'!D17 -> Rapid Wien | AC9: =VLOOKUP(TRIM(AB9)&" ",Q$4:Z$27,10,0) -> 1 | AD9: ='Matchs Autriche'!D18 -> Admira Wacker | AE9: =VLOOKUP(TRIM(AD9)&" ",Q$4:Z$27,10,0) -> 1 | AF9: =AC9+AE9 -> 2 | AG9: =IF(AF9<2,"",IF(AF9=2,"0.5",IF(AF9=3,"1",IF(AF9=4,"1.5",IF(AF9=5,"2",IF(AF9=6,"2.5",IF(AF9=7,"3",IF(AF9=8,"3.5")))))))) -> 0.5
A10: WSG Wattens | B10: 6 | C10: 3.5 | D10: 1 | E10: 1 | F10: 0.5 | G10: 0.5 | H10: 0.33 | I10: 0.17 | J10: 0 | K10: 0.83 | L10: 0 | M10: 0.17 | N10: 0 | O10: 0.17 | Q10: =A10 -> WSG Wattens | R10: =IF(D10<$Q$1,"No Bet","Bet") -> Bet | S10: =IF(E10<$Q$1,"No Bet","Bet") -> Bet | T10: =IF(F10<$Q$1,"No Bet","Bet") -> No Bet | U10: =IF(G10<$Q$1,"No Bet","Bet") -> No Bet | V10: =IF(R10="bet",1,0) -> 1 | W10: =IF(S10="bet",1,0) -> 1 | X10: =IF(T10="bet",1,0) -> 0 | Y10: =IF(U10="bet",1,0) -> 0 | Z10: =SUM(V10:Y10) -> 2 | AB10: ='Matchs Autriche'!D20 -> Wolfsberger AC | AC10: =VLOOKUP(TRIM(AB10)&" ",Q$4:Z$27,10,0) -> 1 | AD10: ='Matchs Autriche'!D21 -> Austria Wien | AE10: =VLOOKUP(TRIM(AD10)&" ",Q$4:Z$27,10,0) -> 2 | AF10: =AC10+AE10 -> 3 | AG10: =IF(AF10<2,"",IF(AF10=2,"0.5",IF(AF10=3,"1",IF(AF10=4,"1.5",IF(AF10=5,"2",IF(AF10=6,"2.5",IF(AF10=7,"3",IF(AF10=8,"3.5")))))))) -> 1
A11: Admira Wacker | B11: 6 | C11: 3.33 | D11: 1 | E11: 0.83 | F11: 0.67 | G11: 0.5 | H11: 0.33 | I11: 0 | J11: 0 | K11: 0.5 | L11: 0 | M11: 0.5 | N11: 0 | O11: 0.5 | Q11: =A11 -> Admira Wacker | R11: =IF(D11<$Q$1,"No Bet","Bet") -> Bet | S11: =IF(E11<$Q$1,"No Bet","Bet") -> No Bet | T11: =IF(F11<$Q$1,"No Bet","Bet") -> No Bet | U11: =IF(G11<$Q$1,"No Bet","Bet") -> No Bet | V11: =IF(R11="bet",1,0) -> 1 | W11: =IF(S11="bet",1,0) -> 0 | X11: =IF(T11="bet",1,0) -> 0 | Y11: =IF(U11="bet",1,0) -> 0 | Z11: =SUM(V11:Y11) -> 1
A12: St. Poelten | B12: 6 | C12: 3.33 | D12: 1 | E12: 0.83 | F12: 0.67 | G12: 0.5 | H12: 0.17 | I12: 0.17 | J12: 0 | K12: 0.5 | L12: 0.17 | M12: 0.33 | N12: 0.17 | O12: 0.33 | Q12: =A12 -> St. Poelten | R12: =IF(D12<$Q$1,"No Bet","Bet") -> Bet | S12: =IF(E12<$Q$1,"No Bet","Bet") -> No Bet | T12: =IF(F12<$Q$1,"No Bet","Bet") -> No Bet | U12: =IF(G12<$Q$1,"No Bet","Bet") -> No Bet | V12: =IF(R12="bet",1,0) -> 1 | W12: =IF(S12="bet",1,0) -> 0 | X12: =IF(T12="bet",1,0) -> 0 | Y12: =IF(U12="bet",1,0) -> 0 | Z12: =SUM(V12:Y12) -> 1
A13: Rapid Wien | B13: 6 | C13: 2.83 | D13: 1 | E13: 0.83 | F13: 0.67 | G13: 0.33 | H13: 0 | I13: 0 | J13: 0 | K13: 0.67 | L13: 0.17 | M13: 0.17 | N13: 0.17 | O13: 0.17 | Q13: =A13 -> Rapid Wien | R13: =IF(D13<$Q$1,"No Bet","Bet") -> Bet | S13: =IF(E13<$Q$1,"No Bet","Bet") -> No Bet | T13: =IF(F13<$Q$1,"No Bet","Bet") -> No Bet | U13: =IF(G13<$Q$1,"No Bet","Bet") -> No Bet | V13: =IF(R13="bet",1,0) -> 1 | W13: =IF(S13="bet",1,0) -> 0 | X13: =IF(T13="bet",1,0) -> 0 | Y13: =IF(U13="bet",1,0) -> 0 | Z13: =SUM(V13:Y13) -> 1
A14: LASK Linz | B14: 6 | C14: 2 | D14: 1 | E14: 0.67 | F14: 0.33 | G14: 0 | H14: 0 | I14: 0 | J14: 0 | K14: 0.33 | L14: 0.5 | M14: 0.17 | N14: 0.5 | O14: 0.17 | Q14: =A14 -> LASK Linz | R14: =IF(D14<$Q$1,"No Bet","Bet") -> Bet | S14: =IF(E14<$Q$1,"No Bet","Bet") -> No Bet | T14: =IF(F14<$Q$1,"No Bet","Bet") -> No Bet | U14: =IF(G14<$Q$1,"No Bet","Bet") -> No Bet | V14: =IF(R14="bet",1,0) -> 1 | W14: =IF(S14="bet",1,0) -> 0 | X14: =IF(T14="bet",1,0) -> 0 | Y14: =IF(U14="bet",1,0) -> 0 | Z14: =SUM(V14:Y14) -> 1
A15: Sturm Graz | B15: 6 | C15: 1.83 | D15: 1 | E15: 0.5 | F15: 0.33 | G15: 0 | H15: 0 | I15: 0 | J15: 0 | K15: 0.17 | L15: 0.5 | M15: 0.33 | N15: 0.5 | O15: 0.33 | Q15: =A15 -> Sturm Graz | R15: =IF(D15<$Q$1,"No Bet","Bet") -> Bet | S15: =IF(E15<$Q$1,"No Bet","Bet") -> No Bet | T15: =IF(F15<$Q$1,"No Bet","Bet") -> No Bet | U15: =IF(G15<$Q$1,"No Bet","Bet") -> No Bet | V15: =IF(R15="bet",1,0) -> 1 | W15: =IF(S15="bet",1,0) -> 0 | X15: =IF(T15="bet",1,0) -> 0 | Y15: =IF(U15="bet",1,0) -> 0 | Z15: =SUM(V15:Y15) -> 1
A17: League average | D17: 1 | E17: 0.833 | F17: 0.667 | G17: 0.472 | H17: 0.306 | I17: 0.167 | J17: 0.056 | K17: 0.583 | L17: 0.208 | M17: 0.208 | N17: 0.208 | O17: 0.208
A18: Home matches of... | B18: GP | C18: Avg | D18: 0.5+ | E18: 1.5+ | F18: 2.5+ | G18: 3.5+ | H18: 4.5+ | I18: 5.5+ | J18: 6.5+ | K18: BTS | L18: CS | M18: FTS | N18: WTN | O18: LTN | R18: 0.5 | S18: 1.5 | T18: 2.5 | U18: 3.5
B19: Salzburg | C19: 3 | D19: 5.67 | E19: 1 | F19: 1 | G19: 1 | H19: 1 | I19: 1 | J19: 0.33 | K19: 0.33 | L19: 0.67 | M19: 0.33 | N19: 0 | O19: 0.33 | P19: 0 | R19: =IF(E19<$Q$1,"No Bet","Bet") -> Bet | S19: =IF(F19<$Q$1,"No Bet","Bet") -> Bet | T19: =IF(G19<$Q$1,"No Bet","Bet") -> Bet | U19: =IF(H19<$Q$1,"No Bet","Bet") -> Bet
A20: Altach | B20: 3 | C20: 4.67 | D20: 1 | E20: 1 | F20: 1 | G20: 0.67 | H20: 0.67 | I20: 0.33 | J20: 0 | K20: 1 | L20: 0 | M20: 0 | N20: 0 | O20: 0 | R20: =IF(D20<$Q$1,"No Bet","Bet") -> Bet | S20: =IF(E20<$Q$1,"No Bet","Bet") -> Bet | T20: =IF(F20<$Q$1,"No Bet","Bet") -> Bet | U20: =IF(G20<$Q$1,"No Bet","Bet") -> No Bet
A21: St. Poelten | B21: 3 | C21: 4.67 | D21: 1 | E21: 1 | F21: 1 | G21: 1 | H21: 0.33 | I21: 0.33 | J21: 0 | K21: 0.67 | L21: 0 | M21: 0.33 | N21: 0 | O21: 0.33 | R21: =IF(D21<$Q$1,"No Bet","Bet") -> Bet | S21: =IF(E21<$Q$1,"No Bet","Bet") -> Bet | T21: =IF(F21<$Q$1,"No Bet","Bet") -> Bet | U21: =IF(G21<$Q$1,"No Bet","Bet") -> Bet
A22: Wolfsberger AC | B22: 3 | C22: 4.33 | D22: 1 | E22: 0.67 | F22: 0.67 | G22: 0.67 | H22: 0.67 | I22: 0.33 | J22: 0.33 | K22: 0.33 | L22: 0.33 | M22: 0.33 | N22: 0.33 | O22: 0.33 | R22: =IF(D22<$Q$1,"No Bet","Bet") -> Bet | S22: =IF(E22<$Q$1,"No Bet","Bet") -> No Bet | T22: =IF(F22<$Q$1,"No Bet","Bet") -> No Bet | U22: =IF(G22<$Q$1,"No Bet","Bet") -> No Bet
A23: WSG Wattens | B23: 3 | C23: 4 | D23: 1 | E23: 1 | F23: 0.67 | G23: 0.67 | H23: 0.33 | I23: 0.33 | J23: 0 | K23: 1 | L23: 0 | M23: 0 | N23: 0 | O23: 0 | R23: =IF(D23<$Q$1,"No Bet","Bet") -> Bet | S23: =IF(E23<$Q$1,"No Bet","Bet") -> Bet | T23: =IF(F23<$Q$1,"No Bet","Bet") -> No Bet | U23: =IF(G23<$Q$1,"No Bet","Bet") -> No Bet
A24: Hartberg | B24: 3 | C24: 3.33 | D24: 1 | E24: 0.67 | F24: 0.67 | G24: 0.67 | H24: 0.33 | I24: 0 | J24: 0 | K24: 0.67 | L24: 0.33 | M24: 0 | N24: 0.33 | O24: 0 | R24: =IF(D24<$Q$1,"No Bet","Bet") -> Bet | S24: =IF(E24<$Q$1,"No Bet","Bet") -> No Bet | T24: =IF(F24<$Q$1,"No Bet","Bet") -> No Bet | U24: =IF(G24<$Q$1,"No Bet","Bet") -> No Bet
A25: Mattersburg | B25: 3 | C25: 3.33 | D25: 1 | E25: 0.67 | F25: 0.67 | G25: 0.33 | H25: 0.33 | I25: 0.33 | J25: 0 | K25: 0.67 | L25: 0 | M25: 0.33 | N25: 0 | O25: 0.33 | R25: =IF(D25<$Q$1,"No Bet","Bet") -> Bet | S25: =IF(E25<$Q$1,"No Bet","Bet") -> No Bet | T25: =IF(F25<$Q$1,"No Bet","Bet") -> No Bet | U25: =IF(G25<$Q$1,"No Bet","Bet") -> No Bet
A26: Austria Wien | B26: 3 | C26: 3 | D26: 1 | E26: 1 | F26: 0.67 | G26: 0.33 | H26: 0 | I26: 0 | J26: 0 | K26: 0.67 | L26: 0 | M26: 0.33 | N26: 0 | O26: 0.33 | R26: =IF(D26<$Q$1,"No Bet","Bet") -> Bet | S26: =IF(E26<$Q$1,"No Bet","Bet") -> Bet | T26: =IF(F26<$Q$1,"No Bet","Bet") -> No Bet | U26: =IF(G26<$Q$1,"No Bet","Bet") -> No Bet
A27: Admira Wacker | B27: 3 | C27: 2.67 | D27: 1 | E27: 0.67 | F27: 0.67 | G27: 0.33 | H27: 0 | I27: 0 | J27: 0 | K27: 0.33 | L27: 0 | M27: 0.67 | N27: 0 | O27: 0.67 | R27: =IF(D27<$Q$1,"No Bet","Bet") -> Bet | S27: =IF(E27<$Q$1,"No Bet","Bet") -> No Bet | T27: =IF(F27<$Q$1,"No Bet","Bet") -> No Bet | U27: =IF(G27<$Q$1,"No Bet","Bet") -> No Bet
A28: Rapid Wien | B28: 3 | C28: 2.67 | D28: 1 | E28: 1 | F28: 0.67 | G28: 0 | H28: 0 | I28: 0 | J28: 0 | K28: 0.67 | L28: 0 | M28: 0.33 | N28: 0 | O28: 0.33 | R28: =IF(D28<$Q$1,"No Bet","Bet") -> Bet | S28: =IF(E28<$Q$1,"No Bet","Bet") -> Bet | T28: =IF(F28<$Q$1,"No Bet","Bet") -> No Bet | U28: =IF(G28<$Q$1,"No Bet","Bet") -> No Bet
A29: Sturm Graz | B29: 3 | C29: 2 | D29: 1 | E29: 0.67 | F29: 0.33 | G29: 0 | H29: 0 | I29: 0 | J29: 0 | K29: 0 | L29: 0.67 | M29: 0.33 | N29: 0.67 | O29: 0.33 | R29: =IF(D29<$Q$1,"No Bet","Bet") -> Bet | S29: =IF(E29<$Q$1,"No Bet","Bet") -> No Bet | T29: =IF(F29<$Q$1,"No Bet","Bet") -> No Bet | U29: =IF(G29<$Q$1,"No Bet","Bet") -> No Bet
A30: LASK Linz | B30: 3 | C30: 1.67 | D30: 1 | E30: 0.67 | F30: 0 | G30: 0 | H30: 0 | I30: 0 | J30: 0 | K30: 0.33 | L30: 0.33 | M30: 0.33 | N30: 0.33 | O30: 0.33 | R30: =IF(D30<$Q$1,"No Bet","Bet") -> Bet | S30: =IF(E30<$Q$1,"No Bet","Bet") -> No Bet | T30: =IF(F30<$Q$1,"No Bet","Bet") -> No Bet | U30: =IF(G30<$Q$1,"No Bet","Bet") -> No Bet
A32: League average | D32: 1 | E32: 0.833 | F32: 0.667 | G32: 0.472 | H32: 0.306 | I32: 0.167 | J32: 0.056 | K32: 0.583 | L32: 0.167 | M32: 0.25 | N32: 0.167 | O32: 0.25
A33: Away matches of... | B33: GP | C33: Avg | D33: 0.5+ | E33: 1.5+ | F33: 2.5+ | G33: 3.5+ | H33: 4.5+ | I33: 5.5+ | J33: 6.5+ | K33: BTS | L33: CS | M33: FTS | N33: WTN | O33: LTN | R33: 0.5 | S33: 1.5 | T33: 2.5 | U33: 3.5
B34: Austria Wien | C34: 3 | D34: 4.67 | E34: 1 | F34: 1 | G34: 1 | H34: 1 | I34: 0.33 | J34: 0.33 | K34: 0 | L34: 1 | M34: 0 | N34: 0 | O34: 0 | P34: 0 | R34: =IF(E34<$Q$1,"No Bet","Bet") -> Bet | S34: =IF(F34<$Q$1,"No Bet","Bet") -> Bet | T34: =IF(G34<$Q$1,"No Bet","Bet") -> Bet | U34: =IF(H34<$Q$1,"No Bet","Bet") -> Bet
A35: Mattersburg | B35: 3 | C35: 4.67 | D35: 1 | E35: 1 | F35: 1 | G35: 1 | H35: 0.67 | I35: 0 | J35: 0 | K35: 0.67 | L35: 0 | M35: 0.33 | N35: 0 | O35: 0.33 | R35: =IF(D35<$Q$1,"No Bet","Bet") -> Bet | S35: =IF(E35<$Q$1,"No Bet","Bet") -> Bet | T35: =IF(F35<$Q$1,"No Bet","Bet") -> Bet | U35: =IF(G35<$Q$1,"No Bet","Bet") -> Bet
A36: Salzburg | B36: 3 | C36: 4.67 | D36: 1 | E36: 1 | F36: 0.67 | G36: 0.67 | H36: 0.67 | I36: 0.67 | J36: 0 | K36: 0.33 | L36: 0.67 | M36: 0 | N36: 0.67 | O36: 0 | R36: =IF(D36<$Q$1,"No Bet","Bet") -> Bet | S36: =IF(E36<$Q$1,"No Bet","Bet") -> Bet | T36: =IF(F36<$Q$1,"No Bet","Bet") -> No Bet | U36: =IF(G36<$Q$1,"No Bet","Bet") -> No Bet
A37: Hartberg | B37: 3 | C37: 4.33 | D37: 1 | E37: 1 | F37: 1 | G37: 0.67 | H37: 0.33 | I37: 0.33 | J37: 0 | K37: 1 | L37: 0 | M37: 0 | N37: 0 | O37: 0 | R37: =IF(D37<$Q$1,"No Bet","Bet") -> Bet | S37: =IF(E37<$Q$1,"No Bet","Bet") -> Bet | T37: =IF(F37<$Q$1,"No Bet","Bet") -> Bet | U37: =IF(G37<$Q$1,"No Bet","Bet") -> No Bet
A38: Admira Wacker | B38: 3 | C38: 4 | D38: 1 | E38: 1 | F38: 0.67 | G38: 0.67 | H38: 0.67 | I38: 0 | J38: 0 | K38: 0.67 | L38: 0 | M38: 0.33 | N38: 0 | O38: 0.33 | R38: =IF(D38<$Q$1,"No Bet","Bet") -> Bet | S38: =IF(E38<$Q$1,"No Bet","Bet") -> Bet | T38: =IF(F38<$Q$1,"No Bet","Bet") -> No Bet | U38: =IF(G38<$Q$1,"No Bet","Bet") -> No Bet
A39: Altach | B39: 3 | C39: 4 | D39: 1 | E39: 1 | F39: 0.67 | G39: 0.33 | H39: 0.33 | I39: 0.33 | J39: 0.33 | K39: 0.67 | L39: 0 | M39: 0.33 | N39: 0 | O39: 0.33 | R39: =IF(D39<$Q$1,"No Bet","Bet") -> Bet | S39: =IF(E39<$Q$1,"No Bet","Bet") -> Bet | T39: =IF(F39<$Q$1,"No Bet","Bet") -> No Bet | U39: =IF(G39<$Q$1,"No Bet","Bet") -> No Bet
A40: Wolfsberger AC | B40: 3 | C40: 3.67 | D40: 1 | E40: 0.67 | F40: 0.67 | G40: 0.33 | H40: 0.33 | I40: 0.33 | J40: 0.33 | K40: 0.33 | L40: 0.67 | M40: 0 | N40: 0.67 | O40: 0 | R40: =IF(D40<$Q$1,"No Bet","Bet") -> Bet | S40: =IF(E40<$Q$1,"No Bet","Bet") -> No Bet | T40: =IF(F40<$Q$1,"No Bet","Bet") -> No Bet | U40: =IF(G40<$Q$1,"No Bet","Bet") -> No Bet
A41: Rapid Wien | B41: 3 | C41: 3 | D41: 1 | E41: 0.67 | F41: 0.67 | G41: 0.67 | H41: 0 | I41: 0 | J41: 0 | K41: 0.67 | L41: 0.33 | M41: 0 | N41: 0.33 | O41: 0 | R41: =IF(D41<$Q$1,"No Bet","Bet") -> Bet | S41: =IF(E41<$Q$1,"No Bet","Bet") -> No Bet | T41: =IF(F41<$Q$1,"No Bet","Bet") -> No Bet | U41: =IF(G41<$Q$1,"No Bet","Bet") -> No Bet
A42: WSG Wattens | B42: 3 | C42: 3 | D42: 1 | E42: 1 | F42: 0.33 | G42: 0.33 | H42: 0.33 | I42: 0 | J42: 0 | K42: 0.67 | L42: 0 | M42: 0.33 | N42: 0 | O42: 0.33 | R42: =IF(D42<$Q$1,"No Bet","Bet") -> Bet | S42: =IF(E42<$Q$1,"No Bet","Bet") -> Bet | T42: =IF(F42<$Q$1,"No Bet","Bet") -> No Bet | U42: =IF(G42<$Q$1,"No Bet","Bet") -> No Bet
A43: LASK Linz | B43: 3 | C43: 2.33 | D43: 1 | E43: 0.67 | F43: 0.67 | G43: 0 | H43: 0 | I43: 0 | J43: 0 | K43: 0.33 | L43: 0.67 | M43: 0 | N43: 0.67 | O43: 0 | R43: =IF(D43<$Q$1,"No Bet","Bet") -> Bet | S43: =IF(E43<$Q$1,"No Bet","Bet") -> No Bet | T43: =IF(F43<$Q$1,"No Bet","Bet") -> No Bet | U43: =IF(G43<$Q$1,"No Bet","Bet") -> No Bet
...

Sheet Matchs Australie

Sheet Australie
A1: Over / Under (total goals) | Q1: 0.85
A3: Matches of... | B3: Pld | C3: Avg | D3: 0.5+ | E3: 1.5+ | F3: 2.5+ | G3: 3.5+ | H3: 4.5+ | I3: 5.5+ | J3: 6.5+ | K3: BTS | L3: CS | M3: FTS | N3: WTN | O3: LTN | R3: 0.5 | S3: 1.5 | T3: 2.5 | U3: 3.5 | AB3: Colonne1 | AC3: Colonne2 | AD3: Colonne3 | AE3: Colonne4 | AF3: Colonne5 | AG3: Colonne6
B4: Brisbane Roar | C4: 27 | D4: 4.04 | E4: 0.96 | F4: 0.93 | G4: 0.78 | H4: 0.56 | I4: 0.37 | J4: 0.22 | K4: 0.15 | L4: 0.78 | M4: 0.07 | N4: 0.19 | O4: 0.04 | P4: 0.15 | Q4: =B4 -> Brisbane Roar | R4: =IF(E4<$Q$1,"No Bet","Bet") -> Bet | S4: =IF(F4<$Q$1,"No Bet","Bet") -> Bet | T4: =IF(G4<$Q$1,"No Bet","Bet") -> No Bet | U4: =IF(H4<$Q$1,"No Bet","Bet") -> No Bet | V4: =IF(R4="bet",1,0) -> 1 | W4: =IF(S4="bet",1,0) -> 1 | X4: =IF(T4="bet",1,0) -> 0 | Y4: =IF(U4="bet",1,0) -> 0 | Z4: =SUM(V4:Y4) -> 2 | AG4: BET
A5: Central Coast | B5: 27 | C5: 3.74 | D5: 1 | E5: 0.93 | F5: 0.67 | G5: 0.41 | H5: 0.37 | I5: 0.11 | J5: 0.11 | K5: 0.7 | L5: 0 | M5: 0.3 | N5: 0 | O5: 0.3 | Q5: =A5 -> Central Coast | R5: =IF(D5<$Q$1,"No Bet","Bet") -> Bet | S5: =IF(E5<$Q$1,"No Bet","Bet") -> Bet | T5: =IF(F5<$Q$1,"No Bet","Bet") -> No Bet | U5: =IF(G5<$Q$1,"No Bet","Bet") -> No Bet | V5: =IF(R5="bet",1,0) -> 1 | W5: =IF(S5="bet",1,0) -> 1 | X5: =IF(T5="bet",1,0) -> 0 | Y5: =IF(U5="bet",1,0) -> 0 | Z5: =SUM(V5:Y5) -> 2 | AB5: ='Matchs Autriche'!D4 -> Mattersburg | AC5: =VLOOKUP(TRIM(AB5)&" ",Q$4:Z$27,10,0) -> #N/A | AD5: ='Matchs Autriche'!D5 -> WSG Wattens | AE5: =VLOOKUP(TRIM(AD5)&" ",Q$4:Z$27,10,0) -> #N/A | AF5: =AC5+AE5 -> #N/A | AG5: =IF(AF5<2,"",IF(AF5=2,"0.5",IF(AF5=3,"1",IF(AF5=4,"1.5",IF(AF5=5,"2",IF(AF5=6,"2.5",IF(AF5=7,"3",IF(AF5=8,"3.5")))))))) -> #N/A
A6: Western Sydney | B6: 27 | C6: 3.56 | D6: 1 | E6: 0.96 | F6: 0.67 | G6: 0.52 | H6: 0.22 | I6: 0.11 | J6: 0.07 | K6: 0.67 | L6: 0.15 | M6: 0.19 | N6: 0.15 | O6: 0.19 | Q6: =A6 -> Western Sydney | R6: =IF(D6<$Q$1,"No Bet","Bet") -> Bet | S6: =IF(E6<$Q$1,"No Bet","Bet") -> Bet | T6: =IF(F6<$Q$1,"No Bet","Bet") -> No Bet | U6: =IF(G6<$Q$1,"No Bet","Bet") -> No Bet | V6: =IF(R6="bet",1,0) -> 1 | W6: =IF(S6="bet",1,0) -> 1 | X6: =IF(T6="bet",1,0) -> 0 | Y6: =IF(U6="bet",1,0) -> 0 | Z6: =SUM(V6:Y6) -> 2 | AB6: ='Matchs Autriche'!D7 -> Salzburg | AC6: =VLOOKUP(TRIM(AB6)&" ",Q$4:Z$27,10,0) -> #N/A | AD6: ='Matchs Autriche'!D8 -> Hartberg | AE6: =VLOOKUP(TRIM(AD6)&" ",Q$4:Z$27,10,0) -> #N/A | AF6: =AC6+AE6 -> #N/A | AG6: =IF(AF6<2,"",IF(AF6=2,"0.5",IF(AF6=3,"1",IF(AF6=4,"1.5",IF(AF6=5,"2",IF(AF6=6,"2.5",IF(AF6=7,"3",IF(AF6=8,"3.5")))))))) -> #N/A
A7: Wellington | B7: 27 | C7: 3.3 | D7: 0.93 | E7: 0.81 | F7: 0.59 | G7: 0.44 | H7: 0.3 | I7: 0.07 | J7: 0.04 | K7: 0.63 | L7: 0.15 | M7: 0.3 | N7: 0.07 | O7: 0.22 | Q7: =A7 -> Wellington | R7: =IF(D7<$Q$1,"No Bet","Bet") -> Bet | S7: =IF(E7<$Q$1,"No Bet","Bet") -> No Bet | T7: =IF(F7<$Q$1,"No Bet","Bet") -> No Bet | U7: =IF(G7<$Q$1,"No Bet","Bet") -> No Bet | V7: =IF(R7="bet",1,0) -> 1 | W7: =IF(S7="bet",1,0) -> 0 | X7: =IF(T7="bet",1,0) -> 0 | Y7: =IF(U7="bet",1,0) -> 0 | Z7: =SUM(V7:Y7) -> 1 | AB7: ='Matchs Autriche'!D10 -> Sturm Graz | AC7: =VLOOKUP(TRIM(AB7)&" ",Q$4:Z$27,10,0) -> #N/A | AD7: ='Matchs Autriche'!D11 -> LASK Linz | AE7: =VLOOKUP(TRIM(AD7)&" ",Q$4:Z$27,10,0) -> #N/A | AF7: =AC7+AE7 -> #N/A | AG7: =IF(AF7<2,"",IF(AF7=2,"0.5",IF(AF7=3,"1",IF(AF7=4,"1.5",IF(AF7=5,"2",IF(AF7=6,"2.5",IF(AF7=7,"3",IF(AF7=8,"3.5")))))))) -> #N/A
A8: Melbourne Vic. | B8: 27 | C8: 3.04 | D8: 1 | E8: 0.89 | F8: 0.59 | G8: 0.26 | H8: 0.22 | I8: 0.07 | J8: 0 | K8: 0.67 | L8: 0.22 | M8: 0.11 | N8: 0.22 | O8: 0.11 | Q8: =A8 -> Melbourne Vic. | R8: =IF(D8<$Q$1,"No Bet","Bet") -> Bet | S8: =IF(E8<$Q$1,"No Bet","Bet") -> Bet | T8: =IF(F8<$Q$1,"No Bet","Bet") -> No Bet | U8: =IF(G8<$Q$1,"No Bet","Bet") -> No Bet | V8: =IF(R8="bet",1,0) -> 1 | W8: =IF(S8="bet",1,0) -> 1 | X8: =IF(T8="bet",1,0) -> 0 | Y8: =IF(U8="bet",1,0) -> 0 | Z8: =SUM(V8:Y8) -> 2 | AB8: ='Matchs Autriche'!D8 -> Hartberg | AC8: =VLOOKUP(TRIM(AB8)&" ",Q$4:Z$27,10,0) -> #N/A | AD8: ='Matchs Autriche'!D11 -> LASK Linz | AE8: =VLOOKUP(TRIM(AD8)&" ",Q$4:Z$27,10,0) -> #N/A | AF8: =AC8+AE8 -> #N/A | AG8: =IF(AF8<2,"",IF(AF8=2,"0.5",IF(AF8=3,"1",IF(AF8=4,"1.5",IF(AF8=5,"2",IF(AF8=6,"2.5",IF(AF8=7,"3",IF(AF8=8,"3.5")))))))) -> #N/A
A9: Perth Glory | B9: 27 | C9: 2.93 | D9: 0.93 | E9: 0.81 | F9: 0.52 | G9: 0.33 | H9: 0.22 | I9: 0.07 | J9: 0.04 | K9: 0.48 | L9: 0.44 | M9: 0.15 | N9: 0.37 | O9: 0.07 | Q9: =A9 -> Perth Glory | R9: =IF(D9<$Q$1,"No Bet","Bet") -> Bet | S9: =IF(E9<$Q$1,"No Bet","Bet") -> No Bet | T9: =IF(F9<$Q$1,"No Bet","Bet") -> No Bet | U9: =IF(G9<$Q$1,"No Bet","Bet") -> No Bet | V9: =IF(R9="bet",1,0) -> 1 | W9: =IF(S9="bet",1,0) -> 0 | X9: =IF(T9="bet",1,0) -> 0 | Y9: =IF(U9="bet",1,0) -> 0 | Z9: =SUM(V9:Y9) -> 1 | AB9: ='Matchs Autriche'!D14 -> Altach | AC9: =VLOOKUP(TRIM(AB9)&" ",Q$4:Z$27,10,0) -> #N/A | AD9: ='Matchs Autriche'!D15 -> St. Poelten | AE9: =VLOOKUP(TRIM(AD9)&" ",Q$4:Z$27,10,0) -> #N/A | AF9: =AC9+AE9 -> #N/A | AG9: =IF(AF9<2,"",IF(AF9=2,"0.5",IF(AF9=3,"1",IF(AF9=4,"1.5",IF(AF9=5,"2",IF(AF9=6,"2.5",IF(AF9=7,"3",IF(AF9=8,"3.5")))))))) -> #N/A
A10: Newcastle Jets | B10: 27 | C10: 2.81 | D10: 0.96 | E10: 0.81 | F10: 0.48 | G10: 0.26 | H10: 0.19 | I10: 0.07 | J10: 0.04 | K10: 0.56 | L10: 0.22 | M10: 0.26 | N10: 0.19 | O10: 0.22 | Q10: =A10 -> Newcastle Jets | R10: =IF(D10<$Q$1,"No Bet","Bet") -> Bet | S10: =IF(E10<$Q$1,"No Bet","Bet") -> No Bet | T10: =IF(F10<$Q$1,"No Bet","Bet") -> No Bet | U10: =IF(G10<$Q$1,"No Bet","Bet") -> No Bet | V10: =IF(R10="bet",1,0) -> 1 | W10: =IF(S10="bet",1,0) -> 0 | X10: =IF(T10="bet",1,0) -> 0 | Y10: =IF(U10="bet",1,0) -> 0 | Z10: =SUM(V10:Y10) -> 1 | AB10: ='Matchs Autriche'!D17 -> Rapid Wien | AC10: =VLOOKUP(TRIM(AB10)&" ",Q$4:Z$27,10,0) -> #N/A | AD10: ='Matchs Autriche'!D18 -> Admira Wacker | AE10: =VLOOKUP(TRIM(AD10)&" ",Q$4:Z$27,10,0) -> #N/A | AF10: =AC10+AE10 -> #N/A | AG10: =IF(AF10<2,"",IF(AF10=2,"0.5",IF(AF10=3,"1",IF(AF10=4,"1.5",IF(AF10=5,"2",IF(AF10=6,"2.5",IF(AF10=7,"3",IF(AF10=8,"3.5")))))))) -> #N/A
A11: Sydney FC | B11: 27 | C11: 2.67 | D11: 1 | E11: 0.85 | F11: 0.52 | G11: 0.19 | H11: 0.04 | I11: 0.04 | J11: 0.04 | K11: 0.63 | L11: 0.3 | M11: 0.07 | N11: 0.3 | O11: 0.07 | Q11: =A11 -> Sydney FC | R11: =IF(D11<$Q$1,"No Bet","Bet") -> Bet | S11: =IF(E11<$Q$1,"No Bet","Bet") -> Bet | T11: =IF(F11<$Q$1,"No Bet","Bet") -> No Bet | U11: =IF(G11<$Q$1,"No Bet","Bet") -> No Bet | V11: =IF(R11="bet",1,0) -> 1 | W11: =IF(S11="bet",1,0) -> 1 | X11: =IF(T11="bet",1,0) -> 0 | Y11: =IF(U11="bet",1,0) -> 0 | Z11: =SUM(V11:Y11) -> 2 | AB11: ='Matchs Autriche'!D20 -> Wolfsberger AC | AC11: =VLOOKUP(TRIM(AB11)&" ",Q$4:Z$27,10,0) -> #N/A | AD11: ='Matchs Autriche'!D21 -> Austria Wien | AE11: =VLOOKUP(TRIM(AD11)&" ",Q$4:Z$27,10,0) -> #N/A | AF11: =AC11+AE11 -> #N/A | AG11: =IF(AF11<2,"",IF(AF11=2,"0.5",IF(AF11=3,"1",IF(AF11=4,"1.5",IF(AF11=5,"2",IF(AF11=6,"2.5",IF(AF11=7,"3",IF(AF11=8,"3.5")))))))) -> #N/A
A12: Melbourne City | B12: 27 | C12: 2.63 | D12: 0.93 | E12: 0.81 | F12: 0.44 | G12: 0.22 | H12: 0.15 | I12: 0.04 | J12: 0.04 | K12: 0.44 | L12: 0.33 | M12: 0.3 | N12: 0.26 | O12: 0.22 | Q12: =A12 -> Melbourne City | R12: =IF(D12<$Q$1,"No Bet","Bet") -> Bet | S12: =IF(E12<$Q$1,"No Bet","Bet") -> No Bet | T12: =IF(F12<$Q$1,"No Bet","Bet") -> No Bet | U12: =IF(G12<$Q$1,"No Bet","Bet") -> No Bet | V12: =IF(R12="bet",1,0) -> 1 | W12: =IF(S12="bet",1,0) -> 0 | X12: =IF(T12="bet",1,0) -> 0 | Y12: =IF(U12="bet",1,0) -> 0 | Z12: =SUM(V12:Y12) -> 1
A13: Adelaide Utd | B13: 27 | C13: 2.56 | D13: 0.85 | E13: 0.78 | F13: 0.44 | G13: 0.22 | H13: 0.07 | I13: 0.07 | J13: 0.07 | K13: 0.52 | L13: 0.3 | M13: 0.33 | N13: 0.15 | O13: 0.19 | Q13: =A13 -> Adelaide Utd | R13: =IF(D13<$Q$1,"No Bet","Bet") -> Bet | S13: =IF(E13<$Q$1,"No Bet","Bet") -> No Bet | T13: =IF(F13<$Q$1,"No Bet","Bet") -> No Bet | U13: =IF(G13<$Q$1,"No Bet","Bet") -> No Bet | V13: =IF(R13="bet",1,0) -> 1 | W13: =IF(S13="bet",1,0) -> 0 | X13: =IF(T13="bet",1,0) -> 0 | Y13: =IF(U13="bet",1,0) -> 0 | Z13: =SUM(V13:Y13) -> 1
A15: League average | D15: 0.956 | E15: 0.859 | F15: 0.57 | G15: 0.341 | H15: 0.215 | I15: 0.089 | J15: 0.059 | K15: 0.607 | L15: 0.219 | M15: 0.219 | N15: 0.174 | O15: 0.174
A16: Home matches of... | B16: Pld | C16: Avg | D16: 0.5+ | E16: 1.5+ | F16: 2.5+ | G16: 3.5+ | H16: 4.5+ | I16: 5.5+ | J16: 6.5+ | K16: BTS | L16: CS | M16: FTS | N16: WTN | O16: LTN | R16: 0.5 | S16: 1.5 | T16: 2.5 | U16: 3.5
B17: Brisbane Roar | C17: 13 | D17: 4.23 | E17: 0.92 | F17: 0.92 | G17: 0.77 | H17: 0.62 | I17: 0.46 | J17: 0.31 | K17: 0.15 | L17: 0.77 | M17: 0.15 | N17: 0.15 | O17: 0.08 | P17: 0.08 | R17: =IF(E17<$Q$1,"No Bet","Bet") -> Bet | S17: =IF(F17<$Q$1,"No Bet","Bet") -> Bet | T17: =IF(G17<$Q$1,"No Bet","Bet") -> No Bet | U17: =IF(H17<$Q$1,"No Bet","Bet") -> No Bet
A18: Central Coast | B18: 13 | C18: 4 | D18: 1 | E18: 0.92 | F18: 0.77 | G18: 0.38 | H18: 0.31 | I18: 0.15 | J18: 0.15 | K18: 0.77 | L18: 0 | M18: 0.23 | N18: 0 | O18: 0.23 | R18: =IF(D18<$Q$1,"No Bet","Bet") -> Bet | S18: =IF(E18<$Q$1,"No Bet","Bet") -> Bet | T18: =IF(F18<$Q$1,"No Bet","Bet") -> No Bet | U18: =IF(G18<$Q$1,"No Bet","Bet") -> No Bet
A19: Melbourne Vic. | B19: 14 | C19: 3.29 | D19: 1 | E19: 1 | F19: 0.71 | G19: 0.29 | H19: 0.21 | I19: 0.07 | J19: 0 | K19: 0.79 | L19: 0.14 | M19: 0.07 | N19: 0.14 | O19: 0.07 | R19: =IF(D19<$Q$1,"No Bet","Bet") -> Bet | S19: =IF(E19<$Q$1,"No Bet","Bet") -> Bet | T19: =IF(F19<$Q$1,"No Bet","Bet") -> No Bet | U19: =IF(G19<$Q$1,"No Bet","Bet") -> No Bet
A20: Wellington | B20: 14 | C20: 3.07 | D20: 1 | E20: 0.79 | F20: 0.57 | G20: 0.43 | H20: 0.29 | I20: 0 | J20: 0 | K20: 0.64 | L20: 0.14 | M20: 0.21 | N20: 0.14 | O20: 0.21 | R20: =IF(D20<$Q$1,"No Bet","Bet") -> Bet | S20: =IF(E20<$Q$1,"No Bet","Bet") -> No Bet | T20: =IF(F20<$Q$1,"No Bet","Bet") -> No Bet | U20: =IF(G20<$Q$1,"No Bet","Bet") -> No Bet
A21: Perth Glory | B21: 14 | C21: 3 | D21: 0.93 | E21: 0.79 | F21: 0.57 | G21: 0.36 | H21: 0.21 | I21: 0.07 | J21: 0.07 | K21: 0.43 | L21: 0.5 | M21: 0.14 | N21: 0.43 | O21: 0.07 | R21: =IF(D21<$Q$1,"No Bet","Bet") -> Bet | S21: =IF(E21<$Q$1,"No Bet","Bet") -> No Bet | T21: =IF(F21<$Q$1,"No Bet","Bet") -> No Bet | U21: =IF(G21<$Q$1,"No Bet","Bet") -> No Bet
A22: Western Sydney | B22: 14 | C22: 2.93 | D22: 1 | E22: 0.93 | F22: 0.5 | G22: 0.29 | H22: 0.14 | I22: 0.07 | J22: 0 | K22: 0.57 | L22: 0.21 | M22: 0.21 | N22: 0.21 | O22: 0.21 | R22: =IF(D22<$Q$1,"No Bet","Bet") -> Bet | S22: =IF(E22<$Q$1,"No Bet","Bet") -> Bet | T22: =IF(F22<$Q$1,"No Bet","Bet") -> No Bet | U22: =IF(G22<$Q$1,"No Bet","Bet") -> No Bet
A23: Melbourne City | B23: 13 | C23: 2.85 | D23: 0.85 | E23: 0.77 | F23: 0.54 | G23: 0.31 | H23: 0.23 | I23: 0.08 | J23: 0.08 | K23: 0.46 | L23: 0.46 | M23: 0.23 | N23: 0.31 | O23: 0.08 | R23: =IF(D23<$Q$1,"No Bet","Bet") -> Bet | S23: =IF(E23<$Q$1,"No Bet","Bet") -> No Bet | T23: =IF(F23<$Q$1,"No Bet","Bet") -> No Bet | U23: =IF(G23<$Q$1,"No Bet","Bet") -> No Bet
A24: Adelaide Utd | B24: 14 | C24: 2.71 | D24: 0.93 | E24: 0.86 | F24: 0.43 | G24: 0.29 | H24: 0.07 | I24: 0.07 | J24: 0.07 | K24: 0.57 | L24: 0.21 | M24: 0.29 | N24: 0.14 | O24: 0.21 | R24: =IF(D24<$Q$1,"No Bet","Bet") -> Bet | S24: =IF(E24<$Q$1,"No Bet","Bet") -> Bet | T24: =IF(F24<$Q$1,"No Bet","Bet") -> No Bet | U24: =IF(G24<$Q$1,"No Bet","Bet") -> No Bet
A25: Sydney FC | B25: 13 | C25: 2.69 | D25: 1 | E25: 0.85 | F25: 0.46 | G25: 0.15 | H25: 0.08 | I25: 0.08 | J25: 0.08 | K25: 0.54 | L25: 0.38 | M25: 0.08 | N25: 0.38 | O25: 0.08 | R25: =IF(D25<$Q$1,"No Bet","Bet") -> Bet | S25: =IF(E25<$Q$1,"No Bet","Bet") -> Bet | T25: =IF(F25<$Q$1,"No Bet","Bet") -> No Bet | U25: =IF(G25<$Q$1,"No Bet","Bet") -> No Bet
A26: Newcastle Jets | B26: 13 | C26: 2.54 | D26: 0.92 | E26: 0.77 | F26: 0.38 | G26: 0.31 | H26: 0.15 | I26: 0 | J26: 0 | K26: 0.54 | L26: 0.31 | M26: 0.23 | N26: 0.23 | O26: 0.15 | R26: =IF(D26<$Q$1,"No Bet","Bet") -> Bet | S26: =IF(E26<$Q$1,"No Bet","Bet") -> No Bet | T26: =IF(F26<$Q$1,"No Bet","Bet") -> No Bet | U26: =IF(G26<$Q$1,"No Bet","Bet") -> No Bet
A28: League average | D28: 0.956 | E28: 0.859 | F28: 0.57 | G28: 0.341 | H28: 0.215 | I28: 0.089 | J28: 0.059 | K28: 0.607 | L28: 0.252 | M28: 0.185 | N28: 0.207 | O28: 0.141
A29: Away matches of... | B29: Pld | C29: Avg | D29: 0.5+ | E29: 1.5+ | F29: 2.5+ | G29: 3.5+ | H29: 4.5+ | I29: 5.5+ | J29: 6.5+ | K29: BTS | L29: CS | M29: FTS | N29: WTN | O29: LTN | R29: 0.5 | S29: 1.5 | T29: 2.5 | U29: 3.5
B30: Western Sydney | C30: 13 | D30: 4.23 | E30: 1 | F30: 1 | G30: 0.85 | H30: 0.77 | I30: 0.31 | J30: 0.15 | K30: 0.15 | L30: 0.77 | M30: 0.08 | N30: 0.15 | O30: 0.08 | P30: 0.15 | R30: =IF(E30<$Q$1,"No Bet","Bet") -> Bet | S30: =IF(F30<$Q$1,"No Bet","Bet") -> Bet | T30: =IF(G30<$Q$1,"No Bet","Bet") -> Bet | U30: =IF(H30<$Q$1,"No Bet","Bet") -> No Bet
A31: Brisbane Roar | B31: 14 | C31: 3.86 | D31: 1 | E31: 0.93 | F31: 0.79 | G31: 0.5 | H31: 0.29 | I31: 0.14 | J31: 0.14 | K31: 0.79 | L31: 0 | M31: 0.21 | N31: 0 | O31: 0.21 | R31: =IF(D31<$Q$1,"No Bet","Bet") -> Bet | S31: =IF(E31<$Q$1,"No Bet","Bet") -> Bet | T31: =IF(F31<$Q$1,"No Bet","Bet") -> No Bet | U31: =IF(G31<$Q$1,"No Bet","Bet") -> No Bet
A32: Wellington | B32: 13 | C32: 3.54 | D32: 0.85 | E32: 0.85 | F32: 0.62 | G32: 0.46 | H32: 0.31 | I32: 0.15 | J32: 0.08 | K32: 0.62 | L32: 0.15 | M32: 0.38 | N32: 0 | O32: 0.23 | R32: =IF(D32<$Q$1,"No Bet","Bet") -> Bet | S32: =IF(E32<$Q$1,"No Bet","Bet") -> Bet | T32: =IF(F32<$Q$1,"No Bet","Bet") -> No Bet | U32: =IF(G32<$Q$1,"No Bet","Bet") -> No Bet
A33: Central Coast | B33: 14 | C33: 3.5 | D33: 1 | E33: 0.93 | F33: 0.57 | G33: 0.43 | H33: 0.43 | I33: 0.07 | J33: 0.07 | K33: 0.64 | L33: 0 | M33: 0.36 | N33: 0 | O33: 0.36 | R33: =IF(D33<$Q$1,"No Bet","Bet") -> Bet | S33: =IF(E33<$Q$1,"No Bet","Bet") -> Bet | T33: =IF(F33<$Q$1,"No Bet","Bet") -> No Bet | U33: =IF(G33<$Q$1,"No Bet","Bet") -> No Bet
A34: Newcastle Jets | B34: 14 | C34: 3.07 | D34: 1 | E34: 0.86 | F34: 0.57 | G34: 0.21 | H34: 0.21 | I34: 0.14 | J34: 0.07 | K34: 0.57 | L34: 0.14 | M34: 0.29 | N34: 0.14 | O34: 0.29 | R34: =IF(D34<$Q$1,"No Bet","Bet") -> Bet | S34: =IF(E34<$Q$1,"No Bet","Bet") -> Bet | T34: =IF(F34<$Q$1,"No Bet","Bet") -> No Bet | U34: =IF(G34<$Q$1,"No Bet","Bet") -> No Bet
A35: Perth Glory | B35: 13 | C35: 2.85 | D35: 0.92 | E35: 0.85 | F35: 0.46 | G35: 0.31 | H35: 0.23 | I35: 0.08 | J35: 0 | K35: 0.54 | L35: 0.38 | M35: 0.15 | N35: 0.31 | O35: 0.08 | R35: =IF(D35<$Q$1,"No Bet","Bet") -> Bet | S35: =IF(E35<$Q$1,"No Bet","Bet") -> Bet | T35: =IF(F35<$Q$1,"No Bet","Bet") -> No Bet | U35: =IF(G35<$Q$1,"No Bet","Bet") -> No Bet
A36: Melbourne Vic. | B36: 13 | C36: 2.77 | D36: 1 | E36: 0.77 | F36: 0.46 | G36: 0.23 | H36: 0.23 | I36: 0.08 | J36: 0 | K36: 0.54 | L36: 0.31 | M36: 0.15 | N36: 0.31 | O36: 0.15 | R36: =IF(D36<$Q$1,"No Bet","Bet") -> Bet | S36: =IF(E36<$Q$1,"No Bet","Bet") -> No Bet | T36: =IF(F36<$Q$1,"No Bet","Bet") -> No Bet | U36: =IF(G36<$Q$1,"No Bet","Bet") -> No Bet
A37: Sydney FC | B37: 14 | C37: 2.64 | D37: 1 | E37: 0.86 | F37: 0.57 | G37: 0.21 | H37: 0 | I37: 0 | J37: 0 | K37: 0.71 | L37: 0.21 | M37: 0.07 | N37: 0.21 | O37: 0.07 | R37: =IF(D37<$Q$1,"No Bet","Bet") -> Bet | S37: =IF(E37<$Q$1,"No Bet","Bet") -> Bet | T37: =IF(F37<$Q$1,"No Bet","Bet") -> No Bet | U37: =IF(G37<$Q$1,"No Bet","Bet") -> No Bet
A38: Melbourne City | B38: 14 | C38: 2.43 | D38: 1 | E38: 0.86 | F38: 0.36 | G38: 0.14 | H38: 0.07 | I38: 0 | J38: 0 | K38: 0.43 | L38: 0.21 | M38: 0.36 | N38: 0.21 | O38: 0.36 | R38: =IF(D38<$Q$1,"No Bet","Bet") -> Bet | S38: =IF(E38<$Q$1,"No Bet","Bet") -> Bet | T38: =IF(F38<$Q$1,"No Bet","Bet") -> No Bet | U38: =IF(G38<$Q$1,"No Bet","Bet") -> No Bet
