Workbook

Sheet Répartition salles
C2: Foyer Rives de Seine - Le Pont des Arts (0) | D2: FSABC - PABC | E2: FSABC | F2: PABC | H2: Foyer Rives de Seine | I2: Pont des Arts A | J2: Pont des Arts B | K2: Pont des Arts C | W2: Foyer Rives de Seine - Le Pont des Arts (0)
W3: Foyer Rives de Seine - Pont des Arts A & B (0)
W4: Foyer Rives de Seine (0)
W5: Foyer Rives de Seine+Le Pont des Arts (0)
W6: La Seine - Foyer La Seine (0)
C7: Foyer Rives de Seine - Pont des Arts A & B (0) | D7: FSABC - PAB | E7: FSABC | F7: PAB | H7: Foyer Rives de Seine | I7: Pont des Arts A | J7: Pont des Arts B | W7: La Seine - Le Pont des Arts - Foyer Rives de Seine (0)
W8: La Seine (0)
W9: La Seine + Extensions (0)
W10: La Seine A - Extensions (0)
W11: La Seine A & B - Extensions (0)
C12: Foyer Rives de Seine (0) | D12: FSABC | E12: FSABC | H12: Foyer Rives de Seine | W12: La Seine A & B (0)
W13: La Seine A (0)
W14: La Seine B & C - Extensions (0)
W15: La Seine B & C - Foyers Seine B & C (0)
W16: La Seine B & C - le Ponts des Arts - Foyer Rives de Seine (0)
C17: Foyer La Seine (0) | D17: FSABC | E17: FSABC | H17: Foyer Rives de Seine | W17: La Seine A & B (0)
W18: La Seine A (0)
W19: La Seine B & C - Extensions (0)
W20: La Seine B & C - Foyers Seine B & C (0)
W21: La Seine B & C - le Ponts des Arts - Foyer Rives de Seine (0)
C22: Foyer Rives de Seine+Le Pont des Arts (0) | D22: FSABC - PABC | E22: FSABC | F22: PABC | H22: Foyer Rives de Seine | I22: Pont des Arts A | J22: Pont des Arts B | K22: Pont des Arts C | W22: La Seine B & C (0)
W23: La Seine B & C + Foyer La Seine (0)
W24: La Seine B (0)
W25: La Seine C - Extensions (0)
W26: La Seine C - Foyer Rives de Seine (0)
C27: La Seine - Foyer La Seine (0) | D27: SFSABC | E27: SFSABC | H27: Seine A | I27: Seine B | J27: Seine C | K27: Foyer Rives de Seine | W27: La Seine C - Le Pont des Arts - Foyer Rives de Seine (0)
W28: La Seine C (0)
W29: Le Bar des Arts (0)
W30: Le pont de Sully (0)
W31: Le Pont de Sully A (0)
C32: La Seine - Le Pont des Arts - Foyer Rives de Seine (0) | D32: SABC - PABC - FSABC | E32: SABC | F32: PABC | G32: FSABC | H32: Seine A | I32: Seine B | J32: Seine C | K32: Pont des Arts A | L32: Pont des Arts B | M32: Pont des Arts C | N32: Foyer Rives de Seine | W32: Le Pont de Sully B (0)
W33: Le Pont des Arts (0)
W34: Le Pont des Arts + Extensions (0)
W35: Le Pont des Arts A - Foyer Les Rives de Seine (0)
W36: Le Pont des Arts A & B (0)
C37: La Seine (0) | D37: SABC | E37: SA | F37: SB | G37: SC | H37: Seine A | I37: Seine B | J37: Seine C | W37: Le Pont des Arts A (0)
W38: Le Pont des Arts A + Extensions (0)
W39: Le Pont des Arts B & C (0)
W40: Le Pont des Arts B (0)
W41: Le Pont des Arts C (0)
C42: La Seine + Extensions (0) | D42: SABCEXT | E42: SA | F42: SB | G42: SC | H42: Seine A | I42: Seine B | J42: Seine C | W42: Les Rives de Seine Level 0
C47: La Seine A - Extensions (0) | D47: SAEXT | E47: SAEXT | H47: Seine A
C52: La Seine A & B - Extensions (0) | D52: SAEXT - SBEXT | E52: SAEXT | F52: SBEXT | H52: Seine A | I52: Seine B
C57: La Seine A & B (0) | D57: SAB | E57: SA | F57: SB | H57: Seine A | I57: Seine B
C62: La Seine A (0) | D62: SA | E62: SA | H62: Seine A
C67: La Seine B & C - Extensions (0) | D67: SBCEXT | E67: SB | F67: SC | H67: Seine B | I67: Seine C
C72: La Seine B & C - Foyers Seine B & C (0) | D72: SBC - FSBC | E72: SB | F72: SC | G72: FSBC | H72: Seine B | I72: Seine C | J72: Foyer Rives de Seine
C77: La Seine B & C - le Ponts des Arts - Foyer Rives de Seine (0) | D77: SBC - PABC - FSABC | E77: SBC | F77: PABC | G77: FSABC | H77: Seine B | I77: Seine C | J77: Pont des Arts A | K77: Pont des Arts B | L77: Pont des Arts C | M77: Foyer Rives de Seine
C82: La Seine B & C (0) | D82: SBC | E82: SB | F82: SC | H82: Seine B | I82: Seine C
C87: La Seine B & C + Foyer La Seine (0) | D87: SBC - FSABC | E87: SB | F87: SC | G87: FSABC | H87: Seine B | I87: Seine C | J87: Foyer Rives de Seine
C92: La Seine B (0) | D92: SB | E92: SB | H92: Seine B
C97: La Seine C - Extensions (0) | D97: SCEXT | E97: SCEXT | H97: Seine C
C102: La Seine C - Foyer Rives de Seine (0) | D102: SC - FSABC | E102: SC | F102: FSABC | H102: Seine C | I102: Foyer Rives de Seine
C107: La Seine C - Le Pont des Arts - Foyer Rives de Seine (0) | D107: SC - PABC - FSABC | E107: SC | F107: PABC | G107: FSABC | H107: Seine C | I107: Pont des Arts A | J107: Pont des Arts B | K107: Pont des Arts C | L107: Foyer Rives de Seine
C112: La Seine C (0) | D112: SC | E112: SC | H112: Seine C
C117: Le Bar des Arts (0) | H117: Le Bar des Arts
C122: Le pont de Sully (0) | D122: PSAB | E122: PSA | F122: PSB | H122: Pont de Sully A | I122: Pont de Sully B
C127: Le Pont de Sully A (0) | D127: PSA | E127: PSA | H127: Pont de Sully A
C132: Le Pont de Sully B (0) | D132: PSB | E132: PSB | H132: Pont de Sully B
C137: Le Pont des Arts (0) | D137: PABC | E137: PA | F137: PB | G137: PC | H137: Pont des Arts A | I137: Pont des Arts B | J137: Pont des Arts C
C142: Le Pont des Arts + Extensions (0) | D142: PABCEXT | E142: PA | F142: PB | G142: PC | H142: Pont des Arts A
C147: Le Pont des Arts A - Foyer Les Rives de Seine (0) | D147: PA - FABC | E147: PA | F147: FABC | H147: Pont des Arts A
C152: Le Pont des Arts A & B (0) | D152: PAB | E152: PA | F152: PB | H152: Pont des Arts A | I152: Pont des Arts B
C157: Le Pont des Arts A (0) | D157: PA | E157: PA | H157: Pont des Arts A
C162: Le Pont des Arts A + Extensions (0) | D162: PAEXT | E162: PA | H162: Pont des Arts A
C167: Le Pont des Arts B & C (0) | D167: PBC | E167: PB | F167: PC | H167: Pont des Arts B | I167: Pont des Arts C
C172: Le Pont des Arts B (0) | D172: PB | E172: PB | H172: Pont des Arts B
C177: Le Pont des Arts C (0) | D177: PC | E177: PC | H177: Pont des Arts C
C182: Les Rives de Seine Level 0 | D182: LEVEL0 | E182: LEVEL0 | H182: Foyer Rives de Seine
C187: Auditorium (-1) | H187: Auditorium
C192: Charlie Parker (-1) | H192: Charlie Parker
C197: Duke Ellington (-1) | H197: Duke Ellington
C202: Ella Fitzgerald (-1) | H202: Ella Fitzgerald A | I202: Ella Fitzgerald B
C207: Ella Fitzgerald A (-1) | H207: Ella Fitzgerald A
C212: Ella Fitzgerald B (-1) | H212: Ella Fitzgerald B
C217: Foyer Auditorium - Charlie Parker - Louis Amstrong A & B (-1) | H217: Foyer Auditorium | I217: Charlie Parker | J217: Louis Armstrong A | K217: Louis Armstrong B
C222: Foyer Auditorium - Charlie Parker (-1) | H222: Foyer Auditorium | I222: Charlie Parker
C227: Foyer Auditorium (-1) | H227: Foyer Auditorium
C232: Foyer Jazz (-1) | H232: Foyer Jazz | I232: Duke Ellington
C237: Les Clubs de Jazz, level -1 | H237: Louis Armstrong A | I237: Louis Armstrong B | J237: Louis Armstrong C | K237: Louis Armstrong D | L237: Miles Davis A | M237: Miles Davis B | N237: Miles Davis C | O237: Ella Fitzgerald A | P237: Ella Fitzgerald B | Q237: Charlie Parker | R237: Duke Ellington
C242: Louis Armstrong - Ella Fitzgerald - Foyer Jazz (-1) | H242: Louis Armstrong A | I242: Louis Armstrong B | J242: Louis Armstrong C | K242: Louis Armstrong D | L242: Ella Fitzgerald A | M242: Ella Fitzgerald B | N242: Foyer Jazz | O242: Duke Ellington
C247: Louis Armstrong - Extensions (-1) | H247: Louis Armstrong A | I247: Louis Armstrong B | J247: Louis Armstrong C | K247: Louis Armstrong D
C252: Louis Armstrong & Ella Fitzgerald (-1) | H252: Louis Armstrong A | I252: Louis Armstrong B | J252: Louis Armstrong C | K252: Louis Armstrong D | L252: Ella Fitzgerald A | M252: Ella Fitzgerald B
C257: Louis Armstrong ( -1) | H257: Louis Armstrong A | I257: Louis Armstrong B | J257: Louis Armstrong C | K257: Louis Armstrong D
C262: Louis Armstrong A & B (-1) | H262: Louis Armstrong A | I262: Louis Armstrong B
C267: Louis Armstrong A & C (-1) | H267: Louis Armstrong A | I267: Louis Armstrong C
C272: Louis Armstrong A (-1) | H272: Louis Armstrong A
C277: Louis Armstrong B (-1) | H277: Louis Armstrong B
C282: Louis Armstrong C & D - Extensions (-1) | H282: Louis Armstrong C | I282: Louis Armstrong D
C287: Louis Armstrong C & D (-1) | H287: Louis Armstrong C | I287: Louis Armstrong D
C292: Louis Armstrong C (-1) | H292: Louis Armstrong C
C297: Louis Armstrong D (-1) | H297: Louis Armstrong D
C302: Miles Davis - Foyer Jazz (-1) | H302: Miles Davis A | I302: Miles Davis B | J302: Miles Davis C | K302: Foyer Jazz | L302: Duke Ellington
C307: Miles Davis (-1) | H307: Miles Davis A | I307: Miles Davis B | J307: Miles Davis C
C312: Miles Davis A & B (-1) | H312: Miles Davis A | I312: Miles Davis B
C317: Miles Davis A (-1) | H317: Miles Davis A
C322: Miles Davis B & C (-1) | H322: Miles Davis B | I322: Miles Davis C
C327: Miles Davis B (-1) | H327: Miles Davis B
C332: Miles Davis C (-1) | H332: Miles Davis C
C337: Foyer Rive Gauche (2) | H337: Foyer Rive Gauche
...

Sheet Formulas
A1: dom
B2: CAO | C2: Casino | E2: Extension La Seine B (0) | F2: Level 0 | I2: CAO | J2: Casino | K2: Level 0 - CAO | L2: catering | N2: Level 0 - BAC | O2: meeting | R2: salles non attribuées dans répartition | U2: Les Rives de Seine Level 0 | W2: Foyer Les Arts (0)
B3: COC | C3: Cocktail | E3: Extension La Seine C (0) | F3: Level 0 | I3: COC | J3: Cocktail reception | K3: Level 0 - COC | L3: catering | N3: Level 0 - BOA | O3: meeting | U3: Foyer Rives de Seine (0) | W3: Hall Congrès (0)
B4: COR | C4: Cocktail Rounds | E4: Foyer La Seine (0) | F4: Level 0 | I4: COR | J4: Cocktail Rounds | K4: Level 0 - COR | L4: catering | N4: Level 0 - BRK | O4: meeting | U4: Foyer La Seine (0) | W4: La Seine - Foyer La Seine (0)
B5: DIB | C5: Dinner Buffet | E5: Foyer La Seine A & B (0) | F5: Level 0 | I5: DIB | J5: Dinner Buffet | K5: Level 0 - DIB | L5: catering | N5: Level 0 - CER | O5: meeting | R5: Hotel | S5: Hotel | U5: Foyer La Seine A (0) | W5: La Seine - Le Pont des Arts - Foyer Rives de Seine (0)
B6: DID | C6: Dîner Dansant | E6: Foyer La Seine A (0) | F6: Level 0 | I6: DID | J6: Dîner Dansant | K6: Level 0 - DID | L6: catering | N6: Level 0 - CHG | O6: meeting | R6: Extension La Seine B (0) | S6: Level 0 | U6: Foyer La Seine B (0) | W6: La Seine (0)
B7: DIN | C7: Dinner | E7: Foyer La Seine B & C (0) | F7: Level 0 | I7: DIN | J7: Dinner | K7: Level 0 - DIN | L7: catering | N7: Level 0 - CLO | O7: meeting | R7: Extension La Seine C (0) | S7: Level 0 | U7: Foyer La Seine C (0) | W7: La Seine + Extensions (0)
B8: MED | C8: Meeting / Dinner | E8: Foyer La Seine C (0) | F8: Level 0 | I8: MED | J8: Meeting / Dinner | K8: Level 0 - MED | L8: catering | N8: Level 0 - COA | O8: meeting | R8: Foyer La Seine (0) | S8: Level 0 | U8: La Seine A (0) | W8: La Seine A - Extensions (0)
B9: MEL | C9: Meeting / Lunch | E9: Foyer Les Arts (0) | F9: Level 0 | I9: MEL | J9: Meeting / Lunch | K9: Level 0 - MEL | L9: catering | N9: Level 0 - DAN | O9: meeting | R9: Foyer La Seine A & B (0) | S9: Level 0 | U9: La Seine B (0) | W9: La Seine A - Foyer La Seine (0)
B10: RCR | C10: Recreation | E10: Foyer Rives de Seine - Le Pont des Arts (0) | F10: Level 0 | I10: RCR | J10: Recreation | K10: Level 0 - RCR | L10: catering | N10: Level 0 - EXH | O10: meeting | R10: Foyer La Seine A (0) | S10: Level 0 | U10: La Seine C (0) | W10: La Seine A - Foyers Seine A & B (0)
B11: REC | C11: Reception | E11: Foyer Rives de Seine - Pont des Arts A & B (0) | F11: Level 0 | I11: REC | J11: Reception | K11: Level 0 - REC | L11: catering | N11: Level 0 - FAS | O11: meeting | R11: Foyer La Seine B & C (0) | S11: Level 0 | U11: Le Pont de Sully A (0) | W11: La Seine A & B - Extensions (0)
B12: RED | C12: Reception - danse | E12: Foyer Rives de Seine (0) | F12: Level 0 | I12: RED | J12: Reception / Danse | K12: Level 0 - RED | L12: catering | N12: Level 0 - GEN | O12: meeting | R12: Foyer Les Arts (0) | S12: Level 0 | U12: Le Pont de Sully B (0) | W12: La Seine A & B (0)
B13: WED | C13: Wedding Dinner | E13: Foyer Rives de Seine+Le Pont des Arts (0) | F13: Level 0 | I13: WED | J13: Wedding Dinner | K13: Level 0 - WED | L13: catering | N13: Level 0 - HOR | O13: meeting | R13: Hall Congrès (0) | S13: Level 0 | U13: Le Pont des Arts A (0) | W13: La Seine B & C - Extensions (0)
B14: WEL | C14: Wedding Lunch | E14: Hall Congrès (0) | F14: Level 0 | I14: WEL | J14: Wedding Lunch | K14: Level 0 - WEL | L14: catering | N14: Level 0 - HOS | O14: meeting | R14: La Seine A - Foyer La Seine (0) | S14: Level 0 | U14: Le Pont des Arts B (0) | W14: La Seine B & C - Foyers Seine B & C (0)
B15: LUN | C15: Lunch | E15: La Seine - Foyer La Seine (0) | F15: Level 0 | K15: Level -1 - CAO | L15: catering | N15: Level 0 - INM | O15: meeting | R15: La Seine A - Foyers Seine A & B (0) | S15: Level 0 | U15: Le Pont des Arts C (0) | W15: La Seine B & C - le Ponts des Arts - Foyer Rives de Seine (0)
B16: LUB | C16: Lunch Buffet | E16: La Seine - Le Pont des Arts - Foyer Rives de Seine (0) | F16: Level 0 | K16: Level -1 - COC | L16: catering | N16: Level 0 - INT | O16: meeting | R16: La Seine C - Foyer Seine C - Foyer les Arts (0) | S16: Level 0 | W16: La Seine B & C (0)
E17: La Seine (0) | F17: Level 0 | K17: Level -1 - COR | L17: catering | N17: Level 0 - MET | O17: meeting | R17: La Seine C - Le Pont des Arts - Foyers Seine C & Arts (0) | S17: Level 0 | W17: La Seine B & C + Foyer La Seine (0)
E18: La Seine + Extensions (0) | F18: Level 0 | K18: Level -1 - DIB | L18: catering | N18: Level 0 - OFI | O18: meeting | R18: Le Pont des Arts A - Foyers les Arts - Foyer Seine C (0) | S18: Level 0 | U18: Les Clubs de Jazz, level -1 | W18: La Seine C - Extensions (0)
B19: BAC | C19: Backup Space | E19: La Seine A - Extensions (0) | F19: Level 0 | K19: Level -1 - DID | L19: catering | N19: Level 0 - PCM | O19: meeting | R19: Le Pont des Arts A & B - Foyer les Arts - Foyer Seine C (0) | S19: Level 0 | U19: Foyer Auditorium (-1) | W19: La Seine C - Foyer Rives de Seine (0)
B20: BOA | C20: Board Meeting | E20: La Seine A - Foyer La Seine (0) | F20: Level 0 | K20: Level -1 - DIN | L20: catering | N20: Level 0 - REH | O20: meeting | R20: Le Pont des Arts A & B - Foyer Seine B & C & Arts (0) | S20: Level 0 | U20: Auditorium (-1) | W20: La Seine C - Foyer Seine C - Foyer les Arts (0)
B21: BRK | C21: Breakout room | E21: La Seine A - Foyers Seine A & B (0) | F21: Level 0 | K21: Level -1 - MED | L21: catering | N21: Level 0 - SET | O21: meeting | R21: LEVEL 1 (La rotonde) | S21: Level 1 | U21: Charlie Parker (-1) | W21: La Seine C - Le Pont des Arts - Foyer Rives de Seine (0)
B22: CER | C22: Cérémonie religieuse | E22: La Seine A & B - Extensions (0) | F22: Level 0 | K22: Level -1 - MEL | L22: catering | N22: Level 0 - SPR | O22: meeting | R22: La Seine A & B - Foyers Seine A & B (-1) | S22: Level -1 | U22: Duke Ellington (-1) | W22: La Seine C - Le Pont des Arts - Foyers Seine C & Arts (0)
B23: CHG | C23: Changing room | E23: La Seine A & B (0) | F23: Level 0 | K23: Level -1 - RCR | L23: catering | N23: Level 0 - STO | O23: meeting | R23: *Louis Armstrong A & B | S23: Level -1 | U23: Ella Fitzgerald A (-1) | W23: Le pont de Sully (0)
B24: CLO | C24: cloakroom - vestiaire | E24: La Seine A (0) | F24: Level 0 | K24: Level -1 - REC | L24: catering | N24: Level 0 - TED | O24: meeting | R24: Foyer Rive Gauche - La Sorbonne A (2) | S24: Level 2 | U24: Ella Fitzgerald B (-1) | W24: Le Bar des Arts (0)
B25: COA | C25: Coat Check | E25: La Seine B & C - Extensions (0) | F25: Level 0 | K25: Level -1 - RED | L25: catering | N25: Level 0 - TRA | O25: meeting | R25: Executive Lounge | S25: Level 3 | U25: Foyer Jazz (-1) | W25: Le Pont des Arts (0)
B26: DAN | C26: Danse | E26: La Seine B & C - Foyers Seine B & C (0) | F26: Level 0 | K26: Level -1 - WED | L26: catering | N26: Level 0 - 24 | O26: meeting | R26: Foyer jardin du Luxembourg E (3) | S26: Level 3 | U26: Louis Armstrong A (-1) | W26: Le Pont des Arts + Extensions (0)
B27: EXH | C27: Exhibition | E27: La Seine B & C - le Ponts des Arts - Foyer Rives de Seine (0) | F27: Level 0 | K27: Level -1 - WEL | L27: catering | N27: Level -1 - BAC | O27: meeting | R27: Le Patio 1 (3) | S27: Level 3 | U27: Louis Armstrong B (-1) | W27: Le Pont des Arts A - Foyer Les Rives de Seine (0)
B28: FAS | C28: Fashion Show | E28: La Seine B & C (0) | F28: Level 0 | K28: Level 2 - CAO | L28: catering | N28: Level -1 - BOA | O28: meeting | R28: Les Jardins, Level 3 | S28: Level 3 | U28: Louis Armstrong C (-1) | W28: Le Pont des Arts A - Foyers les Arts - Foyer Seine C (0)
B29: GEN | C29: General session | E29: La Seine B & C + Foyer La Seine (0) | F29: Level 0 | K29: Level 2 - COC | L29: catering | N29: Level -1 - BRK | O29: meeting | R29: Bisou-Bisou A | S29: R'Yves | U29: Louis Armstrong D (-1) | W29: Le Pont des Arts A & B - Foyer les Arts - Foyer Seine C (0)
B30: HOR | C30: Holding Room | E30: La Seine B (0) | F30: Level 0 | K30: Level 2 - COR | L30: catering | N30: Level -1 - CER | O30: meeting | R30: Bisou-Bisou B | S30: R'Yves | U30: Miles Davis A (-1) | W30: Le Pont des Arts A & B - Foyer Seine B & C & Arts (0)
... B32: INM | C32: Inhouse meeting | E32: La Seine C - Foyer Rives de Seine (0) | F32: Level 0 | K32: Level 2 - DID | L32: catering | N32: Level -1 - CLO | O32: meeting | R32: R'Yves 1+2 (2nd floor) | S32: R'Yves | U32: Miles Davis C (-1) | W32: Le Pont des Arts A + Extensions (0)
B33: INT | C33: Interview | E33: La Seine C - Foyer Seine C - Foyer les Arts (0) | F33: Level 0 | K33: Level 2 - DIN | L33: catering | N33: Level -1 - COA | O33: meeting | R33: R'Yves 123 (2nd floor) | S33: R'Yves | W33: Le Pont des Arts B & C (0)
B34: MET | C34: Meeting | E34: La Seine C - Le Pont des Arts - Foyer Rives de Seine (0) | F34: Level 0 | K34: Level 2 - MED | L34: catering | N34: Level -1 - DAN | O34: meeting | R34: R'Yves 2 (2nd floor) | S34: R'Yves | U34: Quartiers Rive Gauche, level 2
B35: OFI | C35: Office | E35: La Seine C - Le Pont des Arts - Foyers Seine C & Arts (0) | F35: Level 0 | K35: Level 2 - MEL | L35: catering | N35: Level -1 - EXH | O35: meeting | R35: R'Yves 3 (2nd floor) | S35: R'Yves | U35: Foyer Rive Gauche (2) | W35: Ella Fitzgerald (-1)
B36: PCM | C36: Pre-Convention Meeting | E36: La Seine C (0) | F36: Level 0 | K36: Level 2 - RCR | L36: catering | N36: Level -1 - FAS | O36: meeting | R36: R'Yves Bar | S36: R'Yves | U36: La Sorbonne A (2) | W36: Foyer Auditorium - Charlie Parker - Louis Amstrong A & B (-1)
B37: REG | C37: Registration | E37: Le Bar des Arts (0) | F37: Level 0 | K37: Level 2 - REC | L37: catering | N37: Level -1 - GEN | O37: meeting | R37: R'Yves Restaurant | S37: R'Yves | U37: La Sorbonne B (2) | W37: Foyer Auditorium - Charlie Parker (-1)
B38: REH | C38: Rehearsal | E38: Le pont de Sully (0) | F38: Level 0 | K38: Level 2 - RED | L38: catering | N38: Level -1 - HOR | O38: meeting | U38: La Sorbonne C (2) | W38: Louis Armstrong - Ella Fitzgerald - Foyer Jazz (-1)
B39: SET | C39: Setup | E39: Le Pont de Sully A (0) | F39: Level 0 | K39: Level 2 - WED | L39: catering | N39: Level -1 - HOS | O39: meeting | U39: La Sorbonne D (2) | W39: Louis Armstrong - Extensions (-1)
B40: SPR | C40: Speaker Room | E40: Le Pont de Sully B (0) | F40: Level 0 | K40: Level 2 - WEL | L40: catering | N40: Level -1 - INM | O40: meeting | U40: Les Invalides A (2) | W40: Louis Armstrong & Ella Fitzgerald (-1)
B41: STO | C41: Storage | E41: Le Pont des Arts (0) | F41: Level 0 | K41: Level 3 - CAO | L41: catering | N41: Level -1 - INT | O41: meeting | U41: Les Invalides B (2) | W41: Louis Armstrong ( -1)
B42: TED | C42: Tear down | E42: Le Pont des Arts + Extensions (0) | F42: Level 0 | K42: Level 3 - COC | L42: catering | N42: Level -1 - MET | O42: meeting | U42: M Room (2) | W42: Louis Armstrong A & B (-1)
B43: TRA | C43: Trade show | E43: Le Pont des Arts A - Foyer Les Rives de Seine (0) | F43: Level 0 | K43: Level 3 - COR | L43: catering | N43: Level -1 - OFI | O43: meeting | U43: Notre Dame | W43: Louis Armstrong A & C (-1)
B44: 24 | C44: 24 Hour Hold | E44: Le Pont des Arts A - Foyers les Arts - Foyer Seine C (0) | F44: Level 0 | K44: Level 3 - DIB | L44: catering | N44: Level -1 - PCM | O44: meeting | U44: Le Sénat (2) | W44: Louis Armstrong C & D - Extensions (-1)
E45: Le Pont des Arts A & B - Foyer les Arts - Foyer Seine C (0) | F45: Level 0 | K45: Level 3 - DID | L45: catering | N45: Level -1 - REH | O45: meeting | U45: Saint Germain des Prés A (2) | W45: Louis Armstrong C & D (-1)
E46: Le Pont des Arts A & B - Foyer Seine B & C & Arts (0) | F46: Level 0 | K46: Level 3 - DIN | L46: catering | N46: Level -1 - SET | O46: meeting | U46: Saint Germain des Prés B (2) | W46: Miles Davis (-1)
E47: Le Pont des Arts A & B (0) | F47: Level 0 | K47: Level 3 - LUB | L47: catering | N47: Level -1 - SPR | O47: meeting | U47: Saint Michel (2) | W47: Miles Davis - Foyer Jazz (-1)
E48: Le Pont des Arts A (0) | F48: Level 0 | K48: Level 3 - LUN | L48: catering | N48: Level -1 - STO | O48: meeting | U48: Salon R'Yves (2nd floor) | W48: Miles Davis A & B (-1)
E49: Le Pont des Arts A + Extensions (0) | F49: Level 0 | K49: Level 3 - MED | L49: catering | N49: Level -1 - TED | O49: meeting | W49: Miles Davis B & C (-1)
E50: Le Pont des Arts B & C (0) | F50: Level 0 | K50: Level 3 - MEL | L50: catering | N50: Level -1 - TRA | O50: meeting | U50: Le Jardin du Luxembourg A (3)
E51: Le Pont des Arts B (0) | F51: Level 0 | K51: Level 3 - RCR | L51: catering | N51: Level -1 - 24 | O51: meeting | U51: Le Jardin du Luxembourg B (3) | W51: Foyer Rive Gauche - La Sorbonne A (2)
E52: Le Pont des Arts C (0) | F52: Level 0 | K52: Level 3 - REC | L52: catering | N52: Level 2 - BAC | O52: meeting | U52: Le Jardin du Luxembourg C (3) | W52: La Sorbonne (2)
E53: Les Rives de Seine Level 0 | F53: Level 0 | K53: Level 3 - RED | L53: catering | N53: Level 2 - BOA | O53: meeting | U53: Le Jardin du Luxembourg D (3) | W53: La Sorbonne A & B (2)
K54: Level 3 - WED | L54: catering | N54: Level 2 - BRK | O54: meeting | U54: Le Jardin du Luxembourg E (3) | W54: La Sorbonne A, B & C (2)
E55: *Louis Armstrong A & B | F55: Level -1 | K55: Level 3 - WEL | L55: catering | N55: Level 2 - CER | O55: meeting | U55: Le Parc Montsouris A (3) | W55: La Sorbonne B & C (2)
E56: Auditorium (-1) | F56: Level -1 | K56: R'Yves - CAO | L56: catering | N56: Level 2 - CHG | O56: meeting | U56: Le Parc Montsouris B (3) | W56: La Sorbonne B, C & D (2)
E57: Charlie Parker (-1) | F57: Level -1 | K57: R'Yves - COC | L57: catering | N57: Level 2 - CLO | O57: meeting | U57: Le Patio (3) | W57: La Sorbonne C & D (2)
E58: Duke Ellington (-1) | F58: Level -1 | K58: R'Yves - COR | L58: catering | N58: Level 2 - COA | O58: meeting | U58: Les Jardins, Level 3 | W58: Les Invalides (2)
E59: Ella Fitzgerald (-1) | F59: Level -1 | K59: R'Yves - DIB | L59: catering | N59: Level 2 - DAN | O59: meeting | U59: Le Jardin des Plantes (3) | W59: Saint Germain des Prés (2)
E60: Ella Fitzgerald A (-1) | F60: Level -1 | K60: R'Yves - DID | L60: catering | N60: Level 2 - EXH | O60: meeting
E61: Ella Fitzgerald B (-1) | F61: Level -1 | K61: R'Yves - DIN | L61: catering | N61: Level 2 - FAS | O61: meeting | W61: Executive Lounge
E62: Foyer Auditorium - Charlie Parker - Louis Amstrong A & B (-1) | F62: Level -1 | K62: R'Yves - LUN | L62: catering | N62: Level 2 - GEN | O62: meeting | W62: Foyer jardin du Luxembourg E (3)
E63: Foyer Auditorium (-1) | F63: Level -1 | K63: R'Yves - MED | L63: catering | N63: Level 2 - HOS | O63: meeting | W63: Le Jardin du Luxembourg - Jardin des Plantes (3)
E64: Foyer Jazz (-1) | F64: Level -1 | K64: R'Yves - MEL | L64: catering | N64: Level 2 - INM | O64: meeting | W64: Le Jardin du Luxembourg (3)
E65: La Seine A & B - Foyers Seine A & B (-1) | F65: Level -1 | K65: R'Yves - RCR | L65: catering | N65: Level 2 - INT | O65: meeting | W65: Le Jardin du Luxembourg A - Extensions (3)
E66: Les Clubs de Jazz, level -1 | F66: Level -1 | K66: R'Yves - REC | L66: catering | N66: Level 2 - MET | O66: meeting | W66: Le Jardin du Luxembourg A & B (3)
E67: Louis Armstrong - Ella Fitzgerald - Foyer Jazz (-1) | F67: Level -1 | K67: R'Yves - RED | L67: catering | N67: Level 2 - OFI | O67: meeting | W67: Le Jardin du Luxembourg A & B + extensions (3)
E68: Louis Armstrong - Extensions (-1) | F68: Level -1 | K68: R'Yves - WED | L68: catering | N68: Level 2 - PCM | O68: meeting | W68: Le Jardin du Luxembourg A & D + Extensions (3)
E69: Louis Armstrong & Ella Fitzgerald (-1) | F69: Level -1 | K69: R'Yves - WEL | L69: catering | N69: Level 2 - REH | O69: meeting | W69: Le Jardin du Luxembourg A, B & C - Extensions (3)
E70: Louis Armstrong ( -1) | F70: Level -1 | K70: Level 1 - CAO | L70: catering | N70: Level 2 - SET | O70: meeting | W70: Le Jardin du Luxembourg A, B & C (3)
E71: Louis Armstrong A (-1) | F71: Level -1 | W71: Le Jardin du Luxembourg A, B, D & E - Extensions (3)
E72: Louis Armstrong B (-1) | F72: Level -1 | W72: Le Jardin du Luxembourg B & C (3)
E73: Louis Armstrong C (-1) | F73: Level -1 | W73: Le Jardin du Luxembourg B+C+E+Foyer
E74: Louis Armstrong D (-1) | F74: Level -1 | W74: Le Jardin du Luxembourg C - Extension (3)
E75: Louis Armstrong A & B (-1) | F75: Level -1 | W75: Le Jardin du Luxembourg D & E (3)
E76: Louis Armstrong A & C (-1) | F76: Level -1 | W76: Le Jardins du Luxembourg - Le Patio (3)
E77: Louis Armstrong C & D - Extensions (-1) | F77: Level -1 | W77: Le Parc Montsouris (3)
E78: Louis Armstrong C & D (-1) | F78: Level -1 | W78: Le Patio 1 (3)
E79: Miles Davis (-1) | F79: Level -1
E80: Miles Davis - Foyer Jazz (-1) | F80: Level -1 | W80: Bisou-Bisou A
E81: Miles Davis A (-1) | F81: Level -1 | W81: Bisou-Bisou B
E82: Miles Davis B (-1) | F82: Level -1 | K82: Level 1 - COC | L82: catering | N82: Level 2 - SPR | O82: meeting | W82: R'Yves 1 (2nd flloor)
E83: Miles Davis C (-1) | F83: Level -1 | K83: Level 1 - COR | L83: catering | N83: Level 2 - STO | O83: meeting | W83: R'Yves 1+2 (2nd floor)
E84: Miles Davis A & B (-1) | F84: Level -1 | K84: Level 1 - DIB | L84: catering | N84: Level 2 - TED | O84: meeting | W84: R'Yves 123 (2nd floor)
E85: Miles Davis B & C (-1) | F85: Level -1 | K85: Level 1 - DID | L85: catering | N85: Level 2 - TRA | O85: meeting | W85: R'Yves 2 (2nd floor)
K86: Hotel - DIB | L86: catering | N86: Level 3 - GEN | O86: meeting | W86: R'Yves 3 (2nd floor)
E87: Foyer Rive Gauche - La Sorbonne A (2) | F87: Level 2 | K87: Hotel - DID | L87: catering | N87: Level 3 - HOR | O87: meeting | W87: R'Yves Bar
E88: Foyer Rive Gauche (2) | F88: Level 2 | K88: Hotel - DIN | L88: catering | N88: Level 3 - HOS | O88: meeting | W88: R'Yves Restaurant
E89: La Sorbonne (2) | F89: Level 2 | K89: Hotel - MED | L89: catering | N89: Level 3 - INM | O89: meeting
E90: La Sorbonne A (2) | F90: Level 2 | W90: LEVEL 1 (La rotonde)
E91: La Sorbonne B (2) | F91: Level 2
E92: La Sorbonne C (2) | F92: Level 2 | W92: Hotel
E93: La Sorbonne D (2) | F93: Level 2
E94: La Sorbonne A & B (2) | F94: Level 2
E95: La Sorbonne A, B & C (2) | F95: Level 2
E96: La Sorbonne B & C (2) | F96: Level 2
E97: La Sorbonne B, C & D (2) | F97: Level 2
E98: La Sorbonne C & D (2) | F98: Level 2
E99: Le Sénat (2) | F99: Level 2 | N99: Level 3 - STO | O99: meeting
E100: Les Invalides (2) | F100: Level 2 | N100: Level 3 - TED | O100: meeting
E101: Les Invalides A (2) | F101: Level 2 | N101: Level 3 - TRA | O101: meeting
...

Sheet occupancy 2012
A1: COPIER / COLLER LES DONNEES DE L'ONGLET DATAS (colonnes G à R) APRES AVOIR TRIE LA COLONNE "E" ET AVOIR CONSERVE UNIQUEMENT LES "YES"
BG3: 40909
A4: - | B4: - | C4: - | D4: - | E4: - | F4: - | G4: - | H4: - | I4: - | J4: - | K4: - | L4: -
A5: ID | B5: EVENT ID | C5: CODE | D5: NAME | E5: FUNCTION SPACE | F5: STATUS | G5: START | H5: END | I5: DATE | J5: MKT CODE | K5: EVENT TYPE | L5: ACCOUNT
A6: - | B6: - | C6: - | D6: - | E6: - | F6: - | G6: - | H6: - | I6: - | J6: - | K6: - | L6: - | N6: Matin | O6: Après-midi | P6: Soirée | Q6: Nuit | W6: Month | X6: 1
L7: Arrivée | M7: > | N7: 0.24930556 | O7: 0.58402778 | P7: 0.79236111 | Q7: 0.95902778 | AA7: onglet orange
L8: Départ | M8: <= | N8: 0.58333333 | O8: 0.79166667 | P8: 0.95833333 | Q8: 0.25
A9: - | B9: - | C9: - | D9: - | E9: - | F9: - | G9: - | H9: - | I9: - | J9: - | K9: - | L9: -
A10: 2077332 | B10: 2929076 | C10: 24 | D10: 24 Hour Hold | E10: La Seine A (0) | F10: ACT | G10: 0.375 | H10: 0.75 | I10: 41275 | J10: GCO | K10: CON | L10: Axway | N10: =IF($G10=N$8,"",IF(AND($G10<$H10,N$7<N$8,OR(AND($G10>N$7,$G10<=N$8),AND($H10>N$7,$H10<=N$8),AND($G10<N$7,$H10>N$8))),"AM",IF(AND($G10<$H10,N$7>N$8,OR(AND($G10>N$7,$G10<=N$8+1),AND($H10>N$7,$H10<=N$8+1),AND($G10<N$7,$H10>N$8+1))),"AM",IF(AND($G10>$H10,N$7<N$8,OR(AND($G10>N$7,$G10<=N$8),AND($H10+1>N$7,$H10+1<=N$8),AND($G10<N$7,$H10+1>N$8))),"AM",IF(AND($G10>$H10,N$7>N$8,OR(AND($G10>N$7,$G10<=N$8+1),AND($H10+1>N$7,$H10+1<=N$8+1),AND($G10<N$7,$H10+1>N$8+1))),"AM",""))))) -> AM | O10: =IF($G10=O$8,"",IF(AND($G10<$H10,O$7<O$8,OR(AND($G10>O$7,$G10<=O$8),AND($H10>O$7,$H10<=O$8),AND($G10<O$7,$H10>O$8))),"PM",IF(AND($G10<$H10,O$7>O$8,OR(AND($G10>O$7,$G10<=O$8+1),AND($H10>O$7,$H10<=O$8+1),AND($G10<O$7,$H10>O$8+1))),"PM",IF(AND($G10>$H10,O$7<O$8,OR(AND($G10>O$7,$G10<=O$8),AND($H10+1>O$7,$H10+1<=O$8),AND($G10<O$7,$H10+1>O$8))),"PM",IF(AND($G10>$H10,O$7>O$8,OR(AND($G10>O$7,$G10<=O$8+1),AND($H10+1>O$7,$H10+1<=O$8+1),AND($G10<O$7,$H10+1>O$8+1))),"PM",""))))) -> PM | P10: =IF($G10=P$8,"",IF(AND($G10<$H10,P$7<P$8,OR(AND($G10>P$7,$G10<=P$8),AND($H10>P$7,$H10<=P$8),AND($G10<P$7,$H10>P$8))),"EVENING",IF(AND($G10<$H10,P$7>P$8,OR(AND($G10>P$7,$G10<=P$8+1),AND($H10>P$7,$H10<=P$8+1),AND($G10<P$7,$H10>P$8+1))),"EVENING",IF(AND($G10>$H10,P$7<P$8,OR(AND($G10>P$7,$G10<=P$8),AND($H10+1>P$7,$H10+1<=P$8),AND($G10<P$7,$H10+1>P$8))),"EVENING",IF(AND($G10>$H10,P$7>P$8,OR(AND($G10>P$7,$G10<=P$8+1),AND($H10+1>P$7,$H10+1<=P$8+1),AND($G10<P$7,$H10+1>P$8+1))),"EVENING",""))))) | Q10: =IF($G10=Q$8,"",IF(AND($G10<$H10,Q$7<Q$8,OR(AND($G10>Q$7,$G10<=Q$8),AND($H10>Q$7,$H10<=Q$8),AND($G10<Q$7,$H10>Q$8))),"NIGHT",IF(AND($G10<$H10,Q$7>Q$8,OR(AND($G10>Q$7,$G10<=Q$8+1),AND($H10>Q$7,$H10<=Q$8+1),AND($G10<Q$7,$H10>Q$8+1))),"NIGHT",IF(AND($G10>$H10,Q$7<Q$8,OR(AND($G10>Q$7,$G10<=Q$8),AND($H10+1>Q$7,$H10+1<=Q$8),AND($G10<Q$7,$H10+1>Q$8))),"NIGHT",IF(AND($G10>$H10,Q$7>Q$8,OR(AND($G10>Q$7,$G10<=Q$8+1),AND($H10+1>Q$7,$H10+1<=Q$8+1),AND($G10<Q$7,$H10+1>Q$8+1))),"NIGHT",""))))) | R10: =TEXT(DAY(I10),"jjjj") -> dimanche | S10: =DAY(I10) -> 1 | T10: =MONTH(I10) -> 1 | U10: =IF(OR(R10="Samedi",R10="Dimanche"),"weekend","week") -> weekend | V10: =U10&" - "&E10 -> weekend - La Seine A (0) | W10: =T10&" - "&U10&" - "&E10& " - "&N10 -> 1 - weekend - La Seine A (0) - AM | X10: =T10&" - "&U10&" - "&E10& " - "&O10 -> 1 - weekend - La Seine A (0) - PM | Y10: =T10&" - "&U10&" - "&E10& " - "&P10 -> 1 - weekend - La Seine A (0) - | Z10: =T10&" - "&U10&" - "&E10&" - "&Q10 -> 1 - weekend - La Seine A (0) - | AA10: =I10&" - "&E10&" - "&N10 -> 41275 - La Seine A (0) - AM | AB10: =I10&" - "&E10&" - "&O10 -> 41275 - La Seine A (0) - PM | AC10: =I10&" - "&E10&" - "&P10 -> 41275 - La Seine A (0) - | AD10: =I10&" - "&E10&" - "&Q10 -> 41275 - La Seine A (0) - | AE10: =F10 -> ACT | AG10: =VLOOKUP(E10,'Répartition salles'!$C:$R,6,FALSE) -> Seine A | AH10: =I10&" - "&AG10&" - "&N10 -> 41275 - Seine A - AM | AI10: =I10&" - "&AG10&" - "&O10 -> 41275 - Seine A - PM | AJ10: =I10&" - "&AG10&" - "&P10 -> 41275 - Seine A - | AK10: =I10&" - "&AG10&" - "&Q10 -> 41275 - Seine A - | AL10: =VLOOKUP(E10,'Répartition salles'!$C:$R,7,FALSE) -> 0 | AM10: =I10&" - "&AL10&" - "&N10 -> 41275 - 0 - AM | AN10: =I10&" - "&AL10&" - "&O10 -> 41275 - 0 - PM | AO10: =I10&" - "&AL10&" - "&P10 -> 41275 - 0 - | AP10: =I10&" - "&AL10&" - "&Q10 -> 41275 - 0 - | AQ10: =VLOOKUP(E10,'Répartition salles'!$C:$R,8,FALSE) -> 0 | AR10: =I10&" - "&AQ10&" - "&N10 -> 41275 - 0 - AM | AS10: =I10&" - "&AQ10&" - "&O10 -> 41275 - 0 - PM | AT10: =I10&" - "&AQ10&" - "&P10 -> 41275 - 0 - | AU10: =I10&" - "&AQ10&" - "&Q10 -> 41275 - 0 - | AV10: =VLOOKUP(E10,'Répartition salles'!$C:$R,9,FALSE) -> 0 | AW10: =I10&" - "&AV10&" - "&N10 -> 41275 - 0 - AM | AX10: =I10&" - "&AV10&" - "&O10 -> 41275 - 0 - PM | AY10: =I10&" - "&AV10&" - "&P10 -> 41275 - 0 - | AZ10: =I10&" - "&AV10&" - "&Q10 -> 41275 - 0 - | BA10: =VLOOKUP(E10,'Répartition salles'!$C:$R,10,FALSE) -> 0 | BB10: =I10&" - "&BA10&" - "&N10 -> 41275 - 0 - AM | BC10: =I10&" - "&BA10&" - "&O10 -> 41275 - 0 - PM | BD10: =I10&" - "&BA10&" - "&P10 -> 41275 - 0 - | BE10: =I10&" - "&BA10&" - "&Q10 -> 41275 - 0 - | BF10: =VLOOKUP(E10,'Répartition salles'!$C:$R,11,FALSE) -> 0 | BG10: =I10&" - "&BF10&" - "&N10 -> 41275 - 0 - AM | BH10: =I10&" - "&BF10&" - "&O10 -> 41275 - 0 - PM | BI10: =I10&" - "&BF10&" - "&P10 -> 41275 - 0 - | BJ10: =I10&" - "&BF10&" - "&Q10 -> 41275 - 0 - | BK10: =VLOOKUP(E10,'Répartition salles'!$C:$R,12,FALSE) -> 0 | BL10: =I10&" - "&BK10&" - "&N10 -> 41275 - 0 - AM | BM10: =I10&" - "&BK10&" - "&O10 -> 41275 - 0 - PM | BN10: =I10&" - "&BK10&" - "&P10 -> 41275 - 0 - | BO10: =I10&" - "&BK10&" - "&Q10 -> 41275 - 0 - | BP10: =VLOOKUP(E10,'Répartition salles'!$C:$R,13,FALSE) -> 0 | BQ10: =I10&" - "&BP10&" - "&N10 -> 41275 - 0 - AM | BR10: =I10&" - "&BP10&" - "&O10 -> 41275 - 0 - PM | BS10: =I10&" - "&BP10&" - "&P10 -> 41275 - 0 - | BT10: =I10&" - "&BP10&" - "&Q10 -> 41275 - 0 - | BU10: =VLOOKUP(E10,'Répartition salles'!$C:$R,14,FALSE) -> 0 | BV10: =I10&" - "&BU10&" - "&N10 -> 41275 - 0 - AM | BW10: =I10&" - "&BU10&" - "&O10 -> 41275 - 0 - PM | BX10: =I10&" - "&BU10&" - "&P10 -> 41275 - 0 - | BY10: =I10&" - "&BU10&" - "&Q10 -> 41275 - 0 - | BZ10: =VLOOKUP(E10,'Répartition salles'!$C:$R,15,FALSE) -> 0 | CA10: =I10&" - "&BZ10&" - "&N10 -> 41275 - 0 - AM | CB10: =I10&" - "&BZ10&" - "&O10 -> 41275 - 0 - PM | CC10: =I10&" - "&BZ10&" - "&P10 -> 41275 - 0 - | CD10: =I10&" - "&BZ10&" - "&Q10 -> 41275 - 0 - | CE10: =VLOOKUP(E10,'Répartition salles'!$C:$R,16,FALSE) -> 0 | CF10: =I10&" - "&CE10&" - "&N10 -> 41275 - 0 - AM | CG10: =I10&" - "&CE10&" - "&O10 -> 41275 - 0 - PM | CH10: =I10&" - "&CE10&" - "&P10 -> 41275 - 0 - | CI10: =I10&" - "&CE10&" - "&Q10 -> 41275 - 0 - | CJ10: =F10 -> ACT
A11: 1704113 | B11: 2498192 | C11: DIN | D11: Soirée dansante | E11: La Seine (0) | F11: ACT | G11: 0.99930556 | H11: 0.083333333 | I11: 41275 | J11: GSO | K11: CON | L11: Bridge in Vacanza OPPTY M C62PA6 IT | N11: =IF($G11=N$8,"",IF(AND($G11<$H11,N$7<N$8,OR(AND($G11>N$7,$G11<=N$8),AND($H11>N$7,$H11<=N$8),AND($G11<N$7,$H11>N$8))),"AM",IF(AND($G11<$H11,N$7>N$8,OR(AND($G11>N$7,$G11<=N$8+1),AND($H11>N$7,$H11<=N$8+1),AND($G11<N$7,$H11>N$8+1))),"AM",IF(AND($G11>$H11,N$7<N$8,OR(AND($G11>N$7,$G11<=N$8),AND($H11+1>N$7,$H11+1<=N$8),AND($G11<N$7,$H11+1>N$8))),"AM",IF(AND($G11>$H11,N$7>N$8,OR(AND($G11>N$7,$G11<=N$8+1),AND($H11+1>N$7,$H11+1<=N$8+1),AND($G11<N$7,$H11+1>N$8+1))),"AM",""))))) | O11: =IF($G11=O$8,"",IF(AND($G11<$H11,O$7<O$8,OR(AND($G11>O$7,$G11<=O$8),AND($H11>O$7,$H11<=O$8),AND($G11<O$7,$H11>O$8))),"PM",IF(AND($G11<$H11,O$7>O$8,OR(AND($G11>O$7,$G11<=O$8+1),AND($H11>O$7,$H11<=O$8+1),AND($G11<O$7,$H11>O$8+1))),"PM",IF(AND($G11>$H11,O$7<O$8,OR(AND($G11>O$7,$G11<=O$8),AND($H11+1>O$7,$H11+1<=O$8),AND($G11<O$7,$H11+1>O$8))),"PM",IF(AND($G11>$H11,O$7>O$8,OR(AND($G11>O$7,$G11<=O$8+1),AND($H11+1>O$7,$H11+1<=O$8+1),AND($G11<O$7,$H11+1>O$8+1))),"PM",""))))) | P11: =IF($G11=P$8,"",IF(AND($G11<$H11,P$7<P$8,OR(AND($G11>P$7,$G11<=P$8),AND($H11>P$7,$H11<=P$8),AND($G11<P$7,$H11>P$8))),"EVENING",IF(AND($G11<$H11,P$7>P$8,OR(AND($G11>P$7,$G11<=P$8+1),AND($H11>P$7,$H11<=P$8+1),AND($G11<P$7,$H11>P$8+1))),"EVENING",IF(AND($G11>$H11,P$7<P$8,OR(AND($G11>P$7,$G11<=P$8),AND($H11+1>P$7,$H11+1<=P$8),AND($G11<P$7,$H11+1>P$8))),"EVENING",IF(AND($G11>$H11,P$7>P$8,OR(AND($G11>P$7,$G11<=P$8+1),AND($H11+1>P$7,$H11+1<=P$8+1),AND($G11<P$7,$H11+1>P$8+1))),"EVENING",""))))) | Q11: =IF($G11=Q$8,"",IF(AND($G11<$H11,Q$7<Q$8,OR(AND($G11>Q$7,$G11<=Q$8),AND($H11>Q$7,$H11<=Q$8),AND($G11<Q$7,$H11>Q$8))),"NIGHT",IF(AND($G11<$H11,Q$7>Q$8,OR(AND($G11>Q$7,$G11<=Q$8+1),AND($H11>Q$7,$H11<=Q$8+1),AND($G11<Q$7,$H11>Q$8+1))),"NIGHT",IF(AND($G11>$H11,Q$7<Q$8,OR(AND($G11>Q$7,$G11<=Q$8),AND($H11+1>Q$7,$H11+1<=Q$8),AND($G11<Q$7,$H11+1>Q$8))),"NIGHT",IF(AND($G11>$H11,Q$7>Q$8,OR(AND($G11>Q$7,$G11<=Q$8+1),AND($H11+1>Q$7,$H11+1<=Q$8+1),AND($G11<Q$7,$H11+1>Q$8+1))),"NIGHT",""))))) -> NIGHT | R11: =TEXT(DAY(I11),"jjjj") -> dimanche | S11: =DAY(I11) -> 1 | T11: =MONTH(I11) -> 1 | U11: =IF(OR(R11="Samedi",R11="Dimanche"),"weekend","week") -> weekend | V11: =U11&" - "&E11 -> weekend - La Seine (0) | W11: =T11&" - "&U11&" - "&E11& " - "&N11 -> 1 - weekend - La Seine (0) - | X11: =T11&" - "&U11&" - "&E11& " - "&O11 -> 1 - weekend - La Seine (0) - | Y11: =T11&" - "&U11&" - "&E11& " - "&P11 -> 1 - weekend - La Seine (0) - | Z11: =T11&" - "&U11&" - "&E11&" - "&Q11 -> 1 - weekend - La Seine (0) - NIGHT | AA11: =I11&" - "&E11&" - "&N11 -> 41275 - La Seine (0) - | AB11: =I11&" - "&E11&" - "&O11 -> 41275 - La Seine (0) - | AC11: =I11&" - "&E11&" - "&P11 -> 41275 - La Seine (0) - | AD11: =I11&" - "&E11&" - "&Q11 -> 41275 - La Seine (0) - NIGHT | AE11: =F11 -> ACT | AG11: =VLOOKUP(E11,'Répartition salles'!$C:$R,6,FALSE) -> Seine A | AH11: =I11&" - "&AG11&" - "&N11 -> 41275 - Seine A - | AI11: =I11&" - "&AG11&" - "&O11 -> 41275 - Seine A - | AJ11: =I11&" - "&AG11&" - "&P11 -> 41275 - Seine A - | AK11: =I11&" - "&AG11&" - "&Q11 -> 41275 - Seine A - NIGHT | AL11: =VLOOKUP(E11,'Répartition salles'!$C:$R,7,FALSE) -> Seine B | AM11: =I11&" - "&AL11&" - "&N11 -> 41275 - Seine B - | AN11: =I11&" - "&AL11&" - "&O11 -> 41275 - Seine B - | AO11: =I11&" - "&AL11&" - "&P11 -> 41275 - Seine B - | AP11: =I11&" - "&AL11&" - "&Q11 -> 41275 - Seine B - NIGHT | AQ11: =VLOOKUP(E11,'Répartition salles'!$C:$R,8,FALSE) -> Seine C | AR11: =I11&" - "&AQ11&" - "&N11 -> 41275 - Seine C - | AS11: =I11&" - "&AQ11&" - "&O11 -> 41275 - Seine C - | AT11: =I11&" - "&AQ11&" - "&P11 -> 41275 - Seine C - | AU11: =I11&" - "&AQ11&" - "&Q11 -> 41275 - Seine C - NIGHT | AV11: =VLOOKUP(E11,'Répartition salles'!$C:$R,9,FALSE) -> 0 | AW11: =I11&" - "&AV11&" - "&N11 -> 41275 - 0 - | AX11: =I11&" - "&AV11&" - "&O11 -> 41275 - 0 - | AY11: =I11&" - "&AV11&" - "&P11 -> 41275 - 0 - | AZ11: =I11&" - "&AV11&" - "&Q11 -> 41275 - 0 - NIGHT | BA11: =VLOOKUP(E11,'Répartition salles'!$C:$R,10,FALSE) -> 0 | BB11: =I11&" - "&BA11&" - "&N11 -> 41275 - 0 - | BC11: =I11&" - "&BA11&" - "&O11 -> 41275 - 0 - | BD11: =I11&" - "&BA11&" - "&P11 -> 41275 - 0 - | BE11: =I11&" - "&BA11&" - "&Q11 -> 41275 - 0 - NIGHT | BF11: =VLOOKUP(E11,'Répartition salles'!$C:$R,11,FALSE) -> 0 | BG11: =I11&" - "&BF11&" - "&N11 -> 41275 - 0 - | BH11: =I11&" - "&BF11&" - "&O11 -> 41275 - 0 - | BI11: =I11&" - "&BF11&" - "&P11 -> 41275 - 0 - | BJ11: =I11&" - "&BF11&" - "&Q11 -> 41275 - 0 - NIGHT | BK11: =VLOOKUP(E11,'Répartition salles'!$C:$R,12,FALSE) -> 0 | BL11: =I11&" - "&BK11&" - "&N11 -> 41275 - 0 - | BM11: =I11&" - "&BK11&" - "&O11 -> 41275 - 0 - | BN11: =I11&" - "&BK11&" - "&P11 -> 41275 - 0 - | BO11: =I11&" - "&BK11&" - "&Q11 -> 41275 - 0 - NIGHT | BP11: =VLOOKUP(E11,'Répartition salles'!$C:$R,13,FALSE) -> 0 | BQ11: =I11&" - "&BP11&" - "&N11 -> 41275 - 0 - | BR11: =I11&" - "&BP11&" - "&O11 -> 41275 - 0 - | BS11: =I11&" - "&BP11&" - "&P11 -> 41275 - 0 - | BT11: =I11&" - "&BP11&" - "&Q11 -> 41275 - 0 - NIGHT | BU11: =VLOOKUP(E11,'Répartition salles'!$C:$R,14,FALSE) -> 0 | BV11: =I11&" - "&BU11&" - "&N11 -> 41275 - 0 - | BW11: =I11&" - "&BU11&" - "&O11 -> 41275 - 0 - | BX11: =I11&" - "&BU11&" - "&P11 -> 41275 - 0 - | BY11: =I11&" - "&BU11&" - "&Q11 -> 41275 - 0 - NIGHT | BZ11: =VLOOKUP(E11,'Répartition salles'!$C:$R,15,FALSE) -> 0 | CA11: =I11&" - "&BZ11&" - "&N11 -> 41275 - 0 - | CB11: =I11&" - "&BZ11&" - "&O11 -> 41275 - 0 - | CC11: =I11&" - "&BZ11&" - "&P11 -> 41275 - 0 - | CD11: =I11&" - "&BZ11&" - "&Q11 -> 41275 - 0 - NIGHT | CE11: =VLOOKUP(E11,'Répartition salles'!$C:$R,16,FALSE) -> 0 | CF11: =I11&" - "&CE11&" - "&N11 -> 41275 - 0 - | CG11: =I11&" - "&CE11&" - "&O11 -> 41275 - 0 - | CH11: =I11&" - "&CE11&" - "&P11 -> 41275 - 0 - | CI11: =I11&" - "&CE11&" - "&Q11 -> 41275 - 0 - NIGHT | CJ11: =F11 -> ACT
A12: 2312262 | B12: 3396333 | C12: STO | D12: Storage | E12: Le Pont des Arts A (0) | F12: ACT | G12: 0.29166667 | H12: 0.95833333 | I12: 41275 | J12: GCO | K12: CON | L12: GOODYEAR | N12: =IF($G12=N$8,"",IF(AND($G12<$H12,N$7<N$8,OR(AND($G12>N$7,$G12<=N$8),AND($H12>N$7,$H12<=N$8),AND($G12<N$7,$H12>N$8))),"AM",IF(AND($G12<$H12,N$7>N$8,OR(AND($G12>N$7,$G12<=N$8+1),AND($H12>N$7,$H12<=N$8+1),AND($G12<N$7,$H12>N$8+1))),"AM",IF(AND($G12>$H12,N$7<N$8,OR(AND($G12>N$7,$G12<=N$8),AND($H12+1>N$7,$H12+1<=N$8),AND($G12<N$7,$H12+1>N$8))),"AM",IF(AND($G12>$H12,N$7>N$8,OR(AND($G12>N$7,$G12<=N$8+1),AND($H12+1>N$7,$H12+1<=N$8+1),AND($G12<N$7,$H12+1>N$8+1))),"AM",""))))) -> AM | O12: =IF($G12=O$8,"",IF(AND($G12<$H12,O$7<O$8,OR(AND($G12>O$7,$G12<=O$8),AND($H12>O$7,$H12<=O$8),AND($G12<O$7,$H12>O$8))),"PM",IF(AND($G12<$H12,O$7>O$8,OR(AND($G12>O$7,$G12<=O$8+1),AND($H12>O$7,$H12<=O$8+1),AND($G12<O$7,$H12>O$8+1))),"PM",IF(AND($G12>$H12,O$7<O$8,OR(AND($G12>O$7,$G12<=O$8),AND($H12+1>O$7,$H12+1<=O$8),AND($G12<O$7,$H12+1>O$8))),"PM",IF(AND($G12>$H12,O$7>O$8,OR(AND($G12>O$7,$G12<=O$8+1),AND($H12+1>O$7,$H12+1<=O$8+1),AND($G12<O$7,$H12+1>O$8+1))),"PM",""))))) -> PM | P12: =IF($G12=P$8,"",IF(AND($G12<$H12,P$7<P$8,OR(AND($G12>P$7,$G12<=P$8),AND($H12>P$7,$H12<=P$8),AND($G12<P$7,$H12>P$8))),"EVENING",IF(AND($G12<$H12,P$7>P$8,OR(AND($G12>P$7,$G12<=P$8+1),AND($H12>P$7,$H12<=P$8+1),AND($G12<P$7,$H12>P$8+1))),"EVENING",IF(AND($G12>$H12,P$7<P$8,OR(AND($G12>P$7,$G12<=P$8),AND($H12+1>P$7,$H12+1<=P$8),AND($G12<P$7,$H12+1>P$8))),"EVENING",IF(AND($G12>$H12,P$7>P$8,OR(AND($G12>P$7,$G12<=P$8+1),AND($H12+1>P$7,$H12+1<=P$8+1),AND($G12<P$7,$H12+1>P$8+1))),"EVENING",""))))) -> EVENING | Q12: =IF($G12=Q$8,"",IF(AND($G12<$H12,Q$7<Q$8,OR(AND($G12>Q$7,$G12<=Q$8),AND($H12>Q$7,$H12<=Q$8),AND($G12<Q$7,$H12>Q$8))),"NIGHT",IF(AND($G12<$H12,Q$7>Q$8,OR(AND($G12>Q$7,$G12<=Q$8+1),AND($H12>Q$7,$H12<=Q$8+1),AND($G12<Q$7,$H12>Q$8+1))),"NIGHT",IF(AND($G12>$H12,Q$7<Q$8,OR(AND($G12>Q$7,$G12<=Q$8),AND($H12+1>Q$7,$H12+1<=Q$8),AND($G12<Q$7,$H12+1>Q$8))),"NIGHT",IF(AND($G12>$H12,Q$7>Q$8,OR(AND($G12>Q$7,$G12<=Q$8+1),AND($H12+1>Q$7,$H12+1<=Q$8+1),AND($G12<Q$7,$H12+1>Q$8+1))),"NIGHT",""))))) | R12: =TEXT(DAY(I12),"jjjj") -> dimanche | S12: =DAY(I12) -> 1 | T12: =MONTH(I12) -> 1 | U12: =IF(OR(R12="Samedi",R12="Dimanche"),"weekend","week") -> weekend | V12: =U12&" - "&E12 -> weekend - Le Pont des Arts A (0) | W12: =T12&" - "&U12&" - "&E12& " - "&N12 -> 1 - weekend - Le Pont des Arts A (0) - AM | X12: =T12&" - "&U12&" - "&E12& " - "&O12 -> 1 - weekend - Le Pont des Arts A (0) - PM | Y12: =T12&" - "&U12&" - "&E12& " - "&P12 -> 1 - weekend - Le Pont des Arts A (0) - EVENING | Z12: =T12&" - "&U12&" - "&E12&" - "&Q12 -> 1 - weekend - Le Pont des Arts A (0) - | AA12: =I12&" - "&E12&" - "&N12 -> 41275 - Le Pont des Arts A (0) - AM | AB12: =I12&" - "&E12&" - "&O12 -> 41275 - Le Pont des Arts A (0) - PM | AC12: =I12&" - "&E12&" - "&P12 -> 41275 - Le Pont des Arts A (0) - EVENING | AD12: =I12&" - "&E12&" - "&Q12 -> 41275 - Le Pont des Arts A (0) - | AE12: =F12 -> ACT | AG12: =VLOOKUP(E12,'Répartition salles'!$C:$R,6,FALSE) -> Pont des Arts A | AH12: =I12&" - "&AG12&" - "&N12 -> 41275 - Pont des Arts A - AM | AI12: =I12&" - "&AG12&" - "&O12 -> 41275 - Pont des Arts A - PM | AJ12: =I12&" - "&AG12&" - "&P12 -> 41275 - Pont des Arts A - EVENING | AK12: =I12&" - "&AG12&" - "&Q12 -> 41275 - Pont des Arts A - | AL12: =VLOOKUP(E12,'Répartition salles'!$C:$R,7,FALSE) -> 0 | AM12: =I12&" - "&AL12&" - "&N12 -> 41275 - 0 - AM | AN12: =I12&" - "&AL12&" - "&O12 -> 41275 - 0 - PM | AO12: =I12&" - "&AL12&" - "&P12 -> 41275 - 0 - EVENING | AP12: =I12&" - "&AL12&" - "&Q12 -> 41275 - 0 - | AQ12: =VLOOKUP(E12,'Répartition salles'!$C:$R,8,FALSE) -> 0 | AR12: =I12&" - "&AQ12&" - "&N12 -> 41275 - 0 - AM | AS12: =I12&" - "&AQ12&" - "&O12 -> 41275 - 0 - PM | AT12: =I12&" - "&AQ12&" - "&P12 -> 41275 - 0 - EVENING | AU12: =I12&" - "&AQ12&" - "&Q12 -> 41275 - 0 - | AV12: =VLOOKUP(E12,'Répartition salles'!$C:$R,9,FALSE) -> 0 | AW12: =I12&" - "&AV12&" - "&N12 -> 41275 - 0 - AM | AX12: =I12&" - "&AV12&" - "&O12 -> 41275 - 0 - PM | AY12: =I12&" - "&AV12&" - "&P12 -> 41275 - 0 - EVENING | AZ12: =I12&" - "&AV12&" - "&Q12 -> 41275 - 0 - | BA12: =VLOOKUP(E12,'Répartition salles'!$C:$R,10,FALSE) -> 0 | BB12: =I12&" - "&BA12&" - "&N12 -> 41275 - 0 - AM | BC12: =I12&" - "&BA12&" - "&O12 -> 41275 - 0 - PM | BD12: =I12&" - "&BA12&" - "&P12 -> 41275 - 0 - EVENING | BE12: =I12&" - "&BA12&" - "&Q12 -> 41275 - 0 - | BF12: =VLOOKUP(E12,'Répartition salles'!$C:$R,11,FALSE) -> 0 | BG12: =I12&" - "&BF12&" - "&N12 -> 41275 - 0 - AM | BH12: =I12&" - "&BF12&" - "&O12 -> 41275 - 0 - PM | BI12: =I12&" - "&BF12&" - "&P12 -> 41275 - 0 - EVENING | BJ12: =I12&" - "&BF12&" - "&Q12 -> 41275 - 0 - | BK12: =VLOOKUP(E12,'Répartition salles'!$C:$R,12,FALSE) -> 0 | BL12: =I12&" - "&BK12&" - "&N12 -> 41275 - 0 - AM | BM12: =I12&" - "&BK12&" - "&O12 -> 41275 - 0 - PM | BN12: =I12&" - "&BK12&" - "&P12 -> 41275 - 0 - EVENING | BO12: =I12&" - "&BK12&" - "&Q12 -> 41275 - 0 - | BP12: =VLOOKUP(E12,'Répartition salles'!$C:$R,13,FALSE) -> 0 | BQ12: =I12&" - "&BP12&" - "&N12 -> 41275 - 0 - AM | BR12: =I12&" - "&BP12&" - "&O12 -> 41275 - 0 - PM | BS12: =I12&" - "&BP12&" - "&P12 -> 41275 - 0 - EVENING | BT12: =I12&" - "&BP12&" - "&Q12 -> 41275 - 0 - | BU12: =VLOOKUP(E12,'Répartition salles'!$C:$R,14,FALSE) -> 0 | BV12: =I12&" - "&BU12&" - "&N12 -> 41275 - 0 - AM | BW12: =I12&" - "&BU12&" - "&O12 -> 41275 - 0 - PM | BX12: =I12&" - "&BU12&" - "&P12 -> 41275 - 0 - EVENING | BY12: =I12&" - "&BU12&" - "&Q12 -> 41275 - 0 - | BZ12: =VLOOKUP(E12,'Répartition salles'!$C:$R,15,FALSE) -> 0 | CA12: =I12&" - "&BZ12&" - "&N12 -> 41275 - 0 - AM | CB12: =I12&" - "&BZ12&" - "&O12 -> 41275 - 0 - PM | CC12: =I12&" - "&BZ12&" - "&P12 -> 41275 - 0 - EVENING | CD12: =I12&" - "&BZ12&" - "&Q12 -> 41275 - 0 - | CE12: =VLOOKUP(E12,'Répartition salles'!$C:$R,16,FALSE) -> 0 | CF12: =I12&" - "&CE12&" - "&N12 -> 41275 - 0 - AM | CG12: =I12&" - "&CE12&" - "&O12 -> 41275 - 0 - PM | CH12: =I12&" - "&CE12&" - "&P12 -> 41275 - 0 - EVENING | CI12: =I12&" - "&CE12&" - "&Q12 -> 41275 - 0 - | CJ12: =F12 -> ACT
A13: 2312262 | B13: 3301861 | C13: COC | D13: Aperitif | E13: Foyer La Seine (0) | F13: ACT | G13: 0.8125 | H13: 0.83333333 | I13: 41276 | J13: GCO | K13: CON | L13: GOODYEAR | N13: =IF($G13=N$8,"",IF(AND($G13<$H13,N$7<N$8,OR(AND($G13>N$7,$G13<=N$8),AND($H13>N$7,$H13<=N$8),AND($G13<N$7,$H13>N$8))),"AM",IF(AND($G13<$H13,N$7>N$8,OR(AND($G13>N$7,$G13<=N$8+1),AND($H13>N$7,$H13<=N$8+1),AND($G13<N$7,$H13>N$8+1))),"AM",IF(AND($G13>$H13,N$7<N$8,OR(AND($G13>N$7,$G13<=N$8),AND($H13+1>N$7,$H13+1<=N$8),AND($G13<N$7,$H13+1>N$8))),"AM",IF(AND($G13>$H13,N$7>N$8,OR(AND($G13>N$7,$G13<=N$8+1),AND($H13+1>N$7,$H13+1<=N$8+1),AND($G13<N$7,$H13+1>N$8+1))),"AM",""))))) | O13: =IF($G13=O$8,"",IF(AND($G13<$H13,O$7<O$8,OR(AND($G13>O$7,$G13<=O$8),AND($H13>O$7,$H13<=O$8),AND($G13<O$7,$H13>O$8))),"PM",IF(AND($G13<$H13,O$7>O$8,OR(AND($G13>O$7,$G13<=O$8+1),AND($H13>O$7,$H13<=O$8+1),AND($G13<O$7,$H13>O$8+1))),"PM",IF(AND($G13>$H13,O$7<O$8,OR(AND($G13>O$7,$G13<=O$8),AND($H13+1>O$7,$H13+1<=O$8),AND($G13<O$7,$H13+1>O$8))),"PM",IF(AND($G13>$H13,O$7>O$8,OR(AND($G13>O$7,$G13<=O$8+1),AND($H13+1>O$7,$H13+1<=O$8+1),AND($G13<O$7,$H13+1>O$8+1))),"PM",""))))) | P13: =IF($G13=P$8,"",IF(AND($G13<$H13,P$7<P$8,OR(AND($G13>P$7,$G13<=P$8),AND($H13>P$7,$H13<=P$8),AND($G13<P$7,$H13>P$8))),"EVENING",IF(AND($G13<$H13,P$7>P$8,OR(AND($G13>P$7,$G13<=P$8+1),AND($H13>P$7,$H13<=P$8+1),AND($G13<P$7,$H13>P$8+1))),"EVENING",IF(AND($G13>$H13,P$7<P$8,OR(AND($G13>P$7,$G13<=P$8),AND($H13+1>P$7,$H13+1<=P$8),AND($G13<P$7,$H13+1>P$8))),"EVENING",IF(AND($G13>$H13,P$7>P$8,OR(AND($G13>P$7,$G13<=P$8+1),AND($H13+1>P$7,$H13+1<=P$8+1),AND($G13<P$7,$H13+1>P$8+1))),"EVENING",""))))) -> EVENING | Q13: =IF($G13=Q$8,"",IF(AND($G13<$H13,Q$7<Q$8,OR(AND($G13>Q$7,$G13<=Q$8),AND($H13>Q$7,$H13<=Q$8),AND($G13<Q$7,$H13>Q$8))),"NIGHT",IF(AND($G13<$H13,Q$7>Q$8,OR(AND($G13>Q$7,$G13<=Q$8+1),AND($H13>Q$7,$H13<=Q$8+1),AND($G13<Q$7,$H13>Q$8+1))),"NIGHT",IF(AND($G13>$H13,Q$7<Q$8,OR(AND($G13>Q$7,$G13<=Q$8),AND($H13+1>Q$7,$H13+1<=Q$8),AND($G13<Q$7,$H13+1>Q$8))),"NIGHT",IF(AND($G13>$H13,Q$7>Q$8,OR(AND($G13>Q$7,$G13<=Q$8+1),AND($H13+1>Q$7,$H13+1<=Q$8+1),AND($G13<Q$7,$H13+1>Q$8+1))),"NIGHT",""))))) | R13: =TEXT(DAY(I13),"jjjj") -> lundi | S13: =DAY(I13) -> 2 | T13: =MONTH(I13) -> 1 | U13: =IF(OR(R13="Samedi",R13="Dimanche"),"weekend","week") -> week | V13: =U13&" - "&E13 -> week - Foyer La Seine (0) | W13: =T13&" - "&U13&" - "&E13& " - "&N13 -> 1 - week - Foyer La Seine (0) - | X13: =T13&" - "&U13&" - "&E13& " - "&O13 -> 1 - week - Foyer La Seine (0) - | Y13: =T13&" - "&U13&" - "&E13& " - "&P13 -> 1 - week - Foyer La Seine (0) - EVENING | Z13: =T13&" - "&U13&" - "&E13&" - "&Q13 -> 1 - week - Foyer La Seine (0) - | AA13: =I13&" - "&E13&" - "&N13 -> 41276 - Foyer La Seine (0) - | AB13: =I13&" - "&E13&" - "&O13 -> 41276 - Foyer La Seine (0) - | AC13: =I13&" - "&E13&" - "&P13 -> 41276 - Foyer La Seine (0) - EVENING | AD13: =I13&" - "&E13&" - "&Q13 -> 41276 - Foyer La Seine (0) - | AE13: =F13 -> ACT | AG13: =VLOOKUP(E13,'Répartition salles'!$C:$R,6,FALSE) -> Foyer Rives de Seine | AH13: =I13&" - "&AG13&" - "&N13 -> 41276 - Foyer Rives de Seine - | AI13: =I13&" - "&AG13&" - "&O13 -> 41276 - Foyer Rives de Seine - | AJ13: =I13&" - "&AG13&" - "&P13 -> 41276 - Foyer Rives de Seine - EVENING | AK13: =I13&" - "&AG13&" - "&Q13 -> 41276 - Foyer Rives de Seine - | AL13: =VLOOKUP(E13,'Répartition salles'!$C:$R,7,FALSE) -> 0 | AM13: =I13&" - "&AL13&" - "&N13 -> 41276 - 0 - | AN13: =I13&" - "&AL13&" - "&O13 -> 41276 - 0 - | AO13: =I13&" - "&AL13&" - "&P13 -> 41276 - 0 - EVENING | AP13: =I13&" - "&AL13&" - "&Q13 -> 41276 - 0 - | AQ13: =VLOOKUP(E13,'Répartition salles'!$C:$R,8,FALSE) -> 0 | AR13: =I13&" - "&AQ13&" - "&N13 -> 41276 - 0 - | AS13: =I13&" - "&AQ13&" - "&O13 -> 41276 - 0 - | AT13: =I13&" - "&AQ13&" - "&P13 -> 41276 - 0 - EVENING | AU13: =I13&" - "&AQ13&" - "&Q13 -> 41276 - 0 - | AV13: =VLOOKUP(E13,'Répartition salles'!$C:$R,9,FALSE) -> 0 | AW13: =I13&" - "&AV13&" - "&N13 -> 41276 - 0 - | AX13: =I13&" - "&AV13&" - "&O13 -> 41276 - 0 - | AY13: =I13&" - "&AV13&" - "&P13 -> 41276 - 0 - EVENING | AZ13: =I13&" - "&AV13&" - "&Q13 -> 41276 - 0 - | BA13: =VLOOKUP(E13,'Répartition salles'!$C:$R,10,FALSE) -> 0 | BB13: =I13&" - "&BA13&" - "&N13 -> 41276 - 0 - | BC13: =I13&" - "&BA13&" - "&O13 -> 41276 - 0 - | BD13: =I13&" - "&BA13&" - "&P13 -> 41276 - 0 - EVENING | BE13: =I13&" - "&BA13&" - "&Q13 -> 41276 - 0 - | BF13: =VLOOKUP(E13,'Répartition salles'!$C:$R,11,FALSE) -> 0 | BG13: =I13&" - "&BF13&" - "&N13 -> 41276 - 0 - | BH13: =I13&" - "&BF13&" - "&O13 -> 41276 - 0 - | BI13: =I13&" - "&BF13&" - "&P13 -> 41276 - 0 - EVENING | BJ13: =I13&" - "&BF13&" - "&Q13 -> 41276 - 0 - | BK13: =VLOOKUP(E13,'Répartition salles'!$C:$R,12,FALSE) -> 0 | BL13: =I13&" - "&BK13&" - "&N13 -> 41276 - 0 - | BM13: =I13&" - "&BK13&" - "&O13 -> 41276 - 0 - | BN13: =I13&" - "&BK13&" - "&P13 -> 41276 - 0 - EVENING | BO13: =I13&" - "&BK13&" - "&Q13 -> 41276 - 0 - | BP13: =VLOOKUP(E13,'Répartition salles'!$C:$R,13,FALSE) -> 0 | BQ13: =I13&" - "&BP13&" - "&N13 -> 41276 - 0 - | BR13: =I13&" - "&BP13&" - "&O13 -> 41276 - 0 - | BS13: =I13&" - "&BP13&" - "&P13 -> 41276 - 0 - EVENING | BT13: =I13&" - "&BP13&" - "&Q13 -> 41276 - 0 - | BU13: =VLOOKUP(E13,'Répartition salles'!$C:$R,14,FALSE) -> 0 | BV13: =I13&" - "&BU13&" - "&N13 -> 41276 - 0 - | BW13: =I13&" - "&BU13&" - "&O13 -> 41276 - 0 - | BX13: =I13&" - "&BU13&" - "&P13 -> 41276 - 0 - EVENING | BY13: =I13&" - "&BU13&" - "&Q13 -> 41276 - 0 - | BZ13: =VLOOKUP(E13,'Répartition salles'!$C:$R,15,FALSE) -> 0 | CA13: =I13&" - "&BZ13&" - "&N13 -> 41276 - 0 - | CB13: =I13&" - "&BZ13&" - "&O13 -> 41276 - 0 - | CC13: =I13&" - "&BZ13&" - "&P13 -> 41276 - 0 - EVENING | CD13: =I13&" - "&BZ13&" - "&Q13 -> 41276 - 0 - | CE13: =VLOOKUP(E13,'Répartition salles'!$C:$R,16,FALSE) -> 0 | CF13: =I13&" - "&CE13&" - "&N13 -> 41276 - 0 - | CG13: =I13&" - "&CE13&" - "&O13 -> 41276 - 0 - | CH13: =I13&" - "&CE13&" - "&P13 -> 41276 - 0 - EVENING | CI13: =I13&" - "&CE13&" - "&Q13 -> 41276 - 0 - | CJ13: =F13 -> ACT
A14: 2312262 | B14: 3154677 | C14: MET | D14: Pleniere Consumer | E14: La Seine C (0) | F14: ACT | G14: 0.29166667 | H14: 0.79166667 | I14: 41276 | J14: GCO | K14: CON | L14: GOODYEAR | N14: =IF($G14=N$8,"",IF(AND($G14<$H14,N$7<N$8,OR(AND($G14>N$7,$G14<=N$8),AND($H14>N$7,$H14<=N$8),AND($G14<N$7,$H14>N$8))),"AM",IF(AND($G14<$H14,N$7>N$8,OR(AND($G14>N$7,$G14<=N$8+1),AND($H14>N$7,$H14<=N$8+1),AND($G14<N$7,$H14>N$8+1))),"AM",IF(AND($G14>$H14,N$7<N$8,OR(AND($G14>N$7,$G14<=N$8),AND($H14+1>N$7,$H14+1<=N$8),AND($G14<N$7,$H14+1>N$8))),"AM",IF(AND($G14>$H14,N$7>N$8,OR(AND($G14>N$7,$G14<=N$8+1),AND($H14+1>N$7,$H14+1<=N$8+1),AND($G14<N$7,$H14+1>N$8+1))),"AM",""))))) -> AM | O14: =IF($G14=O$8,"",IF(AND($G14<$H14,O$7<O$8,OR(AND($G14>O$7,$G14<=O$8),AND($H14>O$7,$H14<=O$8),AND($G14<O$7,$H14>O$8))),"PM",IF(AND($G14<$H14,O$7>O$8,OR(AND($G14>O$7,$G14<=O$8+1),AND($H14>O$7,$H14<=O$8+1),AND($G14<O$7,$H14>O$8+1))),"PM",IF(AND($G14>$H14,O$7<O$8,OR(AND($G14>O$7,$G14<=O$8),AND($H14+1>O$7,$H14+1<=O$8),AND($G14<O$7,$H14+1>O$8))),"PM",IF(AND($G14>$H14,O$7>O$8,OR(AND($G14>O$7,$G14<=O$8+1),AND($H14+1>O$7,$H14+1<=O$8+1),AND($G14<O$7,$H14+1>O$8+1))),"PM",""))))) -> PM | P14: =IF($G14=P$8,"",IF(AND($G14<$H14,P$7<P$8,OR(AND($G14>P$7,$G14<=P$8),AND($H14>P$7,$H14<=P$8),AND($G14<P$7,$H14>P$8))),"EVENING",IF(AND($G14<$H14,P$7>P$8,OR(AND($G14>P$7,$G14<=P$8+1),AND($H14>P$7,$H14<=P$8+1),AND($G14<P$7,$H14>P$8+1))),"EVENING",IF(AND($G14>$H14,P$7<P$8,OR(AND($G14>P$7,$G14<=P$8),AND($H14+1>P$7,$H14+1<=P$8),AND($G14<P$7,$H14+1>P$8))),"EVENING",IF(AND($G14>$H14,P$7>P$8,OR(AND($G14>P$7,$G14<=P$8+1),AND($H14+1>P$7,$H14+1<=P$8+1),AND($G14<P$7,$H14+1>P$8+1))),"EVENING",""))))) | Q14: =IF($G14=Q$8,"",IF(AND($G14<$H14,Q$7<Q$8,OR(AND($G14>Q$7,$G14<=Q$8),AND($H14>Q$7,$H14<=Q$8),AND($G14<Q$7,$H14>Q$8))),"NIGHT",IF(AND($G14<$H14,Q$7>Q$8,OR(AND($G14>Q$7,$G14<=Q$8+1),AND($H14>Q$7,$H14<=Q$8+1),AND($G14<Q$7,$H14>Q$8+1))),"NIGHT",IF(AND($G14>$H14,Q$7<Q$8,OR(AND($G14>Q$7,$G14<=Q$8),AND($H14+1>Q$7,$H14+1<=Q$8),AND($G14<Q$7,$H14+1>Q$8))),"NIGHT",IF(AND($G14>$H14,Q$7>Q$8,OR(AND($G14>Q$7,$G14<=Q$8+1),AND($H14+1>Q$7,$H14+1<=Q$8+1),AND($G14<Q$7,$H14+1>Q$8+1))),"NIGHT",""))))) | R14: =TEXT(DAY(I14),"jjjj") -> lundi | S14: =DAY(I14) -> 2 | T14: =MONTH(I14) -> 1 | U14: =IF(OR(R14="Samedi",R14="Dimanche"),"weekend","week") -> week | V14: =U14&" - "&E14 -> week - La Seine C (0) | W14: =T14&" - "&U14&" - "&E14& " - "&N14 -> 1 - week - La Seine C (0) - AM | X14: =T14&" - "&U14&" - "&E14& " - "&O14 -> 1 - week - La Seine C (0) - PM | Y14: =T14&" - "&U14&" - "&E14& " - "&P14 -> 1 - week - La Seine C (0) - | Z14: =T14&" - "&U14&" - "&E14&" - "&Q14 -> 1 - week - La Seine C (0) - | AA14: =I14&" - "&E14&" - "&N14 -> 41276 - La Seine C (0) - AM | AB14: =I14&" - "&E14&" - "&O14 -> 41276 - La Seine C (0) - PM | AC14: =I14&" - "&E14&" - "&P14 -> 41276 - La Seine C (0) - | AD14: =I14&" - "&E14&" - "&Q14 -> 41276 - La Seine C (0) - | AE14: =F14 -> ACT | AG14: =VLOOKUP(E14,'Répartition salles'!$C:$R,6,FALSE) -> Seine C | AH14: =I14&" - "&AG14&" - "&N14 -> 41276 - Seine C - AM | AI14: =I14&" - "&AG14&" - "&O14 -> 41276 - Seine C - PM | AJ14: =I14&" - "&AG14&" - "&P14 -> 41276 - Seine C - | AK14: =I14&" - "&AG14&" - "&Q14 -> 41276 - Seine C - | AL14: =VLOOKUP(E14,'Répartition salles'!$C:$R,7,FALSE) -> 0 | AM14: =I14&" - "&AL14&" - "&N14 -> 41276 - 0 - AM | AN14: =I14&" - "&AL14&" - "&O14 -> 41276 - 0 - PM | AO14: =I14&" - "&AL14&" - "&P14 -> 41276 - 0 - | AP14: =I14&" - "&AL14&" - "&Q14 -> 41276 - 0 - | AQ14: =VLOOKUP(E14,'Répartition salles'!$C:$R,8,FALSE) -> 0 | AR14: =I14&" - "&AQ14&" - "&N14 -> 41276 - 0 - AM | AS14: =I14&" - "&AQ14&" - "&O14 -> 41276 - 0 - PM | AT14: =I14&" - "&AQ14&" - "&P14 -> 41276 - 0 - | AU14: =I14&" - "&AQ14&" - "&Q14 -> 41276 - 0 - | AV14: =VLOOKUP(E14,'Répartition salles'!$C:$R,9,FALSE) -> 0 | AW14: =I14&" - "&AV14&" - "&N14 -> 41276 - 0 - AM | AX14: =I14&" - "&AV14&" - "&O14 -> 41276 - 0 - PM | AY14: =I14&" - "&AV14&" - "&P14 -> 41276 - 0 - | AZ14: =I14&" - "&AV14&" - "&Q14 -> 41276 - 0 - | BA14: =VLOOKUP(E14,'Répartition salles'!$C:$R,10,FALSE) -> 0 | BB14: =I14&" - "&BA14&" - "&N14 -> 41276 - 0 - AM | BC14: =I14&" - "&BA14&" - "&O14 -> 41276 - 0 - PM | BD14: =I14&" - "&BA14&" - "&P14 -> 41276 - 0 - | BE14: =I14&" - "&BA14&" - "&Q14 -> 41276 - 0 - | BF14: =VLOOKUP(E14,'Répartition salles'!$C:$R,11,FALSE) -> 0 | BG14: =I14&" - "&BF14&" - "&N14 -> 41276 - 0 - AM | BH14: =I14&" - "&BF14&" - "&O14 -> 41276 - 0 - PM | BI14: =I14&" - "&BF14&" - "&P14 -> 41276 - 0 - | BJ14: =I14&" - "&BF14&" - "&Q14 -> 41276 - 0 - | BK14: =VLOOKUP(E14,'Répartition salles'!$C:$R,12,FALSE) -> 0 | BL14: =I14&" - "&BK14&" - "&N14 -> 41276 - 0 - AM | BM14: =I14&" - "&BK14&" - "&O14 -> 41276 - 0 - PM | BN14: =I14&" - "&BK14&" - "&P14 -> 41276 - 0 - | BO14: =I14&" - "&BK14&" - "&Q14 -> 41276 - 0 - | BP14: =VLOOKUP(E14,'Répartition salles'!$C:$R,13,FALSE) -> 0 | BQ14: =I14&" - "&BP14&" - "&N14 -> 41276 - 0 - AM | BR14: =I14&" - "&BP14&" - "&O14 -> 41276 - 0 - PM | BS14: =I14&" - "&BP14&" - "&P14 -> 41276 - 0 - | BT14: =I14&" - "&BP14&" - "&Q14 -> 41276 - 0 - | BU14: =VLOOKUP(E14,'Répartition salles'!$C:$R,14,FALSE) -> 0 | BV14: =I14&" - "&BU14&" - "&N14 -> 41276 - 0 - AM | BW14: =I14&" - "&BU14&" - "&O14 -> 41276 - 0 - PM | BX14: =I14&" - "&BU14&" - "&P14 -> 41276 - 0 - | BY14: =I14&" - "&BU14&" - "&Q14 -> 41276 - 0 - | BZ14: =VLOOKUP(E14,'Répartition salles'!$C:$R,15,FALSE) -> 0 | CA14: =I14&" - "&BZ14&" - "&N14 -> 41276 - 0 - AM | CB14: =I14&" - "&BZ14&" - "&O14 -> 41276 - 0 - PM | CC14: =I14&" - "&BZ14&" - "&P14 -> 41276 - 0 - | CD14: =I14&" - "&BZ14&" - "&Q14 -> 41276 - 0 - | CE14: =VLOOKUP(E14,'Répartition salles'!$C:$R,16,FALSE) -> 0 | CF14: =I14&" - "&CE14&" - "&N14 -> 41276 - 0 - AM | CG14: =I14&" - "&CE14&" - "&O14 -> 41276 - 0 - PM | CH14: =I14&" - "&CE14&" - "&P14 -> 41276 - 0 - | CI14: =I14&" - "&CE14&" - "&Q14 -> 41276 - 0 - | CJ14: =F14 -> ACT
A15: 2312262 | B15: 3154680 | C15: OFI | D15: Office | E15: Le pont de Sully (0) | F15: ACT | G15: 0.29166667 | H15: 0.95833333 | I15: 41276 | J15: GCO | K15: CON | L15: GOODYEAR | N15: =IF($G15=N$8,"",IF(AND($G15<$H15,N$7<N$8,OR(AND($G15>N$7,$G15<=N$8),AND($H15>N$7,$H15<=N$8),AND($G15<N$7,$H15>N$8))),"AM",IF(AND($G15<$H15,N$7>N$8,OR(AND($G15>N$7,$G15<=N$8+1),AND($H15>N$7,$H15<=N$8+1),AND($G15<N$7,$H15>N$8+1))),"AM",IF(AND($G15>$H15,N$7<N$8,OR(AND($G15>N$7,$G15<=N$8),AND($H15+1>N$7,$H15+1<=N$8),AND($G15<N$7,$H15+1>N$8))),"AM",IF(AND($G15>$H15,N$7>N$8,OR(AND($G15>N$7,$G15<=N$8+1),AND($H15+1>N$7,$H15+1<=N$8+1),AND($G15<N$7,$H15+1>N$8+1))),"AM",""))))) -> AM | O15: =IF($G15=O$8,"",IF(AND($G15<$H15,O$7<O$8,OR(AND($G15>O$7,$G15<=O$8),AND($H15>O$7,$H15<=O$8),AND($G15<O$7,$H15>O$8))),"PM",IF(AND($G15<$H15,O$7>O$8,OR(AND($G15>O$7,$G15<=O$8+1),AND($H15>O$7,$H15<=O$8+1),AND($G15<O$7,$H15>O$8+1))),"PM",IF(AND($G15>$H15,O$7<O$8,OR(AND($G15>O$7,$G15<=O$8),AND($H15+1>O$7,$H15+1<=O$8),AND($G15<O$7,$H15+1>O$8))),"PM",IF(AND($G15>$H15,O$7>O$8,OR(AND($G15>O$7,$G15<=O$8+1),AND($H15+1>O$7,$H15+1<=O$8+1),AND($G15<O$7,$H15+1>O$8+1))),"PM",""))))) -> PM | P15: =IF($G15=P$8,"",IF(AND($G15<$H15,P$7<P$8,OR(AND($G15>P$7,$G15<=P$8),AND($H15>P$7,$H15<=P$8),AND($G15<P$7,$H15>P$8))),"EVENING",IF(AND($G15<$H15,P$7>P$8,OR(AND($G15>P$7,$G15<=P$8+1),AND($H15>P$7,$H15<=P$8+1),AND($G15<P$7,$H15>P$8+1))),"EVENING",IF(AND($G15>$H15,P$7<P$8,OR(AND($G15>P$7,$G15<=P$8),AND($H15+1>P$7,$H15+1<=P$8),AND($G15<P$7,$H15+1>P$8))),"EVENING",IF(AND($G15>$H15,P$7>P$8,OR(AND($G15>P$7,$G15<=P$8+1),AND($H15+1>P$7,$H15+1<=P$8+1),AND($G15<P$7,$H15+1>P$8+1))),"EVENING",""))))) -> EVENING | Q15: =IF($G15=Q$8,"",IF(AND($G15<$H15,Q$7<Q$8,OR(AND($G15>Q$7,$G15<=Q$8),AND($H15>Q$7,$H15<=Q$8),AND($G15<Q$7,$H15>Q$8))),"NIGHT",IF(AND($G15<$H15,Q$7>Q$8,OR(AND($G15>Q$7,$G15<=Q$8+1),AND($H15>Q$7,$H15<=Q$8+1),AND($G15<Q$7,$H15>Q$8+1))),"NIGHT",IF(AND($G15>$H15,Q$7<Q$8,OR(AND($G15>Q$7,$G15<=Q$8),AND($H15+1>Q$7,$H15+1<=Q$8),AND($G15<Q$7,$H15+1>Q$8))),"NIGHT",IF(AND($G15>$H15,Q$7>Q$8,OR(AND($G15>Q$7,$G15<=Q$8+1),AND($H15+1>Q$7,$H15+1<=Q$8+1),AND($G15<Q$7,$H15+1>Q$8+1))),"NIGHT",""))))) | R15: =TEXT(DAY(I15),"jjjj") -> lundi | S15: =DAY(I15) -> 2 | T15: =MONTH(I15) -> 1 | U15: =IF(OR(R15="Samedi",R15="Dimanche"),"weekend","week") -> week | V15: =U15&" - "&E15 -> week - Le pont de Sully (0) | W15: =T15&" - "&U15&" - "&E15& " - "&N15 -> 1 - week - Le pont de Sully (0) - AM | X15: =T15&" - "&U15&" - "&E15& " - "&O15 -> 1 - week - Le pont de Sully (0) - PM | Y15: =T15&" - "&U15&" - "&E15& " - "&P15 -> 1 - week - Le pont de Sully (0) - EVENING | Z15: =T15&" - "&U15&" - "&E15&" - "&Q15 -> 1 - week - Le pont de Sully (0) - | AA15: =I15&" - "&E15&" - "&N15 -> 41276 - Le pont de Sully (0) - AM | AB15: =I15&" - "&E15&" - "&O15 -> 41276 - Le pont de Sully (0) - PM | AC15: =I15&" - "&E15&" - "&P15 -> 41276 - Le pont de Sully (0) - EVENING | AD15: =I15&" - "&E15&" - "&Q15 -> 41276 - Le pont de Sully (0) - | AE15: =F15 -> ACT | AG15: =VLOOKUP(E15,'Répartition salles'!$C:$R,6,FALSE) -> Pont de Sully A | AH15: =I15&" - "&AG15&" - "&N15 -> 41276 - Pont de Sully A - AM | AI15: =I15&" - "&AG15&" - "&O15 -> 41276 - Pont de Sully A - PM | AJ15: =I15&" - "&AG15&" - "&P15 -> 41276 - Pont de Sully A - EVENING | AK15: =I15&" - "&AG15&" - "&Q15 -> 41276 - Pont de Sully A - | AL15: =VLOOKUP(E15,'Répartition salles'!$C:$R,7,FALSE) -> Pont de Sully B | AM15: =I15&" - "&AL15&" - "&N15 -> 41276 - Pont de Sully B - AM | AN15: =I15&" - "&AL15&" - "&O15 -> 41276 - Pont de Sully B - PM | AO15: =I15&" - "&AL15&" - "&P15 -> 41276 - Pont de Sully B - EVENING | AP15: =I15&" - "&AL15&" - "&Q15 -> 41276 - Pont de Sully B - | AQ15: =VLOOKUP(E15,'Répartition salles'!$C:$R,8,FALSE) -> 0 | AR15: =I15&" - "&AQ15&" - "&N15 -> 41276 - 0 - AM | AS15: =I15&" - "&AQ15&" - "&O15 -> 41276 - 0 - PM | AT15: =I15&" - "&AQ15&" - "&P15 -> 41276 - 0 - EVENING | AU15: =I15&" - "&AQ15&" - "&Q15 -> 41276 - 0 - | AV15: =VLOOKUP(E15,'Répartition salles'!$C:$R,9,FALSE) -> 0 | AW15: =I15&" - "&AV15&" - "&N15 -> 41276 - 0 - AM | AX15: =I15&" - "&AV15&" - "&O15 -> 41276 - 0 - PM | AY15: =I15&" - "&AV15&" - "&P15 -> 41276 - 0 - EVENING | AZ15: =I15&" - "&AV15&" - "&Q15 -> 41276 - 0 - | BA15: =VLOOKUP(E15,'Répartition salles'!$C:$R,10,FALSE) -> 0 | BB15: =I15&" - "&BA15&" - "&N15 -> 41276 - 0 - AM | BC15: =I15&" - "&BA15&" - "&O15 -> 41276 - 0 - PM | BD15: =I15&" - "&BA15&" - "&P15 -> 41276 - 0 - EVENING | BE15: =I15&" - "&BA15&" - "&Q15 -> 41276 - 0 - | BF15: =VLOOKUP(E15,'Répartition salles'!$C:$R,11,FALSE) -> 0 | BG15: =I15&" - "&BF15&" - "&N15 -> 41276 - 0 - AM | BH15: =I15&" - "&BF15&" - "&O15 -> 41276 - 0 - PM | BI15: =I15&" - "&BF15&" - "&P15 -> 41276 - 0 - EVENING | BJ15: =I15&" - "&BF15&" - "&Q15 -> 41276 - 0 - | BK15: =VLOOKUP(E15,'Répartition salles'!$C:$R,12,FALSE) -> 0 | BL15: =I15&" - "&BK15&" - "&N15 -> 41276 - 0 - AM | BM15: =I15&" - "&BK15&" - "&O15 -> 41276 - 0 - PM | BN15: =I15&" - "&BK15&" - "&P15 -> 41276 - 0 - EVENING | BO15: =I15&" - "&BK15&" - "&Q15 -> 41276 - 0 - | BP15: =VLOOKUP(E15,'Répartition salles'!$C:$R,13,FALSE) -> 0 | BQ15: =I15&" - "&BP15&" - "&N15 -> 41276 - 0 - AM | BR15: =I15&" - "&BP15&" - "&O15 -> 41276 - 0 - PM | BS15: =I15&" - "&BP15&" - "&P15 -> 41276 - 0 - EVENING | BT15: =I15&" - "&BP15&" - "&Q15 -> 41276 - 0 - | BU15: =VLOOKUP(E15,'Répartition salles'!$C:$R,14,FALSE) -> 0 | BV15: =I15&" - "&BU15&" - "&N15 -> 41276 - 0 - AM | BW15: =I15&" - "&BU15&" - "&O15 -> 41276 - 0 - PM | BX15: =I15&" - "&BU15&" - "&P15 -> 41276 - 0 - EVENING | BY15: =I15&" - "&BU15&" - "&Q15 -> 41276 - 0 - | BZ15: =VLOOKUP(E15,'Répartition salles'!$C:$R,15,FALSE) -> 0 | CA15: =I15&" - "&BZ15&" - "&N15 -> 41276 - 0 - AM | CB15: =I15&" - "&BZ15&" - "&O15 -> 41276 - 0 - PM | CC15: =I15&" - "&BZ15&" - "&P15 -> 41276 - 0 - EVENING | CD15: =I15&" - "&BZ15&" - "&Q15 -> 41276 - 0 - | CE15: =VLOOKUP(E15,'Répartition salles'!$C:$R,16,FALSE) -> 0 | CF15: =I15&" - "&CE15&" - "&N15 -> 41276 - 0 - AM | CG15: =I15&" - "&CE15&" - "&O15 -> 41276 - 0 - PM | CH15: =I15&" - "&CE15&" - "&P15 -> 41276 - 0 - EVENING | CI15: =I15&" - "&CE15&" - "&Q15 -> 41276 - 0 - | CJ15: =F15 -> ACT
A16: 2312262 | B16: 3396323 | C16: SET | D16: Setup Pleniere | E16: La Seine A & B (0) | F16: ACT | G16: 0.375 | H16: 0.95833333 | I16: 41276 | J16: GCO | K16: CON | L16: GOODYEAR | N16: =IF($G16=N$8,"",IF(AND($G16<$H16,N$7<N$8,OR(AND($G16>N$7,$G16<=N$8),AND($H16>N$7,$H16<=N$8),AND($G16<N$7,$H16>N$8))),"AM",IF(AND($G16<$H16,N$7>N$8,OR(AND($G16>N$7,$G16<=N$8+1),AND($H16>N$7,$H16<=N$8+1),AND($G16<N$7,$H16>N$8+1))),"AM",IF(AND($G16>$H16,N$7<N$8,OR(AND($G16>N$7,$G16<=N$8),AND($H16+1>N$7,$H16+1<=N$8),AND($G16<N$7,$H16+1>N$8))),"AM",IF(AND($G16>$H16,N$7>N$8,OR(AND($G16>N$7,$G16<=N$8+1),AND($H16+1>N$7,$H16+1<=N$8+1),AND($G16<N$7,$H16+1>N$8+1))),"AM",""))))) -> AM | O16: =IF($G16=O$8,"",IF(AND($G16<$H16,O$7<O$8,OR(AND($G16>O$7,$G16<=O$8),AND($H16>O$7,$H16<=O$8),AND($G16<O$7,$H16>O$8))),"PM",IF(AND($G16<$H16,O$7>O$8,OR(AND($G16>O$7,$G16<=O$8+1),AND($H16>O$7,$H16<=O$8+1),AND($G16<O$7,$H16>O$8+1))),"PM",IF(AND($G16>$H16,O$7<O$8,OR(AND($G16>O$7,$G16<=O$8),AND($H16+1>O$7,$H16+1<=O$8),AND($G16<O$7,$H16+1>O$8))),"PM",IF(AND($G16>$H16,O$7>O$8,OR(AND($G16>O$7,$G16<=O$8+1),AND($H16+1>O$7,$H16+1<=O$8+1),AND($G16<O$7,$H16+1>O$8+1))),"PM",""))))) -> PM | P16: =IF($G16=P$8,"",IF(AND($G16<$H16,P$7<P$8,OR(AND($G16>P$7,$G16<=P$8),AND($H16>P$7,$H16<=P$8),AND($G16<P$7,$H16>P$8))),"EVENING",IF(AND($G16<$H16,P$7>P$8,OR(AND($G16>P$7,$G16<=P$8+1),AND($H16>P$7,$H16<=P$8+1),AND($G16<P$7,$H16>P$8+1))),"EVENING",IF(AND($G16>$H16,P$7<P$8,OR(AND($G16>P$7,$G16<=P$8),AND($H16+1>P$7,$H16+1<=P$8),AND($G16<P$7,$H16+1>P$8))),"EVENING",IF(AND($G16>$H16,P$7>P$8,OR(AND($G16>P$7,$G16<=P$8+1),AND($H16+1>P$7,$H16+1<=P$8+1),AND($G16<P$7,$H16+1>P$8+1))),"EVENING",""))))) -> EVENING | Q16: =IF($G16=Q$8,"",IF(AND($G16<$H16,Q$7<Q$8,OR(AND($G16>Q$7,$G16<=Q$8),AND($H16>Q$7,$H16<=Q$8),AND($G16<Q$7,$H16>Q$8))),"NIGHT",IF(AND($G16<$H16,Q$7>Q$8,OR(AND($G16>Q$7,$G16<=Q$8+1),AND($H16>Q$7,$H16<=Q$8+1),AND($G16<Q$7,$H16>Q$8+1))),"NIGHT",IF(AND($G16>$H16,Q$7<Q$8,OR(AND($G16>Q$7,$G16<=Q$8),AND($H16+1>Q$7,$H16+1<=Q$8),AND($G16<Q$7,$H16+1>Q$8))),"NIGHT",IF(AND($G16>$H16,Q$7>Q$8,OR(AND($G16>Q$7,$G16<=Q$8+1),AND($H16+1>Q$7,$H16+1<=Q$8+1),AND($G16<Q$7,$H16+1>Q$8+1))),"NIGHT",""))))) | R16: =TEXT(DAY(I16),"jjjj") -> lundi | S16: =DAY(I16) -> 2 | T16: =MONTH(I16) -> 1 | U16: =IF(OR(R16="Samedi",R16="Dimanche"),"weekend","week") -> week | V16: =U16&" - "&E16 -> week - La Seine A & B (0) | W16: =T16&" - "&U16&" - "&E16& " - "&N16 -> 1 - week - La Seine A & B (0) - AM | X16: =T16&" - "&U16&" - "&E16& " - "&O16 -> 1 - week - La Seine A & B (0) - PM | Y16: =T16&" - "&U16&" - "&E16& " - "&P16 -> 1 - week - La Seine A & B (0) - EVENING | Z16: =T16&" - "&U16&" - "&E16&" - "&Q16 -> 1 - week - La Seine A & B (0) - | AA16: =I16&" - "&E16&" - "&N16 -> 41276 - La Seine A & B (0) - AM | AB16: =I16&" - "&E16&" - "&O16 -> 41276 - La Seine A & B (0) - PM | AC16: =I16&" - "&E16&" - "&P16 -> 41276 - La Seine A & B (0) - EVENING | AD16: =I16&" - "&E16&" - "&Q16 -> 41276 - La Seine A & B (0) - | AE16: =F16 -> ACT | AG16: =VLOOKUP(E16,'Répartition salles'!$C:$R,6,FALSE) -> Seine A | AH16: =I16&" - "&AG16&" - "&N16 -> 41276 - Seine A - AM | AI16: =I16&" - "&AG16&" - "&O16 -> 41276 - Seine A - PM | AJ16: =I16&" - "&AG16&" - "&P16 -> 41276 - Seine A - EVENING | AK16: =I16&" - "&AG16&" - "&Q16 -> 41276 - Seine A - | AL16: =VLOOKUP(E16,'Répartition salles'!$C:$R,7,FALSE) -> Seine B | AM16: =I16&" - "&AL16&" - "&N16 -> 41276 - Seine B - AM | AN16: =I16&" - "&AL16&" - "&O16 -> 41276 - Seine B - PM | AO16: =I16&" - "&AL16&" - "&P16 -> 41276 - Seine B - EVENING | AP16: =I16&" - "&AL16&" - "&Q16 -> 41276 - Seine B - | AQ16: =VLOOKUP(E16,'Répartition salles'!$C:$R,8,FALSE) -> 0 | AR16: =I16&" - "&AQ16&" - "&N16 -> 41276 - 0 - AM | AS16: =I16&" - "&AQ16&" - "&O16 -> 41276 - 0 - PM | AT16: =I16&" - "&AQ16&" - "&P16 -> 41276 - 0 - EVENING | AU16: =I16&" - "&AQ16&" - "&Q16 -> 41276 - 0 - | AV16: =VLOOKUP(E16,'Répartition salles'!$C:$R,9,FALSE) -> 0 | AW16: =I16&" - "&AV16&" - "&N16 -> 41276 - 0 - AM | AX16: =I16&" - "&AV16&" - "&O16 -> 41276 - 0 - PM | AY16: =I16&" - "&AV16&" - "&P16 -> 41276 - 0 - EVENING | AZ16: =I16&" - "&AV16&" - "&Q16 -> 41276 - 0 - | BA16: =VLOOKUP(E16,'Répartition salles'!$C:$R,10,FALSE) -> 0 | BB16: =I16&" - "&BA16&" - "&N16 -> 41276 - 0 - AM | BC16: =I16&" - "&BA16&" - "&O16 -> 41276 - 0 - PM | BD16: =I16&" - "&BA16&" - "&P16 -> 41276 - 0 - EVENING | BE16: =I16&" - "&BA16&" - "&Q16 -> 41276 - 0 - | BF16: =VLOOKUP(E16,'Répartition salles'!$C:$R,11,FALSE) -> 0 | BG16: =I16&" - "&BF16&" - "&N16 -> 41276 - 0 - AM | BH16: =I16&" - "&BF16&" - "&O16 -> 41276 - 0 - PM | BI16: =I16&" - "&BF16&" - "&P16 -> 41276 - 0 - EVENING | BJ16: =I16&" - "&BF16&" - "&Q16 -> 41276 - 0 - | BK16: =VLOOKUP(E16,'Répartition salles'!$C:$R,12,FALSE) -> 0 | BL16: =I16&" - "&BK16&" - "&N16 -> 41276 - 0 - AM | BM16: =I16&" - "&BK16&" - "&O16 -> 41276 - 0 - PM | BN16: =I16&" - "&BK16&" - "&P16 -> 41276 - 0 - EVENING | BO16: =I16&" - "&BK16&" - "&Q16 -> 41276 - 0 - | BP16: =VLOOKUP(E16,'Répartition salles'!$C:$R,13,FALSE) -> 0 | BQ16: =I16&" - "&BP16&" - "&N16 -> 41276 - 0 - AM | BR16: =I16&" - "&BP16&" - "&O16 -> 41276 - 0 - PM | BS16: =I16&" - "&BP16&" - "&P16 -> 41276 - 0 - EVENING | BT16: =I16&" - "&BP16&" - "&Q16 -> 41276 - 0 - | BU16: =VLOOKUP(E16,'Répartition salles'!$C:$R,14,FALSE) -> 0 | BV16: =I16&" - "&BU16&" - "&N16 -> 41276 - 0 - AM | BW16: =I16&" - "&BU16&" - "&O16 -> 41276 - 0 - PM | BX16: =I16&" - "&BU16&" - "&P16 -> 41276 - 0 - EVENING | BY16: =I16&" - "&BU16&" - "&Q16 -> 41276 - 0 - | BZ16: =VLOOKUP(E16,'Répartition salles'!$C:$R,15,FALSE) -> 0 | CA16: =I16&" - "&BZ16&" - "&N16 -> 41276 - 0 - AM | CB16: =I16&" - "&BZ16&" - "&O16 -> 41276 - 0 - PM | CC16: =I16&" - "&BZ16&" - "&P16 -> 41276 - 0 - EVENING | CD16: =I16&" - "&BZ16&" - "&Q16 -> 41276 - 0 - | CE16: =VLOOKUP(E16,'Répartition salles'!$C:$R,16,FALSE) -> 0 | CF16: =I16&" - "&CE16&" - "&N16 -> 41276 - 0 - AM | CG16: =I16&" - "&CE16&" - "&O16 -> 41276 - 0 - PM | CH16: =I16&" - "&CE16&" - "&P16 -> 41276 - 0 - EVENING | CI16: =I16&" - "&CE16&" - "&Q16 -> 41276 - 0 - | CJ16: =F16 -> ACT
A17: 2312262 | B17: 3396329 | C17: STO | D17: Storage et Bagagerie Arrivee back up | E17: Le Pont des Arts A (0) | F17: ACT | G17: 0.29166667 | H17: 0.95833333 | I17: 41276 | J17: GCO | K17: CON | L17: GOODYEAR | N17: =IF($G17=N$8,"",IF(AND($G17<$H17,N$7<N$8,OR(AND($G17>N$7,$G17<=N$8),AND($H17>N$7,$H17<=N$8),AND($G17<N$7,$H17>N$8))),"AM",IF(AND($G17<$H17,N$7>N$8,OR(AND($G17>N$7,$G17<=N$8+1),AND($H17>N$7,$H17<=N$8+1),AND($G17<N$7,$H17>N$8+1))),"AM",IF(AND($G17>$H17,N$7<N$8,OR(AND($G17>N$7,$G17<=N$8),AND($H17+1>N$7,$H17+1<=N$8),AND($G17<N$7,$H17+1>N$8))),"AM",IF(AND($G17>$H17,N$7>N$8,OR(AND($G17>N$7,$G17<=N$8+1),AND($H17+1>N$7,$H17+1<=N$8+1),AND($G17<N$7,$H17+1>N$8+1))),"AM",""))))) -> AM | O17: =IF($G17=O$8,"",IF(AND($G17<$H17,O$7<O$8,OR(AND($G17>O$7,$G17<=O$8),AND($H17>O$7,$H17<=O$8),AND($G17<O$7,$H17>O$8))),"PM",IF(AND($G17<$H17,O$7>O$8,OR(AND($G17>O$7,$G17<=O$8+1),AND($H17>O$7,$H17<=O$8+1),AND($G17<O$7,$H17>O$8+1))),"PM",IF(AND($G17>$H17,O$7<O$8,OR(AND($G17>O$7,$G17<=O$8),AND($H17+1>O$7,$H17+1<=O$8),AND($G17<O$7,$H17+1>O$8))),"PM",IF(AND($G17>$H17,O$7>O$8,OR(AND($G17>O$7,$G17<=O$8+1),AND($H17+1>O$7,$H17+1<=O$8+1),AND($G17<O$7,$H17+1>O$8+1))),"PM",""))))) -> PM | P17: =IF($G17=P$8,"",IF(AND($G17<$H17,P$7<P$8,OR(AND($G17>P$7,$G17<=P$8),AND($H17>P$7,$H17<=P$8),AND($G17<P$7,$H17>P$8))),"EVENING",IF(AND($G17<$H17,P$7>P$8,OR(AND($G17>P$7,$G17<=P$8+1),AND($H17>P$7,$H17<=P$8+1),AND($G17<P$7,$H17>P$8+1))),"EVENING",IF(AND($G17>$H17,P$7<P$8,OR(AND($G17>P$7,$G17<=P$8),AND($H17+1>P$7,$H17+1<=P$8),AND($G17<P$7,$H17+1>P$8))),"EVENING",IF(AND($G17>$H17,P$7>P$8,OR(AND($G17>P$7,$G17<=P$8+1),AND($H17+1>P$7,$H17+1<=P$8+1),AND($G17<P$7,$H17+1>P$8+1))),"EVENING",""))))) -> EVENING | Q17: =IF($G17=Q$8,"",IF(AND($G17<$H17,Q$7<Q$8,OR(AND($G17>Q$7,$G17<=Q$8),AND($H17>Q$7,$H17<=Q$8),AND($G17<Q$7,$H17>Q$8))),"NIGHT",IF(AND($G17<$H17,Q$7>Q$8,OR(AND($G17>Q$7,$G17<=Q$8+1),AND($H17>Q$7,$H17<=Q$8+1),AND($G17<Q$7,$H17>Q$8+1))),"NIGHT",IF(AND($G17>$H17,Q$7<Q$8,OR(AND($G17>Q$7,$G17<=Q$8),AND($H17+1>Q$7,$H17+1<=Q$8),AND($G17<Q$7,$H17+1>Q$8))),"NIGHT",IF(AND($G17>$H17,Q$7>Q$8,OR(AND($G17>Q$7,$G17<=Q$8+1),AND($H17+1>Q$7,$H17+1<=Q$8+1),AND($G17<Q$7,$H17+1>Q$8+1))),"NIGHT",""))))) | R17: =TEXT(DAY(I17),"jjjj") -> lundi | S17: =DAY(I17) -> 2 | T17: =MONTH(I17) -> 1 | U17: =IF(OR(R17="Samedi",R17="Dimanche"),"weekend","week") -> week | V17: =U17&" - "&E17 -> week - Le Pont des Arts A (0) | W17: =T17&" - "&U17&" - "&E17& " - "&N17 -> 1 - week - Le Pont des Arts A (0) - AM | X17: =T17&" - "&U17&" - "&E17& " - "&O17 -> 1 - week - Le Pont des Arts A (0) - PM | Y17: =T17&" - "&U17&" - "&E17& " - "&P17 -> 1 - week - Le Pont des Arts A (0) - EVENING | Z17: =T17&" - "&U17&" - "&E17&" - "&Q17 -> 1 - week - Le Pont des Arts A (0) - | AA17: =I17&" - "&E17&" - "&N17 -> 41276 - Le Pont des Arts A (0) - AM | AB17: =I17&" - "&E17&" - "&O17 -> 41276 - Le Pont des Arts A (0) - PM | AC17: =I17&" - "&E17&" - "&P17 -> 41276 - Le Pont des Arts A (0) - EVENING | AD17: =I17&" - "&E17&" - "&Q17 -> 41276 - Le Pont des Arts A (0) - | AE17: =F17 -> ACT | AG17: =VLOOKUP(E17,'Répartition salles'!$C:$R,6,FALSE) -> Pont des Arts A | AH17: =I17&" - "&AG17&" - "&N17 -> 41276 - Pont des Arts A - AM | AI17: =I17&" - "&AG17&" - "&O17 -> 41276 - Pont des Arts A - PM | AJ17: =I17&" - "&AG17&" - "&P17 -> 41276 - Pont des Arts A - EVENING | AK17: =I17&" - "&AG17&" - "&Q17 -> 41276 - Pont des Arts A - | AL17: =VLOOKUP(E17,'Répartition salles'!$C:$R,7,FALSE) -> 0 | AM17: =I17&" - "&AL17&" - "&N17 -> 41276 - 0 - AM | AN17: =I17&" - "&AL17&" - "&O17 -> 41276 - 0 - PM | AO17: =I17&" - "&AL17&" - "&P17 -> 41276 - 0 - EVENING | AP17: =I17&" - "&AL17&" - "&Q17 -> 41276 - 0 - | AQ17: =VLOOKUP(E17,'Répartition salles'!$C:$R,8,FALSE) -> 0 | AR17: =I17&" - "&AQ17&" - "&N17 -> 41276 - 0 - AM | AS17: =I17&" - "&AQ17&" - "&O17 -> 41276 - 0 - PM | AT17: =I17&" - "&AQ17&" - "&P17 -> 41276 - 0 - EVENING | AU17: =I17&" - "&AQ17&" - "&Q17 -> 41276 - 0 - | AV17: =VLOOKUP(E17,'Répartition salles'!$C:$R,9,FALSE) -> 0 | AW17: =I17&" - "&AV17&" - "&N17 -> 41276 - 0 - AM | AX17: =I17&" - "&AV17&" - "&O17 -> 41276 - 0 - PM | AY17: =I17&" - "&AV17&" - "&P17 -> 41276 - 0 - EVENING | AZ17: =I17&" - "&AV17&" - "&Q17 -> 41276 - 0 - | BA17: =VLOOKUP(E17,'Répartition salles'!$C:$R,10,FALSE) -> 0 | BB17: =I17&" - "&BA17&" - "&N17 -> 41276 - 0 - AM | BC17: =I17&" - "&BA17&" - "&O17 -> 41276 - 0 - PM | BD17: =I17&" - "&BA17&" - "&P17 -> 41276 - 0 - EVENING | BE17: =I17&" - "&BA17&" - "&Q17 -> 41276 - 0 - | BF17: =VLOOKUP(E17,'Répartition salles'!$C:$R,11,FALSE) -> 0 | BG17: =I17&" - "&BF17&" - "&N17 -> 41276 - 0 - AM | BH17: =I17&" - "&BF17&" - "&O17 -> 41276 - 0 - PM | BI17: =I17&" - "&BF17&" - "&P17 -> 41276 - 0 - EVENING | BJ17: =I17&" - "&BF17&" - "&Q17 -> 41276 - 0 - | BK17: =VLOOKUP(E17,'Répartition salles'!$C:$R,12,FALSE) -> 0 | BL17: =I17&" - "&BK17&" - "&N17 -> 41276 - 0 - AM | BM17: =I17&" - "&BK17&" - "&O17 -> 41276 - 0 - PM | BN17: =I17&" - "&BK17&" - "&P17 -> 41276 - 0 - EVENING | BO17: =I17&" - "&BK17&" - "&Q17 -> 41276 - 0 - | BP17: =VLOOKUP(E17,'Répartition salles'!$C:$R,13,FALSE) -> 0 | BQ17: =I17&" - "&BP17&" - "&N17 -> 41276 - 0 - AM | BR17: =I17&" - "&BP17&" - "&O17 -> 41276 - 0 - PM | BS17: =I17&" - "&BP17&" - "&P17 -> 41276 - 0 - EVENING | BT17: =I17&" - "&BP17&" - "&Q17 -> 41276 - 0 - | BU17: =VLOOKUP(E17,'Répartition salles'!$C:$R,14,FALSE) -> 0 | BV17: =I17&" - "&BU17&" - "&N17 -> 41276 - 0 - AM | BW17: =I17&" - "&BU17&" - "&O17 -> 41276 - 0 - PM | BX17: =I17&" - "&BU17&" - "&P17 -> 41276 - 0 - EVENING | BY17: =I17&" - "&BU17&" - "&Q17 -> 41276 - 0 - | BZ17: =VLOOKUP(E17,'Répartition salles'!$C:$R,15,FALSE) -> 0 | CA17: =I17&" - "&BZ17&" - "&N17 -> 41276 - 0 - AM | CB17: =I17&" - "&BZ17&" - "&O17 -> 41276 - 0 - PM | CC17: =I17&" - "&BZ17&" - "&P17 -> 41276 - 0 - EVENING | CD17: =I17&" - "&BZ17&" - "&Q17 -> 41276 - 0 - | CE17: =VLOOKUP(E17,'Répartition salles'!$C:$R,16,FALSE) -> 0 | CF17: =I17&" - "&CE17&" - "&N17 -> 41276 - 0 - AM | CG17: =I17&" - "&CE17&" - "&O17 -> 41276 - 0 - PM | CH17: =I17&" - "&CE17&" - "&P17 -> 41276 - 0 - EVENING | CI17: =I17&" - "&CE17&" - "&Q17 -> 41276 - 0 - | CJ17: =F17 -> ACT
A18: 2312262 | B18: 3301810 | C18: BRK | D18: Division Moto | E18: Le Pont des Arts C (0) | F18: ACT | G18: 0.4375 | H18: 0.54166667 | I18: 41277 | J18: GCO | K18: CON | L18: GOODYEAR | N18: =IF($G18=N$8,"",IF(AND($G18<$H18,N$7<N$8,OR(AND($G18>N$7,$G18<=N$8),AND($H18>N$7,$H18<=N$8),AND($G18<N$7,$H18>N$8))),"AM",IF(AND($G18<$H18,N$7>N$8,OR(AND($G18>N$7,$G18<=N$8+1),AND($H18>N$7,$H18<=N$8+1),AND($G18<N$7,$H18>N$8+1))),"AM",IF(AND($G18>$H18,N$7<N$8,OR(AND($G18>N$7,$G18<=N$8),AND($H18+1>N$7,$H18+1<=N$8),AND($G18<N$7,$H18+1>N$8))),"AM",IF(AND($G18>$H18,N$7>N$8,OR(AND($G18>N$7,$G18<=N$8+1),AND($H18+1>N$7,$H18+1<=N$8+1),AND($G18<N$7,$H18+1>N$8+1))),"AM",""))))) -> AM | O18: =IF($G18=O$8,"",IF(AND($G18<$H18,O$7<O$8,OR(AND($G18>O$7,$G18<=O$8),AND($H18>O$7,$H18<=O$8),AND($G18<O$7,$H18>O$8))),"PM",IF(AND($G18<$H18,O$7>O$8,OR(AND($G18>O$7,$G18<=O$8+1),AND($H18>O$7,$H18<=O$8+1),AND($G18<O$7,$H18>O$8+1))),"PM",IF(AND($G18>$H18,O$7<O$8,OR(AND($G18>O$7,$G18<=O$8),AND($H18+1>O$7,$H18+1<=O$8),AND($G18<O$7,$H18+1>O$8))),"PM",IF(AND($G18>$H18,O$7>O$8,OR(AND($G18>O$7,$G18<=O$8+1),AND($H18+1>O$7,$H18+1<=O$8+1),AND($G18<O$7,$H18+1>O$8+1))),"PM",""))))) | P18: =IF($G18=P$8,"",IF(AND($G18<$H18,P$7<P$8,OR(AND($G18>P$7,$G18<=P$8),AND($H18>P$7,$H18<=P$8),AND($G18<P$7,$H18>P$8))),"EVENING",IF(AND($G18<$H18,P$7>P$8,OR(AND($G18>P$7,$G18<=P$8+1),AND($H18>P$7,$H18<=P$8+1),AND($G18<P$7,$H18>P$8+1))),"EVENING",IF(AND($G18>$H18,P$7<P$8,OR(AND($G18>P$7,$G18<=P$8),AND($H18+1>P$7,$H18+1<=P$8),AND($G18<P$7,$H18+1>P$8))),"EVENING",IF(AND($G18>$H18,P$7>P$8,OR(AND($G18>P$7,$G18<=P$8+1),AND($H18+1>P$7,$H18+1<=P$8+1),AND($G18<P$7,$H18+1>P$8+1))),"EVENING",""))))) | Q18: =IF($G18=Q$8,"",IF(AND($G18<$H18,Q$7<Q$8,OR(AND($G18>Q$7,$G18<=Q$8),AND($H18>Q$7,$H18<=Q$8),AND($G18<Q$7,$H18>Q$8))),"NIGHT",IF(AND($G18<$H18,Q$7>Q$8,OR(AND($G18>Q$7,$G18<=Q$8+1),AND($H18>Q$7,$H18<=Q$8+1),AND($G18<Q$7,$H18>Q$8+1))),"NIGHT",IF(AND($G18>$H18,Q$7<Q$8,OR(AND($G18>Q$7,$G18<=Q$8),AND($H18+1>Q$7,$H18+1<=Q$8),AND($G18<Q$7,$H18+1>Q$8))),"NIGHT",IF(AND($G18>$H18,Q$7>Q$8,OR(AND($G18>Q$7,$G18<=Q$8+1),AND($H18+1>Q$7,$H18+1<=Q$8+1),AND($G18<Q$7,$H18+1>Q$8+1))),"NIGHT",""))))) | R18: =TEXT(DAY(I18),"jjjj") -> mardi | S18: =DAY(I18) -> 3 | T18: =MONTH(I18) -> 1 | U18: =IF(OR(R18="Samedi",R18="Dimanche"),"weekend","week") -> week | V18: =U18&" - "&E18 -> week - Le Pont des Arts C (0) | W18: =T18&" - "&U18&" - "&E18& " - "&N18 -> 1 - week - Le Pont des Arts C (0) - AM | X18: =T18&" - "&U18&" - "&E18& " - "&O18 -> 1 - week - Le Pont des Arts C (0) - | Y18: =T18&" - "&U18&" - "&E18& " - "&P18 -> 1 - week - Le Pont des Arts C (0) - | Z18: =T18&" - "&U18&" - "&E18&" - "&Q18 -> 1 - week - Le Pont des Arts C (0) - | AA18: =I18&" - "&E18&" - "&N18 -> 41277 - Le Pont des Arts C (0) - AM | AB18: =I18&" - "&E18&" - "&O18 -> 41277 - Le Pont des Arts C (0) - | AC18: =I18&" - "&E18&" - "&P18 -> 41277 - Le Pont des Arts C (0) - | AD18: =I18&" - "&E18&" - "&Q18 -> 41277 - Le Pont des Arts C (0) - | AE18: =F18 -> ACT | AG18: =VLOOKUP(E18,'Répartition salles'!$C:$R,6,FALSE) -> Pont des Arts C | AH18: =I18&" - "&AG18&" - "&N18 -> 41277 - Pont des Arts C - AM | AI18: =I18&" - "&AG18&" - "&O18 -> 41277 - Pont des Arts C - | AJ18: =I18&" - "&AG18&" - "&P18 -> 41277 - Pont des Arts C - | AK18: =I18&" - "&AG18&" - "&Q18 -> 41277 - Pont des Arts C - | AL18: =VLOOKUP(E18,'Répartition salles'!$C:$R,7,FALSE) -> 0 | AM18: =I18&" - "&AL18&" - "&N18 -> 41277 - 0 - AM | AN18: =I18&" - "&AL18&" - "&O18 -> 41277 - 0 - | AO18: =I18&" - "&AL18&" - "&P18 -> 41277 - 0 - | AP18: =I18&" - "&AL18&" - "&Q18 -> 41277 - 0 - | AQ18: =VLOOKUP(E18,'Répartition salles'!$C:$R,8,FALSE) -> 0 | AR18: =I18&" - "&AQ18&" - "&N18 -> 41277 - 0 - AM | AS18: =I18&" - "&AQ18&" - "&O18 -> 41277 - 0 - | AT18: =I18&" - "&AQ18&" - "&P18 -> 41277 - 0 - | AU18: =I18&" - "&AQ18&" - "&Q18 -> 41277 - 0 - | AV18: =VLOOKUP(E18,'Répartition salles'!$C:$R,9,FALSE) -> 0 | AW18: =I18&" - "&AV18&" - "&N18 -> 41277 - 0 - AM | AX18: =I18&" - "&AV18&" - "&O18 -> 41277 - 0 - | AY18: =I18&" - "&AV18&" - "&P18 -> 41277 - 0 - | AZ18: =I18&" - "&AV18&" - "&Q18 -> 41277 - 0 - | BA18: =VLOOKUP(E18,'Répartition salles'!$C:$R,10,FALSE) -> 0 | BB18: =I18&" - "&BA18&" - "&N18 -> 41277 - 0 - AM | BC18: =I18&" - "&BA18&" - "&O18 -> 41277 - 0 - | BD18: =I18&" - "&BA18&" - "&P18 -> 41277 - 0 - | BE18: =I18&" - "&BA18&" - "&Q18 -> 41277 - 0 - | BF18: =VLOOKUP(E18,'Répartition salles'!$C:$R,11,FALSE) -> 0 | BG18: =I18&" - "&BF18&" - "&N18 -> 41277 - 0 - AM | BH18: =I18&" - "&BF18&" - "&O18 -> 41277 - 0 - | BI18: =I18&" - "&BF18&" - "&P18 -> 41277 - 0 - | BJ18: =I18&" - "&BF18&" - "&Q18 -> 41277 - 0 - | BK18: =VLOOKUP(E18,'Répartition salles'!$C:$R,12,FALSE) -> 0 | BL18: =I18&" - "&BK18&" - "&N18 -> 41277 - 0 - AM | BM18: =I18&" - "&BK18&" - "&O18 -> 41277 - 0 - | BN18: =I18&" - "&BK18&" - "&P18 -> 41277 - 0 - | BO18: =I18&" - "&BK18&" - "&Q18 -> 41277 - 0 - | BP18: =VLOOKUP(E18,'Répartition salles'!$C:$R,13,FALSE) -> 0 | BQ18: =I18&" - "&BP18&" - "&N18 -> 41277 - 0 - AM | BR18: =I18&" - "&BP18&" - "&O18 -> 41277 - 0 - | BS18: =I18&" - "&BP18&" - "&P18 -> 41277 - 0 - | BT18: =I18&" - "&BP18&" - "&Q18 -> 41277 - 0 - | BU18: =VLOOKUP(E18,'Répartition salles'!$C:$R,14,FALSE) -> 0 | BV18: =I18&" - "&BU18&" - "&N18 -> 41277 - 0 - AM | BW18: =I18&" - "&BU18&" - "&O18 -> 41277 - 0 - | BX18: =I18&" - "&BU18&" - "&P18 -> 41277 - 0 - | BY18: =I18&" - "&BU18&" - "&Q18 -> 41277 - 0 - | BZ18: =VLOOKUP(E18,'Répartition salles'!$C:$R,15,FALSE) -> 0 | CA18: =I18&" - "&BZ18&" - "&N18 -> 41277 - 0 - AM | CB18: =I18&" - "&BZ18&" - "&O18 -> 41277 - 0 - | CC18: =I18&" - "&BZ18&" - "&P18 -> 41277 - 0 - | CD18: =I18&" - "&BZ18&" - "&Q18 -> 41277 - 0 - | CE18: =VLOOKUP(E18,'Répartition salles'!$C:$R,16,FALSE) -> 0 | CF18: =I18&" - "&CE18&" - "&N18 -> 41277 - 0 - AM | CG18: =I18&" - "&CE18&" - "&O18 -> 41277 - 0 - | CH18: =I18&" - "&CE18&" - "&P18 -> 41277 - 0 - | CI18: =I18&" - "&CE18&" - "&Q18 -> 41277 - 0 - | CJ18: =F18 -> ACT
A19: 2312262 | B19: 3154686 | C19: BRK | D19: Reunion Agricole | E19: Le Pont des Arts B (0) | F19: ACT | G19: 0.4375 | H19: 0.54166667 | I19: 41277 | J19: GCO | K19: CON | L19: GOODYEAR | N19: =IF($G19=N$8,"",IF(AND($G19<$H19,N$7<N$8,OR(AND($G19>N$7,$G19<=N$8),AND($H19>N$7,$H19<=N$8),AND($G19<N$7,$H19>N$8))),"AM",IF(AND($G19<$H19,N$7>N$8,OR(AND($G19>N$7,$G19<=N$8+1),AND($H19>N$7,$H19<=N$8+1),AND($G19<N$7,$H19>N$8+1))),"AM",IF(AND($G19>$H19,N$7<N$8,OR(AND($G19>N$7,$G19<=N$8),AND($H19+1>N$7,$H19+1<=N$8),AND($G19<N$7,$H19+1>N$8))),"AM",IF(AND($G19>$H19,N$7>N$8,OR(AND($G19>N$7,$G19<=N$8+1),AND($H19+1>N$7,$H19+1<=N$8+1),AND($G19<N$7,$H19+1>N$8+1))),"AM",""))))) -> AM | O19: =IF($G19=O$8,"",IF(AND($G19<$H19,O$7<O$8,OR(AND($G19>O$7,$G19<=O$8),AND($H19>O$7,$H19<=O$8),AND($G19<O$7,$H19>O$8))),"PM",IF(AND($G19<$H19,O$7>O$8,OR(AND($G19>O$7,$G19<=O$8+1),AND($H19>O$7,$H19<=O$8+1),AND($G19<O$7,$H19>O$8+1))),"PM",IF(AND($G19>$H19,O$7<O$8,OR(AND($G19>O$7,$G19<=O$8),AND($H19+1>O$7,$H19+1<=O$8),AND($G19<O$7,$H19+1>O$8))),"PM",IF(AND($G19>$H19,O$7>O$8,OR(AND($G19>O$7,$G19<=O$8+1),AND($H19+1>O$7,$H19+1<=O$8+1),AND($G19<O$7,$H19+1>O$8+1))),"PM",""))))) | P19: =IF($G19=P$8,"",IF(AND($G19<$H19,P$7<P$8,OR(AND($G19>P$7,$G19<=P$8),AND($H19>P$7,$H19<=P$8),AND($G19<P$7,$H19>P$8))),"EVENING",IF(AND($G19<$H19,P$7>P$8,OR(AND($G19>P$7,$G19<=P$8+1),AND($H19>P$7,$H19<=P$8+1),AND($G19<P$7,$H19>P$8+1))),"EVENING",IF(AND($G19>$H19,P$7<P$8,OR(AND($G19>P$7,$G19<=P$8),AND($H19+1>P$7,$H19+1<=P$8),AND($G19<P$7,$H19+1>P$8))),"EVENING",IF(AND($G19>$H19,P$7>P$8,OR(AND($G19>P$7,$G19<=P$8+1),AND($H19+1>P$7,$H19+1<=P$8+1),AND($G19<P$7,$H19+1>P$8+1))),"EVENING",""))))) | Q19: =IF($G19=Q$8,"",IF(AND($G19<$H19,Q$7<Q$8,OR(AND($G19>Q$7,$G19<=Q$8),AND($H19>Q$7,$H19<=Q$8),AND($G19<Q$7,$H19>Q$8))),"NIGHT",IF(AND($G19<$H19,Q$7>Q$8,OR(AND($G19>Q$7,$G19<=Q$8+1),AND($H19>Q$7,$H19<=Q$8+1),AND($G19<Q$7,$H19>Q$8+1))),"NIGHT",IF(AND($G19>$H19,Q$7<Q$8,OR(AND($G19>Q$7,$G19<=Q$8),AND($H19+1>Q$7,$H19+1<=Q$8),AND($G19<Q$7,$H19+1>Q$8))),"NIGHT",IF(AND($G19>$H19,Q$7>Q$8,OR(AND($G19>Q$7,$G19<=Q$8+1),AND($H19+1>Q$7,$H19+1<=Q$8+1),AND($G19<Q$7,$H19+1>Q$8+1))),"NIGHT",""))))) | R19: =TEXT(DAY(I19),"jjjj") -> mardi | S19: =DAY(I19) -> 3 | T19: =MONTH(I19) -> 1 | U19: =IF(OR(R19="Samedi",R19="Dimanche"),"weekend","week") -> week | V19: =U19&" - "&E19 -> week - Le Pont des Arts B (0) | W19: =T19&" - "&U19&" - "&E19& " - "&N19 -> 1 - week - Le Pont des Arts B (0) - AM | X19: =T19&" - "&U19&" - "&E19& " - "&O19 -> 1 - week - Le Pont des Arts B (0) - | Y19: =T19&" - "&U19&" - "&E19& " - "&P19 -> 1 - week - Le Pont des Arts B (0) - | Z19: =T19&" - "&U19&" - "&E19&" - "&Q19 -> 1 - week - Le Pont des Arts B (0) - | AA19: =I19&" - "&E19&" - "&N19 -> 41277 - Le Pont des Arts B (0) - AM | AB19: =I19&" - "&E19&" - "&O19 -> 41277 - Le Pont des Arts B (0) - | AC19: =I19&" - "&E19&" - "&P19 -> 41277 - Le Pont des Arts B (0) - | AD19: =I19&" - "&E19&" - "&Q19 -> 41277 - Le Pont des Arts B (0) - | AE19: =F19 -> ACT | AG19: =VLOOKUP(E19,'Répartition salles'!$C:$R,6,FALSE) -> Pont des Arts B | AH19: =I19&" - "&AG19&" - "&N19 -> 41277 - Pont des Arts B - AM | AI19: =I19&" - "&AG19&" - "&O19 -> 41277 - Pont des Arts B - | AJ19: =I19&" - "&AG19&" - "&P19 -> 41277 - Pont des Arts B - | AK19: =I19&" - "&AG19&" - "&Q19 -> 41277 - Pont des Arts B - | AL19: =VLOOKUP(E19,'Répartition salles'!$C:$R,7,FALSE) -> 0 | AM19: =I19&" - "&AL19&" - "&N19 -> 41277 - 0 - AM | AN19: =I19&" - "&AL19&" - "&O19 -> 41277 - 0 - | AO19: =I19&" - "&AL19&" - "&P19 -> 41277 - 0 - | AP19: =I19&" - "&AL19&" - "&Q19 -> 41277 - 0 - | AQ19: =VLOOKUP(E19,'Répartition salles'!$C:$R,8,FALSE) -> 0 | AR19: =I19&" - "&AQ19&" - "&N19 -> 41277 - 0 - AM | AS19: =I19&" - "&AQ19&" - "&O19 -> 41277 - 0 - | AT19: =I19&" - "&AQ19&" - "&P19 -> 41277 - 0 - | AU19: =I19&" - "&AQ19&" - "&Q19 -> 41277 - 0 - | AV19: =VLOOKUP(E19,'Répartition salles'!$C:$R,9,FALSE) -> 0 | AW19: =I19&" - "&AV19&" - "&N19 -> 41277 - 0 - AM | AX19: =I19&" - "&AV19&" - "&O19 -> 41277 - 0 - | AY19: =I19&" - "&AV19&" - "&P19 -> 41277 - 0 - | AZ19: =I19&" - "&AV19&" - "&Q19 -> 41277 - 0 - | BA19: =VLOOKUP(E19,'Répartition salles'!$C:$R,10,FALSE) -> 0 | BB19: =I19&" - "&BA19&" - "&N19 -> 41277 - 0 - AM | BC19: =I19&" - "&BA19&" - "&O19 -> 41277 - 0 - | BD19: =I19&" - "&BA19&" - "&P19 -> 41277 - 0 - | BE19: =I19&" - "&BA19&" - "&Q19 -> 41277 - 0 - | BF19: =VLOOKUP(E19,'Répartition salles'!$C:$R,11,FALSE) -> 0 | BG19: =I19&" - "&BF19&" - "&N19 -> 41277 - 0 - AM | BH19: =I19&" - "&BF19&" - "&O19 -> 41277 - 0 - | BI19: =I19&" - "&BF19&" - "&P19 -> 41277 - 0 - | BJ19: =I19&" - "&BF19&" - "&Q19 -> 41277 - 0 - | BK19: =VLOOKUP(E19,'Répartition salles'!$C:$R,12,FALSE) -> 0 | BL19: =I19&" - "&BK19&" - "&N19 -> 41277 - 0 - AM | BM19: =I19&" - "&BK19&" - "&O19 -> 41277 - 0 - | BN19: =I19&" - "&BK19&" - "&P19 -> 41277 - 0 - | BO19: =I19&" - "&BK19&" - "&Q19 -> 41277 - 0 - | BP19: =VLOOKUP(E19,'Répartition salles'!$C:$R,13,FALSE) -> 0 | BQ19: =I19&" - "&BP19&" - "&N19 -> 41277 - 0 - AM | BR19: =I19&" - "&BP19&" - "&O19 -> 41277 - 0 - | BS19: =I19&" - "&BP19&" - "&P19 -> 41277 - 0 - | BT19: =I19&" - "&BP19&" - "&Q19 -> 41277 - 0 - | BU19: =VLOOKUP(E19,'Répartition salles'!$C:$R,14,FALSE) -> 0 | BV19: =I19&" - "&BU19&" - "&N19 -> 41277 - 0 - AM | BW19: =I19&" - "&BU19&" - "&O19 -> 41277 - 0 - | BX19: =I19&" - "&BU19&" - "&P19 -> 41277 - 0 - | BY19: =I19&" - "&BU19&" - "&Q19 -> 41277 - 0 - | BZ19: =VLOOKUP(E19,'Répartition salles'!$C:$R,15,FALSE) -> 0 | CA19: =I19&" - "&BZ19&" - "&N19 -> 41277 - 0 - AM | CB19: =I19&" - "&BZ19&" - "&O19 -> 41277 - 0 - | CC19: =I19&" - "&BZ19&" - "&P19 -> 41277 - 0 - | CD19: =I19&" - "&BZ19&" - "&Q19 -> 41277 - 0 - | CE19: =VLOOKUP(E19,'Répartition salles'!$C:$R,16,FALSE) -> 0 | CF19: =I19&" - "&CE19&" - "&N19 -> 41277 - 0 - AM | CG19: =I19&" - "&CE19&" - "&O19 -> 41277 - 0 - | CH19: =I19&" - "&CE19&" - "&P19 -> 41277 - 0 - | CI19: =I19&" - "&CE19&" - "&Q19 -> 41277 - 0 - | CJ19: =F19 -> ACT
A20: 2312262 | B20: 3154456 | C20: MET | D20: Division Industrielle | E20: La Seine C (0) | F20: ACT | G20: 0.33333333 | H20: 0.54166667 | I20: 41277 | J20: GCO | K20: CON | L20: GOODYEAR | N20: =IF($G20=N$8,"",IF(AND($G20<$H20,N$7<N$8,OR(AND($G20>N$7,$G20<=N$8),AND($H20>N$7,$H20<=N$8),AND($G20<N$7,$H20>N$8))),"AM",IF(AND($G20<$H20,N$7>N$8,OR(AND($G20>N$7,$G20<=N$8+1),AND($H20>N$7,$H20<=N$8+1),AND($G20<N$7,$H20>N$8+1))),"AM",IF(AND($G20>$H20,N$7<N$8,OR(AND($G20>N$7,$G20<=N$8),AND($H20+1>N$7,$H20+1<=N$8),AND($G20<N$7,$H20+1>N$8))),"AM",IF(AND($G20>$H20,N$7>N$8,OR(AND($G20>N$7,$G20<=N$8+1),AND($H20+1>N$7,$H20+1<=N$8+1),AND($G20<N$7,$H20+1>N$8+1))),"AM",""))))) -> AM | O20: =IF($G20=O$8,"",IF(AND($G20<$H20,O$7<O$8,OR(AND($G20>O$7,$G20<=O$8),AND($H20>O$7,$H20<=O$8),AND($G20<O$7,$H20>O$8))),"PM",IF(AND($G20<$H20,O$7>O$8,OR(AND($G20>O$7,$G20<=O$8+1),AND($H20>O$7,$H20<=O$8+1),AND($G20<O$7,$H20>O$8+1))),"PM",IF(AND($G20>$H20,O$7<O$8,OR(AND($G20>O$7,$G20<=O$8),AND($H20+1>O$7,$H20+1<=O$8),AND($G20<O$7,$H20+1>O$8))),"PM",IF(AND($G20>$H20,O$7>O$8,OR(AND($G20>O$7,$G20<=O$8+1),AND($H20+1>O$7,$H20+1<=O$8+1),AND($G20<O$7,$H20+1>O$8+1))),"PM",""))))) | P20: =IF($G20=P$8,"",IF(AND($G20<$H20,P$7<P$8,OR(AND($G20>P$7,$G20<=P$8),AND($H20>P$7,$H20<=P$8),AND($G20<P$7,$H20>P$8))),"EVENING",IF(AND($G20<$H20,P$7>P$8,OR(AND($G20>P$7,$G20<=P$8+1),AND($H20>P$7,$H20<=P$8+1),AND($G20<P$7,$H20>P$8+1))),"EVENING",IF(AND($G20>$H20,P$7<P$8,OR(AND($G20>P$7,$G20<=P$8),AND($H20+1>P$7,$H20+1<=P$8),AND($G20<P$7,$H20+1>P$8))),"EVENING",IF(AND($G20>$H20,P$7>P$8,OR(AND($G20>P$7,$G20<=P$8+1),AND($H20+1>P$7,$H20+1<=P$8+1),AND($G20<P$7,$H20+1>P$8+1))),"EVENING",""))))) | Q20: =IF($G20=Q$8,"",IF(AND($G20<$H20,Q$7<Q$8,OR(AND($G20>Q$7,$G20<=Q$8),AND($H20>Q$7,$H20<=Q$8),AND($G20<Q$7,$H20>Q$8))),"NIGHT",IF(AND($G20<$H20,Q$7>Q$8,OR(AND($G20>Q$7,$G20<=Q$8+1),AND($H20>Q$7,$H20<=Q$8+1),AND($G20<Q$7,$H20>Q$8+1))),"NIGHT",IF(AND($G20>$H20,Q$7<Q$8,OR(AND($G20>Q$7,$G20<=Q$8),AND($H20+1>Q$7,$H20+1<=Q$8),AND($G20<Q$7,$H20+1>Q$8))),"NIGHT",IF(AND($G20>$H20,Q$7>Q$8,OR(AND($G20>Q$7,$G20<=Q$8+1),AND($H20+1>Q$7,$H20+1<=Q$8+1),AND($G20<Q$7,$H20+1>Q$8+1))),"NIGHT",""))))) | R20: =TEXT(DAY(I20),"jjjj") -> mardi | S20: =DAY(I20) -> 3 | T20: =MONTH(I20) -> 1 | U20: =IF(OR(R20="Samedi",R20="Dimanche"),"weekend","week") -> week | V20: =U20&" - "&E20 -> week - La Seine C (0) | W20: =T20&" - "&U20&" - "&E20& " - "&N20 -> 1 - week - La Seine C (0) - AM | X20: =T20&" - "&U20&" - "&E20& " - "&O20 -> 1 - week - La Seine C (0) - | Y20: =T20&" - "&U20&" - "&E20& " - "&P20 -> 1 - week - La Seine C (0) - | Z20: =T20&" - "&U20&" - "&E20&" - "&Q20 -> 1 - week - La Seine C (0) - | AA20: =I20&" - "&E20&" - "&N20 -> 41277 - La Seine C (0) - AM | AB20: =I20&" - "&E20&" - "&O20 -> 41277 - La Seine C (0) - | AC20: =I20&" - "&E20&" - "&P20 -> 41277 - La Seine C (0) - | AD20: =I20&" - "&E20&" - "&Q20 -> 41277 - La Seine C (0) - | AE20: =F20 -> ACT | AG20: =VLOOKUP(E20,'Répartition salles'!$C:$R,6,FALSE) -> Seine C | AH20: =I20&" - "&AG20&" - "&N20 -> 41277 - Seine C - AM | AI20: =I20&" - "&AG20&" - "&O20 -> 41277 - Seine C - | AJ20: =I20&" - "&AG20&" - "&P20 -> 41277 - Seine C - | AK20: =I20&" - "&AG20&" - "&Q20 -> 41277 - Seine C - | AL20: =VLOOKUP(E20,'Répartition salles'!$C:$R,7,FALSE) -> 0 | AM20: =I20&" - "&AL20&" - "&N20 -> 41277 - 0 - AM | AN20: =I20&" - "&AL20&" - "&O20 -> 41277 - 0 - | AO20: =I20&" - "&AL20&" - "&P20 -> 41277 - 0 - | AP20: =I20&" - "&AL20&" - "&Q20 -> 41277 - 0 - | AQ20: =VLOOKUP(E20,'Répartition salles'!$C:$R,8,FALSE) -> 0 | AR20: =I20&" - "&AQ20&" - "&N20 -> 41277 - 0 - AM | AS20: =I20&" - "&AQ20&" - "&O20 -> 41277 - 0 - | AT20: =I20&" - "&AQ20&" - "&P20 -> 41277 - 0 - | AU20: =I20&" - "&AQ20&" - "&Q20 -> 41277 - 0 - | AV20: =VLOOKUP(E20,'Répartition salles'!$C:$R,9,FALSE) -> 0 | AW20: =I20&" - "&AV20&" - "&N20 -> 41277 - 0 - AM | AX20: =I20&" - "&AV20&" - "&O20 -> 41277 - 0 - | AY20: =I20&" - "&AV20&" - "&P20 -> 41277 - 0 - | AZ20: =I20&" - "&AV20&" - "&Q20 -> 41277 - 0 - | BA20: =VLOOKUP(E20,'Répartition salles'!$C:$R,10,FALSE) -> 0 | BB20: =I20&" - "&BA20&" - "&N20 -> 41277 - 0 - AM | BC20: =I20&" - "&BA20&" - "&O20 -> 41277 - 0 - | BD20: =I20&" - "&BA20&" - "&P20 -> 41277 - 0 - | BE20: =I20&" - "&BA20&" - "&Q20 -> 41277 - 0 - | BF20: =VLOOKUP(E20,'Répartition salles'!$C:$R,11,FALSE) -> 0 | BG20: =I20&" - "&BF20&" - "&N20 -> 41277 - 0 - AM | BH20: =I20&" - "&BF20&" - "&O20 -> 41277 - 0 - | BI20: =I20&" - "&BF20&" - "&P20 -> 41277 - 0 - | BJ20: =I20&" - "&BF20&" - "&Q20 -> 41277 - 0 - | BK20: =VLOOKUP(E20,'Répartition salles'!$C:$R,12,FALSE) -> 0 | BL20: =I20&" - "&BK20&" - "&N20 -> 41277 - 0 - AM | BM20: =I20&" - "&BK20&" - "&O20 -> 41277 - 0 - | BN20: =I20&" - "&BK20&" - "&P20 -> 41277 - 0 - | BO20: =I20&" - "&BK20&" - "&Q20 -> 41277 - 0 - | BP20: =VLOOKUP(E20,'Répartition salles'!$C:$R,13,FALSE) -> 0 | BQ20: =I20&" - "&BP20&" - "&N20 -> 41277 - 0 - AM | BR20: =I20&" - "&BP20&" - "&O20 -> 41277 - 0 - | BS20: =I20&" - "&BP20&" - "&P20 -> 41277 - 0 - | BT20: =I20&" - "&BP20&" - "&Q20 -> 41277 - 0 - | BU20: =VLOOKUP(E20,'Répartition salles'!$C:$R,14,FALSE) -> 0 | BV20: =I20&" - "&BU20&" - "&N20 -> 41277 - 0 - AM | BW20: =I20&" - "&BU20&" - "&O20 -> 41277 - 0 - | BX20: =I20&" - "&BU20&" - "&P20 -> 41277 - 0 - | BY20: =I20&" - "&BU20&" - "&Q20 -> 41277 - 0 - | BZ20: =VLOOKUP(E20,'Répartition salles'!$C:$R,15,FALSE) -> 0 | CA20: =I20&" - "&BZ20&" - "&N20 -> 41277 - 0 - AM | CB20: =I20&" - "&BZ20&" - "&O20 -> 41277 - 0 - | CC20: =I20&" - "&BZ20&" - "&P20 -> 41277 - 0 - | CD20: =I20&" - "&BZ20&" - "&Q20 -> 41277 - 0 - | CE20: =VLOOKUP(E20,'Répartition salles'!$C:$R,16,FALSE) -> 0 | CF20: =I20&" - "&CE20&" - "&N20 -> 41277 - 0 - AM | CG20: =I20&" - "&CE20&" - "&O20 -> 41277 - 0 - | CH20: =I20&" - "&CE20&" - "&P20 -> 41277 - 0 - | CI20: =I20&" - "&CE20&" - "&Q20 -> 41277 - 0 - | CJ20: =F20 -> ACT
A21: 2312262 | B21: 3154460 | C21: MET | D21: Pleniere | E21: La Seine A & B (0) | F21: ACT | G21: 0.375 | H21: 0.79166667 | I21: 41277 | J21: GCO | K21: CON | L21: GOODYEAR | N21: =IF($G21=N$8,"",IF(AND($G21<$H21,N$7<N$8,OR(AND($G21>N$7,$G21<=N$8),AND($H21>N$7,$H21<=N$8),AND($G21<N$7,$H21>N$8))),"AM",IF(AND($G21<$H21,N$7>N$8,OR(AND($G21>N$7,$G21<=N$8+1),AND($H21>N$7,$H21<=N$8+1),AND($G21<N$7,$H21>N$8+1))),"AM",IF(AND($G21>$H21,N$7<N$8,OR(AND($G21>N$7,$G21<=N$8),AND($H21+1>N$7,$H21+1<=N$8),AND($G21<N$7,$H21+1>N$8))),"AM",IF(AND($G21>$H21,N$7>N$8,OR(AND($G21>N$7,$G21<=N$8+1),AND($H21+1>N$7,$H21+1<=N$8+1),AND($G21<N$7,$H21+1>N$8+1))),"AM",""))))) -> AM | O21: =IF($G21=O$8,"",IF(AND($G21<$H21,O$7<O$8,OR(AND($G21>O$7,$G21<=O$8),AND($H21>O$7,$H21<=O$8),AND($G21<O$7,$H21>O$8))),"PM",IF(AND($G21<$H21,O$7>O$8,OR(AND($G21>O$7,$G21<=O$8+1),AND($H21>O$7,$H21<=O$8+1),AND($G21<O$7,$H21>O$8+1))),"PM",IF(AND($G21>$H21,O$7<O$8,OR(AND($G21>O$7,$G21<=O$8),AND($H21+1>O$7,$H21+1<=O$8),AND($G21<O$7,$H21+1>O$8))),"PM",IF(AND($G21>$H21,O$7>O$8,OR(AND($G21>O$7,$G21<=O$8+1),AND($H21+1>O$7,$H21+1<=O$8+1),AND($G21<O$7,$H21+1>O$8+1))),"PM",""))))) -> PM | P21: =IF($G21=P$8,"",IF(AND($G21<$H21,P$7<P$8,OR(AND($G21>P$7,$G21<=P$8),AND($H21>P$7,$H21<=P$8),AND($G21<P$7,$H21>P$8))),"EVENING",IF(AND($G21<$H21,P$7>P$8,OR(AND($G21>P$7,$G21<=P$8+1),AND($H21>P$7,$H21<=P$8+1),AND($G21<P$7,$H21>P$8+1))),"EVENING",IF(AND($G21>$H21,P$7<P$8,OR(AND($G21>P$7,$G21<=P$8),AND($H21+1>P$7,$H21+1<=P$8),AND($G21<P$7,$H21+1>P$8))),"EVENING",IF(AND($G21>$H21,P$7>P$8,OR(AND($G21>P$7,$G21<=P$8+1),AND($H21+1>P$7,$H21+1<=P$8+1),AND($G21<P$7,$H21+1>P$8+1))),"EVENING",""))))) | Q21: =IF($G21=Q$8,"",IF(AND($G21<$H21,Q$7<Q$8,OR(AND($G21>Q$7,$G21<=Q$8),AND($H21>Q$7,$H21<=Q$8),AND($G21<Q$7,$H21>Q$8))),"NIGHT",IF(AND($G21<$H21,Q$7>Q$8,OR(AND($G21>Q$7,$G21<=Q$8+1),AND($H21>Q$7,$H21<=Q$8+1),AND($G21<Q$7,$H21>Q$8+1))),"NIGHT",IF(AND($G21>$H21,Q$7<Q$8,OR(AND($G21>Q$7,$G21<=Q$8),AND($H21+1>Q$7,$H21+1<=Q$8),AND($G21<Q$7,$H21+1>Q$8))),"NIGHT",IF(AND($G21>$H21,Q$7>Q$8,OR(AND($G21>Q$7,$G21<=Q$8+1),AND($H21+1>Q$7,$H21+1<=Q$8+1),AND($G21<Q$7,$H21+1>Q$8+1))),"NIGHT",""))))) | R21: =TEXT(DAY(I21),"jjjj") -> mardi | S21: =DAY(I21) -> 3 | T21: =MONTH(I21) -> 1 | U21: =IF(OR(R21="Samedi",R21="Dimanche"),"weekend","week") -> week | V21: =U21&" - "&E21 -> week - La Seine A & B (0) | W21: =T21&" - "&U21&" - "&E21& " - "&N21 -> 1 - week - La Seine A & B (0) - AM | X21: =T21&" - "&U21&" - "&E21& " - "&O21 -> 1 - week - La Seine A & B (0) - PM | Y21: =T21&" - "&U21&" - "&E21& " - "&P21 -> 1 - week - La Seine A & B (0) - | Z21: =T21&" - "&U21&" - "&E21&" - "&Q21 -> 1 - week - La Seine A & B (0) - | AA21: =I21&" - "&E21&" - "&N21 -> 41277 - La Seine A & B (0) - AM | AB21: =I21&" - "&E21&" - "&O21 -> 41277 - La Seine A & B (0) - PM | AC21: =I21&" - "&E21&" - "&P21 -> 41277 - La Seine A & B (0) - | AD21: =I21&" - "&E21&" - "&Q21 -> 41277 - La Seine A & B (0) - | AE21: =F21 -> ACT | AG21: =VLOOKUP(E21,'Répartition salles'!$C:$R,6,FALSE) -> Seine A | AH21: =I21&" - "&AG21&" - "&N21 -> 41277 - Seine A - AM | AI21: =I21&" - "&AG21&" - "&O21 -> 41277 - Seine A - PM | AJ21: =I21&" - "&AG21&" - "&P21 -> 41277 - Seine A - | AK21: =I21&" - "&AG21&" - "&Q21 -> 41277 - Seine A - | AL21: =VLOOKUP(E21,'Répartition salles'!$C:$R,7,FALSE) -> Seine B | AM21: =I21&" - "&AL21&" - "&N21 -> 41277 - Seine B - AM | AN21: =I21&" - "&AL21&" - "&O21 -> 41277 - Seine B - PM | AO21: =I21&" - "&AL21&" - "&P21 -> 41277 - Seine B - | AP21: =I21&" - "&AL21&" - "&Q21 -> 41277 - Seine B - | AQ21: =VLOOKUP(E21,'Répartition salles'!$C:$R,8,FALSE) -> 0 | AR21: =I21&" - "&AQ21&" - "&N21 -> 41277 - 0 - AM | AS21: =I21&" - "&AQ21&" - "&O21 -> 41277 - 0 - PM | AT21: =I21&" - "&AQ21&" - "&P21 -> 41277 - 0 - | AU21: =I21&" - "&AQ21&" - "&Q21 -> 41277 - 0 - | AV21: =VLOOKUP(E21,'Répartition salles'!$C:$R,9,FALSE) -> 0 | AW21: =I21&" - "&AV21&" - "&N21 -> 41277 - 0 - AM | AX21: =I21&" - "&AV21&" - "&O21 -> 41277 - 0 - PM | AY21: =I21&" - "&AV21&" - "&P21 -> 41277 - 0 - | AZ21: =I21&" - "&AV21&" - "&Q21 -> 41277 - 0 - | BA21: =VLOOKUP(E21,'Répartition salles'!$C:$R,10,FALSE) -> 0 | BB21: =I21&" - "&BA21&" - "&N21 -> 41277 - 0 - AM | BC21: =I21&" - "&BA21&" - "&O21 -> 41277 - 0 - PM | BD21: =I21&" - "&BA21&" - "&P21 -> 41277 - 0 - | BE21: =I21&" - "&BA21&" - "&Q21 -> 41277 - 0 - | BF21: =VLOOKUP(E21,'Répartition salles'!$C:$R,11,FALSE) -> 0 | BG21: =I21&" - "&BF21&" - "&N21 -> 41277 - 0 - AM | BH21: =I21&" - "&BF21&" - "&O21 -> 41277 - 0 - PM | BI21: =I21&" - "&BF21&" - "&P21 -> 41277 - 0 - | BJ21: =I21&" - "&BF21&" - "&Q21 -> 41277 - 0 - | BK21: =VLOOKUP(E21,'Répartition salles'!$C:$R,12,FALSE) -> 0 | BL21: =I21&" - "&BK21&" - "&N21 -> 41277 - 0 - AM | BM21: =I21&" - "&BK21&" - "&O21 -> 41277 - 0 - PM | BN21: =I21&" - "&BK21&" - "&P21 -> 41277 - 0 - | BO21: =I21&" - "&BK21&" - "&Q21 -> 41277 - 0 - | BP21: =VLOOKUP(E21,'Répartition salles'!$C:$R,13,FALSE) -> 0 | BQ21: =I21&" - "&BP21&" - "&N21 -> 41277 - 0 - AM | BR21: =I21&" - "&BP21&" - "&O21 -> 41277 - 0 - PM | BS21: =I21&" - "&BP21&" - "&P21 -> 41277 - 0 - | BT21: =I21&" - "&BP21&" - "&Q21 -> 41277 - 0 - | BU21: =VLOOKUP(E21,'Répartition salles'!$C:$R,14,FALSE) -> 0 | BV21: =I21&" - "&BU21&" - "&N21 -> 41277 - 0 - AM | BW21: =I21&" - "&BU21&" - "&O21 -> 41277 - 0 - PM | BX21: =I21&" - "&BU21&" - "&P21 -> 41277 - 0 - | BY21: =I21&" - "&BU21&" - "&Q21 -> 41277 - 0 - | BZ21: =VLOOKUP(E21,'Répartition salles'!$C:$R,15,FALSE) -> 0 | CA21: =I21&" - "&BZ21&" - "&N21 -> 41277 - 0 - AM | CB21: =I21&" - "&BZ21&" - "&O21 -> 41277 - 0 - PM | CC21: =I21&" - "&BZ21&" - "&P21 -> 41277 - 0 - | CD21: =I21&" - "&BZ21&" - "&Q21 -> 41277 - 0 - | CE21: =VLOOKUP(E21,'Répartition salles'!$C:$R,16,FALSE) -> 0 | CF21: =I21&" - "&CE21&" - "&N21 -> 41277 - 0 - AM | CG21: =I21&" - "&CE21&" - "&O21 -> 41277 - 0 - PM | CH21: =I21&" - "&CE21&" - "&P21 -> 41277 - 0 - | CI21: =I21&" - "&CE21&" - "&Q21 -> 41277 - 0 - | CJ21: =F21 -> ACT
A22: 2312262 | B22: 3301792 | C22: OFI | D22: Office | E22: Le pont de Sully (0) | F22: ACT | G22: 0.29166667 | H22: 0.95833333 | I22: 41277 | J22: GCO | K22: CON | L22: GOODYEAR | N22: =IF($G22=N$8,"",IF(AND($G22<$H22,N$7<N$8,OR(AND($G22>N$7,$G22<=N$8),AND($H22>N$7,$H22<=N$8),AND($G22<N$7,$H22>N$8))),"AM",IF(AND($G22<$H22,N$7>N$8,OR(AND($G22>N$7,$G22<=N$8+1),AND($H22>N$7,$H22<=N$8+1),AND($G22<N$7,$H22>N$8+1))),"AM",IF(AND($G22>$H22,N$7<N$8,OR(AND($G22>N$7,$G22<=N$8),AND($H22+1>N$7,$H22+1<=N$8),AND($G22<N$7,$H22+1>N$8))),"AM",IF(AND($G22>$H22,N$7>N$8,OR(AND($G22>N$7,$G22<=N$8+1),AND($H22+1>N$7,$H22+1<=N$8+1),AND($G22<N$7,$H22+1>N$8+1))),"AM",""))))) -> AM | O22: =IF($G22=O$8,"",IF(AND($G22<$H22,O$7<O$8,OR(AND($G22>O$7,$G22<=O$8),AND($H22>O$7,$H22<=O$8),AND($G22<O$7,$H22>O$8))),"PM",IF(AND($G22<$H22,O$7>O$8,OR(AND($G22>O$7,$G22<=O$8+1),AND($H22>O$7,$H22<=O$8+1),AND($G22<O$7,$H22>O$8+1))),"PM",IF(AND($G22>$H22,O$7<O$8,OR(AND($G22>O$7,$G22<=O$8),AND($H22+1>O$7,$H22+1<=O$8),AND($G22<O$7,$H22+1>O$8))),"PM",IF(AND($G22>$H22,O$7>O$8,OR(AND($G22>O$7,$G22<=O$8+1),AND($H22+1>O$7,$H22+1<=O$8+1),AND($G22<O$7,$H22+1>O$8+1))),"PM",""))))) -> PM | P22: =IF($G22=P$8,"",IF(AND($G22<$H22,P$7<P$8,OR(AND($G22>P$7,$G22<=P$8),AND($H22>P$7,$H22<=P$8),AND($G22<P$7,$H22>P$8))),"EVENING",IF(AND($G22<$H22,P$7>P$8,OR(AND($G22>P$7,$G22<=P$8+1),AND($H22>P$7,$H22<=P$8+1),AND($G22<P$7,$H22>P$8+1))),"EVENING",IF(AND($G22>$H22,P$7<P$8,OR(AND($G22>P$7,$G22<=P$8),AND($H22+1>P$7,$H22+1<=P$8),AND($G22<P$7,$H22+1>P$8))),"EVENING",IF(AND($G22>$H22,P$7>P$8,OR(AND($G22>P$7,$G22<=P$8+1),AND($H22+1>P$7,$H22+1<=P$8+1),AND($G22<P$7,$H22+1>P$8+1))),"EVENING",""))))) -> EVENING | Q22: =IF($G22=Q$8,"",IF(AND($G22<$H22,Q$7<Q$8,OR(AND($G22>Q$7,$G22<=Q$8),AND($H22>Q$7,$H22<=Q$8),AND($G22<Q$7,$H22>Q$8))),"NIGHT",IF(AND($G22<$H22,Q$7>Q$8,OR(AND($G22>Q$7,$G22<=Q$8+1),AND($H22>Q$7,$H22<=Q$8+1),AND($G22<Q$7,$H22>Q$8+1))),"NIGHT",IF(AND($G22>$H22,Q$7<Q$8,OR(AND($G22>Q$7,$G22<=Q$8),AND($H22+1>Q$7,$H22+1<=Q$8),AND($G22<Q$7,$H22+1>Q$8))),"NIGHT",IF(AND($G22>$H22,Q$7>Q$8,OR(AND($G22>Q$7,$G22<=Q$8+1),AND($H22+1>Q$7,$H22+1<=Q$8+1),AND($G22<Q$7,$H22+1>Q$8+1))),"NIGHT",""))))) | R22: =TEXT(DAY(I22),"jjjj") -> mardi | S22: =DAY(I22) -> 3 | T22: =MONTH(I22) -> 1 | U22: =IF(OR(R22="Samedi",R22="Dimanche"),"weekend","week") -> week | V22: =U22&" - "&E22 -> week - Le pont de Sully (0) | W22: =T22&" - "&U22&" - "&E22& " - "&N22 -> 1 - week - Le pont de Sully (0) - AM | X22: =T22&" - "&U22&" - "&E22& " - "&O22 -> 1 - week - Le pont de Sully (0) - PM | Y22: =T22&" - "&U22&" - "&E22& " - "&P22 -> 1 - week - Le pont de Sully (0) - EVENING | Z22: =T22&" - "&U22&" - "&E22&" - "&Q22 -> 1 - week - Le pont de Sully (0) - | AA22: =I22&" - "&E22&" - "&N22 -> 41277 - Le pont de Sully (0) - AM | AB22: =I22&" - "&E22&" - "&O22 -> 41277 - Le pont de Sully (0) - PM | AC22: =I22&" - "&E22&" - "&P22 -> 41277 - Le pont de Sully (0) - EVENING | AD22: =I22&" - "&E22&" - "&Q22 -> 41277 - Le pont de Sully (0) - | AE22: =F22 -> ACT | AG22: =VLOOKUP(E22,'Répartition salles'!$C:$R,6,FALSE) -> Pont de Sully A | AH22: =I22&" - "&AG22&" - "&N22 -> 41277 - Pont de Sully A - AM | AI22: =I22&" - "&AG22&" - "&O22 -> 41277 - Pont de Sully A - PM | AJ22: =I22&" - "&AG22&" - "&P22 -> 41277 - Pont de Sully A - EVENING | AK22: =I22&" - "&AG22&" - "&Q22 -> 41277 - Pont de Sully A - | AL22: =VLOOKUP(E22,'Répartition salles'!$C:$R,7,FALSE) -> Pont de Sully B | AM22: =I22&" - "&AL22&" - "&N22 -> 41277 - Pont de Sully B - AM | AN22: =I22&" - "&AL22&" - "&O22 -> 41277 - Pont de Sully B - PM | AO22: =I22&" - "&AL22&" - "&P22 -> 41277 - Pont de Sully B - EVENING | AP22: =I22&" - "&AL22&" - "&Q22 -> 41277 - Pont de Sully B - | AQ22: =VLOOKUP(E22,'Répartition salles'!$C:$R,8,FALSE) -> 0 | AR22: =I22&" - "&AQ22&" - "&N22 -> 41277 - 0 - AM | AS22: =I22&" - "&AQ22&" - "&O22 -> 41277 - 0 - PM | AT22: =I22&" - "&AQ22&" - "&P22 -> 41277 - 0 - EVENING | AU22: =I22&" - "&AQ22&" - "&Q22 -> 41277 - 0 - | AV22: =VLOOKUP(E22,'Répartition salles'!$C:$R,9,FALSE) -> 0 | AW22: =I22&" - "&AV22&" - "&N22 -> 41277 - 0 - AM | AX22: =I22&" - "&AV22&" - "&O22 -> 41277 - 0 - PM | AY22: =I22&" - "&AV22&" - "&P22 -> 41277 - 0 - EVENING | AZ22: =I22&" - "&AV22&" - "&Q22 -> 41277 - 0 - | BA22: =VLOOKUP(E22,'Répartition salles'!$C:$R,10,FALSE) -> 0 | BB22: =I22&" - "&BA22&" - "&N22 -> 41277 - 0 - AM | BC22: =I22&" - "&BA22&" - "&O22 -> 41277 - 0 - PM | BD22: =I22&" - "&BA22&" - "&P22 -> 41277 - 0 - EVENING | BE22: =I22&" - "&BA22&" - "&Q22 -> 41277 - 0 - | BF22: =VLOOKUP(E22,'Répartition salles'!$C:$R,11,FALSE) -> 0 | BG22: =I22&" - "&BF22&" - "&N22 -> 41277 - 0 - AM | BH22: =I22&" - "&BF22&" - "&O22 -> 41277 - 0 - PM | BI22: =I22&" - "&BF22&" - "&P22 -> 41277 - 0 - EVENING | BJ22: =I22&" - "&BF22&" - "&Q22 -> 41277 - 0 - | BK22: =VLOOKUP(E22,'Répartition salles'!$C:$R,12,FALSE) -> 0 | BL22: =I22&" - "&BK22&" - "&N22 -> 41277 - 0 - AM | BM22: =I22&" - "&BK22&" - "&O22 -> 41277 - 0 - PM | BN22: =I22&" - "&BK22&" - "&P22 -> 41277 - 0 - EVENING | BO22: =I22&" - "&BK22&" - "&Q22 -> 41277 - 0 - | BP22: =VLOOKUP(E22,'Répartition salles'!$C:$R,13,FALSE) -> 0 | BQ22: =I22&" - "&BP22&" - "&N22 -> 41277 - 0 - AM | BR22: =I22&" - "&BP22&" - "&O22 -> 41277 - 0 - PM | BS22: =I22&" - "&BP22&" - "&P22 -> 41277 - 0 - EVENING | BT22: =I22&" - "&BP22&" - "&Q22 -> 41277 - 0 - | BU22: =VLOOKUP(E22,'Répartition salles'!$C:$R,14,FALSE) -> 0 | BV22: =I22&" - "&BU22&" - "&N22 -> 41277 - 0 - AM | BW22: =I22&" - "&BU22&" - "&O22 -> 41277 - 0 - PM | BX22: =I22&" - "&BU22&" - "&P22 -> 41277 - 0 - EVENING | BY22: =I22&" - "&BU22&" - "&Q22 -> 41277 - 0 - | BZ22: =VLOOKUP(E22,'Répartition salles'!$C:$R,15,FALSE) -> 0 | CA22: =I22&" - "&BZ22&" - "&N22 -> 41277 - 0 - AM | CB22: =I22&" - "&BZ22&" - "&O22 -> 41277 - 0 - PM | CC22: =I22&" - "&BZ22&" - "&P22 -> 41277 - 0 - EVENING | CD22: =I22&" - "&BZ22&" - "&Q22 -> 41277 - 0 - | CE22: =VLOOKUP(E22,'Répartition salles'!$C:$R,16,FALSE) -> 0 | CF22: =I22&" - "&CE22&" - "&N22 -> 41277 - 0 - AM | CG22: =I22&" - "&CE22&" - "&O22 -> 41277 - 0 - PM | CH22: =I22&" - "&CE22&" - "&P22 -> 41277 - 0 - EVENING | CI22: =I22&" - "&CE22&" - "&Q22 -> 41277 - 0 - | CJ22: =F22 -> ACT
... A80: 2077332 | B80: 3478728 | C80: OFI | D80: Office | E80: Le Pont de Sully B (0) | F80: ACT | G80: 0.29166667 | H80: 0.95833333 | I80: 41295 | J80: GCO | K80: CON | L80: Axway | N80: =IF($G80=N$8,"",IF(AND($G80<$H80,N$7<N$8,OR(AND($G80>N$7,$G80<=N$8),AND($H80>N$7,$H80<=N$8),AND($G80<N$7,$H80>N$8))),"AM",IF(AND($G80<$H80,N$7>N$8,OR(AND($G80>N$7,$G80<=N$8+1),AND($H80>N$7,$H80<=N$8+1),AND($G80<N$7,$H80>N$8+1))),"AM",IF(AND($G80>$H80,N$7<N$8,OR(AND($G80>N$7,$G80<=N$8),AND($H80+1>N$7,$H80+1<=N$8),AND($G80<N$7,$H80+1>N$8))),"AM",IF(AND($G80>$H80,N$7>N$8,OR(AND($G80>N$7,$G80<=N$8+1),AND($H80+1>N$7,$H80+1<=N$8+1),AND($G80<N$7,$H80+1>N$8+1))),"AM",""))))) -> AM | O80: =IF($G80=O$8,"",IF(AND($G80<$H80,O$7<O$8,OR(AND($G80>O$7,$G80<=O$8),AND($H80>O$7,$H80<=O$8),AND($G80<O$7,$H80>O$8))),"PM",IF(AND($G80<$H80,O$7>O$8,OR(AND($G80>O$7,$G80<=O$8+1),AND($H80>O$7,$H80<=O$8+1),AND($G80<O$7,$H80>O$8+1))),"PM",IF(AND($G80>$H80,O$7<O$8,OR(AND($G80>O$7,$G80<=O$8),AND($H80+1>O$7,$H80+1<=O$8),AND($G80<O$7,$H80+1>O$8))),"PM",IF(AND($G80>$H80,O$7>O$8,OR(AND($G80>O$7,$G80<=O$8+1),AND($H80+1>O$7,$H80+1<=O$8+1),AND($G80<O$7,$H80+1>O$8+1))),"PM",""))))) -> PM | P80: =IF($G80=P$8,"",IF(AND($G80<$H80,P$7<P$8,OR(AND($G80>P$7,$G80<=P$8),AND($H80>P$7,$H80<=P$8),AND($G80<P$7,$H80>P$8))),"EVENING",IF(AND($G80<$H80,P$7>P$8,OR(AND($G80>P$7,$G80<=P$8+1),AND($H80>P$7,$H80<=P$8+1),AND($G80<P$7,$H80>P$8+1))),"EVENING",IF(AND($G80>$H80,P$7<P$8,OR(AND($G80>P$7,$G80<=P$8),AND($H80+1>P$7,$H80+1<=P$8),AND($G80<P$7,$H80+1>P$8))),"EVENING",IF(AND($G80>$H80,P$7>P$8,OR(AND($G80>P$7,$G80<=P$8+1),AND($H80+1>P$7,$H80+1<=P$8+1),AND($G80<P$7,$H80+1>P$8+1))),"EVENING",""))))) -> EVENING | Q80: =IF($G80=Q$8,"",IF(AND($G80<$H80,Q$7<Q$8,OR(AND($G80>Q$7,$G80<=Q$8),AND($H80>Q$7,$H80<=Q$8),AND($G80<Q$7,$H80>Q$8))),"NIGHT",IF(AND($G80<$H80,Q$7>Q$8,OR(AND($G80>Q$7,$G80<=Q$8+1),AND($H80>Q$7,$H80<=Q$8+1),AND($G80<Q$7,$H80>Q$8+1))),"NIGHT",IF(AND($G80>$H80,Q$7<Q$8,OR(AND($G80>Q$7,$G80<=Q$8),AND($H80+1>Q$7,$H80+1<=Q$8),AND($G80<Q$7,$H80+1>Q$8))),"NIGHT",IF(AND($G80>$H80,Q$7>Q$8,OR(AND($G80>Q$7,$G80<=Q$8+1),AND($H80+1>Q$7,$H80+1<=Q$8+1),AND($G80<Q$7,$H80+1>Q$8+1))),"NIGHT",""))))) | R80: =TEXT(DAY(I80),"jjjj") -> samedi | S80: =DAY(I80) -> 21 | T80: =MONTH(I80) -> 1 | U80: =IF(OR(R80="Samedi",R80="Dimanche"),"weekend","week") -> weekend | V80: =U80&" - "&E80 -> weekend - Le Pont de Sully B (0) | W80: =T80&" - "&U80&" - "&E80& " - "&N80 -> 1 - weekend - Le Pont de Sully B (0) - AM | X80: =T80&" - "&U80&" - "&E80& " - "&O80 -> 1 - weekend - Le Pont de Sully B (0) - PM | Y80: =T80&" - "&U80&" - "&E80& " - "&P80 -> 1 - weekend - Le Pont de Sully B (0) - EVENING | Z80: =T80&" - "&U80&" - "&E80&" - "&Q80 -> 1 - weekend - Le Pont de Sully B (0) - | AA80: =I80&" - "&E80&" - "&N80 -> 41295 - Le Pont de Sully B (0) - AM | AB80: =I80&" - "&E80&" - "&O80 -> 41295 - Le Pont de Sully B (0) - PM | AC80: =I80&" - "&E80&" - "&P80 -> 41295 - Le Pont de Sully B (0) - EVENING | AD80: =I80&" - "&E80&" - "&Q80 -> 41295 - Le Pont de Sully B (0) - | AE80: =F80 -> ACT | AG80: =VLOOKUP(E80,'Répartition salles'!$C:$R,6,FALSE) -> Pont de Sully B | AH80: =I80&" - "&AG80&" - "&N80 -> 41295 - Pont de Sully B - AM | AI80: =I80&" - "&AG80&" - "&O80 -> 41295 - Pont de Sully B - PM | AJ80: =I80&" - "&AG80&" - "&P80 -> 41295 - Pont de Sully B - EVENING | AK80: =I80&" - "&AG80&" - "&Q80 -> 41295 - Pont de Sully B - | AL80: =VLOOKUP(E80,'Répartition salles'!$C:$R,7,FALSE) -> 0 | AM80: =I80&" - "&AL80&" - "&N80 -> 41295 - 0 - AM | AN80: =I80&" - "&AL80&" - "&O80 -> 41295 - 0 - PM | AO80: =I80&" - "&AL80&" - "&P80 -> 41295 - 0 - EVENING | AP80: =I80&" - "&AL80&" - "&Q80 -> 41295 - 0 - | AQ80: =VLOOKUP(E80,'Répartition salles'!$C:$R,8,FALSE) -> 0 | AR80: =I80&" - "&AQ80&" - "&N80 -> 41295 - 0 - AM | AS80: =I80&" - "&AQ80&" - "&O80 -> 41295 - 0 - PM | AT80: =I80&" - "&AQ80&" - "&P80 -> 41295 - 0 - EVENING | AU80: =I80&" - "&AQ80&" - "&Q80 -> 41295 - 0 - | AV80: =VLOOKUP(E80,'Répartition salles'!$C:$R,9,FALSE) -> 0 | AW80: =I80&" - "&AV80&" - "&N80 -> 41295 - 0 - AM | AX80: =I80&" - "&AV80&" - "&O80 -> 41295 - 0 - PM | AY80: =I80&" - "&AV80&" - "&P80 -> 41295 - 0 - EVENING | AZ80: =I80&" - "&AV80&" - "&Q80 -> 41295 - 0 - | BA80: =VLOOKUP(E80,'Répartition salles'!$C:$R,10,FALSE) -> 0 | BB80: =I80&" - "&BA80&" - "&N80 -> 41295 - 0 - AM | BC80: =I80&" - "&BA80&" - "&O80 -> 41295 - 0 - PM | BD80: =I80&" - "&BA80&" - "&P80 -> 41295 - 0 - EVENING | BE80: =I80&" - "&BA80&" - "&Q80 -> 41295 - 0 - | BF80: =VLOOKUP(E80,'Répartition salles'!$C:$R,11,FALSE) -> 0 | BG80: =I80&" - "&BF80&" - "&N80 -> 41295 - 0 - AM | BH80: =I80&" - "&BF80&" - "&O80 -> 41295 - 0 - PM | BI80: =I80&" - "&BF80&" - "&P80 -> 41295 - 0 - EVENING | BJ80: =I80&" - "&BF80&" - "&Q80 -> 41295 - 0 - | BK80: =VLOOKUP(E80,'Répartition salles'!$C:$R,12,FALSE) -> 0 | BL80: =I80&" - "&BK80&" - "&N80 -> 41295 - 0 - AM | BM80: =I80&" - "&BK80&" - "&O80 -> 41295 - 0 - PM | BN80: =I80&" - "&BK80&" - "&P80 -> 41295 - 0 - EVENING | BO80: =I80&" - "&BK80&" - "&Q80 -> 41295 - 0 - | BP80: =VLOOKUP(E80,'Répartition salles'!$C:$R,13,FALSE) -> 0 | BQ80: =I80&" - "&BP80&" - "&N80 -> 41295 - 0 - AM | BR80: =I80&" - "&BP80&" - "&O80 -> 41295 - 0 - PM | BS80: =I80&" - "&BP80&" - "&P80 -> 41295 - 0 - EVENING | BT80: =I80&" - "&BP80&" - "&Q80 -> 41295 - 0 - | BU80: =VLOOKUP(E80,'Répartition salles'!$C:$R,14,FALSE) -> 0 | BV80: =I80&" - "&BU80&" - "&N80 -> 41295 - 0 - AM | BW80: =I80&" - "&BU80&" - "&O80 -> 41295 - 0 - PM | BX80: =I80&" - "&BU80&" - "&P80 -> 41295 - 0 - EVENING | BY80: =I80&" - "&BU80&" - "&Q80 -> 41295 - 0 - | BZ80: =VLOOKUP(E80,'Répartition salles'!$C:$R,15,FALSE) -> 0 | CA80: =I80&" - "&BZ80&" - "&N80 -> 41295 - 0 - AM | CB80: =I80&" - "&BZ80&" - "&O80 -> 41295 - 0 - PM | CC80: =I80&" - "&BZ80&" - "&P80 -> 41295 - 0 - EVENING | CD80: =I80&" - "&BZ80&" - "&Q80 -> 41295 - 0 - | CE80: =VLOOKUP(E80,'Répartition salles'!$C:$R,16,FALSE) -> 0 | CF80: =I80&" - "&CE80&" - "&N80 -> 41295 - 0 - AM | CG80: =I80&" - "&CE80&" - "&O80 -> 41295 - 0 - PM | CH80: =I80&" - "&CE80&" - "&P80 -> 41295 - 0 - EVENING | CI80: =I80&" - "&CE80&" - "&Q80 -> 41295 - 0 - | CJ80: =F80 -> ACT
A81: 2077332 | B81: 3382174 | C81: REH | D81: Rehearsal | E81: La Seine (0) | F81: ACT | I81: 41295 | J81: GCO | K81: CON | L81: Axway | N81: =IF($G81=N$8,"",IF(AND($G81<$H81,N$7<N$8,OR(AND($G81>N$7,$G81<=N$8),AND($H81>N$7,$H81<=N$8),AND($G81<N$7,$H81>N$8))),"AM",IF(AND($G81<$H81,N$7>N$8,OR(AND($G81>N$7,$G81<=N$8+1),AND($H81>N$7,$H81<=N$8+1),AND($G81<N$7,$H81>N$8+1))),"AM",IF(AND($G81>$H81,N$7<N$8,OR(AND($G81>N$7,$G81<=N$8),AND($H81+1>N$7,$H81+1<=N$8),AND($G81<N$7,$H81+1>N$8))),"AM",IF(AND($G81>$H81,N$7>N$8,OR(AND($G81>N$7,$G81<=N$8+1),AND($H81+1>N$7,$H81+1<=N$8+1),AND($G81<N$7,$H81+1>N$8+1))),"AM",""))))) | O81: =IF($G81=O$8,"",IF(AND($G81<$H81,O$7<O$8,OR(AND($G81>O$7,$G81<=O$8),AND($H81>O$7,$H81<=O$8),AND($G81<O$7,$H81>O$8))),"PM",IF(AND($G81<$H81,O$7>O$8,OR(AND($G81>O$7,$G81<=O$8+1),AND($H81>O$7,$H81<=O$8+1),AND($G81<O$7,$H81>O$8+1))),"PM",IF(AND($G81>$H81,O$7<O$8,OR(AND($G81>O$7,$G81<=O$8),AND($H81+1>O$7,$H81+1<=O$8),AND($G81<O$7,$H81+1>O$8))),"PM",IF(AND($G81>$H81,O$7>O$8,OR(AND($G81>O$7,$G81<=O$8+1),AND($H81+1>O$7,$H81+1<=O$8+1),AND($G81<O$7,$H81+1>O$8+1))),"PM",""))))) | P81: =IF($G81=P$8,"",IF(AND($G81<$H81,P$7<P$8,OR(AND($G81>P$7,$G81<=P$8),AND($H81>P$7,$H81<=P$8),AND($G81<P$7,$H81>P$8))),"EVENING",IF(AND($G81<$H81,P$7>P$8,OR(AND($G81>P$7,$G81<=P$8+1),AND($H81>P$7,$H81<=P$8+1),AND($G81<P$7,$H81>P$8+1))),"EVENING",IF(AND($G81>$H81,P$7<P$8,OR(AND($G81>P$7,$G81<=P$8),AND($H81+1>P$7,$H81+1<=P$8),AND($G81<P$7,$H81+1>P$8))),"EVENING",IF(AND($G81>$H81,P$7>P$8,OR(AND($G81>P$7,$G81<=P$8+1),AND($H81+1>P$7,$H81+1<=P$8+1),AND($G81<P$7,$H81+1>P$8+1))),"EVENING",""))))) | Q81: =IF($G81=Q$8,"",IF(AND($G81<$H81,Q$7<Q$8,OR(AND($G81>Q$7,$G81<=Q$8),AND($H81>Q$7,$H81<=Q$8),AND($G81<Q$7,$H81>Q$8))),"NIGHT",IF(AND($G81<$H81,Q$7>Q$8,OR(AND($G81>Q$7,$G81<=Q$8+1),AND($H81>Q$7,$H81<=Q$8+1),AND($G81<Q$7,$H81>Q$8+1))),"NIGHT",IF(AND($G81>$H81,Q$7<Q$8,OR(AND($G81>Q$7,$G81<=Q$8),AND($H81+1>Q$7,$H81+1<=Q$8),AND($G81<Q$7,$H81+1>Q$8))),"NIGHT",IF(AND($G81>$H81,Q$7>Q$8,OR(AND($G81>Q$7,$G81<=Q$8+1),AND($H81+1>Q$7,$H81+1<=Q$8+1),AND($G81<Q$7,$H81+1>Q$8+1))),"NIGHT",""))))) | R81: =TEXT(DAY(I81),"jjjj") -> samedi | S81: =DAY(I81) -> 21 | T81: =MONTH(I81) -> 1 | U81: =IF(OR(R81="Samedi",R81="Dimanche"),"weekend","week") -> weekend | V81: =U81&" - "&E81 -> weekend - La Seine (0) | W81: =T81&" - "&U81&" - "&E81& " - "&N81 -> 1 - weekend - La Seine (0) - | X81: =T81&" - "&U81&" - "&E81& " - "&O81 -> 1 - weekend - La Seine (0) - | Y81: =T81&" - "&U81&" - "&E81& " - "&P81 -> 1 - weekend - La Seine (0) - | Z81: =T81&" - "&U81&" - "&E81&" - "&Q81 -> 1 - weekend - La Seine (0) - | AA81: =I81&" - "&E81&" - "&N81 -> 41295 - La Seine (0) - | AB81: =I81&" - "&E81&" - "&O81 -> 41295 - La Seine (0) - | AC81: =I81&" - "&E81&" - "&P81 -> 41295 - La Seine (0) - | AD81: =I81&" - "&E81&" - "&Q81 -> 41295 - La Seine (0) - | AE81: =F81 -> ACT | AG81: =VLOOKUP(E81,'Répartition salles'!$C:$R,6,FALSE) -> Seine A | AH81: =I81&" - "&AG81&" - "&N81 -> 41295 - Seine A - | AI81: =I81&" - "&AG81&" - "&O81 -> 41295 - Seine A - | AJ81: =I81&" - "&AG81&" - "&P81 -> 41295 - Seine A - | AK81: =I81&" - "&AG81&" - "&Q81 -> 41295 - Seine A - | AL81: =VLOOKUP(E81,'Répartition salles'!$C:$R,7,FALSE) -> Seine B | AM81: =I81&" - "&AL81&" - "&N81 -> 41295 - Seine B - | AN81: =I81&" - "&AL81&" - "&O81 -> 41295 - Seine B - | AO81: =I81&" - "&AL81&" - "&P81 -> 41295 - Seine B - | AP81: =I81&" - "&AL81&" - "&Q81 -> 41295 - Seine B - | AQ81: =VLOOKUP(E81,'Répartition salles'!$C:$R,8,FALSE) -> Seine C | AR81: =I81&" - "&AQ81&" - "&N81 -> 41295 - Seine C - | AS81: =I81&" - "&AQ81&" - "&O81 -> 41295 - Seine C - | AT81: =I81&" - "&AQ81&" - "&P81 -> 41295 - Seine C - | AU81: =I81&" - "&AQ81&" - "&Q81 -> 41295 - Seine C - | AV81: =VLOOKUP(E81,'Répartition salles'!$C:$R,9,FALSE) -> 0 | AW81: =I81&" - "&AV81&" - "&N81 -> 41295 - 0 - | AX81: =I81&" - "&AV81&" - "&O81 -> 41295 - 0 - | AY81: =I81&" - "&AV81&" - "&P81 -> 41295 - 0 - | AZ81: =I81&" - "&AV81&" - "&Q81 -> 41295 - 0 - | BA81: =VLOOKUP(E81,'Répartition salles'!$C:$R,10,FALSE) -> 0 | BB81: =I81&" - "&BA81&" - "&N81 -> 41295 - 0 - | BC81: =I81&" - "&BA81&" - "&O81 -> 41295 - 0 - | BD81: =I81&" - "&BA81&" - "&P81 -> 41295 - 0 - | BE81: =I81&" - "&BA81&" - "&Q81 -> 41295 - 0 - | BF81: =VLOOKUP(E81,'Répartition salles'!$C:$R,11,FALSE) -> 0 | BG81: =I81&" - "&BF81&" - "&N81 -> 41295 - 0 - | BH81: =I81&" - "&BF81&" - "&O81 -> 41295 - 0 - | BI81: =I81&" - "&BF81&" - "&P81 -> 41295 - 0 - | BJ81: =I81&" - "&BF81&" - "&Q81 -> 41295 - 0 - | BK81: =VLOOKUP(E81,'Répartition salles'!$C:$R,12,FALSE) -> 0 | BL81: =I81&" - "&BK81&" - "&N81 -> 41295 - 0 - | BM81: =I81&" - "&BK81&" - "&O81 -> 41295 - 0 - | BN81: =I81&" - "&BK81&" - "&P81 -> 41295 - 0 - | BO81: =I81&" - "&BK81&" - "&Q81 -> 41295 - 0 - | BP81: =VLOOKUP(E81,'Répartition salles'!$C:$R,13,FALSE) -> 0 | BQ81: =I81&" - "&BP81&" - "&N81 -> 41295 - 0 - | BR81: =I81&" - "&BP81&" - "&O81 -> 41295 - 0 - | BS81: =I81&" - "&BP81&" - "&P81 -> 41295 - 0 - | BT81: =I81&" - "&BP81&" - "&Q81 -> 41295 - 0 - | BU81: =VLOOKUP(E81,'Répartition salles'!$C:$R,14,FALSE) -> 0 | BV81: =I81&" - "&BU81&" - "&N81 -> 41295 - 0 - | BW81: =I81&" - "&BU81&" - "&O81 -> 41295 - 0 - | BX81: =I81&" - "&BU81&" - "&P81 -> 41295 - 0 - | BY81: =I81&" - "&BU81&" - "&Q81 -> 41295 - 0 - | BZ81: =VLOOKUP(E81,'Répartition salles'!$C:$R,15,FALSE) -> 0 | CA81: =I81&" - "&BZ81&" - "&N81 -> 41295 - 0 - | CB81: =I81&" - "&BZ81&" - "&O81 -> 41295 - 0 - | CC81: =I81&" - "&BZ81&" - "&P81 -> 41295 - 0 - | CD81: =I81&" - "&BZ81&" - "&Q81 -> 41295 - 0 - | CE81: =VLOOKUP(E81,'Répartition salles'!$C:$R,16,FALSE) -> 0 | CF81: =I81&" - "&CE81&" - "&N81 -> 41295 - 0 - | CG81: =I81&" - "&CE81&" - "&O81 -> 41295 - 0 - | CH81: =I81&" - "&CE81&" - "&P81 -> 41295 - 0 - | CI81: =I81&" - "&CE81&" - "&Q81 -> 41295 - 0 - | CJ81: =F81 -> ACT
A82: 2077332 | B82: 3382173 | C82: SET | D82: Setup | E82: La Seine (0) | F82: ACT | G82: 0.29166667 | H82: 0.58333333 | I82: 41295 | J82: GCO | K82: CON | L82: Axway | N82: =IF($G82=N$8,"",IF(AND($G82<$H82,N$7<N$8,OR(AND($G82>N$7,$G82<=N$8),AND($H82>N$7,$H82<=N$8),AND($G82<N$7,$H82>N$8))),"AM",IF(AND($G82<$H82,N$7>N$8,OR(AND($G82>N$7,$G82<=N$8+1),AND($H82>N$7,$H82<=N$8+1),AND($G82<N$7,$H82>N$8+1))),"AM",IF(AND($G82>$H82,N$7<N$8,OR(AND($G82>N$7,$G82<=N$8),AND($H82+1>N$7,$H82+1<=N$8),AND($G82<N$7,$H82+1>N$8))),"AM",IF(AND($G82>$H82,N$7>N$8,OR(AND($G82>N$7,$G82<=N$8+1),AND($H82+1>N$7,$H82+1<=N$8+1),AND($G82<N$7,$H82+1>N$8+1))),"AM",""))))) -> AM | O82: =IF($G82=O$8,"",IF(AND($G82<$H82,O$7<O$8,OR(AND($G82>O$7,$G82<=O$8),AND($H82>O$7,$H82<=O$8),AND($G82<O$7,$H82>O$8))),"PM",IF(AND($G82<$H82,O$7>O$8,OR(AND($G82>O$7,$G82<=O$8+1),AND($H82>O$7,$H82<=O$8+1),AND($G82<O$7,$H82>O$8+1))),"PM",IF(AND($G82>$H82,O$7<O$8,OR(AND($G82>O$7,$G82<=O$8),AND($H82+1>O$7,$H82+1<=O$8),AND($G82<O$7,$H82+1>O$8))),"PM",IF(AND($G82>$H82,O$7>O$8,OR(AND($G82>O$7,$G82<=O$8+1),AND($H82+1>O$7,$H82+1<=O$8+1),AND($G82<O$7,$H82+1>O$8+1))),"PM",""))))) | P82: =IF($G82=P$8,"",IF(AND($G82<$H82,P$7<P$8,OR(AND($G82>P$7,$G82<=P$8),AND($H82>P$7,$H82<=P$8),AND($G82<P$7,$H82>P$8))),"EVENING",IF(AND($G82<$H82,P$7>P$8,OR(AND($G82>P$7,$G82<=P$8+1),AND($H82>P$7,$H82<=P$8+1),AND($G82<P$7,$H82>P$8+1))),"EVENING",IF(AND($G82>$H82,P$7<P$8,OR(AND($G82>P$7,$G82<=P$8),AND($H82+1>P$7,$H82+1<=P$8),AND($G82<P$7,$H82+1>P$8))),"EVENING",IF(AND($G82>$H82,P$7>P$8,OR(AND($G82>P$7,$G82<=P$8+1),AND($H82+1>P$7,$H82+1<=P$8+1),AND($G82<P$7,$H82+1>P$8+1))),"EVENING",""))))) | Q82: =IF($G82=Q$8,"",IF(AND($G82<$H82,Q$7<Q$8,OR(AND($G82>Q$7,$G82<=Q$8),AND($H82>Q$7,$H82<=Q$8),AND($G82<Q$7,$H82>Q$8))),"NIGHT",IF(AND($G82<$H82,Q$7>Q$8,OR(AND($G82>Q$7,$G82<=Q$8+1),AND($H82>Q$7,$H82<=Q$8+1),AND($G82<Q$7,$H82>Q$8+1))),"NIGHT",IF(AND($G82>$H82,Q$7<Q$8,OR(AND($G82>Q$7,$G82<=Q$8),AND($H82+1>Q$7,$H82+1<=Q$8),AND($G82<Q$7,$H82+1>Q$8))),"NIGHT",IF(AND($G82>$H82,Q$7>Q$8,OR(AND($G82>Q$7,$G82<=Q$8+1),AND($H82+1>Q$7,$H82+1<=Q$8+1),AND($G82<Q$7,$H82+1>Q$8+1))),"NIGHT",""))))) | R82: =TEXT(DAY(I82),"jjjj") -> samedi | S82: =DAY(I82) -> 21 | T82: =MONTH(I82) -> 1 | U82: =IF(OR(R82="Samedi",R82="Dimanche"),"weekend","week") -> weekend | V82: =U82&" - "&E82 -> weekend - La Seine (0) | W82: =T82&" - "&U82&" - "&E82& " - "&N82 -> 1 - weekend - La Seine (0) - AM | X82: =T82&" - "&U82&" - "&E82& " - "&O82 -> 1 - weekend - La Seine (0) - | Y82: =T82&" - "&U82&" - "&E82& " - "&P82 -> 1 - weekend - La Seine (0) - | Z82: =T82&" - "&U82&" - "&E82&" - "&Q82 -> 1 - weekend - La Seine (0) - | AA82: =I82&" - "&E82&" - "&N82 -> 41295 - La Seine (0) - AM | AB82: =I82&" - "&E82&" - "&O82 -> 41295 - La Seine (0) - | AC82: =I82&" - "&E82&" - "&P82 -> 41295 - La Seine (0) - | AD82: =I82&" - "&E82&" - "&Q82 -> 41295 - La Seine (0) - | AE82: =F82 -> ACT | AG82: =VLOOKUP(E82,'Répartition salles'!$C:$R,6,FALSE) -> Seine A | AH82: =I82&" - "&AG82&" - "&N82 -> 41295 - Seine A - AM | AI82: =I82&" - "&AG82&" - "&O82 -> 41295 - Seine A - | AJ82: =I82&" - "&AG82&" - "&P82 -> 41295 - Seine A - | AK82: =I82&" - "&AG82&" - "&Q82 -> 41295 - Seine A - | AL82: =VLOOKUP(E82,'Répartition salles'!$C:$R,7,FALSE) -> Seine B | AM82: =I82&" - "&AL82&" - "&N82 -> 41295 - Seine B - AM | AN82: =I82&" - "&AL82&" - "&O82 -> 41295 - Seine B - | AO82: =I82&" - "&AL82&" - "&P82 -> 41295 - Seine B - | AP82: =I82&" - "&AL82&" - "&Q82 -> 41295 - Seine B - | AQ82: =VLOOKUP(E82,'Répartition salles'!$C:$R,8,FALSE) -> Seine C | AR82: =I82&" - "&AQ82&" - "&N82 -> 41295 - Seine C - AM | AS82: =I82&" - "&AQ82&" - "&O82 -> 41295 - Seine C - | AT82: =I82&" - "&AQ82&" - "&P82 -> 41295 - Seine C - | AU82: =I82&" - "&AQ82&" - "&Q82 -> 41295 - Seine C - | AV82: =VLOOKUP(E82,'Répartition salles'!$C:$R,9,FALSE) -> 0 | AW82: =I82&" - "&AV82&" - "&N82 -> 41295 - 0 - AM | AX82: =I82&" - "&AV82&" - "&O82 -> 41295 - 0 - | AY82: =I82&" - "&AV82&" - "&P82 -> 41295 - 0 - | AZ82: =I82&" - "&AV82&" - "&Q82 -> 41295 - 0 - | BA82: =VLOOKUP(E82,'Répartition salles'!$C:$R,10,FALSE) -> 0 | BB82: =I82&" - "&BA82&" - "&N82 -> 41295 - 0 - AM | BC82: =I82&" - "&BA82&" - "&O82 -> 41295 - 0 - | BD82: =I82&" - "&BA82&" - "&P82 -> 41295 - 0 - | BE82: =I82&" - "&BA82&" - "&Q82 -> 41295 - 0 - | BF82: =VLOOKUP(E82,'Répartition salles'!$C:$R,11,FALSE) -> 0 | BG82: =I82&" - "&BF82&" - "&N82 -> 41295 - 0 - AM | BH82: =I82&" - "&BF82&" - "&O82 -> 41295 - 0 - | BI82: =I82&" - "&BF82&" - "&P82 -> 41295 - 0 - | BJ82: =I82&" - "&BF82&" - "&Q82 -> 41295 - 0 - | BK82: =VLOOKUP(E82,'Répartition salles'!$C:$R,12,FALSE) -> 0 | BL82: =I82&" - "&BK82&" - "&N82 -> 41295 - 0 - AM | BM82: =I82&" - "&BK82&" - "&O82 -> 41295 - 0 - | BN82: =I82&" - "&BK82&" - "&P82 -> 41295 - 0 - | BO82: =I82&" - "&BK82&" - "&Q82 -> 41295 - 0 - | BP82: =VLOOKUP(E82,'Répartition salles'!$C:$R,13,FALSE) -> 0 | BQ82: =I82&" - "&BP82&" - "&N82 -> 41295 - 0 - AM | BR82: =I82&" - "&BP82&" - "&O82 -> 41295 - 0 - | BS82: =I82&" - "&BP82&" - "&P82 -> 41295 - 0 - | BT82: =I82&" - "&BP82&" - "&Q82 -> 41295 - 0 - | BU82: =VLOOKUP(E82,'Répartition salles'!$C:$R,14,FALSE) -> 0 | BV82: =I82&" - "&BU82&" - "&N82 -> 41295 - 0 - AM | BW82: =I82&" - "&BU82&" - "&O82 -> 41295 - 0 - | BX82: =I82&" - "&BU82&" - "&P82 -> 41295 - 0 - | BY82: =I82&" - "&BU82&" - "&Q82 -> 41295 - 0 - | BZ82: =VLOOKUP(E82,'Répartition salles'!$C:$R,15,FALSE) -> 0 | CA82: =I82&" - "&BZ82&" - "&N82 -> 41295 - 0 - AM | CB82: =I82&" - "&BZ82&" - "&O82 -> 41295 - 0 - | CC82: =I82&" - "&BZ82&" - "&P82 -> 41295 - 0 - | CD82: =I82&" - "&BZ82&" - "&Q82 -> 41295 - 0 - | CE82: =VLOOKUP(E82,'Répartition salles'!$C:$R,16,FALSE) -> 0 | CF82: =I82&" - "&CE82&" - "&N82 -> 41295 - 0 - AM | CG82: =I82&" - "&CE82&" - "&O82 -> 41295 - 0 - | CH82: =I82&" - "&CE82&" - "&P82 -> 41295 - 0 - | CI82: =I82&" - "&CE82&" - "&Q82 -> 41295 - 0 - | CJ82: =F82 -> ACT
A83: 2077332 | B83: 3464686 | C83: STO | D83: Bagagerie | E83: Le Pont des Arts A (0) | F83: ACT | G83: 0.625 | H83: 0.83333333 | I83: 41295 | J83: GCO | K83: CON | L83: Axway | N83: =IF($G83=N$8,"",IF(AND($G83<$H83,N$7<N$8,OR(AND($G83>N$7,$G83<=N$8),AND($H83>N$7,$H83<=N$8),AND($G83<N$7,$H83>N$8))),"AM",IF(AND($G83<$H83,N$7>N$8,OR(AND($G83>N$7,$G83<=N$8+1),AND($H83>N$7,$H83<=N$8+1),AND($G83<N$7,$H83>N$8+1))),"AM",IF(AND($G83>$H83,N$7<N$8,OR(AND($G83>N$7,$G83<=N$8),AND($H83+1>N$7,$H83+1<=N$8),AND($G83<N$7,$H83+1>N$8))),"AM",IF(AND($G83>$H83,N$7>N$8,OR(AND($G83>N$7,$G83<=N$8+1),AND($H83+1>N$7,$H83+1<=N$8+1),AND($G83<N$7,$H83+1>N$8+1))),"AM",""))))) | O83: =IF($G83=O$8,"",IF(AND($G83<$H83,O$7<O$8,OR(AND($G83>O$7,$G83<=O$8),AND($H83>O$7,$H83<=O$8),AND($G83<O$7,$H83>O$8))),"PM",IF(AND($G83<$H83,O$7>O$8,OR(AND($G83>O$7,$G83<=O$8+1),AND($H83>O$7,$H83<=O$8+1),AND($G83<O$7,$H83>O$8+1))),"PM",IF(AND($G83>$H83,O$7<O$8,OR(AND($G83>O$7,$G83<=O$8),AND($H83+1>O$7,$H83+1<=O$8),AND($G83<O$7,$H83+1>O$8))),"PM",IF(AND($G83>$H83,O$7>O$8,OR(AND($G83>O$7,$G83<=O$8+1),AND($H83+1>O$7,$H83+1<=O$8+1),AND($G83<O$7,$H83+1>O$8+1))),"PM",""))))) -> PM | P83: =IF($G83=P$8,"",IF(AND($G83<$H83,P$7<P$8,OR(AND($G83>P$7,$G83<=P$8),AND($H83>P$7,$H83<=P$8),AND($G83<P$7,$H83>P$8))),"EVENING",IF(AND($G83<$H83,P$7>P$8,OR(AND($G83>P$7,$G83<=P$8+1),AND($H83>P$7,$H83<=P$8+1),AND($G83<P$7,$H83>P$8+1))),"EVENING",IF(AND($G83>$H83,P$7<P$8,OR(AND($G83>P$7,$G83<=P$8),AND($H83+1>P$7,$H83+1<=P$8),AND($G83<P$7,$H83+1>P$8))),"EVENING",IF(AND($G83>$H83,P$7>P$8,OR(AND($G83>P$7,$G83<=P$8+1),AND($H83+1>P$7,$H83+1<=P$8+1),AND($G83<P$7,$H83+1>P$8+1))),"EVENING",""))))) -> EVENING | Q83: =IF($G83=Q$8,"",IF(AND($G83<$H83,Q$7<Q$8,OR(AND($G83>Q$7,$G83<=Q$8),AND($H83>Q$7,$H83<=Q$8),AND($G83<Q$7,$H83>Q$8))),"NIGHT",IF(AND($G83<$H83,Q$7>Q$8,OR(AND($G83>Q$7,$G83<=Q$8+1),AND($H83>Q$7,$H83<=Q$8+1),AND($G83<Q$7,$H83>Q$8+1))),"NIGHT",IF(AND($G83>$H83,Q$7<Q$8,OR(AND($G83>Q$7,$G83<=Q$8),AND($H83+1>Q$7,$H83+1<=Q$8),AND($G83<Q$7,$H83+1>Q$8))),"NIGHT",IF(AND($G83>$H83,Q$7>Q$8,OR(AND($G83>Q$7,$G83<=Q$8+1),AND($H83+1>Q$7,$H83+1<=Q$8+1),AND($G83<Q$7,$H83+1>Q$8+1))),"NIGHT",""))))) | R83: =TEXT(DAY(I83),"jjjj") -> samedi | S83: =DAY(I83) -> 21 | T83: =MONTH(I83) -> 1 | U83: =IF(OR(R83="Samedi",R83="Dimanche"),"weekend","week") -> weekend | V83: =U83&" - "&E83 -> weekend - Le Pont des Arts A (0) | W83: =T83&" - "&U83&" - "&E83& " - "&N83 -> 1 - weekend - Le Pont des Arts A (0) - | X83: =T83&" - "&U83&" - "&E83& " - "&O83 -> 1 - weekend - Le Pont des Arts A (0) - PM | Y83: =T83&" - "&U83&" - "&E83& " - "&P83 -> 1 - weekend - Le Pont des Arts A (0) - EVENING | Z83: =T83&" - "&U83&" - "&E83&" - "&Q83 -> 1 - weekend - Le Pont des Arts A (0) - | AA83: =I83&" - "&E83&" - "&N83 -> 41295 - Le Pont des Arts A (0) - | AB83: =I83&" - "&E83&" - "&O83 -> 41295 - Le Pont des Arts A (0) - PM | AC83: =I83&" - "&E83&" - "&P83 -> 41295 - Le Pont des Arts A (0) - EVENING | AD83: =I83&" - "&E83&" - "&Q83 -> 41295 - Le Pont des Arts A (0) - | AE83: =F83 -> ACT | AG83: =VLOOKUP(E83,'Répartition salles'!$C:$R,6,FALSE) -> Pont des Arts A | AH83: =I83&" - "&AG83&" - "&N83 -> 41295 - Pont des Arts A - | AI83: =I83&" - "&AG83&" - "&O83 -> 41295 - Pont des Arts A - PM | AJ83: =I83&" - "&AG83&" - "&P83 -> 41295 - Pont des Arts A - EVENING | AK83: =I83&" - "&AG83&" - "&Q83 -> 41295 - Pont des Arts A - | AL83: =VLOOKUP(E83,'Répartition salles'!$C:$R,7,FALSE) -> 0 | AM83: =I83&" - "&AL83&" - "&N83 -> 41295 - 0 - | AN83: =I83&" - "&AL83&" - "&O83 -> 41295 - 0 - PM | AO83: =I83&" - "&AL83&" - "&P83 -> 41295 - 0 - EVENING | AP83: =I83&" - "&AL83&" - "&Q83 -> 41295 - 0 - | AQ83: =VLOOKUP(E83,'Répartition salles'!$C:$R,8,FALSE) -> 0 | AR83: =I83&" - "&AQ83&" - "&N83 -> 41295 - 0 - | AS83: =I83&" - "&AQ83&" - "&O83 -> 41295 - 0 - PM | AT83: =I83&" - "&AQ83&" - "&P83 -> 41295 - 0 - EVENING | AU83: =I83&" - "&AQ83&" - "&Q83 -> 41295 - 0 - | AV83: =VLOOKUP(E83,'Répartition salles'!$C:$R,9,FALSE) -> 0 | AW83: =I83&" - "&AV83&" - "&N83 -> 41295 - 0 - | AX83: =I83&" - "&AV83&" - "&O83 -> 41295 - 0 - PM | AY83: =I83&" - "&AV83&" - "&P83 -> 41295 - 0 - EVENING | AZ83: =I83&" - "&AV83&" - "&Q83 -> 41295 - 0 - | BA83: =VLOOKUP(E83,'Répartition salles'!$C:$R,10,FALSE) -> 0 | BB83: =I83&" - "&BA83&" - "&N83 -> 41295 - 0 - | BC83: =I83&" - "&BA83&" - "&O83 -> 41295 - 0 - PM | BD83: =I83&" - "&BA83&" - "&P83 -> 41295 - 0 - EVENING | BE83: =I83&" - "&BA83&" - "&Q83 -> 41295 - 0 - | BF83: =VLOOKUP(E83,'Répartition salles'!$C:$R,11,FALSE) -> 0 | BG83: =I83&" - "&BF83&" - "&N83 -> 41295 - 0 - | BH83: =I83&" - "&BF83&" - "&O83 -> 41295 - 0 - PM | BI83: =I83&" - "&BF83&" - "&P83 -> 41295 - 0 - EVENING | BJ83: =I83&" - "&BF83&" - "&Q83 -> 41295 - 0 - | BK83: =VLOOKUP(E83,'Répartition salles'!$C:$R,12,FALSE) -> 0 | BL83: =I83&" - "&BK83&" - "&N83 -> 41295 - 0 - | BM83: =I83&" - "&BK83&" - "&O83 -> 41295 - 0 - PM | BN83: =I83&" - "&BK83&" - "&P83 -> 41295 - 0 - EVENING | BO83: =I83&" - "&BK83&" - "&Q83 -> 41295 - 0 - | BP83: =VLOOKUP(E83,'Répartition salles'!$C:$R,13,FALSE) -> 0 | BQ83: =I83&" - "&BP83&" - "&N83 -> 41295 - 0 - | BR83: =I83&" - "&BP83&" - "&O83 -> 41295 - 0 - PM | BS83: =I83&" - "&BP83&" - "&P83 -> 41295 - 0 - EVENING | BT83: =I83&" - "&BP83&" - "&Q83 -> 41295 - 0 - | BU83: =VLOOKUP(E83,'Répartition salles'!$C:$R,14,FALSE) -> 0 | BV83: =I83&" - "&BU83&" - "&N83 -> 41295 - 0 - | BW83: =I83&" - "&BU83&" - "&O83 -> 41295 - 0 - PM | BX83: =I83&" - "&BU83&" - "&P83 -> 41295 - 0 - EVENING | BY83: =I83&" - "&BU83&" - "&Q83 -> 41295 - 0 - | BZ83: =VLOOKUP(E83,'Répartition salles'!$C:$R,15,FALSE) -> 0 | CA83: =I83&" - "&BZ83&" - "&N83 -> 41295 - 0 - | CB83: =I83&" - "&BZ83&" - "&O83 -> 41295 - 0 - PM | CC83: =I83&" - "&BZ83&" - "&P83 -> 41295 - 0 - EVENING | CD83: =I83&" - "&BZ83&" - "&Q83 -> 41295 - 0 - | CE83: =VLOOKUP(E83,'Répartition salles'!$C:$R,16,FALSE) -> 0 | CF83: =I83&" - "&CE83&" - "&N83 -> 41295 - 0 - | CG83: =I83&" - "&CE83&" - "&O83 -> 41295 - 0 - PM | CH83: =I83&" - "&CE83&" - "&P83 -> 41295 - 0 - EVENING | CI83: =I83&" - "&CE83&" - "&Q83 -> 41295 - 0 - | CJ83: =F83 -> ACT
A84: 2077332 | B84: 3454182 | C84: STO | D84: Dépose Bagages | E84: Hall Congrès (0) | F84: ACT | G84: 0.29166667 | H84: 0.58333333 | I84: 41295 | J84: GCO | K84: CON | L84: Axway | N84: =IF($G84=N$8,"",IF(AND($G84<$H84,N$7<N$8,OR(AND($G84>N$7,$G84<=N$8),AND($H84>N$7,$H84<=N$8),AND($G84<N$7,$H84>N$8))),"AM",IF(AND($G84<$H84,N$7>N$8,OR(AND($G84>N$7,$G84<=N$8+1),AND($H84>N$7,$H84<=N$8+1),AND($G84<N$7,$H84>N$8+1))),"AM",IF(AND($G84>$H84,N$7<N$8,OR(AND($G84>N$7,$G84<=N$8),AND($H84+1>N$7,$H84+1<=N$8),AND($G84<N$7,$H84+1>N$8))),"AM",IF(AND($G84>$H84,N$7>N$8,OR(AND($G84>N$7,$G84<=N$8+1),AND($H84+1>N$7,$H84+1<=N$8+1),AND($G84<N$7,$H84+1>N$8+1))),"AM",""))))) -> AM | O84: =IF($G84=O$8,"",IF(AND($G84<$H84,O$7<O$8,OR(AND($G84>O$7,$G84<=O$8),AND($H84>O$7,$H84<=O$8),AND($G84<O$7,$H84>O$8))),"PM",IF(AND($G84<$H84,O$7>O$8,OR(AND($G84>O$7,$G84<=O$8+1),AND($H84>O$7,$H84<=O$8+1),AND($G84<O$7,$H84>O$8+1))),"PM",IF(AND($G84>$H84,O$7<O$8,OR(AND($G84>O$7,$G84<=O$8),AND($H84+1>O$7,$H84+1<=O$8),AND($G84<O$7,$H84+1>O$8))),"PM",IF(AND($G84>$H84,O$7>O$8,OR(AND($G84>O$7,$G84<=O$8+1),AND($H84+1>O$7,$H84+1<=O$8+1),AND($G84<O$7,$H84+1>O$8+1))),"PM",""))))) | P84: =IF($G84=P$8,"",IF(AND($G84<$H84,P$7<P$8,OR(AND($G84>P$7,$G84<=P$8),AND($H84>P$7,$H84<=P$8),AND($G84<P$7,$H84>P$8))),"EVENING",IF(AND($G84<$H84,P$7>P$8,OR(AND($G84>P$7,$G84<=P$8+1),AND($H84>P$7,$H84<=P$8+1),AND($G84<P$7,$H84>P$8+1))),"EVENING",IF(AND($G84>$H84,P$7<P$8,OR(AND($G84>P$7,$G84<=P$8),AND($H84+1>P$7,$H84+1<=P$8),AND($G84<P$7,$H84+1>P$8))),"EVENING",IF(AND($G84>$H84,P$7>P$8,OR(AND($G84>P$7,$G84<=P$8+1),AND($H84+1>P$7,$H84+1<=P$8+1),AND($G84<P$7,$H84+1>P$8+1))),"EVENING",""))))) | Q84: =IF($G84=Q$8,"",IF(AND($G84<$H84,Q$7<Q$8,OR(AND($G84>Q$7,$G84<=Q$8),AND($H84>Q$7,$H84<=Q$8),AND($G84<Q$7,$H84>Q$8))),"NIGHT",IF(AND($G84<$H84,Q$7>Q$8,OR(AND($G84>Q$7,$G84<=Q$8+1),AND($H84>Q$7,$H84<=Q$8+1),AND($G84<Q$7,$H84>Q$8+1))),"NIGHT",IF(AND($G84>$H84,Q$7<Q$8,OR(AND($G84>Q$7,$G84<=Q$8),AND($H84+1>Q$7,$H84+1<=Q$8),AND($G84<Q$7,$H84+1>Q$8))),"NIGHT",IF(AND($G84>$H84,Q$7>Q$8,OR(AND($G84>Q$7,$G84<=Q$8+1),AND($H84+1>Q$7,$H84+1<=Q$8+1),AND($G84<Q$7,$H84+1>Q$8+1))),"NIGHT",""))))) | R84: =TEXT(DAY(I84),"jjjj") -> samedi | S84: =DAY(I84) -> 21 | T84: =MONTH(I84) -> 1 | U84: =IF(OR(R84="Samedi",R84="Dimanche"),"weekend","week") -> weekend | V84: =U84&" - "&E84 -> weekend - Hall Congrès (0) | W84: =T84&" - "&U84&" - "&E84& " - "&N84 -> 1 - weekend - Hall Congrès (0) - AM | X84: =T84&" - "&U84&" - "&E84& " - "&O84 -> 1 - weekend - Hall Congrès (0) - | Y84: =T84&" - "&U84&" - "&E84& " - "&P84 -> 1 - weekend - Hall Congrès (0) - | Z84: =T84&" - "&U84&" - "&E84&" - "&Q84 -> 1 - weekend - Hall Congrès (0) - | AA84: =I84&" - "&E84&" - "&N84 -> 41295 - Hall Congrès (0) - AM | AB84: =I84&" - "&E84&" - "&O84 -> 41295 - Hall Congrès (0) - | AC84: =I84&" - "&E84&" - "&P84 -> 41295 - Hall Congrès (0) - | AD84: =I84&" - "&E84&" - "&Q84 -> 41295 - Hall Congrès (0) - | AE84: =F84 -> ACT | AG84: =VLOOKUP(E84,'Répartition salles'!$C:$R,6,FALSE) -> #N/A | AH84: =I84&" - "&AG84&" - "&N84 -> #N/A | AI84: =I84&" - "&AG84&" - "&O84 -> #N/A | AJ84: =I84&" - "&AG84&" - "&P84 -> #N/A | AK84: =I84&" - "&AG84&" - "&Q84 -> #N/A | AL84: =VLOOKUP(E84,'Répartition salles'!$C:$R,7,FALSE) -> #N/A | AM84: =I84&" - "&AL84&" - "&N84 -> #N/A | AN84: =I84&" - "&AL84&" - "&O84 -> #N/A | AO84: =I84&" - "&AL84&" - "&P84 -> #N/A | AP84: =I84&" - "&AL84&" - "&Q84 -> #N/A | AQ84: =VLOOKUP(E84,'Répartition salles'!$C:$R,8,FALSE) -> #N/A | AR84: =I84&" - "&AQ84&" - "&N84 -> #N/A | AS84: =I84&" - "&AQ84&" - "&O84 -> #N/A | AT84: =I84&" - "&AQ84&" - "&P84 -> #N/A | AU84: =I84&" - "&AQ84&" - "&Q84 -> #N/A | AV84: =VLOOKUP(E84,'Répartition salles'!$C:$R,9,FALSE) -> #N/A | AW84: =I84&" - "&AV84&" - "&N84 -> #N/A | AX84: =I84&" - "&AV84&" - "&O84 -> #N/A | AY84: =I84&" - "&AV84&" - "&P84 -> #N/A | AZ84: =I84&" - "&AV84&" - "&Q84 -> #N/A | BA84: =VLOOKUP(E84,'Répartition salles'!$C:$R,10,FALSE) -> #N/A | BB84: =I84&" - "&BA84&" - "&N84 -> #N/A | BC84: =I84&" - "&BA84&" - "&O84 -> #N/A | BD84: =I84&" - "&BA84&" - "&P84 -> #N/A | BE84: =I84&" - "&BA84&" - "&Q84 -> #N/A | BF84: =VLOOKUP(E84,'Répartition salles'!$C:$R,11,FALSE) -> #N/A | BG84: =I84&" - "&BF84&" - "&N84 -> #N/A | BH84: =I84&" - "&BF84&" - "&O84 -> #N/A | BI84: =I84&" - "&BF84&" - "&P84 -> #N/A | BJ84: =I84&" - "&BF84&" - "&Q84 -> #N/A | BK84: =VLOOKUP(E84,'Répartition salles'!$C:$R,12,FALSE) -> #N/A | BL84: =I84&" - "&BK84&" - "&N84 -> #N/A | BM84: =I84&" - "&BK84&" - "&O84 -> #N/A | BN84: =I84&" - "&BK84&" - "&P84 -> #N/A | BO84: =I84&" - "&BK84&" - "&Q84 -> #N/A | BP84: =VLOOKUP(E84,'Répartition salles'!$C:$R,13,FALSE) -> #N/A | BQ84: =I84&" - "&BP84&" - "&N84 -> #N/A | BR84: =I84&" - "&BP84&" - "&O84 -> #N/A | BS84: =I84&" - "&BP84&" - "&P84 -> #N/A | BT84: =I84&" - "&BP84&" - "&Q84 -> #N/A | BU84: =VLOOKUP(E84,'Répartition salles'!$C:$R,14,FALSE) -> #N/A | BV84: =I84&" - "&BU84&" - "&N84 -> #N/A | BW84: =I84&" - "&BU84&" - "&O84 -> #N/A | BX84: =I84&" - "&BU84&" - "&P84 -> #N/A | BY84: =I84&" - "&BU84&" - "&Q84 -> #N/A | BZ84: =VLOOKUP(E84,'Répartition salles'!$C:$R,15,FALSE) -> #N/A | CA84: =I84&" - "&BZ84&" - "&N84 -> #N/A | CB84: =I84&" - "&BZ84&" - "&O84 -> #N/A | CC84: =I84&" - "&BZ84&" - "&P84 -> #N/A | CD84: =I84&" - "&BZ84&" - "&Q84 -> #N/A | CE84: =VLOOKUP(E84,'Répartition salles'!$C:$R,16,FALSE) -> #N/A | CF84: =I84&" - "&CE84&" - "&N84 -> #N/A | CG84: =I84&" - "&CE84&" - "&O84 -> #N/A | CH84: =I84&" - "&CE84&" - "&P84 -> #N/A | CI84: =I84&" - "&CE84&" - "&Q84 -> #N/A | CJ84: =F84 -> ACT
A85: 2077332 | B85: 3478984 | C85: COA | D85: Coat Check | E85: Le Bar des Arts (0) | F85: ACT | G85: 0.33333333 | H85: 0.99930556 | I85: 41296 | J85: GCO | K85: CON | L85: Axway | N85: =IF($G85=N$8,"",IF(AND($G85<$H85,N$7<N$8,OR(AND($G85>N$7,$G85<=N$8),AND($H85>N$7,$H85<=N$8),AND($G85<N$7,$H85>N$8))),"AM",IF(AND($G85<$H85,N$7>N$8,OR(AND($G85>N$7,$G85<=N$8+1),AND($H85>N$7,$H85<=N$8+1),AND($G85<N$7,$H85>N$8+1))),"AM",IF(AND($G85>$H85,N$7<N$8,OR(AND($G85>N$7,$G85<=N$8),AND($H85+1>N$7,$H85+1<=N$8),AND($G85<N$7,$H85+1>N$8))),"AM",IF(AND($G85>$H85,N$7>N$8,OR(AND($G85>N$7,$G85<=N$8+1),AND($H85+1>N$7,$H85+1<=N$8+1),AND($G85<N$7,$H85+1>N$8+1))),"AM",""))))) -> AM | O85: =IF($G85=O$8,"",IF(AND($G85<$H85,O$7<O$8,OR(AND($G85>O$7,$G85<=O$8),AND($H85>O$7,$H85<=O$8),AND($G85<O$7,$H85>O$8))),"PM",IF(AND($G85<$H85,O$7>O$8,OR(AND($G85>O$7,$G85<=O$8+1),AND($H85>O$7,$H85<=O$8+1),AND($G85<O$7,$H85>O$8+1))),"PM",IF(AND($G85>$H85,O$7<O$8,OR(AND($G85>O$7,$G85<=O$8),AND($H85+1>O$7,$H85+1<=O$8),AND($G85<O$7,$H85+1>O$8))),"PM",IF(AND($G85>$H85,O$7>O$8,OR(AND($G85>O$7,$G85<=O$8+1),AND($H85+1>O$7,$H85+1<=O$8+1),AND($G85<O$7,$H85+1>O$8+1))),"PM",""))))) -> PM | P85: =IF($G85=P$8,"",IF(AND($G85<$H85,P$7<P$8,OR(AND($G85>P$7,$G85<=P$8),AND($H85>P$7,$H85<=P$8),AND($G85<P$7,$H85>P$8))),"EVENING",IF(AND($G85<$H85,P$7>P$8,OR(AND($G85>P$7,$G85<=P$8+1),AND($H85>P$7,$H85<=P$8+1),AND($G85<P$7,$H85>P$8+1))),"EVENING",IF(AND($G85>$H85,P$7<P$8,OR(AND($G85>P$7,$G85<=P$8),AND($H85+1>P$7,$H85+1<=P$8),AND($G85<P$7,$H85+1>P$8))),"EVENING",IF(AND($G85>$H85,P$7>P$8,OR(AND($G85>P$7,$G85<=P$8+1),AND($H85+1>P$7,$H85+1<=P$8+1),AND($G85<P$7,$H85+1>P$8+1))),"EVENING",""))))) -> EVENING | Q85: =IF($G85=Q$8,"",IF(AND($G85<$H85,Q$7<Q$8,OR(AND($G85>Q$7,$G85<=Q$8),AND($H85>Q$7,$H85<=Q$8),AND($G85<Q$7,$H85>Q$8))),"NIGHT",IF(AND($G85<$H85,Q$7>Q$8,OR(AND($G85>Q$7,$G85<=Q$8+1),AND($H85>Q$7,$H85<=Q$8+1),AND($G85<Q$7,$H85>Q$8+1))),"NIGHT",IF(AND($G85>$H85,Q$7<Q$8,OR(AND($G85>Q$7,$G85<=Q$8),AND($H85+1>Q$7,$H85+1<=Q$8),AND($G85<Q$7,$H85+1>Q$8))),"NIGHT",IF(AND($G85>$H85,Q$7>Q$8,OR(AND($G85>Q$7,$G85<=Q$8+1),AND($H85+1>Q$7,$H85+1<=Q$8+1),AND($G85<Q$7,$H85+1>Q$8+1))),"NIGHT",""))))) -> NIGHT | R85: =TEXT(DAY(I85),"jjjj") -> dimanche | S85: =DAY(I85) -> 22 | T85: =MONTH(I85) -> 1 | U85: =IF(OR(R85="Samedi",R85="Dimanche"),"weekend","week") -> weekend | V85: =U85&" - "&E85 -> weekend - Le Bar des Arts (0) | W85: =T85&" - "&U85&" - "&E85& " - "&N85 -> 1 - weekend - Le Bar des Arts (0) - AM | X85: =T85&" - "&U85&" - "&E85& " - "&O85 -> 1 - weekend - Le Bar des Arts (0) - PM | Y85: =T85&" - "&U85&" - "&E85& " - "&P85 -> 1 - weekend - Le Bar des Arts (0) - EVENING | Z85: =T85&" - "&U85&" - "&E85&" - "&Q85 -> 1 - weekend - Le Bar des Arts (0) - NIGHT | AA85: =I85&" - "&E85&" - "&N85 -> 41296 - Le Bar des Arts (0) - AM | AB85: =I85&" - "&E85&" - "&O85 -> 41296 - Le Bar des Arts (0) - PM | AC85: =I85&" - "&E85&" - "&P85 -> 41296 - Le Bar des Arts (0) - EVENING | AD85: =I85&" - "&E85&" - "&Q85 -> 41296 - Le Bar des Arts (0) - NIGHT | AE85: =F85 -> ACT | AG85: =VLOOKUP(E85,'Répartition salles'!$C:$R,6,FALSE) -> Le Bar des Arts | AH85: =I85&" - "&AG85&" - "&N85 -> 41296 - Le Bar des Arts - AM | AI85: =I85&" - "&AG85&" - "&O85 -> 41296 - Le Bar des Arts - PM | AJ85: =I85&" - "&AG85&" - "&P85 -> 41296 - Le Bar des Arts - EVENING | AK85: =I85&" - "&AG85&" - "&Q85 -> 41296 - Le Bar des Arts - NIGHT | AL85: =VLOOKUP(E85,'Répartition salles'!$C:$R,7,FALSE) -> 0 | AM85: =I85&" - "&AL85&" - "&N85 -> 41296 - 0 - AM | AN85: =I85&" - "&AL85&" - "&O85 -> 41296 - 0 - PM | AO85: =I85&" - "&AL85&" - "&P85 -> 41296 - 0 - EVENING | AP85: =I85&" - "&AL85&" - "&Q85 -> 41296 - 0 - NIGHT | AQ85: =VLOOKUP(E85,'Répartition salles'!$C:$R,8,FALSE) -> 0 | AR85: =I85&" - "&AQ85&" - "&N85 -> 41296 - 0 - AM | AS85: =I85&" - "&AQ85&" - "&O85 -> 41296 - 0 - PM | AT85: =I85&" - "&AQ85&" - "&P85 -> 41296 - 0 - EVENING | AU85: =I85&" - "&AQ85&" - "&Q85 -> 41296 - 0 - NIGHT | AV85: =VLOOKUP(E85,'Répartition salles'!$C:$R,9,FALSE) -> 0 | AW85: =I85&" - "&AV85&" - "&N85 -> 41296 - 0 - AM | AX85: =I85&" - "&AV85&" - "&O85 -> 41296 - 0 - PM | AY85: =I85&" - "&AV85&" - "&P85 -> 41296 - 0 - EVENING | AZ85: =I85&" - "&AV85&" - "&Q85 -> 41296 - 0 - NIGHT | BA85: =VLOOKUP(E85,'Répartition salles'!$C:$R,10,FALSE) -> 0 | BB85: =I85&" - "&BA85&" - "&N85 -> 41296 - 0 - AM | BC85: =I85&" - "&BA85&" - "&O85 -> 41296 - 0 - PM | BD85: =I85&" - "&BA85&" - "&P85 -> 41296 - 0 - EVENING | BE85: =I85&" - "&BA85&" - "&Q85 -> 41296 - 0 - NIGHT | BF85: =VLOOKUP(E85,'Répartition salles'!$C:$R,11,FALSE) -> 0 | BG85: =I85&" - "&BF85&" - "&N85 -> 41296 - 0 - AM | BH85: =I85&" - "&BF85&" - "&O85 -> 41296 - 0 - PM | BI85: =I85&" - "&BF85&" - "&P85 -> 41296 - 0 - EVENING | BJ85: =I85&" - "&BF85&" - "&Q85 -> 41296 - 0 - NIGHT | BK85: =VLOOKUP(E85,'Répartition salles'!$C:$R,12,FALSE) -> 0 | BL85: =I85&" - "&BK85&" - "&N85 -> 41296 - 0 - AM | BM85: =I85&" - "&BK85&" - "&O85 -> 41296 - 0 - PM | BN85: =I85&" - "&BK85&" - "&P85 -> 41296 - 0 - EVENING | BO85: =I85&" - "&BK85&" - "&Q85 -> 41296 - 0 - NIGHT | BP85: =VLOOKUP(E85,'Répartition salles'!$C:$R,13,FALSE) -> 0 | BQ85: =I85&" - "&BP85&" - "&N85 -> 41296 - 0 - AM | BR85: =I85&" - "&BP85&" - "&O85 -> 41296 - 0 - PM | BS85: =I85&" - "&BP85&" - "&P85 -> 41296 - 0 - EVENING | BT85: =I85&" - "&BP85&" - "&Q85 -> 41296 - 0 - NIGHT | BU85: =VLOOKUP(E85,'Répartition salles'!$C:$R,14,FALSE) -> 0 | BV85: =I85&" - "&BU85&" - "&N85 -> 41296 - 0 - AM | BW85: =I85&" - "&BU85&" - "&O85 -> 41296 - 0 - PM | BX85: =I85&" - "&BU85&" - "&P85 -> 41296 - 0 - EVENING | BY85: =I85&" - "&BU85&" - "&Q85 -> 41296 - 0 - NIGHT | BZ85: =VLOOKUP(E85,'Répartition salles'!$C:$R,15,FALSE) -> 0 | CA85: =I85&" - "&BZ85&" - "&N85 -> 41296 - 0 - AM | CB85: =I85&" - "&BZ85&" - "&O85 -> 41296 - 0 - PM | CC85: =I85&" - "&BZ85&" - "&P85 -> 41296 - 0 - EVENING | CD85: =I85&" - "&BZ85&" - "&Q85 -> 41296 - 0 - NIGHT | CE85: =VLOOKUP(E85,'Répartition salles'!$C:$R,16,FALSE) -> 0 | CF85: =I85&" - "&CE85&" - "&N85 -> 41296 - 0 - AM | CG85: =I85&" - "&CE85&" - "&O85 -> 41296 - 0 - PM | CH85: =I85&" - "&CE85&" - "&P85 -> 41296 - 0 - EVENING | CI85: =I85&" - "&CE85&" - "&Q85 -> 41296 - 0 - NIGHT | CJ85: =F85 -> ACT
A86: 2077332 | B86: 3071729 | C86: COC | D86: Cocktail Reception | E86: La Seine (0) | F86: ACT | I86: 41296 | J86: GCO | K86: CON | L86: Axway | N86: =IF($G86=N$8,"",IF(AND($G86<$H86,N$7<N$8,OR(AND($G86>N$7,$G86<=N$8),AND($H86>N$7,$H86<=N$8),AND($G86<N$7,$H86>N$8))),"AM",IF(AND($G86<$H86,N$7>N$8,OR(AND($G86>N$7,$G86<=N$8+1),AND($H86>N$7,$H86<=N$8+1),AND($G86<N$7,$H86>N$8+1))),"AM",IF(AND($G86>$H86,N$7<N$8,OR(AND($G86>N$7,$G86<=N$8),AND($H86+1>N$7,$H86+1<=N$8),AND($G86<N$7,$H86+1>N$8))),"AM",IF(AND($G86>$H86,N$7>N$8,OR(AND($G86>N$7,$G86<=N$8+1),AND($H86+1>N$7,$H86+1<=N$8+1),AND($G86<N$7,$H86+1>N$8+1))),"AM",""))))) | O86: =IF($G86=O$8,"",IF(AND($G86<$H86,O$7<O$8,OR(AND($G86>O$7,$G86<=O$8),AND($H86>O$7,$H86<=O$8),AND($G86<O$7,$H86>O$8))),"PM",IF(AND($G86<$H86,O$7>O$8,OR(AND($G86>O$7,$G86<=O$8+1),AND($H86>O$7,$H86<=O$8+1),AND($G86<O$7,$H86>O$8+1))),"PM",IF(AND($G86>$H86,O$7<O$8,OR(AND($G86>O$7,$G86<=O$8),AND($H86+1>O$7,$H86+1<=O$8),AND($G86<O$7,$H86+1>O$8))),"PM",IF(AND($G86>$H86,O$7>O$8,OR(AND($G86>O$7,$G86<=O$8+1),AND($H86+1>O$7,$H86+1<=O$8+1),AND($G86<O$7,$H86+1>O$8+1))),"PM",""))))) | P86: =IF($G86=P$8,"",IF(AND($G86<$H86,P$7<P$8,OR(AND($G86>P$7,$G86<=P$8),AND($H86>P$7,$H86<=P$8),AND($G86<P$7,$H86>P$8))),"EVENING",IF(AND($G86<$H86,P$7>P$8,OR(AND($G86>P$7,$G86<=P$8+1),AND($H86>P$7,$H86<=P$8+1),AND($G86<P$7,$H86>P$8+1))),"EVENING",IF(AND($G86>$H86,P$7<P$8,OR(AND($G86>P$7,$G86<=P$8),AND($H86+1>P$7,$H86+1<=P$8),AND($G86<P$7,$H86+1>P$8))),"EVENING",IF(AND($G86>$H86,P$7>P$8,OR(AND($G86>P$7,$G86<=P$8+1),AND($H86+1>P$7,$H86+1<=P$8+1),AND($G86<P$7,$H86+1>P$8+1))),"EVENING",""))))) | Q86: =IF($G86=Q$8,"",IF(AND($G86<$H86,Q$7<Q$8,OR(AND($G86>Q$7,$G86<=Q$8),AND($H86>Q$7,$H86<=Q$8),AND($G86<Q$7,$H86>Q$8))),"NIGHT",IF(AND($G86<$H86,Q$7>Q$8,OR(AND($G86>Q$7,$G86<=Q$8+1),AND($H86>Q$7,$H86<=Q$8+1),AND($G86<Q$7,$H86>Q$8+1))),"NIGHT",IF(AND($G86>$H86,Q$7<Q$8,OR(AND($G86>Q$7,$G86<=Q$8),AND($H86+1>Q$7,$H86+1<=Q$8),AND($G86<Q$7,$H86+1>Q$8))),"NIGHT",IF(AND($G86>$H86,Q$7>Q$8,OR(AND($G86>Q$7,$G86<=Q$8+1),AND($H86+1>Q$7,$H86+1<=Q$8+1),AND($G86<Q$7,$H86+1>Q$8+1))),"NIGHT",""))))) | R86: =TEXT(DAY(I86),"jjjj") -> dimanche | S86: =DAY(I86) -> 22 | T86: =MONTH(I86) -> 1 | U86: =IF(OR(R86="Samedi",R86="Dimanche"),"weekend","week") -> weekend | V86: =U86&" - "&E86 -> weekend - La Seine (0) | W86: =T86&" - "&U86&" - "&E86& " - "&N86 -> 1 - weekend - La Seine (0) - | X86: =T86&" - "&U86&" - "&E86& " - "&O86 -> 1 - weekend - La Seine (0) - | Y86: =T86&" - "&U86&" - "&E86& " - "&P86 -> 1 - weekend - La Seine (0) - | Z86: =T86&" - "&U86&" - "&E86&" - "&Q86 -> 1 - weekend - La Seine (0) - | AA86: =I86&" - "&E86&" - "&N86 -> 41296 - La Seine (0) - | AB86: =I86&" - "&E86&" - "&O86 -> 41296 - La Seine (0) - | AC86: =I86&" - "&E86&" - "&P86 -> 41296 - La Seine (0) - | AD86: =I86&" - "&E86&" - "&Q86 -> 41296 - La Seine (0) - | AE86: =F86 -> ACT | AG86: =VLOOKUP(E86,'Répartition salles'!$C:$R,6,FALSE) -> Seine A | AH86: =I86&" - "&AG86&" - "&N86 -> 41296 - Seine A - | AI86: =I86&" - "&AG86&" - "&O86 -> 41296 - Seine A - | AJ86: =I86&" - "&AG86&" - "&P86 -> 41296 - Seine A - | AK86: =I86&" - "&AG86&" - "&Q86 -> 41296 - Seine A - | AL86: =VLOOKUP(E86,'Répartition salles'!$C:$R,7,FALSE) -> Seine B | AM86: =I86&" - "&AL86&" - "&N86 -> 41296 - Seine B - | AN86: =I86&" - "&AL86&" - "&O86 -> 41296 - Seine B - | AO86: =I86&" - "&AL86&" - "&P86 -> 41296 - Seine B - | AP86: =I86&" - "&AL86&" - "&Q86 -> 41296 - Seine B - | AQ86: =VLOOKUP(E86,'Répartition salles'!$C:$R,8,FALSE) -> Seine C | AR86: =I86&" - "&AQ86&" - "&N86 -> 41296 - Seine C - | AS86: =I86&" - "&AQ86&" - "&O86 -> 41296 - Seine C - | AT86: =I86&" - "&AQ86&" - "&P86 -> 41296 - Seine C - | AU86: =I86&" - "&AQ86&" - "&Q86 -> 41296 - Seine C - | AV86: =VLOOKUP(E86,'Répartition salles'!$C:$R,9,FALSE) -> 0 | AW86: =I86&" - "&AV86&" - "&N86 -> 41296 - 0 - | AX86: =I86&" - "&AV86&" - "&O86 -> 41296 - 0 - | AY86: =I86&" - "&AV86&" - "&P86 -> 41296 - 0 - | AZ86: =I86&" - "&AV86&" - "&Q86 -> 41296 - 0 - | BA86: =VLOOKUP(E86,'Répartition salles'!$C:$R,10,FALSE) -> 0 | BB86: =I86&" - "&BA86&" - "&N86 -> 41296 - 0 - | BC86: =I86&" - "&BA86&" - "&O86 -> 41296 - 0 - | BD86: =I86&" - "&BA86&" - "&P86 -> 41296 - 0 - | BE86: =I86&" - "&BA86&" - "&Q86 -> 41296 - 0 - | BF86: =VLOOKUP(E86,'Répartition salles'!$C:$R,11,FALSE) -> 0 | BG86: =I86&" - "&BF86&" - "&N86 -> 41296 - 0 - | BH86: =I86&" - "&BF86&" - "&O86 -> 41296 - 0 - | BI86: =I86&" - "&BF86&" - "&P86 -> 41296 - 0 - | BJ86: =I86&" - "&BF86&" - "&Q86 -> 41296 - 0 - | BK86: =VLOOKUP(E86,'Répartition salles'!$C:$R,12,FALSE) -> 0 | BL86: =I86&" - "&BK86&" - "&N86 -> 41296 - 0 - | BM86: =I86&" - "&BK86&" - "&O86 -> 41296 - 0 - | BN86: =I86&" - "&BK86&" - "&P86 -> 41296 - 0 - | BO86: =I86&" - "&BK86&" - "&Q86 -> 41296 - 0 - | BP86: =VLOOKUP(E86,'Répartition salles'!$C:$R,13,FALSE) -> 0 | BQ86: =I86&" - "&BP86&" - "&N86 -> 41296 - 0 - | BR86: =I86&" - "&BP86&" - "&O86 -> 41296 - 0 - | BS86: =I86&" - "&BP86&" - "&P86 -> 41296 - 0 - | BT86: =I86&" - "&BP86&" - "&Q86 -> 41296 - 0 - | BU86: =VLOOKUP(E86,'Répartition salles'!$C:$R,14,FALSE) -> 0 | BV86: =I86&" - "&BU86&" - "&N86 -> 41296 - 0 - | BW86: =I86&" - "&BU86&" - "&O86 -> 41296 - 0 - | BX86: =I86&" - "&BU86&" - "&P86 -> 41296 - 0 - | BY86: =I86&" - "&BU86&" - "&Q86 -> 41296 - 0 - | BZ86: =VLOOKUP(E86,'Répartition salles'!$C:$R,15,FALSE) -> 0 | CA86: =I86&" - "&BZ86&" - "&N86 -> 41296 - 0 - | CB86: =I86&" - "&BZ86&" - "&O86 -> 41296 - 0 - | CC86: =I86&" - "&BZ86&" - "&P86 -> 41296 - 0 - | CD86: =I86&" - "&BZ86&" - "&Q86 -> 41296 - 0 - | CE86: =VLOOKUP(E86,'Répartition salles'!$C:$R,16,FALSE) -> 0 | CF86: =I86&" - "&CE86&" - "&N86 -> 41296 - 0 - | CG86: =I86&" - "&CE86&" - "&O86 -> 41296 - 0 - | CH86: =I86&" - "&CE86&" - "&P86 -> 41296 - 0 - | CI86: =I86&" - "&CE86&" - "&Q86 -> 41296 - 0 - | CJ86: =F86 -> ACT
A87: 2077332 | B87: 3283456 | C87: DIN | D87: Dinner | E87: La Seine (0) | F87: ACT | I87: 41296 | J87: GCO | K87: CON | L87: Axway | N87: =IF($G87=N$8,"",IF(AND($G87<$H87,N$7<N$8,OR(AND($G87>N$7,$G87<=N$8),AND($H87>N$7,$H87<=N$8),AND($G87<N$7,$H87>N$8))),"AM",IF(AND($G87<$H87,N$7>N$8,OR(AND($G87>N$7,$G87<=N$8+1),AND($H87>N$7,$H87<=N$8+1),AND($G87<N$7,$H87>N$8+1))),"AM",IF(AND($G87>$H87,N$7<N$8,OR(AND($G87>N$7,$G87<=N$8),AND($H87+1>N$7,$H87+1<=N$8),AND($G87<N$7,$H87+1>N$8))),"AM",IF(AND($G87>$H87,N$7>N$8,OR(AND($G87>N$7,$G87<=N$8+1),AND($H87+1>N$7,$H87+1<=N$8+1),AND($G87<N$7,$H87+1>N$8+1))),"AM",""))))) | O87: =IF($G87=O$8,"",IF(AND($G87<$H87,O$7<O$8,OR(AND($G87>O$7,$G87<=O$8),AND($H87>O$7,$H87<=O$8),AND($G87<O$7,$H87>O$8))),"PM",IF(AND($G87<$H87,O$7>O$8,OR(AND($G87>O$7,$G87<=O$8+1),AND($H87>O$7,$H87<=O$8+1),AND($G87<O$7,$H87>O$8+1))),"PM",IF(AND($G87>$H87,O$7<O$8,OR(AND($G87>O$7,$G87<=O$8),AND($H87+1>O$7,$H87+1<=O$8),AND($G87<O$7,$H87+1>O$8))),"PM",IF(AND($G87>$H87,O$7>O$8,OR(AND($G87>O$7,$G87<=O$8+1),AND($H87+1>O$7,$H87+1<=O$8+1),AND($G87<O$7,$H87+1>O$8+1))),"PM",""))))) | P87: =IF($G87=P$8,"",IF(AND($G87<$H87,P$7<P$8,OR(AND($G87>P$7,$G87<=P$8),AND($H87>P$7,$H87<=P$8),AND($G87<P$7,$H87>P$8))),"EVENING",IF(AND($G87<$H87,P$7>P$8,OR(AND($G87>P$7,$G87<=P$8+1),AND($H87>P$7,$H87<=P$8+1),AND($G87<P$7,$H87>P$8+1))),"EVENING",IF(AND($G87>$H87,P$7<P$8,OR(AND($G87>P$7,$G87<=P$8),AND($H87+1>P$7,$H87+1<=P$8),AND($G87<P$7,$H87+1>P$8))),"EVENING",IF(AND($G87>$H87,P$7>P$8,OR(AND($G87>P$7,$G87<=P$8+1),AND($H87+1>P$7,$H87+1<=P$8+1),AND($G87<P$7,$H87+1>P$8+1))),"EVENING",""))))) | Q87: =IF($G87=Q$8,"",IF(AND($G87<$H87,Q$7<Q$8,OR(AND($G87>Q$7,$G87<=Q$8),AND($H87>Q$7,$H87<=Q$8),AND($G87<Q$7,$H87>Q$8))),"NIGHT",IF(AND($G87<$H87,Q$7>Q$8,OR(AND($G87>Q$7,$G87<=Q$8+1),AND($H87>Q$7,$H87<=Q$8+1),AND($G87<Q$7,$H87>Q$8+1))),"NIGHT",IF(AND($G87>$H87,Q$7<Q$8,OR(AND($G87>Q$7,$G87<=Q$8),AND($H87+1>Q$7,$H87+1<=Q$8),AND($G87<Q$7,$H87+1>Q$8))),"NIGHT",IF(AND($G87>$H87,Q$7>Q$8,OR(AND($G87>Q$7,$G87<=Q$8+1),AND($H87+1>Q$7,$H87+1<=Q$8+1),AND($G87<Q$7,$H87+1>Q$8+1))),"NIGHT",""))))) | R87: =TEXT(DAY(I87),"jjjj") -> dimanche | S87: =DAY(I87) -> 22 | T87: =MONTH(I87) -> 1 | U87: =IF(OR(R87="Samedi",R87="Dimanche"),"weekend","week") -> weekend | V87: =U87&" - "&E87 -> weekend - La Seine (0) | W87: =T87&" - "&U87&" - "&E87& " - "&N87 -> 1 - weekend - La Seine (0) - | X87: =T87&" - "&U87&" - "&E87& " - "&O87 -> 1 - weekend - La Seine (0) - | Y87: =T87&" - "&U87&" - "&E87& " - "&P87 -> 1 - weekend - La Seine (0) - | Z87: =T87&" - "&U87&" - "&E87&" - "&Q87 -> 1 - weekend - La Seine (0) - | AA87: =I87&" - "&E87&" - "&N87 -> 41296 - La Seine (0) - | AB87: =I87&" - "&E87&" - "&O87 -> 41296 - La Seine (0) - | AC87: =I87&" - "&E87&" - "&P87 -> 41296 - La Seine (0) - | AD87: =I87&" - "&E87&" - "&Q87 -> 41296 - La Seine (0) - | AE87: =F87 -> ACT | AG87: =VLOOKUP(E87,'Répartition salles'!$C:$R,6,FALSE) -> Seine A | AH87: =I87&" - "&AG87&" - "&N87 -> 41296 - Seine A - | AI87: =I87&" - "&AG87&" - "&O87 -> 41296 - Seine A - | AJ87: =I87&" - "&AG87&" - "&P87 -> 41296 - Seine A - | AK87: =I87&" - "&AG87&" - "&Q87 -> 41296 - Seine A - | AL87: =VLOOKUP(E87,'Répartition salles'!$C:$R,7,FALSE) -> Seine B | AM87: =I87&" - "&AL87&" - "&N87 -> 41296 - Seine B - | AN87: =I87&" - "&AL87&" - "&O87 -> 41296 - Seine B - | AO87: =I87&" - "&AL87&" - "&P87 -> 41296 - Seine B - | AP87: =I87&" - "&AL87&" - "&Q87 -> 41296 - Seine B - | AQ87: =VLOOKUP(E87,'Répartition salles'!$C:$R,8,FALSE) -> Seine C | AR87: =I87&" - "&AQ87&" - "&N87 -> 41296 - Seine C - | AS87: =I87&" - "&AQ87&" - "&O87 -> 41296 - Seine C - | AT87: =I87&" - "&AQ87&" - "&P87 -> 41296 - Seine C - | AU87: =I87&" - "&AQ87&" - "&Q87 -> 41296 - Seine C - | AV87: =VLOOKUP(E87,'Répartition salles'!$C:$R,9,FALSE) -> 0 | AW87: =I87&" - "&AV87&" - "&N87 -> 41296 - 0 - | AX87: =I87&" - "&AV87&" - "&O87 -> 41296 - 0 - | AY87: =I87&" - "&AV87&" - "&P87 -> 41296 - 0 - | AZ87: =I87&" - "&AV87&" - "&Q87 -> 41296 - 0 - | BA87: =VLOOKUP(E87,'Répartition salles'!$C:$R,10,FALSE) -> 0 | BB87: =I87&" - "&BA87&" - "&N87 -> 41296 - 0 - | BC87: =I87&" - "&BA87&" - "&O87 -> 41296 - 0 - | BD87: =I87&" - "&BA87&" - "&P87 -> 41296 - 0 - | BE87: =I87&" - "&BA87&" - "&Q87 -> 41296 - 0 - | BF87: =VLOOKUP(E87,'Répartition salles'!$C:$R,11,FALSE) -> 0 | BG87: =I87&" - "&BF87&" - "&N87 -> 41296 - 0 - | BH87: =I87&" - "&BF87&" - "&O87 -> 41296 - 0 - | BI87: =I87&" - "&BF87&" - "&P87 -> 41296 - 0 - | BJ87: =I87&" - "&BF87&" - "&Q87 -> 41296 - 0 - | BK87: =VLOOKUP(E87,'Répartition salles'!$C:$R,12,FALSE) -> 0 | BL87: =I87&" - "&BK87&" - "&N87 -> 41296 - 0 - | BM87: =I87&" - "&BK87&" - "&O87 -> 41296 - 0 - | BN87: =I87&" - "&BK87&" - "&P87 -> 41296 - 0 - | BO87: =I87&" - "&BK87&" - "&Q87 -> 41296 - 0 - | BP87: =VLOOKUP(E87,'Répartition salles'!$C:$R,13,FALSE) -> 0 | BQ87: =I87&" - "&BP87&" - "&N87 -> 41296 - 0 - | BR87: =I87&" - "&BP87&" - "&O87 -> 41296 - 0 - | BS87: =I87&" - "&BP87&" - "&P87 -> 41296 - 0 - | BT87: =I87&" - "&BP87&" - "&Q87 -> 41296 - 0 - | BU87: =VLOOKUP(E87,'Répartition salles'!$C:$R,14,FALSE) -> 0 | BV87: =I87&" - "&BU87&" - "&N87 -> 41296 - 0 - | BW87: =I87&" - "&BU87&" - "&O87 -> 41296 - 0 - | BX87: =I87&" - "&BU87&" - "&P87 -> 41296 - 0 - | BY87: =I87&" - "&BU87&" - "&Q87 -> 41296 - 0 - | BZ87: =VLOOKUP(E87,'Répartition salles'!$C:$R,15,FALSE) -> 0 | CA87: =I87&" - "&BZ87&" - "&N87 -> 41296 - 0 - | CB87: =I87&" - "&BZ87&" - "&O87 -> 41296 - 0 - | CC87: =I87&" - "&BZ87&" - "&P87 -> 41296 - 0 - | CD87: =I87&" - "&BZ87&" - "&Q87 -> 41296 - 0 - | CE87: =VLOOKUP(E87,'Répartition salles'!$C:$R,16,FALSE) -> 0 | CF87: =I87&" - "&CE87&" - "&N87 -> 41296 - 0 - | CG87: =I87&" - "&CE87&" - "&O87 -> 41296 - 0 - | CH87: =I87&" - "&CE87&" - "&P87 -> 41296 - 0 - | CI87: =I87&" - "&CE87&" - "&Q87 -> 41296 - 0 - | CJ87: =F87 -> ACT
A88: 2077332 | B88: 2929075 | C88: GEN | D88: General Session | E88: La Seine (0) | F88: ACT | G88: 0.35416667 | H88: 0.75 | I88: 41296 | J88: GCO | K88: CON | L88: Axway | N88: =IF($G88=N$8,"",IF(AND($G88<$H88,N$7<N$8,OR(AND($G88>N$7,$G88<=N$8),AND($H88>N$7,$H88<=N$8),AND($G88<N$7,$H88>N$8))),"AM",IF(AND($G88<$H88,N$7>N$8,OR(AND($G88>N$7,$G88<=N$8+1),AND($H88>N$7,$H88<=N$8+1),AND($G88<N$7,$H88>N$8+1))),"AM",IF(AND($G88>$H88,N$7<N$8,OR(AND($G88>N$7,$G88<=N$8),AND($H88+1>N$7,$H88+1<=N$8),AND($G88<N$7,$H88+1>N$8))),"AM",IF(AND($G88>$H88,N$7>N$8,OR(AND($G88>N$7,$G88<=N$8+1),AND($H88+1>N$7,$H88+1<=N$8+1),AND($G88<N$7,$H88+1>N$8+1))),"AM",""))))) -> AM | O88: =IF($G88=O$8,"",IF(AND($G88<$H88,O$7<O$8,OR(AND($G88>O$7,$G88<=O$8),AND($H88>O$7,$H88<=O$8),AND($G88<O$7,$H88>O$8))),"PM",IF(AND($G88<$H88,O$7>O$8,OR(AND($G88>O$7,$G88<=O$8+1),AND($H88>O$7,$H88<=O$8+1),AND($G88<O$7,$H88>O$8+1))),"PM",IF(AND($G88>$H88,O$7<O$8,OR(AND($G88>O$7,$G88<=O$8),AND($H88+1>O$7,$H88+1<=O$8),AND($G88<O$7,$H88+1>O$8))),"PM",IF(AND($G88>$H88,O$7>O$8,OR(AND($G88>O$7,$G88<=O$8+1),AND($H88+1>O$7,$H88+1<=O$8+1),AND($G88<O$7,$H88+1>O$8+1))),"PM",""))))) -> PM | P88: =IF($G88=P$8,"",IF(AND($G88<$H88,P$7<P$8,OR(AND($G88>P$7,$G88<=P$8),AND($H88>P$7,$H88<=P$8),AND($G88<P$7,$H88>P$8))),"EVENING",IF(AND($G88<$H88,P$7>P$8,OR(AND($G88>P$7,$G88<=P$8+1),AND($H88>P$7,$H88<=P$8+1),AND($G88<P$7,$H88>P$8+1))),"EVENING",IF(AND($G88>$H88,P$7<P$8,OR(AND($G88>P$7,$G88<=P$8),AND($H88+1>P$7,$H88+1<=P$8),AND($G88<P$7,$H88+1>P$8))),"EVENING",IF(AND($G88>$H88,P$7>P$8,OR(AND($G88>P$7,$G88<=P$8+1),AND($H88+1>P$7,$H88+1<=P$8+1),AND($G88<P$7,$H88+1>P$8+1))),"EVENING",""))))) | Q88: =IF($G88=Q$8,"",IF(AND($G88<$H88,Q$7<Q$8,OR(AND($G88>Q$7,$G88<=Q$8),AND($H88>Q$7,$H88<=Q$8),AND($G88<Q$7,$H88>Q$8))),"NIGHT",IF(AND($G88<$H88,Q$7>Q$8,OR(AND($G88>Q$7,$G88<=Q$8+1),AND($H88>Q$7,$H88<=Q$8+1),AND($G88<Q$7,$H88>Q$8+1))),"NIGHT",IF(AND($G88>$H88,Q$7<Q$8,OR(AND($G88>Q$7,$G88<=Q$8),AND($H88+1>Q$7,$H88+1<=Q$8),AND($G88<Q$7,$H88+1>Q$8))),"NIGHT",IF(AND($G88>$H88,Q$7>Q$8,OR(AND($G88>Q$7,$G88<=Q$8+1),AND($H88+1>Q$7,$H88+1<=Q$8+1),AND($G88<Q$7,$H88+1>Q$8+1))),"NIGHT",""))))) | R88: =TEXT(DAY(I88),"jjjj") -> dimanche | S88: =DAY(I88) -> 22 | T88: =MONTH(I88) -> 1 | U88: =IF(OR(R88="Samedi",R88="Dimanche"),"weekend","week") -> weekend | V88: =U88&" - "&E88 -> weekend - La Seine (0) | W88: =T88&" - "&U88&" - "&E88& " - "&N88 -> 1 - weekend - La Seine (0) - AM | X88: =T88&" - "&U88&" - "&E88& " - "&O88 -> 1 - weekend - La Seine (0) - PM | Y88: =T88&" - "&U88&" - "&E88& " - "&P88 -> 1 - weekend - La Seine (0) - | Z88: =T88&" - "&U88&" - "&E88&" - "&Q88 -> 1 - weekend - La Seine (0) - | AA88: =I88&" - "&E88&" - "&N88 -> 41296 - La Seine (0) - AM | AB88: =I88&" - "&E88&" - "&O88 -> 41296 - La Seine (0) - PM | AC88: =I88&" - "&E88&" - "&P88 -> 41296 - La Seine (0) - | AD88: =I88&" - "&E88&" - "&Q88 -> 41296 - La Seine (0) - | AE88: =F88 -> ACT | AG88: =VLOOKUP(E88,'Répartition salles'!$C:$R,6,FALSE) -> Seine A | AH88: =I88&" - "&AG88&" - "&N88 -> 41296 - Seine A - AM | AI88: =I88&" - "&AG88&" - "&O88 -> 41296 - Seine A - PM | AJ88: =I88&" - "&AG88&" - "&P88 -> 41296 - Seine A - | AK88: =I88&" - "&AG88&" - "&Q88 -> 41296 - Seine A - | AL88: =VLOOKUP(E88,'Répartition salles'!$C:$R,7,FALSE) -> Seine B | AM88: =I88&" - "&AL88&" - "&N88 -> 41296 - Seine B - AM | AN88: =I88&" - "&AL88&" - "&O88 -> 41296 - Seine B - PM | AO88: =I88&" - "&AL88&" - "&P88 -> 41296 - Seine B - | AP88: =I88&" - "&AL88&" - "&Q88 -> 41296 - Seine B - | AQ88: =VLOOKUP(E88,'Répartition salles'!$C:$R,8,FALSE) -> Seine C | AR88: =I88&" - "&AQ88&" - "&N88 -> 41296 - Seine C - AM | AS88: =I88&" - "&AQ88&" - "&O88 -> 41296 - Seine C - PM | AT88: =I88&" - "&AQ88&" - "&P88 -> 41296 - Seine C - | AU88: =I88&" - "&AQ88&" - "&Q88 -> 41296 - Seine C - | AV88: =VLOOKUP(E88,'Répartition salles'!$C:$R,9,FALSE) -> 0 | AW88: =I88&" - "&AV88&" - "&N88 -> 41296 - 0 - AM | AX88: =I88&" - "&AV88&" - "&O88 -> 41296 - 0 - PM | AY88: =I88&" - "&AV88&" - "&P88 -> 41296 - 0 - | AZ88: =I88&" - "&AV88&" - "&Q88 -> 41296 - 0 - | BA88: =VLOOKUP(E88,'Répartition salles'!$C:$R,10,FALSE) -> 0 | BB88: =I88&" - "&BA88&" - "&N88 -> 41296 - 0 - AM | BC88: =I88&" - "&BA88&" - "&O88 -> 41296 - 0 - PM | BD88: =I88&" - "&BA88&" - "&P88 -> 41296 - 0 - | BE88: =I88&" - "&BA88&" - "&Q88 -> 41296 - 0 - | BF88: =VLOOKUP(E88,'Répartition salles'!$C:$R,11,FALSE) -> 0 | BG88: =I88&" - "&BF88&" - "&N88 -> 41296 - 0 - AM | BH88: =I88&" - "&BF88&" - "&O88 -> 41296 - 0 - PM | BI88: =I88&" - "&BF88&" - "&P88 -> 41296 - 0 - | BJ88: =I88&" - "&BF88&" - "&Q88 -> 41296 - 0 - | BK88: =VLOOKUP(E88,'Répartition salles'!$C:$R,12,FALSE) -> 0 | BL88: =I88&" - "&BK88&" - "&N88 -> 41296 - 0 - AM | BM88: =I88&" - "&BK88&" - "&O88 -> 41296 - 0 - PM | BN88: =I88&" - "&BK88&" - "&P88 -> 41296 - 0 - | BO88: =I88&" - "&BK88&" - "&Q88 -> 41296 - 0 - | BP88: =VLOOKUP(E88,'Répartition salles'!$C:$R,13,FALSE) -> 0 | BQ88: =I88&" - "&BP88&" - "&N88 -> 41296 - 0 - AM | BR88: =I88&" - "&BP88&" - "&O88 -> 41296 - 0 - PM | BS88: =I88&" - "&BP88&" - "&P88 -> 41296 - 0 - | BT88: =I88&" - "&BP88&" - "&Q88 -> 41296 - 0 - | BU88: =VLOOKUP(E88,'Répartition salles'!$C:$R,14,FALSE) -> 0 | BV88: =I88&" - "&BU88&" - "&N88 -> 41296 - 0 - AM | BW88: =I88&" - "&BU88&" - "&O88 -> 41296 - 0 - PM | BX88: =I88&" - "&BU88&" - "&P88 -> 41296 - 0 - | BY88: =I88&" - "&BU88&" - "&Q88 -> 41296 - 0 - | BZ88: =VLOOKUP(E88,'Répartition salles'!$C:$R,15,FALSE) -> 0 | CA88: =I88&" - "&BZ88&" - "&N88 -> 41296 - 0 - AM | CB88: =I88&" - "&BZ88&" - "&O88 -> 41296 - 0 - PM | CC88: =I88&" - "&BZ88&" - "&P88 -> 41296 - 0 - | CD88: =I88&" - "&BZ88&" - "&Q88 -> 41296 - 0 - | CE88: =VLOOKUP(E88,'Répartition salles'!$C:$R,16,FALSE) -> 0 | CF88: =I88&" - "&CE88&" - "&N88 -> 41296 - 0 - AM | CG88: =I88&" - "&CE88&" - "&O88 -> 41296 - 0 - PM | CH88: =I88&" - "&CE88&" - "&P88 -> 41296 - 0 - | CI88: =I88&" - "&CE88&" - "&Q88 -> 41296 - 0 - | CJ88: =F88 -> ACT

Sheet Janvier
A1: weekdays | D1: Matin | E1: Après-midi | F1: Soirée | G1: Nuit
A2: 22 | B2: MONTH | D2: 0.24930556 | E2: 0.58402778 | F2: 0.79236111 | G2: 0.95902778
B3: 1 | D3: 0.58333333 | E3: 0.79166667 | F3: 0.95833333 | G3: 0.25
A4: WE days | G4: 41275 | H4: 41276 | I4: 41277 | J4: 41278 | K4: 41279 | L4: 41280 | M4: 41281 | N4: 41282 | O4: 41283 | P4: 41284 | Q4: 41285 | R4: 41286 | S4: 41287 | T4: 41288 | U4: 41289 | V4: 41290 | W4: 41291 | X4: 41292 | Y4: 41293 | Z4: 41294 | AA4: 41295 | AB4: 41296 | AC4: 41297 | AD4: 41298 | AE4: 41299 | AF4: 41300 | AG4: 41301 | AH4: 41302 | AI4: 41303 | AJ4: 41304 | AK4: 41305
A5: 9 | B5: =A2+A5 -> 31 | G5: =DAY(G4) -> 1 | H5: =DAY(H4) -> 2 | I5: =DAY(I4) -> 3 | J5: =DAY(J4) -> 4 | K5: =DAY(K4) -> 5 | L5: =DAY(L4) -> 6 | M5: =DAY(M4) -> 7 | N5: =DAY(N4) -> 8 | ... AK5: =DAY(AK4) -> 31
G6: =TEXT(G4,"jjj") -> mar | H6: =TEXT(DAY(H4),"jjj") -> lun | I6: =TEXT(DAY(I4),"jjj") -> mar | J6: =TEXT(DAY(J4),"jjj") -> mer | K6: =TEXT(DAY(K4),"jjj") -> jeu | L6: =TEXT(DAY(L4),"jjj") -> ven | M6: =TEXT(DAY(M4),"jjj") -> sam | N6: =TEXT(DAY(N4),"jjj") -> dim | O6: =TEXT(DAY(O4),"jjj") -> lun | ... AK6: =TEXT(DAY(AK4),"jjj") -> mar
G7: =IF(OR(G6="Sam",G6="Dim"),"WE","WD") -> WD | H7: =IF(OR(H6="Sam",H6="Dim"),"WE","WD") -> WD | I7: =IF(OR(I6="Sam",I6="Dim"),"WE","WD") -> WD | J7: =IF(OR(J6="Sam",J6="Dim"),"WE","WD") -> WD | K7: =IF(OR(K6="Sam",K6="Dim"),"WE","WD") -> WD | L7: =IF(OR(L6="Sam",L6="Dim"),"WE","WD") -> WD | M7: =IF(OR(M6="Sam",M6="Dim"),"WE","WD") -> WE | N7: =IF(OR(N6="Sam",N6="Dim"),"WE","WD") -> WE | ... AK7: =IF(OR(AK6="Sam",AK6="Dim"),"WE","WD") -> WD
B9: Level 0 | C9: Seine B | F9: AM
F10: PM
F11: EVENING
F12: NIGHT
F13: TOTAL | G13: =SUM(COUNTIFS(G9:G12,"ACT"),COUNTIF(G9:G12,"DEF"),COUNTIF(G9:G12,"TE1"),COUNTIF(G9:G12,"TE2")) -> 0 | H13: =SUM(COUNTIFS(H9:H12,"ACT"),COUNTIF(H9:H12,"DEF"),COUNTIF(H9:H12,"TE1"),COUNTIF(H9:H12,"TE2")) -> 0 | I13: =SUM(COUNTIFS(I9:I12,"ACT"),COUNTIF(I9:I12,"DEF"),COUNTIF(I9:I12,"TE1"),COUNTIF(I9:I12,"TE2")) -> 0 | J13: =SUM(COUNTIFS(J9:J12,"ACT"),COUNTIF(J9:J12,"DEF"),COUNTIF(J9:J12,"TE1"),COUNTIF(J9:J12,"TE2")) -> 0 | K13: =SUM(COUNTIFS(K9:K12,"ACT"),COUNTIF(K9:K12,"DEF"),COUNTIF(K9:K12,"TE1"),COUNTIF(K9:K12,"TE2")) -> 0 | L13: =SUM(COUNTIFS(L9:L12,"ACT"),COUNTIF(L9:L12,"DEF"),COUNTIF(L9:L12,"TE1"),COUNTIF(L9:L12,"TE2")) -> 0 | M13: =SUM(COUNTIFS(M9:M12,"ACT"),COUNTIF(M9:M12,"DEF"),COUNTIF(M9:M12,"TE1"),COUNTIF(M9:M12,"TE2")) -> 0 | N13: =SUM(COUNTIFS(N9:N12,"ACT"),COUNTIF(N9:N12,"DEF"),COUNTIF(N9:N12,"TE1"),COUNTIF(N9:N12,"TE2")) -> 0 | ... AK13: =SUM(COUNTIFS(AK9:AK12,"ACT"),COUNTIF(AK9:AK12,"DEF"),COUNTIF(AK9:AK12,"TE1"),COUNTIF(AK9:AK12,"TE2")) -> 0 | AL13: =SUM(G13:AK13) -> 0
B14: Level 0 | C14: Foyer Rives de Seine | F14: AM
F15: PM
F16: EVENING
F17: NIGHT
F18: TOTAL | G18: =SUM(COUNTIFS(G14:G17,"ACT"),COUNTIF(G14:G17,"DEF"),COUNTIF(G14:G17,"TE1"),COUNTIF(G14:G17,"TE2")) -> 0 | H18: =SUM(COUNTIFS(H14:H17,"ACT"),COUNTIF(H14:H17,"DEF"),COUNTIF(H14:H17,"TE1"),COUNTIF(H14:H17,"TE2")) -> 0 | I18: =SUM(COUNTIFS(I14:I17,"ACT"),COUNTIF(I14:I17,"DEF"),COUNTIF(I14:I17,"TE1"),COUNTIF(I14:I17,"TE2")) -> 0 | J18: =SUM(COUNTIFS(J14:J17,"ACT"),COUNTIF(J14:J17,"DEF"),COUNTIF(J14:J17,"TE1"),COUNTIF(J14:J17,"TE2")) -> 0 | K18: =SUM(COUNTIFS(K14:K17,"ACT"),COUNTIF(K14:K17,"DEF"),COUNTIF(K14:K17,"TE1"),COUNTIF(K14:K17,"TE2")) -> 0 | L18: =SUM(COUNTIFS(L14:L17,"ACT"),COUNTIF(L14:L17,"DEF"),COUNTIF(L14:L17,"TE1"),COUNTIF(L14:L17,"TE2")) -> 0 | M18: =SUM(COUNTIFS(M14:M17,"ACT"),COUNTIF(M14:M17,"DEF"),COUNTIF(M14:M17,"TE1"),COUNTIF(M14:M17,"TE2")) -> 0 | N18: =SUM(COUNTIFS(N14:N17,"ACT"),COUNTIF(N14:N17,"DEF"),COUNTIF(N14:N17,"TE1"),COUNTIF(N14:N17,"TE2")) -> 0 | ... AK18: =SUM(COUNTIFS(AK14:AK17,"ACT"),COUNTIF(AK14:AK17,"DEF"),COUNTIF(AK14:AK17,"TE1"),COUNTIF(AK14:AK17,"TE2")) -> 0 | AL18: =SUM(G18:AK18) -> 0
B19: Level 0 | C19: Foyer La Seine | F19: AM
F20: PM
F21: EVENING
F22: NIGHT
F23: TOTAL | G23: =SUM(COUNTIFS(G19:G22,"ACT"),COUNTIF(G19:G22,"DEF"),COUNTIF(G19:G22,"TE1"),COUNTIF(G19:G22,"TE2")) -> 0 | H23: =SUM(COUNTIFS(H19:H22,"ACT"),COUNTIF(H19:H22,"DEF"),COUNTIF(H19:H22,"TE1"),COUNTIF(H19:H22,"TE2")) -> 0 | I23: =SUM(COUNTIFS(I19:I22,"ACT"),COUNTIF(I19:I22,"DEF"),COUNTIF(I19:I22,"TE1"),COUNTIF(I19:I22,"TE2")) -> 0 | J23: =SUM(COUNTIFS(J19:J22,"ACT"),COUNTIF(J19:J22,"DEF"),COUNTIF(J19:J22,"TE1"),COUNTIF(J19:J22,"TE2")) -> 0 | K23: =SUM(COUNTIFS(K19:K22,"ACT"),COUNTIF(K19:K22,"DEF"),COUNTIF(K19:K22,"TE1"),COUNTIF(K19:K22,"TE2")) -> 0 | L23: =SUM(COUNTIFS(L19:L22,"ACT"),COUNTIF(L19:L22,"DEF"),COUNTIF(L19:L22,"TE1"),COUNTIF(L19:L22,"TE2")) -> 0 | M23: =SUM(COUNTIFS(M19:M22,"ACT"),COUNTIF(M19:M22,"DEF"),COUNTIF(M19:M22,"TE1"),COUNTIF(M19:M22,"TE2")) -> 0 | N23: =SUM(COUNTIFS(N19:N22,"ACT"),COUNTIF(N19:N22,"DEF"),COUNTIF(N19:N22,"TE1"),COUNTIF(N19:N22,"TE2")) -> 0 | ... AK23: =SUM(COUNTIFS(AK19:AK22,"ACT"),COUNTIF(AK19:AK22,"DEF"),COUNTIF(AK19:AK22,"TE1"),COUNTIF(AK19:AK22,"TE2")) -> 0 | AL23: =SUM(G23:AK23) -> 0
B24: Level 0 | C24: Foyer La Seine A | F24: AM
F25: PM
F26: EVENING
F27: NIGHT
F28: TOTAL | G28: =SUM(COUNTIFS(G24:G27,"ACT"),COUNTIF(G24:G27,"DEF"),COUNTIF(G24:G27,"TE1"),COUNTIF(G24:G27,"TE2")) -> 0 | H28: =SUM(COUNTIFS(H24:H27,"ACT"),COUNTIF(H24:H27,"DEF"),COUNTIF(H24:H27,"TE1"),COUNTIF(H24:H27,"TE2")) -> 0 | I28: =SUM(COUNTIFS(I24:I27,"ACT"),COUNTIF(I24:I27,"DEF"),COUNTIF(I24:I27,"TE1"),COUNTIF(I24:I27,"TE2")) -> 0 | J28: =SUM(COUNTIFS(J24:J27,"ACT"),COUNTIF(J24:J27,"DEF"),COUNTIF(J24:J27,"TE1"),COUNTIF(J24:J27,"TE2")) -> 0 | K28: =SUM(COUNTIFS(K24:K27,"ACT"),COUNTIF(K24:K27,"DEF"),COUNTIF(K24:K27,"TE1"),COUNTIF(K24:K27,"TE2")) -> 0 | L28: =SUM(COUNTIFS(L24:L27,"ACT"),COUNTIF(L24:L27,"DEF"),COUNTIF(L24:L27,"TE1"),COUNTIF(L24:L27,"TE2")) -> 0 | M28: =SUM(COUNTIFS(M24:M27,"ACT"),COUNTIF(M24:M27,"DEF"),COUNTIF(M24:M27,"TE1"),COUNTIF(M24:M27,"TE2")) -> 0 | N28: =SUM(COUNTIFS(N24:N27,"ACT"),COUNTIF(N24:N27,"DEF"),COUNTIF(N24:N27,"TE1"),COUNTIF(N24:N27,"TE2")) -> 0 | ... AK28: =SUM(COUNTIFS(AK24:AK27,"ACT"),COUNTIF(AK24:AK27,"DEF"),COUNTIF(AK24:AK27,"TE1"),COUNTIF(AK24:AK27,"TE2")) -> 0 | AL28: =SUM(G28:AK28) -> 0
B29: Level 0 | C29: Foyer La Seine B | F29: AM
F30: PM
F31: EVENING
F32: NIGHT
F33: TOTAL | G33: =SUM(COUNTIFS(G29:G32,"ACT"),COUNTIF(G29:G32,"DEF"),COUNTIF(G29:G32,"TE1"),COUNTIF(G29:G32,"TE2")) -> 0 | H33: =SUM(COUNTIFS(H29:H32,"ACT"),COUNTIF(H29:H32,"DEF"),COUNTIF(H29:H32,"TE1"),COUNTIF(H29:H32,"TE2")) -> 0 | I33: =SUM(COUNTIFS(I29:I32,"ACT"),COUNTIF(I29:I32,"DEF"),COUNTIF(I29:I32,"TE1"),COUNTIF(I29:I32,"TE2")) -> 0 | J33: =SUM(COUNTIFS(J29:J32,"ACT"),COUNTIF(J29:J32,"DEF"),COUNTIF(J29:J32,"TE1"),COUNTIF(J29:J32,"TE2")) -> 0 | K33: =SUM(COUNTIFS(K29:K32,"ACT"),COUNTIF(K29:K32,"DEF"),COUNTIF(K29:K32,"TE1"),COUNTIF(K29:K32,"TE2")) -> 0 | L33: =SUM(COUNTIFS(L29:L32,"ACT"),COUNTIF(L29:L32,"DEF"),COUNTIF(L29:L32,"TE1"),COUNTIF(L29:L32,"TE2")) -> 0 | M33: =SUM(COUNTIFS(M29:M32,"ACT"),COUNTIF(M29:M32,"DEF"),COUNTIF(M29:M32,"TE1"),COUNTIF(M29:M32,"TE2")) -> 0 | N33: =SUM(COUNTIFS(N29:N32,"ACT"),COUNTIF(N29:N32,"DEF"),COUNTIF(N29:N32,"TE1"),COUNTIF(N29:N32,"TE2")) -> 0 | ... AK33: =SUM(COUNTIFS(AK29:AK32,"ACT"),COUNTIF(AK29:AK32,"DEF"),COUNTIF(AK29:AK32,"TE1"),COUNTIF(AK29:AK32,"TE2")) -> 0 | AL33: =SUM(G33:AK33) -> 0
B34: Level 0 | C34: Foyer La Seine C | F34: AM
F35: PM
F36: EVENING
F37: NIGHT
F38: TOTAL | G38: =SUM(COUNTIFS(G34:G37,"ACT"),COUNTIF(G34:G37,"DEF"),COUNTIF(G34:G37,"TE1"),COUNTIF(G34:G37,"TE2")) -> 0 | H38: =SUM(COUNTIFS(H34:H37,"ACT"),COUNTIF(H34:H37,"DEF"),COUNTIF(H34:H37,"TE1"),COUNTIF(H34:H37,"TE2")) -> 0 | I38: =SUM(COUNTIFS(I34:I37,"ACT"),COUNTIF(I34:I37,"DEF"),COUNTIF(I34:I37,"TE1"),COUNTIF(I34:I37,"TE2")) -> 0 | J38: =SUM(COUNTIFS(J34:J37,"ACT"),COUNTIF(J34:J37,"DEF"),COUNTIF(J34:J37,"TE1"),COUNTIF(J34:J37,"TE2")) -> 0 | K38: =SUM(COUNTIFS(K34:K37,"ACT"),COUNTIF(K34:K37,"DEF"),COUNTIF(K34:K37,"TE1"),COUNTIF(K34:K37,"TE2")) -> 0 | L38: =SUM(COUNTIFS(L34:L37,"ACT"),COUNTIF(L34:L37,"DEF"),COUNTIF(L34:L37,"TE1"),COUNTIF(L34:L37,"TE2")) -> 0 | M38: =SUM(COUNTIFS(M34:M37,"ACT"),COUNTIF(M34:M37,"DEF"),COUNTIF(M34:M37,"TE1"),COUNTIF(M34:M37,"TE2")) -> 0 | N38: =SUM(COUNTIFS(N34:N37,"ACT"),COUNTIF(N34:N37,"DEF"),COUNTIF(N34:N37,"TE1"),COUNTIF(N34:N37,"TE2")) -> 0 | ... AK38: =SUM(COUNTIFS(AK34:AK37,"ACT"),COUNTIF(AK34:AK37,"DEF"),COUNTIF(AK34:AK37,"TE1"),COUNTIF(AK34:AK37,"TE2")) -> 0 | AL38: =SUM(G38:AK38) -> 0
B39: Level 0 | C39: Seine A | F39: AM
F40: PM
F41: EVENING
F42: NIGHT
F43: TOTAL | G43: =SUM(COUNTIFS(G39:G42,"ACT"),COUNTIF(G39:G42,"DEF"),COUNTIF(G39:G42,"TE1"),COUNTIF(G39:G42,"TE2")) -> 0 | H43: =SUM(COUNTIFS(H39:H42,"ACT"),COUNTIF(H39:H42,"DEF"),COUNTIF(H39:H42,"TE1"),COUNTIF(H39:H42,"TE2")) -> 0 | I43: =SUM(COUNTIFS(I39:I42,"ACT"),COUNTIF(I39:I42,"DEF"),COUNTIF(I39:I42,"TE1"),COUNTIF(I39:I42,"TE2")) -> 0 | J43: =SUM(COUNTIFS(J39:J42,"ACT"),COUNTIF(J39:J42,"DEF"),COUNTIF(J39:J42,"TE1"),COUNTIF(J39:J42,"TE2")) -> 0 | K43: =SUM(COUNTIFS(K39:K42,"ACT"),COUNTIF(K39:K42,"DEF"),COUNTIF(K39:K42,"TE1"),COUNTIF(K39:K42,"TE2")) -> 0 | L43: =SUM(COUNTIFS(L39:L42,"ACT"),COUNTIF(L39:L42,"DEF"),COUNTIF(L39:L42,"TE1"),COUNTIF(L39:L42,"TE2")) -> 0 | M43: =SUM(COUNTIFS(M39:M42,"ACT"),COUNTIF(M39:M42,"DEF"),COUNTIF(M39:M42,"TE1"),COUNTIF(M39:M42,"TE2")) -> 0 | N43: =SUM(COUNTIFS(N39:N42,"ACT"),COUNTIF(N39:N42,"DEF"),COUNTIF(N39:N42,"TE1"),COUNTIF(N39:N42,"TE2")) -> 0 | ... AK43: =SUM(COUNTIFS(AK39:AK42,"ACT"),COUNTIF(AK39:AK42,"DEF"),COUNTIF(AK39:AK42,"TE1"),COUNTIF(AK39:AK42,"TE2")) -> 0 | AL43: =SUM(G43:AK43) -> 0
B44: Level 0 | C44: Seine B | F44: AM
F45: PM
F46: EVENING
F47: NIGHT
F48: TOTAL | G48: =SUM(COUNTIFS(G44:G47,"ACT"),COUNTIF(G44:G47,"DEF"),COUNTIF(G44:G47,"TE1"),COUNTIF(G44:G47,"TE2")) -> 0 | H48: =SUM(COUNTIFS(H44:H47,"ACT"),COUNTIF(H44:H47,"DEF"),COUNTIF(H44:H47,"TE1"),COUNTIF(H44:H47,"TE2")) -> 0 | I48: =SUM(COUNTIFS(I44:I47,"ACT"),COUNTIF(I44:I47,"DEF"),COUNTIF(I44:I47,"TE1"),COUNTIF(I44:I47,"TE2")) -> 0 | J48: =SUM(COUNTIFS(J44:J47,"ACT"),COUNTIF(J44:J47,"DEF"),COUNTIF(J44:J47,"TE1"),COUNTIF(J44:J47,"TE2")) -> 0 | K48: =SUM(COUNTIFS(K44:K47,"ACT"),COUNTIF(K44:K47,"DEF"),COUNTIF(K44:K47,"TE1"),COUNTIF(K44:K47,"TE2")) -> 0 | L48: =SUM(COUNTIFS(L44:L47,"ACT"),COUNTIF(L44:L47,"DEF"),COUNTIF(L44:L47,"TE1"),COUNTIF(L44:L47,"TE2")) -> 0 | M48: =SUM(COUNTIFS(M44:M47,"ACT"),COUNTIF(M44:M47,"DEF"),COUNTIF(M44:M47,"TE1"),COUNTIF(M44:M47,"TE2")) -> 0 | N48: =SUM(COUNTIFS(N44:N47,"ACT"),COUNTIF(N44:N47,"DEF"),COUNTIF(N44:N47,"TE1"),COUNTIF(N44:N47,"TE2")) -> 0 | ... AK48: =SUM(COUNTIFS(AK44:AK47,"ACT"),COUNTIF(AK44:AK47,"DEF"),COUNTIF(AK44:AK47,"TE1"),COUNTIF(AK44:AK47,"TE2")) -> 0 | AL48: =SUM(G48:AK48) -> 0
B49: Level 0 | C49: Seine C | F49: AM
F50: PM
F51: EVENING
F52: NIGHT
F53: TOTAL | G53: =SUM(COUNTIFS(G49:G52,"ACT"),COUNTIF(G49:G52,"DEF"),COUNTIF(G49:G52,"TE1"),COUNTIF(G49:G52,"TE2")) -> 0 | H53: =SUM(COUNTIFS(H49:H52,"ACT"),COUNTIF(H49:H52,"DEF"),COUNTIF(H49:H52,"TE1"),COUNTIF(H49:H52,"TE2")) -> 0 | I53: =SUM(COUNTIFS(I49:I52,"ACT"),COUNTIF(I49:I52,"DEF"),COUNTIF(I49:I52,"TE1"),COUNTIF(I49:I52,"TE2")) -> 0 | J53: =SUM(COUNTIFS(J49:J52,"ACT"),COUNTIF(J49:J52,"DEF"),COUNTIF(J49:J52,"TE1"),COUNTIF(J49:J52,"TE2")) -> 0 | K53: =SUM(COUNTIFS(K49:K52,"ACT"),COUNTIF(K49:K52,"DEF"),COUNTIF(K49:K52,"TE1"),COUNTIF(K49:K52,"TE2")) -> 0 | L53: =SUM(COUNTIFS(L49:L52,"ACT"),COUNTIF(L49:L52,"DEF"),COUNTIF(L49:L52,"TE1"),COUNTIF(L49:L52,"TE2")) -> 0 | M53: =SUM(COUNTIFS(M49:M52,"ACT"),COUNTIF(M49:M52,"DEF"),COUNTIF(M49:M52,"TE1"),COUNTIF(M49:M52,"TE2")) -> 0 | N53: =SUM(COUNTIFS(N49:N52,"ACT"),COUNTIF(N49:N52,"DEF"),COUNTIF(N49:N52,"TE1"),COUNTIF(N49:N52,"TE2")) -> 0 | ... AK53: =SUM(COUNTIFS(AK49:AK52,"ACT"),COUNTIF(AK49:AK52,"DEF"),COUNTIF(AK49:AK52,"TE1"),COUNTIF(AK49:AK52,"TE2")) -> 0 | AL53: =SUM(G53:AK53) -> 0
B54: Level 0 | C54: Pont de Sully A | F54: AM
F55: PM
F56: EVENING
F57: NIGHT
F58: TOTAL | G58: =SUM(COUNTIFS(G54:G57,"ACT"),COUNTIF(G54:G57,"DEF"),COUNTIF(G54:G57,"TE1"),COUNTIF(G54:G57,"TE2")) -> 0 | H58: =SUM(COUNTIFS(H54:H57,"ACT"),COUNTIF(H54:H57,"DEF"),COUNTIF(H54:H57,"TE1"),COUNTIF(H54:H57,"TE2")) -> 0 | I58: =SUM(COUNTIFS(I54:I57,"ACT"),COUNTIF(I54:I57,"DEF"),COUNTIF(I54:I57,"TE1"),COUNTIF(I54:I57,"TE2")) -> 0 | J58: =SUM(COUNTIFS(J54:J57,"ACT"),COUNTIF(J54:J57,"DEF"),COUNTIF(J54:J57,"TE1"),COUNTIF(J54:J57,"TE2")) -> 0 | K58: =SUM(COUNTIFS(K54:K57,"ACT"),COUNTIF(K54:K57,"DEF"),COUNTIF(K54:K57,"TE1"),COUNTIF(K54:K57,"TE2")) -> 0 | L58: =SUM(COUNTIFS(L54:L57,"ACT"),COUNTIF(L54:L57,"DEF"),COUNTIF(L54:L57,"TE1"),COUNTIF(L54:L57,"TE2")) -> 0 | M58: =SUM(COUNTIFS(M54:M57,"ACT"),COUNTIF(M54:M57,"DEF"),COUNTIF(M54:M57,"TE1"),COUNTIF(M54:M57,"TE2")) -> 0 | N58: =SUM(COUNTIFS(N54:N57,"ACT"),COUNTIF(N54:N57,"DEF"),COUNTIF(N54:N57,"TE1"),COUNTIF(N54:N57,"TE2")) -> 0 | ... AK58: =SUM(COUNTIFS(AK54:AK57,"ACT"),COUNTIF(AK54:AK57,"DEF"),COUNTIF(AK54:AK57,"TE1"),COUNTIF(AK54:AK57,"TE2")) -> 0 | AL58: =SUM(G58:AK58) -> 0
B59: Level 0 | C59: Pont de Sully B | F59: AM
F60: PM
F61: EVENING
F62: NIGHT
F63: TOTAL | G63: =SUM(COUNTIFS(G59:G62,"ACT"),COUNTIF(G59:G62,"DEF"),COUNTIF(G59:G62,"TE1"),COUNTIF(G59:G62,"TE2")) -> 0 | H63: =SUM(COUNTIFS(H59:H62,"ACT"),COUNTIF(H59:H62,"DEF"),COUNTIF(H59:H62,"TE1"),COUNTIF(H59:H62,"TE2")) -> 0 | I63: =SUM(COUNTIFS(I59:I62,"ACT"),COUNTIF(I59:I62,"DEF"),COUNTIF(I59:I62,"TE1"),COUNTIF(I59:I62,"TE2")) -> 0 | J63: =SUM(COUNTIFS(J59:J62,"ACT"),COUNTIF(J59:J62,"DEF"),COUNTIF(J59:J62,"TE1"),COUNTIF(J59:J62,"TE2")) -> 0 | K63: =SUM(COUNTIFS(K59:K62,"ACT"),COUNTIF(K59:K62,"DEF"),COUNTIF(K59:K62,"TE1"),COUNTIF(K59:K62,"TE2")) -> 0 | L63: =SUM(COUNTIFS(L59:L62,"ACT"),COUNTIF(L59:L62,"DEF"),COUNTIF(L59:L62,"TE1"),COUNTIF(L59:L62,"TE2")) -> 0 | M63: =SUM(COUNTIFS(M59:M62,"ACT"),COUNTIF(M59:M62,"DEF"),COUNTIF(M59:M62,"TE1"),COUNTIF(M59:M62,"TE2")) -> 0 | N63: =SUM(COUNTIFS(N59:N62,"ACT"),COUNTIF(N59:N62,"DEF"),COUNTIF(N59:N62,"TE1"),COUNTIF(N59:N62,"TE2")) -> 0 | ... AK63: =SUM(COUNTIFS(AK59:AK62,"ACT"),COUNTIF(AK59:AK62,"DEF"),COUNTIF(AK59:AK62,"TE1"),COUNTIF(AK59:AK62,"TE2")) -> 0 | AL63: =SUM(G63:AK63) -> 0
B64: Level 0 | C64: Pont des Arts A | F64: AM
F65: PM
F66: EVENING
F67: NIGHT
F68: TOTAL | G68: =SUM(COUNTIFS(G64:G67,"ACT"),COUNTIF(G64:G67,"DEF"),COUNTIF(G64:G67,"TE1"),COUNTIF(G64:G67,"TE2")) -> 0 | H68: =SUM(COUNTIFS(H64:H67,"ACT"),COUNTIF(H64:H67,"DEF"),COUNTIF(H64:H67,"TE1"),COUNTIF(H64:H67,"TE2")) -> 0 | I68: =SUM(COUNTIFS(I64:I67,"ACT"),COUNTIF(I64:I67,"DEF"),COUNTIF(I64:I67,"TE1"),COUNTIF(I64:I67,"TE2")) -> 0 | J68: =SUM(COUNTIFS(J64:J67,"ACT"),COUNTIF(J64:J67,"DEF"),COUNTIF(J64:J67,"TE1"),COUNTIF(J64:J67,"TE2")) -> 0 | K68: =SUM(COUNTIFS(K64:K67,"ACT"),COUNTIF(K64:K67,"DEF"),COUNTIF(K64:K67,"TE1"),COUNTIF(K64:K67,"TE2")) -> 0 | L68: =SUM(COUNTIFS(L64:L67,"ACT"),COUNTIF(L64:L67,"DEF"),COUNTIF(L64:L67,"TE1"),COUNTIF(L64:L67,"TE2")) -> 0 | M68: =SUM(COUNTIFS(M64:M67,"ACT"),COUNTIF(M64:M67,"DEF"),COUNTIF(M64:M67,"TE1"),COUNTIF(M64:M67,"TE2")) -> 0 | N68: =SUM(COUNTIFS(N64:N67,"ACT"),COUNTIF(N64:N67,"DEF"),COUNTIF(N64:N67,"TE1"),COUNTIF(N64:N67,"TE2")) -> 0 | ... AK68: =SUM(COUNTIFS(AK64:AK67,"ACT"),COUNTIF(AK64:AK67,"DEF"),COUNTIF(AK64:AK67,"TE1"),COUNTIF(AK64:AK67,"TE2")) -> 0 | AL68: =SUM(G68:AK68) -> 0
B69: Level 0 | C69: Pont des Arts B | F69: AM
F70: PM
F71: EVENING
F72: NIGHT
F73: TOTAL | G73: =SUM(COUNTIFS(G69:G72,"ACT"),COUNTIF(G69:G72,"DEF"),COUNTIF(G69:G72,"TE1"),COUNTIF(G69:G72,"TE2")) -> 0 | H73: =SUM(COUNTIFS(H69:H72,"ACT"),COUNTIF(H69:H72,"DEF"),COUNTIF(H69:H72,"TE1"),COUNTIF(H69:H72,"TE2")) -> 0 | I73: =SUM(COUNTIFS(I69:I72,"ACT"),COUNTIF(I69:I72,"DEF"),COUNTIF(I69:I72,"TE1"),COUNTIF(I69:I72,"TE2")) -> 0 | J73: =SUM(COUNTIFS(J69:J72,"ACT"),COUNTIF(J69:J72,"DEF"),COUNTIF(J69:J72,"TE1"),COUNTIF(J69:J72,"TE2")) -> 0 | K73: =SUM(COUNTIFS(K69:K72,"ACT"),COUNTIF(K69:K72,"DEF"),COUNTIF(K69:K72,"TE1"),COUNTIF(K69:K72,"TE2")) -> 0 | L73: =SUM(COUNTIFS(L69:L72,"ACT"),COUNTIF(L69:L72,"DEF"),COUNTIF(L69:L72,"TE1"),COUNTIF(L69:L72,"TE2")) -> 0 | M73: =SUM(COUNTIFS(M69:M72,"ACT"),COUNTIF(M69:M72,"DEF"),COUNTIF(M69:M72,"TE1"),COUNTIF(M69:M72,"TE2")) -> 0 | N73: =SUM(COUNTIFS(N69:N72,"ACT"),COUNTIF(N69:N72,"DEF"),COUNTIF(N69:N72,"TE1"),COUNTIF(N69:N72,"TE2")) -> 0 | ... AK73: =SUM(COUNTIFS(AK69:AK72,"ACT"),COUNTIF(AK69:AK72,"DEF"),COUNTIF(AK69:AK72,"TE1"),COUNTIF(AK69:AK72,"TE2")) -> 0 | AL73: =SUM(G73:AK73) -> 0
B74: Level 0 | C74: Pont des Arts C | F74: AM
F75: PM
F76: EVENING
F77: NIGHT
F78: TOTAL | G78: =SUM(COUNTIFS(G74:G77,"ACT"),COUNTIF(G74:G77,"DEF"),COUNTIF(G74:G77,"TE1"),COUNTIF(G74:G77,"TE2")) -> 0 | H78: =SUM(COUNTIFS(H74:H77,"ACT"),COUNTIF(H74:H77,"DEF"),COUNTIF(H74:H77,"TE1"),COUNTIF(H74:H77,"TE2")) -> 0 | I78: =SUM(COUNTIFS(I74:I77,"ACT"),COUNTIF(I74:I77,"DEF"),COUNTIF(I74:I77,"TE1"),COUNTIF(I74:I77,"TE2")) -> 0 | J78: =SUM(COUNTIFS(J74:J77,"ACT"),COUNTIF(J74:J77,"DEF"),COUNTIF(J74:J77,"TE1"),COUNTIF(J74:J77,"TE2")) -> 0 | K78: =SUM(COUNTIFS(K74:K77,"ACT"),COUNTIF(K74:K77,"DEF"),COUNTIF(K74:K77,"TE1"),COUNTIF(K74:K77,"TE2")) -> 0 | L78: =SUM(COUNTIFS(L74:L77,"ACT"),COUNTIF(L74:L77,"DEF"),COUNTIF(L74:L77,"TE1"),COUNTIF(L74:L77,"TE2")) -> 0 | M78: =SUM(COUNTIFS(M74:M77,"ACT"),COUNTIF(M74:M77,"DEF"),COUNTIF(M74:M77,"TE1"),COUNTIF(M74:M77,"TE2")) -> 0 | N78: =SUM(COUNTIFS(N74:N77,"ACT"),COUNTIF(N74:N77,"DEF"),COUNTIF(N74:N77,"TE1"),COUNTIF(N74:N77,"TE2")) -> 0 | ... AK78: =SUM(COUNTIFS(AK74:AK77,"ACT"),COUNTIF(AK74:AK77,"DEF"),COUNTIF(AK74:AK77,"TE1"),COUNTIF(AK74:AK77,"TE2")) -> 0 | AL78: =SUM(G78:AK78) -> 0
AL81: =SUM(AL9:AL78) -> 0
