Workbook

Sheet Répartition salles
C2: Foyer Rives de Seine - Le Pont des Arts (0) | D2: FSABC - PABC | E2: FSABC | F2: PABC | H2: Foyer Rives de Seine | I2: Pont des Arts A | J2: Pont des Arts B | K2: Pont des Arts C | W2: Foyer Rives de Seine - Le Pont des Arts (0)
W3: Foyer Rives de Seine - Pont des Arts A & B (0)
W4: Foyer Rives de Seine (0)
W5: Foyer Rives de Seine+Le Pont des Arts (0)
W6: La Seine - Foyer La Seine (0)
C7: Foyer Rives de Seine - Pont des Arts A & B (0) | D7: FSABC - PAB | E7: FSABC | F7: PAB | H7: Foyer Rives de Seine | I7: Pont des Arts A | J7: Pont des Arts B | W7: La Seine - Le Pont des Arts - Foyer Rives de Seine (0)
W8: La Seine (0)
W9: La Seine + Extensions (0)
W10: La Seine A - Extensions (0)
W11: La Seine A & B - Extensions (0)
C12: Foyer Rives de Seine (0) | D12: FSABC | E12: FSABC | H12: Foyer Rives de Seine | W12: La Seine A & B (0)
W13: La Seine A (0)
W14: La Seine B & C - Extensions (0)
W15: La Seine B & C - Foyers Seine B & C (0)
W16: La Seine B & C - le Ponts des Arts - Foyer Rives de Seine (0)
C17: Foyer La Seine (0) | D17: FSABC | E17: FSABC | H17: Foyer Rives de Seine | W17: La Seine A & B (0)
W18: La Seine A (0)
W19: La Seine B & C - Extensions (0)
W20: La Seine B & C - Foyers Seine B & C (0)
W21: La Seine B & C - le Ponts des Arts - Foyer Rives de Seine (0)
C22: Foyer Rives de Seine+Le Pont des Arts (0) | D22: FSABC - PABC | E22: FSABC | F22: PABC | H22: Foyer Rives de Seine | I22: Pont des Arts A | J22: Pont des Arts B | K22: Pont des Arts C | W22: La Seine B & C (0)
W23: La Seine B & C + Foyer La Seine (0)
W24: La Seine B (0)
W25: La Seine C - Extensions (0)
W26: La Seine C - Foyer Rives de Seine (0)
C27: La Seine - Foyer La Seine (0) | D27: SFSABC | E27: SFSABC | H27: Seine A | I27: Seine B | J27: Seine C | K27: Foyer Rives de Seine | W27: La Seine C - Le Pont des Arts - Foyer Rives de Seine (0)
W28: La Seine C (0)
W29: Le Bar des Arts (0)
W30: Le pont de Sully (0)
W31: Le Pont de Sully A (0)
C32: La Seine - Le Pont des Arts - Foyer Rives de Seine (0) | D32: SABC - PABC - FSABC | E32: SABC | F32: PABC | G32: FSABC | H32: Seine A | I32: Seine B | J32: Seine C | K32: Pont des Arts A | L32: Pont des Arts B | M32: Pont des Arts C | N32: Foyer Rives de Seine | W32: Le Pont de Sully B (0)
W33: Le Pont des Arts (0)
W34: Le Pont des Arts + Extensions (0)
W35: Le Pont des Arts A - Foyer Les Rives de Seine (0)
W36: Le Pont des Arts A & B (0)
C37: La Seine (0) | D37: SABC | E37: SA | F37: SB | G37: SC | H37: Seine A | I37: Seine B | J37: Seine C | W37: Le Pont des Arts A (0)
W38: Le Pont des Arts A + Extensions (0)
W39: Le Pont des Arts B & C (0)
W40: Le Pont des Arts B (0)
W41: Le Pont des Arts C (0)
...

Sheet Formulas
A1: dom
B2: CAO | C2: Casino | E2: Extension La Seine B (0) | F2: Level 0 | I2: CAO | J2: Casino | K2: Level 0 - CAO | L2: catering | N2: Level 0 - BAC | O2: meeting | R2: salles non attribuées dans répartition | U2: Les Rives de Seine Level 0 | W2: Foyer Les Arts (0)
B3: COC | C3: Cocktail | E3: Extension La Seine C (0) | F3: Level 0 | I3: COC | J3: Cocktail reception | K3: Level 0 - COC | L3: catering | N3: Level 0 - BOA | O3: meeting | U3: Foyer Rives de Seine (0) | W3: Hall Congrès (0)
B4: COR | C4: Cocktail Rounds | E4: Foyer La Seine (0) | F4: Level 0 | I4: COR | J4: Cocktail Rounds | K4: Level 0 - COR | L4: catering | N4: Level 0 - BRK | O4: meeting | U4: Foyer La Seine (0) | W4: La Seine - Foyer La Seine (0)
B5: DIB | C5: Dinner Buffet | E5: Foyer La Seine A & B (0) | F5: Level 0 | I5: DIB | J5: Dinner Buffet | K5: Level 0 - DIB | L5: catering | N5: Level 0 - CER | O5: meeting | R5: Hotel | S5: Hotel | U5: Foyer La Seine A (0) | W5: La Seine - Le Pont des Arts - Foyer Rives de Seine (0)
B6: DID | C6: Dîner Dansant | E6: Foyer La Seine A (0) | F6: Level 0 | I6: DID | J6: Dîner Dansant | K6: Level 0 - DID | L6: catering | N6: Level 0 - CHG | O6: meeting | R6: Extension La Seine B (0) | S6: Level 0 | U6: Foyer La Seine B (0) | W6: La Seine (0)
B7: DIN | C7: Dinner | E7: Foyer La Seine B & C (0) | F7: Level 0 | I7: DIN | J7: Dinner | K7: Level 0 - DIN | L7: catering | N7: Level 0 - CLO | O7: meeting | R7: Extension La Seine C (0) | S7: Level 0 | U7: Foyer La Seine C (0) | W7: La Seine + Extensions (0)
B8: MED | C8: Meeting / Dinner | E8: Foyer La Seine C (0) | F8: Level 0 | I8: MED | J8: Meeting / Dinner | K8: Level 0 - MED | L8: catering | N8: Level 0 - COA | O8: meeting | R8: Foyer La Seine (0) | S8: Level 0 | U8: La Seine A (0) | W8: La Seine A - Extensions (0)
B9: MEL | C9: Meeting / Lunch | E9: Foyer Les Arts (0) | F9: Level 0 | I9: MEL | J9: Meeting / Lunch | K9: Level 0 - MEL | L9: catering | N9: Level 0 - DAN | O9: meeting | R9: Foyer La Seine A & B (0) | S9: Level 0 | U9: La Seine B (0) | W9: La Seine A - Foyer La Seine (0)
B10: RCR | C10: Recreation | E10: Foyer Rives de Seine - Le Pont des Arts (0) | F10: Level 0 | I10: RCR | J10: Recreation | K10: Level 0 - RCR | L10: catering | N10: Level 0 - EXH | O10: meeting | R10: Foyer La Seine A (0) | S10: Level 0 | U10: La Seine C (0) | W10: La Seine A - Foyers Seine A & B (0)
B11: REC | C11: Reception | E11: Foyer Rives de Seine - Pont des Arts A & B (0) | F11: Level 0 | I11: REC | J11: Reception | K11: Level 0 - REC | L11: catering | N11: Level 0 - FAS | O11: meeting | R11: Foyer La Seine B & C (0) | S11: Level 0 | U11: Le Pont de Sully A (0) | W11: La Seine A & B - Extensions (0)
B12: RED | C12: Reception - danse | E12: Foyer Rives de Seine (0) | F12: Level 0 | I12: RED | J12: Reception / Danse | K12: Level 0 - RED | L12: catering | N12: Level 0 - GEN | O12: meeting | R12: Foyer Les Arts (0) | S12: Level 0 | U12: Le Pont de Sully B (0) | W12: La Seine A & B (0)
B13: WED | C13: Wedding Dinner | E13: Foyer Rives de Seine+Le Pont des Arts (0) | F13: Level 0 | I13: WED | J13: Wedding Dinner | K13: Level 0 - WED | L13: catering | N13: Level 0 - HOR | O13: meeting | R13: Hall Congrès (0) | S13: Level 0 | U13: Le Pont des Arts A (0) | W13: La Seine B & C - Extensions (0)
B14: WEL | C14: Wedding Lunch | E14: Hall Congrès (0) | F14: Level 0 | I14: WEL | J14: Wedding Lunch | K14: Level 0 - WEL | L14: catering | N14: Level 0 - HOS | O14: meeting | R14: La Seine A - Foyer La Seine (0) | S14: Level 0 | U14: Le Pont des Arts B (0) | W14: La Seine B & C - Foyers Seine B & C (0)
B15: LUN | C15: Lunch | E15: La Seine - Foyer La Seine (0) | F15: Level 0 | K15: Level -1 - CAO | L15: catering | N15: Level 0 - INM | O15: meeting | R15: La Seine A - Foyers Seine A & B (0) | S15: Level 0 | U15: Le Pont des Arts C (0) | W15: La Seine B & C - le Ponts des Arts - Foyer Rives de Seine (0)
B16: LUB | C16: Lunch Buffet | E16: La Seine - Le Pont des Arts - Foyer Rives de Seine (0) | F16: Level 0 | K16: Level -1 - COC | L16: catering | N16: Level 0 - INT | O16: meeting | R16: La Seine C - Foyer Seine C - Foyer les Arts (0) | S16: Level 0 | W16: La Seine B & C (0)
E17: La Seine (0) | F17: Level 0 | K17: Level -1 - COR | L17: catering | N17: Level 0 - MET | O17: meeting | R17: La Seine C - Le Pont des Arts - Foyers Seine C & Arts (0) | S17: Level 0 | W17: La Seine B & C + Foyer La Seine (0)
E18: La Seine + Extensions (0) | F18: Level 0 | K18: Level -1 - DIB | L18: catering | N18: Level 0 - OFI | O18: meeting | R18: Le Pont des Arts A - Foyers les Arts - Foyer Seine C (0) | S18: Level 0 | U18: Les Clubs de Jazz, level -1 | W18: La Seine C - Extensions (0)
B19: BAC | C19: Backup Space | E19: La Seine A - Extensions (0) | F19: Level 0 | K19: Level -1 - DID | L19: catering | N19: Level 0 - PCM | O19: meeting | R19: Le Pont des Arts A & B - Foyer les Arts - Foyer Seine C (0) | S19: Level 0 | U19: Foyer Auditorium (-1) | W19: La Seine C - Foyer Rives de Seine (0)
B20: BOA | C20: Board Meeting | E20: La Seine A - Foyer La Seine (0) | F20: Level 0 | K20: Level -1 - DIN | L20: catering | N20: Level 0 - REH | O20: meeting | R20: Le Pont des Arts A & B - Foyer Seine B & C & Arts (0) | S20: Level 0 | U20: Auditorium (-1) | W20: La Seine C - Foyer Seine C - Foyer les Arts (0)
B21: BRK | C21: Breakout room | E21: La Seine A - Foyers Seine A & B (0) | F21: Level 0 | K21: Level -1 - MED | L21: catering | N21: Level 0 - SET | O21: meeting | R21: LEVEL 1 (La rotonde) | S21: Level 1 | U21: Charlie Parker (-1) | W21: La Seine C - Le Pont des Arts - Foyer Rives de Seine (0)
B22: CER | C22: Cérémonie religieuse | E22: La Seine A & B - Extensions (0) | F22: Level 0 | K22: Level -1 - MEL | L22: catering | N22: Level 0 - SPR | O22: meeting | R22: La Seine A & B - Foyers Seine A & B (-1) | S22: Level -1 | U22: Duke Ellington (-1) | W22: La Seine C - Le Pont des Arts - Foyers Seine C & Arts (0)
B23: CHG | C23: Changing room | E23: La Seine A & B (0) | F23: Level 0 | K23: Level -1 - RCR | L23: catering | N23: Level 0 - STO | O23: meeting | R23: *Louis Armstrong A & B | S23: Level -1 | U23: Ella Fitzgerald A (-1) | W23: Le pont de Sully (0)
B24: CLO | C24: cloakroom - vestiaire | E24: La Seine A (0) | F24: Level 0 | K24: Level -1 - REC | L24: catering | N24: Level 0 - TED | O24: meeting | R24: Foyer Rive Gauche - La Sorbonne A (2) | S24: Level 2 | U24: Ella Fitzgerald B (-1) | W24: Le Bar des Arts (0)
B25: COA | C25: Coat Check | E25: La Seine B & C - Extensions (0) | F25: Level 0 | K25: Level -1 - RED | L25: catering | N25: Level 0 - TRA | O25: meeting | R25: Executive Lounge | S25: Level 3 | U25: Foyer Jazz (-1) | W25: Le Pont des Arts (0)
B26: DAN | C26: Danse | E26: La Seine B & C - Foyers Seine B & C (0) | F26: Level 0 | K26: Level -1 - WED | L26: catering | N26: Level 0 - 24 | O26: meeting | R26: Foyer jardin du Luxembourg E (3) | S26: Level 3 | U26: Louis Armstrong A (-1) | W26: Le Pont des Arts + Extensions (0)
B27: EXH | C27: Exhibition | E27: La Seine B & C - le Ponts des Arts - Foyer Rives de Seine (0) | F27: Level 0 | K27: Level -1 - WEL | L27: catering | N27: Level -1 - BAC | O27: meeting | R27: Le Patio 1 (3) | S27: Level 3 | U27: Louis Armstrong B (-1) | W27: Le Pont des Arts A - Foyer Les Rives de Seine (0)
B28: FAS | C28: Fashion Show | E28: La Seine B & C (0) | F28: Level 0 | K28: Level 2 - CAO | L28: catering | N28: Level -1 - BOA | O28: meeting | R28: Les Jardins, Level 3 | S28: Level 3 | U28: Louis Armstrong C (-1) | W28: Le Pont des Arts A - Foyers les Arts - Foyer Seine C (0)
B29: GEN | C29: General session | E29: La Seine B & C + Foyer La Seine (0) | F29: Level 0 | K29: Level 2 - COC | L29: catering | N29: Level -1 - BRK | O29: meeting | R29: Bisou-Bisou A | S29: R'Yves | U29: Louis Armstrong D (-1) | W29: Le Pont des Arts A & B - Foyer les Arts - Foyer Seine C (0)
B30: HOR | C30: Holding Room | E30: La Seine B (0) | F30: Level 0 | K30: Level 2 - COR | L30: catering | N30: Level -1 - CER | O30: meeting | R30: Bisou-Bisou B | S30: R'Yves | U30: Miles Davis A (-1) | W30: Le Pont des Arts A & B - Foyer Seine B & C & Arts (0)
... B32: INM | C32: Inhouse meeting | E32: La Seine C - Foyer Rives de Seine (0) | F32: Level 0 | K32: Level 2 - DID | L32: catering | N32: Level -1 - CLO | O32: meeting | R32: R'Yves 1+2 (2nd floor) | S32: R'Yves | U32: Miles Davis C (-1) | W32: Le Pont des Arts A + Extensions (0)
B33: INT | C33: Interview | E33: La Seine C - Foyer Seine C - Foyer les Arts (0) | F33: Level 0 | K33: Level 2 - DIN | L33: catering | N33: Level -1 - COA | O33: meeting | R33: R'Yves 123 (2nd floor) | S33: R'Yves | W33: Le Pont des Arts B & C (0)
B34: MET | C34: Meeting | E34: La Seine C - Le Pont des Arts - Foyer Rives de Seine (0) | F34: Level 0 | K34: Level 2 - MED | L34: catering | N34: Level -1 - DAN | O34: meeting | R34: R'Yves 2 (2nd floor) | S34: R'Yves | U34: Quartiers Rive Gauche, level 2
B35: OFI | C35: Office | E35: La Seine C - Le Pont des Arts - Foyers Seine C & Arts (0) | F35: Level 0 | K35: Level 2 - MEL | L35: catering | N35: Level -1 - EXH | O35: meeting | R35: R'Yves 3 (2nd floor) | S35: R'Yves | U35: Foyer Rive Gauche (2) | W35: Ella Fitzgerald (-1)
B36: PCM | C36: Pre-Convention Meeting | E36: La Seine C (0) | F36: Level 0 | K36: Level 2 - RCR | L36: catering | N36: Level -1 - FAS | O36: meeting | R36: R'Yves Bar | S36: R'Yves | U36: La Sorbonne A (2) | W36: Foyer Auditorium - Charlie Parker - Louis Amstrong A & B (-1)
B37: REG | C37: Registration | E37: Le Bar des Arts (0) | F37: Level 0 | K37: Level 2 - REC | L37: catering | N37: Level -1 - GEN | O37: meeting | R37: R'Yves Restaurant | S37: R'Yves | U37: La Sorbonne B (2) | W37: Foyer Auditorium - Charlie Parker (-1)
B38: REH | C38: Rehearsal | E38: Le pont de Sully (0) | F38: Level 0 | K38: Level 2 - RED | L38: catering | N38: Level -1 - HOR | O38: meeting | U38: La Sorbonne C (2) | W38: Louis Armstrong - Ella Fitzgerald - Foyer Jazz (-1)
B39: SET | C39: Setup | E39: Le Pont de Sully A (0) | F39: Level 0 | K39: Level 2 - WED | L39: catering | N39: Level -1 - HOS | O39: meeting | U39: La Sorbonne D (2) | W39: Louis Armstrong - Extensions (-1)
B40: SPR | C40: Speaker Room | E40: Le Pont de Sully B (0) | F40: Level 0 | K40: Level 2 - WEL | L40: catering | N40: Level -1 - INM | O40: meeting | U40: Les Invalides A (2) | W40: Louis Armstrong & Ella Fitzgerald (-1)
B41: STO | C41: Storage | E41: Le Pont des Arts (0) | F41: Level 0 | K41: Level 3 - CAO | L41: catering | N41: Level -1 - INT | O41: meeting | U41: Les Invalides B (2) | W41: Louis Armstrong ( -1)
...

Sheet occupancy 2012
A1: COPIER / COLLER LES DONNEES DE L'ONGLET DATAS (colonnes G à R) APRES AVOIR TRIE LA COLONNE "E" ET AVOIR CONSERVE UNIQUEMENT LES "YES"
BG3: 40909
A4: - | B4: - | C4: - | D4: - | E4: - | F4: - | G4: - | H4: - | I4: - | J4: - | K4: - | L4: -
A5: ID | B5: EVENT ID | C5: CODE | D5: NAME | E5: FUNCTION SPACE | F5: STATUS | G5: START | H5: END | I5: DATE | J5: MKT CODE | K5: EVENT TYPE | L5: ACCOUNT
A6: - | B6: - | C6: - | D6: - | E6: - | F6: - | G6: - | H6: - | I6: - | J6: - | K6: - | L6: - | N6: Matin | O6: Après-midi | P6: Soirée | Q6: Nuit | W6: Month | X6: 1
L7: Arrivée | M7: > | N7: 0.24930556 | O7: 0.58402778 | P7: 0.79236111 | Q7: 0.95902778 | AA7: onglet orange
L8: Départ | M8: <= | N8: 0.58333333 | O8: 0.79166667 | P8: 0.95833333 | Q8: 0.25
A9: - | B9: - | C9: - | D9: - | E9: - | F9: - | G9: - | H9: - | I9: - | J9: - | K9: - | L9: -
A10: 2077332 | B10: 2929076 | C10: 24 | D10: 24 Hour Hold | E10: La Seine A (0) | F10: ACT | G10: 0.375 | H10: 0.75 | I10: 41275 | J10: GCO | K10: CON | L10: Axway | N10: =IF($G10=N$8,"",IF(AND($G10<$H10,N$7<N$8,OR(AND($G10>N$7,$G10<=N$8),AND($H10>N$7,$H10<=N$8),AND($G10<N$7,$H10>N$8))),"AM",IF(AND($G10<$H10,N$7>N$8,OR(AND($G10>N$7,$G10<=N$8+1),AND($H10>N$7,$H10<=N$8+1),AND($G10<N$7,$H10>N$8+1))),"AM",IF(AND($G10>$H10,N$7<N$8,OR(AND($G10>N$7,$G10<=N$8),AND($H10+1>N$7,$H10+1<=N$8),AND($G10<N$7,$H10+1>N$8))),"AM",IF(AND($G10>$H10,N$7>N$8,OR(AND($G10>N$7,$G10<=N$8+1),AND($H10+1>N$7,$H10+1<=N$8+1),AND($G10<N$7,$H10+1>N$8+1))),"AM",""))))) -> AM | O10: =IF($G10=O$8,"",IF(AND($G10<$H10,O$7<O$8,OR(AND($G10>O$7,$G10<=O$8),AND($H10>O$7,$H10<=O$8),AND($G10<O$7,$H10>O$8))),"PM",IF(AND($G10<$H10,O$7>O$8,OR(AND($G10>O$7,$G10<=O$8+1),AND($H10>O$7,$H10<=O$8+1),AND($G10<O$7,$H10>O$8+1))),"PM",IF(AND($G10>$H10,O$7<O$8,OR(AND($G10>O$7,$G10<=O$8),AND($H10+1>O$7,$H10+1<=O$8),AND($G10<O$7,$H10+1>O$8))),"PM",IF(AND($G10>$H10,O$7>O$8,OR(AND($G10>O$7,$G10<=O$8+1),AND($H10+1>O$7,$H10+1<=O$8+1),AND($G10<O$7,$H10+1>O$8+1))),"PM",""))))) -> PM | P10: =IF($G10=P$8,"",IF(AND($G10<$H10,P$7<P$8,OR(AND($G10>P$7,$G10<=P$8),AND($H10>P$7,$H10<=P$8),AND($G10<P$7,$H10>P$8))),"EVENING",IF(AND($G10<$H10,P$7>P$8,OR(AND($G10>P$7,$G10<=P$8+1),AND($H10>P$7,$H10<=P$8+1),AND($G10<P$7,$H10>P$8+1))),"EVENING",IF(AND($G10>$H10,P$7<P$8,OR(AND($G10>P$7,$G10<=P$8),AND($H10+1>P$7,$H10+1<=P$8),AND($G10<P$7,$H10+1>P$8))),"EVENING",IF(AND($G10>$H10,P$7>P$8,OR(AND($G10>P$7,$G10<=P$8+1),AND($H10+1>P$7,$H10+1<=P$8+1),AND($G10<P$7,$H10+1>P$8+1))),"EVENING",""))))) | Q10: =IF($G10=Q$8,"",IF(AND($G10<$H10,Q$7<Q$8,OR(AND($G10>Q$7,$G10<=Q$8),AND($H10>Q$7,$H10<=Q$8),AND($G10<Q$7,$H10>Q$8))),"NIGHT",IF(AND($G10<$H10,Q$7>Q$8,OR(AND($G10>Q$7,$G10<=Q$8+1),AND($H10>Q$7,$H10<=Q$8+1),AND($G10<Q$7,$H10>Q$8+1))),"NIGHT",IF(AND($G10>$H10,Q$7<Q$8,OR(AND($G10>Q$7,$G10<=Q$8),AND($H10+1>Q$7,$H10+1<=Q$8),AND($G10<Q$7,$H10+1>Q$8))),"NIGHT",IF(AND($G10>$H10,Q$7>Q$8,OR(AND($G10>Q$7,$G10<=Q$8+1),AND($H10+1>Q$7,$H10+1<=Q$8+1),AND($G10<Q$7,$H10+1>Q$8+1))),"NIGHT",""))))) | R10: =TEXT(DAY(I10),"jjjj") -> dimanche | S10: =DAY(I10) -> 1 | T10: =MONTH(I10) -> 1 | U10: =IF(OR(R10="Samedi",R10="Dimanche"),"weekend","week") -> weekend | V10: =U10&" - "&E10 -> weekend - La Seine A (0) | W10: =T10&" - "&U10&" - "&E10& " - "&N10 -> 1 - weekend - La Seine A (0) - AM | X10: =T10&" - "&U10&" - "&E10& " - "&O10 -> 1 - weekend - La Seine A (0) - PM | Y10: =T10&" - "&U10&" - "&E10& " - "&P10 -> 1 - weekend - La Seine A (0) - | Z10: =T10&" - "&U10&" - "&E10&" - "&Q10 -> 1 - weekend - La Seine A (0) - | AA10: =I10&" - "&E10&" - "&N10 -> 41275 - La Seine A (0) - AM | AB10: =I10&" - "&E10&" - "&O10 -> 41275 - La Seine A (0) - PM | AC10: =I10&" - "&E10&" - "&P10 -> 41275 - La Seine A (0) - | AD10: =I10&" - "&E10&" - "&Q10 -> 41275 - La Seine A (0) - | AE10: =F10 -> ACT | AG10: =VLOOKUP(E10,'Répartition salles'!$C:$R,6,FALSE) -> Seine A | AH10: =I10&" - "&AG10&" - "&N10 -> 41275 - Seine A - AM | AI10: =I10&" - "&AG10&" - "&O10 -> 41275 - Seine A - PM | AJ10: =I10&" - "&AG10&" - "&P10 -> 41275 - Seine A - | AK10: =I10&" - "&AG10&" - "&Q10 -> 41275 - Seine A - | AL10: =VLOOKUP(E10,'Répartition salles'!$C:$R,7,FALSE) -> 0 | AM10: =I10&" - "&AL10&" - "&N10 -> 41275 - 0 - AM | AN10: =I10&" - "&AL10&" - "&O10 -> 41275 - 0 - PM | AO10: =I10&" - "&AL10&" - "&P10 -> 41275 - 0 - | AP10: =I10&" - "&AL10&" - "&Q10 -> 41275 - 0 - | AQ10: =VLOOKUP(E10,'Répartition salles'!$C:$R,8,FALSE) -> 0 | AR10: =I10&" - "&AQ10&" - "&N10 -> 41275 - 0 - AM | AS10: =I10&" - "&AQ10&" - "&O10 -> 41275 - 0 - PM | AT10: =I10&" - "&AQ10&" - "&P10 -> 41275 - 0 - | AU10: =I10&" - "&AQ10&" - "&Q10 -> 41275 - 0 - | AV10: =VLOOKUP(E10,'Répartition salles'!$C:$R,9,FALSE) -> 0 | AW10: =I10&" - "&AV10&" - "&N10 -> 41275 - 0 - AM | AX10: =I10&" - "&AV10&" - "&O10 -> 41275 - 0 - PM | AY10: =I10&" - "&AV10&" - "&P10 -> 41275 - 0 - | AZ10: =I10&" - "&AV10&" - "&Q10 -> 41275 - 0 - | BA10: =VLOOKUP(E10,'Répartition salles'!$C:$R,10,FALSE) -> 0 | BB10: =I10&" - "&BA10&" - "&N10 -> 41275 - 0 - AM | BC10: =I10&" - "&BA10&" - "&O10 -> 41275 - 0 - PM | BD10: =I10&" - "&BA10&" - "&P10 -> 41275 - 0 - | BE10: =I10&" - "&BA10&" - "&Q10 -> 41275 - 0 - | BF10: =VLOOKUP(E10,'Répartition salles'!$C:$R,11,FALSE) -> 0 | BG10: =I10&" - "&BF10&" - "&N10 -> 41275 - 0 - AM | BH10: =I10&" - "&BF10&" - "&O10 -> 41275 - 0 - PM | BI10: =I10&" - "&BF10&" - "&P10 -> 41275 - 0 - | BJ10: =I10&" - "&BF10&" - "&Q10 -> 41275 - 0 - | BK10: =VLOOKUP(E10,'Répartition salles'!$C:$R,12,FALSE) -> 0 | BL10: =I10&" - "&BK10&" - "&N10 -> 41275 - 0 - AM | BM10: =I10&" - "&BK10&" - "&O10 -> 41275 - 0 - PM | BN10: =I10&" - "&BK10&" - "&P10 -> 41275 - 0 - | BO10: =I10&" - "&BK10&" - "&Q10 -> 41275 - 0 - | BP10: =VLOOKUP(E10,'Répartition salles'!$C:$R,13,FALSE) -> 0 | BQ10: =I10&" - "&BP10&" - "&N10 -> 41275 - 0 - AM | BR10: =I10&" - "&BP10&" - "&O10 -> 41275 - 0 - PM | BS10: =I10&" - "&BP10&" - "&P10 -> 41275 - 0 - | BT10: =I10&" - "&BP10&" - "&Q10 -> 41275 - 0 - | BU10: =VLOOKUP(E10,'Répartition salles'!$C:$R,14,FALSE) -> 0 | BV10: =I10&" - "&BU10&" - "&N10 -> 41275 - 0 - AM | BW10: =I10&" - "&BU10&" - "&O10 -> 41275 - 0 - PM | BX10: =I10&" - "&BU10&" - "&P10 -> 41275 - 0 - | BY10: =I10&" - "&BU10&" - "&Q10 -> 41275 - 0 - | BZ10: =VLOOKUP(E10,'Répartition salles'!$C:$R,15,FALSE) -> 0 | CA10: =I10&" - "&BZ10&" - "&N10 -> 41275 - 0 - AM | CB10: =I10&" - "&BZ10&" - "&O10 -> 41275 - 0 - PM | CC10: =I10&" - "&BZ10&" - "&P10 -> 41275 - 0 - | CD10: =I10&" - "&BZ10&" - "&Q10 -> 41275 - 0 - | CE10: =VLOOKUP(E10,'Répartition salles'!$C:$R,16,FALSE) -> 0 | CF10: =I10&" - "&CE10&" - "&N10 -> 41275 - 0 - AM | CG10: =I10&" - "&CE10&" - "&O10 -> 41275 - 0 - PM | CH10: =I10&" - "&CE10&" - "&P10 -> 41275 - 0 - | CI10: =I10&" - "&CE10&" - "&Q10 -> 41275 - 0 - | CJ10: =F10 -> ACT
A11: 1704113 | B11: 2498192 | C11: DIN | D11: Soirée dansante | E11: La Seine (0) | F11: ACT | G11: 0.99930556 | H11: 0.083333333 | I11: 41275 | J11: GSO | K11: CON | L11: Bridge in Vacanza OPPTY M C62PA6 IT | N11: =IF($G11=N$8,"",IF(AND($G11<$H11,N$7<N$8,OR(AND($G11>N$7,$G11<=N$8),AND($H11>N$7,$H11<=N$8),AND($G11<N$7,$H11>N$8))),"AM",IF(AND($G11<$H11,N$7>N$8,OR(AND($G11>N$7,$G11<=N$8+1),AND($H11>N$7,$H11<=N$8+1),AND($G11<N$7,$H11>N$8+1))),"AM",IF(AND($G11>$H11,N$7<N$8,OR(AND($G11>N$7,$G11<=N$8),AND($H11+1>N$7,$H11+1<=N$8),AND($G11<N$7,$H11+1>N$8))),"AM",IF(AND($G11>$H11,N$7>N$8,OR(AND($G11>N$7,$G11<=N$8+1),AND($H11+1>N$7,$H11+1<=N$8+1),AND($G11<N$7,$H11+1>N$8+1))),"AM",""))))) | O11: =IF($G11=O$8,"",IF(AND($G11<$H11,O$7<O$8,OR(AND($G11>O$7,$G11<=O$8),AND($H11>O$7,$H11<=O$8),AND($G11<O$7,$H11>O$8))),"PM",IF(AND($G11<$H11,O$7>O$8,OR(AND($G11>O$7,$G11<=O$8+1),AND($H11>O$7,$H11<=O$8+1),AND($G11<O$7,$H11>O$8+1))),"PM",IF(AND($G11>$H11,O$7<O$8,OR(AND($G11>O$7,$G11<=O$8),AND($H11+1>O$7,$H11+1<=O$8),AND($G11<O$7,$H11+1>O$8))),"PM",IF(AND($G11>$H11,O$7>O$8,OR(AND($G11>O$7,$G11<=O$8+1),AND($H11+1>O$7,$H11+1<=O$8+1),AND($G11<O$7,$H11+1>O$8+1))),"PM",""))))) | P11: =IF($G11=P$8,"",IF(AND($G11<$H11,P$7<P$8,OR(AND($G11>P$7,$G11<=P$8),AND($H11>P$7,$H11<=P$8),AND($G11<P$7,$H11>P$8))),"EVENING",IF(AND($G11<$H11,P$7>P$8,OR(AND($G11>P$7,$G11<=P$8+1),AND($H11>P$7,$H11<=P$8+1),AND($G11<P$7,$H11>P$8+1))),"EVENING",IF(AND($G11>$H11,P$7<P$8,OR(AND($G11>P$7,$G11<=P$8),AND($H11+1>P$7,$H11+1<=P$8),AND($G11<P$7,$H11+1>P$8))),"EVENING",IF(AND($G11>$H11,P$7>P$8,OR(AND($G11>P$7,$G11<=P$8+1),AND($H11+1>P$7,$H11+1<=P$8+1),AND($G11<P$7,$H11+1>P$8+1))),"EVENING",""))))) | Q11: =IF($G11=Q$8,"",IF(AND($G11<$H11,Q$7<Q$8,OR(AND($G11>Q$7,$G11<=Q$8),AND($H11>Q$7,$H11<=Q$8),AND($G11<Q$7,$H11>Q$8))),"NIGHT",IF(AND($G11<$H11,Q$7>Q$8,OR(AND($G11>Q$7,$G11<=Q$8+1),AND($H11>Q$7,$H11<=Q$8+1),AND($G11<Q$7,$H11>Q$8+1))),"NIGHT",IF(AND($G11>$H11,Q$7<Q$8,OR(AND($G11>Q$7,$G11<=Q$8),AND($H11+1>Q$7,$H11+1<=Q$8),AND($G11<Q$7,$H11+1>Q$8))),"NIGHT",IF(AND($G11>$H11,Q$7>Q$8,OR(AND($G11>Q$7,$G11<=Q$8+1),AND($H11+1>Q$7,$H11+1<=Q$8+1),AND($G11<Q$7,$H11+1>Q$8+1))),"NIGHT",""))))) -> NIGHT | R11: =TEXT(DAY(I11),"jjjj") -> dimanche | S11: =DAY(I11) -> 1 | T11: =MONTH(I11) -> 1 | U11: =IF(OR(R11="Samedi",R11="Dimanche"),"weekend","week") -> weekend | V11: =U11&" - "&E11 -> weekend - La Seine (0) | W11: =T11&" - "&U11&" - "&E11& " - "&N11 -> 1 - weekend - La Seine (0) - | X11: =T11&" - "&U11&" - "&E11& " - "&O11 -> 1 - weekend - La Seine (0) - | Y11: =T11&" - "&U11&" - "&E11& " - "&P11 -> 1 - weekend - La Seine (0) - | Z11: =T11&" - "&U11&" - "&E11&" - "&Q11 -> 1 - weekend - La Seine (0) - NIGHT | AA11: =I11&" - "&E11&" - "&N11 -> 41275 - La Seine (0) - | AB11: =I11&" - "&E11&" - "&O11 -> 41275 - La Seine (0) - | AC11: =I11&" - "&E11&" - "&P11 -> 41275 - La Seine (0) - | AD11: =I11&" - "&E11&" - "&Q11 -> 41275 - La Seine (0) - NIGHT | AE11: =F11 -> ACT | AG11: =VLOOKUP(E11,'Répartition salles'!$C:$R,6,FALSE) -> Seine A | AH11: =I11&" - "&AG11&" - "&N11 -> 41275 - Seine A - | AI11: =I11&" - "&AG11&" - "&O11 -> 41275 - Seine A - | AJ11: =I11&" - "&AG11&" - "&P11 -> 41275 - Seine A - | AK11: =I11&" - "&AG11&" - "&Q11 -> 41275 - Seine A - NIGHT | AL11: =VLOOKUP(E11,'Répartition salles'!$C:$R,7,FALSE) -> Seine B | AM11: =I11&" - "&AL11&" - "&N11 -> 41275 - Seine B - | AN11: =I11&" - "&AL11&" - "&O11 -> 41275 - Seine B - | AO11: =I11&" - "&AL11&" - "&P11 -> 41275 - Seine B - | AP11: =I11&" - "&AL11&" - "&Q11 -> 41275 - Seine B - NIGHT | AQ11: =VLOOKUP(E11,'Répartition salles'!$C:$R,8,FALSE) -> Seine C | AR11: =I11&" - "&AQ11&" - "&N11 -> 41275 - Seine C - | AS11: =I11&" - "&AQ11&" - "&O11 -> 41275 - Seine C - | AT11: =I11&" - "&AQ11&" - "&P11 -> 41275 - Seine C - | AU11: =I11&" - "&AQ11&" - "&Q11 -> 41275 - Seine C - NIGHT | AV11: =VLOOKUP(E11,'Répartition salles'!$C:$R,9,FALSE) -> 0 | AW11: =I11&" - "&AV11&" - "&N11 -> 41275 - 0 - | AX11: =I11&" - "&AV11&" - "&O11 -> 41275 - 0 - | AY11: =I11&" - "&AV11&" - "&P11 -> 41275 - 0 - | AZ11: =I11&" - "&AV11&" - "&Q11 -> 41275 - 0 - NIGHT | BA11: =VLOOKUP(E11,'Répartition salles'!$C:$R,10,FALSE) -> 0 | BB11: =I11&" - "&BA11&" - "&N11 -> 41275 - 0 - | BC11: =I11&" - "&BA11&" - "&O11 -> 41275 - 0 - | BD11: =I11&" - "&BA11&" - "&P11 -> 41275 - 0 - | BE11: =I11&" - "&BA11&" - "&Q11 -> 41275 - 0 - NIGHT | BF11: =VLOOKUP(E11,'Répartition salles'!$C:$R,11,FALSE) -> 0 | BG11: =I11&" - "&BF11&" - "&N11 -> 41275 - 0 - | BH11: =I11&" - "&BF11&" - "&O11 -> 41275 - 0 - | BI11: =I11&" - "&BF11&" - "&P11 -> 41275 - 0 - | BJ11: =I11&" - "&BF11&" - "&Q11 -> 41275 - 0 - NIGHT | BK11: =VLOOKUP(E11,'Répartition salles'!$C:$R,12,FALSE) -> 0 | BL11: =I11&" - "&BK11&" - "&N11 -> 41275 - 0 - | BM11: =I11&" - "&BK11&" - "&O11 -> 41275 - 0 - | BN11: =I11&" - "&BK11&" - "&P11 -> 41275 - 0 - | BO11: =I11&" - "&BK11&" - "&Q11 -> 41275 - 0 - NIGHT | BP11: =VLOOKUP(E11,'Répartition salles'!$C:$R,13,FALSE) -> 0 | BQ11: =I11&" - "&BP11&" - "&N11 -> 41275 - 0 - | BR11: =I11&" - "&BP11&" - "&O11 -> 41275 - 0 - | BS11: =I11&" - "&BP11&" - "&P11 -> 41275 - 0 - | BT11: =I11&" - "&BP11&" - "&Q11 -> 41275 - 0 - NIGHT | BU11: =VLOOKUP(E11,'Répartition salles'!$C:$R,14,FALSE) -> 0 | BV11: =I11&" - "&BU11&" - "&N11 -> 41275 - 0 - | BW11: =I11&" - "&BU11&" - "&O11 -> 41275 - 0 - | BX11: =I11&" - "&BU11&" - "&P11 -> 41275 - 0 - | BY11: =I11&" - "&BU11&" - "&Q11 -> 41275 - 0 - NIGHT | BZ11: =VLOOKUP(E11,'Répartition salles'!$C:$R,15,FALSE) -> 0 | CA11: =I11&" - "&BZ11&" - "&N11 -> 41275 - 0 - | CB11: =I11&" - "&BZ11&" - "&O11 -> 41275 - 0 - | CC11: =I11&" - "&BZ11&" - "&P11 -> 41275 - 0 - | CD11: =I11&" - "&BZ11&" - "&Q11 -> 41275 - 0 - NIGHT | CE11: =VLOOKUP(E11,'Répartition salles'!$C:$R,16,FALSE) -> 0 | CF11: =I11&" - "&CE11&" - "&N11 -> 41275 - 0 - | CG11: =I11&" - "&CE11&" - "&O11 -> 41275 - 0 - | CH11: =I11&" - "&CE11&" - "&P11 -> 41275 - 0 - | CI11: =I11&" - "&CE11&" - "&Q11 -> 41275 - 0 - NIGHT | CJ11: =F11 -> ACT
A12: 2312262 | B12: 3396333 | C12: STO | D12: Storage | E12: Le Pont des Arts A (0) | F12: ACT | G12: 0.29166667 | H12: 0.95833333 | I12: 41275 | J12: GCO | K12: CON | L12: GOODYEAR | N12: =IF($G12=N$8,"",IF(AND($G12<$H12,N$7<N$8,OR(AND($G12>N$7,$G12<=N$8),AND($H12>N$7,$H12<=N$8),AND($G12<N$7,$H12>N$8))),"AM",IF(AND($G12<$H12,N$7>N$8,OR(AND($G12>N$7,$G12<=N$8+1),AND($H12>N$7,$H12<=N$8+1),AND($G12<N$7,$H12>N$8+1))),"AM",IF(AND($G12>$H12,N$7<N$8,OR(AND($G12>N$7,$G12<=N$8),AND($H12+1>N$7,$H12+1<=N$8),AND($G12<N$7,$H12+1>N$8))),"AM",IF(AND($G12>$H12,N$7>N$8,OR(AND($G12>N$7,$G12<=N$8+1),AND($H12+1>N$7,$H12+1<=N$8+1),AND($G12<N$7,$H12+1>N$8+1))),"AM",""))))) -> AM | O12: =IF($G12=O$8,"",IF(AND($G12<$H12,O$7<O$8,OR(AND($G12>O$7,$G12<=O$8),AND($H12>O$7,$H12<=O$8),AND($G12<O$7,$H12>O$8))),"PM",IF(AND($G12<$H12,O$7>O$8,OR(AND($G12>O$7,$G12<=O$8+1),AND($H12>O$7,$H12<=O$8+1),AND($G12<O$7,$H12>O$8+1))),"PM",IF(AND($G12>$H12,O$7<O$8,OR(AND($G12>O$7,$G12<=O$8),AND($H12+1>O$7,$H12+1<=O$8),AND($G12<O$7,$H12+1>O$8))),"PM",IF(AND($G12>$H12,O$7>O$8,OR(AND($G12>O$7,$G12<=O$8+1),AND($H12+1>O$7,$H12+1<=O$8+1),AND($G12<O$7,$H12+1>O$8+1))),"PM",""))))) -> PM | P12: =IF($G12=P$8,"",IF(AND($G12<$H12,P$7<P$8,OR(AND($G12>P$7,$G12<=P$8),AND($H12>P$7,$H12<=P$8),AND($G12<P$7,$H12>P$8))),"EVENING",IF(AND($G12<$H12,P$7>P$8,OR(AND($G12>P$7,$G12<=P$8+1),AND($H12>P$7,$H12<=P$8+1),AND($G12<P$7,$H12>P$8+1))),"EVENING",IF(AND($G12>$H12,P$7<P$8,OR(AND($G12>P$7,$G12<=P$8),AND($H12+1>P$7,$H12+1<=P$8),AND($G12<P$7,$H12+1>P$8))),"EVENING",IF(AND($G12>$H12,P$7>P$8,OR(AND($G12>P$7,$G12<=P$8+1),AND($H12+1>P$7,$H12+1<=P$8+1),AND($G12<P$7,$H12+1>P$8+1))),"EVENING",""))))) -> EVENING | Q12: =IF($G12=Q$8,"",IF(AND($G12<$H12,Q$7<Q$8,OR(AND($G12>Q$7,$G12<=Q$8),AND($H12>Q$7,$H12<=Q$8),AND($G12<Q$7,$H12>Q$8))),"NIGHT",IF(AND($G12<$H12,Q$7>Q$8,OR(AND($G12>Q$7,$G12<=Q$8+1),AND($H12>Q$7,$H12<=Q$8+1),AND($G12<Q$7,$H12>Q$8+1))),"NIGHT",IF(AND($G12>$H12,Q$7<Q$8,OR(AND($G12>Q$7,$G12<=Q$8),AND($H12+1>Q$7,$H12+1<=Q$8),AND($G12<Q$7,$H12+1>Q$8))),"NIGHT",IF(AND($G12>$H12,Q$7>Q$8,OR(AND($G12>Q$7,$G12<=Q$8+1),AND($H12+1>Q$7,$H12+1<=Q$8+1),AND($G12<Q$7,$H12+1>Q$8+1))),"NIGHT",""))))) | R12: =TEXT(DAY(I12),"jjjj") -> dimanche | S12: =DAY(I12) -> 1 | T12: =MONTH(I12) -> 1 | U12: =IF(OR(R12="Samedi",R12="Dimanche"),"weekend","week") -> weekend | V12: =U12&" - "&E12 -> weekend - Le Pont des Arts A (0) | W12: =T12&" - "&U12&" - "&E12& " - "&N12 -> 1 - weekend - Le Pont des Arts A (0) - AM | X12: =T12&" - "&U12&" - "&E12& " - "&O12 -> 1 - weekend - Le Pont des Arts A (0) - PM | Y12: =T12&" - "&U12&" - "&E12& " - "&P12 -> 1 - weekend - Le Pont des Arts A (0) - EVENING | Z12: =T12&" - "&U12&" - "&E12&" - "&Q12 -> 1 - weekend - Le Pont des Arts A (0) - | AA12: =I12&" - "&E12&" - "&N12 -> 41275 - Le Pont des Arts A (0) - AM | AB12: =I12&" - "&E12&" - "&O12 -> 41275 - Le Pont des Arts A (0) - PM | AC12: =I12&" - "&E12&" - "&P12 -> 41275 - Le Pont des Arts A (0) - EVENING | AD12: =I12&" - "&E12&" - "&Q12 -> 41275 - Le Pont des Arts A (0) - | AE12: =F12 -> ACT | AG12: =VLOOKUP(E12,'Répartition salles'!$C:$R,6,FALSE) -> Pont des Arts A | AH12: =I12&" - "&AG12&" - "&N12 -> 41275 - Pont des Arts A - AM | AI12: =I12&" - "&AG12&" - "&O12 -> 41275 - Pont des Arts A - PM | AJ12: =I12&" - "&AG12&" - "&P12 -> 41275 - Pont des Arts A - EVENING | AK12: =I12&" - "&AG12&" - "&Q12 -> 41275 - Pont des Arts A - | AL12: =VLOOKUP(E12,'Répartition salles'!$C:$R,7,FALSE) -> 0 | AM12: =I12&" - "&AL12&" - "&N12 -> 41275 - 0 - AM | AN12: =I12&" - "&AL12&" - "&O12 -> 41275 - 0 - PM | AO12: =I12&" - "&AL12&" - "&P12 -> 41275 - 0 - EVENING | AP12: =I12&" - "&AL12&" - "&Q12 -> 41275 - 0 - | AQ12: =VLOOKUP(E12,'Répartition salles'!$C:$R,8,FALSE) -> 0 | AR12: =I12&" - "&AQ12&" - "&N12 -> 41275 - 0 - AM | AS12: =I12&" - "&AQ12&" - "&O12 -> 41275 - 0 - PM | AT12: =I12&" - "&AQ12&" - "&P12 -> 41275 - 0 - EVENING | AU12: =I12&" - "&AQ12&" - "&Q12 -> 41275 - 0 - | AV12: =VLOOKUP(E12,'Répartition salles'!$C:$R,9,FALSE) -> 0 | AW12: =I12&" - "&AV12&" - "&N12 -> 41275 - 0 - AM | AX12: =I12&" - "&AV12&" - "&O12 -> 41275 - 0 - PM | AY12: =I12&" - "&AV12&" - "&P12 -> 41275 - 0 - EVENING | AZ12: =I12&" - "&AV12&" - "&Q12 -> 41275 - 0 - | BA12: =VLOOKUP(E12,'Répartition salles'!$C:$R,10,FALSE) -> 0 | BB12: =I12&" - "&BA12&" - "&N12 -> 41275 - 0 - AM | BC12: =I12&" - "&BA12&" - "&O12 -> 41275 - 0 - PM | BD12: =I12&" - "&BA12&" - "&P12 -> 41275 - 0 - EVENING | BE12: =I12&" - "&BA12&" - "&Q12 -> 41275 - 0 - | BF12: =VLOOKUP(E12,'Répartition salles'!$C:$R,11,FALSE) -> 0 | BG12: =I12&" - "&BF12&" - "&N12 -> 41275 - 0 - AM | BH12: =I12&" - "&BF12&" - "&O12 -> 41275 - 0 - PM | BI12: =I12&" - "&BF12&" - "&P12 -> 41275 - 0 - EVENING | BJ12: =I12&" - "&BF12&" - "&Q12 -> 41275 - 0 - | BK12: =VLOOKUP(E12,'Répartition salles'!$C:$R,12,FALSE) -> 0 | BL12: =I12&" - "&BK12&" - "&N12 -> 41275 - 0 - AM | BM12: =I12&" - "&BK12&" - "&O12 -> 41275 - 0 - PM | BN12: =I12&" - "&BK12&" - "&P12 -> 41275 - 0 - EVENING | BO12: =I12&" - "&BK12&" - "&Q12 -> 41275 - 0 - | BP12: =VLOOKUP(E12,'Répartition salles'!$C:$R,13,FALSE) -> 0 | BQ12: =I12&" - "&BP12&" - "&N12 -> 41275 - 0 - AM | BR12: =I12&" - "&BP12&" - "&O12 -> 41275 - 0 - PM | BS12: =I12&" - "&BP12&" - "&P12 -> 41275 - 0 - EVENING | BT12: =I12&" - "&BP12&" - "&Q12 -> 41275 - 0 - | BU12: =VLOOKUP(E12,'Répartition salles'!$C:$R,14,FALSE) -> 0 | BV12: =I12&" - "&BU12&" - "&N12 -> 41275 - 0 - AM | BW12: =I12&" - "&BU12&" - "&O12 -> 41275 - 0 - PM | BX12: =I12&" - "&BU12&" - "&P12 -> 41275 - 0 - EVENING | BY12: =I12&" - "&BU12&" - "&Q12 -> 41275 - 0 - | BZ12: =VLOOKUP(E12,'Répartition salles'!$C:$R,15,FALSE) -> 0 | CA12: =I12&" - "&BZ12&" - "&N12 -> 41275 - 0 - AM | CB12: =I12&" - "&BZ12&" - "&O12 -> 41275 - 0 - PM | CC12: =I12&" - "&BZ12&" - "&P12 -> 41275 - 0 - EVENING | CD12: =I12&" - "&BZ12&" - "&Q12 -> 41275 - 0 - | CE12: =VLOOKUP(E12,'Répartition salles'!$C:$R,16,FALSE) -> 0 | CF12: =I12&" - "&CE12&" - "&N12 -> 41275 - 0 - AM | CG12: =I12&" - "&CE12&" - "&O12 -> 41275 - 0 - PM | CH12: =I12&" - "&CE12&" - "&P12 -> 41275 - 0 - EVENING | CI12: =I12&" - "&CE12&" - "&Q12 -> 41275 - 0 - | CJ12: =F12 -> ACT
A13: 2312262 | B13: 3301861 | C13: COC | D13: Aperitif | E13: Foyer La Seine (0) | F13: ACT | G13: 0.8125 | H13: 0.83333333 | I13: 41276 | J13: GCO | K13: CON | L13: GOODYEAR | N13: =IF($G13=N$8,"",IF(AND($G13<$H13,N$7<N$8,OR(AND($G13>N$7,$G13<=N$8),AND($H13>N$7,$H13<=N$8),AND($G13<N$7,$H13>N$8))),"AM",IF(AND($G13<$H13,N$7>N$8,OR(AND($G13>N$7,$G13<=N$8+1),AND($H13>N$7,$H13<=N$8+1),AND($G13<N$7,$H13>N$8+1))),"AM",IF(AND($G13>$H13,N$7<N$8,OR(AND($G13>N$7,$G13<=N$8),AND($H13+1>N$7,$H13+1<=N$8),AND($G13<N$7,$H13+1>N$8))),"AM",IF(AND($G13>$H13,N$7>N$8,OR(AND($G13>N$7,$G13<=N$8+1),AND($H13+1>N$7,$H13+1<=N$8+1),AND($G13<N$7,$H13+1>N$8+1))),"AM",""))))) | O13: =IF($G13=O$8,"",IF(AND($G13<$H13,O$7<O$8,OR(AND($G13>O$7,$G13<=O$8),AND($H13>O$7,$H13<=O$8),AND($G13<O$7,$H13>O$8))),"PM",IF(AND($G13<$H13,O$7>O$8,OR(AND($G13>O$7,$G13<=O$8+1),AND($H13>O$7,$H13<=O$8+1),AND($G13<O$7,$H13>O$8+1))),"PM",IF(AND($G13>$H13,O$7<O$8,OR(AND($G13>O$7,$G13<=O$8),AND($H13+1>O$7,$H13+1<=O$8),AND($G13<O$7,$H13+1>O$8))),"PM",IF(AND($G13>$H13,O$7>O$8,OR(AND($G13>O$7,$G13<=O$8+1),AND($H13+1>O$7,$H13+1<=O$8+1),AND($G13<O$7,$H13+1>O$8+1))),"PM",""))))) | P13: =IF($G13=P$8,"",IF(AND($G13<$H13,P$7<P$8,OR(AND($G13>P$7,$G13<=P$8),AND($H13>P$7,$H13<=P$8),AND($G13<P$7,$H13>P$8))),"EVENING",IF(AND($G13<$H13,P$7>P$8,OR(AND($G13>P$7,$G13<=P$8+1),AND($H13>P$7,$H13<=P$8+1),AND($G13<P$7,$H13>P$8+1))),"EVENING",IF(AND($G13>$H13,P$7<P$8,OR(AND($G13>P$7,$G13<=P$8),AND($H13+1>P$7,$H13+1<=P$8),AND($G13<P$7,$H13+1>P$8))),"EVENING",IF(AND($G13>$H13,P$7>P$8,OR(AND($G13>P$7,$G13<=P$8+1),AND($H13+1>P$7,$H13+1<=P$8+1),AND($G13<P$7,$H13+1>P$8+1))),"EVENING",""))))) -> EVENING | Q13: =IF($G13=Q$8,"",IF(AND($G13<$H13,Q$7<Q$8,OR(AND($G13>Q$7,$G13<=Q$8),AND($H13>Q$7,$H13<=Q$8),AND($G13<Q$7,$H13>Q$8))),"NIGHT",IF(AND($G13<$H13,Q$7>Q$8,OR(AND($G13>Q$7,$G13<=Q$8+1),AND($H13>Q$7,$H13<=Q$8+1),AND($G13<Q$7,$H13>Q$8+1))),"NIGHT",IF(AND($G13>$H13,Q$7<Q$8,OR(AND($G13>Q$7,$G13<=Q$8),AND($H13+1>Q$7,$H13+1<=Q$8),AND($G13<Q$7,$H13+1>Q$8))),"NIGHT",IF(AND($G13>$H13,Q$7>Q$8,OR(AND($G13>Q$7,$G13<=Q$8+1),AND($H13+1>Q$7,$H13+1<=Q$8+1),AND($G13<Q$7,$H13+1>Q$8+1))),"NIGHT",""))))) | R13: =TEXT(DAY(I13),"jjjj") -> lundi | S13: =DAY(I13) -> 2 | T13: =MONTH(I13) -> 1 | U13: =IF(OR(R13="Samedi",R13="Dimanche"),"weekend","week") -> week | V13: =U13&" - "&E13 -> week - Foyer La Seine (0) | W13: =T13&" - "&U13&" - "&E13& " - "&N13 -> 1 - week - Foyer La Seine (0) - | X13: =T13&" - "&U13&" - "&E13& " - "&O13 -> 1 - week - Foyer La Seine (0) - | Y13: =T13&" - "&U13&" - "&E13& " - "&P13 -> 1 - week - Foyer La Seine (0) - EVENING | Z13: =T13&" - "&U13&" - "&E13&" - "&Q13 -> 1 - week - Foyer La Seine (0) - | AA13: =I13&" - "&E13&" - "&N13 -> 41276 - Foyer La Seine (0) - | AB13: =I13&" - "&E13&" - "&O13 -> 41276 - Foyer La Seine (0) - | AC13: =I13&" - "&E13&" - "&P13 -> 41276 - Foyer La Seine (0) - EVENING | AD13: =I13&" - "&E13&" - "&Q13 -> 41276 - Foyer La Seine (0) - | AE13: =F13 -> ACT | AG13: =VLOOKUP(E13,'Répartition salles'!$C:$R,6,FALSE) -> Foyer Rives de Seine | AH13: =I13&" - "&AG13&" - "&N13 -> 41276 - Foyer Rives de Seine - | AI13: =I13&" - "&AG13&" - "&O13 -> 41276 - Foyer Rives de Seine - | AJ13: =I13&" - "&AG13&" - "&P13 -> 41276 - Foyer Rives de Seine - EVENING | AK13: =I13&" - "&AG13&" - "&Q13 -> 41276 - Foyer Rives de Seine - | AL13: =VLOOKUP(E13,'Répartition salles'!$C:$R,7,FALSE) -> 0 | AM13: =I13&" - "&AL13&" - "&N13 -> 41276 - 0 - | AN13: =I13&" - "&AL13&" - "&O13 -> 41276 - 0 - | AO13: =I13&" - "&AL13&" - "&P13 -> 41276 - 0 - EVENING | AP13: =I13&" - "&AL13&" - "&Q13 -> 41276 - 0 - | AQ13: =VLOOKUP(E13,'Répartition salles'!$C:$R,8,FALSE) -> 0 | AR13: =I13&" - "&AQ13&" - "&N13 -> 41276 - 0 - | AS13: =I13&" - "&AQ13&" - "&O13 -> 41276 - 0 - | AT13: =I13&" - "&AQ13&" - "&P13 -> 41276 - 0 - EVENING | AU13: =I13&" - "&AQ13&" - "&Q13 -> 41276 - 0 - | AV13: =VLOOKUP(E13,'Répartition salles'!$C:$R,9,FALSE) -> 0 | AW13: =I13&" - "&AV13&" - "&N13 -> 41276 - 0 - | AX13: =I13&" - "&AV13&" - "&O13 -> 41276 - 0 - | AY13: =I13&" - "&AV13&" - "&P13 -> 41276 - 0 - EVENING | AZ13: =I13&" - "&AV13&" - "&Q13 -> 41276 - 0 - | BA13: =VLOOKUP(E13,'Répartition salles'!$C:$R,10,FALSE) -> 0 | BB13: =I13&" - "&BA13&" - "&N13 -> 41276 - 0 - | BC13: =I13&" - "&BA13&" - "&O13 -> 41276 - 0 - | BD13: =I13&" - "&BA13&" - "&P13 -> 41276 - 0 - EVENING | BE13: =I13&" - "&BA13&" - "&Q13 -> 41276 - 0 - | BF13: =VLOOKUP(E13,'Répartition salles'!$C:$R,11,FALSE) -> 0 | BG13: =I13&" - "&BF13&" - "&N13 -> 41276 - 0 - | BH13: =I13&" - "&BF13&" - "&O13 -> 41276 - 0 - | BI13: =I13&" - "&BF13&" - "&P13 -> 41276 - 0 - EVENING | BJ13: =I13&" - "&BF13&" - "&Q13 -> 41276 - 0 - | BK13: =VLOOKUP(E13,'Répartition salles'!$C:$R,12,FALSE) -> 0 | BL13: =I13&" - "&BK13&" - "&N13 -> 41276 - 0 - | BM13: =I13&" - "&BK13&" - "&O13 -> 41276 - 0 - | BN13: =I13&" - "&BK13&" - "&P13 -> 41276 - 0 - EVENING | BO13: =I13&" - "&BK13&" - "&Q13 -> 41276 - 0 - | BP13: =VLOOKUP(E13,'Répartition salles'!$C:$R,13,FALSE) -> 0 | BQ13: =I13&" - "&BP13&" - "&N13 -> 41276 - 0 - | BR13: =I13&" - "&BP13&" - "&O13 -> 41276 - 0 - | BS13: =I13&" - "&BP13&" - "&P13 -> 41276 - 0 - EVENING | BT13: =I13&" - "&BP13&" - "&Q13 -> 41276 - 0 - | BU13: =VLOOKUP(E13,'Répartition salles'!$C:$R,14,FALSE) -> 0 | BV13: =I13&" - "&BU13&" - "&N13 -> 41276 - 0 - | BW13: =I13&" - "&BU13&" - "&O13 -> 41276 - 0 - | BX13: =I13&" - "&BU13&" - "&P13 -> 41276 - 0 - EVENING | BY13: =I13&" - "&BU13&" - "&Q13 -> 41276 - 0 - | BZ13: =VLOOKUP(E13,'Répartition salles'!$C:$R,15,FALSE) -> 0 | CA13: =I13&" - "&BZ13&" - "&N13 -> 41276 - 0 - | CB13: =I13&" - "&BZ13&" - "&O13 -> 41276 - 0 - | CC13: =I13&" - "&BZ13&" - "&P13 -> 41276 - 0 - EVENING | CD13: =I13&" - "&BZ13&" - "&Q13 -> 41276 - 0 - | CE13: =VLOOKUP(E13,'Répartition salles'!$C:$R,16,FALSE) -> 0 | CF13: =I13&" - "&CE13&" - "&N13 -> 41276 - 0 - | CG13: =I13&" - "&CE13&" - "&O13 -> 41276 - 0 - | CH13: =I13&" - "&CE13&" - "&P13 -> 41276 - 0 - EVENING | CI13: =I13&" - "&CE13&" - "&Q13 -> 41276 - 0 - | CJ13: =F13 -> ACT
A14: 2312262 | B14: 3154677 | C14: MET | D14: Pleniere Consumer | E14: La Seine C (0) | F14: ACT | G14: 0.29166667 | H14: 0.79166667 | I14: 41276 | J14: GCO | K14: CON | L14: GOODYEAR | N14: =IF($G14=N$8,"",IF(AND($G14<$H14,N$7<N$8,OR(AND($G14>N$7,$G14<=N$8),AND($H14>N$7,$H14<=N$8),AND($G14<N$7,$H14>N$8))),"AM",IF(AND($G14<$H14,N$7>N$8,OR(AND($G14>N$7,$G14<=N$8+1),AND($H14>N$7,$H14<=N$8+1),AND($G14<N$7,$H14>N$8+1))),"AM",IF(AND($G14>$H14,N$7<N$8,OR(AND($G14>N$7,$G14<=N$8),AND($H14+1>N$7,$H14+1<=N$8),AND($G14<N$7,$H14+1>N$8))),"AM",IF(AND($G14>$H14,N$7>N$8,OR(AND($G14>N$7,$G14<=N$8+1),AND($H14+1>N$7,$H14+1<=N$8+1),AND($G14<N$7,$H14+1>N$8+1))),"AM",""))))) -> AM | O14: =IF($G14=O$8,"",IF(AND($G14<$H14,O$7<O$8,OR(AND($G14>O$7,$G14<=O$8),AND($H14>O$7,$H14<=O$8),AND($G14<O$7,$H14>O$8))),"PM",IF(AND($G14<$H14,O$7>O$8,OR(AND($G14>O$7,$G14<=O$8+1),AND($H14>O$7,$H14<=O$8+1),AND($G14<O$7,$H14>O$8+1))),"PM",IF(AND($G14>$H14,O$7<O$8,OR(AND($G14>O$7,$G14<=O$8),AND($H14+1>O$7,$H14+1<=O$8),AND($G14<O$7,$H14+1>O$8))),"PM",IF(AND($G14>$H14,O$7>O$8,OR(AND($G14>O$7,$G14<=O$8+1),AND($H14+1>O$7,$H14+1<=O$8+1),AND($G14<O$7,$H14+1>O$8+1))),"PM",""))))) -> PM | P14: =IF($G14=P$8,"",IF(AND($G14<$H14,P$7<P$8,OR(AND($G14>P$7,$G14<=P$8),AND($H14>P$7,$H14<=P$8),AND($G14<P$7,$H14>P$8))),"EVENING",IF(AND($G14<$H14,P$7>P$8,OR(AND($G14>P$7,$G14<=P$8+1),AND($H14>P$7,$H14<=P$8+1),AND($G14<P$7,$H14>P$8+1))),"EVENING",IF(AND($G14>$H14,P$7<P$8,OR(AND($G14>P$7,$G14<=P$8),AND($H14+1>P$7,$H14+1<=P$8),AND($G14<P$7,$H14+1>P$8))),"EVENING",IF(AND($G14>$H14,P$7>P$8,OR(AND($G14>P$7,$G14<=P$8+1),AND($H14+1>P$7,$H14+1<=P$8+1),AND($G14<P$7,$H14+1>P$8+1))),"EVENING",""))))) | Q14: =IF($G14=Q$8,"",IF(AND($G14<$H14,Q$7<Q$8,OR(AND($G14>Q$7,$G14<=Q$8),AND($H14>Q$7,$H14<=Q$8),AND($G14<Q$7,$H14>Q$8))),"NIGHT",IF(AND($G14<$H14,Q$7>Q$8,OR(AND($G14>Q$7,$G14<=Q$8+1),AND($H14>Q$7,$H14<=Q$8+1),AND($G14<Q$7,$H14>Q$8+1))),"NIGHT",IF(AND($G14>$H14,Q$7<Q$8,OR(AND($G14>Q$7,$G14<=Q$8),AND($H14+1>Q$7,$H14+1<=Q$8),AND($G14<Q$7,$H14+1>Q$8))),"NIGHT",IF(AND($G14>$H14,Q$7>Q$8,OR(AND($G14>Q$7,$G14<=Q$8+1),AND($H14+1>Q$7,$H14+1<=Q$8+1),AND($G14<Q$7,$H14+1>Q$8+1))),"NIGHT",""))))) | R14: =TEXT(DAY(I14),"jjjj") -> lundi | S14: =DAY(I14) -> 2 | T14: =MONTH(I14) -> 1 | U14: =IF(OR(R14="Samedi",R14="Dimanche"),"weekend","week") -> week | V14: =U14&" - "&E14 -> week - La Seine C (0) | W14: =T14&" - "&U14&" - "&E14& " - "&N14 -> 1 - week - La Seine C (0) - AM | X14: =T14&" - "&U14&" - "&E14& " - "&O14 -> 1 - week - La Seine C (0) - PM | Y14: =T14&" - "&U14&" - "&E14& " - "&P14 -> 1 - week - La Seine C (0) - | Z14: =T14&" - "&U14&" - "&E14&" - "&Q14 -> 1 - week - La Seine C (0) - | AA14: =I14&" - "&E14&" - "&N14 -> 41276 - La Seine C (0) - AM | AB14: =I14&" - "&E14&" - "&O14 -> 41276 - La Seine C (0) - PM | AC14: =I14&" - "&E14&" - "&P14 -> 41276 - La Seine C (0) - | AD14: =I14&" - "&E14&" - "&Q14 -> 41276 - La Seine C (0) - | AE14: =F14 -> ACT | AG14: =VLOOKUP(E14,'Répartition salles'!$C:$R,6,FALSE) -> Seine C | AH14: =I14&" - "&AG14&" - "&N14 -> 41276 - Seine C - AM | AI14: =I14&" - "&AG14&" - "&O14 -> 41276 - Seine C - PM | AJ14: =I14&" - "&AG14&" - "&P14 -> 41276 - Seine C - | AK14: =I14&" - "&AG14&" - "&Q14 -> 41276 - Seine C - | AL14: =VLOOKUP(E14,'Répartition salles'!$C:$R,7,FALSE) -> 0 | AM14: =I14&" - "&AL14&" - "&N14 -> 41276 - 0 - AM | AN14: =I14&" - "&AL14&" - "&O14 -> 41276 - 0 - PM | AO14: =I14&" - "&AL14&" - "&P14 -> 41276 - 0 - | AP14: =I14&" - "&AL14&" - "&Q14 -> 41276 - 0 - | AQ14: =VLOOKUP(E14,'Répartition salles'!$C:$R,8,FALSE) -> 0 | AR14: =I14&" - "&AQ14&" - "&N14 -> 41276 - 0 - AM | AS14: =I14&" - "&AQ14&" - "&O14 -> 41276 - 0 - PM | AT14: =I14&" - "&AQ14&" - "&P14 -> 41276 - 0 - | AU14: =I14&" - "&AQ14&" - "&Q14 -> 41276 - 0 - | AV14: =VLOOKUP(E14,'Répartition salles'!$C:$R,9,FALSE) -> 0 | AW14: =I14&" - "&AV14&" - "&N14 -> 41276 - 0 - AM | AX14: =I14&" - "&AV14&" - "&O14 -> 41276 - 0 - PM | AY14: =I14&" - "&AV14&" - "&P14 -> 41276 - 0 - | AZ14: =I14&" - "&AV14&" - "&Q14 -> 41276 - 0 - | BA14: =VLOOKUP(E14,'Répartition salles'!$C:$R,10,FALSE) -> 0 | BB14: =I14&" - "&BA14&" - "&N14 -> 41276 - 0 - AM | BC14: =I14&" - "&BA14&" - "&O14 -> 41276 - 0 - PM | BD14: =I14&" - "&BA14&" - "&P14 -> 41276 - 0 - | BE14: =I14&" - "&BA14&" - "&Q14 -> 41276 - 0 - | BF14: =VLOOKUP(E14,'Répartition salles'!$C:$R,11,FALSE) -> 0 | BG14: =I14&" - "&BF14&" - "&N14 -> 41276 - 0 - AM | BH14: =I14&" - "&BF14&" - "&O14 -> 41276 - 0 - PM | BI14: =I14&" - "&BF14&" - "&P14 -> 41276 - 0 - | BJ14: =I14&" - "&BF14&" - "&Q14 -> 41276 - 0 - | BK14: =VLOOKUP(E14,'Répartition salles'!$C:$R,12,FALSE) -> 0 | BL14: =I14&" - "&BK14&" - "&N14 -> 41276 - 0 - AM | BM14: =I14&" - "&BK14&" - "&O14 -> 41276 - 0 - PM | BN14: =I14&" - "&BK14&" - "&P14 -> 41276 - 0 - | BO14: =I14&" - "&BK14&" - "&Q14 -> 41276 - 0 - | BP14: =VLOOKUP(E14,'Répartition salles'!$C:$R,13,FALSE) -> 0 | BQ14: =I14&" - "&BP14&" - "&N14 -> 41276 - 0 - AM | BR14: =I14&" - "&BP14&" - "&O14 -> 41276 - 0 - PM | BS14: =I14&" - "&BP14&" - "&P14 -> 41276 - 0 - | BT14: =I14&" - "&BP14&" - "&Q14 -> 41276 - 0 - | BU14: =VLOOKUP(E14,'Répartition salles'!$C:$R,14,FALSE) -> 0 | BV14: =I14&" - "&BU14&" - "&N14 -> 41276 - 0 - AM | BW14: =I14&" - "&BU14&" - "&O14 -> 41276 - 0 - PM | BX14: =I14&" - "&BU14&" - "&P14 -> 41276 - 0 - | BY14: =I14&" - "&BU14&" - "&Q14 -> 41276 - 0 - | BZ14: =VLOOKUP(E14,'Répartition salles'!$C:$R,15,FALSE) -> 0 | CA14: =I14&" - "&BZ14&" - "&N14 -> 41276 - 0 - AM | CB14: =I14&" - "&BZ14&" - "&O14 -> 41276 - 0 - PM | CC14: =I14&" - "&BZ14&" - "&P14 -> 41276 - 0 - | CD14: =I14&" - "&BZ14&" - "&Q14 -> 41276 - 0 - | CE14: =VLOOKUP(E14,'Répartition salles'!$C:$R,16,FALSE) -> 0 | CF14: =I14&" - "&CE14&" - "&N14 -> 41276 - 0 - AM | CG14: =I14&" - "&CE14&" - "&O14 -> 41276 - 0 - PM | CH14: =I14&" - "&CE14&" - "&P14 -> 41276 - 0 - | CI14: =I14&" - "&CE14&" - "&Q14 -> 41276 - 0 - | CJ14: =F14 -> ACT
A15: 2312262 | B15: 3154680 | C15: OFI | D15: Office | E15: Le pont de Sully (0) | F15: ACT | G15: 0.29166667 | H15: 0.95833333 | I15: 41276 | J15: GCO | K15: CON | L15: GOODYEAR | N15: =IF($G15=N$8,"",IF(AND($G15<$H15,N$7<N$8,OR(AND($G15>N$7,$G15<=N$8),AND($H15>N$7,$H15<=N$8),AND($G15<N$7,$H15>N$8))),"AM",IF(AND($G15<$H15,N$7>N$8,OR(AND($G15>N$7,$G15<=N$8+1),AND($H15>N$7,$H15<=N$8+1),AND($G15<N$7,$H15>N$8+1))),"AM",IF(AND($G15>$H15,N$7<N$8,OR(AND($G15>N$7,$G15<=N$8),AND($H15+1>N$7,$H15+1<=N$8),AND($G15<N$7,$H15+1>N$8))),"AM",IF(AND($G15>$H15,N$7>N$8,OR(AND($G15>N$7,$G15<=N$8+1),AND($H15+1>N$7,$H15+1<=N$8+1),AND($G15<N$7,$H15+1>N$8+1))),"AM",""))))) -> AM | O15: =IF($G15=O$8,"",IF(AND($G15<$H15,O$7<O$8,OR(AND($G15>O$7,$G15<=O$8),AND($H15>O$7,$H15<=O$8),AND($G15<O$7,$H15>O$8))),"PM",IF(AND($G15<$H15,O$7>O$8,OR(AND($G15>O$7,$G15<=O$8+1),AND($H15>O$7,$H15<=O$8+1),AND($G15<O$7,$H15>O$8+1))),"PM",IF(AND($G15>$H15,O$7<O$8,OR(AND($G15>O$7,$G15<=O$8),AND($H15+1>O$7,$H15+1<=O$8),AND($G15<O$7,$H15+1>O$8))),"PM",IF(AND($G15>$H15,O$7>O$8,OR(AND($G15>O$7,$G15<=O$8+1),AND($H15+1>O$7,$H15+1<=O$8+1),AND($G15<O$7,$H15+1>O$8+1))),"PM",""))))) -> PM | P15: =IF($G15=P$8,"",IF(AND($G15<$H15,P$7<P$8,OR(AND($G15>P$7,$G15<=P$8),AND($H15>P$7,$H15<=P$8),AND($G15<P$7,$H15>P$8))),"EVENING",IF(AND($G15<$H15,P$7>P$8,OR(AND($G15>P$7,$G15<=P$8+1),AND($H15>P$7,$H15<=P$8+1),AND($G15<P$7,$H15>P$8+1))),"EVENING",IF(AND($G15>$H15,P$7<P$8,OR(AND($G15>P$7,$G15<=P$8),AND($H15+1>P$7,$H15+1<=P$8),AND($G15<P$7,$H15+1>P$8))),"EVENING",IF(AND($G15>$H15,P$7>P$8,OR(AND($G15>P$7,$G15<=P$8+1),AND($H15+1>P$7,$H15+1<=P$8+1),AND($G15<P$7,$H15+1>P$8+1))),"EVENING",""))))) -> EVENING | Q15: =IF($G15=Q$8,"",IF(AND($G15<$H15,Q$7<Q$8,OR(AND($G15>Q$7,$G15<=Q$8),AND($H15>Q$7,$H15<=Q$8),AND($G15<Q$7,$H15>Q$8))),"NIGHT",IF(AND($G15<$H15,Q$7>Q$8,OR(AND($G15>Q$7,$G15<=Q$8+1),AND($H15>Q$7,$H15<=Q$8+1),AND($G15<Q$7,$H15>Q$8+1))),"NIGHT",IF(AND($G15>$H15,Q$7<Q$8,OR(AND($G15>Q$7,$G15<=Q$8),AND($H15+1>Q$7,$H15+1<=Q$8),AND($G15<Q$7,$H15+1>Q$8))),"NIGHT",IF(AND($G15>$H15,Q$7>Q$8,OR(AND($G15>Q$7,$G15<=Q$8+1),AND($H15+1>Q$7,$H15+1<=Q$8+1),AND($G15<Q$7,$H15+1>Q$8+1))),"NIGHT",""))))) | R15: =TEXT(DAY(I15),"jjjj") -> lundi | S15: =DAY(I15) -> 2 | T15: =MONTH(I15) -> 1 | U15: =IF(OR(R15="Samedi",R15="Dimanche"),"weekend","week") -> week | V15: =U15&" - "&E15 -> week - Le pont de Sully (0) | W15: =T15&" - "&U15&" - "&E15& " - "&N15 -> 1 - week - Le pont de Sully (0) - AM | X15: =T15&" - "&U15&" - "&E15& " - "&O15 -> 1 - week - Le pont de Sully (0) - PM | Y15: =T15&" - "&U15&" - "&E15& " - "&P15 -> 1 - week - Le pont de Sully (0) - EVENING | Z15: =T15&" - "&U15&" - "&E15&" - "&Q15 -> 1 - week - Le pont de Sully (0) - | AA15: =I15&" - "&E15&" - "&N15 -> 41276 - Le pont de Sully (0) - AM | AB15: =I15&" - "&E15&" - "&O15 -> 41276 - Le pont de Sully (0) - PM | AC15: =I15&" - "&E15&" - "&P15 -> 41276 - Le pont de Sully (0) - EVENING | AD15: =I15&" - "&E15&" - "&Q15 -> 41276 - Le pont de Sully (0) - | AE15: =F15 -> ACT | AG15: =VLOOKUP(E15,'Répartition salles'!$C:$R,6,FALSE) -> Pont de Sully A | AH15: =I15&" - "&AG15&" - "&N15 -> 41276 - Pont de Sully A - AM | AI15: =I15&" - "&AG15&" - "&O15 -> 41276 - Pont de Sully A - PM | AJ15: =I15&" - "&AG15&" - "&P15 -> 41276 - Pont de Sully A - EVENING | AK15: =I15&" - "&AG15&" - "&Q15 -> 41276 - Pont de Sully A - | AL15: =VLOOKUP(E15,'Répartition salles'!$C:$R,7,FALSE) -> Pont de Sully B | AM15: =I15&" - "&AL15&" - "&N15 -> 41276 - Pont de Sully B - AM | AN15: =I15&" - "&AL15&" - "&O15 -> 41276 - Pont de Sully B - PM | AO15: =I15&" - "&AL15&" - "&P15 -> 41276 - Pont de Sully B - EVENING | AP15: =I15&" - "&AL15&" - "&Q15 -> 41276 - Pont de Sully B - | AQ15: =VLOOKUP(E15,'Répartition salles'!$C:$R,8,FALSE) -> 0 | AR15: =I15&" - "&AQ15&" - "&N15 -> 41276 - 0 - AM | AS15: =I15&" - "&AQ15&" - "&O15 -> 41276 - 0 - PM | AT15: =I15&" - "&AQ15&" - "&P15 -> 41276 - 0 - EVENING | AU15: =I15&" - "&AQ15&" - "&Q15 -> 41276 - 0 - | AV15: =VLOOKUP(E15,'Répartition salles'!$C:$R,9,FALSE) -> 0 | AW15: =I15&" - "&AV15&" - "&N15 -> 41276 - 0 - AM | AX15: =I15&" - "&AV15&" - "&O15 -> 41276 - 0 - PM | AY15: =I15&" - "&AV15&" - "&P15 -> 41276 - 0 - EVENING | AZ15: =I15&" - "&AV15&" - "&Q15 -> 41276 - 0 - | BA15: =VLOOKUP(E15,'Répartition salles'!$C:$R,10,FALSE) -> 0 | BB15: =I15&" - "&BA15&" - "&N15 -> 41276 - 0 - AM | BC15: =I15&" - "&BA15&" - "&O15 -> 41276 - 0 - PM | BD15: =I15&" - "&BA15&" - "&P15 -> 41276 - 0 - EVENING | BE15: =I15&" - "&BA15&" - "&Q15 -> 41276 - 0 - | BF15: =VLOOKUP(E15,'Répartition salles'!$C:$R,11,FALSE) -> 0 | BG15: =I15&" - "&BF15&" - "&N15 -> 41276 - 0 - AM | BH15: =I15&" - "&BF15&" - "&O15 -> 41276 - 0 - PM | BI15: =I15&" - "&BF15&" - "&P15 -> 41276 - 0 - EVENING | BJ15: =I15&" - "&BF15&" - "&Q15 -> 41276 - 0 - | BK15: =VLOOKUP(E15,'Répartition salles'!$C:$R,12,FALSE) -> 0 | BL15: =I15&" - "&BK15&" - "&N15 -> 41276 - 0 - AM | BM15: =I15&" - "&BK15&" - "&O15 -> 41276 - 0 - PM | BN15: =I15&" - "&BK15&" - "&P15 -> 41276 - 0 - EVENING | BO15: =I15&" - "&BK15&" - "&Q15 -> 41276 - 0 - | BP15: =VLOOKUP(E15,'Répartition salles'!$C:$R,13,FALSE) -> 0 | BQ15: =I15&" - "&BP15&" - "&N15 -> 41276 - 0 - AM | BR15: =I15&" - "&BP15&" - "&O15 -> 41276 - 0 - PM | BS15: =I15&" - "&BP15&" - "&P15 -> 41276 - 0 - EVENING | BT15: =I15&" - "&BP15&" - "&Q15 -> 41276 - 0 - | BU15: =VLOOKUP(E15,'Répartition salles'!$C:$R,14,FALSE) -> 0 | BV15: =I15&" - "&BU15&" - "&N15 -> 41276 - 0 - AM | BW15: =I15&" - "&BU15&" - "&O15 -> 41276 - 0 - PM | BX15: =I15&" - "&BU15&" - "&P15 -> 41276 - 0 - EVENING | BY15: =I15&" - "&BU15&" - "&Q15 -> 41276 - 0 - | BZ15: =VLOOKUP(E15,'Répartition salles'!$C:$R,15,FALSE) -> 0 | CA15: =I15&" - "&BZ15&" - "&N15 -> 41276 - 0 - AM | CB15: =I15&" - "&BZ15&" - "&O15 -> 41276 - 0 - PM | CC15: =I15&" - "&BZ15&" - "&P15 -> 41276 - 0 - EVENING | CD15: =I15&" - "&BZ15&" - "&Q15 -> 41276 - 0 - | CE15: =VLOOKUP(E15,'Répartition salles'!$C:$R,16,FALSE) -> 0 | CF15: =I15&" - "&CE15&" - "&N15 -> 41276 - 0 - AM | CG15: =I15&" - "&CE15&" - "&O15 -> 41276 - 0 - PM | CH15: =I15&" - "&CE15&" - "&P15 -> 41276 - 0 - EVENING | CI15: =I15&" - "&CE15&" - "&Q15 -> 41276 - 0 - | CJ15: =F15 -> ACT
A16: 2312262 | B16: 3396323 | C16: SET | D16: Setup Pleniere | E16: La Seine A & B (0) | F16: ACT | G16: 0.375 | H16: 0.95833333 | I16: 41276 | J16: GCO | K16: CON | L16: GOODYEAR | N16: =IF($G16=N$8,"",IF(AND($G16<$H16,N$7<N$8,OR(AND($G16>N$7,$G16<=N$8),AND($H16>N$7,$H16<=N$8),AND($G16<N$7,$H16>N$8))),"AM",IF(AND($G16<$H16,N$7>N$8,OR(AND($G16>N$7,$G16<=N$8+1),AND($H16>N$7,$H16<=N$8+1),AND($G16<N$7,$H16>N$8+1))),"AM",IF(AND($G16>$H16,N$7<N$8,OR(AND($G16>N$7,$G16<=N$8),AND($H16+1>N$7,$H16+1<=N$8),AND($G16<N$7,$H16+1>N$8))),"AM",IF(AND($G16>$H16,N$7>N$8,OR(AND($G16>N$7,$G16<=N$8+1),AND($H16+1>N$7,$H16+1<=N$8+1),AND($G16<N$7,$H16+1>N$8+1))),"AM",""))))) -> AM | O16: =IF($G16=O$8,"",IF(AND($G16<$H16,O$7<O$8,OR(AND($G16>O$7,$G16<=O$8),AND($H16>O$7,$H16<=O$8),AND($G16<O$7,$H16>O$8))),"PM",IF(AND($G16<$H16,O$7>O$8,OR(AND($G16>O$7,$G16<=O$8+1),AND($H16>O$7,$H16<=O$8+1),AND($G16<O$7,$H16>O$8+1))),"PM",IF(AND($G16>$H16,O$7<O$8,OR(AND($G16>O$7,$G16<=O$8),AND($H16+1>O$7,$H16+1<=O$8),AND($G16<O$7,$H16+1>O$8))),"PM",IF(AND($G16>$H16,O$7>O$8,OR(AND($G16>O$7,$G16<=O$8+1),AND($H16+1>O$7,$H16+1<=O$8+1),AND($G16<O$7,$H16+1>O$8+1))),"PM",""))))) -> PM | P16: =IF($G16=P$8,"",IF(AND($G16<$H16,P$7<P$8,OR(AND($G16>P$7,$G16<=P$8),AND($H16>P$7,$H16<=P$8),AND($G16<P$7,$H16>P$8))),"EVENING",IF(AND($G16<$H16,P$7>P$8,OR(AND($G16>P$7,$G16<=P$8+1),AND($H16>P$7,$H16<=P$8+1),AND($G16<P$7,$H16>P$8+1))),"EVENING",IF(AND($G16>$H16,P$7<P$8,OR(AND($G16>P$7,$G16<=P$8),AND($H16+1>P$7,$H16+1<=P$8),AND($G16<P$7,$H16+1>P$8))),"EVENING",IF(AND($G16>$H16,P$7>P$8,OR(AND($G16>P$7,$G16<=P$8+1),AND($H16+1>P$7,$H16+1<=P$8+1),AND($G16<P$7,$H16+1>P$8+1))),"EVENING",""))))) -> EVENING | Q16: =IF($G16=Q$8,"",IF(AND($G16<$H16,Q$7<Q$8,OR(AND($G16>Q$7,$G16<=Q$8),AND($H16>Q$7,$H16<=Q$8),AND($G16<Q$7,$H16>Q$8))),"NIGHT",IF(AND($G16<$H16,Q$7>Q$8,OR(AND($G16>Q$7,$G16<=Q$8+1),AND($H16>Q$7,$H16<=Q$8+1),AND($G16<Q$7,$H16>Q$8+1))),"NIGHT",IF(AND($G16>$H16,Q$7<Q$8,OR(AND($G16>Q$7,$G16<=Q$8),AND($H16+1>Q$7,$H16+1<=Q$8),AND($G16<Q$7,$H16+1>Q$8))),"NIGHT",IF(AND($G16>$H16,Q$7>Q$8,OR(AND($G16>Q$7,$G16<=Q$8+1),AND($H16+1>Q$7,$H16+1<=Q$8+1),AND($G16<Q$7,$H16+1>Q$8+1))),"NIGHT",""))))) | R16: =TEXT(DAY(I16),"jjjj") -> lundi | S16: =DAY(I16) -> 2 | T16: =MONTH(I16) -> 1 | U16: =IF(OR(R16="Samedi",R16="Dimanche"),"weekend","week") -> week | V16: =U16&" - "&E16 -> week - La Seine A & B (0) | W16: =T16&" - "&U16&" - "&E16& " - "&N16 -> 1 - week - La Seine A & B (0) - AM | X16: =T16&" - "&U16&" - "&E16& " - "&O16 -> 1 - week - La Seine A & B (0) - PM | Y16: =T16&" - "&U16&" - "&E16& " - "&P16 -> 1 - week - La Seine A & B (0) - EVENING | Z16: =T16&" - "&U16&" - "&E16&" - "&Q16 -> 1 - week - La Seine A & B (0) - | AA16: =I16&" - "&E16&" - "&N16 -> 41276 - La Seine A & B (0) - AM | AB16: =I16&" - "&E16&" - "&O16 -> 41276 - La Seine A & B (0) - PM | AC16: =I16&" - "&E16&" - "&P16 -> 41276 - La Seine A & B (0) - EVENING | AD16: =I16&" - "&E16&" - "&Q16 -> 41276 - La Seine A & B (0) - | AE16: =F16 -> ACT | AG16: =VLOOKUP(E16,'Répartition salles'!$C:$R,6,FALSE) -> Seine A | AH16: =I16&" - "&AG16&" - "&N16 -> 41276 - Seine A - AM | AI16: =I16&" - "&AG16&" - "&O16 -> 41276 - Seine A - PM | AJ16: =I16&" - "&AG16&" - "&P16 -> 41276 - Seine A - EVENING | AK16: =I16&" - "&AG16&" - "&Q16 -> 41276 - Seine A - | AL16: =VLOOKUP(E16,'Répartition salles'!$C:$R,7,FALSE) -> Seine B | AM16: =I16&" - "&AL16&" - "&N16 -> 41276 - Seine B - AM | AN16: =I16&" - "&AL16&" - "&O16 -> 41276 - Seine B - PM | AO16: =I16&" - "&AL16&" - "&P16 -> 41276 - Seine B - EVENING | AP16: =I16&" - "&AL16&" - "&Q16 -> 41276 - Seine B - | AQ16: =VLOOKUP(E16,'Répartition salles'!$C:$R,8,FALSE) -> 0 | AR16: =I16&" - "&AQ16&" - "&N16 -> 41276 - 0 - AM | AS16: =I16&" - "&AQ16&" - "&O16 -> 41276 - 0 - PM | AT16: =I16&" - "&AQ16&" - "&P16 -> 41276 - 0 - EVENING | AU16: =I16&" - "&AQ16&" - "&Q16 -> 41276 - 0 - | AV16: =VLOOKUP(E16,'Répartition salles'!$C:$R,9,FALSE) -> 0 | AW16: =I16&" - "&AV16&" - "&N16 -> 41276 - 0 - AM | AX16: =I16&" - "&AV16&" - "&O16 -> 41276 - 0 - PM | AY16: =I16&" - "&AV16&" - "&P16 -> 41276 - 0 - EVENING | AZ16: =I16&" - "&AV16&" - "&Q16 -> 41276 - 0 - | BA16: =VLOOKUP(E16,'Répartition salles'!$C:$R,10,FALSE) -> 0 | BB16: =I16&" - "&BA16&" - "&N16 -> 41276 - 0 - AM | BC16: =I16&" - "&BA16&" - "&O16 -> 41276 - 0 - PM | BD16: =I16&" - "&BA16&" - "&P16 -> 41276 - 0 - EVENING | BE16: =I16&" - "&BA16&" - "&Q16 -> 41276 - 0 - | BF16: =VLOOKUP(E16,'Répartition salles'!$C:$R,11,FALSE) -> 0 | BG16: =I16&" - "&BF16&" - "&N16 -> 41276 - 0 - AM | BH16: =I16&" - "&BF16&" - "&O16 -> 41276 - 0 - PM | BI16: =I16&" - "&BF16&" - "&P16 -> 41276 - 0 - EVENING | BJ16: =I16&" - "&BF16&" - "&Q16 -> 41276 - 0 - | BK16: =VLOOKUP(E16,'Répartition salles'!$C:$R,12,FALSE) -> 0 | BL16: =I16&" - "&BK16&" - "&N16 -> 41276 - 0 - AM | BM16: =I16&" - "&BK16&" - "&O16 -> 41276 - 0 - PM | BN16: =I16&" - "&BK16&" - "&P16 -> 41276 - 0 - EVENING | BO16: =I16&" - "&BK16&" - "&Q16 -> 41276 - 0 - | BP16: =VLOOKUP(E16,'Répartition salles'!$C:$R,13,FALSE) -> 0 | BQ16: =I16&" - "&BP16&" - "&N16 -> 41276 - 0 - AM | BR16: =I16&" - "&BP16&" - "&O16 -> 41276 - 0 - PM | BS16: =I16&" - "&BP16&" - "&P16 -> 41276 - 0 - EVENING | BT16: =I16&" - "&BP16&" - "&Q16 -> 41276 - 0 - | BU16: =VLOOKUP(E16,'Répartition salles'!$C:$R,14,FALSE) -> 0 | BV16: =I16&" - "&BU16&" - "&N16 -> 41276 - 0 - AM | BW16: =I16&" - "&BU16&" - "&O16 -> 41276 - 0 - PM | BX16: =I16&" - "&BU16&" - "&P16 -> 41276 - 0 - EVENING | BY16: =I16&" - "&BU16&" - "&Q16 -> 41276 - 0 - | BZ16: =VLOOKUP(E16,'Répartition salles'!$C:$R,15,FALSE) -> 0 | CA16: =I16&" - "&BZ16&" - "&N16 -> 41276 - 0 - AM | CB16: =I16&" - "&BZ16&" - "&O16 -> 41276 - 0 - PM | CC16: =I16&" - "&BZ16&" - "&P16 -> 41276 - 0 - EVENING | CD16: =I16&" - "&BZ16&" - "&Q16 -> 41276 - 0 - | CE16: =VLOOKUP(E16,'Répartition salles'!$C:$R,16,FALSE) -> 0 | CF16: =I16&" - "&CE16&" - "&N16 -> 41276 - 0 - AM | CG16: =I16&" - "&CE16&" - "&O16 -> 41276 - 0 - PM | CH16: =I16&" - "&CE16&" - "&P16 -> 41276 - 0 - EVENING | CI16: =I16&" - "&CE16&" - "&Q16 -> 41276 - 0 - | CJ16: =F16 -> ACT
