Workbook

Sheet datas
F7: Room Name | G7: Salle 1 | H7: Salle 2 | I7: Salle 3 | J7: Salle 4 | K7: Salle 5 | L7: Salle 6 | M7: Salle 7 | N7: Salle 8 | O7: Salle 9 | P7: Salle 10 | Q7: Salle 11 | R7: Salle 12 | S7: Salle 13 | T7: Salle 14 | U7: Salle 15 | V7: Salle 16 | W7: Salle 17 | X7: Salle 18 | Y7: Salle 19 | Z7: Salle 20 | AA7: Salle 21 | AB7: Salle 22 | AC7: Salle 23 | AD7: Salle 24 | AE7: Salle 25 | AF7: Salle 26 | AG7: Salle 27 | AH7: Salle 28 | AI7: Salle 29 | AJ7: Salle 30 | AK7: Salle 31 | AL7: Salle 32 | AM7: Salle 33 | AN7: Salle 34 | AO7: Salle 35 | AP7: Salle 36 | AQ7: Salle 37 | AR7: Salle 38 | AS7: Salle 39 | AT7: Salle 40 | AU7: Salle 41 | AV7: Salle 42 | AW7: Salle 43 | AX7: Salle 44 | AY7: Salle 45 | AZ7: Salle 46 | BA7: Salle 47 | BB7: Salle 48 | BC7: Salle 49 | BD7: Salle 50 | BE7: Salle 51 | BF7: Salle 52 | BG7: Salle 53 | BH7: Salle 54 | BI7: Salle 55 | BJ7: Salle 56
F8: Sqr feet | G8: 150 | H8: 40 | I8: 222 | J8: 42 | K8: 69 | L8: 200 | M8: 137 | N8: 146 | O8: 45 | P8: 177 | Q8: 59 | R8: 63 | S8: 244 | T8: 237 | U8: 26 | V8: 60 | W8: 54 | X8: 26 | Y8: 67 | Z8: 220 | AA8: 26 | AB8: 26 | AC8: 55 | AD8: 54 | AE8: 34 | AF8: 28 | AG8: 88 | AH8: 37 | AI8: 40 | AJ8: 53 | AK8: 39 | AL8: 70 | AM8: 210 | AN8: 35 | AO8: 52 | AP8: 20 | AQ8: 37 | AR8: 56 | AS8: 34 | AT8: 58 | AU8: 63 | AV8: 24 | AW8: 27 | AX8: 27 | AY8: 50 | AZ8: 83 | BA8: 107 | BB8: 91 | BC8: 64 | BD8: 68 | BE8: 91 | BF8: 105 | BG8: 23 | BH8: 380 | BI8: 39 | BJ8: 50
A10: Date | B10: Dow | C10: Net SR Avail Rooms | D10: Net FS Avail % | E10: Citywide Event | F10: Commit Sqr. ft
A11: 42064 | B11: Sun | C11: 427 | D11: 25 | F11: 10465 | G11: X | H11: X | I11: X | J11: X | K11: X | L11: X | M11: X | N11: X | P11: X | Q11: X | R11: X | S11: X | T11: X | U11: X | AB11: X | AG11: X | AH11: X | AI11: X | AJ11: X | AK11: X | AL11: X | AM11: X | AN11: X | AO11: X | AP11: X | AQ11: X | AR11: X | AS11: X | AT11: X | AU11: X | AW11: X | AX11: X | BB11: X | BD11: X | BE11: X | BG11: X | BI11: X
A12: 42065 | B12: Mon | C12: 169 | D12: 21 | F12: 11037 | G12: X | H12: X | I12: X | J12: X | K12: X | L12: X | M12: X | N12: X | P12: X | Q12: X | R12: X | S12: X | T12: X | U12: X | AB12: X | AC12: X | AF12: X | AG12: X | AH12: X | AI12: X | AJ12: X | AK12: X | AL12: X | AM12: X | AN12: X | AO12: X | AP12: X | AQ12: X | AR12: X | AS12: X | AT12: X | AU12: X | AW12: X | AX12: X | BA12: X | BB12: X | BD12: X | BE12: X | BF12: X | BG12: X | BI12: X | BJ12: X
A13: 42066 | B13: Tue | C13: 166 | D13: 2 | F13: 13562 | G13: X | H13: X | I13: X | J13: X | K13: X | L13: X | M13: X | N13: X | P13: X | Q13: X | R13: X | S13: X | T13: X | U13: X | V13: X | Y13: X | AB13: X | AC13: X | AD13: X | AE13: X | AF13: X | AG13: X | AH13: X | AI13: X | AJ13: X | AK13: X | AL13: X | AM13: X | AN13: X | AO13: X | AP13: X | AQ13: X | AR13: X | AS13: X | AT13: X | AU13: X | AW13: X | AX13: X | BB13: X | BD13: X | BE13: X | BG13: X | BH13: X | BI13: X
A14: 42067 | B14: Wed | C14: 370 | D14: 13 | F14: 12049 | H14: X | I14: X | J14: X | K14: X | L14: X | M14: X | N14: X | P14: X | Q14: X | R14: X | S14: X | T14: X | U14: X | V14: X | Y14: X | AB14: X | AD14: X | AE14: X | AG14: X | AH14: X | AI14: X | AJ14: X | AK14: X | AL14: X | AM14: X | AN14: X | AO14: X | AP14: X | AQ14: X | AR14: X | AS14: X | AT14: X | AU14: X | AW14: X | AX14: X | BB14: X | BD14: X | BE14: X | BG14: X | BJ14: X
A15: 42068 | B15: Thu | C15: 189 | D15: 49 | F15: 7016 | G15: X | H15: X | I15: X | J15: X | K15: X | L15: X | M15: X | N15: X | P15: X | Q15: X | R15: X | S15: X | T15: X | U15: X | V15: X | W15: X | Y15: X | Z15: X | AB15: X | AC15: X | AD15: X | AE15: X | AL15: X | AP15: X | AU15: X | AV15: X | AW15: X | AX15: X | AY15: X | AZ15: X | BB15: X | BC15: X | BD15: X | BE15: X | BF15: X | BG15: X | BH15: X
A16: 42069 | B16: Fri | C16: 128 | D16: 54 | F16: 6432 | I16: X | L16: X | M16: X | N16: X | P16: X | S16: X | T16: X | AE16: X | AG16: X | AH16: X | AJ16: X | AK16: X | AN16: X | AO16: X | AQ16: X | AR16: X | AS16: X | AT16: X | AU16: X | AV16: X | AW16: X | AX16: X | AY16: X | AZ16: X | BA16: X | BB16: X | BC16: X | BD16: X | BE16: X | BF16: X | BG16: X | BH16: X | BJ16: X
A17: 42070 | B17: Sat | C17: 304 | D17: 34 | F17: 9141 | G17: X | I17: X | K17: X | L17: X | M17: X | N17: X | P17: X | Q17: X | R17: X | S17: X | T17: X | AG17: X | AH17: X | AJ17: X | AK17: X | AN17: X | AO17: X | AQ17: X | AS17: X | AU17: X | AV17: X | AW17: X | AX17: X | AY17: X | AZ17: X | BB17: X | BC17: X | BD17: X | BE17: X | BH17: X | BJ17: X
A18: 42071 | B18: Sun | C18: 76 | D18: 67 | F18: 4547 | I18: X | K18: X | L18: X | M18: X | N18: X | P18: X | Q18: X | R18: X | S18: X | T18: X | U18: X | W18: X | X18: X | Y18: X | AA18: X | AB18: X | AC18: X | AG18: X | AH18: X | AJ18: X | AK18: X | AN18: X | AO18: X | AQ18: X | AR18: X | AS18: X | AT18: X | AU18: X | AW18: X | AX18: X | BA18: X | BB18: X | BC18: X | BD18: X | BE18: X | BF18: X | BJ18: X
A19: 42072 | B19: Mon | C19: 18 | D19: 87 | F19: 1779 | J19: X | AE19: X | AF19: X | AV19: X | AW19: X | AX19: X | AZ19: X | BA19: X | BB19: X | BC19: X | BE19: X | BF19: X | BH19: X | BI19: X | BJ19: X
A20: 42073 | B20: Tue | C20: 23 | D20: 88 | F20: 1710 | I20: X | J20: X | O20: X | AF20: X | AV20: X | AW20: X | AX20: X | AZ20: X | BA20: X | BB20: X | BE20: X | BF20: X | BI20: X | BJ20: X
A21: 42074 | B21: Wed | C21: 125 | D21: 92 | F21: 1119 | J21: X | AF21: X | AG21: X | AR21: X | AT21: X | AV21: X | AW21: X | AX21: X | AZ21: X | BA21: X | BB21: X | BE21: X | BJ21: X
A22: 42075 | B22: Thu | C22: 336 | D22: 28 | F22: 9972 | H22: X | I22: X | J22: X | K22: X | L22: X | N22: X | O22: X | P22: X | Q22: X | R22: X | S22: X | T22: X | U22: X | V22: X | W22: X | X22: X | AA22: X | AB22: X | AC22: X | AD22: X | AF22: X | AG22: X | AH22: X | AJ22: X | AK22: X | AM22: X | AN22: X | AO22: X | AQ22: X | AR22: X | AS22: X | AT22: X | AU22: X | AW22: X | AX22: X | AZ22: X | BA22: X | BB22: X | BC22: X | BD22: X | BE22: X | BF22: X | BH22: X
A23: 42076 | B23: Fri | C23: 293 | D23: 89 | F23: 1528 | J23: X | AF23: X | AT23: X | BA23: X | BC23: X | BF23: X | BH23: X
A24: 42077 | B24: Sat | C24: 386 | D24: 86 | F24: 1885 | H24: X | J24: X | AE24: X | AM24: X | AR24: X | AT24: X | BG24: X | BH24: X | BJ24: X
A25: 42078 | B25: Sun | C25: 314 | D25: 91 | F25: 1310 | H25: X | J25: X | U25: X | V25: X | W25: X | X25: X | AA25: X | AB25: X | AC25: X | BA25: X | BC25: X | BG25: X
A26: 42079 | B26: Mon | C26: 112 | D26: 4 | F26: 13350 | G26: X | H26: X | I26: X | J26: X | K26: X | L26: X | M26: X | N26: X | P26: X | Q26: X | R26: X | S26: X | T26: X | V26: X | W26: X | Y26: X | Z26: X | AC26: X | AD26: X | AG26: X | AH26: X | AI26: X | AJ26: X | AK26: X | AL26: X | AM26: X | AN26: X | AO26: X | AP26: X | AQ26: X | AR26: X | AS26: X | AT26: X | AU26: X | AY26: X | AZ26: X | BA26: X | BB26: X | BC26: X | BD26: X | BE26: X | BF26: X | BG26: X | BJ26: X
A27: 42080 | B27: Tue | C27: 70 | D27: 13 | F27: 12080 | G27: X | H27: X | I27: X | J27: X | K27: X | L27: X | M27: X | N27: X | O27: X | P27: X | Q27: X | R27: X | S27: X | T27: X | U27: X | V27: X | W27: X | X27: X | Y27: X | Z27: X | AA27: X | AB27: X | AC27: X | AD27: X | AE27: X | AF27: X | AG27: X | AH27: X | AI27: X | AJ27: X | AK27: X | AL27: X | AM27: X | AN27: X | AO27: X | AP27: X | AQ27: X | AR27: X | AS27: X | AT27: X | AU27: X | AV27: X | AW27: X | AX27: X | AY27: X | AZ27: X | BA27: X | BB27: X | BC27: X | BD27: X | BE27: X | BF27: X | BG27: X | BJ27: X
A28: 42081 | B28: Wed | C28: 45 | D28: 13 | F28: 12058 | G28: X | H28: X | I28: X | J28: X | K28: X | L28: X | M28: X | N28: X | O28: X | P28: X | Q28: X | R28: X | S28: X | T28: X | U28: X | V28: X | W28: X | X28: X | Y28: X | Z28: X | AA28: X | AB28: X | AC28: X | AD28: X | AE28: X | AF28: X | AG28: X | AH28: X | AI28: X | AJ28: X | AK28: X | AL28: X | AM28: X | AN28: X | AO28: X | AP28: X | AQ28: X | AR28: X | AS28: X | AT28: X | AU28: X | AV28: X | AW28: X | AX28: X | AY28: X | AZ28: X | BA28: X | BB28: X | BC28: X | BD28: X | BE28: X | BF28: X | BG28: X | BJ28: X
A29: 42082 | B29: Thu | C29: 64 | D29: 12 | F29: 12156 | G29: X | H29: X | I29: X | J29: X | K29: X | L29: X | M29: X | N29: X | O29: X | P29: X | Q29: X | R29: X | S29: X | T29: X | U29: X | V29: X | W29: X | X29: X | Y29: X | Z29: X | AA29: X | AB29: X | AC29: X | AD29: X | AE29: X | AF29: X | AG29: X | AH29: X | AI29: X | AJ29: X | AK29: X | AL29: X | AM29: X | AN29: X | AO29: X | AP29: X | AQ29: X | AR29: X | AS29: X | AT29: X | AU29: X | AV29: X | AW29: X | AX29: X | AY29: X | AZ29: X | BA29: X | BB29: X | BC29: X | BD29: X | BE29: X | BF29: X | BG29: X | BI29: X | BJ29: X
A30: 42083 | B30: Fri | C30: 224 | D30: 15 | F30: 11814 | G30: X | H30: X | I30: X | J30: X | K30: X | L30: X | M30: X | N30: X | O30: X | P30: X | Q30: X | R30: X | S30: X | T30: X | U30: X | V30: X | X30: X | Y30: X | Z30: X | AA30: X | AB30: X | AC30: X | AD30: X | AE30: X | AF30: X | AG30: X | AH30: X | AI30: X | AJ30: X | AK30: X | AL30: X | AM30: X | AN30: X | AO30: X | AP30: X | AQ30: X | AR30: X | AS30: X | AT30: X | AU30: X | AV30: X | AW30: X | AX30: X | AY30: X | AZ30: X | BA30: X | BB30: X | BD30: X | BE30: X | BF30: X | BG30: X | BI30: X | BJ30: X
A31: 42084 | B31: Sat | C31: 295 | D31: 76 | F31: 3318 | H31: X | I31: X | J31: X | K31: X | Q31: X | S31: X | T31: X | AU31: X | AW31: X | AX31: X | BA31: X | BB31: X | BD31: X | BE31: X | BF31: X
A32: 42085 | B32: Sun | C32: 251 | D32: 72 | F32: 3939 | G32: X | H32: X | I32: X | J32: X | K32: X | Q32: X | S32: X | T32: X | AG32: X | AH32: X | AJ32: X | AN32: X | AO32: X | AQ32: X | AR32: X | AS32: X | AT32: X
A33: 42086 | B33: Mon | C33: 88 | D33: 50 | F33: 6916 | G33: X | H33: X | I33: X | J33: X | K33: X | Q33: X | R33: X | S33: X | T33: X | U33: X | V33: X | W33: X | X33: X | Y33: X | Z33: X | AA33: X | AB33: X | AC33: X | AD33: X | AE33: X | AF33: X | AL33: X | AY33: X | AZ33: X | BA33: X | BB33: X | BC33: X | BD33: X | BE33: X | BF33: X | BJ33: X
A34: 42087 | B34: Tue | C34: 155 | D34: 37 | F34: 8758 | H34: X | I34: X | J34: X | K34: X | L34: X | M34: X | N34: X | P34: X | Q34: X | R34: X | S34: X | T34: X | U34: X | V34: X | X34: X | Y34: X | Z34: X | AA34: X | AB34: X | AD34: X | AE34: X | AF34: X | AG34: X | AM34: X | AR34: X | AT34: X | AY34: X | AZ34: X | BA34: X | BB34: X | BC34: X | BD34: X | BE34: X | BF34: X | BJ34: X
A35: 42088 | B35: Wed | C35: 143 | D35: 25 | F35: 10416 | G35: X | H35: X | I35: X | J35: X | K35: X | L35: X | M35: X | N35: X | P35: X | Q35: X | R35: X | S35: X | T35: X | U35: X | V35: X | W35: X | X35: X | Y35: X | Z35: X | AA35: X | AB35: X | AC35: X | AD35: X | AE35: X | AG35: X | AH35: X | AI35: X | AJ35: X | AL35: X | AM35: X | AN35: X | AO35: X | AP35: X | AQ35: X | AR35: X | AS35: X | AT35: X | AY35: X | AZ35: X | BA35: X | BB35: X | BC35: X | BD35: X | BF35: X | BJ35: X
A36: 42089 | B36: Thu | C36: 225 | D36: 39 | F36: 8460 | H36: X | I36: X | J36: X | K36: X | L36: X | M36: X | N36: X | P36: X | Q36: X | R36: X | S36: X | T36: X | U36: X | V36: X | W36: X | X36: X | Y36: X | Z36: X | AA36: X | AB36: X | AC36: X | AD36: X | AE36: X | AF36: X | AH36: X | AI36: X | AJ36: X | AK36: X | AM36: X | AN36: X | AO36: X | AQ36: X | AR36: X | AS36: X | AY36: X | AZ36: X | BB36: X | BC36: X | BD36: X | BF36: X | BJ36: X
A37: 42090 | B37: Fri | C37: 326 | D37: 16 | F37: 11677 | H37: X | I37: X | J37: X | K37: X | L37: X | M37: X | N37: X | P37: X | Q37: X | R37: X | S37: X | T37: X | U37: X | V37: X | W37: X | X37: X | Y37: X | Z37: X | AA37: X | AB37: X | AC37: X | AD37: X | AF37: X | AG37: X | AH37: X | AI37: X | AJ37: X | AK37: X | AM37: X | AN37: X | AO37: X | AQ37: X | AR37: X | AS37: X | AT37: X | AV37: X | AW37: X | AX37: X | AZ37: X | BA37: X | BB37: X | BC37: X | BE37: X | BF37: X | BG37: X
A38: 42091 | B38: Sat | C38: 365 | D38: 78 | F38: 3060 | V38: X | W38: X | Z38: X | AC38: X | AG38: X | AH38: X | AI38: X | AJ38: X | AK38: X | AM38: X | AN38: X | AO38: X | AQ38: X | AS38: X | BA38: X | BF38: X
A39: 42092 | B39: Sun | C39: 393 | D39: 83 | F39: 2383 | S39: X | T39: X | AG39: X | AH39: X | AJ39: X | AN39: X | AO39: X | AP39: X | AQ39: X | AR39: X | AS39: X | AT39: X
A40: 42093 | B40: Mon | C40: 100 | D40: 44 | F40: 7832 | H40: X | I40: X | J40: X | K40: X | L40: X | N40: X | P40: X | Q40: X | R40: X | S40: X | T40: X | V40: X | W40: X | X40: X | Y40: X | AA40: X | AC40: X | AD40: X | AG40: X | AH40: X | AJ40: X | AN40: X | AO40: X | AP40: X | AQ40: X | AR40: X | AS40: X | AT40: X | AU40: X | AV40: X | AW40: X | AX40: X | AY40: X | AZ40: X | BA40: X | BB40: X | BC40: X | BD40: X | BE40: X | BF40: X | BG40: X
A41: 42094 | B41: Tue | C41: 80 | D41: 51 | F41: 6851 | K41: X | N41: X | P41: X | Q41: X | R41: X | S41: X | T41: X | V41: X | W41: X | X41: X | Y41: X | AA41: X | AC41: X | AD41: X | AG41: X | AH41: X | AJ41: X | AN41: X | AO41: X | AP41: X | AQ41: X | AR41: X | AS41: X | AT41: X | AU41: X | AV41: X | AW41: X | AX41: X | AY41: X | AZ41: X | BA41: X | BB41: X | BD41: X | BE41: X | BF41: X | BG41: X
A42: 42095 | B42: Wed | C42: 96 | D42: 30 | F42: 9695 | H42: X | I42: X | J42: X | K42: X | L42: X | M42: X | N42: X | P42: X | Q42: X | R42: X | S42: X | T42: X | U42: X | V42: X | W42: X | X42: X | Y42: X | AA42: X | AB42: X | AC42: X | AD42: X | AE42: X | AF42: X | AG42: X | AH42: X | AI42: X | AJ42: X | AN42: X | AO42: X | AP42: X | AQ42: X | AR42: X | AS42: X | AT42: X | AU42: X | AV42: X | AW42: X | AX42: X | AY42: X | AZ42: X | BA42: X | BB42: X | BD42: X | BE42: X | BF42: X | BG42: X | BJ42: X
A43: 42096 | B43: Thu | C43: 168 | D43: 20 | F43: 11166 | G43: X | I43: X | K43: X | L43: X | M43: X | N43: X | P43: X | Q43: X | R43: X | S43: X | T43: X | U43: X | V43: X | W43: X | X43: X | AA43: X | AB43: X | AC43: X | AD43: X | AG43: X | AH43: X | AI43: X | AM43: X | AN43: X | AP43: X | AQ43: X | AR43: X | AS43: X | AT43: X | AU43: X | AV43: X | AW43: X | AX43: X | AY43: X | AZ43: X | BB43: X | BC43: X | BD43: X | BE43: X | BG43: X
A44: 42097 | B44: Fri | C44: 300 | D44: 31 | F44: 9606 | G44: X | H44: X | I44: X | J44: X | K44: X | L44: X | M44: X | N44: X | P44: X | Q44: X | R44: X | S44: X | T44: X | V44: X | W44: X | Y44: X | AC44: X | AD44: X | AH44: X | AN44: X | AQ44: X | AS44: X | AU44: X | AV44: X | AW44: X | AX44: X | AY44: X | AZ44: X | BB44: X | BC44: X | BD44: X | BE44: X | BG44: X
A45: 42098 | B45: Sat | C45: 293 | D45: 93 | F45: 982 | I45: X | L45: X | N45: X | P45: X | T45: X
A46: 42099 | B46: Sun | C46: 292 | D46: 58 | F46: 5854 | H46: X | I46: X | J46: X | L46: X | N46: X | P46: X | S46: X | T46: X | AG46: X | AH46: X | AJ46: X | AN46: X | AO46: X | AQ46: X | AR46: X | AS46: X | AT46: X | AU46: X | AV46: X | AW46: X | AX46: X | AY46: X | AZ46: X | BB46: X | BC46: X | BD46: X | BE46: X
A47: 42100 | B47: Mon | C47: 342 | D47: 100 | F47: 0
...

Sheet outil
BT1: FULL | BU1: 10 | BV1: 450 | BW1: LOW | BX1: 42087
BT2: HIGH | BU2: 25 | BV2: 350 | BW2: MEDIUM
BT3: MEDIUM | BU3: 50 | BV3: 250 | BW3: MEDIUM HIGH
BT4: LOW | BU4: 75 | BV4: 100 | BW4: HIGH
BT5: FREE SELL | BU5: 90 | BV5: 50 | BW5: FULL
BT6: Day of Week | BU6: % Function Space Available | BV6: Sleeping Room Available | BW6: Catering BSRP
F7: Room Name | G7: Salle 1 | H7: Salle 2 | I7: Salle 3 | J7: Salle 4 | K7: Salle 5 | L7: Salle 6 | M7: Salle 7 | N7: Salle 8 | O7: Salle 9 | P7: Salle 10 | Q7: Salle 11 | R7: Salle 12 | S7: Salle 13 | T7: Salle 14 | U7: Salle 15 | V7: Salle 16 | W7: Salle 17 | X7: Salle 18 | Y7: Salle 19 | Z7: Salle 20 | AA7: Salle 21 | AB7: Salle 22 | AC7: Salle 23 | AD7: Salle 24 | AE7: Salle 25 | AF7: Salle 26 | AG7: Salle 27 | AH7: Salle 28 | AI7: Salle 29 | AJ7: Salle 30 | AK7: Salle 31 | AL7: Salle 32 | AM7: Salle 33 | AN7: Salle 34 | AO7: Salle 35 | AP7: Salle 36 | AQ7: Salle 37 | AR7: Salle 38 | AS7: Salle 39 | AT7: Salle 40 | AU7: Salle 41 | AV7: Salle 42 | AW7: Salle 43 | AX7: Salle 44 | AY7: Salle 45 | AZ7: Salle 46 | BA7: Salle 47 | BB7: Salle 48 | BC7: Salle 49 | BD7: Salle 50 | BE7: Salle 51 | BF7: Salle 52 | BG7: Salle 53 | BH7: Salle 54 | BI7: Salle 55 | BJ7: Salle 56 | BT7: =VLOOKUP(BX1,BL:BM,2,FALSE) -> Tue | BU7: =VLOOKUP(BX1,BL:BN,3,FALSE) -> 37 | BV7: =VLOOKUP(BX1,BL:BO,4,FALSE) -> 155 | BW7: =VLOOKUP(BL:BP,5,FALSE) -> #VALUE!
F8: Sqr feet | G8: 222 | H8: 237 | I8: 244 | J8: 63 | K8: 69 | L8: 59 | M8: 40 | N8: 42 | O8: 200 | P8: 177 | Q8: 146 | R8: 137 | S8: 45 | T8: 150 | U8: 56 | V8: 58 | W8: 88 | X8: 40 | Y8: 53 | Z8: 52 | AA8: 35 | AB8: 37 | AC8: 34 | AD8: 37 | AE8: 20 | AF8: 70 | AG8: 210 | AH8: 50 | AI8: 34 | AJ8: 55 | AK8: 54 | AL8: 28 | AM8: 60 | AN8: 54 | AO8: 67 | AP8: 26 | AQ8: 26 | AR8: 26 | AS8: 26 | AT8: 220 | AU8: 380 | AV8: 39 | AW8: 23 | AX8: 91 | AY8: 91 | AZ8: 83 | BA8: 63 | BB8: 68 | BC8: 64 | BD8: 105 | BE8: 107 | BF8: 50 | BG8: 39 | BH8: 27 | BI8: 27 | BJ8: 24
C9: Sleeping Room | D9: Function space
A10: Date | B10: Dow | C10: Net SR Avail Rooms | D10: Net FS Avail % | E10: Citywide Event | F10: Commit Sqr. ft | BL10: Date | BM10: Dow | BN10: % Function Space Available | BO10: Sleeping Room Available
A11: =datas!A11 -> 42064 | B11: =datas!B11 -> Sun | C11: =datas!C11 -> 427 | D11: =datas!D11 -> 25 | F11: =datas!F11 -> 10465 | G11: =datas!I11 -> X | H11: =datas!T11 -> X | I11: =datas!S11 -> X | J11: =datas!R11 -> X | K11: =datas!K11 -> X | L11: =datas!Q11 -> X | M11: =datas!H11 -> X | N11: =datas!J11 -> X | O11: =datas!L11 -> X | P11: =datas!P11 -> X | Q11: =datas!N11 -> X | R11: =datas!M11 -> X | S11: =datas!O11 -> 0 | T11: =datas!G11 -> X | U11: =datas!AR11 -> X | V11: =datas!AT11 -> X | W11: =datas!AG11 -> X | X11: =datas!AI11 -> X | Y11: =datas!AJ11 -> X | Z11: =datas!AO11 -> X | AA11: =datas!AN11 -> X | AB11: =datas!AH11 -> X | AC11: =datas!AS11 -> X | AD11: =datas!AQ11 -> X | AE11: =datas!AP11 -> X | AF11: =datas!AL11 -> X | AG11: =datas!AM11 -> X | AH11: =datas!BJ11 -> 0 | AI11: =datas!AE11 -> 0 | AJ11: =datas!AC11 -> 0 | AK11: =datas!W11 -> 0 | AL11: =datas!AF11 -> 0 | AM11: =datas!V11 -> 0 | AN11: =datas!AD11 -> 0 | AO11: =datas!Y11 -> 0 | AP11: =datas!AA11 -> 0 | AQ11: =datas!X11 -> 0 | AR11: =datas!AB11 -> X | AS11: =datas!U11 -> X | AT11: =datas!Z11 -> 0 | AU11: =datas!BH11 -> 0 | AV11: =datas!BI11 -> X | AW11: =datas!BG11 -> X | AX11: =datas!BE11 -> X | AY11: =datas!BB11 -> X | AZ11: =datas!AZ11 -> 0 | BA11: =datas!AU11 -> X | BB11: =datas!AY11 -> 0 | BC11: =datas!BC11 -> 0 | BD11: =datas!BF11 -> 0 | BE11: =datas!BA11 -> 0 | BF11: =datas!AY11 -> 0 | BG11: =datas!AK11 -> X | BH11: =datas!AX11 -> X | BI11: =datas!AW11 -> X | BJ11: =datas!AV11 -> 0 | BL11: =A11 -> 42064 | BM11: =B11 -> Sun | BN11: =D11 -> 25 | BO11: =C11 -> 427 | BP11: =IF(D11<=$BU$1,$BT$1,IF(AND(D11>$BU$1,D11<=$BU$2),$BT$2,IF(AND(D11>$BU$2,D11<=$BU$3),$BT$3,IF(AND(D11>$BU$3,D11<=$BU$4),$BT$4,IF(D11>$BU$4,$BT$5,""))))) -> HIGH | BQ11: =IF(C11>=$BV$1,"LOW",IF(AND(C11<$BV$1,C11>=$BV$2),"MEDIUM",IF(AND(C11<$BV$2,C11>=$BV$3),"MEDIUM HIGH",IF(AND(C11<$BV$3,C11>=$BV$4),"HIGH",IF(AND(C11<$BV$4,C11>=$BV$5),"VERY HIGH",IF(C11<$BV$5,"FULL","")))))) -> MEDIUM
A12: =datas!A12 -> 42065 | B12: =datas!B12 -> Mon | C12: =datas!C12 -> 169 | D12: =datas!D12 -> 21 | F12: =datas!F12 -> 11037 | G12: =datas!I12 -> X | H12: =datas!T12 -> X | I12: =datas!S12 -> X | J12: =datas!R12 -> X | K12: =datas!K12 -> X | L12: =datas!Q12 -> X | M12: =datas!H12 -> X | N12: =datas!J12 -> X | O12: =datas!L12 -> X | P12: =datas!P12 -> X | Q12: =datas!N12 -> X | R12: =datas!M12 -> X | S12: =datas!O12 -> 0 | T12: =datas!G12 -> X | U12: =datas!AR12 -> X | V12: =datas!AT12 -> X | W12: =datas!AG12 -> X | X12: =datas!AI12 -> X | Y12: =datas!AJ12 -> X | Z12: =datas!AO12 -> X | AA12: =datas!AN12 -> X | AB12: =datas!AH12 -> X | AC12: =datas!AS12 -> X | AD12: =datas!AQ12 -> X | AE12: =datas!AP12 -> X | AF12: =datas!AL12 -> X | AG12: =datas!AM12 -> X | AH12: =datas!BJ12 -> X | AI12: =datas!AE12 -> 0 | AJ12: =datas!AC12 -> X | AK12: =datas!W12 -> 0 | AL12: =datas!AF12 -> X | AM12: =datas!V12 -> 0 | AN12: =datas!AD12 -> 0 | AO12: =datas!Y12 -> 0 | AP12: =datas!AA12 -> 0 | AQ12: =datas!X12 -> 0 | AR12: =datas!AB12 -> X | AS12: =datas!U12 -> X | AT12: =datas!Z12 -> 0 | AU12: =datas!BH12 -> 0 | AV12: =datas!BI12 -> X | AW12: =datas!BG12 -> X | AX12: =datas!BE12 -> X | AY12: =datas!BB12 -> X | AZ12: =datas!AZ12 -> 0 | BA12: =datas!AU12 -> X | BB12: =datas!AY12 -> 0 | BC12: =datas!BC12 -> 0 | BD12: =datas!BF12 -> X | BE12: =datas!BA12 -> X | BF12: =datas!AY12 -> 0 | BG12: =datas!AK12 -> X | BH12: =datas!AX12 -> X | BI12: =datas!AW12 -> X | BJ12: =datas!AV12 -> 0 | BL12: =A12 -> 42065 | BM12: =B12 -> Mon | BN12: =D12 -> 21 | BO12: =C12 -> 169 | BP12: =IF(D12<=$BU$1,$BT$1,IF(AND(D12>$BU$1,D12<=$BU$2),$BT$2,IF(AND(D12>$BU$2,D12<=$BU$3),$BT$3,IF(AND(D12>$BU$3,D12<=$BU$4),$BT$4,IF(D12>$BU$4,$BT$5,""))))) -> HIGH | BQ12: =IF(C12>=$BV$1,"LOW",IF(AND(C12<$BV$1,C12>=$BV$2),"MEDIUM",IF(AND(C12<$BV$2,C12>=$BV$3),"MEDIUM HIGH",IF(AND(C12<$BV$3,C12>=$BV$4),"HIGH",IF(AND(C12<$BV$4,C12>=$BV$5),"VERY HIGH",IF(C12<$BV$5,"FULL","")))))) -> HIGH
A13: =datas!A13 -> 42066 | B13: =datas!B13 -> Tue | C13: =datas!C13 -> 166 | D13: =datas!D13 -> 2 | F13: =datas!F13 -> 13562 | G13: =datas!I13 -> X | H13: =datas!T13 -> X | I13: =datas!S13 -> X | J13: =datas!R13 -> X | K13: =datas!K13 -> X | L13: =datas!Q13 -> X | M13: =datas!H13 -> X | N13: =datas!J13 -> X | O13: =datas!L13 -> X | P13: =datas!P13 -> X | Q13: =datas!N13 -> X | R13: =datas!M13 -> X | S13: =datas!O13 -> 0 | T13: =datas!G13 -> X | U13: =datas!AR13 -> X | V13: =datas!AT13 -> X | W13: =datas!AG13 -> X | X13: =datas!AI13 -> X | Y13: =datas!AJ13 -> X | Z13: =datas!AO13 -> X | AA13: =datas!AN13 -> X | AB13: =datas!AH13 -> X | AC13: =datas!AS13 -> X | AD13: =datas!AQ13 -> X | AE13: =datas!AP13 -> X | AF13: =datas!AL13 -> X | AG13: =datas!AM13 -> X | AH13: =datas!BJ13 -> 0 | AI13: =datas!AE13 -> X | AJ13: =datas!AC13 -> X | AK13: =datas!W13 -> 0 | AL13: =datas!AF13 -> X | AM13: =datas!V13 -> X | AN13: =datas!AD13 -> X | AO13: =datas!Y13 -> X | AP13: =datas!AA13 -> 0 | AQ13: =datas!X13 -> 0 | AR13: =datas!AB13 -> X | AS13: =datas!U13 -> X | AT13: =datas!Z13 -> 0 | AU13: =datas!BH13 -> X | AV13: =datas!BI13 -> X | AW13: =datas!BG13 -> X | AX13: =datas!BE13 -> X | AY13: =datas!BB13 -> X | AZ13: =datas!AZ13 -> 0 | BA13: =datas!AU13 -> X | BB13: =datas!AY13 -> 0 | BC13: =datas!BC13 -> 0 | BD13: =datas!BF13 -> 0 | BE13: =datas!BA13 -> 0 | BF13: =datas!AY13 -> 0 | BG13: =datas!AK13 -> X | BH13: =datas!AX13 -> X | BI13: =datas!AW13 -> X | BJ13: =datas!AV13 -> 0 | BL13: =A13 -> 42066 | BM13: =B13 -> Tue | BN13: =D13 -> 2 | BO13: =C13 -> 166 | BP13: =IF(D13<=$BU$1,$BT$1,IF(AND(D13>$BU$1,D13<=$BU$2),$BT$2,IF(AND(D13>$BU$2,D13<=$BU$3),$BT$3,IF(AND(D13>$BU$3,D13<=$BU$4),$BT$4,IF(D13>$BU$4,$BT$5,""))))) -> FULL | BQ13: =IF(C13>=$BV$1,"LOW",IF(AND(C13<$BV$1,C13>=$BV$2),"MEDIUM",IF(AND(C13<$BV$2,C13>=$BV$3),"MEDIUM HIGH",IF(AND(C13<$BV$3,C13>=$BV$4),"HIGH",IF(AND(C13<$BV$4,C13>=$BV$5),"VERY HIGH",IF(C13<$BV$5,"FULL","")))))) -> HIGH
A14: =datas!A14 -> 42067 | B14: =datas!B14 -> Wed | C14: =datas!C14 -> 370 | D14: =datas!D14 -> 13 | F14: =datas!F14 -> 12049 | G14: =datas!I14 -> X | H14: =datas!T14 -> X | I14: =datas!S14 -> X | J14: =datas!R14 -> X | K14: =datas!K14 -> X | L14: =datas!Q14 -> X | M14: =datas!H14 -> X | N14: =datas!J14 -> X | O14: =datas!L14 -> X | P14: =datas!P14 -> X | Q14: =datas!N14 -> X | R14: =datas!M14 -> X | S14: =datas!O14 -> 0 | T14: =datas!G14 -> 0 | U14: =datas!AR14 -> X | V14: =datas!AT14 -> X | W14: =datas!AG14 -> X | X14: =datas!AI14 -> X | Y14: =datas!AJ14 -> X | Z14: =datas!AO14 -> X | AA14: =datas!AN14 -> X | AB14: =datas!AH14 -> X | AC14: =datas!AS14 -> X | AD14: =datas!AQ14 -> X | AE14: =datas!AP14 -> X | AF14: =datas!AL14 -> X | AG14: =datas!AM14 -> X | AH14: =datas!BJ14 -> X | AI14: =datas!AE14 -> X | AJ14: =datas!AC14 -> 0 | AK14: =datas!W14 -> 0 | AL14: =datas!AF14 -> 0 | AM14: =datas!V14 -> X | AN14: =datas!AD14 -> X | AO14: =datas!Y14 -> X | AP14: =datas!AA14 -> 0 | AQ14: =datas!X14 -> 0 | AR14: =datas!AB14 -> X | AS14: =datas!U14 -> X | AT14: =datas!Z14 -> 0 | AU14: =datas!BH14 -> 0 | AV14: =datas!BI14 -> 0 | AW14: =datas!BG14 -> X | AX14: =datas!BE14 -> X | AY14: =datas!BB14 -> X | AZ14: =datas!AZ14 -> 0 | BA14: =datas!AU14 -> X | BB14: =datas!AY14 -> 0 | BC14: =datas!BC14 -> 0 | BD14: =datas!BF14 -> 0 | BE14: =datas!BA14 -> 0 | BF14: =datas!AY14 -> 0 | BG14: =datas!AK14 -> X | BH14: =datas!AX14 -> X | BI14: =datas!AW14 -> X | BJ14: =datas!AV14 -> 0 | BL14: =A14 -> 42067 | BM14: =B14 -> Wed | BN14: =D14 -> 13 | BO14: =C14 -> 370 | BP14: =IF(D14<=$BU$1,$BT$1,IF(AND(D14>$BU$1,D14<=$BU$2),$BT$2,IF(AND(D14>$BU$2,D14<=$BU$3),$BT$3,IF(AND(D14>$BU$3,D14<=$BU$4),$BT$4,IF(D14>$BU$4,$BT$5,""))))) -> HIGH | BQ14: =IF(C14>=$BV$1,"LOW",IF(AND(C14<$BV$1,C14>=$BV$2),"MEDIUM",IF(AND(C14<$BV$2,C14>=$BV$3),"MEDIUM HIGH",IF(AND(C14<$BV$3,C14>=$BV$4),"HIGH",IF(AND(C14<$BV$4,C14>=$BV$5),"VERY HIGH",IF(C14<$BV$5,"FULL","")))))) -> MEDIUM
A15: =datas!A15 -> 42068 | B15: =datas!B15 -> Thu | C15: =datas!C15 -> 189 | D15: =datas!D15 -> 49 | F15: =datas!F15 -> 7016 | G15: =datas!I15 -> X | H15: =datas!T15 -> X | I15: =datas!S15 -> X | J15: =datas!R15 -> X | K15: =datas!K15 -> X | L15: =datas!Q15 -> X | M15: =datas!H15 -> X | N15: =datas!J15 -> X | O15: =datas!L15 -> X | P15: =datas!P15 -> X | Q15: =datas!N15 -> X | R15: =datas!M15 -> X | S15: =datas!O15 -> 0 | T15: =datas!G15 -> X | U15: =datas!AR15 -> 0 | V15: =datas!AT15 -> 0 | W15: =datas!AG15 -> 0 | X15: =datas!AI15 -> 0 | Y15: =datas!AJ15 -> 0 | Z15: =datas!AO15 -> 0 | AA15: =datas!AN15 -> 0 | AB15: =datas!AH15 -> 0 | AC15: =datas!AS15 -> 0 | AD15: =datas!AQ15 -> 0 | AE15: =datas!AP15 -> X | AF15: =datas!AL15 -> X | AG15: =datas!AM15 -> 0 | AH15: =datas!BJ15 -> 0 | AI15: =datas!AE15 -> X | AJ15: =datas!AC15 -> X | AK15: =datas!W15 -> X | AL15: =datas!AF15 -> 0 | AM15: =datas!V15 -> X | AN15: =datas!AD15 -> X | AO15: =datas!Y15 -> X | AP15: =datas!AA15 -> 0 | AQ15: =datas!X15 -> 0 | AR15: =datas!AB15 -> X | AS15: =datas!U15 -> X | AT15: =datas!Z15 -> X | AU15: =datas!BH15 -> X | AV15: =datas!BI15 -> 0 | AW15: =datas!BG15 -> X | AX15: =datas!BE15 -> X | AY15: =datas!BB15 -> X | AZ15: =datas!AZ15 -> X | BA15: =datas!AU15 -> X | BB15: =datas!AY15 -> X | BC15: =datas!BC15 -> X | BD15: =datas!BF15 -> X | BE15: =datas!BA15 -> 0 | BF15: =datas!AY15 -> X | BG15: =datas!AK15 -> 0 | BH15: =datas!AX15 -> X | BI15: =datas!AW15 -> X | BJ15: =datas!AV15 -> X | BL15: =A15 -> 42068 | BM15: =B15 -> Thu | BN15: =D15 -> 49 | BO15: =C15 -> 189 | BP15: =IF(D15<=$BU$1,$BT$1,IF(AND(D15>$BU$1,D15<=$BU$2),$BT$2,IF(AND(D15>$BU$2,D15<=$BU$3),$BT$3,IF(AND(D15>$BU$3,D15<=$BU$4),$BT$4,IF(D15>$BU$4,$BT$5,""))))) -> MEDIUM | BQ15: =IF(C15>=$BV$1,"LOW",IF(AND(C15<$BV$1,C15>=$BV$2),"MEDIUM",IF(AND(C15<$BV$2,C15>=$BV$3),"MEDIUM HIGH",IF(AND(C15<$BV$3,C15>=$BV$4),"HIGH",IF(AND(C15<$BV$4,C15>=$BV$5),"VERY HIGH",IF(C15<$BV$5,"FULL","")))))) -> HIGH
A16: =datas!A16 -> 42069 | B16: =datas!B16 -> Fri | C16: =datas!C16 -> 128 | D16: =datas!D16 -> 54 | F16: =datas!F16 -> 6432 | G16: =datas!I16 -> X | H16: =datas!T16 -> X | I16: =datas!S16 -> X | J16: =datas!R16 -> 0 | K16: =datas!K16 -> 0 | L16: =datas!Q16 -> 0 | M16: =datas!H16 -> 0 | N16: =datas!J16 -> 0 | O16: =datas!L16 -> X | P16: =datas!P16 -> X | Q16: =datas!N16 -> X | R16: =datas!M16 -> X | S16: =datas!O16 -> 0 | T16: =datas!G16 -> 0 | U16: =datas!AR16 -> X | V16: =datas!AT16 -> X | W16: =datas!AG16 -> X | X16: =datas!AI16 -> 0 | Y16: =datas!AJ16 -> X | Z16: =datas!AO16 -> X | AA16: =datas!AN16 -> X | AB16: =datas!AH16 -> X | AC16: =datas!AS16 -> X | AD16: =datas!AQ16 -> X | AE16: =datas!AP16 -> 0 | AF16: =datas!AL16 -> 0 | AG16: =datas!AM16 -> 0 | AH16: =datas!BJ16 -> X | AI16: =datas!AE16 -> X | AJ16: =datas!AC16 -> 0 | AK16: =datas!W16 -> 0 | AL16: =datas!AF16 -> 0 | AM16: =datas!V16 -> 0 | AN16: =datas!AD16 -> 0 | AO16: =datas!Y16 -> 0 | AP16: =datas!AA16 -> 0 | AQ16: =datas!X16 -> 0 | AR16: =datas!AB16 -> 0 | AS16: =datas!U16 -> 0 | AT16: =datas!Z16 -> 0 | AU16: =datas!BH16 -> X | AV16: =datas!BI16 -> 0 | AW16: =datas!BG16 -> X | AX16: =datas!BE16 -> X | AY16: =datas!BB16 -> X | AZ16: =datas!AZ16 -> X | BA16: =datas!AU16 -> X | BB16: =datas!AY16 -> X | BC16: =datas!BC16 -> X | BD16: =datas!BF16 -> X | BE16: =datas!BA16 -> X | BF16: =datas!AY16 -> X | BG16: =datas!AK16 -> X | BH16: =datas!AX16 -> X | BI16: =datas!AW16 -> X | BJ16: =datas!AV16 -> X | BL16: =A16 -> 42069 | BM16: =B16 -> Fri | BN16: =D16 -> 54 | BO16: =C16 -> 128 | BP16: =IF(D16<=$BU$1,$BT$1,IF(AND(D16>$BU$1,D16<=$BU$2),$BT$2,IF(AND(D16>$BU$2,D16<=$BU$3),$BT$3,IF(AND(D16>$BU$3,D16<=$BU$4),$BT$4,IF(D16>$BU$4,$BT$5,""))))) -> LOW | BQ16: =IF(C16>=$BV$1,"LOW",IF(AND(C16<$BV$1,C16>=$BV$2),"MEDIUM",IF(AND(C16<$BV$2,C16>=$BV$3),"MEDIUM HIGH",IF(AND(C16<$BV$3,C16>=$BV$4),"HIGH",IF(AND(C16<$BV$4,C16>=$BV$5),"VERY HIGH",IF(C16<$BV$5,"FULL","")))))) -> HIGH
A17: =datas!A17 -> 42070 | B17: =datas!B17 -> Sat | C17: =datas!C17 -> 304 | D17: =datas!D17 -> 34 | F17: =datas!F17 -> 9141 | G17: =datas!I17 -> X | H17: =datas!T17 -> X | I17: =datas!S17 -> X | J17: =datas!R17 -> X | K17: =datas!K17 -> X | L17: =datas!Q17 -> X | M17: =datas!H17 -> 0 | N17: =datas!J17 -> 0 | O17: =datas!L17 -> X | P17: =datas!P17 -> X | Q17: =datas!N17 -> X | R17: =datas!M17 -> X | S17: =datas!O17 -> 0 | T17: =datas!G17 -> X | U17: =datas!AR17 -> 0 | V17: =datas!AT17 -> 0 | W17: =datas!AG17 -> X | X17: =datas!AI17 -> 0 | Y17: =datas!AJ17 -> X | Z17: =datas!AO17 -> X | AA17: =datas!AN17 -> X | AB17: =datas!AH17 -> X | AC17: =datas!AS17 -> X | AD17: =datas!AQ17 -> X | AE17: =datas!AP17 -> 0 | AF17: =datas!AL17 -> 0 | AG17: =datas!AM17 -> 0 | AH17: =datas!BJ17 -> X | AI17: =datas!AE17 -> 0 | AJ17: =datas!AC17 -> 0 | AK17: =datas!W17 -> 0 | AL17: =datas!AF17 -> 0 | AM17: =datas!V17 -> 0 | AN17: =datas!AD17 -> 0 | AO17: =datas!Y17 -> 0 | AP17: =datas!AA17 -> 0 | AQ17: =datas!X17 -> 0 | AR17: =datas!AB17 -> 0 | AS17: =datas!U17 -> 0 | AT17: =datas!Z17 -> 0 | AU17: =datas!BH17 -> X | AV17: =datas!BI17 -> 0 | AW17: =datas!BG17 -> 0 | AX17: =datas!BE17 -> X | AY17: =datas!BB17 -> X | AZ17: =datas!AZ17 -> X | BA17: =datas!AU17 -> X | BB17: =datas!AY17 -> X | BC17: =datas!BC17 -> X | BD17: =datas!BF17 -> 0 | BE17: =datas!BA17 -> 0 | BF17: =datas!AY17 -> X | BG17: =datas!AK17 -> X | BH17: =datas!AX17 -> X | BI17: =datas!AW17 -> X | BJ17: =datas!AV17 -> X | BL17: =A17 -> 42070 | BM17: =B17 -> Sat | BN17: =D17 -> 34 | BO17: =C17 -> 304 | BP17: =IF(D17<=$BU$1,$BT$1,IF(AND(D17>$BU$1,D17<=$BU$2),$BT$2,IF(AND(D17>$BU$2,D17<=$BU$3),$BT$3,IF(AND(D17>$BU$3,D17<=$BU$4),$BT$4,IF(D17>$BU$4,$BT$5,""))))) -> MEDIUM | BQ17: =IF(C17>=$BV$1,"LOW",IF(AND(C17<$BV$1,C17>=$BV$2),"MEDIUM",IF(AND(C17<$BV$2,C17>=$BV$3),"MEDIUM HIGH",IF(AND(C17<$BV$3,C17>=$BV$4),"HIGH",IF(AND(C17<$BV$4,C17>=$BV$5),"VERY HIGH",IF(C17<$BV$5,"FULL","")))))) -> MEDIUM HIGH
A18: =datas!A18 -> 42071 | B18: =datas!B18 -> Sun | C18: =datas!C18 -> 76 | D18: =datas!D18 -> 67 | F18: =datas!F18 -> 4547 | G18: =datas!I18 -> X | H18: =datas!T18 -> X | I18: =datas!S18 -> X | J18: =datas!R18 -> X | K18: =datas!K18 -> X | L18: =datas!Q18 -> X | M18: =datas!H18 -> 0 | N18: =datas!J18 -> 0 | O18: =datas!L18 -> X | P18: =datas!P18 -> X | Q18: =datas!N18 -> X | R18: =datas!M18 -> X | S18: =datas!O18 -> 0 | T18: =datas!G18 -> 0 | U18: =datas!AR18 -> X | V18: =datas!AT18 -> X | W18: =datas!AG18 -> X | X18: =datas!AI18 -> 0 | Y18: =datas!AJ18 -> X | Z18: =datas!AO18 -> X | AA18: =datas!AN18 -> X | AB18: =datas!AH18 -> X | AC18: =datas!AS18 -> X | AD18: =datas!AQ18 -> X | AE18: =datas!AP18 -> 0 | AF18: =datas!AL18 -> 0 | AG18: =datas!AM18 -> 0 | AH18: =datas!BJ18 -> X | AI18: =datas!AE18 -> 0 | AJ18: =datas!AC18 -> X | AK18: =datas!W18 -> X | AL18: =datas!AF18 -> 0 | AM18: =datas!V18 -> 0 | AN18: =datas!AD18 -> 0 | AO18: =datas!Y18 -> X | AP18: =datas!AA18 -> X | AQ18: =datas!X18 -> X | AR18: =datas!AB18 -> X | AS18: =datas!U18 -> X | AT18: =datas!Z18 -> 0 | AU18: =datas!BH18 -> 0 | AV18: =datas!BI18 -> 0 | AW18: =datas!BG18 -> 0 | AX18: =datas!BE18 -> X | AY18: =datas!BB18 -> X | AZ18: =datas!AZ18 -> 0 | BA18: =datas!AU18 -> X | BB18: =datas!AY18 -> 0 | BC18: =datas!BC18 -> X | BD18: =datas!BF18 -> X | BE18: =datas!BA18 -> X | BF18: =datas!AY18 -> 0 | BG18: =datas!AK18 -> X | BH18: =datas!AX18 -> X | BI18: =datas!AW18 -> X | BJ18: =datas!AV18 -> 0 | BL18: =A18 -> 42071 | BM18: =B18 -> Sun | BN18: =D18 -> 67 | BO18: =C18 -> 76 | BP18: =IF(D18<=$BU$1,$BT$1,IF(AND(D18>$BU$1,D18<=$BU$2),$BT$2,IF(AND(D18>$BU$2,D18<=$BU$3),$BT$3,IF(AND(D18>$BU$3,D18<=$BU$4),$BT$4,IF(D18>$BU$4,$BT$5,""))))) -> LOW | BQ18: =IF(C18>=$BV$1,"LOW",IF(AND(C18<$BV$1,C18>=$BV$2),"MEDIUM",IF(AND(C18<$BV$2,C18>=$BV$3),"MEDIUM HIGH",IF(AND(C18<$BV$3,C18>=$BV$4),"HIGH",IF(AND(C18<$BV$4,C18>=$BV$5),"VERY HIGH",IF(C18<$BV$5,"FULL","")))))) -> VERY HIGH
A19: =datas!A19 -> 42072 | B19: =datas!B19 -> Mon | C19: =datas!C19 -> 18 | D19: =datas!D19 -> 87 | F19: =datas!F19 -> 1779 | G19: =datas!I19 -> 0 | H19: =datas!T19 -> 0 | I19: =datas!S19 -> 0 | J19: =datas!R19 -> 0 | K19: =datas!K19 -> 0 | L19: =datas!Q19 -> 0 | M19: =datas!H19 -> 0 | N19: =datas!J19 -> X | O19: =datas!L19 -> 0 | P19: =datas!P19 -> 0 | Q19: =datas!N19 -> 0 | R19: =datas!M19 -> 0 | S19: =datas!O19 -> 0 | T19: =datas!G19 -> 0 | U19: =datas!AR19 -> 0 | V19: =datas!AT19 -> 0 | W19: =datas!AG19 -> 0 | X19: =datas!AI19 -> 0 | Y19: =datas!AJ19 -> 0 | Z19: =datas!AO19 -> 0 | AA19: =datas!AN19 -> 0 | AB19: =datas!AH19 -> 0 | AC19: =datas!AS19 -> 0 | AD19: =datas!AQ19 -> 0 | AE19: =datas!AP19 -> 0 | AF19: =datas!AL19 -> 0 | AG19: =datas!AM19 -> 0 | AH19: =datas!BJ19 -> X | AI19: =datas!AE19 -> X | AJ19: =datas!AC19 -> 0 | AK19: =datas!W19 -> 0 | AL19: =datas!AF19 -> X | AM19: =datas!V19 -> 0 | AN19: =datas!AD19 -> 0 | AO19: =datas!Y19 -> 0 | AP19: =datas!AA19 -> 0 | AQ19: =datas!X19 -> 0 | AR19: =datas!AB19 -> 0 | AS19: =datas!U19 -> 0 | AT19: =datas!Z19 -> 0 | AU19: =datas!BH19 -> X | AV19: =datas!BI19 -> X | AW19: =datas!BG19 -> 0 | AX19: =datas!BE19 -> X | AY19: =datas!BB19 -> X | AZ19: =datas!AZ19 -> X | BA19: =datas!AU19 -> 0 | BB19: =datas!AY19 -> 0 | BC19: =datas!BC19 -> X | BD19: =datas!BF19 -> X | BE19: =datas!BA19 -> X | BF19: =datas!AY19 -> 0 | BG19: =datas!AK19 -> 0 | BH19: =datas!AX19 -> X | BI19: =datas!AW19 -> X | BJ19: =datas!AV19 -> X | BL19: =A19 -> 42072 | BM19: =B19 -> Mon | BN19: =D19 -> 87 | BO19: =C19 -> 18 | BP19: =IF(D19<=$BU$1,$BT$1,IF(AND(D19>$BU$1,D19<=$BU$2),$BT$2,IF(AND(D19>$BU$2,D19<=$BU$3),$BT$3,IF(AND(D19>$BU$3,D19<=$BU$4),$BT$4,IF(D19>$BU$4,$BT$5,""))))) -> FREE SELL | BQ19: =IF(C19>=$BV$1,"LOW",IF(AND(C19<$BV$1,C19>=$BV$2),"MEDIUM",IF(AND(C19<$BV$2,C19>=$BV$3),"MEDIUM HIGH",IF(AND(C19<$BV$3,C19>=$BV$4),"HIGH",IF(AND(C19<$BV$4,C19>=$BV$5),"VERY HIGH",IF(C19<$BV$5,"FULL","")))))) -> FULL
A20: =datas!A20 -> 42073 | B20: =datas!B20 -> Tue | C20: =datas!C20 -> 23 | D20: =datas!D20 -> 88 | F20: =datas!F20 -> 1710 | G20: =datas!I20 -> X | H20: =datas!T20 -> 0 | I20: =datas!S20 -> 0 | J20: =datas!R20 -> 0 | K20: =datas!K20 -> 0 | L20: =datas!Q20 -> 0 | M20: =datas!H20 -> 0 | N20: =datas!J20 -> X | O20: =datas!L20 -> 0 | P20: =datas!P20 -> 0 | Q20: =datas!N20 -> 0 | R20: =datas!M20 -> 0 | S20: =datas!O20 -> X | T20: =datas!G20 -> 0 | U20: =datas!AR20 -> 0 | V20: =datas!AT20 -> 0 | W20: =datas!AG20 -> 0 | X20: =datas!AI20 -> 0 | Y20: =datas!AJ20 -> 0 | Z20: =datas!AO20 -> 0 | AA20: =datas!AN20 -> 0 | AB20: =datas!AH20 -> 0 | AC20: =datas!AS20 -> 0 | AD20: =datas!AQ20 -> 0 | AE20: =datas!AP20 -> 0 | AF20: =datas!AL20 -> 0 | AG20: =datas!AM20 -> 0 | AH20: =datas!BJ20 -> X | AI20: =datas!AE20 -> 0 | AJ20: =datas!AC20 -> 0 | AK20: =datas!W20 -> 0 | AL20: =datas!AF20 -> X | AM20: =datas!V20 -> 0 | AN20: =datas!AD20 -> 0 | AO20: =datas!Y20 -> 0 | AP20: =datas!AA20 -> 0 | AQ20: =datas!X20 -> 0 | AR20: =datas!AB20 -> 0 | AS20: =datas!U20 -> 0 | AT20: =datas!Z20 -> 0 | AU20: =datas!BH20 -> 0 | AV20: =datas!BI20 -> X | AW20: =datas!BG20 -> 0 | AX20: =datas!BE20 -> X | AY20: =datas!BB20 -> X | AZ20: =datas!AZ20 -> X | BA20: =datas!AU20 -> 0 | BB20: =datas!AY20 -> 0 | BC20: =datas!BC20 -> 0 | BD20: =datas!BF20 -> X | BE20: =datas!BA20 -> X | BF20: =datas!AY20 -> 0 | BG20: =datas!AK20 -> 0 | BH20: =datas!AX20 -> X | BI20: =datas!AW20 -> X | BJ20: =datas!AV20 -> X | BL20: =A20 -> 42073 | BM20: =B20 -> Tue | BN20: =D20 -> 88 | BO20: =C20 -> 23 | BP20: =IF(D20<=$BU$1,$BT$1,IF(AND(D20>$BU$1,D20<=$BU$2),$BT$2,IF(AND(D20>$BU$2,D20<=$BU$3),$BT$3,IF(AND(D20>$BU$3,D20<=$BU$4),$BT$4,IF(D20>$BU$4,$BT$5,""))))) -> FREE SELL | BQ20: =IF(C20>=$BV$1,"LOW",IF(AND(C20<$BV$1,C20>=$BV$2),"MEDIUM",IF(AND(C20<$BV$2,C20>=$BV$3),"MEDIUM HIGH",IF(AND(C20<$BV$3,C20>=$BV$4),"HIGH",IF(AND(C20<$BV$4,C20>=$BV$5),"VERY HIGH",IF(C20<$BV$5,"FULL","")))))) -> FULL
A21: =datas!A21 -> 42074 | B21: =datas!B21 -> Wed | C21: =datas!C21 -> 125 | D21: =datas!D21 -> 92 | F21: =datas!F21 -> 1119 | G21: =datas!I21 -> 0 | H21: =datas!T21 -> 0 | I21: =datas!S21 -> 0 | J21: =datas!R21 -> 0 | K21: =datas!K21 -> 0 | L21: =datas!Q21 -> 0 | M21: =datas!H21 -> 0 | N21: =datas!J21 -> X | O21: =datas!L21 -> 0 | P21: =datas!P21 -> 0 | Q21: =datas!N21 -> 0 | R21: =datas!M21 -> 0 | S21: =datas!O21 -> 0 | T21: =datas!G21 -> 0 | U21: =datas!AR21 -> X | V21: =datas!AT21 -> X | W21: =datas!AG21 -> X | X21: =datas!AI21 -> 0 | Y21: =datas!AJ21 -> 0 | Z21: =datas!AO21 -> 0 | AA21: =datas!AN21 -> 0 | AB21: =datas!AH21 -> 0 | AC21: =datas!AS21 -> 0 | AD21: =datas!AQ21 -> 0 | AE21: =datas!AP21 -> 0 | AF21: =datas!AL21 -> 0 | AG21: =datas!AM21 -> 0 | AH21: =datas!BJ21 -> X | AI21: =datas!AE21 -> 0 | AJ21: =datas!AC21 -> 0 | AK21: =datas!W21 -> 0 | AL21: =datas!AF21 -> X | AM21: =datas!V21 -> 0 | AN21: =datas!AD21 -> 0 | AO21: =datas!Y21 -> 0 | AP21: =datas!AA21 -> 0 | AQ21: =datas!X21 -> 0 | AR21: =datas!AB21 -> 0 | AS21: =datas!U21 -> 0 | AT21: =datas!Z21 -> 0 | AU21: =datas!BH21 -> 0 | AV21: =datas!BI21 -> 0 | AW21: =datas!BG21 -> 0 | AX21: =datas!BE21 -> X | AY21: =datas!BB21 -> X | AZ21: =datas!AZ21 -> X | BA21: =datas!AU21 -> 0 | BB21: =datas!AY21 -> 0 | BC21: =datas!BC21 -> 0 | BD21: =datas!BF21 -> 0 | BE21: =datas!BA21 -> X | BF21: =datas!AY21 -> 0 | BG21: =datas!AK21 -> 0 | BH21: =datas!AX21 -> X | BI21: =datas!AW21 -> X | BJ21: =datas!AV21 -> X | BL21: =A21 -> 42074 | BM21: =B21 -> Wed | BN21: =D21 -> 92 | BO21: =C21 -> 125 | BP21: =IF(D21<=$BU$1,$BT$1,IF(AND(D21>$BU$1,D21<=$BU$2),$BT$2,IF(AND(D21>$BU$2,D21<=$BU$3),$BT$3,IF(AND(D21>$BU$3,D21<=$BU$4),$BT$4,IF(D21>$BU$4,$BT$5,""))))) -> FREE SELL | BQ21: =IF(C21>=$BV$1,"LOW",IF(AND(C21<$BV$1,C21>=$BV$2),"MEDIUM",IF(AND(C21<$BV$2,C21>=$BV$3),"MEDIUM HIGH",IF(AND(C21<$BV$3,C21>=$BV$4),"HIGH",IF(AND(C21<$BV$4,C21>=$BV$5),"VERY HIGH",IF(C21<$BV$5,"FULL","")))))) -> HIGH
A22: =datas!A22 -> 42075 | B22: =datas!B22 -> Thu | C22: =datas!C22 -> 336 | D22: =datas!D22 -> 28 | F22: =datas!F22 -> 9972 | G22: =datas!I22 -> X | H22: =datas!T22 -> X | I22: =datas!S22 -> X | J22: =datas!R22 -> X | K22: =datas!K22 -> X | L22: =datas!Q22 -> X | M22: =datas!H22 -> X | N22: =datas!J22 -> X | O22: =datas!L22 -> X | P22: =datas!P22 -> X | Q22: =datas!N22 -> X | R22: =datas!M22 -> 0 | S22: =datas!O22 -> X | T22: =datas!G22 -> 0 | U22: =datas!AR22 -> X | V22: =datas!AT22 -> X | W22: =datas!AG22 -> X | X22: =datas!AI22 -> 0 | Y22: =datas!AJ22 -> X | Z22: =datas!AO22 -> X | AA22: =datas!AN22 -> X | AB22: =datas!AH22 -> X | AC22: =datas!AS22 -> X | AD22: =datas!AQ22 -> X | AE22: =datas!AP22 -> 0 | AF22: =datas!AL22 -> 0 | AG22: =datas!AM22 -> X | AH22: =datas!BJ22 -> 0 | AI22: =datas!AE22 -> 0 | AJ22: =datas!AC22 -> X | AK22: =datas!W22 -> X | AL22: =datas!AF22 -> X | AM22: =datas!V22 -> X | AN22: =datas!AD22 -> X | AO22: =datas!Y22 -> 0 | AP22: =datas!AA22 -> X | AQ22: =datas!X22 -> X | AR22: =datas!AB22 -> X | AS22: =datas!U22 -> X | AT22: =datas!Z22 -> 0 | AU22: =datas!BH22 -> X | AV22: =datas!BI22 -> 0 | AW22: =datas!BG22 -> 0 | AX22: =datas!BE22 -> X | AY22: =datas!BB22 -> X | AZ22: =datas!AZ22 -> X | BA22: =datas!AU22 -> X | BB22: =datas!AY22 -> 0 | BC22: =datas!BC22 -> X | BD22: =datas!BF22 -> X | BE22: =datas!BA22 -> X | BF22: =datas!AY22 -> 0 | BG22: =datas!AK22 -> X | BH22: =datas!AX22 -> X | BI22: =datas!AW22 -> X | BJ22: =datas!AV22 -> 0 | BL22: =A22 -> 42075 | BM22: =B22 -> Thu | BN22: =D22 -> 28 | BO22: =C22 -> 336 | BP22: =IF(D22<=$BU$1,$BT$1,IF(AND(D22>$BU$1,D22<=$BU$2),$BT$2,IF(AND(D22>$BU$2,D22<=$BU$3),$BT$3,IF(AND(D22>$BU$3,D22<=$BU$4),$BT$4,IF(D22>$BU$4,$BT$5,""))))) -> MEDIUM | BQ22: =IF(C22>=$BV$1,"LOW",IF(AND(C22<$BV$1,C22>=$BV$2),"MEDIUM",IF(AND(C22<$BV$2,C22>=$BV$3),"MEDIUM HIGH",IF(AND(C22<$BV$3,C22>=$BV$4),"HIGH",IF(AND(C22<$BV$4,C22>=$BV$5),"VERY HIGH",IF(C22<$BV$5,"FULL","")))))) -> MEDIUM HIGH
... A316: =datas!A316 -> 42369 | B316: =datas!B316 -> Thu | C316: =datas!C316 -> 421 | D316: =datas!D316 -> 92 | F316: =datas!F316 -> 1119 | G316: =datas!I316 -> 0 | H316: =datas!T316 -> 0 | I316: =datas!S316 -> 0 | J316: =datas!R316 -> 0 | K316: =datas!K316 -> 0 | L316: =datas!Q316 -> 0 | M316: =datas!H316 -> 0 | N316: =datas!J316 -> 0 | O316: =datas!L316 -> 0 | P316: =datas!P316 -> 0 | Q316: =datas!N316 -> 0 | R316: =datas!M316 -> 0 | S316: =datas!O316 -> 0 | T316: =datas!G316 -> 0 | U316: =datas!AR316 -> 0 | V316: =datas!AT316 -> 0 | W316: =datas!AG316 -> 0 | X316: =datas!AI316 -> 0 | Y316: =datas!AJ316 -> 0 | Z316: =datas!AO316 -> 0 | AA316: =datas!AN316 -> 0 | AB316: =datas!AH316 -> 0 | AC316: =datas!AS316 -> 0 | AD316: =datas!AQ316 -> 0 | AE316: =datas!AP316 -> 0 | AF316: =datas!AL316 -> 0 | AG316: =datas!AM316 -> 0 | AH316: =datas!BJ316 -> 0 | AI316: =datas!AE316 -> 0 | AJ316: =datas!AC316 -> 0 | AK316: =datas!W316 -> 0 | AL316: =datas!AF316 -> 0 | AM316: =datas!V316 -> 0 | AN316: =datas!AD316 -> 0 | AO316: =datas!Y316 -> 0 | AP316: =datas!AA316 -> 0 | AQ316: =datas!X316 -> 0 | AR316: =datas!AB316 -> 0 | AS316: =datas!U316 -> 0 | AT316: =datas!Z316 -> 0 | AU316: =datas!BH316 -> 0 | AV316: =datas!BI316 -> 0 | AW316: =datas!BG316 -> 0 | AX316: =datas!BE316 -> 0 | AY316: =datas!BB316 -> 0 | AZ316: =datas!AZ316 -> 0 | BA316: =datas!AU316 -> 0 | BB316: =datas!AY316 -> 0 | BC316: =datas!BC316 -> 0 | BD316: =datas!BF316 -> 0 | BE316: =datas!BA316 -> 0 | BF316: =datas!AY316 -> 0 | BG316: =datas!AK316 -> 0 | BH316: =datas!AX316 -> 0 | BI316: =datas!AW316 -> 0 | BJ316: =datas!AV316 -> 0 | BL316: =A316 -> 42369 | BM316: =B316 -> Thu | BN316: =D316 -> 92 | BO316: =C316 -> 421 | BP316: =IF(D316<=$BU$1,$BT$1,IF(AND(D316>$BU$1,D316<=$BU$2),$BT$2,IF(AND(D316>$BU$2,D316<=$BU$3),$BT$3,IF(AND(D316>$BU$3,D316<=$BU$4),$BT$4,IF(D316>$BU$4,$BT$5,""))))) -> FREE SELL | BQ316: =IF(C316>=$BV$1,"LOW",IF(AND(C316<$BV$1,C316>=$BV$2),"MEDIUM",IF(AND(C316<$BV$2,C316>=$BV$3),"MEDIUM HIGH",IF(AND(C316<$BV$3,C316>=$BV$4),"HIGH",IF(AND(C316<$BV$4,C316>=$BV$5),"VERY HIGH",IF(C316<$BV$5,"FULL","")))))) -> MEDIUM

Sheet Sheet2
