Workbook

Sheet datas
F7: Room Name | G7: Salle 1 | H7: Salle 2 | I7: Salle 3 | J7: Salle 4 | K7: Salle 5 | L7: Salle 6 | M7: Salle 7 | N7: Salle 8 | O7: Salle 9 | P7: Salle 10 | Q7: Salle 11 | R7: Salle 12 | S7: Salle 13 | T7: Salle 14 | U7: Salle 15 | V7: Salle 16 | W7: Salle 17 | X7: Salle 18 | Y7: Salle 19 | Z7: Salle 20 | AA7: Salle 21 | AB7: Salle 22 | AC7: Salle 23 | AD7: Salle 24 | AE7: Salle 25 | AF7: Salle 26 | AG7: Salle 27 | AH7: Salle 28 | AI7: Salle 29 | AJ7: Salle 30 | AK7: Salle 31 | AL7: Salle 32 | AM7: Salle 33 | AN7: Salle 34 | AO7: Salle 35 | AP7: Salle 36 | AQ7: Salle 37 | AR7: Salle 38 | AS7: Salle 39 | AT7: Salle 40 | AU7: Salle 41 | AV7: Salle 42 | AW7: Salle 43 | AX7: Salle 44 | AY7: Salle 45 | AZ7: Salle 46 | BA7: Salle 47 | BB7: Salle 48 | BC7: Salle 49 | BD7: Salle 50 | BE7: Salle 51 | BF7: Salle 52 | BG7: Salle 53 | BH7: Salle 54 | BI7: Salle 55 | BJ7: Salle 56
F8: Sqr feet | G8: 150 | H8: 40 | I8: 222 | J8: 42 | K8: 69 | L8: 200 | M8: 137 | N8: 146 | O8: 45 | P8: 177 | Q8: 59 | R8: 63 | S8: 244 | T8: 237 | U8: 26 | V8: 60 | W8: 54 | X8: 26 | Y8: 67 | Z8: 220 | AA8: 26 | AB8: 26 | AC8: 55 | AD8: 54 | AE8: 34 | AF8: 28 | AG8: 88 | AH8: 37 | AI8: 40 | AJ8: 53 | AK8: 39 | AL8: 70 | AM8: 210 | AN8: 35 | AO8: 52 | AP8: 20 | AQ8: 37 | AR8: 56 | AS8: 34 | AT8: 58 | AU8: 63 | AV8: 24 | AW8: 27 | AX8: 27 | AY8: 50 | AZ8: 83 | BA8: 107 | BB8: 91 | BC8: 64 | BD8: 68 | BE8: 91 | BF8: 105 | BG8: 23 | BH8: 380 | BI8: 39 | BJ8: 50
A10: Date | B10: Dow | C10: Net SR Avail Rooms | D10: Net FS Avail % | E10: Citywide Event | F10: Commit Sqr. ft
A11: 42064 | B11: Sun | C11: 427 | D11: 25 | F11: 10465 | G11: X | H11: X | I11: X | J11: X | K11: X | L11: X | M11: X | N11: X | P11: X | Q11: X | R11: X | S11: X | T11: X | U11: X | AB11: X | AG11: X | AH11: X | AI11: X | AJ11: X | AK11: X | AL11: X | AM11: X | AN11: X | AO11: X | AP11: X | AQ11: X | AR11: X | AS11: X | AT11: X | AU11: X | AW11: X | AX11: X | BB11: X | BD11: X | BE11: X | BG11: X | BI11: X
A12: 42065 | B12: Mon | C12: 169 | D12: 21 | F12: 11037 | G12: X | H12: X | I12: X | J12: X | K12: X | L12: X | M12: X | N12: X | P12: X | Q12: X | R12: X | S12: X | T12: X | U12: X | AB12: X | AC12: X | AF12: X | AG12: X | AH12: X | AI12: X | AJ12: X | AK12: X | AL12: X | AM12: X | AN12: X | AO12: X | AP12: X | AQ12: X | AR12: X | AS12: X | AT12: X | AU12: X | AW12: X | AX12: X | BA12: X | BB12: X | BD12: X | BE12: X | BF12: X | BG12: X | BI12: X | BJ12: X
A13: 42066 | B13: Tue | C13: 166 | D13: 2 | F13: 13562 | G13: X | H13: X | I13: X | J13: X | K13: X | L13: X | M13: X | N13: X | P13: X | Q13: X | R13: X | S13: X | T13: X | U13: X | V13: X | Y13: X | AB13: X | AC13: X | AD13: X | AE13: X | AF13: X | AG13: X | AH13: X | AI13: X | AJ13: X | AK13: X | AL13: X | AM13: X | AN13: X | AO13: X | AP13: X | AQ13: X | AR13: X | AS13: X | AT13: X | AU13: X | AW13: X | AX13: X | BB13: X | BD13: X | BE13: X | BG13: X | BH13: X | BI13: X
A14: 42067 | B14: Wed | C14: 370 | D14: 13 | F14: 12049 | H14: X | I14: X | J14: X | K14: X | L14: X | M14: X | N14: X | P14: X | Q14: X | R14: X | S14: X | T14: X | U14: X | V14: X | Y14: X | AB14: X | AD14: X | AE14: X | AG14: X | AH14: X | AI14: X | AJ14: X | AK14: X | AL14: X | AM14: X | AN14: X | AO14: X | AP14: X | AQ14: X | AR14: X | AS14: X | AT14: X | AU14: X | AW14: X | AX14: X | BB14: X | BD14: X | BE14: X | BG14: X | BJ14: X
A15: 42068 | B15: Thu | C15: 189 | D15: 49 | F15: 7016 | G15: X | H15: X | I15: X | J15: X | K15: X | L15: X | M15: X | N15: X | P15: X | Q15: X | R15: X | S15: X | T15: X | U15: X | V15: X | W15: X | Y15: X | Z15: X | AB15: X | AC15: X | AD15: X | AE15: X | AL15: X | AP15: X | AU15: X | AV15: X | AW15: X | AX15: X | AY15: X | AZ15: X | BB15: X | BC15: X | BD15: X | BE15: X | BF15: X | BG15: X | BH15: X
A16: 42069 | B16: Fri | C16: 128 | D16: 54 | F16: 6432 | I16: X | L16: X | M16: X | N16: X | P16: X | S16: X | T16: X | AE16: X | AG16: X | AH16: X | AJ16: X | AK16: X | AN16: X | AO16: X | AQ16: X | AR16: X | AS16: X | AT16: X | AU16: X | AV16: X | AW16: X | AX16: X | AY16: X | AZ16: X | BA16: X | BB16: X | BC16: X | BD16: X | BE16: X | BF16: X | BG16: X | BH16: X | BJ16: X
A17: 42070 | B17: Sat | C17: 304 | D17: 34 | F17: 9141 | G17: X | I17: X | K17: X | L17: X | M17: X | N17: X | P17: X | Q17: X | R17: X | S17: X | T17: X | AG17: X | AH17: X | AJ17: X | AK17: X | AN17: X | AO17: X | AQ17: X | AS17: X | AU17: X | AV17: X | AW17: X | AX17: X | AY17: X | AZ17: X | BB17: X | BC17: X | BD17: X | BE17: X | BH17: X | BJ17: X
A18: 42071 | B18: Sun | C18: 76 | D18: 67 | F18: 4547 | I18: X | K18: X | L18: X | M18: X | N18: X | P18: X | Q18: X | R18: X | S18: X | T18: X | U18: X | W18: X | X18: X | Y18: X | AA18: X | AB18: X | AC18: X | AG18: X | AH18: X | AJ18: X | AK18: X | AN18: X | AO18: X | AQ18: X | AR18: X | AS18: X | AT18: X | AU18: X | AW18: X | AX18: X | BA18: X | BB18: X | BC18: X | BD18: X | BE18: X | BF18: X | BJ18: X
A19: 42072 | B19: Mon | C19: 18 | D19: 87 | F19: 1779 | J19: X | AE19: X | AF19: X | AV19: X | AW19: X | AX19: X | AZ19: X | BA19: X | BB19: X | BC19: X | BE19: X | BF19: X | BH19: X | BI19: X | BJ19: X
A20: 42073 | B20: Tue | C20: 23 | D20: 88 | F20: 1710 | I20: X | J20: X | O20: X | AF20: X | AV20: X | AW20: X | AX20: X | AZ20: X | BA20: X | BB20: X | BE20: X | BF20: X | BI20: X | BJ20: X
A21: 42074 | B21: Wed | C21: 125 | D21: 92 | F21: 1119 | J21: X | AF21: X | AG21: X | AR21: X | AT21: X | AV21: X | AW21: X | AX21: X | AZ21: X | BA21: X | BB21: X | BE21: X | BJ21: X
A22: 42075 | B22: Thu | C22: 336 | D22: 28 | F22: 9972 | H22: X | I22: X | J22: X | K22: X | L22: X | N22: X | O22: X | P22: X | Q22: X | R22: X | S22: X | T22: X | U22: X | V22: X | W22: X | X22: X | AA22: X | AB22: X | AC22: X | AD22: X | AF22: X | AG22: X | AH22: X | AJ22: X | AK22: X | AM22: X | AN22: X | AO22: X | AQ22: X | AR22: X | AS22: X | AT22: X | AU22: X | AW22: X | AX22: X | AZ22: X | BA22: X | BB22: X | BC22: X | BD22: X | BE22: X | BF22: X | BH22: X
A23: 42076 | B23: Fri | C23: 293 | D23: 89 | F23: 1528 | J23: X | AF23: X | AT23: X | BA23: X | BC23: X | BF23: X | BH23: X
A24: 42077 | B24: Sat | C24: 386 | D24: 86 | F24: 1885 | H24: X | J24: X | AE24: X | AM24: X | AR24: X | AT24: X | BG24: X | BH24: X | BJ24: X
A25: 42078 | B25: Sun | C25: 314 | D25: 91 | F25: 1310 | H25: X | J25: X | U25: X | V25: X | W25: X | X25: X | AA25: X | AB25: X | AC25: X | BA25: X | BC25: X | BG25: X
A26: 42079 | B26: Mon | C26: 112 | D26: 4 | F26: 13350 | G26: X | H26: X | I26: X | J26: X | K26: X | L26: X | M26: X | N26: X | P26: X | Q26: X | R26: X | S26: X | T26: X | V26: X | W26: X | Y26: X | Z26: X | AC26: X | AD26: X | AG26: X | AH26: X | AI26: X | AJ26: X | AK26: X | AL26: X | AM26: X | AN26: X | AO26: X | AP26: X | AQ26: X | AR26: X | AS26: X | AT26: X | AU26: X | AY26: X | AZ26: X | BA26: X | BB26: X | BC26: X | BD26: X | BE26: X | BF26: X | BG26: X | BJ26: X
A27: 42080 | B27: Tue | C27: 70 | D27: 13 | F27: 12080 | G27: X | H27: X | I27: X | J27: X | K27: X | L27: X | M27: X | N27: X | O27: X | P27: X | Q27: X | R27: X | S27: X | T27: X | U27: X | V27: X | W27: X | X27: X | Y27: X | Z27: X | AA27: X | AB27: X | AC27: X | AD27: X | AE27: X | AF27: X | AG27: X | AH27: X | AI27: X | AJ27: X | AK27: X | AL27: X | AM27: X | AN27: X | AO27: X | AP27: X | AQ27: X | AR27: X | AS27: X | AT27: X | AU27: X | AV27: X | AW27: X | AX27: X | AY27: X | AZ27: X | BA27: X | BB27: X | BC27: X | BD27: X | BE27: X | BF27: X | BG27: X | BJ27: X
A28: 42081 | B28: Wed | C28: 45 | D28: 13 | F28: 12058 | G28: X | H28: X | I28: X | J28: X | K28: X | L28: X | M28: X | N28: X | O28: X | P28: X | Q28: X | R28: X | S28: X | T28: X | U28: X | V28: X | W28: X | X28: X | Y28: X | Z28: X | AA28: X | AB28: X | AC28: X | AD28: X | AE28: X | AF28: X | AG28: X | AH28: X | AI28: X | AJ28: X | AK28: X | AL28: X | AM28: X | AN28: X | AO28: X | AP28: X | AQ28: X | AR28: X | AS28: X | AT28: X | AU28: X | AV28: X | AW28: X | AX28: X | AY28: X | AZ28: X | BA28: X | BB28: X | BC28: X | BD28: X | BE28: X | BF28: X | BG28: X | BJ28: X
A29: 42082 | B29: Thu | C29: 64 | D29: 12 | F29: 12156 | G29: X | H29: X | I29: X | J29: X | K29: X | L29: X | M29: X | N29: X | O29: X | P29: X | Q29: X | R29: X | S29: X | T29: X | U29: X | V29: X | W29: X | X29: X | Y29: X | Z29: X | AA29: X | AB29: X | AC29: X | AD29: X | AE29: X | AF29: X | AG29: X | AH29: X | AI29: X | AJ29: X | AK29: X | AL29: X | AM29: X | AN29: X | AO29: X | AP29: X | AQ29: X | AR29: X | AS29: X | AT29: X | AU29: X | AV29: X | AW29: X | AX29: X | AY29: X | AZ29: X | BA29: X | BB29: X | BC29: X | BD29: X | BE29: X | BF29: X | BG29: X | BI29: X | BJ29: X
A30: 42083 | B30: Fri | C30: 224 | D30: 15 | F30: 11814 | G30: X | H30: X | I30: X | J30: X | K30: X | L30: X | M30: X | N30: X | O30: X | P30: X | Q30: X | R30: X | S30: X | T30: X | U30: X | V30: X | X30: X | Y30: X | Z30: X | AA30: X | AB30: X | AC30: X | AD30: X | AE30: X | AF30: X | AG30: X | AH30: X | AI30: X | AJ30: X | AK30: X | AL30: X | AM30: X | AN30: X | AO30: X | AP30: X | AQ30: X | AR30: X | AS30: X | AT30: X | AU30: X | AV30: X | AW30: X | AX30: X | AY30: X | AZ30: X | BA30: X | BB30: X | BD30: X | BE30: X | BF30: X | BG30: X | BI30: X | BJ30: X
A31: 42084 | B31: Sat | C31: 295 | D31: 76 | F31: 3318 | H31: X | I31: X | J31: X | K31: X | Q31: X | S31: X | T31: X | AU31: X | AW31: X | AX31: X | BA31: X | BB31: X | BD31: X | BE31: X | BF31: X
A32: 42085 | B32: Sun | C32: 251 | D32: 72 | F32: 3939 | G32: X | H32: X | I32: X | J32: X | K32: X | Q32: X | S32: X | T32: X | AG32: X | AH32: X | AJ32: X | AN32: X | AO32: X | AQ32: X | AR32: X | AS32: X | AT32: X
A33: 42086 | B33: Mon | C33: 88 | D33: 50 | F33: 6916 | G33: X | H33: X | I33: X | J33: X | K33: X | Q33: X | R33: X | S33: X | T33: X | U33: X | V33: X | W33: X | X33: X | Y33: X | Z33: X | AA33: X | AB33: X | AC33: X | AD33: X | AE33: X | AF33: X | AL33: X | AY33: X | AZ33: X | BA33: X | BB33: X | BC33: X | BD33: X | BE33: X | BF33: X | BJ33: X
A34: 42087 | B34: Tue | C34: 155 | D34: 37 | F34: 8758 | H34: X | I34: X | J34: X | K34: X | L34: X | M34: X | N34: X | P34: X | Q34: X | R34: X | S34: X | T34: X | U34: X | V34: X | X34: X | Y34: X | Z34: X | AA34: X | AB34: X | AD34: X | AE34: X | AF34: X | AG34: X | AM34: X | AR34: X | AT34: X | AY34: X | AZ34: X | BA34: X | BB34: X | BC34: X | BD34: X | BE34: X | BF34: X | BJ34: X
A35: 42088 | B35: Wed | C35: 143 | D35: 25 | F35: 10416 | G35: X | H35: X | I35: X | J35: X | K35: X | L35: X | M35: X | N35: X | P35: X | Q35: X | R35: X | S35: X | T35: X | U35: X | V35: X | W35: X | X35: X | Y35: X | Z35: X | AA35: X | AB35: X | AC35: X | AD35: X | AE35: X | AG35: X | AH35: X | AI35: X | AJ35: X | AL35: X | AM35: X | AN35: X | AO35: X | AP35: X | AQ35: X | AR35: X | AS35: X | AT35: X | AY35: X | AZ35: X | BA35: X | BB35: X | BC35: X | BD35: X | BF35: X | BJ35: X
A36: 42089 | B36: Thu | C36: 225 | D36: 39 | F36: 8460 | H36: X | I36: X | J36: X | K36: X | L36: X | M36: X | N36: X | P36: X | Q36: X | R36: X | S36: X | T36: X | U36: X | V36: X | W36: X | X36: X | Y36: X | Z36: X | AA36: X | AB36: X | AC36: X | AD36: X | AE36: X | AF36: X | AH36: X | AI36: X | AJ36: X | AK36: X | AM36: X | AN36: X | AO36: X | AQ36: X | AR36: X | AS36: X | AY36: X | AZ36: X | BB36: X | BC36: X | BD36: X | BF36: X | BJ36: X
A37: 42090 | B37: Fri | C37: 326 | D37: 16 | F37: 11677 | H37: X | I37: X | J37: X | K37: X | L37: X | M37: X | N37: X | P37: X | Q37: X | R37: X | S37: X | T37: X | U37: X | V37: X | W37: X | X37: X | Y37: X | Z37: X | AA37: X | AB37: X | AC37: X | AD37: X | AF37: X | AG37: X | AH37: X | AI37: X | AJ37: X | AK37: X | AM37: X | AN37: X | AO37: X | AQ37: X | AR37: X | AS37: X | AT37: X | AV37: X | AW37: X | AX37: X | AZ37: X | BA37: X | BB37: X | BC37: X | BE37: X | BF37: X | BG37: X
A38: 42091 | B38: Sat | C38: 365 | D38: 78 | F38: 3060 | V38: X | W38: X | Z38: X | AC38: X | AG38: X | AH38: X | AI38: X | AJ38: X | AK38: X | AM38: X | AN38: X | AO38: X | AQ38: X | AS38: X | BA38: X | BF38: X
A39: 42092 | B39: Sun | C39: 393 | D39: 83 | F39: 2383 | S39: X | T39: X | AG39: X | AH39: X | AJ39: X | AN39: X | AO39: X | AP39: X | AQ39: X | AR39: X | AS39: X | AT39: X
A40: 42093 | B40: Mon | C40: 100 | D40: 44 | F40: 7832 | H40: X | I40: X | J40: X | K40: X | L40: X | N40: X | P40: X | Q40: X | R40: X | S40: X | T40: X | V40: X | W40: X | X40: X | Y40: X | AA40: X | AC40: X | AD40: X | AG40: X | AH40: X | AJ40: X | AN40: X | AO40: X | AP40: X | AQ40: X | AR40: X | AS40: X | AT40: X | AU40: X | AV40: X | AW40: X | AX40: X | AY40: X | AZ40: X | BA40: X | BB40: X | BC40: X | BD40: X | BE40: X | BF40: X | BG40: X
A41: 42094 | B41: Tue | C41: 80 | D41: 51 | F41: 6851 | K41: X | N41: X | P41: X | Q41: X | R41: X | S41: X | T41: X | V41: X | W41: X | X41: X | Y41: X | AA41: X | AC41: X | AD41: X | AG41: X | AH41: X | AJ41: X | AN41: X | AO41: X | AP41: X | AQ41: X | AR41: X | AS41: X | AT41: X | AU41: X | AV41: X | AW41: X | AX41: X | AY41: X | AZ41: X | BA41: X | BB41: X | BD41: X | BE41: X | BF41: X | BG41: X
A42: 42095 | B42: Wed | C42: 96 | D42: 30 | F42: 9695 | H42: X | I42: X | J42: X | K42: X | L42: X | M42: X | N42: X | P42: X | Q42: X | R42: X | S42: X | T42: X | U42: X | V42: X | W42: X | X42: X | Y42: X | AA42: X | AB42: X | AC42: X | AD42: X | AE42: X | AF42: X | AG42: X | AH42: X | AI42: X | AJ42: X | AN42: X | AO42: X | AP42: X | AQ42: X | AR42: X | AS42: X | AT42: X | AU42: X | AV42: X | AW42: X | AX42: X | AY42: X | AZ42: X | BA42: X | BB42: X | BD42: X | BE42: X | BF42: X | BG42: X | BJ42: X
A43: 42096 | B43: Thu | C43: 168 | D43: 20 | F43: 11166 | G43: X | I43: X | K43: X | L43: X | M43: X | N43: X | P43: X | Q43: X | R43: X | S43: X | T43: X | U43: X | V43: X | W43: X | X43: X | AA43: X | AB43: X | AC43: X | AD43: X | AG43: X | AH43: X | AI43: X | AM43: X | AN43: X | AP43: X | AQ43: X | AR43: X | AS43: X | AT43: X | AU43: X | AV43: X | AW43: X | AX43: X | AY43: X | AZ43: X | BB43: X | BC43: X | BD43: X | BE43: X | BG43: X
A44: 42097 | B44: Fri | C44: 300 | D44: 31 | F44: 9606 | G44: X | H44: X | I44: X | J44: X | K44: X | L44: X | M44: X | N44: X | P44: X | Q44: X | R44: X | S44: X | T44: X | V44: X | W44: X | Y44: X | AC44: X | AD44: X | AH44: X | AN44: X | AQ44: X | AS44: X | AU44: X | AV44: X | AW44: X | AX44: X | AY44: X | AZ44: X | BB44: X | BC44: X | BD44: X | BE44: X | BG44: X
A45: 42098 | B45: Sat | C45: 293 | D45: 93 | F45: 982 | I45: X | L45: X | N45: X | P45: X | T45: X
A46: 42099 | B46: Sun | C46: 292 | D46: 58 | F46: 5854 | H46: X | I46: X | J46: X | L46: X | N46: X | P46: X | S46: X | T46: X | AG46: X | AH46: X | AJ46: X | AN46: X | AO46: X | AQ46: X | AR46: X | AS46: X | AT46: X | AU46: X | AV46: X | AW46: X | AX46: X | AY46: X | AZ46: X | BB46: X | BC46: X | BD46: X | BE46: X
A47: 42100 | B47: Mon | C47: 342 | D47: 100 | F47: 0
A48: 42101 | B48: Tue | C48: 61 | D48: 92 | F48: 1138 | AG48: X | AM48: X | AU48: X | AZ48: X | BB48: X | BE48: X
A49: 42102 | B49: Wed | C49: 240 | D49: 71 | F49: 3984 | V49: X | AD49: X | AE49: X | AF49: X | AG49: X | AH49: X | AI49: X | AJ49: X | AK49: X | AL49: X | AM49: X | AN49: X | AO49: X | AP49: X | AQ49: X | AR49: X | AS49: X | AT49: X | AU49: X
A50: 42103 | B50: Thu | C50: 176 | D50: 48 | F50: 7258 | U50: X | V50: X | X50: X | Y50: X | Z50: X | AB50: X | AD50: X | AE50: X | AF50: X | AG50: X | AH50: X | AI50: X | AJ50: X | AK50: X | AL50: X | AM50: X | AN50: X | AO50: X | AP50: X | AQ50: X | AR50: X | AS50: X | AT50: X | AU50: X | BA50: X | BB50: X | BC50: X | BD50: X | BF50: X | BJ50: X
A51: 42104 | B51: Fri | C51: 197 | D51: 63 | F51: 5091 | I51: X | N51: X | S51: X | T51: X | U51: X | X51: X | Y51: X | Z51: X | AA51: X | AB51: X | AE51: X | AF51: X | AG51: X | AJ51: X | AM51: X | AO51: X | AT51: X | AU51: X | BA51: X | BC51: X | BF51: X
A52: 42105 | B52: Sat | C52: 182 | D52: 56 | F52: 6074 | G52: X | H52: X | I52: X | J52: X | K52: X | L52: X | M52: X | N52: X | P52: X | Q52: X | R52: X | S52: X | T52: X | AE52: X | AF52: X | AG52: X | AH52: X | AM52: X | AR52: X | AT52: X | AU52: X | AV52: X | AW52: X | AX52: X | AY52: X | AZ52: X | BB52: X | BD52: X | BE52: X
A53: 42106 | B53: Sun | C53: 222 | D53: 85 | F53: 2112 | H53: X | I53: X | J53: X | K53: X | L53: X | M53: X | N53: X | O53: X | P53: X | Q53: X | R53: X | S53: X | T53: X | AG53: X | AH53: X | AR53: X | AT53: X | AU53: X | AW53: X | AX53: X | BB53: X | BC53: X | BD53: X | BE53: X
A54: 42107 | B54: Mon | C54: 76 | D54: 37 | F54: 8805 | G54: X | H54: X | I54: X | J54: X | K54: X | L54: X | M54: X | N54: X | P54: X | Q54: X | R54: X | S54: X | T54: X | U54: X | V54: X | W54: X | X54: X | Y54: X | Z54: X | AA54: X | AB54: X | AC54: X | AD54: X | AG54: X | AH54: X | AJ54: X | AL54: X | AN54: X | AO54: X | AP54: X | AQ54: X | AR54: X | AS54: X | AT54: X | AU54: X | AV54: X | AW54: X | AX54: X | AY54: X | AZ54: X | BB54: X | BC54: X | BD54: X | BE54: X | BG54: X
A55: 42108 | B55: Tue | C55: 23 | D55: 35 | F55: 9022 | G55: X | H55: X | I55: X | J55: X | K55: X | L55: X | M55: X | N55: X | P55: X | Q55: X | R55: X | S55: X | T55: X | U55: X | V55: X | W55: X | X55: X | Y55: X | Z55: X | AA55: X | AB55: X | AC55: X | AD55: X | AG55: X | AH55: X | AJ55: X | AM55: X | AN55: X | AO55: X | AQ55: X | AR55: X | AS55: X | AT55: X | AU55: X | AV55: X | AW55: X | AX55: X | AY55: X | AZ55: X | BB55: X | BC55: X | BD55: X | BE55: X | BG55: X
A56: 42109 | B56: Wed | C56: 42 | D56: 17 | F56: 11499 | G56: X | H56: X | I56: X | J56: X | K56: X | L56: X | M56: X | N56: X | P56: X | Q56: X | R56: X | S56: X | T56: X | U56: X | V56: X | W56: X | X56: X | Y56: X | Z56: X | AA56: X | AB56: X | AC56: X | AD56: X | AG56: X | AH56: X | AI56: X | AJ56: X | AK56: X | AL56: X | AM56: X | AN56: X | AO56: X | AP56: X | AQ56: X | AR56: X | AS56: X | AT56: X | AU56: X | AV56: X | AW56: X | AX56: X | AY56: X | AZ56: X | BB56: X | BC56: X | BD56: X | BE56: X | BF56: X | BG56: X | BJ56: X
A57: 42110 | B57: Thu | C57: -2 | D57: 17 | F57: 11591 | G57: X | H57: X | I57: X | J57: X | K57: X | L57: X | M57: X | N57: X | P57: X | Q57: X | R57: X | S57: X | T57: X | U57: X | V57: X | W57: X | X57: X | Y57: X | AA57: X | AB57: X | AC57: X | AD57: X | AG57: X | AH57: X | AI57: X | AJ57: X | AK57: X | AL57: X | AM57: X | AN57: X | AO57: X | AP57: X | AQ57: X | AR57: X | AS57: X | AT57: X | AU57: X | AV57: X | AW57: X | AX57: X | AY57: X | AZ57: X | BA57: X | BB57: X | BC57: X | BD57: X | BE57: X | BF57: X | BG57: X | BJ57: X
A58: 42111 | B58: Fri | C58: 183 | D58: 12 | F58: 12174 | G58: X | H58: X | I58: X | J58: X | K58: X | L58: X | M58: X | N58: X | P58: X | Q58: X | R58: X | S58: X | T58: X | U58: X | V58: X | W58: X | X58: X | Y58: X | Z58: X | AA58: X | AB58: X | AC58: X | AD58: X | AG58: X | AH58: X | AI58: X | AJ58: X | AK58: X | AL58: X | AM58: X | AN58: X | AO58: X | AP58: X | AQ58: X | AR58: X | AS58: X | AT58: X | AU58: X | AV58: X | AW58: X | AX58: X | AY58: X | AZ58: X | BA58: X | BB58: X | BC58: X | BD58: X | BE58: X | BF58: X | BG58: X | BJ58: X
A59: 42112 | B59: Sat | C59: 124 | D59: 83 | F59: 2364 | G59: X | I59: X | AM59: X | AR59: X | AT59: X | BA59: X | BF59: X
A60: 42113 | B60: Sun | C60: 80 | D60: 88 | F60: 1681 | U60: X | V60: X | W60: X | X60: X | AA60: X | AB60: X | AC60: X | AD60: X | AM60: X | AR60: X | AT60: X | AZ60: X | BB60: X | BE60: X
A61: 42114 | B61: Mon | C61: 43 | D61: 85 | F61: 2041 | I61: X | L61: X | AG61: X | AT61: X | AX61: X | BA61: X | BE61: X | BF61: X
A62: 42115 | B62: Tue | C62: 73 | D62: 92 | F62: 1113 | AG62: X | AT62: X | AU62: X | AW62: X | AX62: X | BB62: X | BC62: X | BD62: X | BE62: X
A63: 42116 | B63: Wed | C63: 106 | D63: 93 | F63: 994 | AI63: X | AJ63: X | AO63: X | AU63: X | AW63: X | AX63: X | BB63: X | BC63: X | BD63: X | BE63: X
A64: 42117 | B64: Thu | C64: 149 | D64: 58 | F64: 5874 | I64: X | L64: X | N64: X | P64: X | S64: X | T64: X | AG64: X | AH64: X | AI64: X | AJ64: X | AK64: X | AN64: X | AO64: X | AQ64: X | AR64: X | AS64: X | AT64: X | AU64: X | AW64: X | AX64: X | BB64: X | BC64: X | BD64: X | BE64: X
A65: 42118 | B65: Fri | C65: 91 | D65: 79 | F65: 2972 | Y65: X | Z65: X | AG65: X | AH65: X | AI65: X | AJ65: X | AK65: X | AN65: X | AO65: X | AQ65: X | AR65: X | AS65: X | AT65: X | AZ65: X | BB65: X | BC65: X | BE65: X | BF65: X
A66: 42119 | B66: Sat | C66: 180 | D66: 88 | F66: 1728 | G66: X | AH66: X | AI66: X | AJ66: X | AK66: X | AN66: X | AO66: X | AQ66: X | AS66: X | BC66: X | BF66: X
A67: 42120 | B67: Sun | C67: 192 | D67: 65 | F67: 4902 | G67: X | I67: X | L67: X | N67: X | P67: X | S67: X | T67: X | AC67: X | AG67: X | AH67: X | AJ67: X | AN67: X | AO67: X | AP67: X | AQ67: X | AR67: X | AS67: X | AT67: X | BC67: X
A68: 42121 | B68: Mon | C68: 207 | D68: 61 | F68: 5378 | H68: X | I68: X | J68: X | K68: X | Q68: X | R68: X | S68: X | T68: X | V68: X | W68: X | Y68: X | AA68: X | AC68: X | AD68: X | AU68: X | AW68: X | AX68: X | BA68: X | BB68: X | BC68: X | BD68: X | BE68: X | BF68: X | BH68: X | BI68: X
A69: 42122 | B69: Tue | C69: 313 | D69: 14 | F69: 11960 | G69: X | H69: X | I69: X | J69: X | K69: X | L69: X | M69: X | N69: X | P69: X | Q69: X | R69: X | S69: X | T69: X | W69: X | X69: X | Y69: X | Z69: X | AA69: X | AC69: X | AG69: X | AJ69: X | AL69: X | AP69: X | AR69: X | AT69: X | AU69: X | AV69: X | AW69: X | AX69: X | AY69: X | AZ69: X | BA69: X | BB69: X | BC69: X | BD69: X | BE69: X | BF69: X | BH69: X
A70: 42123 | B70: Wed | C70: 411 | D70: 80 | F70: 2737 | G70: X | X70: X | Y70: X | Z70: X | AA70: X | AL70: X | AP70: X | AU70: X | AW70: X | AX70: X | BB70: X | BD70: X | BE70: X | BH70: X
A71: 42124 | B71: Thu | C71: 308 | D71: 72 | F71: 3868 | I71: X | L71: X | N71: X | P71: X | S71: X | T71: X | AE71: X | AZ71: X | BB71: X | BE71: X | BH71: X
A72: 42125 | B72: Fri | C72: 114 | D72: 97 | F72: 380 | BH72: X
A73: 42126 | B73: Sat | C73: 84 | D73: 90 | F73: 1426 | G73: X | AG73: X | AH73: X | AN73: X | AQ73: X | AR73: X | AS73: X | AT73: X | BE73: X
A74: 42127 | B74: Sun | C74: 137 | D74: 92 | F74: 1126 | AG74: X | AH74: X | AN74: X | AQ74: X | AR74: X | AS74: X | AT74: X | BE74: X
A75: 42128 | B75: Mon | C75: 110 | D75: 85 | F75: 2123 | Z75: X | AC75: X | AG75: X | AH75: X | AN75: X | AQ75: X | AR75: X | AS75: X | AT75: X | AY75: X | AZ75: X | BB75: X | BD75: X | BE75: X | BJ75: X
A76: 42129 | B76: Tue | C76: 193 | D76: 51 | F76: 6853 | G76: X | I76: X | K76: X | L76: X | P76: X | Q76: X | R76: X | T76: X | AC76: X | AG76: X | AH76: X | AJ76: X | AK76: X | AL76: X | AN76: X | AO76: X | AP76: X | AQ76: X | AR76: X | AS76: X | AT76: X | AU76: X | AX76: X | BA76: X | BB76: X | BC76: X | BE76: X | BF76: X | BJ76: X
A77: 42130 | B77: Wed | C77: 112 | D77: 41 | F77: 8179 | H77: X | I77: X | J77: X | K77: X | L77: X | M77: X | N77: X | P77: X | Q77: X | R77: X | S77: X | T77: X | U77: X | V77: X | X77: X | Y77: X | Z77: X | AA77: X | AB77: X | AD77: X | AE77: X | AG77: X | AH77: X | AJ77: X | AK77: X | AN77: X | AO77: X | AQ77: X | AR77: X | AS77: X | AT77: X | AU77: X | AX77: X | AZ77: X | BA77: X | BB77: X | BC77: X | BE77: X | BF77: X | BH77: X | BJ77: X
A78: 42131 | B78: Thu | C78: 58 | D78: 19 | F78: 11224 | H78: X | I78: X | J78: X | K78: X | L78: X | M78: X | N78: X | P78: X | Q78: X | R78: X | S78: X | T78: X | V78: X | Z78: X | AC78: X | AD78: X | AE78: X | AG78: X | AH78: X | AJ78: X | AK78: X | AN78: X | AO78: X | AQ78: X | AR78: X | AS78: X | AT78: X | AZ78: X | BA78: X | BC78: X | BF78: X | BG78: X | BH78: X | BJ78: X
A79: 42132 | B79: Fri | C79: 4 | D79: 21 | F79: 10965 | G79: X | H79: X | I79: X | J79: X | K79: X | L79: X | M79: X | N79: X | P79: X | Q79: X | R79: X | S79: X | T79: X | U79: X | V79: X | W79: X | X79: X | Y79: X | Z79: X | AA79: X | AB79: X | AC79: X | AD79: X | AE79: X | AG79: X | AH79: X | AN79: X | AQ79: X | AR79: X | AS79: X | AT79: X | AU79: X | AW79: X | AX79: X | BB79: X | BD79: X | BE79: X | BG79: X | BH79: X | BJ79: X
A80: 42133 | B80: Sat | C80: 102 | D80: 41 | F80: 8250 | H80: X | I80: X | J80: X | K80: X | L80: X | M80: X | N80: X | P80: X | Q80: X | R80: X | S80: X | T80: X | Z80: X | AC80: X | AE80: X | AH80: X | AN80: X | AQ80: X | AS80: X | AU80: X | AW80: X | AX80: X | BB80: X | BD80: X | BE80: X | BG80: X | BH80: X | BJ80: X
A81: 42134 | B81: Sun | C81: 259 | D81: 80 | F81: 2823 | H81: X | I81: X | J81: X | R81: X | S81: X | T81: X | BF81: X | BG81: X
A82: 42135 | B82: Mon | C82: 57 | D82: 64 | F82: 4998 | H82: X | I82: X | J82: X | L82: X | N82: X | P82: X | R82: X | S82: X | T82: X | AU82: X | AW82: X | AX82: X | BA82: X | BB82: X | BC82: X | BD82: X | BE82: X | BG82: X
A83: 42136 | B83: Tue | C83: 61 | D83: 48 | F83: 7213 | G83: X | H83: X | I83: X | J83: X | L83: X | N83: X | P83: X | S83: X | T83: X | Y83: X | AU83: X | AW83: X | AX83: X | BA83: X | BB83: X | BD83: X | BE83: X | BF83: X | BG83: X
A84: 42137 | B84: Wed | C84: 273 | D84: 48 | F84: 7206 | H84: X | I84: X | J84: X | L84: X | N84: X | P84: X | S84: X | T84: X | Y84: X | AG84: X | AH84: X | AI84: X | AJ84: X | AK84: X | AM84: X | AN84: X | AO84: X | AQ84: X | AR84: X | AS84: X | AT84: X | AU84: X | AW84: X | AX84: X | BA84: X | BB84: X | BD84: X | BE84: X | BF84: X | BG84: X
A85: 42138 | B85: Thu | C85: 214 | D85: 53 | F85: 6478 | I85: X | L85: X | N85: X | P85: X | S85: X | T85: X | AE85: X | AU85: X | AV85: X | AW85: X | AX85: X | AY85: X | AZ85: X | BB85: X | BC85: X | BD85: X | BE85: X
A86: 42139 | B86: Fri | C86: 155 | D86: 34 | F86: 9149 | I86: X | L86: X | N86: X | P86: X | S86: X | T86: X | AU86: X | AV86: X | AW86: X | AX86: X | AY86: X | AZ86: X | BA86: X | BB86: X | BC86: X | BD86: X | BE86: X | BF86: X
A87: 42140 | B87: Sat | C87: 199 | D87: 59 | F87: 5690 | G87: X | I87: X | L87: X | P87: X | S87: X | T87: X | AL87: X | AP87: X | AU87: X | AV87: X | AW87: X | AX87: X | AY87: X | AZ87: X | BB87: X | BC87: X | BD87: X | BE87: X | BF87: X
A88: 42141 | B88: Sun | C88: 329 | D88: 81 | F88: 2659 | I88: X | L88: X | P88: X | T88: X | AF88: X | AU88: X | AW88: X | AX88: X | BB88: X | BD88: X | BE88: X | BF88: X
A89: 42142 | B89: Mon | C89: 283 | D89: 86 | F89: 1925 | W89: X | Z89: X | AC89: X | AF89: X | AG89: X | AM89: X | BC89: X | BF89: X | BH89: X
A90: 42143 | B90: Tue | C90: 275 | D90: 49 | F90: 7030 | G90: X | H90: X | I90: X | J90: X | K90: X | L90: X | M90: X | N90: X | P90: X | Q90: X | R90: X | S90: X | T90: X | AF90: X | AG90: X | AM90: X | AU90: X | AV90: X | AW90: X | AX90: X | AY90: X | AZ90: X | BB90: X | BD90: X | BE90: X | BH90: X
A91: 42144 | B91: Wed | C91: 237 | D91: 90 | F91: 1358 | G91: X | AF91: X | AG91: X | AL91: X | AP91: X | BH91: X
A92: 42145 | B92: Thu | C92: 185 | D92: 89 | F92: 1540 | AF92: X | AG92: X | BA92: X | BC92: X | BE92: X | BF92: X | BH92: X
A93: 42146 | B93: Fri | C93: 154 | D93: 92 | F93: 1121 | AF93: X | BA93: X | BC93: X | BF93: X | BH93: X
A94: 42147 | B94: Sat | C94: 134 | D94: 86 | F94: 1958 | G94: X | AG94: X | AH94: X | AI94: X | AJ94: X | AK94: X | AL94: X | AM94: X | AN94: X | AO94: X | AP94: X | AQ94: X | AR94: X | AS94: X | AT94: X
A95: 42148 | B95: Sun | C95: 180 | D95: 100 | F95: 0
A96: 42149 | B96: Mon | C96: 340 | D96: 72 | F96: 3953 | I96: X | L96: X | M96: X | N96: X | P96: X | S96: X | T96: X | AU96: X | AV96: X | AW96: X | AX96: X | AY96: X | AZ96: X | BB96: X | BD96: X | BE96: X
A97: 42150 | B97: Tue | C97: 272 | D97: 82 | F97: 2458 | G97: X | H97: X | I97: X | J97: X | K97: X | L97: X | M97: X | N97: X | P97: X | Q97: X | R97: X | S97: X | T97: X | Y97: X | AL97: X | BF97: X
A98: 42151 | B98: Wed | C98: 194 | D98: 61 | F98: 5421 | H98: X | I98: X | J98: X | K98: X | L98: X | M98: X | N98: X | P98: X | Q98: X | R98: X | S98: X | T98: X | AE98: X | AR98: X | AT98: X | BG98: X
A99: 42152 | B99: Thu | C99: 182 | D99: 46 | F99: 7513 | G99: X | H99: X | I99: X | J99: X | K99: X | L99: X | M99: X | N99: X | P99: X | Q99: X | R99: X | S99: X | T99: X | U99: X | X99: X | AA99: X | AB99: X | AF99: X | AG99: X | AH99: X | AL99: X | AN99: X | AQ99: X | AR99: X | AS99: X | AT99: X | AU99: X | AX99: X | BC99: X | BE99: X | BF99: X | BG99: X
A100: 42153 | B100: Fri | C100: 70 | D100: 73 | F100: 3763 | I100: X | L100: X | P100: X | T100: X | V100: X | W100: X | Z100: X | AC100: X | AD100: X | AG100: X | AH100: X | AN100: X | AQ100: X | AR100: X | AS100: X | AT100: X | AU100: X | AX100: X | AY100: X | AZ100: X | BB100: X | BC100: X | BD100: X | BE100: X | BG100: X | BI100: X
A101: 42154 | B101: Sat | C101: 142 | D101: 53 | F101: 6482 | G101: X | H101: X | I101: X | J101: X | L101: X | P101: X | S101: X | T101: X | V101: X | W101: X | AC101: X | AD101: X | AF101: X | AG101: X | AH101: X | AI101: X | AJ101: X | AK101: X | AL101: X | AM101: X | AN101: X | AO101: X | AP101: X | AQ101: X | AR101: X | AS101: X | AT101: X
A102: 42155 | B102: Sun | C102: 179 | D102: 57 | F102: 6019 | G102: X | I102: X | L102: X | M102: X | N102: X | P102: X | T102: X | AF102: X | AG102: X | AH102: X | AI102: X | AJ102: X | AK102: X | AL102: X | AM102: X | AN102: X | AO102: X | AP102: X | AQ102: X | AR102: X | AS102: X | AT102: X | AU102: X | AV102: X | AW102: X | AX102: X | AY102: X | AZ102: X | BB102: X | BD102: X | BE102: X
A103: 42156 | B103: Mon | C103: 229 | D103: 95 | F103: 682 | AU103: X | AW103: X | AX103: X | BB103: X | BD103: X | BE103: X | BF103: X
A104: 42157 | B104: Tue | C104: 224 | D104: 93 | F104: 998 | AE104: X | AU104: X | AW104: X | AX104: X | BB104: X | BC104: X | BD104: X | BE104: X | BF104: X | BJ104: X
A105: 42158 | B105: Wed | C105: 210 | D105: 77 | F105: 3163 | G105: X | U105: X | V105: X | W105: X | X105: X | Y105: X | AA105: X | AB105: X | AC105: X | AD105: X | AE105: X | AF105: X | AU105: X | AW105: X | AX105: X | BA105: X | BB105: X | BC105: X | BD105: X | BE105: X | BF105: X | BJ105: X
A106: 42159 | B106: Thu | C106: 139 | D106: 65 | F106: 4890 | G106: X | U106: X | V106: X | W106: X | X106: X | Y106: X | AA106: X | AB106: X | AC106: X | AD106: X | AG106: X | AH106: X | AI106: X | AJ106: X | AK106: X | AL106: X | AM106: X | AN106: X | AO106: X | AP106: X | AQ106: X | AR106: X | AS106: X | AT106: X | AU106: X | AW106: X | AX106: X | BA106: X | BB106: X | BC106: X | BD106: X | BE106: X | BF106: X
A107: 42160 | B107: Fri | C107: -429 | D107: 60 | F107: 5539 | G107: X | I107: X | L107: X | P107: X | T107: X | V107: X | W107: X | X107: X | Y107: X | AA107: X | AB107: X | AC107: X | AD107: X | AG107: X | AM107: X | AR107: X | AT107: X | BA107: X | BC107: X | BF107: X
...

Sheet outil
BT1: FULL | BU1: 10 | BV1: 450 | BW1: LOW | BX1: 42087
BT2: HIGH | BU2: 25 | BV2: 350 | BW2: MEDIUM
BT3: MEDIUM | BU3: 50 | BV3: 250 | BW3: MEDIUM HIGH
BT4: LOW | BU4: 75 | BV4: 100 | BW4: HIGH
BT5: FREE SELL | BU5: 90 | BV5: 50 | BW5: FULL
BT6: Day of Week | BU6: % Function Space Available | BV6: Sleeping Room Available | BW6: Catering BSRP
F7: Room Name | G7: Salle 1 | H7: Salle 2 | I7: Salle 3 | J7: Salle 4 | K7: Salle 5 | L7: Salle 6 | M7: Salle 7 | N7: Salle 8 | O7: Salle 9 | P7: Salle 10 | Q7: Salle 11 | R7: Salle 12 | S7: Salle 13 | T7: Salle 14 | U7: Salle 15 | V7: Salle 16 | W7: Salle 17 | X7: Salle 18 | Y7: Salle 19 | Z7: Salle 20 | AA7: Salle 21 | AB7: Salle 22 | AC7: Salle 23 | AD7: Salle 24 | AE7: Salle 25 | AF7: Salle 26 | AG7: Salle 27 | AH7: Salle 28 | AI7: Salle 29 | AJ7: Salle 30 | AK7: Salle 31 | AL7: Salle 32 | AM7: Salle 33 | AN7: Salle 34 | AO7: Salle 35 | AP7: Salle 36 | AQ7: Salle 37 | AR7: Salle 38 | AS7: Salle 39 | AT7: Salle 40 | AU7: Salle 41 | AV7: Salle 42 | AW7: Salle 43 | AX7: Salle 44 | AY7: Salle 45 | AZ7: Salle 46 | BA7: Salle 47 | BB7: Salle 48 | BC7: Salle 49 | BD7: Salle 50 | BE7: Salle 51 | BF7: Salle 52 | BG7: Salle 53 | BH7: Salle 54 | BI7: Salle 55 | BJ7: Salle 56 | BT7: =VLOOKUP(BX1,BL:BM,2,FALSE) -> Tue | BU7: =VLOOKUP(BX1,BL:BN,3,FALSE) -> 37 | BV7: =VLOOKUP(BX1,BL:BO,4,FALSE) -> 155 | BW7: =VLOOKUP(BL:BP,5,FALSE) -> #VALUE!
F8: Sqr feet | G8: 222 | H8: 237 | I8: 244 | J8: 63 | K8: 69 | L8: 59 | M8: 40 | N8: 42 | O8: 200 | P8: 177 | Q8: 146 | R8: 137 | S8: 45 | T8: 150 | U8: 56 | V8: 58 | W8: 88 | X8: 40 | Y8: 53 | Z8: 52 | AA8: 35 | AB8: 37 | AC8: 34 | AD8: 37 | AE8: 20 | AF8: 70 | AG8: 210 | AH8: 50 | AI8: 34 | AJ8: 55 | AK8: 54 | AL8: 28 | AM8: 60 | AN8: 54 | AO8: 67 | AP8: 26 | AQ8: 26 | AR8: 26 | AS8: 26 | AT8: 220 | AU8: 380 | AV8: 39 | AW8: 23 | AX8: 91 | AY8: 91 | AZ8: 83 | BA8: 63 | BB8: 68 | BC8: 64 | BD8: 105 | BE8: 107 | BF8: 50 | BG8: 39 | BH8: 27 | BI8: 27 | BJ8: 24
C9: Sleeping Room | D9: Function space
A10: Date | B10: Dow | C10: Net SR Avail Rooms | D10: Net FS Avail % | E10: Citywide Event | F10: Commit Sqr. ft | BL10: Date | BM10: Dow | BN10: % Function Space Available | BO10: Sleeping Room Available
A11: =datas!A11 -> 42064 | B11: =datas!B11 -> Sun | C11: =datas!C11 -> 427 | D11: =datas!D11 -> 25 | F11: =datas!F11 -> 10465 | G11: =datas!I11 -> X | H11: =datas!T11 -> X | I11: =datas!S11 -> X | J11: =datas!R11 -> X | K11: =datas!K11 -> X | L11: =datas!Q11 -> X | M11: =datas!H11 -> X | N11: =datas!J11 -> X | O11: =datas!L11 -> X | P11: =datas!P11 -> X | Q11: =datas!N11 -> X | R11: =datas!M11 -> X | S11: =datas!O11 -> 0 | T11: =datas!G11 -> X | U11: =datas!AR11 -> X | V11: =datas!AT11 -> X | W11: =datas!AG11 -> X | X11: =datas!AI11 -> X | Y11: =datas!AJ11 -> X | Z11: =datas!AO11 -> X | AA11: =datas!AN11 -> X | AB11: =datas!AH11 -> X | AC11: =datas!AS11 -> X | AD11: =datas!AQ11 -> X | AE11: =datas!AP11 -> X | AF11: =datas!AL11 -> X | AG11: =datas!AM11 -> X | AH11: =datas!BJ11 -> 0 | AI11: =datas!AE11 -> 0 | AJ11: =datas!AC11 -> 0 | AK11: =datas!W11 -> 0 | AL11: =datas!AF11 -> 0 | AM11: =datas!V11 -> 0 | AN11: =datas!AD11 -> 0 | AO11: =datas!Y11 -> 0 | AP11: =datas!AA11 -> 0 | AQ11: =datas!X11 -> 0 | AR11: =datas!AB11 -> X | AS11: =datas!U11 -> X | AT11: =datas!Z11 -> 0 | AU11: =datas!BH11 -> 0 | AV11: =datas!BI11 -> X | AW11: =datas!BG11 -> X | AX11: =datas!BE11 -> X | AY11: =datas!BB11 -> X | AZ11: =datas!AZ11 -> 0 | BA11: =datas!AU11 -> X | BB11: =datas!AY11 -> 0 | BC11: =datas!BC11 -> 0 | BD11: =datas!BF11 -> 0 | BE11: =datas!BA11 -> 0 | BF11: =datas!AY11 -> 0 | BG11: =datas!AK11 -> X | BH11: =datas!AX11 -> X | BI11: =datas!AW11 -> X | BJ11: =datas!AV11 -> 0 | BL11: =A11 -> 42064 | BM11: =B11 -> Sun | BN11: =D11 -> 25 | BO11: =C11 -> 427 | BP11: =IF(D11<=$BU$1,$BT$1,IF(AND(D11>$BU$1,D11<=$BU$2),$BT$2,IF(AND(D11>$BU$2,D11<=$BU$3),$BT$3,IF(AND(D11>$BU$3,D11<=$BU$4),$BT$4,IF(D11>$BU$4,$BT$5,""))))) -> HIGH | BQ11: =IF(C11>=$BV$1,"LOW",IF(AND(C11<$BV$1,C11>=$BV$2),"MEDIUM",IF(AND(C11<$BV$2,C11>=$BV$3),"MEDIUM HIGH",IF(AND(C11<$BV$3,C11>=$BV$4),"HIGH",IF(AND(C11<$BV$4,C11>=$BV$5),"VERY HIGH",IF(C11<$BV$5,"FULL","")))))) -> MEDIUM
A12: =datas!A12 -> 42065 | B12: =datas!B12 -> Mon | C12: =datas!C12 -> 169 | D12: =datas!D12 -> 21 | F12: =datas!F12 -> 11037 | G12: =datas!I12 -> X | H12: =datas!T12 -> X | I12: =datas!S12 -> X | J12: =datas!R12 -> X | K12: =datas!K12 -> X | L12: =datas!Q12 -> X | M12: =datas!H12 -> X | N12: =datas!J12 -> X | O12: =datas!L12 -> X | P12: =datas!P12 -> X | Q12: =datas!N12 -> X | R12: =datas!M12 -> X | S12: =datas!O12 -> 0 | T12: =datas!G12 -> X | U12: =datas!AR12 -> X | V12: =datas!AT12 -> X | W12: =datas!AG12 -> X | X12: =datas!AI12 -> X | Y12: =datas!AJ12 -> X | Z12: =datas!AO12 -> X | AA12: =datas!AN12 -> X | AB12: =datas!AH12 -> X | AC12: =datas!AS12 -> X | AD12: =datas!AQ12 -> X | AE12: =datas!AP12 -> X | AF12: =datas!AL12 -> X | AG12: =datas!AM12 -> X | AH12: =datas!BJ12 -> X | AI12: =datas!AE12 -> 0 | AJ12: =datas!AC12 -> X | AK12: =datas!W12 -> 0 | AL12: =datas!AF12 -> X | AM12: =datas!V12 -> 0 | AN12: =datas!AD12 -> 0 | AO12: =datas!Y12 -> 0 | AP12: =datas!AA12 -> 0 | AQ12: =datas!X12 -> 0 | AR12: =datas!AB12 -> X | AS12: =datas!U12 -> X | AT12: =datas!Z12 -> 0 | AU12: =datas!BH12 -> 0 | AV12: =datas!BI12 -> X | AW12: =datas!BG12 -> X | AX12: =datas!BE12 -> X | AY12: =datas!BB12 -> X | AZ12: =datas!AZ12 -> 0 | BA12: =datas!AU12 -> X | BB12: =datas!AY12 -> 0 | BC12: =datas!BC12 -> 0 | BD12: =datas!BF12 -> X | BE12: =datas!BA12 -> X | BF12: =datas!AY12 -> 0 | BG12: =datas!AK12 -> X | BH12: =datas!AX12 -> X | BI12: =datas!AW12 -> X | BJ12: =datas!AV12 -> 0 | BL12: =A12 -> 42065 | BM12: =B12 -> Mon | BN12: =D12 -> 21 | BO12: =C12 -> 169 | BP12: =IF(D12<=$BU$1,$BT$1,IF(AND(D12>$BU$1,D12<=$BU$2),$BT$2,IF(AND(D12>$BU$2,D12<=$BU$3),$BT$3,IF(AND(D12>$BU$3,D12<=$BU$4),$BT$4,IF(D12>$BU$4,$BT$5,""))))) -> HIGH | BQ12: =IF(C12>=$BV$1,"LOW",IF(AND(C12<$BV$1,C12>=$BV$2),"MEDIUM",IF(AND(C12<$BV$2,C12>=$BV$3),"MEDIUM HIGH",IF(AND(C12<$BV$3,C12>=$BV$4),"HIGH",IF(AND(C12<$BV$4,C12>=$BV$5),"VERY HIGH",IF(C12<$BV$5,"FULL","")))))) -> HIGH
A13: =datas!A13 -> 42066 | B13: =datas!B13 -> Tue | C13: =datas!C13 -> 166 | D13: =datas!D13 -> 2 | F13: =datas!F13 -> 13562 | G13: =datas!I13 -> X | H13: =datas!T13 -> X | I13: =datas!S13 -> X | J13: =datas!R13 -> X | K13: =datas!K13 -> X | L13: =datas!Q13 -> X | M13: =datas!H13 -> X | N13: =datas!J13 -> X | O13: =datas!L13 -> X | P13: =datas!P13 -> X | Q13: =datas!N13 -> X | R13: =datas!M13 -> X | S13: =datas!O13 -> 0 | T13: =datas!G13 -> X | U13: =datas!AR13 -> X | V13: =datas!AT13 -> X | W13: =datas!AG13 -> X | X13: =datas!AI13 -> X | Y13: =datas!AJ13 -> X | Z13: =datas!AO13 -> X | AA13: =datas!AN13 -> X | AB13: =datas!AH13 -> X | AC13: =datas!AS13 -> X | AD13: =datas!AQ13 -> X | AE13: =datas!AP13 -> X | AF13: =datas!AL13 -> X | AG13: =datas!AM13 -> X | AH13: =datas!BJ13 -> 0 | AI13: =datas!AE13 -> X | AJ13: =datas!AC13 -> X | AK13: =datas!W13 -> 0 | AL13: =datas!AF13 -> X | AM13: =datas!V13 -> X | AN13: =datas!AD13 -> X | AO13: =datas!Y13 -> X | AP13: =datas!AA13 -> 0 | AQ13: =datas!X13 -> 0 | AR13: =datas!AB13 -> X | AS13: =datas!U13 -> X | AT13: =datas!Z13 -> 0 | AU13: =datas!BH13 -> X | AV13: =datas!BI13 -> X | AW13: =datas!BG13 -> X | AX13: =datas!BE13 -> X | AY13: =datas!BB13 -> X | AZ13: =datas!AZ13 -> 0 | BA13: =datas!AU13 -> X | BB13: =datas!AY13 -> 0 | BC13: =datas!BC13 -> 0 | BD13: =datas!BF13 -> 0 | BE13: =datas!BA13 -> 0 | BF13: =datas!AY13 -> 0 | BG13: =datas!AK13 -> X | BH13: =datas!AX13 -> X | BI13: =datas!AW13 -> X | BJ13: =datas!AV13 -> 0 | BL13: =A13 -> 42066 | BM13: =B13 -> Tue | BN13: =D13 -> 2 | BO13: =C13 -> 166 | BP13: =IF(D13<=$BU$1,$BT$1,IF(AND(D13>$BU$1,D13<=$BU$2),$BT$2,IF(AND(D13>$BU$2,D13<=$BU$3),$BT$3,IF(AND(D13>$BU$3,D13<=$BU$4),$BT$4,IF(D13>$BU$4,$BT$5,""))))) -> FULL | BQ13: =IF(C13>=$BV$1,"LOW",IF(AND(C13<$BV$1,C13>=$BV$2),"MEDIUM",IF(AND(C13<$BV$2,C13>=$BV$3),"MEDIUM HIGH",IF(AND(C13<$BV$3,C13>=$BV$4),"HIGH",IF(AND(C13<$BV$4,C13>=$BV$5),"VERY HIGH",IF(C13<$BV$5,"FULL","")))))) -> HIGH
A14: =datas!A14 -> 42067 | B14: =datas!B14 -> Wed | C14: =datas!C14 -> 370 | D14: =datas!D14 -> 13 | F14: =datas!F14 -> 12049 | G14: =datas!I14 -> X | H14: =datas!T14 -> X | I14: =datas!S14 -> X | J14: =datas!R14 -> X | K14: =datas!K14 -> X | L14: =datas!Q14 -> X | M14: =datas!H14 -> X | N14: =datas!J14 -> X | O14: =datas!L14 -> X | P14: =datas!P14 -> X | Q14: =datas!N14 -> X | R14: =datas!M14 -> X | S14: =datas!O14 -> 0 | T14: =datas!G14 -> 0 | U14: =datas!AR14 -> X | V14: =datas!AT14 -> X | W14: =datas!AG14 -> X | X14: =datas!AI14 -> X | Y14: =datas!AJ14 -> X | Z14: =datas!AO14 -> X | AA14: =datas!AN14 -> X | AB14: =datas!AH14 -> X | AC14: =datas!AS14 -> X | AD14: =datas!AQ14 -> X | AE14: =datas!AP14 -> X | AF14: =datas!AL14 -> X | AG14: =datas!AM14 -> X | AH14: =datas!BJ14 -> X | AI14: =datas!AE14 -> X | AJ14: =datas!AC14 -> 0 | AK14: =datas!W14 -> 0 | AL14: =datas!AF14 -> 0 | AM14: =datas!V14 -> X | AN14: =datas!AD14 -> X | AO14: =datas!Y14 -> X | AP14: =datas!AA14 -> 0 | AQ14: =datas!X14 -> 0 | AR14: =datas!AB14 -> X | AS14: =datas!U14 -> X | AT14: =datas!Z14 -> 0 | AU14: =datas!BH14 -> 0 | AV14: =datas!BI14 -> 0 | AW14: =datas!BG14 -> X | AX14: =datas!BE14 -> X | AY14: =datas!BB14 -> X | AZ14: =datas!AZ14 -> 0 | BA14: =datas!AU14 -> X | BB14: =datas!AY14 -> 0 | BC14: =datas!BC14 -> 0 | BD14: =datas!BF14 -> 0 | BE14: =datas!BA14 -> 0 | BF14: =datas!AY14 -> 0 | BG14: =datas!AK14 -> X | BH14: =datas!AX14 -> X | BI14: =datas!AW14 -> X | BJ14: =datas!AV14 -> 0 | BL14: =A14 -> 42067 | BM14: =B14 -> Wed | BN14: =D14 -> 13 | BO14: =C14 -> 370 | BP14: =IF(D14<=$BU$1,$BT$1,IF(AND(D14>$BU$1,D14<=$BU$2),$BT$2,IF(AND(D14>$BU$2,D14<=$BU$3),$BT$3,IF(AND(D14>$BU$3,D14<=$BU$4),$BT$4,IF(D14>$BU$4,$BT$5,""))))) -> HIGH | BQ14: =IF(C14>=$BV$1,"LOW",IF(AND(C14<$BV$1,C14>=$BV$2),"MEDIUM",IF(AND(C14<$BV$2,C14>=$BV$3),"MEDIUM HIGH",IF(AND(C14<$BV$3,C14>=$BV$4),"HIGH",IF(AND(C14<$BV$4,C14>=$BV$5),"VERY HIGH",IF(C14<$BV$5,"FULL","")))))) -> MEDIUM
A15: =datas!A15 -> 42068 | B15: =datas!B15 -> Thu | C15: =datas!C15 -> 189 | D15: =datas!D15 -> 49 | F15: =datas!F15 -> 7016 | G15: =datas!I15 -> X | H15: =datas!T15 -> X | I15: =datas!S15 -> X | J15: =datas!R15 -> X | K15: =datas!K15 -> X | L15: =datas!Q15 -> X | M15: =datas!H15 -> X | N15: =datas!J15 -> X | O15: =datas!L15 -> X | P15: =datas!P15 -> X | Q15: =datas!N15 -> X | R15: =datas!M15 -> X | S15: =datas!O15 -> 0 | T15: =datas!G15 -> X | U15: =datas!AR15 -> 0 | V15: =datas!AT15 -> 0 | W15: =datas!AG15 -> 0 | X15: =datas!AI15 -> 0 | Y15: =datas!AJ15 -> 0 | Z15: =datas!AO15 -> 0 | AA15: =datas!AN15 -> 0 | AB15: =datas!AH15 -> 0 | AC15: =datas!AS15 -> 0 | AD15: =datas!AQ15 -> 0 | AE15: =datas!AP15 -> X | AF15: =datas!AL15 -> X | AG15: =datas!AM15 -> 0 | AH15: =datas!BJ15 -> 0 | AI15: =datas!AE15 -> X | AJ15: =datas!AC15 -> X | AK15: =datas!W15 -> X | AL15: =datas!AF15 -> 0 | AM15: =datas!V15 -> X | AN15: =datas!AD15 -> X | AO15: =datas!Y15 -> X | AP15: =datas!AA15 -> 0 | AQ15: =datas!X15 -> 0 | AR15: =datas!AB15 -> X | AS15: =datas!U15 -> X | AT15: =datas!Z15 -> X | AU15: =datas!BH15 -> X | AV15: =datas!BI15 -> 0 | AW15: =datas!BG15 -> X | AX15: =datas!BE15 -> X | AY15: =datas!BB15 -> X | AZ15: =datas!AZ15 -> X | BA15: =datas!AU15 -> X | BB15: =datas!AY15 -> X | BC15: =datas!BC15 -> X | BD15: =datas!BF15 -> X | BE15: =datas!BA15 -> 0 | BF15: =datas!AY15 -> X | BG15: =datas!AK15 -> 0 | BH15: =datas!AX15 -> X | BI15: =datas!AW15 -> X | BJ15: =datas!AV15 -> X | BL15: =A15 -> 42068 | BM15: =B15 -> Thu | BN15: =D15 -> 49 | BO15: =C15 -> 189 | BP15: =IF(D15<=$BU$1,$BT$1,IF(AND(D15>$BU$1,D15<=$BU$2),$BT$2,IF(AND(D15>$BU$2,D15<=$BU$3),$BT$3,IF(AND(D15>$BU$3,D15<=$BU$4),$BT$4,IF(D15>$BU$4,$BT$5,""))))) -> MEDIUM | BQ15: =IF(C15>=$BV$1,"LOW",IF(AND(C15<$BV$1,C15>=$BV$2),"MEDIUM",IF(AND(C15<$BV$2,C15>=$BV$3),"MEDIUM HIGH",IF(AND(C15<$BV$3,C15>=$BV$4),"HIGH",IF(AND(C15<$BV$4,C15>=$BV$5),"VERY HIGH",IF(C15<$BV$5,"FULL","")))))) -> HIGH
A16: =datas!A16 -> 42069 | B16: =datas!B16 -> Fri | C16: =datas!C16 -> 128 | D16: =datas!D16 -> 54 | F16: =datas!F16 -> 6432 | G16: =datas!I16 -> X | H16: =datas!T16 -> X | I16: =datas!S16 -> X | J16: =datas!R16 -> 0 | K16: =datas!K16 -> 0 | L16: =datas!Q16 -> 0 | M16: =datas!H16 -> 0 | N16: =datas!J16 -> 0 | O16: =datas!L16 -> X | P16: =datas!P16 -> X | Q16: =datas!N16 -> X | R16: =datas!M16 -> X | S16: =datas!O16 -> 0 | T16: =datas!G16 -> 0 | U16: =datas!AR16 -> X | V16: =datas!AT16 -> X | W16: =datas!AG16 -> X | X16: =datas!AI16 -> 0 | Y16: =datas!AJ16 -> X | Z16: =datas!AO16 -> X | AA16: =datas!AN16 -> X | AB16: =datas!AH16 -> X | AC16: =datas!AS16 -> X | AD16: =datas!AQ16 -> X | AE16: =datas!AP16 -> 0 | AF16: =datas!AL16 -> 0 | AG16: =datas!AM16 -> 0 | AH16: =datas!BJ16 -> X | AI16: =datas!AE16 -> X | AJ16: =datas!AC16 -> 0 | AK16: =datas!W16 -> 0 | AL16: =datas!AF16 -> 0 | AM16: =datas!V16 -> 0 | AN16: =datas!AD16 -> 0 | AO16: =datas!Y16 -> 0 | AP16: =datas!AA16 -> 0 | AQ16: =datas!X16 -> 0 | AR16: =datas!AB16 -> 0 | AS16: =datas!U16 -> 0 | AT16: =datas!Z16 -> 0 | AU16: =datas!BH16 -> X | AV16: =datas!BI16 -> 0 | AW16: =datas!BG16 -> X | AX16: =datas!BE16 -> X | AY16: =datas!BB16 -> X | AZ16: =datas!AZ16 -> X | BA16: =datas!AU16 -> X | BB16: =datas!AY16 -> X | BC16: =datas!BC16 -> X | BD16: =datas!BF16 -> X | BE16: =datas!BA16 -> X | BF16: =datas!AY16 -> X | BG16: =datas!AK16 -> X | BH16: =datas!AX16 -> X | BI16: =datas!AW16 -> X | BJ16: =datas!AV16 -> X | BL16: =A16 -> 42069 | BM16: =B16 -> Fri | BN16: =D16 -> 54 | BO16: =C16 -> 128 | BP16: =IF(D16<=$BU$1,$BT$1,IF(AND(D16>$BU$1,D16<=$BU$2),$BT$2,IF(AND(D16>$BU$2,D16<=$BU$3),$BT$3,IF(AND(D16>$BU$3,D16<=$BU$4),$BT$4,IF(D16>$BU$4,$BT$5,""))))) -> LOW | BQ16: =IF(C16>=$BV$1,"LOW",IF(AND(C16<$BV$1,C16>=$BV$2),"MEDIUM",IF(AND(C16<$BV$2,C16>=$BV$3),"MEDIUM HIGH",IF(AND(C16<$BV$3,C16>=$BV$4),"HIGH",IF(AND(C16<$BV$4,C16>=$BV$5),"VERY HIGH",IF(C16<$BV$5,"FULL","")))))) -> HIGH
A17: =datas!A17 -> 42070 | B17: =datas!B17 -> Sat | C17: =datas!C17 -> 304 | D17: =datas!D17 -> 34 | F17: =datas!F17 -> 9141 | G17: =datas!I17 -> X | H17: =datas!T17 -> X | I17: =datas!S17 -> X | J17: =datas!R17 -> X | K17: =datas!K17 -> X | L17: =datas!Q17 -> X | M17: =datas!H17 -> 0 | N17: =datas!J17 -> 0 | O17: =datas!L17 -> X | P17: =datas!P17 -> X | Q17: =datas!N17 -> X | R17: =datas!M17 -> X | S17: =datas!O17 -> 0 | T17: =datas!G17 -> X | U17: =datas!AR17 -> 0 | V17: =datas!AT17 -> 0 | W17: =datas!AG17 -> X | X17: =datas!AI17 -> 0 | Y17: =datas!AJ17 -> X | Z17: =datas!AO17 -> X | AA17: =datas!AN17 -> X | AB17: =datas!AH17 -> X | AC17: =datas!AS17 -> X | AD17: =datas!AQ17 -> X | AE17: =datas!AP17 -> 0 | AF17: =datas!AL17 -> 0 | AG17: =datas!AM17 -> 0 | AH17: =datas!BJ17 -> X | AI17: =datas!AE17 -> 0 | AJ17: =datas!AC17 -> 0 | AK17: =datas!W17 -> 0 | AL17: =datas!AF17 -> 0 | AM17: =datas!V17 -> 0 | AN17: =datas!AD17 -> 0 | AO17: =datas!Y17 -> 0 | AP17: =datas!AA17 -> 0 | AQ17: =datas!X17 -> 0 | AR17: =datas!AB17 -> 0 | AS17: =datas!U17 -> 0 | AT17: =datas!Z17 -> 0 | AU17: =datas!BH17 -> X | AV17: =datas!BI17 -> 0 | AW17: =datas!BG17 -> 0 | AX17: =datas!BE17 -> X | AY17: =datas!BB17 -> X | AZ17: =datas!AZ17 -> X | BA17: =datas!AU17 -> X | BB17: =datas!AY17 -> X | BC17: =datas!BC17 -> X | BD17: =datas!BF17 -> 0 | BE17: =datas!BA17 -> 0 | BF17: =datas!AY17 -> X | BG17: =datas!AK17 -> X | BH17: =datas!AX17 -> X | BI17: =datas!AW17 -> X | BJ17: =datas!AV17 -> X | BL17: =A17 -> 42070 | BM17: =B17 -> Sat | BN17: =D17 -> 34 | BO17: =C17 -> 304 | BP17: =IF(D17<=$BU$1,$BT$1,IF(AND(D17>$BU$1,D17<=$BU$2),$BT$2,IF(AND(D17>$BU$2,D17<=$BU$3),$BT$3,IF(AND(D17>$BU$3,D17<=$BU$4),$BT$4,IF(D17>$BU$4,$BT$5,""))))) -> MEDIUM | BQ17: =IF(C17>=$BV$1,"LOW",IF(AND(C17<$BV$1,C17>=$BV$2),"MEDIUM",IF(AND(C17<$BV$2,C17>=$BV$3),"MEDIUM HIGH",IF(AND(C17<$BV$3,C17>=$BV$4),"HIGH",IF(AND(C17<$BV$4,C17>=$BV$5),"VERY HIGH",IF(C17<$BV$5,"FULL","")))))) -> MEDIUM HIGH
A18: =datas!A18 -> 42071 | B18: =datas!B18 -> Sun | C18: =datas!C18 -> 76 | D18: =datas!D18 -> 67 | F18: =datas!F18 -> 4547 | G18: =datas!I18 -> X | H18: =datas!T18 -> X | I18: =datas!S18 -> X | J18: =datas!R18 -> X | K18: =datas!K18 -> X | L18: =datas!Q18 -> X | M18: =datas!H18 -> 0 | N18: =datas!J18 -> 0 | O18: =datas!L18 -> X | P18: =datas!P18 -> X | Q18: =datas!N18 -> X | R18: =datas!M18 -> X | S18: =datas!O18 -> 0 | T18: =datas!G18 -> 0 | U18: =datas!AR18 -> X | V18: =datas!AT18 -> X | W18: =datas!AG18 -> X | X18: =datas!AI18 -> 0 | Y18: =datas!AJ18 -> X | Z18: =datas!AO18 -> X | AA18: =datas!AN18 -> X | AB18: =datas!AH18 -> X | AC18: =datas!AS18 -> X | AD18: =datas!AQ18 -> X | AE18: =datas!AP18 -> 0 | AF18: =datas!AL18 -> 0 | AG18: =datas!AM18 -> 0 | AH18: =datas!BJ18 -> X | AI18: =datas!AE18 -> 0 | AJ18: =datas!AC18 -> X | AK18: =datas!W18 -> X | AL18: =datas!AF18 -> 0 | AM18: =datas!V18 -> 0 | AN18: =datas!AD18 -> 0 | AO18: =datas!Y18 -> X | AP18: =datas!AA18 -> X | AQ18: =datas!X18 -> X | AR18: =datas!AB18 -> X | AS18: =datas!U18 -> X | AT18: =datas!Z18 -> 0 | AU18: =datas!BH18 -> 0 | AV18: =datas!BI18 -> 0 | AW18: =datas!BG18 -> 0 | AX18: =datas!BE18 -> X | AY18: =datas!BB18 -> X | AZ18: =datas!AZ18 -> 0 | BA18: =datas!AU18 -> X | BB18: =datas!AY18 -> 0 | BC18: =datas!BC18 -> X | BD18: =datas!BF18 -> X | BE18: =datas!BA18 -> X | BF18: =datas!AY18 -> 0 | BG18: =datas!AK18 -> X | BH18: =datas!AX18 -> X | BI18: =datas!AW18 -> X | BJ18: =datas!AV18 -> 0 | BL18: =A18 -> 42071 | BM18: =B18 -> Sun | BN18: =D18 -> 67 | BO18: =C18 -> 76 | BP18: =IF(D18<=$BU$1,$BT$1,IF(AND(D18>$BU$1,D18<=$BU$2),$BT$2,IF(AND(D18>$BU$2,D18<=$BU$3),$BT$3,IF(AND(D18>$BU$3,D18<=$BU$4),$BT$4,IF(D18>$BU$4,$BT$5,""))))) -> LOW | BQ18: =IF(C18>=$BV$1,"LOW",IF(AND(C18<$BV$1,C18>=$BV$2),"MEDIUM",IF(AND(C18<$BV$2,C18>=$BV$3),"MEDIUM HIGH",IF(AND(C18<$BV$3,C18>=$BV$4),"HIGH",IF(AND(C18<$BV$4,C18>=$BV$5),"VERY HIGH",IF(C18<$BV$5,"FULL","")))))) -> VERY HIGH
A19: =datas!A19 -> 42072 | B19: =datas!B19 -> Mon | C19: =datas!C19 -> 18 | D19: =datas!D19 -> 87 | F19: =datas!F19 -> 1779 | G19: =datas!I19 -> 0 | H19: =datas!T19 -> 0 | I19: =datas!S19 -> 0 | J19: =datas!R19 -> 0 | K19: =datas!K19 -> 0 | L19: =datas!Q19 -> 0 | M19: =datas!H19 -> 0 | N19: =datas!J19 -> X | O19: =datas!L19 -> 0 | P19: =datas!P19 -> 0 | Q19: =datas!N19 -> 0 | R19: =datas!M19 -> 0 | S19: =datas!O19 -> 0 | T19: =datas!G19 -> 0 | U19: =datas!AR19 -> 0 | V19: =datas!AT19 -> 0 | W19: =datas!AG19 -> 0 | X19: =datas!AI19 -> 0 | Y19: =datas!AJ19 -> 0 | Z19: =datas!AO19 -> 0 | AA19: =datas!AN19 -> 0 | AB19: =datas!AH19 -> 0 | AC19: =datas!AS19 -> 0 | AD19: =datas!AQ19 -> 0 | AE19: =datas!AP19 -> 0 | AF19: =datas!AL19 -> 0 | AG19: =datas!AM19 -> 0 | AH19: =datas!BJ19 -> X | AI19: =datas!AE19 -> X | AJ19: =datas!AC19 -> 0 | AK19: =datas!W19 -> 0 | AL19: =datas!AF19 -> X | AM19: =datas!V19 -> 0 | AN19: =datas!AD19 -> 0 | AO19: =datas!Y19 -> 0 | AP19: =datas!AA19 -> 0 | AQ19: =datas!X19 -> 0 | AR19: =datas!AB19 -> 0 | AS19: =datas!U19 -> 0 | AT19: =datas!Z19 -> 0 | AU19: =datas!BH19 -> X | AV19: =datas!BI19 -> X | AW19: =datas!BG19 -> 0 | AX19: =datas!BE19 -> X | AY19: =datas!BB19 -> X | AZ19: =datas!AZ19 -> X | BA19: =datas!AU19 -> 0 | BB19: =datas!AY19 -> 0 | BC19: =datas!BC19 -> X | BD19: =datas!BF19 -> X | BE19: =datas!BA19 -> X | BF19: =datas!AY19 -> 0 | BG19: =datas!AK19 -> 0 | BH19: =datas!AX19 -> X | BI19: =datas!AW19 -> X | BJ19: =datas!AV19 -> X | BL19: =A19 -> 42072 | BM19: =B19 -> Mon | BN19: =D19 -> 87 | BO19: =C19 -> 18 | BP19: =IF(D19<=$BU$1,$BT$1,IF(AND(D19>$BU$1,D19<=$BU$2),$BT$2,IF(AND(D19>$BU$2,D19<=$BU$3),$BT$3,IF(AND(D19>$BU$3,D19<=$BU$4),$BT$4,IF(D19>$BU$4,$BT$5,""))))) -> FREE SELL | BQ19: =IF(C19>=$BV$1,"LOW",IF(AND(C19<$BV$1,C19>=$BV$2),"MEDIUM",IF(AND(C19<$BV$2,C19>=$BV$3),"MEDIUM HIGH",IF(AND(C19<$BV$3,C19>=$BV$4),"HIGH",IF(AND(C19<$BV$4,C19>=$BV$5),"VERY HIGH",IF(C19<$BV$5,"FULL","")))))) -> FULL
A20: =datas!A20 -> 42073 | B20: =datas!B20 -> Tue | C20: =datas!C20 -> 23 | D20: =datas!D20 -> 88 | F20: =datas!F20 -> 1710 | G20: =datas!I20 -> X | H20: =datas!T20 -> 0 | I20: =datas!S20 -> 0 | J20: =datas!R20 -> 0 | K20: =datas!K20 -> 0 | L20: =datas!Q20 -> 0 | M20: =datas!H20 -> 0 | N20: =datas!J20 -> X | O20: =datas!L20 -> 0 | P20: =datas!P20 -> 0 | Q20: =datas!N20 -> 0 | R20: =datas!M20 -> 0 | S20: =datas!O20 -> X | T20: =datas!G20 -> 0 | U20: =datas!AR20 -> 0 | V20: =datas!AT20 -> 0 | W20: =datas!AG20 -> 0 | X20: =datas!AI20 -> 0 | Y20: =datas!AJ20 -> 0 | Z20: =datas!AO20 -> 0 | AA20: =datas!AN20 -> 0 | AB20: =datas!AH20 -> 0 | AC20: =datas!AS20 -> 0 | AD20: =datas!AQ20 -> 0 | AE20: =datas!AP20 -> 0 | AF20: =datas!AL20 -> 0 | AG20: =datas!AM20 -> 0 | AH20: =datas!BJ20 -> X | AI20: =datas!AE20 -> 0 | AJ20: =datas!AC20 -> 0 | AK20: =datas!W20 -> 0 | AL20: =datas!AF20 -> X | AM20: =datas!V20 -> 0 | AN20: =datas!AD20 -> 0 | AO20: =datas!Y20 -> 0 | AP20: =datas!AA20 -> 0 | AQ20: =datas!X20 -> 0 | AR20: =datas!AB20 -> 0 | AS20: =datas!U20 -> 0 | AT20: =datas!Z20 -> 0 | AU20: =datas!BH20 -> 0 | AV20: =datas!BI20 -> X | AW20: =datas!BG20 -> 0 | AX20: =datas!BE20 -> X | AY20: =datas!BB20 -> X | AZ20: =datas!AZ20 -> X | BA20: =datas!AU20 -> 0 | BB20: =datas!AY20 -> 0 | BC20: =datas!BC20 -> 0 | BD20: =datas!BF20 -> X | BE20: =datas!BA20 -> X | BF20: =datas!AY20 -> 0 | BG20: =datas!AK20 -> 0 | BH20: =datas!AX20 -> X | BI20: =datas!AW20 -> X | BJ20: =datas!AV20 -> X | BL20: =A20 -> 42073 | BM20: =B20 -> Tue | BN20: =D20 -> 88 | BO20: =C20 -> 23 | BP20: =IF(D20<=$BU$1,$BT$1,IF(AND(D20>$BU$1,D20<=$BU$2),$BT$2,IF(AND(D20>$BU$2,D20<=$BU$3),$BT$3,IF(AND(D20>$BU$3,D20<=$BU$4),$BT$4,IF(D20>$BU$4,$BT$5,""))))) -> FREE SELL | BQ20: =IF(C20>=$BV$1,"LOW",IF(AND(C20<$BV$1,C20>=$BV$2),"MEDIUM",IF(AND(C20<$BV$2,C20>=$BV$3),"MEDIUM HIGH",IF(AND(C20<$BV$3,C20>=$BV$4),"HIGH",IF(AND(C20<$BV$4,C20>=$BV$5),"VERY HIGH",IF(C20<$BV$5,"FULL","")))))) -> FULL
A21: =datas!A21 -> 42074 | B21: =datas!B21 -> Wed | C21: =datas!C21 -> 125 | D21: =datas!D21 -> 92 | F21: =datas!F21 -> 1119 | G21: =datas!I21 -> 0 | H21: =datas!T21 -> 0 | I21: =datas!S21 -> 0 | J21: =datas!R21 -> 0 | K21: =datas!K21 -> 0 | L21: =datas!Q21 -> 0 | M21: =datas!H21 -> 0 | N21: =datas!J21 -> X | O21: =datas!L21 -> 0 | P21: =datas!P21 -> 0 | Q21: =datas!N21 -> 0 | R21: =datas!M21 -> 0 | S21: =datas!O21 -> 0 | T21: =datas!G21 -> 0 | U21: =datas!AR21 -> X | V21: =datas!AT21 -> X | W21: =datas!AG21 -> X | X21: =datas!AI21 -> 0 | Y21: =datas!AJ21 -> 0 | Z21: =datas!AO21 -> 0 | AA21: =datas!AN21 -> 0 | AB21: =datas!AH21 -> 0 | AC21: =datas!AS21 -> 0 | AD21: =datas!AQ21 -> 0 | AE21: =datas!AP21 -> 0 | AF21: =datas!AL21 -> 0 | AG21: =datas!AM21 -> 0 | AH21: =datas!BJ21 -> X | AI21: =datas!AE21 -> 0 | AJ21: =datas!AC21 -> 0 | AK21: =datas!W21 -> 0 | AL21: =datas!AF21 -> X | AM21: =datas!V21 -> 0 | AN21: =datas!AD21 -> 0 | AO21: =datas!Y21 -> 0 | AP21: =datas!AA21 -> 0 | AQ21: =datas!X21 -> 0 | AR21: =datas!AB21 -> 0 | AS21: =datas!U21 -> 0 | AT21: =datas!Z21 -> 0 | AU21: =datas!BH21 -> 0 | AV21: =datas!BI21 -> 0 | AW21: =datas!BG21 -> 0 | AX21: =datas!BE21 -> X | AY21: =datas!BB21 -> X | AZ21: =datas!AZ21 -> X | BA21: =datas!AU21 -> 0 | BB21: =datas!AY21 -> 0 | BC21: =datas!BC21 -> 0 | BD21: =datas!BF21 -> 0 | BE21: =datas!BA21 -> X | BF21: =datas!AY21 -> 0 | BG21: =datas!AK21 -> 0 | BH21: =datas!AX21 -> X | BI21: =datas!AW21 -> X | BJ21: =datas!AV21 -> X | BL21: =A21 -> 42074 | BM21: =B21 -> Wed | BN21: =D21 -> 92 | BO21: =C21 -> 125 | BP21: =IF(D21<=$BU$1,$BT$1,IF(AND(D21>$BU$1,D21<=$BU$2),$BT$2,IF(AND(D21>$BU$2,D21<=$BU$3),$BT$3,IF(AND(D21>$BU$3,D21<=$BU$4),$BT$4,IF(D21>$BU$4,$BT$5,""))))) -> FREE SELL | BQ21: =IF(C21>=$BV$1,"LOW",IF(AND(C21<$BV$1,C21>=$BV$2),"MEDIUM",IF(AND(C21<$BV$2,C21>=$BV$3),"MEDIUM HIGH",IF(AND(C21<$BV$3,C21>=$BV$4),"HIGH",IF(AND(C21<$BV$4,C21>=$BV$5),"VERY HIGH",IF(C21<$BV$5,"FULL","")))))) -> HIGH
A22: =datas!A22 -> 42075 | B22: =datas!B22 -> Thu | C22: =datas!C22 -> 336 | D22: =datas!D22 -> 28 | F22: =datas!F22 -> 9972 | G22: =datas!I22 -> X | H22: =datas!T22 -> X | I22: =datas!S22 -> X | J22: =datas!R22 -> X | K22: =datas!K22 -> X | L22: =datas!Q22 -> X | M22: =datas!H22 -> X | N22: =datas!J22 -> X | O22: =datas!L22 -> X | P22: =datas!P22 -> X | Q22: =datas!N22 -> X | R22: =datas!M22 -> 0 | S22: =datas!O22 -> X | T22: =datas!G22 -> 0 | U22: =datas!AR22 -> X | V22: =datas!AT22 -> X | W22: =datas!AG22 -> X | X22: =datas!AI22 -> 0 | Y22: =datas!AJ22 -> X | Z22: =datas!AO22 -> X | AA22: =datas!AN22 -> X | AB22: =datas!AH22 -> X | AC22: =datas!AS22 -> X | AD22: =datas!AQ22 -> X | AE22: =datas!AP22 -> 0 | AF22: =datas!AL22 -> 0 | AG22: =datas!AM22 -> X | AH22: =datas!BJ22 -> 0 | AI22: =datas!AE22 -> 0 | AJ22: =datas!AC22 -> X | AK22: =datas!W22 -> X | AL22: =datas!AF22 -> X | AM22: =datas!V22 -> X | AN22: =datas!AD22 -> X | AO22: =datas!Y22 -> 0 | AP22: =datas!AA22 -> X | AQ22: =datas!X22 -> X | AR22: =datas!AB22 -> X | AS22: =datas!U22 -> X | AT22: =datas!Z22 -> 0 | AU22: =datas!BH22 -> X | AV22: =datas!BI22 -> 0 | AW22: =datas!BG22 -> 0 | AX22: =datas!BE22 -> X | AY22: =datas!BB22 -> X | AZ22: =datas!AZ22 -> X | BA22: =datas!AU22 -> X | BB22: =datas!AY22 -> 0 | BC22: =datas!BC22 -> X | BD22: =datas!BF22 -> X | BE22: =datas!BA22 -> X | BF22: =datas!AY22 -> 0 | BG22: =datas!AK22 -> X | BH22: =datas!AX22 -> X | BI22: =datas!AW22 -> X | BJ22: =datas!AV22 -> 0 | BL22: =A22 -> 42075 | BM22: =B22 -> Thu | BN22: =D22 -> 28 | BO22: =C22 -> 336 | BP22: =IF(D22<=$BU$1,$BT$1,IF(AND(D22>$BU$1,D22<=$BU$2),$BT$2,IF(AND(D22>$BU$2,D22<=$BU$3),$BT$3,IF(AND(D22>$BU$3,D22<=$BU$4),$BT$4,IF(D22>$BU$4,$BT$5,""))))) -> MEDIUM | BQ22: =IF(C22>=$BV$1,"LOW",IF(AND(C22<$BV$1,C22>=$BV$2),"MEDIUM",IF(AND(C22<$BV$2,C22>=$BV$3),"MEDIUM HIGH",IF(AND(C22<$BV$3,C22>=$BV$4),"HIGH",IF(AND(C22<$BV$4,C22>=$BV$5),"VERY HIGH",IF(C22<$BV$5,"FULL","")))))) -> MEDIUM HIGH
... A316: =datas!A316 -> 42369 | B316: =datas!B316 -> Thu | C316: =datas!C316 -> 421 | D316: =datas!D316 -> 92 | F316: =datas!F316 -> 1119 | G316: =datas!I316 -> 0 | H316: =datas!T316 -> 0 | I316: =datas!S316 -> 0 | J316: =datas!R316 -> 0 | K316: =datas!K316 -> 0 | L316: =datas!Q316 -> 0 | M316: =datas!H316 -> 0 | N316: =datas!J316 -> 0 | O316: =datas!L316 -> 0 | P316: =datas!P316 -> 0 | Q316: =datas!N316 -> 0 | R316: =datas!M316 -> 0 | S316: =datas!O316 -> 0 | T316: =datas!G316 -> 0 | U316: =datas!AR316 -> 0 | V316: =datas!AT316 -> 0 | W316: =datas!AG316 -> 0 | X316: =datas!AI316 -> 0 | Y316: =datas!AJ316 -> 0 | Z316: =datas!AO316 -> 0 | AA316: =datas!AN316 -> 0 | AB316: =datas!AH316 -> 0 | AC316: =datas!AS316 -> 0 | AD316: =datas!AQ316 -> 0 | AE316: =datas!AP316 -> 0 | AF316: =datas!AL316 -> 0 | AG316: =datas!AM316 -> 0 | AH316: =datas!BJ316 -> 0 | AI316: =datas!AE316 -> 0 | AJ316: =datas!AC316 -> 0 | AK316: =datas!W316 -> 0 | AL316: =datas!AF316 -> 0 | AM316: =datas!V316 -> 0 | AN316: =datas!AD316 -> 0 | AO316: =datas!Y316 -> 0 | AP316: =datas!AA316 -> 0 | AQ316: =datas!X316 -> 0 | AR316: =datas!AB316 -> 0 | AS316: =datas!U316 -> 0 | AT316: =datas!Z316 -> 0 | AU316: =datas!BH316 -> 0 | AV316: =datas!BI316 -> 0 | AW316: =datas!BG316 -> 0 | AX316: =datas!BE316 -> 0 | AY316: =datas!BB316 -> 0 | AZ316: =datas!AZ316 -> 0 | BA316: =datas!AU316 -> 0 | BB316: =datas!AY316 -> 0 | BC316: =datas!BC316 -> 0 | BD316: =datas!BF316 -> 0 | BE316: =datas!BA316 -> 0 | BF316: =datas!AY316 -> 0 | BG316: =datas!AK316 -> 0 | BH316: =datas!AX316 -> 0 | BI316: =datas!AW316 -> 0 | BJ316: =datas!AV316 -> 0 | BL316: =A316 -> 42369 | BM316: =B316 -> Thu | BN316: =D316 -> 92 | BO316: =C316 -> 421 | BP316: =IF(D316<=$BU$1,$BT$1,IF(AND(D316>$BU$1,D316<=$BU$2),$BT$2,IF(AND(D316>$BU$2,D316<=$BU$3),$BT$3,IF(AND(D316>$BU$3,D316<=$BU$4),$BT$4,IF(D316>$BU$4,$BT$5,""))))) -> FREE SELL | BQ316: =IF(C316>=$BV$1,"LOW",IF(AND(C316<$BV$1,C316>=$BV$2),"MEDIUM",IF(AND(C316<$BV$2,C316>=$BV$3),"MEDIUM HIGH",IF(AND(C316<$BV$3,C316>=$BV$4),"HIGH",IF(AND(C316<$BV$4,C316>=$BV$5),"VERY HIGH",IF(C316<$BV$5,"FULL","")))))) -> MEDIUM

Sheet Sheet2
