Workbook

Sheet Universe mom
D1: =VLOOKUP(D2,'Universe yoy '!$B$3:$C$158,2,FALSE) -> MB | E1: =VLOOKUP(E2,'Universe yoy '!$B$3:$C$158,2,FALSE) -> MEL | F1: =VLOOKUP(F2,'Universe yoy '!$B$3:$C$158,2,FALSE) -> 0 | G1: =VLOOKUP(G2,'Universe yoy '!$B$3:$C$158,2,FALSE) -> GN | H1: =VLOOKUP(H2,'Universe yoy '!$B$3:$C$158,2,FALSE) -> 0 | I1: =VLOOKUP(I2,'Universe yoy '!$B$3:$C$158,2,FALSE) -> 0 | J1: =VLOOKUP(J2,'Universe yoy '!$B$3:$C$158,2,FALSE) -> 0 | K1: =VLOOKUP(K2,'Universe yoy '!$B$3:$C$158,2,FALSE) -> FC | ... CB1: =VLOOKUP(CB2,'Universe yoy '!$B$3:$C$158,2,FALSE) -> MEL | CC1: =VLOOKUP(CC2,'Universe yoy '!$B$3:$C$158,2,TRUE) -> MB | CD1: =VLOOKUP(CD2,'Universe yoy '!$B$3:$C$158,2,TRUE) -> MB | CE1: =VLOOKUP(CE2,'Universe yoy '!$B$3:$C$158,2,TRUE) -> 0 | CF1: =VLOOKUP(CF2,'Universe yoy '!$B$3:$C$158,2,TRUE) -> FC | CG1: =VLOOKUP(CG2,'Universe yoy '!$B$3:$C$158,2,TRUE) -> FC | CH1: =VLOOKUP(CH2,'Universe yoy '!$B$3:$C$158,2,TRUE) -> GN | CI1: =VLOOKUP(CI2,'Universe yoy '!$B$3:$C$158,2,TRUE) -> GN | CJ1: =VLOOKUP(CJ2,'Universe yoy '!$B$3:$C$158,2,TRUE) -> MEL | ... FC1: =VLOOKUP(FC2,'Universe yoy '!$B$3:$C$158,2,TRUE) -> 0
D2: =LEFT(D3,SEARCH(" ",D3,1)-1) -> ABCB4 | E2: =LEFT(E3,SEARCH(" ",E3,1)-1) -> ABEV3 | F2: =LEFT(F3,SEARCH(" ",F3,1)-1) -> ABRE11 | G2: =LEFT(G3,SEARCH(" ",G3,1)-1) -> ABRE3 | H2: =LEFT(H3,SEARCH(" ",H3,1)-1) -> AEDU11 | I2: =LEFT(I3,SEARCH(" ",I3,1)-1) -> AEDU3 | J2: =LEFT(J3,SEARCH(" ",J3,1)-1) -> ALLL11 | K2: =LEFT(K3,SEARCH(" ",K3,1)-1) -> ALLL3 | ... FC2: =LEFT(FC3,SEARCH(" ",FC3,1)-1) -> BRKM5
D3: ABCB4 Equity | E3: ABEV3 Equity | F3: ABRE11 Equity | G3: ABRE3 Equity | H3: AEDU11 Equity | I3: AEDU3 Equity | J3: ALLL11 Equity | K3: ALLL3 Equity | L3: ALPA4 Equity | M3: ALSC3 Equity | N3: ALUP11 Equity | O3: AMAR3 Equity | P3: AMBV3 Equity | Q3: ANIM3 Equity | R3: ARCE3 Equity | S3: ARTR3 Equity | T3: ARZZ3 Equity | U3: AUTM3 Equity | V3: BBDC4 Equity | W3: BBRK3 Equity | X3: BEMA3 Equity | Y3: BHGR3 Equity | Z3: BICB4 Equity | AA3: BISA3 Equity | AB3: BRAP4 Equity | AC3: BRFS3 Equity | AD3: BRIN3 Equity | AE3: BRML3 Equity | AF3: BRPR3 Equity | AG3: BTOW3 Equity | AH3: BTTL4 Equity | AI3: BVMF3 Equity | AJ3: CCPR3 Equity | AK3: CCRO3 Equity | AL3: CGAS3 Equity | AM3: CGAS5 Equity | AN3: CIEL3 Equity | AO3: CMET4 Equity | AP3: CNFB4 Equity | AQ3: COCE5 Equity | AR3: CPFE3 Equity | AS3: CPRE3 Equity | AT3: CPSL3 Equity | AU3: CREM3 Equity | AV3: CSAN3 Equity | AW3: CTIP3 Equity | AX3: CTNM4 Equity | AY3: CVCB3 Equity | AZ3: CYRE3 Equity | BA3: DASA3 Equity | BB3: DAYC4 Equity | BC3: DTEX3 Equity | BD3: DURA4 Equity | BE3: ECOR3 Equity | BF3: ELPL4 Equity | BG3: EMBR3 Equity | BH3: ENBR3 Equity | BI3: ENEV3 Equity | BJ3: ESTC3 Equity | BK3: EVEN3 Equity | BL3: EZTC3 Equity | BM3: FESA4 Equity | BN3: FFTL4 Equity | BO3: FHER3 Equity | BP3: FIBR3 Equity | BQ3: FLRY3 Equity | BR3: GETI3 Equity | BS3: GETI4 Equity | BT3: GFSA3 Equity | BU3: GGBR4 Equity | BV3: GOAU4 Equity | BW3: GUAR3 Equity | BX3: HBOR3 Equity | BY3: HGTX3 Equity | BZ3: HYPE3 Equity | CA3: IDNT3 Equity | CB3: MEAL3 Equity | CC3: ITSA4 Equity | CD3: ITUB4 Equity | CE3: JHSF3 Equity | CF3: JSLG3 Equity | CG3: KEPL3 Equity | CH3: KLBN4 Equity | CI3: KROT3 Equity | CJ3: LAME4 Equity | CK3: LCAM3 Equity | CL3: LEVE3 Equity | CM3: LEVE4 Equity | CN3: LINX3 Equity | CO3: LLIS3 Equity | CP3: LOGN3 Equity | CQ3: LPSB3 Equity | CR3: LREN3 Equity | CS3: LUPA3 Equity | CT3: MAGG3 Equity | CU3: MDIA3 Equity | CV3: MGLU3 Equity | CW3: MILS3 Equity | CX3: MPLU3 Equity | CY3: MRFG3 Equity | CZ3: MRVE3 Equity | DA3: MULT3 Equity | DB3: MYPK3 Equity | DC3: NATU3 Equity | DD3: NETC4 Equity | DE3: ODPV3 Equity | DF3: PCAR4 Equity | DG3: PFRM3 Equity | DH3: PMAM3 Equity | DI3: POMO4 Equity | DJ3: POSI3 Equity | DK3: PRML3 Equity | DL3: PRVI3 Equity | DM3: PSSA3 Equity | DN3: QGEP3 Equity | DO3: RADL3 Equity | DP3: RAIA3 Equity | DQ3: RDCD3 Equity | DR3: RDNI3 Equity | DS3: RENT3 Equity | DT3: ROMI3 Equity | DU3: RSID3 Equity | DV3: SCAR3 Equity | DW3: SEBB11 Equity | DX3: SFSA4 Equity | DY3: SLCE3 Equity | DZ3: SLED4 Equity | EA3: SMTO3 Equity | EB3: SSBR3 Equity | EC3: SULA11 Equity | ED3: SUZB5 Equity | EE3: TBLE3 Equity | EF3: TCSA3 Equity | EG3: TECN3 Equity | EH3: TGMA3 Equity | EI3: TIMP3 Equity | EJ3: TOTS3 Equity | EK3: TPIS3 Equity | EL3: TRIS3 Equity | EM3: TRPL4 Equity | EN3: TUPY3 Equity | EO3: TVIT3 Equity | EP3: UBBR11 Equity | EQ3: UGPA3 Equity | ER3: UOLL4 Equity | ES3: USIM5 Equity | ET3: VAGR3 Equity | EU3: VALE5 Equity | EV3: VIVT3 Equity | EW3: VIVT4 Equity | EX3: VLID3 Equity | EY3: VVAR11 Equity | EZ3: VVAX11 Equity | FA3: WEGE3 Equity | FB3: WSON33 Equity | FC3: BRKM5 Equity

Sheet Universe yoy 
E1: =COUNTA(E5:E158) -> 84
A2: Companies which are or were part of the portfolio | B2: Universe global | E2: 2015
A3: 1 | B3: ABCB4 | C3: MB | E3: Performance Universo:
A4: 2 | B4: ABEV3 | C4: MEL | E4: Ticker
A5: 3 | B5: ABRE11 | E5: ABCB4 | F5: =VLOOKUP(E5,$B$3:$C$158,2,FALSE) -> MB
A6: 4 | B6: ABRE3 | C6: GN | E6: ABEV3 | F6: =VLOOKUP(E6,$B$3:$C$158,2,FALSE) -> MEL
A7: 5 | B7: AEDU11 | E7: ABRE3 | F7: =VLOOKUP(E7,$B$3:$C$158,2,FALSE) -> GN
A8: 6 | B8: AEDU3 | E8: ALLL3 | F8: =VLOOKUP(E8,$B$3:$C$158,2,FALSE) -> FC
A9: 7 | B9: ALLL11 | E9: ALPA4 | F9: =VLOOKUP(E9,$B$3:$C$158,2,FALSE) -> FC
A10: 8 | B10: ALLL3 | C10: FC | E10: ALSC3 | F10: =VLOOKUP(E10,$B$3:$C$158,2,FALSE) -> MEL
A11: 9 | B11: ALPA4 | C11: FC | E11: ALUP11 | F11: =VLOOKUP(E11,$B$3:$C$158,2,FALSE) -> MB
A12: 10 | B12: ALSC3 | C12: MEL | E12: ANIM3 | F12: =VLOOKUP(E12,$B$3:$C$158,2,FALSE) -> GN
A13: 11 | B13: ALUP11 | C13: MB | E13: ARTR3 | F13: =VLOOKUP(E13,$B$3:$C$158,2,FALSE) -> FC
A14: 12 | B14: AMAR3 | E14: ARZZ3 | F14: =VLOOKUP(E14,$B$3:$C$158,2,FALSE) -> MEL
A15: 13 | B15: AMBV3 | E15: BBDC4 | F15: =VLOOKUP(E15,$B$3:$C$158,2,FALSE) -> MB
A16: 14 | B16: ANIM3 | C16: GN | E16: BEMA3 | F16: =VLOOKUP(E16,$B$3:$C$158,2,FALSE) -> FC
A17: 15 | B17: ARCE3 | E17: BHGR3 | F17: =VLOOKUP(E17,$B$3:$C$158,2,FALSE) -> MEL
A18: 16 | B18: ARTR3 | C18: FC | E18: BRAP4 | F18: =VLOOKUP(E18,$B$3:$C$158,2,FALSE) -> MB
A19: 17 | B19: ARZZ3 | C19: MEL | E19: BRFS3 | F19: =VLOOKUP(E19,$B$3:$C$158,2,FALSE) -> FC
A20: 18 | B20: AUTM3 | E20: BRML3 | F20: =VLOOKUP(E20,$B$3:$C$158,2,FALSE) -> MEL
A21: 19 | B21: BBDC4 | C21: MB | E21: BRPR3 | F21: =VLOOKUP(E21,$B$3:$C$158,2,FALSE) -> MEL
A22: 20 | B22: BBRK3 | E22: BTOW3 | F22: =VLOOKUP(E22,$B$3:$C$158,2,FALSE) -> MEL
A23: 21 | B23: BEMA3 | C23: FC | E23: BVMF3 | F23: =VLOOKUP(E23,$B$3:$C$158,2,FALSE) -> MB
A24: 22 | B24: BHGR3 | C24: MEL | E24: CIEL3 | F24: =VLOOKUP(E24,$B$3:$C$158,2,FALSE) -> MB
A25: 23 | B25: BICB4 | E25: CPFE3 | F25: =VLOOKUP(E25,$B$3:$C$158,2,FALSE) -> MB
A26: 24 | B26: BISA3 | E26: CPRE3 | F26: =VLOOKUP(E26,$B$3:$C$158,2,FALSE) -> MB
A27: 25 | B27: BRAP4 | C27: MB | E27: CTIP3 | F27: =VLOOKUP(E27,$B$3:$C$158,2,FALSE) -> MB
A28: 26 | B28: BRFS3 | C28: FC | E28: CVCB3 | F28: =VLOOKUP(E28,$B$3:$C$158,2,FALSE) -> MEL
A29: 27 | B29: BRIN3 | E29: CYRE3 | F29: =VLOOKUP(E29,$B$3:$C$158,2,FALSE) -> MEL
A30: 28 | B30: BRML3 | C30: MEL | E30: DTEX3 | F30: =VLOOKUP(E30,$B$3:$C$158,2,FALSE) -> MEL
A31: 29 | B31: BRPR3 | C31: MEL | E31: ELPL4 | F31: =VLOOKUP(E31,$B$3:$C$158,2,FALSE) -> MB
A32: 30 | B32: BTOW3 | C32: MEL | E32: EMBR3 | F32: =VLOOKUP(E32,$B$3:$C$158,2,FALSE) -> FC
A33: 31 | B33: BTTL4 | E33: ENBR3 | F33: =VLOOKUP(E33,$B$3:$C$158,2,FALSE) -> MB
A34: 32 | B34: BVMF3 | C34: MB | E34: ESTC3 | F34: =VLOOKUP(E34,$B$3:$C$158,2,FALSE) -> GN
A35: 33 | B35: CCPR3 | E35: EVEN3 | F35: =VLOOKUP(E35,$B$3:$C$158,2,FALSE) -> MEL
A36: 34 | B36: CCRO3 | E36: EZTC3 | F36: =VLOOKUP(E36,$B$3:$C$158,2,FALSE) -> MEL
A37: 35 | B37: CGAS3 | E37: FIBR3 | F37: =VLOOKUP(E37,$B$3:$C$158,2,FALSE) -> GN
A38: 36 | B38: CGAS5 | E38: FLRY3 | F38: =VLOOKUP(E38,$B$3:$C$158,2,FALSE) -> FC
A39: 37 | B39: CIEL3 | C39: MB | E39: GETI3 | F39: =VLOOKUP(E39,$B$3:$C$158,2,FALSE) -> MB
A40: 38 | B40: CMET4 | E40: GETI4 | F40: =VLOOKUP(E40,$B$3:$C$158,2,FALSE) -> MB
...
