Workbook

Sheet Consignes
A3: Consignes :
A5: Si le patient bénéficie du tarif de responsabilité merci de mettre 0 sinon mettre 1
A7: En cas de changement de Grille tarifaire, il faudra juste modifie la zone de recherche

Sheet Base de donnée
A1: Nom | B1: Prénom | C1: Date de Naissance | D1: Adresse Postal | E1: N° Téléphone | F1: Adresse mail | G1: N° Sécurité social | H1: Regime Social | I1: Mutuelle | J1: Nom Mutuelle | K1: Pathologie principale | L1: Double Pathologie | M1: Code tarif | N1: Tarif de responsabilité | O1: Prix 2014 | P1: Saison 2013 | Q1: Date fin de cure 2013 | R1: Saison 2014 | S1: Date fin de cure 2014 | T1: Mois fin de cure 2014 | U1: Date de reglement Organisme | V1: Montant reglé Organisme | W1: Règlement reçu le | X1: Prise en charge Mutuelle ou quote part charge | Y1: Montant reglé | Z1: Règlement reçu le | AA1: Saison 2015 | AB1: Date fin cure 2015 | AC1: Mois fin de cure 2015 | AD1: Date de relance
A2: Monplanet | B2: Etienne | C2: 30403 | D2: 44 bis rue barrau 31400 Toulouse | H2: CPAM | I2: Oui | J2: Harmonie Mutuelle | K2: Rhumathologie | L2: Oui | M2: 5 | N2: 1 | O2: =IF(N2=0,VLOOKUP(M2,'Grille Tarifaire '!$A$6:$E$14,4),VLOOKUP(M2,'Grille Tarifaire '!$A$6:$E$14,5)) -> 642.94 | P2: 41519 | Q2: =IF(P2="","",P2+20) -> 41539 | R2: 41883 | S2: =IF(R2="","",R2+20) -> 41903 | T2: =MONTH(S2) -> 9 | U2: =S2+'Délai de reglement '!$B$6+VLOOKUP(H2,'Délai de reglement '!$A$5:$C$9,2) -> 41909 | V2: =O2*VLOOKUP(H2,'Délai de reglement '!$A$5:$C$9,3) -> 417.911 | X2: =IFERROR(INDEX('Délai de reglement '!$B$13:$D$14,MATCH(J2,'Délai de reglement '!$A$13:$A$14,0),MATCH(H2,'Délai de reglement '!$B$12:$D$12,0)),"") -> 6 | AA2: 42254 | AB2: =IF(AA2="","",AA2+20) -> 42274 | AC2: =MONTH(AB2) -> 9 | AD2: 42009
A3: Guillemin | B3: Marie | H3: MSA | I3: Oui | J3: Harmonie Mutuelle | K3: Phebologie | L3: Non | M3: 1 | N3: 0 | O3: =IF(N3=1,VLOOKUP(M3,'Grille Tarifaire '!$A$6:$E$14,4),VLOOKUP(M3,'Grille Tarifaire '!$A$6:$E$14,5)) -> 611.73 | P3: 41519 | Q3: =IF(P3="","",P3+20) -> 41539 | R3: 41890 | S3: =IF(R3="","",R3+20) -> 41910 | T3: =MONTH(S3) -> 9 | U3: =S3+'Délai de reglement '!$B$6+VLOOKUP(H3,'Délai de reglement '!$A$5:$C$9,2) -> 41916 | V3: =O3*VLOOKUP(H3,'Délai de reglement '!$A$5:$C$9,3) -> 397.6245 | X3: =IFERROR(INDEX('Délai de reglement '!$B$13:$D$14,MATCH(J3,'Délai de reglement '!$A$13:$A$14,0),MATCH(H3,'Délai de reglement '!$B$12:$D$12,0)),"") -> 10 | AA3: 42254 | AB3: =IF(AA3="","",AA3+20) -> 42274 | AC3: =MONTH(AB3) -> 9 | AD3: 42009
A4: Guillemin | B4: Hubert | H4: RSI | I4: Non | K4: Phebologie | L4: Oui | M4: 1 | N4: 0 | O4: =IF(N4=1,VLOOKUP(M4,'Grille Tarifaire '!$A$6:$E$14,4),VLOOKUP(M4,'Grille Tarifaire '!$A$6:$E$14,5)) -> 611.73 | P4: 41524 | Q4: =IF(P4="","",P4+20) -> 41544 | R4: 41897 | S4: =IF(R4="","",R4+20) -> 41917 | T4: =MONTH(S4) -> 10 | U4: =S4+'Délai de reglement '!$B$6+VLOOKUP(H4,'Délai de reglement '!$A$5:$C$9,2) -> 41935 | V4: =O4*VLOOKUP(H4,'Délai de reglement '!$A$5:$C$9,3) -> 397.6245 | X4: =IFERROR(INDEX('Délai de reglement '!$B$13:$D$14,MATCH(J4,'Délai de reglement '!$A$13:$A$14,0),MATCH(H4,'Délai de reglement '!$B$12:$D$12,0)),"") | AA4: 42261 | AB4: =IF(AA4="","",AA4+20) -> 42281 | AC4: =MONTH(AB4) -> 10
A5: Guillemin | B5: Victor | H5: CPAM | I5: Non | K5: Phebologie | L5: Non | M5: 1 | N5: 1 | O5: =IF(N5=1,VLOOKUP(M5,'Grille Tarifaire '!$A$6:$E$14,4),VLOOKUP(M5,'Grille Tarifaire '!$A$6:$E$14,5)) -> 589.85 | P5: 41524 | Q5: =IF(P5="","",P5+20) -> 41544 | R5: 41897 | S5: =IF(R5="","",R5+20) -> 41917 | T5: =MONTH(S5) -> 10 | U5: =S5+'Délai de reglement '!$B$6+VLOOKUP(H5,'Délai de reglement '!$A$5:$C$9,2) -> 41923 | V5: =O5*VLOOKUP(H5,'Délai de reglement '!$A$5:$C$9,3) -> 383.4025 | X5: =IFERROR(INDEX('Délai de reglement '!$B$13:$D$14,MATCH(J5,'Délai de reglement '!$A$13:$A$14,0),MATCH(H5,'Délai de reglement '!$B$12:$D$12,0)),"") | AA5: 42261 | AB5: =IF(AA5="","",AA5+20) -> 42281 | AC5: =MONTH(AB5) -> 10
A6: Dupont | B6: Marie | H6: CPAM | I6: Oui | J6: AG2R | K6: Rhumathologie | L6: Oui | M6: 5 | N6: 1 | O6: =IF(N6=1,VLOOKUP(M6,'Grille Tarifaire '!$A$6:$E$14,4),VLOOKUP(M6,'Grille Tarifaire '!$A$6:$E$14,5)) -> 619.94 | P6: 41554 | Q6: =IF(P6="","",P6+20) -> 41574 | R6: 41918 | S6: =IF(R6="","",R6+20) -> 41938 | T6: =MONTH(S6) -> 10 | U6: =S6+'Délai de reglement '!$B$6+VLOOKUP(H6,'Délai de reglement '!$A$5:$C$9,2) -> 41944 | V6: =O6*VLOOKUP(H6,'Délai de reglement '!$A$5:$C$9,3) -> 402.961 | X6: =IFERROR(INDEX('Délai de reglement '!$B$13:$D$14,MATCH(J6,'Délai de reglement '!$A$13:$A$14,0),MATCH(H6,'Délai de reglement '!$B$12:$D$12,0)),"") -> 7 | AA6: 42268 | AB6: =IF(AA6="","",AA6+20) -> 42288 | AC6: =MONTH(AB6) -> 10
A7: Durand | B7: Jean Yves | H7: MSA | I7: Oui | J7: AG2R | K7: Rhumathologie | L7: Oui | M7: 5 | N7: 0 | O7: =IF(N7=1,VLOOKUP(M7,'Grille Tarifaire '!$A$6:$E$14,4),VLOOKUP(M7,'Grille Tarifaire '!$A$6:$E$14,5)) -> 642.94 | P7: 41554 | Q7: =IF(P7="","",P7+20) -> 41574 | R7: 41918 | S7: =IF(R7="","",R7+20) -> 41938 | T7: =MONTH(S7) -> 10 | U7: =S7+'Délai de reglement '!$B$6+VLOOKUP(H7,'Délai de reglement '!$A$5:$C$9,2) -> 41944 | V7: =O7*VLOOKUP(H7,'Délai de reglement '!$A$5:$C$9,3) -> 417.911 | X7: =IFERROR(INDEX('Délai de reglement '!$B$13:$D$14,MATCH(J7,'Délai de reglement '!$A$13:$A$14,0),MATCH(H7,'Délai de reglement '!$B$12:$D$12,0)),"") -> 8 | AA7: 42268 | AB7: =IF(AA7="","",AA7+20) -> 42288 | AC7: =MONTH(AB7) -> 10
A8: Chezot | B8: Yvettes | H8: RSI | I8: Non | K8: Rhumathologie | L8: Oui | M8: 5 | N8: 0 | O8: =IF(N8=1,VLOOKUP(M8,'Grille Tarifaire '!$A$6:$E$14,4),VLOOKUP(M8,'Grille Tarifaire '!$A$6:$E$14,5)) -> 642.94 | P8: 41561 | Q8: =IF(P8="","",P8+20) -> 41581 | R8: 41925 | S8: =IF(R8="","",R8+20) -> 41945 | T8: =MONTH(S8) -> 11 | U8: =S8+'Délai de reglement '!$B$6+VLOOKUP(H8,'Délai de reglement '!$A$5:$C$9,2) -> 41963 | V8: =O8*VLOOKUP(H8,'Délai de reglement '!$A$5:$C$9,3) -> 417.911 | X8: =IFERROR(INDEX('Délai de reglement '!$B$13:$D$14,MATCH(J8,'Délai de reglement '!$A$13:$A$14,0),MATCH(H8,'Délai de reglement '!$B$12:$D$12,0)),"") | AA8: 42275 | AB8: =IF(AA8="","",AA8+20) -> 42295 | AC8: =MONTH(AB8) -> 10
A9: Launay | B9: Sonia | H9: CPAM | I9: Non | K9: Rhumathologie | L9: Oui | M9: 5 | N9: 0 | O9: =IF(N9=1,VLOOKUP(M9,'Grille Tarifaire '!$A$6:$E$14,4),VLOOKUP(M9,'Grille Tarifaire '!$A$6:$E$14,5)) -> 642.94 | P9: 41561 | Q9: =IF(P9="","",P9+20) -> 41581 | R9: 41925 | S9: =IF(R9="","",R9+20) -> 41945 | T9: =MONTH(S9) -> 11 | U9: =S9+'Délai de reglement '!$B$6+VLOOKUP(H9,'Délai de reglement '!$A$5:$C$9,2) -> 41951 | V9: =O9*VLOOKUP(H9,'Délai de reglement '!$A$5:$C$9,3) -> 417.911 | X9: =IFERROR(INDEX('Délai de reglement '!$B$13:$D$14,MATCH(J9,'Délai de reglement '!$A$13:$A$14,0),MATCH(H9,'Délai de reglement '!$B$12:$D$12,0)),"") | AA9: 42275 | AB9: =IF(AA9="","",AA9+20) -> 42295 | AC9: =MONTH(AB9) -> 10
A10: De Chateauvieux | B10: Pascaline | H10: CPAM | I10: Oui | J10: Harmonie Mutuelle | K10: Rhumathologie | L10: Non | M10: 5 | N10: 0 | O10: =IF(N10=1,VLOOKUP(M10,'Grille Tarifaire '!$A$6:$E$14,4),VLOOKUP(M10,'Grille Tarifaire '!$A$6:$E$14,5)) -> 642.94 | P10: 41568 | Q10: =IF(P10="","",P10+20) -> 41588 | R10: 41932 | S10: =IF(R10="","",R10+20) -> 41952 | T10: =MONTH(S10) -> 11 | U10: =S10+'Délai de reglement '!$B$6+VLOOKUP(H10,'Délai de reglement '!$A$5:$C$9,2) -> 41958 | V10: =O10*VLOOKUP(H10,'Délai de reglement '!$A$5:$C$9,3) -> 417.911 | X10: =IFERROR(INDEX('Délai de reglement '!$B$13:$D$14,MATCH(J10,'Délai de reglement '!$A$13:$A$14,0),MATCH(H10,'Délai de reglement '!$B$12:$D$12,0)),"") -> 6 | AA10: 42282 | AB10: =IF(AA10="","",AA10+20) -> 42302 | AC10: =MONTH(AB10) -> 10
A11: Mula | B11: Mathieu | H11: RSI | I11: Oui | J11: AG2R | K11: Rhumathologie | L11: Non | M11: 5 | N11: 0 | O11: =IF(N11=1,VLOOKUP(M11,'Grille Tarifaire '!$A$6:$E$14,4),VLOOKUP(M11,'Grille Tarifaire '!$A$6:$E$14,5)) -> 642.94 | P11: 41568 | Q11: =IF(P11="","",P11+20) -> 41588 | R11: 41932 | S11: =IF(R11="","",R11+20) -> 41952 | T11: =MONTH(S11) -> 11 | U11: =S11+'Délai de reglement '!$B$6+VLOOKUP(H11,'Délai de reglement '!$A$5:$C$9,2) -> 41970 | V11: =O11*VLOOKUP(H11,'Délai de reglement '!$A$5:$C$9,3) -> 417.911 | X11: =IFERROR(INDEX('Délai de reglement '!$B$13:$D$14,MATCH(J11,'Délai de reglement '!$A$13:$A$14,0),MATCH(H11,'Délai de reglement '!$B$12:$D$12,0)),"") -> 6 | AA11: 42282 | AB11: =IF(AA11="","",AA11+20) -> 42302 | AC11: =MONTH(AB11) -> 10
A12: de Mula | B12: Sandrine | H12: RSI | I12: Non | K12: Phebologie | L12: Non | M12: 1 | N12: 0 | O12: =IF(N12=1,VLOOKUP(M12,'Grille Tarifaire '!$A$6:$E$14,4),VLOOKUP(M12,'Grille Tarifaire '!$A$6:$E$14,5)) -> 611.73 | P12: 41568 | Q12: =IF(P12="","",P12+20) -> 41588 | R12: 41932 | S12: =IF(R12="","",R12+20) -> 41952 | T12: =MONTH(S12) -> 11 | U12: =S12+'Délai de reglement '!$B$6+VLOOKUP(H12,'Délai de reglement '!$A$5:$C$9,2) -> 41970 | V12: =O12*VLOOKUP(H12,'Délai de reglement '!$A$5:$C$9,3) -> 397.6245 | X12: =IFERROR(INDEX('Délai de reglement '!$B$13:$D$14,MATCH(J12,'Délai de reglement '!$A$13:$A$14,0),MATCH(H12,'Délai de reglement '!$B$12:$D$12,0)),"") | AA12: 42282 | AB12: =IF(AA12="","",AA12+20) -> 42302 | AC12: =MONTH(AB12) -> 10
A13: de Vaubicourt | B13: Antoine | H13: CPAM | I13: Non | K13: Phebologie | L13: Oui | M13: 1 | N13: 1 | O13: =IF(N13=1,VLOOKUP(M13,'Grille Tarifaire '!$A$6:$E$14,4),VLOOKUP(M13,'Grille Tarifaire '!$A$6:$E$14,5)) -> 589.85 | P13: 41575 | Q13: =IF(P13="","",P13+20) -> 41595 | R13: 41939 | S13: =IF(R13="","",R13+20) -> 41959 | T13: =MONTH(S13) -> 11 | U13: =S13+'Délai de reglement '!$B$6+VLOOKUP(H13,'Délai de reglement '!$A$5:$C$9,2) -> 41965 | V13: =O13*VLOOKUP(H13,'Délai de reglement '!$A$5:$C$9,3) -> 383.4025 | X13: =IFERROR(INDEX('Délai de reglement '!$B$13:$D$14,MATCH(J13,'Délai de reglement '!$A$13:$A$14,0),MATCH(H13,'Délai de reglement '!$B$12:$D$12,0)),"") | AA13: 42289 | AB13: =IF(AA13="","",AA13+20) -> 42309 | AC13: =MONTH(AB13) -> 11
A14: Pauchon | B14: Mathilde | H14: CPAM | I14: Oui | J14: Harmonie Mutuelle | K14: Rhumathologie | L14: Non | M14: 5 | N14: 0 | O14: =IF(N14=1,VLOOKUP(M14,'Grille Tarifaire '!$A$6:$E$14,4),VLOOKUP(M14,'Grille Tarifaire '!$A$6:$E$14,5)) -> 642.94 | P14: 41582 | Q14: =IF(P14="","",P14+20) -> 41602 | R14: 41946 | S14: =IF(R14="","",R14+20) -> 41966 | T14: =MONTH(S14) -> 11 | U14: =S14+'Délai de reglement '!$B$6+VLOOKUP(H14,'Délai de reglement '!$A$5:$C$9,2) -> 41972 | V14: =O14*VLOOKUP(H14,'Délai de reglement '!$A$5:$C$9,3) -> 417.911 | X14: =IFERROR(INDEX('Délai de reglement '!$B$13:$D$14,MATCH(J14,'Délai de reglement '!$A$13:$A$14,0),MATCH(H14,'Délai de reglement '!$B$12:$D$12,0)),"") -> 6 | AA14: 42296 | AB14: =IF(AA14="","",AA14+20) -> 42316 | AC14: =MONTH(AB14) -> 11
A15: Weiller | B15: Jonathan | H15: CPAM | I15: Oui | J15: Harmonie Mutuelle | K15: Rhumathologie | L15: Non | M15: 5 | N15: 0 | O15: =IF(N15=1,VLOOKUP(M15,'Grille Tarifaire '!$A$6:$E$14,4),VLOOKUP(M15,'Grille Tarifaire '!$A$6:$E$14,5)) -> 642.94 | P15: 41589 | Q15: =IF(P15="","",P15+20) -> 41609 | R15: 41953 | S15: =IF(R15="","",R15+20) -> 41973 | T15: =MONTH(S15) -> 11 | U15: =S15+'Délai de reglement '!$B$6+VLOOKUP(H15,'Délai de reglement '!$A$5:$C$9,2) -> 41979 | V15: =O15*VLOOKUP(H15,'Délai de reglement '!$A$5:$C$9,3) -> 417.911 | X15: =IFERROR(INDEX('Délai de reglement '!$B$13:$D$14,MATCH(J15,'Délai de reglement '!$A$13:$A$14,0),MATCH(H15,'Délai de reglement '!$B$12:$D$12,0)),"") -> 6 | AA15: 42303 | AB15: =IF(AA15="","",AA15+20) -> 42323 | AC15: =MONTH(AB15) -> 11
A16: de Monplanet | B16: Etienne | H16: CPAM | I16: Non | K16: Rhumathologie | L16: Non | M16: 5 | N16: 0 | O16: =IF(N16=1,VLOOKUP(M16,'Grille Tarifaire '!$A$6:$E$14,4),VLOOKUP(M16,'Grille Tarifaire '!$A$6:$E$14,5)) -> 642.94 | Q16: =IF(P16="","",P16+20) | R16: 41708 | S16: =IF(R16="","",R16+20) -> 41728 | T16: =MONTH(S16) -> 3 | U16: =S16+'Délai de reglement '!$B$6+VLOOKUP(H16,'Délai de reglement '!$A$5:$C$9,2) -> 41734 | V16: =O16*VLOOKUP(H16,'Délai de reglement '!$A$5:$C$9,3) -> 417.911 | X16: =IFERROR(INDEX('Délai de reglement '!$B$13:$D$14,MATCH(J16,'Délai de reglement '!$A$13:$A$14,0),MATCH(H16,'Délai de reglement '!$B$12:$D$12,0)),"") | AA16: 42072 | AB16: =IF(AA16="","",AA16+20) -> 42092 | AC16: =MONTH(AB16) -> 3 | AD16: 41940
A17: de Monplanet | B17: Victor | H17: CPAM | I17: Non | K17: Rhumathologie | L17: Non | M17: 5 | N17: 0 | O17: =IF(N17=1,VLOOKUP(M17,'Grille Tarifaire '!$A$6:$E$14,4),VLOOKUP(M17,'Grille Tarifaire '!$A$6:$E$14,5)) -> 642.94 | Q17: =IF(P17="","",P17+20) | R17: 41708 | S17: =IF(R17="","",R17+20) -> 41728 | T17: =MONTH(S17) -> 3 | U17: =S17+'Délai de reglement '!$B$6+VLOOKUP(H17,'Délai de reglement '!$A$5:$C$9,2) -> 41734 | V17: =O17*VLOOKUP(H17,'Délai de reglement '!$A$5:$C$9,3) -> 417.911 | X17: =IFERROR(INDEX('Délai de reglement '!$B$13:$D$14,MATCH(J17,'Délai de reglement '!$A$13:$A$14,0),MATCH(H17,'Délai de reglement '!$B$12:$D$12,0)),"") | AA17: 42072 | AB17: =IF(AA17="","",AA17+20) -> 42092 | AC17: =MONTH(AB17) -> 3 | AD17: 41940
A18: de Monplanet | B18: Hubert | H18: CPAM | I18: Oui | J18: AG2R | K18: Rhumathologie | L18: Non | M18: 5 | N18: 0 | O18: =IF(N18=1,VLOOKUP(M18,'Grille Tarifaire '!$A$6:$E$14,4),VLOOKUP(M18,'Grille Tarifaire '!$A$6:$E$14,5)) -> 642.94 | P18: 41348 | Q18: =IF(P18="","",P18+20) -> 41368 | R18: 41708 | S18: =IF(R18="","",R18+20) -> 41728 | T18: =MONTH(S18) -> 3 | U18: =S18+'Délai de reglement '!$B$6+VLOOKUP(H18,'Délai de reglement '!$A$5:$C$9,2) -> 41734 | V18: =O18*VLOOKUP(H18,'Délai de reglement '!$A$5:$C$9,3) -> 417.911 | X18: =IFERROR(INDEX('Délai de reglement '!$B$13:$D$14,MATCH(J18,'Délai de reglement '!$A$13:$A$14,0),MATCH(H18,'Délai de reglement '!$B$12:$D$12,0)),"") -> 7 | AA18: 42072 | AB18: =IF(AA18="","",AA18+20) -> 42092 | AC18: =MONTH(AB18) -> 3 | AD18: 41940
A19: Vaubicourt | B19: Jacques | H19: CPAM | I19: Non | K19: Rhumathologie | L19: Non | M19: 5 | N19: 0 | O19: =IF(N19=1,VLOOKUP(M19,'Grille Tarifaire '!$A$6:$E$14,4),VLOOKUP(M19,'Grille Tarifaire '!$A$6:$E$14,5)) -> 642.94 | Q19: =IF(P19="","",P19+20) | R19: 41960 | S19: =IF(R19="","",R19+20) -> 41980 | T19: =MONTH(S19) -> 12 | U19: =S19+'Délai de reglement '!$B$6+VLOOKUP(H19,'Délai de reglement '!$A$5:$C$9,2) -> 41986 | V19: =O19*VLOOKUP(H19,'Délai de reglement '!$A$5:$C$9,3) -> 417.911 | X19: =IFERROR(INDEX('Délai de reglement '!$B$13:$D$14,MATCH(J19,'Délai de reglement '!$A$13:$A$14,0),MATCH(H19,'Délai de reglement '!$B$12:$D$12,0)),"")
A20: de Vaubicourt | B20: Pierre | H20: CPAM | I20: Oui | J20: AG2R | K20: Rhumathologie | L20: NON | M20: 5 | N20: 0 | O20: =IF(N20=1,VLOOKUP(M20,'Grille Tarifaire '!$A$6:$E$14,4),VLOOKUP(M20,'Grille Tarifaire '!$A$6:$E$14,5)) -> 642.94 | R20: 41673 | S20: =IF(R20="","",R20+20) -> 41693 | T20: =MONTH(S20) -> 2 | U20: =S20+'Délai de reglement '!$B$6+VLOOKUP(H20,'Délai de reglement '!$A$5:$C$9,2) -> 41699 | V20: =O20*VLOOKUP(H20,'Délai de reglement '!$A$5:$C$9,3) -> 417.911 | X20: =IFERROR(INDEX('Délai de reglement '!$B$13:$D$14,MATCH(J20,'Délai de reglement '!$A$13:$A$14,0),MATCH(H20,'Délai de reglement '!$B$12:$D$12,0)),"") -> 7
A21: de Vaubicourt | B21: Sophie | H21: CPAM | I21: Non | K21: Rhumathologie | L21: Non | M21: 5 | N21: 0 | O21: =IF(N21=1,VLOOKUP(M21,'Grille Tarifaire '!$A$6:$E$14,4),VLOOKUP(M21,'Grille Tarifaire '!$A$6:$E$14,5)) -> 642.94 | R21: 41645 | S21: =IF(R21="","",R21+20) -> 41665 | T21: =MONTH(S21) -> 1 | U21: =S21+'Délai de reglement '!$B$6+VLOOKUP(H21,'Délai de reglement '!$A$5:$C$9,2) -> 41671 | V21: =O21*VLOOKUP(H21,'Délai de reglement '!$A$5:$C$9,3) -> 417.911 | X21: =IFERROR(INDEX('Délai de reglement '!$B$13:$D$14,MATCH(J21,'Délai de reglement '!$A$13:$A$14,0),MATCH(H21,'Délai de reglement '!$B$12:$D$12,0)),"")

Sheet Grille Tarifaire 
C1: Grille tarifaire applicable selon l'avenant n°10 à la convention nationale thermale publié au J.O. du 1 Mars 2014
A6: Code tarifs | B6: Pathologie | C6: Type de soin | D6: Tarif Forfaitaire de Responsabilité | E6: Tarif Limite de Facturation
A7: 1 | B7: Phlebologie | C7: 54 soins + 18 séances Kiné | D7: =378.25+211.6 -> 589.85 | E7: =392.28+219.45 -> 611.73
A8: 2 | B8: Phlebologie | C8: 63 soins + 9 séances Kine | D8: =441.29+105.72 -> 547.01 | E8: =457.66+109.64 -> 567.3
A9: 3 | B9: Phlebologie | C9: 72 soins | D9: 472.8 | E9: 490.34
A10: 4 | B10: Phlebologie + Rhumatologie | C10: 72 soins + 36 soins | D10: =472.8+236.39 -> 709.19 | E10: =490.34+245.16 -> 735.5
A11: 5 | B11: Rhumatologie | C11: 54 soins + 18 séances Kiné | D11: =408.34+211.6 -> 619.94 | E11: =423.49+219.45 -> 642.94
A12: 6 | B12: =+B11 -> Rhumatologie | C12: 63 soins + 9 séances Kine | D12: =476.41+105.72 -> 582.13 | E12: =494.08+109.64 -> 603.72
A13: 7 | B13: Rhumatologie | C13: 72 soins | D13: 510.51 | E13: 529.45
A14: 8 | B14: Rhumatologie + Phlebologie | C14: 72 soins + 36 soins | D14: =510.52+255.25 -> 765.77 | E14: =529.45+264.72 -> 794.17

Sheet Délai de reglement 
C1: Délai de reglement
A5: Element | B5: En jours | C5: Taux de prise en charge
A6: Télétransmission dossier Organisme | B6: 3 | C6: 0.65 | E6: Télétransmission les dossiers les mardi
A7: CPAM | B7: 3 | C7: 0.65
A8: RSI | B8: 15 | C8: 0.65
A9: MSA | B9: 20 | C9: 0.65
A12: Element | B12: CPAM | C12: RSI | D12: MSA | E12: Taux prise en charge
A13: Harmonie Mutuelle | B13: 6 | C13: 8 | D13: 10 | E13: 0.35 | F13: Le jeudi de la semaine suivante le décompte de l'organisme
A14: AG2R | B14: 7 | C14: 6 | D14: 8 | E14: 0.35 | F14: Le mardi de la semaine suivante le décompte de l'organisme
