Workbook
Name CHAMPS: TABC40F!$A$2:$O$308
Name Identifiant: TABC40F!$A$2:$A$49
Name INCONNU: Feuil1!$A$2:$E$6

Sheet TABC40F
A1: Nom & Prénom | B1: Nom Ind | C1: Prénom | D1: Commune | E1: ADVIL 1 | F1: ALLEVYN 1 | G1: ALVITYL 1 | H1: RENUTRYL 1 | I1: NV YW | J1: ADVIL 2 | K1: ALLEVYN 2 | L1: ALVITYL 2 | M1: RENUTRYL 2 | N1: FREQUENCE | O1: DDV
A2: =B2 & " " & C2 -> ABARKI Boudjemaa | B2: ABARKI | C2: Boudjemaa | D2: EYRAGUES | E2: P3 | F2: P4 | G2: P1 | H2: P2 | I2: 0 | J2: P4 | K2: P3 | L2: P2 | M2: P1 | N2: 4 | O2: 41408
A3: =B3 & " " & C3 -> ABAUTRET Gerard | B3: ABAUTRET | C3: Gerard | D3: VAISON LA ROMAINE | E3: P1 | F3: P4 | G3: P2 | H3: P3 | I3: 0 | J3: P2 | K3: P1 | L3: P3 | M3: P4 | N3: 6 | O3: 41534
A4: =B4 & " " & C4 -> ABAZIOU Jean francois | B4: ABAZIOU | C4: Jean francois | D4: VERQUIERES | E4: P1 | F4: P4 | G4: P2 | H4: P3 | I4: 0 | J4: P2 | K4: P1 | L4: P3 | M4: P4 | N4: 5
A5: =B5 & " " & C5 -> ADDALA Malika | B5: ADDALA | C5: Malika | D5: PIOLENC | E5: P1 | F5: P4 | G5: P2 | H5: P3 | I5: 0 | J5: P2 | K5: P3 | L5: P1 | M5: P4 | N5: 4
A6: =B6 & " " & C6 -> ALBESA Floreal | B6: ALBESA | C6: Floreal | D6: BEAUCAIRE | E6: P3 | F6: P4 | G6: P1 | H6: P2 | I6: 0 | J6: P4 | K6: P3 | L6: P2 | M6: P1 | N6: 4
A7: =B7 & " " & C7 -> ALEXANDRE Brigitte | B7: ALEXANDRE | C7: Brigitte | D7: EYGUIERES | E7: P1 | F7: P4 | G7: P2 | H7: P3 | I7: 0 | J7: P2 | K7: P1 | L7: P3 | M7: P4 | N7: 5 | O7: 41551
A8: =B8 & " " & C8 -> AMIC Philippe | B8: AMIC | C8: Philippe | D8: NOVES | E8: P1 | F8: P4 | G8: P2 | H8: P3 | I8: 1 | J8: P2 | K8: P1 | L8: P3 | M8: P4 | N8: 5 | O8: 41584
A9: =B9 & " " & C9 -> AMSELEM Alain | B9: AMSELEM | C9: Alain | D9: VALREAS | E9: P1 | F9: P4 | G9: P3 | H9: P2 | I9: 1 | J9: P2 | K9: P3 | L9: P4 | M9: P1 | N9: 4 | O9: 41575
A10: =B10 & " " & C10 -> ANTHERIEU Olivier | B10: ANTHERIEU | C10: Olivier | D10: L ARDOISE | E10: P1 | F10: P4 | G10: P2 | H10: P3 | I10: 0 | J10: P2 | K10: P1 | L10: P3 | M10: P4 | N10: 6 | O10: 41550
A11: =B11 & " " & C11 -> APARICIO Sylvie | B11: APARICIO | C11: Sylvie | D11: LIRAC | E11: P1 | F11: P4 | G11: P2 | H11: P3 | I11: 0 | J11: P2 | K11: P1 | L11: P3 | M11: P4 | N11: 5
A12: =B12 & " " & C12 -> ARAUD Didier | B12: ARAUD | C12: Didier | D12: CAVAILLON | E12: P3 | F12: P4 | G12: P1 | H12: P2 | I12: 0 | J12: P4 | K12: P3 | L12: P2 | M12: P1 | N12: 4
A13: =B13 & " " & C13 -> ARBOMONT Bernard | B13: ARBOMONT | C13: Bernard | D13: AVIGNON | E13: P1 | F13: P4 | G13: P3 | H13: P2 | I13: 1 | J13: P2 | K13: P3 | L13: P4 | M13: P1 | N13: 4 | O13: 41568
A14: =B14 & " " & C14 -> ARBOMONT Bernard | B14: ARBOMONT | C14: Bernard | D14: LE THOR | E14: P1 | F14: P4 | G14: P3 | H14: P2 | I14: 1 | J14: P2 | K14: P3 | L14: P4 | M14: P1 | N14: 4 | O14: 41568
A15: =B15 & " " & C15 -> ARNAUD Denis | B15: ARNAUD | C15: Denis | D15: ORANGE | E15: P1 | F15: P4 | G15: P2 | H15: P3 | I15: 0 | J15: P2 | K15: P4 | L15: P3 | M15: P1 | N15: 4 | O15: 41451
A16: =B16 & " " & C16 -> ARNAUD Henri | B16: ARNAUD | C16: Henri | D16: GOUDARGUES | E16: P1 | F16: P4 | G16: P2 | H16: P3 | I16: 0 | J16: P2 | K16: P1 | L16: P3 | M16: P4 | N16: 5 | O16: 41082
A17: =B17 & " " & C17 -> ARRES Gilles | B17: ARRES | C17: Gilles | D17: UCHAUX | E17: P1 | F17: P4 | G17: P2 | H17: P3 | I17: 0 | J17: P2 | K17: P4 | L17: P3 | M17: P1 | N17: 4 | O17: 41348
A18: =B18 & " " & C18 -> ATTARD Alain | B18: ATTARD | C18: Alain | D18: CAVAILLON | E18: P1 | F18: P4 | G18: P2 | H18: P3 | I18: 0 | J18: P2 | K18: P1 | L18: P3 | M18: P4 | N18: 5 | O18: 41551
A19: =B19 & " " & C19 -> ATTARD Alain | B19: ATTARD | C19: Alain | D19: CAVAILLON CEDEX | E19: P1 | F19: P4 | G19: P2 | H19: P3 | I19: 0 | J19: P2 | K19: P1 | L19: P3 | M19: P4 | N19: 5 | O19: 41551
A20: =B20 & " " & C20 -> AUDINO Gerard | B20: AUDINO | C20: Gerard | D20: VEDENE | E20: P1 | F20: P4 | G20: P2 | H20: P3 | I20: 0 | J20: P1 | K20: P2 | L20: P3 | M20: P4 | N20: 4 | O20: 41523
A21: =B21 & " " & C21 -> AUFFRANC Nicolas | B21: AUFFRANC | C21: Nicolas | D21: GARGAS | E21: P1 | F21: P4 | G21: P2 | H21: P3 | I21: 0 | J21: P2 | K21: P1 | L21: P3 | M21: P4 | N21: 5 | O21: 41561
A22: =B22 & " " & C22 -> AUGIER Herve | B22: AUGIER | C22: Herve | D22: CABANNES | E22: P1 | F22: P4 | G22: P2 | H22: P3 | I22: 1 | J22: P2 | K22: P1 | L22: P3 | M22: P4 | N22: 5 | O22: 41570
A23: =B23 & " " & C23 -> AVY Michel | B23: AVY | C23: Michel | D23: EYGALIERES | E23: P1 | F23: P4 | G23: P2 | H23: P3 | I23: 1 | J23: P2 | K23: P1 | L23: P3 | M23: P4 | N23: 5 | O23: 41572
A24: =B24 & " " & C24 -> BARBE Paul | B24: BARBE | C24: Paul | D24: AUBIGNAN | E24: P1 | F24: P4 | G24: P3 | H24: P2 | I24: 0 | J24: P2 | K24: P3 | L24: P4 | M24: P1 | N24: 4 | O24: 40938
... A26: =B26 & " " & C26 -> BARBELENET Francois | B26: BARBELENET | C26: Francois | D26: VISAN | E26: P3 | F26: P4 | G26: P1 | H26: P2 | I26: 0 | J26: P4 | K26: P3 | L26: P2 | M26: P1 | N26: 4 | O26: 41555
A27: =B27 & " " & C27 -> BARONTINI Beatrice | B27: BARONTINI | C27: Beatrice | D27: CHEVAL BLANC | E27: P1 | F27: P4 | G27: P2 | H27: P3 | I27: 0 | J27: P2 | K27: P1 | L27: P3 | M27: P4 | N27: 5
A28: =B28 & " " & C28 -> BARROT LAMBERT Martine | B28: BARROT LAMBERT | C28: Martine | D28: JONQUIERES ST VINCENT | E28: P3 | F28: P4 | G28: P1 | H28: P2 | I28: 0 | J28: P4 | K28: P3 | L28: P2 | M28: P1 | N28: 4 | O28: 41562
A29: =B29 & " " & C29 -> BARROT LAMBERT Martine | B29: BARROT LAMBERT | C29: Martine | D29: JONQUIERES ST VINCENT | E29: P3 | F29: P4 | G29: P1 | H29: P2 | I29: 0 | J29: P4 | K29: P3 | L29: P2 | M29: P1 | N29: 4 | O29: 41562
A30: =B30 & " " & C30 -> BARTEILLE Cecile | B30: BARTEILLE | C30: Cecile | D30: BAGNOLS SUR CEZE | E30: P1 | F30: P4 | G30: P2 | H30: P3 | I30: 0 | J30: P2 | K30: P1 | L30: P3 | M30: P4 | N30: 5
A31: =B31 & " " & C31 -> BARTHEZ Jean louis | B31: BARTHEZ | C31: Jean louis | D31: BEAUCAIRE | E31: P1 | F31: P4 | G31: P2 | H31: P3 | I31: 0 | J31: P2 | K31: P4 | L31: P3 | M31: P1 | N31: 4 | O31: 41089
A32: =B32 & " " & C32 -> BASTEN Patrick | B32: BASTEN | C32: Patrick | D32: CARPENTRAS | E32: P1 | F32: P4 | G32: P2 | H32: P3 | I32: 0 | J32: P2 | K32: P1 | L32: P3 | M32: P4 | N32: 5 | O32: 41563
A33: =B33 & " " & C33 -> BAUDOUIN Norbert | B33: BAUDOUIN | C33: Norbert | D33: BELLEGARDE | E33: P1 | F33: P4 | G33: P2 | H33: P3 | I33: 0 | J33: P2 | K33: P1 | L33: P3 | M33: P4 | N33: 6
A34: =B34 & " " & C34 -> BEC Gerard | B34: BEC | C34: Gerard | D34: AVIGNON | E34: P1 | F34: P4 | G34: P3 | H34: P2 | I34: 0 | J34: P2 | K34: P3 | L34: P4 | M34: P1 | N34: 4 | O34: 41436
A35: =B35 & " " & C35 -> BERNIERI Damien | B35: BERNIERI | C35: Damien | D35: ROGNONAS | E35: P1 | F35: P4 | G35: P2 | H35: P3 | I35: 0 | J35: P2 | K35: P1 | L35: P3 | M35: P4 | N35: 5 | O35: 41551
A36: =B36 & " " & C36 -> BERTIER Jean stephane | B36: BERTIER | C36: Jean stephane | D36: ORANGE | E36: P1 | F36: P4 | G36: P2 | H36: P3 | I36: 1 | J36: P2 | K36: P4 | L36: P3 | M36: P1 | N36: 4 | O36: 41571
A37: =B37 & " " & C37 -> BERTRAND Jean baptiste | B37: BERTRAND | C37: Jean baptiste | D37: PERNES LES FONTAINES | E37: P1 | F37: P4 | G37: P2 | H37: P3 | I37: 0 | J37: P2 | K37: P1 | L37: P3 | M37: P4 | N37: 5 | O37: 41544
A38: =B38 & " " & C38 -> BESSET PRAT Claude | B38: BESSET PRAT | C38: Claude | D38: ST QUENTIN LA POTERIE | E38: P1 | F38: P4 | G38: P2 | H38: P3 | I38: 0 | J38: P2 | K38: P1 | L38: P3 | M38: P4 | N38: 5
A39: =B39 & " " & C39 -> BESSET PRAT Laetitia | B39: BESSET PRAT | C39: Laetitia | D39: ST QUENTIN LA POTERIE | E39: P1 | F39: P4 | G39: P2 | H39: P3 | I39: 1 | J39: P2 | K39: P1 | L39: P3 | M39: P4 | N39: 5 | O39: 41578
A40: =B40 & " " & C40 -> BLANC Florence | B40: BLANC | C40: Florence | D40: ST REMY DE PROVENCE | E40: P3 | F40: P4 | G40: P1 | H40: P2 | I40: 0 | J40: P4 | K40: P3 | L40: P2 | M40: P1 | N40: 4 | O40: 41247
A41: =B41 & " " & C41 -> BLANC Florence | B41: BLANC | C41: Florence | D41: ST REMY DE PROVENCE | E41: P3 | F41: P4 | G41: P1 | H41: P2 | I41: 0 | J41: P4 | K41: P3 | L41: P2 | M41: P1 | N41: 4 | O41: 41247
...

Sheet ORDRE PRESENTATION
A1: =TODAY() -> 41590 | B1: =TODAY() -> 41590
A2: NV YW | B2: NOM | C2: BONNEFONT Pierre | E2: =IFERROR(VLOOKUP(C2,CHAMPS,4,FALSE),"Inconnu") -> AVIGNON
A3: =VLOOKUP(C2,CHAMPS,9,FALSE) -> 1 | B3: ADVIL | C3: =IF(A3=0,IFERROR(VLOOKUP(C2,CHAMPS,5,FALSE),"Inconnu"),IFERROR(VLOOKUP(C2,CHAMPS,10,FALSE),"Inconnu")) -> P2 | D3: =IF(E2=D2,Feuil1!B6,"") | E3: =IF(E2=D2,Feuil1!C6,"") | F3: =IF(E2=D2,Feuil1!D6,"") | G3: =IF(D2=E2,Feuil1!E6,"")
B4: ALLEVYN | C4: =IF(A3=0,IFERROR(VLOOKUP(C2,CHAMPS,6,FALSE),"Inconnu"),IFERROR(VLOOKUP(C2,CHAMPS,11,FALSE),"Inconnu")) -> P3 | D4: =IF(E2=D2,Feuil1!B3,"") | E4: =IF(E2=D2,Feuil1!C3,"") | F4: =IF(E2=D2,Feuil1!D3,"") | G4: =IF(D2=E2,Feuil1!E3,"")
B5: ALVITYL | C5: =IF(A3=0,IFERROR(VLOOKUP(C2,CHAMPS,7,FALSE),"Inconnu"),IFERROR(VLOOKUP(C2,CHAMPS,12,FALSE),"Inconnu")) -> P4 | D5: =IF(E2=D2,Feuil1!B4,"") | E5: =IF(E2=D2,Feuil1!C4,"") | F5: =IF(E2=D2,Feuil1!D4,"") | G5: =IF(D2=E2,Feuil1!E4,"")
B6: RENUTRYL | C6: =IF(A3=0,IFERROR(VLOOKUP(C2,CHAMPS,8,FALSE),"Inconnu"),IFERROR(VLOOKUP(C2,CHAMPS,13,FALSE),"Inconnu")) -> P1 | D6: =IF(E2=B2,Feuil1!B5,"") | E6: =IF(E2=D2,Feuil1!C5,"") | F6: =IF(E2=D2,Feuil1!D5,"") | G6: =IF(D2=E2,Feuil1!E5,"")
A7: DDV | B7: =IF(AND(ISNUMBER(VLOOKUP(C2,CHAMPS,15,FALSE)),VLOOKUP(C2,CHAMPS,15,FALSE)>0),VLOOKUP(C2,CHAMPS,15,FALSE),"") -> 41569

Sheet Feuil1
B2: 41518 | C2: 41548 | D2: 41579 | E2: 41609
A3: ALLEVYN LIFE | B3: =IF(AND(TODAY()>DATE(2013,9,1),TODAY()<DATE(2013,9,30)),"P1","") | C3: =IF(AND(TODAY()>DATE(2013,10,1),TODAY()<=DATE(2013,10,31)),"P2","") | D3: =IF(AND(TODAY()>DATE(2013,11,1),TODAY()<=DATE(2013,11,30)),"P3","") -> P3 | E3: =IF(AND(TODAY()>DATE(2013,12,1),TODAY()<DATE(2013,12,31)),"P4","")
A4: ALVITYL | B4: =IF(AND(TODAY()>DATE(2013,9,1),TODAY()<DATE(2013,9,30)),"P2","") | C4: =IF(AND(TODAY()>DATE(2013,10,1),TODAY()<=DATE(2013,10,31)),"P1","") | D4: =IF(AND(TODAY()>DATE(2013,11,1),TODAY()<=DATE(2013,11,31)),"P4","") -> P4 | E4: =IF(AND(TODAY()>DATE(2013,12,1),TODAY()<DATE(2013,12,31)),"P3","")
A5: RENUTRYL | B5: =IF(AND(TODAY()>DATE(2013,9,1),TODAY()<DATE(2013,9,30)),"P3","") | C5: =IF(AND(TODAY()>DATE(2013,10,1),TODAY()<=DATE(2013,10,31)),"P4","") | D5: =IF(AND(TODAY()>DATE(2013,11,1),TODAY()<=DATE(2013,11,31)),"P1","") -> P1 | E5: =IF(AND(TODAY()>DATE(2013,12,1),TODAY()<DATE(2013,12,31)),"P2","")
A6: ADVIL | B6: =IF(AND(TODAY()>DATE(2013,9,1),TODAY()<DATE(2013,9,30)),"P4","") | C6: =IF(AND(TODAY()>DATE(2013,10,1),TODAY()<=DATE(2013,10,31)),"P3","") | D6: =IF(AND(TODAY()>DATE(2013,11,1),TODAY()<=DATE(2013,11,31)),"P2","") -> P2 | E6: =IF(AND(TODAY()>DATE(2013,12,1),TODAY()<DATE(2013,12,31)),"P1","")
