Workbook

Sheet PRO
A1: Adresse | B1: Proprio | C1: Complément 1 | D1: Complément 2 | E1: Adresse propriétaire
A2: 11RUEALBERT CAMUS | B2: NISSAN | C2: NISSANCONCESSION | D2: NISSANFRANCHISE | E2: $PÀ1$1$1Ã9$2$9$2Àê23 RUE ALBERT CAMUSÀ423ê
A3: 12PASALBERT CAMUS | B3: RENAULT | C3: RENAULTREVENDEUR | D3: RENAULTINDEPENDANT | E3: $P$I$1$1$2Ã9$2$9$2Àê24 RUE ALBERT CAMUSÀ423ê
A4: 13RUEALBERT CAMUS | B4: CITROEN | C4: CITROENCONCESSION | D4: CITROENFRANCHISE | E4: $PÀ1$1$1Ã9$2$9$2Àê26 RUE ALBERT CAMUSÀ423ê
A5: 14ALLALBERT CAMUS | B5: DACIA | C5: DACIAREVENDEUR | D5: DACIAINDEPENDANT | E5: $PÀ1$1$1Ã9$7$9$2ÀLES TREMIERESÀ42820
A6: 15RUEALBERT CAMUS | B6: FORD | C6: FORDREVENDEUR | D6: FORDINDEPENDANT | E6: $P$I$1$1$2Ã9$2$9$2Àê28 RUE ALBERT CAMUSÀ423ê
A7: 16RUEALBERT CAMUS | B7: AUDI | C7: AUDICONCESSION | D7: AUDIFRANCHISE | E7: $UÀ1$1$2Ã2$2$9$2$CHEZ
A8: 17RUEALBERT CAMUS | B8: BMW | C8: BMWCONCESSION | D8: BMWFRANCHISE | E8: $PÀ1$2Á7ÀFê1$9$2$9$2Àê31 RUE ALBERT CAMUSÀ
A9: 18PASALBERT CAMUS | B9: MERCEDES | C9: MERCEDESREVENDEUR | D9: MERCEDESINDEPENDANT | E9: $PÀ1$2Á7ÀFê1$9$2$9$2Àê31 RUE ALBERT CAMUSÀ423
A10: 18RUEALBERT CAMUS | B10: ROVER | C10: ROVERCONCESSION | D10: ROVERFRANCHISE | E10: $PÀ1$1$1Ã9$2$9$2Àë3 RUE ALBERT CAMUSÀ423ê
A11: 125RUEALBERT THOMAS | B11: LADA | C11: LADAREVENDEUR | D11: LANCIAINDEPENDANT | E11: $PÀ1$2Á7ÀFê1$9$2$9$2Àê31 RUE ALBERT THOMASÀ
A12: 125RUEALBERT THOMAS | B12: LANCIA | C12: LANCIAREVENDEUR | D12: LANCIAINDEPENDANT | E12: $PÀ1$2Á7ÀFê1$9$2$9$2Àê31 RUE ALBERT THOMASÀ423
A13: 97RUEALBERT THOMAS | B13: GM | C13: GMCONCESSION | D13: GMFRANCHISE | E13: $PÀ1$1$1Ã9$2$9$2Àë3 RUE ALBERT THOMASÀ423ê

Sheet OPT
A1: Adresse | B1: Proprio | C1: Complément 1 | D1: Complément 2 | E1: Adresse propriétaire
A2: 11PASALBERT CAMUS | B2: =IFERROR(VLOOKUP($A2,PRO!$A$2:$E$13,2,FALSE),"") | C2: =IFERROR(VLOOKUP($A2,PRO!$A$2:$E$13,3,FALSE),"") | D2: =IFERROR(VLOOKUP($A2,PRO!$A$2:$E$13,4,FALSE),"") | E2: =IFERROR(VLOOKUP($A2,PRO!$A$2:$E$13,5,FALSE),"")
A3: 11RUEALBERT CAMUS | B3: =IFERROR(VLOOKUP($A3,PRO!$A$2:$E$13,2,FALSE),"") -> NISSAN | C3: =IFERROR(VLOOKUP($A3,PRO!$A$2:$E$13,3,FALSE),"") -> NISSANCONCESSION | D3: =IFERROR(VLOOKUP($A3,PRO!$A$2:$E$13,4,FALSE),"") -> NISSANFRANCHISE | E3: =IFERROR(VLOOKUP($A3,PRO!$A$2:$E$13,5,FALSE),"") -> $PÀ1$1$1Ã9$2$9$2Àê23 RUE ALBERT CAMUSÀ423ê
A4: 12PASALBERT CAMUS | B4: =IFERROR(VLOOKUP($A4,PRO!$A$2:$E$13,2,FALSE),"") -> RENAULT | C4: =IFERROR(VLOOKUP($A4,PRO!$A$2:$E$13,3,FALSE),"") -> RENAULTREVENDEUR | D4: =IFERROR(VLOOKUP($A4,PRO!$A$2:$E$13,4,FALSE),"") -> RENAULTINDEPENDANT | E4: =IFERROR(VLOOKUP($A4,PRO!$A$2:$E$13,5,FALSE),"") -> $P$I$1$1$2Ã9$2$9$2Àê24 RUE ALBERT CAMUSÀ423ê
A5: 13SQALBERT CAMUS | B5: =IFERROR(VLOOKUP($A5,PRO!$A$2:$E$13,2,FALSE),"") | C5: =IFERROR(VLOOKUP($A5,PRO!$A$2:$E$13,3,FALSE),"") | D5: =IFERROR(VLOOKUP($A5,PRO!$A$2:$E$13,4,FALSE),"") | E5: =IFERROR(VLOOKUP($A5,PRO!$A$2:$E$13,5,FALSE),"")
A6: 13RUEALBERT CAMUS | B6: =IFERROR(VLOOKUP($A6,PRO!$A$2:$E$13,2,FALSE),"") -> CITROEN | C6: =IFERROR(VLOOKUP($A6,PRO!$A$2:$E$13,3,FALSE),"") -> CITROENCONCESSION | D6: =IFERROR(VLOOKUP($A6,PRO!$A$2:$E$13,4,FALSE),"") -> CITROENFRANCHISE | E6: =IFERROR(VLOOKUP($A6,PRO!$A$2:$E$13,5,FALSE),"") -> $PÀ1$1$1Ã9$2$9$2Àê26 RUE ALBERT CAMUSÀ423ê
A7: 14PASALBERT CAMUS | B7: =IFERROR(VLOOKUP($A7,PRO!$A$2:$E$13,2,FALSE),"") | C7: =IFERROR(VLOOKUP($A7,PRO!$A$2:$E$13,3,FALSE),"") | D7: =IFERROR(VLOOKUP($A7,PRO!$A$2:$E$13,4,FALSE),"") | E7: =IFERROR(VLOOKUP($A7,PRO!$A$2:$E$13,5,FALSE),"")
A8: 14ALLALBERT CAMUS | B8: =IFERROR(VLOOKUP($A8,PRO!$A$2:$E$13,2,FALSE),"") -> DACIA | C8: =IFERROR(VLOOKUP($A8,PRO!$A$2:$E$13,3,FALSE),"") -> DACIAREVENDEUR | D8: =IFERROR(VLOOKUP($A8,PRO!$A$2:$E$13,4,FALSE),"") -> DACIAINDEPENDANT | E8: =IFERROR(VLOOKUP($A8,PRO!$A$2:$E$13,5,FALSE),"") -> $PÀ1$1$1Ã9$7$9$2ÀLES TREMIERESÀ42820
A9: 15RUEALBERT CAMUS | B9: =IFERROR(VLOOKUP($A9,PRO!$A$2:$E$13,2,FALSE),"") -> FORD | C9: =IFERROR(VLOOKUP($A9,PRO!$A$2:$E$13,3,FALSE),"") -> FORDREVENDEUR | D9: =IFERROR(VLOOKUP($A9,PRO!$A$2:$E$13,4,FALSE),"") -> FORDINDEPENDANT | E9: =IFERROR(VLOOKUP($A9,PRO!$A$2:$E$13,5,FALSE),"") -> $P$I$1$1$2Ã9$2$9$2Àê28 RUE ALBERT CAMUSÀ423ê
A10: 16RUEALBERT CAMUS | B10: =IFERROR(VLOOKUP($A10,PRO!$A$2:$E$13,2,FALSE),"") -> AUDI | C10: =IFERROR(VLOOKUP($A10,PRO!$A$2:$E$13,3,FALSE),"") -> AUDICONCESSION | D10: =IFERROR(VLOOKUP($A10,PRO!$A$2:$E$13,4,FALSE),"") -> AUDIFRANCHISE | E10: =IFERROR(VLOOKUP($A10,PRO!$A$2:$E$13,5,FALSE),"") -> $UÀ1$1$2Ã2$2$9$2$CHEZ
A11: 17PASALBERT CAMUS | B11: =IFERROR(VLOOKUP($A11,PRO!$A$2:$E$13,2,FALSE),"") | C11: =IFERROR(VLOOKUP($A11,PRO!$A$2:$E$13,3,FALSE),"") | D11: =IFERROR(VLOOKUP($A11,PRO!$A$2:$E$13,4,FALSE),"") | E11: =IFERROR(VLOOKUP($A11,PRO!$A$2:$E$13,5,FALSE),"")
A12: 17RUEALBERT CAMUS | B12: =IFERROR(VLOOKUP($A12,PRO!$A$2:$E$13,2,FALSE),"") -> BMW | C12: =IFERROR(VLOOKUP($A12,PRO!$A$2:$E$13,3,FALSE),"") -> BMWCONCESSION | D12: =IFERROR(VLOOKUP($A12,PRO!$A$2:$E$13,4,FALSE),"") -> BMWFRANCHISE | E12: =IFERROR(VLOOKUP($A12,PRO!$A$2:$E$13,5,FALSE),"") -> $PÀ1$2Á7ÀFê1$9$2$9$2Àê31 RUE ALBERT CAMUSÀ
A13: 18PASALBERT CAMUS | B13: =IFERROR(VLOOKUP($A13,PRO!$A$2:$E$13,2,FALSE),"") -> MERCEDES | C13: =IFERROR(VLOOKUP($A13,PRO!$A$2:$E$13,3,FALSE),"") -> MERCEDESREVENDEUR | D13: =IFERROR(VLOOKUP($A13,PRO!$A$2:$E$13,4,FALSE),"") -> MERCEDESINDEPENDANT | E13: =IFERROR(VLOOKUP($A13,PRO!$A$2:$E$13,5,FALSE),"") -> $PÀ1$2Á7ÀFê1$9$2$9$2Àê31 RUE ALBERT CAMUSÀ423
A14: 18RUEALBERT CAMUS | B14: =IFERROR(VLOOKUP($A14,PRO!$A$2:$E$13,2,FALSE),"") -> ROVER | C14: =IFERROR(VLOOKUP($A14,PRO!$A$2:$E$13,3,FALSE),"") -> ROVERCONCESSION | D14: =IFERROR(VLOOKUP($A14,PRO!$A$2:$E$13,4,FALSE),"") -> ROVERFRANCHISE | E14: =IFERROR(VLOOKUP($A14,PRO!$A$2:$E$13,5,FALSE),"") -> $PÀ1$1$1Ã9$2$9$2Àë3 RUE ALBERT CAMUSÀ423ê
