Workbook
Name Noms: OFFSET(Feuil1!$A$6,,,COUNTA(Feuil1!$A:$A)-3)

Sheet Feuil1
A1: Mois de | B1: 41518
A2: UNITE : | B2: MULTI
A4: EMPLOYES | F4: =DATE(YEAR(B1),MONTH(B1),1) -> 41518 | J4: =F4+1 -> 41519 | N4: =J4+1 -> 41520 | R4: =N4+1 -> 41521 | V4: =R4+1 -> 41522 | Z4: =V4+1 -> 41523 | AD4: =Z4+1 -> 41524 | AH4: =AD4+1 -> 41525 | AL4: =AH4+1 -> 41526 | AP4: =AL4+1 -> 41527 | AT4: =AP4+1 -> 41528 | AX4: =AT4+1 -> 41529 | BB4: =AX4+1 -> 41530 | BF4: =BB4+1 -> 41531 | BJ4: =BF4+1 -> 41532 | BN4: =BJ4+1 -> 41533 | BR4: =BN4+1 -> 41534 | BV4: =BR4+1 -> 41535 | BZ4: =BV4+1 -> 41536 | CD4: =BZ4+1 -> 41537 | CH4: =CD4+1 -> 41538 | CL4: =CH4+1 -> 41539 | CP4: =CL4+1 -> 41540 | CT4: =CP4+1 -> 41541 | CX4: =CT4+1 -> 41542 | DB4: =CX4+1 -> 41543 | DF4: =DB4+1 -> 41544 | DJ4: =DF4+1 -> 41545 | DN4: =DJ4+1 -> 41546 | DR4: =DN4+1 -> 41547
F5: Salaire brut | G5: Défs. | H5: Heures | I5: Analytique | J5: Salaire brut | K5: Défs. | L5: Heures | M5: Analytique | N5: Salaire brut | O5: Défs. | P5: Heures | Q5: Analytique | R5: Salaire brut | S5: Défs. | T5: Heures | U5: Analytique | V5: Salaire brut | W5: Défs. | X5: Heures | Y5: Analytique | Z5: Salaire brut | AA5: Défs. | AB5: Heures | AC5: Analytique | AD5: Salaire brut | AE5: Défs. | AF5: Heures | AG5: Analytique | AH5: Salaire brut | AI5: Défs. | AJ5: Heures | AK5: Analytique | AL5: Salaire brut | AM5: Défs. | AN5: Heures | AO5: Analytique | AP5: Salaire brut | AQ5: Défs. | AR5: Heures | AS5: Analytique | AT5: Salaire brut | AU5: Défs. | AV5: Heures | AW5: Analytique | AX5: Salaire brut | AY5: Défs. | AZ5: Heures | BA5: Analytique | BB5: Salaire brut | BC5: Défs. | BD5: Heures | BE5: Analytique | BF5: Salaire brut | BG5: Défs. | BH5: Heures | BI5: Analytique | BJ5: Salaire brut | BK5: Défs. | BL5: Heures | BM5: Analytique | BN5: Salaire brut | BO5: Défs. | BP5: Heures | BQ5: Analytique | BR5: Salaire brut | BS5: Défs. | BT5: Heures | BU5: Analytique | BV5: Salaire brut | BW5: Défs. | BX5: Heures | BY5: Analytique | BZ5: Salaire brut | CA5: Défs. | CB5: Heures | CC5: Analytique | CD5: Salaire brut | CE5: Défs. | CF5: Heures | CG5: Analytique | CH5: Salaire brut | CI5: Défs. | CJ5: Heures | CK5: Analytique | CL5: Salaire brut | CM5: Défs. | CN5: Heures | CO5: Analytique | CP5: Salaire brut | CQ5: Défs. | CR5: Heures | CS5: Analytique | CT5: Salaire brut | CU5: Défs. | CV5: Heures | CW5: Analytique | CX5: Salaire brut | CY5: Défs. | CZ5: Heures | DA5: Analytique | DB5: Salaire brut | DC5: Défs. | DD5: Heures | DE5: Analytique | DF5: Salaire brut | DG5: Défs. | DH5: Heures | DI5: Analytique | DJ5: Salaire brut | DK5: Défs. | DL5: Heures | DM5: Analytique | DN5: Salaire brut | DO5: Défs. | DP5: Heures | DQ5: Analytique | DR5: Salaire brut | DS5: Défs. | DT5: Heures | DU5: Analytique | DV5: Salaire brut | DW5: Défs. | DX5: Heures | DY5: Analytique
A6: MARTIN Didier | C6: Comptable | J6: 200 | K6: 12 | L6: 10 | N6: 200 | O6: 12 | P6: 10 | R6: 200 | S6: 12 | T6: 10 | V6: 200 | W6: 12 | X6: 10 | Z6: 200 | AA6: 12 | AB6: 10 | AH6: 150 | AI6: 12 | AJ6: 8 | AL6: 200 | AM6: 12 | AN6: 10 | AP6: 200 | AQ6: 12 | AR6: 10 | AT6: 200 | AU6: 12 | AV6: 10 | AX6: 200 | AY6: 12 | AZ6: 10 | BF6: 150 | BG6: 12 | BH6: 8 | BJ6: 150 | BK6: 12 | BL6: 8 | BN6: 200 | BO6: 12 | BP6: 10 | BR6: 200 | BS6: 12 | BT6: 10 | BV6: 200 | BW6: 12 | BX6: 10 | CH6: 200 | CI6: 12 | CJ6: 10 | CL6: 150 | CM6: 12 | CN6: 8 | CP6: 200 | CQ6: 12 | CR6: 10 | CT6: 150 | CU6: 12 | CV6: 8 | CX6: 150 | CY6: 12 | CZ6: 8 | DR6: 200 | DS6: 12 | DT6: 10
A7: DUPUY Paul | C7: Contrôleur financier | J7: 500 | K7: 12 | L7: 10 | N7: 500 | O7: 12 | P7: 10 | R7: 500 | S7: 12 | T7: 10 | V7: 500 | W7: 12 | X7: 10 | Z7: 500 | AA7: 12 | AB7: 10 | AH7: 450 | AI7: 12 | AJ7: 8 | AL7: 500 | AM7: 12 | AN7: 10 | AP7: 500 | AQ7: 12 | AR7: 10 | AT7: 300 | AU7: 12 | AV7: 6 | AX7: 500 | AY7: 12 | AZ7: 10 | BF7: 450 | BG7: 12 | BH7: 8 | BJ7: 450 | BK7: 12 | BL7: 8 | BN7: 500 | BO7: 12 | BP7: 10 | BR7: 500 | BS7: 12 | BT7: 10 | BV7: 500 | BW7: 12 | BX7: 10 | CH7: 300 | CI7: 12 | CJ7: 6 | CL7: 450 | CM7: 12 | CN7: 8 | CP7: 500 | CQ7: 12 | CR7: 10 | CT7: 500 | CU7: 12 | CV7: 8 | CX7: 500 | CY7: 12 | CZ7: 8 | DR7: 500 | DS7: 12 | DT7: 10

Sheet Feuil2
B2: Nom | C2: MARTIN Didier
B3: Emploi | C3: =VLOOKUP(C2,Feuil1!A:D,3,FALSE) -> Comptable
B5: Date | C5: Salaire brut en € | D5: Nombre d'heures de travail effectif
B6: =INDIRECT("Feuil1!"&ADDRESS(4,(ROW()-6)*4+6)) -> 41518 | C6: =INDIRECT("Feuil1!"&ADDRESS(MATCH($C$2,Feuil1!$A:$A,0),(ROW()-6)*4+6)) -> 0 | D6: =INDIRECT("Feuil1!"&ADDRESS(MATCH($C$2,Feuil1!$A:$A,0),(ROW()-6)*4+8)) -> 0
B7: =INDIRECT("Feuil1!"&ADDRESS(4,(ROW()-6)*4+6)) -> 41519 | C7: =INDIRECT("Feuil1!"&ADDRESS(MATCH($C$2,Feuil1!$A:$A,0),(ROW()-6)*4+6)) -> 200 | D7: =INDIRECT("Feuil1!"&ADDRESS(MATCH($C$2,Feuil1!$A:$A,0),(ROW()-6)*4+8)) -> 10
B8: =INDIRECT("Feuil1!"&ADDRESS(4,(ROW()-6)*4+6)) -> 41520 | C8: =INDIRECT("Feuil1!"&ADDRESS(MATCH($C$2,Feuil1!$A:$A,0),(ROW()-6)*4+6)) -> 200 | D8: =INDIRECT("Feuil1!"&ADDRESS(MATCH($C$2,Feuil1!$A:$A,0),(ROW()-6)*4+8)) -> 10
B9: =INDIRECT("Feuil1!"&ADDRESS(4,(ROW()-6)*4+6)) -> 41521 | C9: =INDIRECT("Feuil1!"&ADDRESS(MATCH($C$2,Feuil1!$A:$A,0),(ROW()-6)*4+6)) -> 200 | D9: =INDIRECT("Feuil1!"&ADDRESS(MATCH($C$2,Feuil1!$A:$A,0),(ROW()-6)*4+8)) -> 10
B10: =INDIRECT("Feuil1!"&ADDRESS(4,(ROW()-6)*4+6)) -> 41522 | C10: =INDIRECT("Feuil1!"&ADDRESS(MATCH($C$2,Feuil1!$A:$A,0),(ROW()-6)*4+6)) -> 200 | D10: =INDIRECT("Feuil1!"&ADDRESS(MATCH($C$2,Feuil1!$A:$A,0),(ROW()-6)*4+8)) -> 10
B11: =INDIRECT("Feuil1!"&ADDRESS(4,(ROW()-6)*4+6)) -> 41523 | C11: =INDIRECT("Feuil1!"&ADDRESS(MATCH($C$2,Feuil1!$A:$A,0),(ROW()-6)*4+6)) -> 200 | D11: =INDIRECT("Feuil1!"&ADDRESS(MATCH($C$2,Feuil1!$A:$A,0),(ROW()-6)*4+8)) -> 10
B12: =INDIRECT("Feuil1!"&ADDRESS(4,(ROW()-6)*4+6)) -> 41524 | C12: =INDIRECT("Feuil1!"&ADDRESS(MATCH($C$2,Feuil1!$A:$A,0),(ROW()-6)*4+6)) -> 0 | D12: =INDIRECT("Feuil1!"&ADDRESS(MATCH($C$2,Feuil1!$A:$A,0),(ROW()-6)*4+8)) -> 0
B13: =INDIRECT("Feuil1!"&ADDRESS(4,(ROW()-6)*4+6)) -> 41525 | C13: =INDIRECT("Feuil1!"&ADDRESS(MATCH($C$2,Feuil1!$A:$A,0),(ROW()-6)*4+6)) -> 150 | D13: =INDIRECT("Feuil1!"&ADDRESS(MATCH($C$2,Feuil1!$A:$A,0),(ROW()-6)*4+8)) -> 8
B14: =INDIRECT("Feuil1!"&ADDRESS(4,(ROW()-6)*4+6)) -> 41526 | C14: =INDIRECT("Feuil1!"&ADDRESS(MATCH($C$2,Feuil1!$A:$A,0),(ROW()-6)*4+6)) -> 200 | D14: =INDIRECT("Feuil1!"&ADDRESS(MATCH($C$2,Feuil1!$A:$A,0),(ROW()-6)*4+8)) -> 10
B15: =INDIRECT("Feuil1!"&ADDRESS(4,(ROW()-6)*4+6)) -> 41527 | C15: =INDIRECT("Feuil1!"&ADDRESS(MATCH($C$2,Feuil1!$A:$A,0),(ROW()-6)*4+6)) -> 200 | D15: =INDIRECT("Feuil1!"&ADDRESS(MATCH($C$2,Feuil1!$A:$A,0),(ROW()-6)*4+8)) -> 10
B16: =INDIRECT("Feuil1!"&ADDRESS(4,(ROW()-6)*4+6)) -> 41528 | C16: =INDIRECT("Feuil1!"&ADDRESS(MATCH($C$2,Feuil1!$A:$A,0),(ROW()-6)*4+6)) -> 200 | D16: =INDIRECT("Feuil1!"&ADDRESS(MATCH($C$2,Feuil1!$A:$A,0),(ROW()-6)*4+8)) -> 10
B17: =INDIRECT("Feuil1!"&ADDRESS(4,(ROW()-6)*4+6)) -> 41529 | C17: =INDIRECT("Feuil1!"&ADDRESS(MATCH($C$2,Feuil1!$A:$A,0),(ROW()-6)*4+6)) -> 200 | D17: =INDIRECT("Feuil1!"&ADDRESS(MATCH($C$2,Feuil1!$A:$A,0),(ROW()-6)*4+8)) -> 10
... B36: =INDIRECT("Feuil1!"&ADDRESS(4,(ROW()-6)*4+6)) -> 0 | C36: =INDIRECT("Feuil1!"&ADDRESS(MATCH($C$2,Feuil1!$A:$A,0),(ROW()-6)*4+6)) -> 0 | D36: =INDIRECT("Feuil1!"&ADDRESS(MATCH($C$2,Feuil1!$A:$A,0),(ROW()-6)*4+8)) -> 0
B38: Total | C38: =SUM(C6:C37) -> 3900 | D38: =SUM(D6:D37) -> 198

Sheet Feuil3
