Workbook

Sheet liste 1
B5: p1 | C5: p2
B6: 1 | C6: 12
B7: 2 | C7: 11
B8: 3 | C8: 10
B9: 4 | C9: 9
B10: 5 | C10: 8
B11: 6 | C11: 7
A12: 1 | B12: 1 | C12: 11
B13: 10 | C13: 12
B14: 2 | C14: 9
B15: 3 | C15: 8
B16: 4 | C16: 7
B17: 5 | C17: 6
B18: 1 | C18: 10
B19: 9 | C19: 11
B20: 8 | C20: 12
B21: 2 | C21: 7
B22: 3 | C22: 6
B23: 4 | C23: 5
B24: 1 | C24: 9
... B71: 7 | C71: 8

Sheet liste 2
B5: p1 | C5: p2
A6: 1 | B6: 1 | C6: 12
B7: 2 | C7: 11
B8: 3 | C8: 10
B9: 4 | C9: 9
B10: 5 | C10: 8
B11: 6 | C11: 7
B12: 1 | C12: 11
B13: 10 | C13: 12
B14: 2 | C14: 9
B15: 3 | C15: 8
B16: 4 | C16: 7
B17: 5 | C17: 6
B18: 1 | C18: 10
... B71: 7 | C71: 8

Sheet Ordre des séquences
A1: liste 1 | E1: liste 2
B2: J1 | C2: J2 | F2: J1 | G2: J2
A3: 1 | B3: =IFERROR(OFFSET('liste 1'!$B$5,MATCH($A$3,'liste 1'!$A$6:$A$66,0)+ROW()-3,0),"") -> 1 | C3: =IFERROR(OFFSET('liste 1'!$B$5,MATCH($A$3,'liste 1'!$A$6:$A$66,0)+ROW()-3,1),"") -> 11 | E3: 1 | F3: =IFERROR(OFFSET('liste 2'!$B$5,MATCH($A$3,'liste 2'!$A$6:$A$66,0)+ROW()-3,0),"") -> 1 | G3: =IFERROR(OFFSET('liste 2'!$B$5,MATCH($A$3,'liste 2'!$A$6:$A$66,0)+ROW()-3,1),"") -> 12
B4: =IFERROR(OFFSET('liste 1'!$B$5,MATCH($A$3,'liste 1'!$A$6:$A$66,0)+ROW()-3,0),"") -> 10 | C4: =IFERROR(OFFSET('liste 1'!$B$5,MATCH($A$3,'liste 1'!$A$6:$A$66,0)+ROW()-3,1),"") -> 12 | F4: =IFERROR(OFFSET('liste 2'!$B$5,MATCH($A$3,'liste 2'!$A$6:$A$66,0)+ROW()-3,0),"") -> 2 | G4: =IFERROR(OFFSET('liste 2'!$B$5,MATCH($A$3,'liste 2'!$A$6:$A$66,0)+ROW()-3,1),"") -> 11
B5: =IFERROR(OFFSET('liste 1'!$B$5,MATCH($A$3,'liste 1'!$A$6:$A$66,0)+ROW()-3,0),"") -> 2 | C5: =IFERROR(OFFSET('liste 1'!$B$5,MATCH($A$3,'liste 1'!$A$6:$A$66,0)+ROW()-3,1),"") -> 9 | F5: =IFERROR(OFFSET('liste 2'!$B$5,MATCH($A$3,'liste 2'!$A$6:$A$66,0)+ROW()-3,0),"") -> 3 | G5: =IFERROR(OFFSET('liste 2'!$B$5,MATCH($A$3,'liste 2'!$A$6:$A$66,0)+ROW()-3,1),"") -> 10
B6: =IFERROR(OFFSET('liste 1'!$B$5,MATCH($A$3,'liste 1'!$A$6:$A$66,0)+ROW()-3,0),"") -> 3 | C6: =IFERROR(OFFSET('liste 1'!$B$5,MATCH($A$3,'liste 1'!$A$6:$A$66,0)+ROW()-3,1),"") -> 8 | F6: =IFERROR(OFFSET('liste 2'!$B$5,MATCH($A$3,'liste 2'!$A$6:$A$66,0)+ROW()-3,0),"") -> 4 | G6: =IFERROR(OFFSET('liste 2'!$B$5,MATCH($A$3,'liste 2'!$A$6:$A$66,0)+ROW()-3,1),"") -> 9
B7: =IFERROR(OFFSET('liste 1'!$B$5,MATCH($A$3,'liste 1'!$A$6:$A$66,0)+ROW()-3,0),"") -> 4 | C7: =IFERROR(OFFSET('liste 1'!$B$5,MATCH($A$3,'liste 1'!$A$6:$A$66,0)+ROW()-3,1),"") -> 7 | F7: =IFERROR(OFFSET('liste 2'!$B$5,MATCH($A$3,'liste 2'!$A$6:$A$66,0)+ROW()-3,0),"") -> 5 | G7: =IFERROR(OFFSET('liste 2'!$B$5,MATCH($A$3,'liste 2'!$A$6:$A$66,0)+ROW()-3,1),"") -> 8
B8: =IFERROR(OFFSET('liste 1'!$B$5,MATCH($A$3,'liste 1'!$A$6:$A$66,0)+ROW()-3,0),"") -> 5 | C8: =IFERROR(OFFSET('liste 1'!$B$5,MATCH($A$3,'liste 1'!$A$6:$A$66,0)+ROW()-3,1),"") -> 6 | F8: =IFERROR(OFFSET('liste 2'!$B$5,MATCH($A$3,'liste 2'!$A$6:$A$66,0)+ROW()-3,0),"") -> 6 | G8: =IFERROR(OFFSET('liste 2'!$B$5,MATCH($A$3,'liste 2'!$A$6:$A$66,0)+ROW()-3,1),"") -> 7
A9: 2 | E9: 2
A15: 3 | E15: 3
A21: 4 | E21: 4
A27: 5 | E27: 5
A33: 6 | E33: 6
A39: 7 | E39: 7
A45: 8 | E45: 8
A51: 9 | E51: 9
A57: 10 | E57: 10
A63: 11 | E63: 11
