Workbook
Name Adresse: Base!$I$3:$I$9
Name Appartement: Base!$H$3:$H$10
Name locataires: Base!$B$2:$E$77

Sheet Feuil1
A1: Refus des travaux
A2: Entrée | B2: App | C2: Locataire | D2: travaux refusés | E2: Entreprise | F2: mail à l'agence
A3: 21, RUE SAINT- BLAISE | B3: A | C3: =IFERROR(INDEX(Base!$B$2:$E$77,MATCH(A3&"/"&B3,Base!$E$2:$E$77,0),3),"") -> NUNES PEREIRA ANTONI | D3: paroi séparative en claire voie dans cave | E3: Gunay | F3: 41605 | H3: deux-listes-deroulantes-index-equiv
C4: =IFERROR(INDEX(Base!$B$2:$E$77,MATCH(A4&"/"&B4,Base!$E$2:$E$77,0),3),"")
C5: =IFERROR(INDEX(Base!$B$2:$E$77,MATCH(A5&"/"&B5,Base!$E$2:$E$77,0),3),"")
C6: =IFERROR(INDEX(Base!$B$2:$E$77,MATCH(A6&"/"&B6,Base!$E$2:$E$77,0),3),"")
C7: =IFERROR(INDEX(Base!$B$2:$E$77,MATCH(A7&"/"&B7,Base!$E$2:$E$77,0),3),"")
C8: =IFERROR(INDEX(Base!$B$2:$E$77,MATCH(A8&"/"&B8,Base!$E$2:$E$77,0),3),"")
C9: =IFERROR(INDEX(Base!$B$2:$E$77,MATCH(A9&"/"&B9,Base!$E$2:$E$77,0),3),"")
C10: =IFERROR(INDEX(Base!$B$2:$E$77,MATCH(A10&"/"&B10,Base!$E$2:$E$77,0),3),"")
C11: =IFERROR(INDEX(Base!$B$2:$E$77,MATCH(A11&"/"&B11,Base!$E$2:$E$77,0),3),"")
C12: =IFERROR(INDEX(Base!$B$2:$E$77,MATCH(A12&"/"&B12,Base!$E$2:$E$77,0),3),"")
C13: =IFERROR(INDEX(Base!$B$2:$E$77,MATCH(A13&"/"&B13,Base!$E$2:$E$77,0),3),"")
C14: =IFERROR(INDEX(Base!$B$2:$E$77,MATCH(A14&"/"&B14,Base!$E$2:$E$77,0),3),"")
C15: =IFERROR(INDEX(Base!$B$2:$E$77,MATCH(A15&"/"&B15,Base!$E$2:$E$77,0),3),"")
... C26: =IFERROR(INDEX(Base!$B$2:$E$77,MATCH(A26&"/"&B26,Base!$E$2:$E$77,0),3),"")

Sheet Base
A1: Base
B2: 21, RUE SAINT- BLAISE | C2: A | D2: NUNES PEREIRA ANTONI | E2: =B2&"/"&C2 -> 21, RUE SAINT- BLAISE/A | H2: Appartement | I2: Adresse
B3: 21, RUE SAINT- BLAISE | C3: B | D3: MME LASLAA AHMED | E3: =B3&"/"&C3 -> 21, RUE SAINT- BLAISE/B | H3: A | I3: 21, RUE SAINT- BLAISE
B4: 21, RUE SAINT- BLAISE | C4: C | D4: MME SCHMITT BERTHE | E4: =B4&"/"&C4 -> 21, RUE SAINT- BLAISE/C | H4: B | I4: 23, RUE SAINT- BLAISE
B5: 21, RUE SAINT- BLAISE | C5: D | D5: MR SANNA LUIGI | E5: =B5&"/"&C5 -> 21, RUE SAINT- BLAISE/D | H5: C | I5: 25, RUE SAINT- BLAISE
B6: 21, RUE SAINT- BLAISE | C6: E | D6: MME GILLOT MARIA | E6: =B6&"/"&C6 -> 21, RUE SAINT- BLAISE/E | H6: D | I6: 27, RUE SAINT- BLAISE
B7: 21, RUE SAINT- BLAISE | C7: F | D7: M. MME LASLAA AUKACHA | E7: =B7&"/"&C7 -> 21, RUE SAINT- BLAISE/F | H7: E | I7: 33, RUE SAINT- BLAISE
B8: 21, RUE SAINT- BLAISE | C8: G | D8: MLLE MAGER M ABDESSELAM | E8: =B8&"/"&C8 -> 21, RUE SAINT- BLAISE/G | H8: F | I8: 35, RUE SAINT- BLAISE
B9: 21, RUE SAINT- BLAISE | C9: H | D9: MME M OU-SAIR JAMILA | E9: =B9&"/"&C9 -> 21, RUE SAINT- BLAISE/H | H9: I | I9: 37, RUE SAINT- BLAISE
B10: 21, RUE SAINT- BLAISE | C10: I | D10: Vacant | E10: =B10&"/"&C10 -> 21, RUE SAINT- BLAISE/I | H10: J
B11: 21, RUE SAINT- BLAISE | C11: J | D11: M.MME OUAHMANE Khalid | E11: =B11&"/"&C11 -> 21, RUE SAINT- BLAISE/J
B12: 23, RUE SAINT BLAISE
B13: 23, RUE SAINT- BLAISE | C13: A | D13: MME DEZIRI KELTOUM | E13: =B13&"/"&C13 -> 23, RUE SAINT- BLAISE/A
B14: 23, RUE SAINT- BLAISE | C14: B | D14: M. BIDINGER PATRICK | E14: =B14&"/"&C14 -> 23, RUE SAINT- BLAISE/B
B15: 23, RUE SAINT- BLAISE | C15: C | D15: MME MARCHIONE ANNE | E15: =B15&"/"&C15 -> 23, RUE SAINT- BLAISE/C
B16: 23, RUE SAINT- BLAISE | C16: D | D16: MME SPANO MARIA TERESA | E16: =B16&"/"&C16 -> 23, RUE SAINT- BLAISE/D
B17: 23, RUE SAINT- BLAISE | C17: E | D17: M. MORO GIOVANNI | E17: =B17&"/"&C17 -> 23, RUE SAINT- BLAISE/E
B18: 23, RUE SAINT- BLAISE | C18: F | D18: MLLE FELD Angélique | E18: =B18&"/"&C18 -> 23, RUE SAINT- BLAISE/F
B19: 23, RUE SAINT- BLAISE | C19: G | D19: M MME FINET DANIEL | E19: =B19&"/"&C19 -> 23, RUE SAINT- BLAISE/G
B20: 23, RUE SAINT- BLAISE | C20: H | D20: M. BOUKOUFI KAMAL | E20: =B20&"/"&C20 -> 23, RUE SAINT- BLAISE/H
B21: 23, RUE SAINT- BLAISE | C21: I | D21: MLLE DROUIN LUCIENNE | E21: =B21&"/"&C21 -> 23, RUE SAINT- BLAISE/I
B22: 23, RUE SAINT- BLAISE | C22: J | D22: MLLE CELIC MARIE THERESE | E22: =B22&"/"&C22 -> 23, RUE SAINT- BLAISE/J
B23: 25, RUE SAINT BLAISE
B24: 25, RUE SAINT- BLAISE | C24: A | D24: M MME FUTTERER CHARLES | E24: =B24&"/"&C24 -> 25, RUE SAINT- BLAISE/A
B25: 25, RUE SAINT- BLAISE | C25: B | D25: MLLE STOSSE DOLORES | E25: =B25&"/"&C25 -> 25, RUE SAINT- BLAISE/B
B26: 25, RUE SAINT- BLAISE | C26: C | D26: M GALLIZZI DOMINIQUE | E26: =B26&"/"&C26 -> 25, RUE SAINT- BLAISE/C
B27: 25, RUE SAINT- BLAISE | C27: D | D27: Vacant | E27: =B27&"/"&C27 -> 25, RUE SAINT- BLAISE/D
B28: 25, RUE SAINT- BLAISE | C28: E | D28: MME LAKHAL Nora | E28: =B28&"/"&C28 -> 25, RUE SAINT- BLAISE/E
B29: 25, RUE SAINT- BLAISE | C29: F | D29: Vacant | E29: =B29&"/"&C29 -> 25, RUE SAINT- BLAISE/F
B30: 25, RUE SAINT- BLAISE | C30: G | D30: SEBIA AHCENE | E30: =B30&"/"&C30 -> 25, RUE SAINT- BLAISE/G
B31: 25, RUE SAINT- BLAISE | C31: H | D31: Vacant | E31: =B31&"/"&C31 -> 25, RUE SAINT- BLAISE/H
B32: 25, RUE SAINT- BLAISE | C32: I | D32: M MME DJADAMI Larbi | E32: =B32&"/"&C32 -> 25, RUE SAINT- BLAISE/I
B33: 25, RUE SAINT- BLAISE | C33: J | D33: MLLE BRAEM M LODDO | E33: =B33&"/"&C33 -> 25, RUE SAINT- BLAISE/J
B34: 27, RUE SAINT BLAISE
B35: 27, RUE SAINT- BLAISE | C35: A | D35: MLLE BIRIG ISABELLE | E35: =B35&"/"&C35 -> 27, RUE SAINT- BLAISE/A
B36: 27, RUE SAINT- BLAISE | C36: B | D36: M. MAHDAOUI Djamel | E36: =B36&"/"&C36 -> 27, RUE SAINT- BLAISE/B
B37: 27, RUE SAINT- BLAISE | C37: C | D37: M. MME EL AASSRI AHMED | E37: =B37&"/"&C37 -> 27, RUE SAINT- BLAISE/C
B38: 27, RUE SAINT- BLAISE | C38: D | D38: M. MME ABIDINE Youssef | E38: =B38&"/"&C38 -> 27, RUE SAINT- BLAISE/D
B39: 27, RUE SAINT- BLAISE | C39: E | D39: M. MME DIEDA DIDIER | E39: =B39&"/"&C39 -> 27, RUE SAINT- BLAISE/E
B40: 27, RUE SAINT- BLAISE | C40: F | D40: M. MME FOURQUET | E40: =B40&"/"&C40 -> 27, RUE SAINT- BLAISE/F
...

Sheet Feuil3
