Workbook
Name Adresse: Base!$I$3:$I$9
Name Appartement: Base!$H$3:$H$10
Name locataires: Base!$B$2:$E$77

Sheet Feuil1
A1: Refus des travaux
A2: Entrée | B2: App | C2: Locataire | D2: travaux refusés | E2: Entreprise | F2: mail à l'agence
A3: 21, RUE SAINT- BLAISE | B3: A | C3: =IFERROR(INDEX(Base!$B$2:$E$77,MATCH(A3&"/"&B3,Base!$E$2:$E$77,0),3),"") -> NUNES PEREIRA ANTONI | D3: paroi séparative en claire voie dans cave | E3: Gunay | F3: 41605 | H3: deux-listes-deroulantes-index-equiv
C4: =IFERROR(INDEX(Base!$B$2:$E$77,MATCH(A4&"/"&B4,Base!$E$2:$E$77,0),3),"")
C5: =IFERROR(INDEX(Base!$B$2:$E$77,MATCH(A5&"/"&B5,Base!$E$2:$E$77,0),3),"")
C6: =IFERROR(INDEX(Base!$B$2:$E$77,MATCH(A6&"/"&B6,Base!$E$2:$E$77,0),3),"")
C7: =IFERROR(INDEX(Base!$B$2:$E$77,MATCH(A7&"/"&B7,Base!$E$2:$E$77,0),3),"")
C8: =IFERROR(INDEX(Base!$B$2:$E$77,MATCH(A8&"/"&B8,Base!$E$2:$E$77,0),3),"")
C9: =IFERROR(INDEX(Base!$B$2:$E$77,MATCH(A9&"/"&B9,Base!$E$2:$E$77,0),3),"")
C10: =IFERROR(INDEX(Base!$B$2:$E$77,MATCH(A10&"/"&B10,Base!$E$2:$E$77,0),3),"")
C11: =IFERROR(INDEX(Base!$B$2:$E$77,MATCH(A11&"/"&B11,Base!$E$2:$E$77,0),3),"")
C12: =IFERROR(INDEX(Base!$B$2:$E$77,MATCH(A12&"/"&B12,Base!$E$2:$E$77,0),3),"")
C13: =IFERROR(INDEX(Base!$B$2:$E$77,MATCH(A13&"/"&B13,Base!$E$2:$E$77,0),3),"")
C14: =IFERROR(INDEX(Base!$B$2:$E$77,MATCH(A14&"/"&B14,Base!$E$2:$E$77,0),3),"")
C15: =IFERROR(INDEX(Base!$B$2:$E$77,MATCH(A15&"/"&B15,Base!$E$2:$E$77,0),3),"")
... C26: =IFERROR(INDEX(Base!$B$2:$E$77,MATCH(A26&"/"&B26,Base!$E$2:$E$77,0),3),"")

Sheet Base
A1: Base
B2: 21, RUE SAINT- BLAISE | C2: A | D2: NUNES PEREIRA ANTONI | E2: =B2&"/"&C2 -> 21, RUE SAINT- BLAISE/A | H2: Appartement | I2: Adresse
B3: 21, RUE SAINT- BLAISE | C3: B | D3: MME LASLAA AHMED | E3: =B3&"/"&C3 -> 21, RUE SAINT- BLAISE/B | H3: A | I3: 21, RUE SAINT- BLAISE
B4: 21, RUE SAINT- BLAISE | C4: C | D4: MME SCHMITT BERTHE | E4: =B4&"/"&C4 -> 21, RUE SAINT- BLAISE/C | H4: B | I4: 23, RUE SAINT- BLAISE
B5: 21, RUE SAINT- BLAISE | C5: D | D5: MR SANNA LUIGI | E5: =B5&"/"&C5 -> 21, RUE SAINT- BLAISE/D | H5: C | I5: 25, RUE SAINT- BLAISE
B6: 21, RUE SAINT- BLAISE | C6: E | D6: MME GILLOT MARIA | E6: =B6&"/"&C6 -> 21, RUE SAINT- BLAISE/E | H6: D | I6: 27, RUE SAINT- BLAISE
B7: 21, RUE SAINT- BLAISE | C7: F | D7: M. MME LASLAA AUKACHA | E7: =B7&"/"&C7 -> 21, RUE SAINT- BLAISE/F | H7: E | I7: 33, RUE SAINT- BLAISE
B8: 21, RUE SAINT- BLAISE | C8: G | D8: MLLE MAGER M ABDESSELAM | E8: =B8&"/"&C8 -> 21, RUE SAINT- BLAISE/G | H8: F | I8: 35, RUE SAINT- BLAISE
B9: 21, RUE SAINT- BLAISE | C9: H | D9: MME M OU-SAIR JAMILA | E9: =B9&"/"&C9 -> 21, RUE SAINT- BLAISE/H | H9: I | I9: 37, RUE SAINT- BLAISE
B10: 21, RUE SAINT- BLAISE | C10: I | D10: Vacant | E10: =B10&"/"&C10 -> 21, RUE SAINT- BLAISE/I | H10: J
B11: 21, RUE SAINT- BLAISE | C11: J | D11: M.MME OUAHMANE Khalid | E11: =B11&"/"&C11 -> 21, RUE SAINT- BLAISE/J
B12: 23, RUE SAINT BLAISE
B13: 23, RUE SAINT- BLAISE | C13: A | D13: MME DEZIRI KELTOUM | E13: =B13&"/"&C13 -> 23, RUE SAINT- BLAISE/A
B14: 23, RUE SAINT- BLAISE | C14: B | D14: M. BIDINGER PATRICK | E14: =B14&"/"&C14 -> 23, RUE SAINT- BLAISE/B
B15: 23, RUE SAINT- BLAISE | C15: C | D15: MME MARCHIONE ANNE | E15: =B15&"/"&C15 -> 23, RUE SAINT- BLAISE/C
B16: 23, RUE SAINT- BLAISE | C16: D | D16: MME SPANO MARIA TERESA | E16: =B16&"/"&C16 -> 23, RUE SAINT- BLAISE/D
B17: 23, RUE SAINT- BLAISE | C17: E | D17: M. MORO GIOVANNI | E17: =B17&"/"&C17 -> 23, RUE SAINT- BLAISE/E
B18: 23, RUE SAINT- BLAISE | C18: F | D18: MLLE FELD Angélique | E18: =B18&"/"&C18 -> 23, RUE SAINT- BLAISE/F
B19: 23, RUE SAINT- BLAISE | C19: G | D19: M MME FINET DANIEL | E19: =B19&"/"&C19 -> 23, RUE SAINT- BLAISE/G
B20: 23, RUE SAINT- BLAISE | C20: H | D20: M. BOUKOUFI KAMAL | E20: =B20&"/"&C20 -> 23, RUE SAINT- BLAISE/H
B21: 23, RUE SAINT- BLAISE | C21: I | D21: MLLE DROUIN LUCIENNE | E21: =B21&"/"&C21 -> 23, RUE SAINT- BLAISE/I
B22: 23, RUE SAINT- BLAISE | C22: J | D22: MLLE CELIC MARIE THERESE | E22: =B22&"/"&C22 -> 23, RUE SAINT- BLAISE/J
B23: 25, RUE SAINT BLAISE
B24: 25, RUE SAINT- BLAISE | C24: A | D24: M MME FUTTERER CHARLES | E24: =B24&"/"&C24 -> 25, RUE SAINT- BLAISE/A
B25: 25, RUE SAINT- BLAISE | C25: B | D25: MLLE STOSSE DOLORES | E25: =B25&"/"&C25 -> 25, RUE SAINT- BLAISE/B
B26: 25, RUE SAINT- BLAISE | C26: C | D26: M GALLIZZI DOMINIQUE | E26: =B26&"/"&C26 -> 25, RUE SAINT- BLAISE/C
B27: 25, RUE SAINT- BLAISE | C27: D | D27: Vacant | E27: =B27&"/"&C27 -> 25, RUE SAINT- BLAISE/D
B28: 25, RUE SAINT- BLAISE | C28: E | D28: MME LAKHAL Nora | E28: =B28&"/"&C28 -> 25, RUE SAINT- BLAISE/E
B29: 25, RUE SAINT- BLAISE | C29: F | D29: Vacant | E29: =B29&"/"&C29 -> 25, RUE SAINT- BLAISE/F
B30: 25, RUE SAINT- BLAISE | C30: G | D30: SEBIA AHCENE | E30: =B30&"/"&C30 -> 25, RUE SAINT- BLAISE/G
B31: 25, RUE SAINT- BLAISE | C31: H | D31: Vacant | E31: =B31&"/"&C31 -> 25, RUE SAINT- BLAISE/H
B32: 25, RUE SAINT- BLAISE | C32: I | D32: M MME DJADAMI Larbi | E32: =B32&"/"&C32 -> 25, RUE SAINT- BLAISE/I
B33: 25, RUE SAINT- BLAISE | C33: J | D33: MLLE BRAEM M LODDO | E33: =B33&"/"&C33 -> 25, RUE SAINT- BLAISE/J
B34: 27, RUE SAINT BLAISE
B35: 27, RUE SAINT- BLAISE | C35: A | D35: MLLE BIRIG ISABELLE | E35: =B35&"/"&C35 -> 27, RUE SAINT- BLAISE/A
B36: 27, RUE SAINT- BLAISE | C36: B | D36: M. MAHDAOUI Djamel | E36: =B36&"/"&C36 -> 27, RUE SAINT- BLAISE/B
B37: 27, RUE SAINT- BLAISE | C37: C | D37: M. MME EL AASSRI AHMED | E37: =B37&"/"&C37 -> 27, RUE SAINT- BLAISE/C
B38: 27, RUE SAINT- BLAISE | C38: D | D38: M. MME ABIDINE Youssef | E38: =B38&"/"&C38 -> 27, RUE SAINT- BLAISE/D
B39: 27, RUE SAINT- BLAISE | C39: E | D39: M. MME DIEDA DIDIER | E39: =B39&"/"&C39 -> 27, RUE SAINT- BLAISE/E
B40: 27, RUE SAINT- BLAISE | C40: F | D40: M. MME FOURQUET | E40: =B40&"/"&C40 -> 27, RUE SAINT- BLAISE/F
B41: 27, RUE SAINT- BLAISE | C41: G | D41: M. KLAMM SERGE | E41: =B41&"/"&C41 -> 27, RUE SAINT- BLAISE/G
B42: 27, RUE SAINT- BLAISE | C42: H | D42: MME M. SCHUSTER DELPHINE | E42: =B42&"/"&C42 -> 27, RUE SAINT- BLAISE/H
B43: 27, RUE SAINT- BLAISE | C43: I | D43: MME BRAHIM Leila | E43: =B43&"/"&C43 -> 27, RUE SAINT- BLAISE/I
B44: 27, RUE SAINT- BLAISE | C44: J | D44: M.MME BENKER Abdelouahid | E44: =B44&"/"&C44 -> 27, RUE SAINT- BLAISE/J
B45: 33, RUE SAINT BLAISE
B46: 33, RUE SAINT- BLAISE | C46: A | D46: VRABELY ROGER | E46: =B46&"/"&C46 -> 33, RUE SAINT- BLAISE/A
B47: 33, RUE SAINT- BLAISE | C47: B | D47: M.MME ZIMMER Marc | E47: =B47&"/"&C47 -> 33, RUE SAINT- BLAISE/B
B48: 33, RUE SAINT- BLAISE | C48: C | D48: WEISHAR BERTHE | E48: =B48&"/"&C48 -> 33, RUE SAINT- BLAISE/C
B49: 33, RUE SAINT- BLAISE | C49: D | D49: M. MME MEZELI AHMED | E49: =B49&"/"&C49 -> 33, RUE SAINT- BLAISE/D
B50: 33, RUE SAINT- BLAISE | C50: E | D50: CHTOUKI AHMED | E50: =B50&"/"&C50 -> 33, RUE SAINT- BLAISE/E
B51: 33, RUE SAINT- BLAISE | C51: F | D51: MLLE SIRK M. ETARABTI | E51: =B51&"/"&C51 -> 33, RUE SAINT- BLAISE/F
B52: 33, RUE SAINT- BLAISE | C52: G | D52: Vacant | E52: =B52&"/"&C52 -> 33, RUE SAINT- BLAISE/G
B53: 33, RUE SAINT- BLAISE | C53: H | D53: M MME KOCH PIERRE | E53: =B53&"/"&C53 -> 33, RUE SAINT- BLAISE/H
B54: 33, RUE SAINT- BLAISE | C54: I | D54: GIRARD PIERRE | E54: =B54&"/"&C54 -> 33, RUE SAINT- BLAISE/I
B55: 33, RUE SAINT- BLAISE | C55: J | D55: Vacant | E55: =B55&"/"&C55 -> 33, RUE SAINT- BLAISE/J
B56: 35, RUE SAINT BLAISE
B57: 35, RUE SAINT- BLAISE | C57: A | D57: Vacant | E57: =B57&"/"&C57 -> 35, RUE SAINT- BLAISE/A
B58: 35, RUE SAINT- BLAISE | C58: B | D58: HAAS LUCIEN | E58: =B58&"/"&C58 -> 35, RUE SAINT- BLAISE/B
B59: 35, RUE SAINT- BLAISE | C59: C | D59: Vacant | E59: =B59&"/"&C59 -> 35, RUE SAINT- BLAISE/C
B60: 35, RUE SAINT- BLAISE | C60: D | D60: MME MARTINEZ FRANCISCO | E60: =B60&"/"&C60 -> 35, RUE SAINT- BLAISE/D
B61: 35, RUE SAINT- BLAISE | C61: E | D61: M. SINDT Francis Rachid | E61: =B61&"/"&C61 -> 35, RUE SAINT- BLAISE/E
B62: 35, RUE SAINT- BLAISE | C62: F | D62: MLLE AREZKI Louiza | E62: =B62&"/"&C62 -> 35, RUE SAINT- BLAISE/F
B63: 35, RUE SAINT- BLAISE | C63: G | D63: M. BENACHOUR DJAMEL | E63: =B63&"/"&C63 -> 35, RUE SAINT- BLAISE/G
B64: 35, RUE SAINT- BLAISE | C64: H | D64: MLLE LOMBARDI Séverine | E64: =B64&"/"&C64 -> 35, RUE SAINT- BLAISE/H
B65: 35, RUE SAINT- BLAISE | C65: I | D65: M MEHMEL LECHELACHE Moha | E65: =B65&"/"&C65 -> 35, RUE SAINT- BLAISE/I
B66: 35, RUE SAINT- BLAISE | C66: J | D66: MLLE METADJER HASSINA | E66: =B66&"/"&C66 -> 35, RUE SAINT- BLAISE/J
B67: 37, RUE SAINT BLAISE
B68: 37, RUE SAINT- BLAISE | C68: A | D68: Vacant | E68: =B68&"/"&C68 -> 37, RUE SAINT- BLAISE/A
B69: 37, RUE SAINT- BLAISE | C69: B | D69: Mlle COLLURA MARIA | E69: =B69&"/"&C69 -> 37, RUE SAINT- BLAISE/B
B70: 37, RUE SAINT- BLAISE | C70: C | D70: GATIGNON EMILIE MME | E70: =B70&"/"&C70 -> 37, RUE SAINT- BLAISE/C
B71: 37, RUE SAINT- BLAISE | C71: D | D71: GEISBAUER MARIANNE | E71: =B71&"/"&C71 -> 37, RUE SAINT- BLAISE/D
B72: 37, RUE SAINT- BLAISE | C72: E | D72: M MME MOUJANE | E72: =B72&"/"&C72 -> 37, RUE SAINT- BLAISE/E
B73: 37, RUE SAINT- BLAISE | C73: F | D73: MME FELD ERNESTINE | E73: =B73&"/"&C73 -> 37, RUE SAINT- BLAISE/F
B74: 37, RUE SAINT- BLAISE | C74: G | D74: Mlle ATZORI Laetitia | E74: =B74&"/"&C74 -> 37, RUE SAINT- BLAISE/G
B75: 37, RUE SAINT- BLAISE | C75: H | D75: M MME BELHADRI Abdallah | E75: =B75&"/"&C75 -> 37, RUE SAINT- BLAISE/H
B76: 37, RUE SAINT- BLAISE | C76: I | D76: Vacant | E76: =B76&"/"&C76 -> 37, RUE SAINT- BLAISE/I
B77: 37, RUE SAINT- BLAISE | C77: J | D77: Vacant | E77: =B77&"/"&C77 -> 37, RUE SAINT- BLAISE/J

Sheet Feuil3
