Workbook

Sheet Feuil1
A1: a | B1: b | C1: c | D1: d | E1: e | F1: f | G1: g
A2: A3 | B2: 3 | C2: 0 | D2: 0 | E2: 3 | F2: 0 | G2: 9
A3: A4 | B3: 2 | C3: 0 | D3: 1 | E3: 2 | F3: 1 | G3: 6
A4: A5 | B4: 1 | C4: 2 | D4: 0 | E4: 3 | F4: 2 | G4: 5
A5: A8 | B5: 1 | C5: 2 | D5: 0 | E5: 3 | F5: 2 | G5: 5
A6: A1 | B6: 1 | C6: 1 | D6: 1 | E6: 2 | F6: 2 | G6: 3
A7: A2 | B7: 0 | C7: 2 | D7: 1 | E7: 2 | F7: 3 | G7: 2
A8: A7 | B8: 0 | C8: 1 | D8: 2 | E8: 1 | F8: 3 | G8: 1
A9: A6 | B9: 0 | C9: 0 | D9: 3 | E9: 0 | F9: 3 | G9: 0

Sheet Feuil2
A1: a | B1: b | C1: c | D1: d | E1: e | F1: f | G1: g
A2: A5 | B2: 3 | C2: 0 | D2: 0 | E2: 3 | F2: 0 | G2: 9
A3: A1 | B3: 2 | C3: 0 | D3: 1 | E3: 2 | F3: 1 | G3: 6
A4: A2 | B4: 1 | C4: 2 | D4: 0 | E4: 3 | F4: 2 | G4: 5
A5: A6 | B5: 1 | C5: 2 | D5: 0 | E5: 3 | F5: 2 | G5: 5
A6: A8 | B6: 1 | C6: 1 | D6: 1 | E6: 2 | F6: 2 | G6: 3
A7: A3 | B7: 0 | C7: 2 | D7: 1 | E7: 2 | F7: 3 | G7: 2
A8: A4 | B8: 0 | C8: 1 | D8: 2 | E8: 1 | F8: 3 | G8: 1
A9: A7 | B9: 0 | C9: 0 | D9: 3 | E9: 0 | F9: 3 | G9: 0

Sheet Feuil3
A1: a | B1: b | C1: c | D1: d | E1: e | F1: f | G1: g
A2: A6 | B2: 3 | C2: 0 | D2: 0 | E2: 3 | F2: 0 | G2: 9
A3: A5 | B3: 2 | C3: 0 | D3: 1 | E3: 2 | F3: 1 | G3: 6
A4: A1 | B4: 1 | C4: 2 | D4: 0 | E4: 3 | F4: 2 | G4: 5
A5: A4 | B5: 1 | C5: 2 | D5: 0 | E5: 3 | F5: 2 | G5: 5
A6: A8 | B6: 1 | C6: 1 | D6: 1 | E6: 2 | F6: 2 | G6: 3
A7: A7 | B7: 0 | C7: 2 | D7: 1 | E7: 2 | F7: 3 | G7: 2
A8: A2 | B8: 0 | C8: 1 | D8: 2 | E8: 1 | F8: 3 | G8: 1
A9: A3 | B9: 0 | C9: 0 | D9: 3 | E9: 0 | F9: 3 | G9: 0

Sheet Feuil4
A1: a | B1: b | C1: c | D1: d | E1: e | F1: f | G1: g
A2: A6 | B2: 3 | C2: 0 | D2: 0 | E2: 3 | F2: 0 | G2: 9
A3: A2 | B3: 2 | C3: 0 | D3: 1 | E3: 2 | F3: 1 | G3: 6
A4: A1 | B4: 1 | C4: 2 | D4: 0 | E4: 3 | F4: 2 | G4: 5
A5: A8 | B5: 1 | C5: 2 | D5: 0 | E5: 3 | F5: 2 | G5: 5
A6: A7 | B6: 1 | C6: 1 | D6: 1 | E6: 2 | F6: 2 | G6: 3
A7: A5 | B7: 0 | C7: 2 | D7: 1 | E7: 2 | F7: 3 | G7: 2
A8: A3 | B8: 0 | C8: 1 | D8: 2 | E8: 1 | F8: 3 | G8: 1
A9: A4 | B9: 0 | C9: 0 | D9: 3 | E9: 0 | F9: 3 | G9: 0

Sheet Général
A1: a | B1: b | C1: c | D1: d | E1: e | F1: f | G1: g
A2: A6 | B2: =VLOOKUP($A2,Feuil1!$A$2:$G$9,COLUMN(),FALSE)+VLOOKUP($A2,Feuil2!$A$2:$G$9,COLUMN(),FALSE)+VLOOKUP($A2,Feuil3!$A$2:$G$9,COLUMN(),FALSE)+VLOOKUP($A2,Feuil4!$A$2:$G$9,COLUMN(),FALSE) -> 7 | C2: =VLOOKUP($A2,Feuil1!$A$2:$G$9,COLUMN(),FALSE)+VLOOKUP($A2,Feuil2!$A$2:$G$9,COLUMN(),FALSE)+VLOOKUP($A2,Feuil3!$A$2:$G$9,COLUMN(),FALSE)+VLOOKUP($A2,Feuil4!$A$2:$G$9,COLUMN(),FALSE) -> 2 | D2: =VLOOKUP($A2,Feuil1!$A$2:$G$9,COLUMN(),FALSE)+VLOOKUP($A2,Feuil2!$A$2:$G$9,COLUMN(),FALSE)+VLOOKUP($A2,Feuil3!$A$2:$G$9,COLUMN(),FALSE)+VLOOKUP($A2,Feuil4!$A$2:$G$9,COLUMN(),FALSE) -> 3 | E2: =VLOOKUP($A2,Feuil1!$A$2:$G$9,COLUMN(),FALSE)+VLOOKUP($A2,Feuil2!$A$2:$G$9,COLUMN(),FALSE)+VLOOKUP($A2,Feuil3!$A$2:$G$9,COLUMN(),FALSE)+VLOOKUP($A2,Feuil4!$A$2:$G$9,COLUMN(),FALSE) -> 9 | F2: =VLOOKUP($A2,Feuil1!$A$2:$G$9,COLUMN(),FALSE)+VLOOKUP($A2,Feuil2!$A$2:$G$9,COLUMN(),FALSE)+VLOOKUP($A2,Feuil3!$A$2:$G$9,COLUMN(),FALSE)+VLOOKUP($A2,Feuil4!$A$2:$G$9,COLUMN(),FALSE) -> 5 | G2: =VLOOKUP($A2,Feuil1!$A$2:$G$9,COLUMN(),FALSE)+VLOOKUP($A2,Feuil2!$A$2:$G$9,COLUMN(),FALSE)+VLOOKUP($A2,Feuil3!$A$2:$G$9,COLUMN(),FALSE)+VLOOKUP($A2,Feuil4!$A$2:$G$9,COLUMN(),FALSE) -> 23
A3: A5 | B3: =VLOOKUP($A3,Feuil1!$A$2:$G$9,COLUMN(),FALSE)+VLOOKUP($A3,Feuil2!$A$2:$G$9,COLUMN(),FALSE)+VLOOKUP($A3,Feuil3!$A$2:$G$9,COLUMN(),FALSE)+VLOOKUP($A3,Feuil4!$A$2:$G$9,COLUMN(),FALSE) -> 6 | C3: =VLOOKUP($A3,Feuil1!$A$2:$G$9,COLUMN(),FALSE)+VLOOKUP($A3,Feuil2!$A$2:$G$9,COLUMN(),FALSE)+VLOOKUP($A3,Feuil3!$A$2:$G$9,COLUMN(),FALSE)+VLOOKUP($A3,Feuil4!$A$2:$G$9,COLUMN(),FALSE) -> 4 | D3: =VLOOKUP($A3,Feuil1!$A$2:$G$9,COLUMN(),FALSE)+VLOOKUP($A3,Feuil2!$A$2:$G$9,COLUMN(),FALSE)+VLOOKUP($A3,Feuil3!$A$2:$G$9,COLUMN(),FALSE)+VLOOKUP($A3,Feuil4!$A$2:$G$9,COLUMN(),FALSE) -> 2 | E3: =VLOOKUP($A3,Feuil1!$A$2:$G$9,COLUMN(),FALSE)+VLOOKUP($A3,Feuil2!$A$2:$G$9,COLUMN(),FALSE)+VLOOKUP($A3,Feuil3!$A$2:$G$9,COLUMN(),FALSE)+VLOOKUP($A3,Feuil4!$A$2:$G$9,COLUMN(),FALSE) -> 10 | F3: =VLOOKUP($A3,Feuil1!$A$2:$G$9,COLUMN(),FALSE)+VLOOKUP($A3,Feuil2!$A$2:$G$9,COLUMN(),FALSE)+VLOOKUP($A3,Feuil3!$A$2:$G$9,COLUMN(),FALSE)+VLOOKUP($A3,Feuil4!$A$2:$G$9,COLUMN(),FALSE) -> 6 | G3: =VLOOKUP($A3,Feuil1!$A$2:$G$9,COLUMN(),FALSE)+VLOOKUP($A3,Feuil2!$A$2:$G$9,COLUMN(),FALSE)+VLOOKUP($A3,Feuil3!$A$2:$G$9,COLUMN(),FALSE)+VLOOKUP($A3,Feuil4!$A$2:$G$9,COLUMN(),FALSE) -> 22
A4: A1 | B4: =VLOOKUP($A4,Feuil1!$A$2:$G$9,COLUMN(),FALSE)+VLOOKUP($A4,Feuil2!$A$2:$G$9,COLUMN(),FALSE)+VLOOKUP($A4,Feuil3!$A$2:$G$9,COLUMN(),FALSE)+VLOOKUP($A4,Feuil4!$A$2:$G$9,COLUMN(),FALSE) -> 5 | C4: =VLOOKUP($A4,Feuil1!$A$2:$G$9,COLUMN(),FALSE)+VLOOKUP($A4,Feuil2!$A$2:$G$9,COLUMN(),FALSE)+VLOOKUP($A4,Feuil3!$A$2:$G$9,COLUMN(),FALSE)+VLOOKUP($A4,Feuil4!$A$2:$G$9,COLUMN(),FALSE) -> 5 | D4: =VLOOKUP($A4,Feuil1!$A$2:$G$9,COLUMN(),FALSE)+VLOOKUP($A4,Feuil2!$A$2:$G$9,COLUMN(),FALSE)+VLOOKUP($A4,Feuil3!$A$2:$G$9,COLUMN(),FALSE)+VLOOKUP($A4,Feuil4!$A$2:$G$9,COLUMN(),FALSE) -> 2 | E4: =VLOOKUP($A4,Feuil1!$A$2:$G$9,COLUMN(),FALSE)+VLOOKUP($A4,Feuil2!$A$2:$G$9,COLUMN(),FALSE)+VLOOKUP($A4,Feuil3!$A$2:$G$9,COLUMN(),FALSE)+VLOOKUP($A4,Feuil4!$A$2:$G$9,COLUMN(),FALSE) -> 10 | F4: =VLOOKUP($A4,Feuil1!$A$2:$G$9,COLUMN(),FALSE)+VLOOKUP($A4,Feuil2!$A$2:$G$9,COLUMN(),FALSE)+VLOOKUP($A4,Feuil3!$A$2:$G$9,COLUMN(),FALSE)+VLOOKUP($A4,Feuil4!$A$2:$G$9,COLUMN(),FALSE) -> 7 | G4: =VLOOKUP($A4,Feuil1!$A$2:$G$9,COLUMN(),FALSE)+VLOOKUP($A4,Feuil2!$A$2:$G$9,COLUMN(),FALSE)+VLOOKUP($A4,Feuil3!$A$2:$G$9,COLUMN(),FALSE)+VLOOKUP($A4,Feuil4!$A$2:$G$9,COLUMN(),FALSE) -> 19
A5: A8 | B5: =VLOOKUP($A5,Feuil1!$A$2:$G$9,COLUMN(),FALSE)+VLOOKUP($A5,Feuil2!$A$2:$G$9,COLUMN(),FALSE)+VLOOKUP($A5,Feuil3!$A$2:$G$9,COLUMN(),FALSE)+VLOOKUP($A5,Feuil4!$A$2:$G$9,COLUMN(),FALSE) -> 4 | C5: =VLOOKUP($A5,Feuil1!$A$2:$G$9,COLUMN(),FALSE)+VLOOKUP($A5,Feuil2!$A$2:$G$9,COLUMN(),FALSE)+VLOOKUP($A5,Feuil3!$A$2:$G$9,COLUMN(),FALSE)+VLOOKUP($A5,Feuil4!$A$2:$G$9,COLUMN(),FALSE) -> 6 | D5: =VLOOKUP($A5,Feuil1!$A$2:$G$9,COLUMN(),FALSE)+VLOOKUP($A5,Feuil2!$A$2:$G$9,COLUMN(),FALSE)+VLOOKUP($A5,Feuil3!$A$2:$G$9,COLUMN(),FALSE)+VLOOKUP($A5,Feuil4!$A$2:$G$9,COLUMN(),FALSE) -> 2 | E5: =VLOOKUP($A5,Feuil1!$A$2:$G$9,COLUMN(),FALSE)+VLOOKUP($A5,Feuil2!$A$2:$G$9,COLUMN(),FALSE)+VLOOKUP($A5,Feuil3!$A$2:$G$9,COLUMN(),FALSE)+VLOOKUP($A5,Feuil4!$A$2:$G$9,COLUMN(),FALSE) -> 10 | F5: =VLOOKUP($A5,Feuil1!$A$2:$G$9,COLUMN(),FALSE)+VLOOKUP($A5,Feuil2!$A$2:$G$9,COLUMN(),FALSE)+VLOOKUP($A5,Feuil3!$A$2:$G$9,COLUMN(),FALSE)+VLOOKUP($A5,Feuil4!$A$2:$G$9,COLUMN(),FALSE) -> 8 | G5: =VLOOKUP($A5,Feuil1!$A$2:$G$9,COLUMN(),FALSE)+VLOOKUP($A5,Feuil2!$A$2:$G$9,COLUMN(),FALSE)+VLOOKUP($A5,Feuil3!$A$2:$G$9,COLUMN(),FALSE)+VLOOKUP($A5,Feuil4!$A$2:$G$9,COLUMN(),FALSE) -> 16
A6: A2 | B6: =VLOOKUP($A6,Feuil1!$A$2:$G$9,COLUMN(),FALSE)+VLOOKUP($A6,Feuil2!$A$2:$G$9,COLUMN(),FALSE)+VLOOKUP($A6,Feuil3!$A$2:$G$9,COLUMN(),FALSE)+VLOOKUP($A6,Feuil4!$A$2:$G$9,COLUMN(),FALSE) -> 3 | C6: =VLOOKUP($A6,Feuil1!$A$2:$G$9,COLUMN(),FALSE)+VLOOKUP($A6,Feuil2!$A$2:$G$9,COLUMN(),FALSE)+VLOOKUP($A6,Feuil3!$A$2:$G$9,COLUMN(),FALSE)+VLOOKUP($A6,Feuil4!$A$2:$G$9,COLUMN(),FALSE) -> 5 | D6: =VLOOKUP($A6,Feuil1!$A$2:$G$9,COLUMN(),FALSE)+VLOOKUP($A6,Feuil2!$A$2:$G$9,COLUMN(),FALSE)+VLOOKUP($A6,Feuil3!$A$2:$G$9,COLUMN(),FALSE)+VLOOKUP($A6,Feuil4!$A$2:$G$9,COLUMN(),FALSE) -> 4 | E6: =VLOOKUP($A6,Feuil1!$A$2:$G$9,COLUMN(),FALSE)+VLOOKUP($A6,Feuil2!$A$2:$G$9,COLUMN(),FALSE)+VLOOKUP($A6,Feuil3!$A$2:$G$9,COLUMN(),FALSE)+VLOOKUP($A6,Feuil4!$A$2:$G$9,COLUMN(),FALSE) -> 8 | F6: =VLOOKUP($A6,Feuil1!$A$2:$G$9,COLUMN(),FALSE)+VLOOKUP($A6,Feuil2!$A$2:$G$9,COLUMN(),FALSE)+VLOOKUP($A6,Feuil3!$A$2:$G$9,COLUMN(),FALSE)+VLOOKUP($A6,Feuil4!$A$2:$G$9,COLUMN(),FALSE) -> 9 | G6: =VLOOKUP($A6,Feuil1!$A$2:$G$9,COLUMN(),FALSE)+VLOOKUP($A6,Feuil2!$A$2:$G$9,COLUMN(),FALSE)+VLOOKUP($A6,Feuil3!$A$2:$G$9,COLUMN(),FALSE)+VLOOKUP($A6,Feuil4!$A$2:$G$9,COLUMN(),FALSE) -> 14
A7: A3 | B7: =VLOOKUP($A7,Feuil1!$A$2:$G$9,COLUMN(),FALSE)+VLOOKUP($A7,Feuil2!$A$2:$G$9,COLUMN(),FALSE)+VLOOKUP($A7,Feuil3!$A$2:$G$9,COLUMN(),FALSE)+VLOOKUP($A7,Feuil4!$A$2:$G$9,COLUMN(),FALSE) -> 3 | C7: =VLOOKUP($A7,Feuil1!$A$2:$G$9,COLUMN(),FALSE)+VLOOKUP($A7,Feuil2!$A$2:$G$9,COLUMN(),FALSE)+VLOOKUP($A7,Feuil3!$A$2:$G$9,COLUMN(),FALSE)+VLOOKUP($A7,Feuil4!$A$2:$G$9,COLUMN(),FALSE) -> 3 | D7: =VLOOKUP($A7,Feuil1!$A$2:$G$9,COLUMN(),FALSE)+VLOOKUP($A7,Feuil2!$A$2:$G$9,COLUMN(),FALSE)+VLOOKUP($A7,Feuil3!$A$2:$G$9,COLUMN(),FALSE)+VLOOKUP($A7,Feuil4!$A$2:$G$9,COLUMN(),FALSE) -> 6 | E7: =VLOOKUP($A7,Feuil1!$A$2:$G$9,COLUMN(),FALSE)+VLOOKUP($A7,Feuil2!$A$2:$G$9,COLUMN(),FALSE)+VLOOKUP($A7,Feuil3!$A$2:$G$9,COLUMN(),FALSE)+VLOOKUP($A7,Feuil4!$A$2:$G$9,COLUMN(),FALSE) -> 6 | F7: =VLOOKUP($A7,Feuil1!$A$2:$G$9,COLUMN(),FALSE)+VLOOKUP($A7,Feuil2!$A$2:$G$9,COLUMN(),FALSE)+VLOOKUP($A7,Feuil3!$A$2:$G$9,COLUMN(),FALSE)+VLOOKUP($A7,Feuil4!$A$2:$G$9,COLUMN(),FALSE) -> 9 | G7: =VLOOKUP($A7,Feuil1!$A$2:$G$9,COLUMN(),FALSE)+VLOOKUP($A7,Feuil2!$A$2:$G$9,COLUMN(),FALSE)+VLOOKUP($A7,Feuil3!$A$2:$G$9,COLUMN(),FALSE)+VLOOKUP($A7,Feuil4!$A$2:$G$9,COLUMN(),FALSE) -> 12
A8: A4 | B8: =VLOOKUP($A8,Feuil1!$A$2:$G$9,COLUMN(),FALSE)+VLOOKUP($A8,Feuil2!$A$2:$G$9,COLUMN(),FALSE)+VLOOKUP($A8,Feuil3!$A$2:$G$9,COLUMN(),FALSE)+VLOOKUP($A8,Feuil4!$A$2:$G$9,COLUMN(),FALSE) -> 3 | C8: =VLOOKUP($A8,Feuil1!$A$2:$G$9,COLUMN(),FALSE)+VLOOKUP($A8,Feuil2!$A$2:$G$9,COLUMN(),FALSE)+VLOOKUP($A8,Feuil3!$A$2:$G$9,COLUMN(),FALSE)+VLOOKUP($A8,Feuil4!$A$2:$G$9,COLUMN(),FALSE) -> 3 | D8: =VLOOKUP($A8,Feuil1!$A$2:$G$9,COLUMN(),FALSE)+VLOOKUP($A8,Feuil2!$A$2:$G$9,COLUMN(),FALSE)+VLOOKUP($A8,Feuil3!$A$2:$G$9,COLUMN(),FALSE)+VLOOKUP($A8,Feuil4!$A$2:$G$9,COLUMN(),FALSE) -> 6 | E8: =VLOOKUP($A8,Feuil1!$A$2:$G$9,COLUMN(),FALSE)+VLOOKUP($A8,Feuil2!$A$2:$G$9,COLUMN(),FALSE)+VLOOKUP($A8,Feuil3!$A$2:$G$9,COLUMN(),FALSE)+VLOOKUP($A8,Feuil4!$A$2:$G$9,COLUMN(),FALSE) -> 6 | F8: =VLOOKUP($A8,Feuil1!$A$2:$G$9,COLUMN(),FALSE)+VLOOKUP($A8,Feuil2!$A$2:$G$9,COLUMN(),FALSE)+VLOOKUP($A8,Feuil3!$A$2:$G$9,COLUMN(),FALSE)+VLOOKUP($A8,Feuil4!$A$2:$G$9,COLUMN(),FALSE) -> 9 | G8: =VLOOKUP($A8,Feuil1!$A$2:$G$9,COLUMN(),FALSE)+VLOOKUP($A8,Feuil2!$A$2:$G$9,COLUMN(),FALSE)+VLOOKUP($A8,Feuil3!$A$2:$G$9,COLUMN(),FALSE)+VLOOKUP($A8,Feuil4!$A$2:$G$9,COLUMN(),FALSE) -> 12
A9: A7 | B9: =VLOOKUP($A9,Feuil1!$A$2:$G$9,COLUMN(),FALSE)+VLOOKUP($A9,Feuil2!$A$2:$G$9,COLUMN(),FALSE)+VLOOKUP($A9,Feuil3!$A$2:$G$9,COLUMN(),FALSE)+VLOOKUP($A9,Feuil4!$A$2:$G$9,COLUMN(),FALSE) -> 1 | C9: =VLOOKUP($A9,Feuil1!$A$2:$G$9,COLUMN(),FALSE)+VLOOKUP($A9,Feuil2!$A$2:$G$9,COLUMN(),FALSE)+VLOOKUP($A9,Feuil3!$A$2:$G$9,COLUMN(),FALSE)+VLOOKUP($A9,Feuil4!$A$2:$G$9,COLUMN(),FALSE) -> 4 | D9: =VLOOKUP($A9,Feuil1!$A$2:$G$9,COLUMN(),FALSE)+VLOOKUP($A9,Feuil2!$A$2:$G$9,COLUMN(),FALSE)+VLOOKUP($A9,Feuil3!$A$2:$G$9,COLUMN(),FALSE)+VLOOKUP($A9,Feuil4!$A$2:$G$9,COLUMN(),FALSE) -> 7 | E9: =VLOOKUP($A9,Feuil1!$A$2:$G$9,COLUMN(),FALSE)+VLOOKUP($A9,Feuil2!$A$2:$G$9,COLUMN(),FALSE)+VLOOKUP($A9,Feuil3!$A$2:$G$9,COLUMN(),FALSE)+VLOOKUP($A9,Feuil4!$A$2:$G$9,COLUMN(),FALSE) -> 5 | F9: =VLOOKUP($A9,Feuil1!$A$2:$G$9,COLUMN(),FALSE)+VLOOKUP($A9,Feuil2!$A$2:$G$9,COLUMN(),FALSE)+VLOOKUP($A9,Feuil3!$A$2:$G$9,COLUMN(),FALSE)+VLOOKUP($A9,Feuil4!$A$2:$G$9,COLUMN(),FALSE) -> 11 | G9: =VLOOKUP($A9,Feuil1!$A$2:$G$9,COLUMN(),FALSE)+VLOOKUP($A9,Feuil2!$A$2:$G$9,COLUMN(),FALSE)+VLOOKUP($A9,Feuil3!$A$2:$G$9,COLUMN(),FALSE)+VLOOKUP($A9,Feuil4!$A$2:$G$9,COLUMN(),FALSE) -> 6
