Workbook
Name Tablo: Données!$A$3:$B$18
Name Villes: Données!$A$3:$A$18

Sheet Données
A1: 41974 | B1: Taille PTU
A3: Brest | B3: 203928 | C3: =ABS(B3-'Exemple tableau 1'!$B$2) -> 0
A4: Le Mans | B4: 190250 | C4: =ABS(B4-'Exemple tableau 1'!$B$2) -> 13678
A5: Dijon | B5: 251679 | C5: =ABS(B5-'Exemple tableau 1'!$B$2) -> 47751
A6: Caen | B6: 223106 | C6: =ABS(B6-'Exemple tableau 1'!$B$2) -> 19178
A7: Angers | B7: 270000 | C7: =ABS(B7-'Exemple tableau 1'!$B$2) -> 66072
A8: Clermont | B8: 285000 | C8: =ABS(B8-'Exemple tableau 1'!$B$2) -> 81072
A9: Metz | B9: 230000 | C9: =ABS(B9-'Exemple tableau 1'!$B$2) -> 26072
A10: Alès | B10: 72000 | C10: =ABS(B10-'Exemple tableau 1'!$B$2) -> 131928
A11: Alès - zone 1 | C11: =ABS(B11-'Exemple tableau 1'!$B$2) -> 203928
A12: Alès - zone 2 | C12: =ABS(B12-'Exemple tableau 1'!$B$2) -> 203928
A13: Alès - zone 3 | C13: =ABS(B13-'Exemple tableau 1'!$B$2) -> 203928
A14: Auxerre | B14: 65812 | C14: =ABS(B14-'Exemple tableau 1'!$B$2) -> 138116
A15: Agen | B15: 72099 | C15: =ABS(B15-'Exemple tableau 1'!$B$2) -> 131829
A16: Châlon en Champagne | B16: 66360 | C16: =ABS(B16-'Exemple tableau 1'!$B$2) -> 137568
A17: Bourg-en-Bresse | B17: 73000 | C17: =ABS(B17-'Exemple tableau 1'!$B$2) -> 130928
A18: Orléans | B18: 272572 | C18: =ABS(B18-'Exemple tableau 1'!$B$2) -> 68644

Sheet Exemple tableau 1
A1: Villes | B1: Taille PTU
A2: Brest | B2: =VLOOKUP(A2,Tablo,2,FALSE) -> 203928
A3: =INDEX(Villes,MATCH(SMALL(Données!$C$3:$C$18,2),Données!$C$3:$C$18,0)) -> Le Mans | B3: =VLOOKUP(A3,Tablo,2,FALSE) -> 190250
A4: =INDEX(Villes,MATCH(SMALL(Données!$C$3:$C$18,3),Données!$C$3:$C$18,0)) -> Caen | B4: =VLOOKUP(A4,Tablo,2,FALSE) -> 223106
A5: =INDEX(Villes,MATCH(SMALL(Données!$C$3:$C$18,4),Données!$C$3:$C$18,0)) -> Metz | B5: =VLOOKUP(A5,Tablo,2,FALSE) -> 230000
A6: =INDEX(Villes,MATCH(SMALL(Données!$C$3:$C$18,5),Données!$C$3:$C$18,0)) -> Dijon | B6: =VLOOKUP(A6,Tablo,2,FALSE) -> 251679
