Workbook

Sheet SS
A1: 64004605S | E1: 1 | F1: 1
A2: 64004606S | E2: 2 | F2: 2
A3: 64004607S | E3: 3
A4: 520011427 | E4: 4
A5: 520012885 | E5: 5
A6: 520012887 | E6: 6
A7: 520012888 | E7: 7
A8: 520012885 | E8: 8
A9: 520012889 | E9: 9
A10: 520013020 | E10: 10

Sheet FP
F2: Lundi | G2: Mardi | H2: Mercredi | I2: Jeudi | J2: Vendredi | K2: Lundi | L2: Mardi | M2: Mercredi | N2: Jeudi | O2: Vendredi | P2: Lundi | Q2: Mardi | R2: Mercredi | S2: Jeudi | T2: Vendredi
F3: 41673 | G3: 41674 | H3: 41675 | I3: 41676 | J3: 41677 | K3: 41680 | L3: 41681 | M3: 41682 | N3: 41683 | O3: 41684 | P3: 41687 | Q3: 41688 | R3: 41689 | S3: 41690 | T3: 41691
A4: Référence | B4: Désignation | C4: STOCK | D4: SS | E4: OK | F4: Z | G4: X | H4: W | I4: Z | J4: X | K4: W | L4: Z | M4: X | N4: W | O4: Z | P4: X | Q4: W | R4: Z | S4: X | T4: W
A5: 64004605S | C5: 15 | D5: 1 | E5: OUI | F5: =MAX(C5-INDEX(Quantité!$A$1:$E$11,MATCH($A5,Quantité!$A$1:$A$11,0),MATCH(F$4,Quantité!$A$1:$E$1,0)),0) -> 13 | G5: =MAX(F5-INDEX(Quantité!$A$1:$E$11,MATCH($A5,Quantité!$A$1:$A$11,0),MATCH(G$4,Quantité!$A$1:$E$1,0)),0) -> 11 | H5: =MAX(G5-INDEX(Quantité!$A$1:$E$11,MATCH($A5,Quantité!$A$1:$A$11,0),MATCH(H$4,Quantité!$A$1:$E$1,0)),0) -> 9 | I5: =MAX(H5-INDEX(Quantité!$A$1:$E$11,MATCH($A5,Quantité!$A$1:$A$11,0),MATCH(I$4,Quantité!$A$1:$E$1,0)),0) -> 7 | J5: =MAX(I5-INDEX(Quantité!$A$1:$E$11,MATCH($A5,Quantité!$A$1:$A$11,0),MATCH(J$4,Quantité!$A$1:$E$1,0)),0) -> 5 | K5: =MAX(J5-INDEX(Quantité!$A$1:$E$11,MATCH($A5,Quantité!$A$1:$A$11,0),MATCH(K$4,Quantité!$A$1:$E$1,0)),0) -> 3 | L5: =MAX(K5-INDEX(Quantité!$A$1:$E$11,MATCH($A5,Quantité!$A$1:$A$11,0),MATCH(L$4,Quantité!$A$1:$E$1,0)),0) -> 1 | M5: =MAX(L5-INDEX(Quantité!$A$1:$E$11,MATCH($A5,Quantité!$A$1:$A$11,0),MATCH(M$4,Quantité!$A$1:$E$1,0)),0) -> 0 | N5: =MAX(M5-INDEX(Quantité!$A$1:$E$11,MATCH($A5,Quantité!$A$1:$A$11,0),MATCH(N$4,Quantité!$A$1:$E$1,0)),0) -> 0 | ... T5: =MAX(S5-INDEX(Quantité!$A$1:$E$11,MATCH($A5,Quantité!$A$1:$A$11,0),MATCH(T$4,Quantité!$A$1:$E$1,0)),0) -> 0
A6: 64004606S | C6: 20 | D6: 2 | E6: OUI | F6: =MAX(C6-INDEX(Quantité!$A$1:$E$11,MATCH($A6,Quantité!$A$1:$A$11,0),MATCH(F$4,Quantité!$A$1:$E$1,0)),0) -> 19 | G6: =MAX(F6-INDEX(Quantité!$A$1:$E$11,MATCH($A6,Quantité!$A$1:$A$11,0),MATCH(G$4,Quantité!$A$1:$E$1,0)),0) -> 17 | H6: =MAX(G6-INDEX(Quantité!$A$1:$E$11,MATCH($A6,Quantité!$A$1:$A$11,0),MATCH(H$4,Quantité!$A$1:$E$1,0)),0) -> 16 | I6: =MAX(H6-INDEX(Quantité!$A$1:$E$11,MATCH($A6,Quantité!$A$1:$A$11,0),MATCH(I$4,Quantité!$A$1:$E$1,0)),0) -> 15 | J6: =MAX(I6-INDEX(Quantité!$A$1:$E$11,MATCH($A6,Quantité!$A$1:$A$11,0),MATCH(J$4,Quantité!$A$1:$E$1,0)),0) -> 13 | K6: =MAX(J6-INDEX(Quantité!$A$1:$E$11,MATCH($A6,Quantité!$A$1:$A$11,0),MATCH(K$4,Quantité!$A$1:$E$1,0)),0) -> 12 | L6: =MAX(K6-INDEX(Quantité!$A$1:$E$11,MATCH($A6,Quantité!$A$1:$A$11,0),MATCH(L$4,Quantité!$A$1:$E$1,0)),0) -> 11 | M6: =MAX(L6-INDEX(Quantité!$A$1:$E$11,MATCH($A6,Quantité!$A$1:$A$11,0),MATCH(M$4,Quantité!$A$1:$E$1,0)),0) -> 9 | N6: =MAX(M6-INDEX(Quantité!$A$1:$E$11,MATCH($A6,Quantité!$A$1:$A$11,0),MATCH(N$4,Quantité!$A$1:$E$1,0)),0) -> 8 | ... T6: =MAX(S6-INDEX(Quantité!$A$1:$E$11,MATCH($A6,Quantité!$A$1:$A$11,0),MATCH(T$4,Quantité!$A$1:$E$1,0)),0) -> 0
A7: 64004607S | C7: 40 | D7: 3 | E7: OUI | F7: =MAX(C7-INDEX(Quantité!$A$1:$E$11,MATCH($A7,Quantité!$A$1:$A$11,0),MATCH(F$4,Quantité!$A$1:$E$1,0)),0) -> 39 | G7: =MAX(F7-INDEX(Quantité!$A$1:$E$11,MATCH($A7,Quantité!$A$1:$A$11,0),MATCH(G$4,Quantité!$A$1:$E$1,0)),0) -> 37 | H7: =MAX(G7-INDEX(Quantité!$A$1:$E$11,MATCH($A7,Quantité!$A$1:$A$11,0),MATCH(H$4,Quantité!$A$1:$E$1,0)),0) -> 35 | I7: =MAX(H7-INDEX(Quantité!$A$1:$E$11,MATCH($A7,Quantité!$A$1:$A$11,0),MATCH(I$4,Quantité!$A$1:$E$1,0)),0) -> 34 | J7: =MAX(I7-INDEX(Quantité!$A$1:$E$11,MATCH($A7,Quantité!$A$1:$A$11,0),MATCH(J$4,Quantité!$A$1:$E$1,0)),0) -> 32 | K7: =MAX(J7-INDEX(Quantité!$A$1:$E$11,MATCH($A7,Quantité!$A$1:$A$11,0),MATCH(K$4,Quantité!$A$1:$E$1,0)),0) -> 30 | L7: =MAX(K7-INDEX(Quantité!$A$1:$E$11,MATCH($A7,Quantité!$A$1:$A$11,0),MATCH(L$4,Quantité!$A$1:$E$1,0)),0) -> 29 | M7: =MAX(L7-INDEX(Quantité!$A$1:$E$11,MATCH($A7,Quantité!$A$1:$A$11,0),MATCH(M$4,Quantité!$A$1:$E$1,0)),0) -> 27 | N7: =MAX(M7-INDEX(Quantité!$A$1:$E$11,MATCH($A7,Quantité!$A$1:$A$11,0),MATCH(N$4,Quantité!$A$1:$E$1,0)),0) -> 25 | ... T7: =MAX(S7-INDEX(Quantité!$A$1:$E$11,MATCH($A7,Quantité!$A$1:$A$11,0),MATCH(T$4,Quantité!$A$1:$E$1,0)),0) -> 15
A8: 520011427 | C8: 2 | D8: 4 | E8: NON | F8: =MAX(C8-INDEX(Quantité!$A$1:$E$11,MATCH($A8,Quantité!$A$1:$A$11,0),MATCH(F$4,Quantité!$A$1:$E$1,0)),0) -> 0 | G8: =MAX(F8-INDEX(Quantité!$A$1:$E$11,MATCH($A8,Quantité!$A$1:$A$11,0),MATCH(G$4,Quantité!$A$1:$E$1,0)),0) -> 0 | H8: =MAX(G8-INDEX(Quantité!$A$1:$E$11,MATCH($A8,Quantité!$A$1:$A$11,0),MATCH(H$4,Quantité!$A$1:$E$1,0)),0) -> 0 | I8: =MAX(H8-INDEX(Quantité!$A$1:$E$11,MATCH($A8,Quantité!$A$1:$A$11,0),MATCH(I$4,Quantité!$A$1:$E$1,0)),0) -> 0 | J8: =MAX(I8-INDEX(Quantité!$A$1:$E$11,MATCH($A8,Quantité!$A$1:$A$11,0),MATCH(J$4,Quantité!$A$1:$E$1,0)),0) -> 0 | K8: =MAX(J8-INDEX(Quantité!$A$1:$E$11,MATCH($A8,Quantité!$A$1:$A$11,0),MATCH(K$4,Quantité!$A$1:$E$1,0)),0) -> 0 | L8: =MAX(K8-INDEX(Quantité!$A$1:$E$11,MATCH($A8,Quantité!$A$1:$A$11,0),MATCH(L$4,Quantité!$A$1:$E$1,0)),0) -> 0 | M8: =MAX(L8-INDEX(Quantité!$A$1:$E$11,MATCH($A8,Quantité!$A$1:$A$11,0),MATCH(M$4,Quantité!$A$1:$E$1,0)),0) -> 0 | N8: =MAX(M8-INDEX(Quantité!$A$1:$E$11,MATCH($A8,Quantité!$A$1:$A$11,0),MATCH(N$4,Quantité!$A$1:$E$1,0)),0) -> 0 | ... T8: =MAX(S8-INDEX(Quantité!$A$1:$E$11,MATCH($A8,Quantité!$A$1:$A$11,0),MATCH(T$4,Quantité!$A$1:$E$1,0)),0) -> 0
A9: 520012885 | C9: 40 | D9: 5 | E9: OUI | F9: =MAX(C9-INDEX(Quantité!$A$1:$E$11,MATCH($A9,Quantité!$A$1:$A$11,0),MATCH(F$4,Quantité!$A$1:$E$1,0)),0) -> 39 | G9: =MAX(F9-INDEX(Quantité!$A$1:$E$11,MATCH($A9,Quantité!$A$1:$A$11,0),MATCH(G$4,Quantité!$A$1:$E$1,0)),0) -> 38 | H9: =MAX(G9-INDEX(Quantité!$A$1:$E$11,MATCH($A9,Quantité!$A$1:$A$11,0),MATCH(H$4,Quantité!$A$1:$E$1,0)),0) -> 36 | I9: =MAX(H9-INDEX(Quantité!$A$1:$E$11,MATCH($A9,Quantité!$A$1:$A$11,0),MATCH(I$4,Quantité!$A$1:$E$1,0)),0) -> 35 | J9: =MAX(I9-INDEX(Quantité!$A$1:$E$11,MATCH($A9,Quantité!$A$1:$A$11,0),MATCH(J$4,Quantité!$A$1:$E$1,0)),0) -> 34 | K9: =MAX(J9-INDEX(Quantité!$A$1:$E$11,MATCH($A9,Quantité!$A$1:$A$11,0),MATCH(K$4,Quantité!$A$1:$E$1,0)),0) -> 32 | L9: =MAX(K9-INDEX(Quantité!$A$1:$E$11,MATCH($A9,Quantité!$A$1:$A$11,0),MATCH(L$4,Quantité!$A$1:$E$1,0)),0) -> 31 | M9: =MAX(L9-INDEX(Quantité!$A$1:$E$11,MATCH($A9,Quantité!$A$1:$A$11,0),MATCH(M$4,Quantité!$A$1:$E$1,0)),0) -> 30 | N9: =MAX(M9-INDEX(Quantité!$A$1:$E$11,MATCH($A9,Quantité!$A$1:$A$11,0),MATCH(N$4,Quantité!$A$1:$E$1,0)),0) -> 28 | ... T9: =MAX(S9-INDEX(Quantité!$A$1:$E$11,MATCH($A9,Quantité!$A$1:$A$11,0),MATCH(T$4,Quantité!$A$1:$E$1,0)),0) -> 20
A10: 520012887 | C10: 10 | D10: 6 | E10: OUI | F10: =MAX(C10-INDEX(Quantité!$A$1:$E$11,MATCH($A10,Quantité!$A$1:$A$11,0),MATCH(F$4,Quantité!$A$1:$E$1,0)),0) -> 8 | G10: =MAX(F10-INDEX(Quantité!$A$1:$E$11,MATCH($A10,Quantité!$A$1:$A$11,0),MATCH(G$4,Quantité!$A$1:$E$1,0)),0) -> 7 | H10: =MAX(G10-INDEX(Quantité!$A$1:$E$11,MATCH($A10,Quantité!$A$1:$A$11,0),MATCH(H$4,Quantité!$A$1:$E$1,0)),0) -> 5 | I10: =MAX(H10-INDEX(Quantité!$A$1:$E$11,MATCH($A10,Quantité!$A$1:$A$11,0),MATCH(I$4,Quantité!$A$1:$E$1,0)),0) -> 3 | J10: =MAX(I10-INDEX(Quantité!$A$1:$E$11,MATCH($A10,Quantité!$A$1:$A$11,0),MATCH(J$4,Quantité!$A$1:$E$1,0)),0) -> 2 | K10: =MAX(J10-INDEX(Quantité!$A$1:$E$11,MATCH($A10,Quantité!$A$1:$A$11,0),MATCH(K$4,Quantité!$A$1:$E$1,0)),0) -> 0 | L10: =MAX(K10-INDEX(Quantité!$A$1:$E$11,MATCH($A10,Quantité!$A$1:$A$11,0),MATCH(L$4,Quantité!$A$1:$E$1,0)),0) -> 0 | M10: =MAX(L10-INDEX(Quantité!$A$1:$E$11,MATCH($A10,Quantité!$A$1:$A$11,0),MATCH(M$4,Quantité!$A$1:$E$1,0)),0) -> 0 | N10: =MAX(M10-INDEX(Quantité!$A$1:$E$11,MATCH($A10,Quantité!$A$1:$A$11,0),MATCH(N$4,Quantité!$A$1:$E$1,0)),0) -> 0 | ... T10: =MAX(S10-INDEX(Quantité!$A$1:$E$11,MATCH($A10,Quantité!$A$1:$A$11,0),MATCH(T$4,Quantité!$A$1:$E$1,0)),0) -> 0
A11: 520012888 | C11: 6 | D11: 7 | E11: NON | F11: =MAX(C11-INDEX(Quantité!$A$1:$E$11,MATCH($A11,Quantité!$A$1:$A$11,0),MATCH(F$4,Quantité!$A$1:$E$1,0)),0) -> 5 | G11: =MAX(F11-INDEX(Quantité!$A$1:$E$11,MATCH($A11,Quantité!$A$1:$A$11,0),MATCH(G$4,Quantité!$A$1:$E$1,0)),0) -> 4 | H11: =MAX(G11-INDEX(Quantité!$A$1:$E$11,MATCH($A11,Quantité!$A$1:$A$11,0),MATCH(H$4,Quantité!$A$1:$E$1,0)),0) -> 3 | I11: =MAX(H11-INDEX(Quantité!$A$1:$E$11,MATCH($A11,Quantité!$A$1:$A$11,0),MATCH(I$4,Quantité!$A$1:$E$1,0)),0) -> 2 | J11: =MAX(I11-INDEX(Quantité!$A$1:$E$11,MATCH($A11,Quantité!$A$1:$A$11,0),MATCH(J$4,Quantité!$A$1:$E$1,0)),0) -> 1 | K11: =MAX(J11-INDEX(Quantité!$A$1:$E$11,MATCH($A11,Quantité!$A$1:$A$11,0),MATCH(K$4,Quantité!$A$1:$E$1,0)),0) -> 0 | L11: =MAX(K11-INDEX(Quantité!$A$1:$E$11,MATCH($A11,Quantité!$A$1:$A$11,0),MATCH(L$4,Quantité!$A$1:$E$1,0)),0) -> 0 | M11: =MAX(L11-INDEX(Quantité!$A$1:$E$11,MATCH($A11,Quantité!$A$1:$A$11,0),MATCH(M$4,Quantité!$A$1:$E$1,0)),0) -> 0 | N11: =MAX(M11-INDEX(Quantité!$A$1:$E$11,MATCH($A11,Quantité!$A$1:$A$11,0),MATCH(N$4,Quantité!$A$1:$E$1,0)),0) -> 0 | ... T11: =MAX(S11-INDEX(Quantité!$A$1:$E$11,MATCH($A11,Quantité!$A$1:$A$11,0),MATCH(T$4,Quantité!$A$1:$E$1,0)),0) -> 0
A12: 520012885 | C12: 40 | D12: 5 | E12: OUI | F12: =MAX(C12-INDEX(Quantité!$A$1:$E$11,MATCH($A12,Quantité!$A$1:$A$11,0),MATCH(F$4,Quantité!$A$1:$E$1,0)),0) -> 39 | G12: =MAX(F12-INDEX(Quantité!$A$1:$E$11,MATCH($A12,Quantité!$A$1:$A$11,0),MATCH(G$4,Quantité!$A$1:$E$1,0)),0) -> 38 | H12: =MAX(G12-INDEX(Quantité!$A$1:$E$11,MATCH($A12,Quantité!$A$1:$A$11,0),MATCH(H$4,Quantité!$A$1:$E$1,0)),0) -> 36 | I12: =MAX(H12-INDEX(Quantité!$A$1:$E$11,MATCH($A12,Quantité!$A$1:$A$11,0),MATCH(I$4,Quantité!$A$1:$E$1,0)),0) -> 35 | J12: =MAX(I12-INDEX(Quantité!$A$1:$E$11,MATCH($A12,Quantité!$A$1:$A$11,0),MATCH(J$4,Quantité!$A$1:$E$1,0)),0) -> 34 | K12: =MAX(J12-INDEX(Quantité!$A$1:$E$11,MATCH($A12,Quantité!$A$1:$A$11,0),MATCH(K$4,Quantité!$A$1:$E$1,0)),0) -> 32 | L12: =MAX(K12-INDEX(Quantité!$A$1:$E$11,MATCH($A12,Quantité!$A$1:$A$11,0),MATCH(L$4,Quantité!$A$1:$E$1,0)),0) -> 31 | M12: =MAX(L12-INDEX(Quantité!$A$1:$E$11,MATCH($A12,Quantité!$A$1:$A$11,0),MATCH(M$4,Quantité!$A$1:$E$1,0)),0) -> 30 | N12: =MAX(M12-INDEX(Quantité!$A$1:$E$11,MATCH($A12,Quantité!$A$1:$A$11,0),MATCH(N$4,Quantité!$A$1:$E$1,0)),0) -> 28 | ... T12: =MAX(S12-INDEX(Quantité!$A$1:$E$11,MATCH($A12,Quantité!$A$1:$A$11,0),MATCH(T$4,Quantité!$A$1:$E$1,0)),0) -> 20
A13: 520012889 | C13: 8 | D13: 9 | E13: NON | F13: =MAX(C13-INDEX(Quantité!$A$1:$E$11,MATCH($A13,Quantité!$A$1:$A$11,0),MATCH(F$4,Quantité!$A$1:$E$1,0)),0) -> 7 | G13: =MAX(F13-INDEX(Quantité!$A$1:$E$11,MATCH($A13,Quantité!$A$1:$A$11,0),MATCH(G$4,Quantité!$A$1:$E$1,0)),0) -> 6 | H13: =MAX(G13-INDEX(Quantité!$A$1:$E$11,MATCH($A13,Quantité!$A$1:$A$11,0),MATCH(H$4,Quantité!$A$1:$E$1,0)),0) -> 5 | I13: =MAX(H13-INDEX(Quantité!$A$1:$E$11,MATCH($A13,Quantité!$A$1:$A$11,0),MATCH(I$4,Quantité!$A$1:$E$1,0)),0) -> 4 | J13: =MAX(I13-INDEX(Quantité!$A$1:$E$11,MATCH($A13,Quantité!$A$1:$A$11,0),MATCH(J$4,Quantité!$A$1:$E$1,0)),0) -> 3 | K13: =MAX(J13-INDEX(Quantité!$A$1:$E$11,MATCH($A13,Quantité!$A$1:$A$11,0),MATCH(K$4,Quantité!$A$1:$E$1,0)),0) -> 2 | L13: =MAX(K13-INDEX(Quantité!$A$1:$E$11,MATCH($A13,Quantité!$A$1:$A$11,0),MATCH(L$4,Quantité!$A$1:$E$1,0)),0) -> 1 | M13: =MAX(L13-INDEX(Quantité!$A$1:$E$11,MATCH($A13,Quantité!$A$1:$A$11,0),MATCH(M$4,Quantité!$A$1:$E$1,0)),0) -> 0 | N13: =MAX(M13-INDEX(Quantité!$A$1:$E$11,MATCH($A13,Quantité!$A$1:$A$11,0),MATCH(N$4,Quantité!$A$1:$E$1,0)),0) -> 0 | ... T13: =MAX(S13-INDEX(Quantité!$A$1:$E$11,MATCH($A13,Quantité!$A$1:$A$11,0),MATCH(T$4,Quantité!$A$1:$E$1,0)),0) -> 0
A14: 520013020 | C14: 4 | D14: 10 | E14: NON | F14: =MAX(C14-INDEX(Quantité!$A$1:$E$11,MATCH($A14,Quantité!$A$1:$A$11,0),MATCH(F$4,Quantité!$A$1:$E$1,0)),0) -> 3 | G14: =MAX(F14-INDEX(Quantité!$A$1:$E$11,MATCH($A14,Quantité!$A$1:$A$11,0),MATCH(G$4,Quantité!$A$1:$E$1,0)),0) -> 2 | H14: =MAX(G14-INDEX(Quantité!$A$1:$E$11,MATCH($A14,Quantité!$A$1:$A$11,0),MATCH(H$4,Quantité!$A$1:$E$1,0)),0) -> 0 | I14: =MAX(H14-INDEX(Quantité!$A$1:$E$11,MATCH($A14,Quantité!$A$1:$A$11,0),MATCH(I$4,Quantité!$A$1:$E$1,0)),0) -> 0 | J14: =MAX(I14-INDEX(Quantité!$A$1:$E$11,MATCH($A14,Quantité!$A$1:$A$11,0),MATCH(J$4,Quantité!$A$1:$E$1,0)),0) -> 0 | K14: =MAX(J14-INDEX(Quantité!$A$1:$E$11,MATCH($A14,Quantité!$A$1:$A$11,0),MATCH(K$4,Quantité!$A$1:$E$1,0)),0) -> 0 | L14: =MAX(K14-INDEX(Quantité!$A$1:$E$11,MATCH($A14,Quantité!$A$1:$A$11,0),MATCH(L$4,Quantité!$A$1:$E$1,0)),0) -> 0 | M14: =MAX(L14-INDEX(Quantité!$A$1:$E$11,MATCH($A14,Quantité!$A$1:$A$11,0),MATCH(M$4,Quantité!$A$1:$E$1,0)),0) -> 0 | N14: =MAX(M14-INDEX(Quantité!$A$1:$E$11,MATCH($A14,Quantité!$A$1:$A$11,0),MATCH(N$4,Quantité!$A$1:$E$1,0)),0) -> 0 | ... T14: =MAX(S14-INDEX(Quantité!$A$1:$E$11,MATCH($A14,Quantité!$A$1:$A$11,0),MATCH(T$4,Quantité!$A$1:$E$1,0)),0) -> 0

Sheet Quantité
A1: Référence | B1: Désignation | C1: Z | D1: X | E1: W
A2: 64004605S | C2: 2 | D2: 2 | E2: 2
A3: 64004606S | C3: 1 | D3: 2 | E3: 1
A4: 64004607S | C4: 1 | D4: 2 | E4: 2
A5: 520011427 | C5: 2 | D5: 2 | E5: 1
A6: 520012885 | C6: 1 | D6: 1 | E6: 2
A7: 520012887 | C7: 2 | D7: 1 | E7: 2
A8: 520012888 | C8: 1 | D8: 1 | E8: 1
A9: 520012885 | C9: 2 | D9: 1 | E9: 2
A10: 520012889 | C10: 1 | D10: 1 | E10: 1
A11: 520013020 | C11: 1 | D11: 1 | E11: 2

Sheet stock
A1: Référence | B1: Désignation | C1: Stock
A2: 64004605S | C2: 15
A3: 64004606S | C3: 20
A4: 64004607S | C4: 40
A5: 520011427 | C5: 2
A6: 520012885 | C6: 40
A7: 520012887 | C7: 10
A8: 520012888 | C8: 6
A9: 520012885 | C9: 10
A10: 520012889 | C10: 8
A11: 520013020 | C11: 4
