Workbook
Name TABLEAU: #REF!

Sheet Previsions SPA 2018
A1: Code Article Gestcom | B1: Désignation | C1: PRV JAN | D1: PRV FEV | E1: PRV MARS | F1: PRV AVR | G1: PRV Mai | H1: PRV JUIN | I1: PRV JUILL | J1: PRV AOUT | K1: PRV SEPT | L1: PRV OCT | M1: PRV NOV | N1: PRV DEC
A2: 100753 | B2: GLOVES MULTIPURPOSE BLUE | D2: 3 | G2: 2 | L2: 1 | N2: 7
A3: 100756 | B3: GLOVES MULTIPURPOSE M GREEN | C3: 5 | G3: 3 | P3: =COUNTA(A:A) -> 527
A4: 100759 | B4: GLOVES MULTIPURPOSE M YELLOW | C4: 1 | G4: 2 | I4: 1 | Q4: =526*12 -> 6312
A5: 100812 | B5: EVOLUTION MOUILLEUR COMPLET 35 | H5: 2 | I5: 3
A6: 128604 | B6: NANOTECH MICRO JAUNE 38X40 CM | H6: 1
A7: 128605 | B7: NANOTECH MICRO BLEUE 38 X 40 C | F7: 2
A8: 128606 | B8: NANOTECH MICRO GR?N | F8: 2 | G8: 1
A9: 128607 | B9: NANOTECH MICRO ROUGE 38X40 CM | H9: 1
A10: 143236 | B10: ULTRASPEED TRIO MOP 40CM | F10: 3 | H10: 5 | I10: 2 | K10: 1 | L10: 5 | N10: 5
A11: 143244 | B11: ULTRASPEED MICROLITE MOP 40 CM | D11: 3 | F11: 3 | H11: 3 | J11: 3 | L11: 3 | N11: 3
A12: 143590 | B12: PVA MIRCO BLUE 35X38 CM | D12: 4 | K12: 4
A13: 143725 | B13: VOLEOPRO STANDARD | H13: 4
A14: 143731 | B14: Voleo Pro Housse De Protection Sac Poubelle 70L | H14: 4
A15: 145846 | B15: MICROTUFF BASE BLEUE | D15: 1 | E15: 20 | G15: 7 | K15: 22
A16: 145847 | B16: MICROTUFF BASE ROUGE | E16: 20 | G16: 7 | K16: 22
A17: 145848 | B17: MICROTUFF BASE JAUNE | E17: 20 | G17: 7 | K17: 20
A18: 145849 | B18: MICROTUFF BASE VERTE | D18: 1 | E18: 20 | G18: 7 | K18: 20
A19: 316340 | B19: Savon mousse KLEENEX | F19: 5 | G19: 5 | H19: 7 | I19: 9 | J19: 9 | K19: 9 | L19: 7 | M19: 2 | N19: 1
A20: 500117 | B20: EVOLUTION MANCHE TÉLESCOPIQUE | H20: 1
A21: 500209 | B21: EVOLUTION RACLETTE COMPLÈTE 35 | F21: 1 | H21: 2 | I21: 3
A22: 500642 | B22: Frange à Poussière Synthètique Durable | C22: 2 | F22: 3 | L22: 3 | N22: 2
A23: 508097 | B23: UltraSpeed Presse à Levier | H23: 4
A24: 508243 | B24: UltraSpeed Seau 25 Litres | H24: 8
A25: 508248 | B25: ULTRASPEED SAFE MOP | D25: 2 | F25: 2 | H25: 2 | J25: 2 | L25: 2 | N25: 2
A26: 510400 | B26: Manche en Aluminium145 cm | F26: 5 | H26: 4
A27: 511274 | B27: SUPPORT MÉTALLIQUE POUR FRANGE | F27: 3
A28: 2850201 | B28: BAUME DES QUATRE THÉS | C28: 1 | D28: 1 | E28: 16 | G28: 2 | H28: 4 | I28: 12 | K28: 9
A29: 2850206 | B29: BAUME DÉLICIEUX THÉ EN ORIENT | D29: 1 | E29: 12 | G29: 2 | H29: 2 | I29: 12 | K29: 9
A30: 2860304 | B30: HUILE DES 4 THÉS | E30: 7 | K30: 5
A31: 2880112 | B31: Crème de Mousse Pur Théïshu | D31: 2 | K31: 4
A32: 2880204 | B32: BAUME DE PRINTEMPS | E32: 17 | H32: 3 | I32: 10 | K32: 5
A33: 2880303 | B33: BRUME DE THÉ | K33: 5
A34: 2880308 | B34: BRUME DE SOMMEIL | K34: 5
A35: 316657000 | B35: Essuie-mains SCOTT® SLIMROLL 6 - Shade 10 / Blanc | C35: 0 | D35: 10 | E35: 0 | F35: 10 | G35: 0 | H35: 0 | I35: 10 | J35: 0 | K35: 10 | L35: 10 | M35: 0 | N35: 10
A36: 316658000 | B36: Essuie-mains SCOTT® 6 - Rouleau / Bleu / 304 / 1P | C36: 80 | D36: 100 | E36: 109 | F36: 255 | G36: 200 | H36: 329 | I36: 386 | J36: 478 | K36: 399 | L36: 330 | M36: 270 | N36: 303
A37: 316658000 | B37: Essuie-mains SCOTT® SLIMROLL 6 - Rouleau / Bleu / | C37: 0 | D37: 0 | E37: 0 | F37: 0 | G37: 0 | H37: 0 | I37: 1 | J37: 0 | K37: 1 | L37: 0 | M37: 1 | N37: 1
A38: 316668010 | B38: Essuie-mains SCOTT® 6 - Rouleau / Bleu / 304 / 1P | C38: 4.25 | D38: 10 | E38: 60 | F38: 152 | G38: 60 | H38: 60 | I38: 252 | J38: 50 | K38: 120 | L38: 192 | M38: 60 | N38: 162
A39: 316668010 | B39: Essuie-mains SCOTT® 6 - Rouleau / Bleu / 304 / 1P | C39: 19 | D39: 52 | E39: 28 | F39: 66 | G39: 62 | H39: 71 | I39: 80 | J39: 116 | K39: 84 | L39: 65 | M39: 36 | N39: 51
A40: 316669020 | B40: Essuie-mains SCOTT® XTRA 15 - Enchevêtrés / Blanc | C40: 0 | D40: 0 | E40: 0 | F40: 2 | G40: 0 | H40: 0 | I40: 0 | J40: 0 | K40: 2 | L40: 0 | M40: 0 | N40: 0
...

Sheet Feuil1
A1: Code Article Gestcom | B1: Désignation | C1: Mois | D1: Valeurs
A2: =IF(ROWS($2:2)>(COUNTA('Previsions SPA 2018'!A:A)-1)*12,"",OFFSET('Previsions SPA 2018'!A$1,INT((ROWS($2:2)-1)/12)+1,)) -> 100753 | B2: =OFFSET('Previsions SPA 2018'!B$1,INT((ROWS($2:2)-1)/12)+1,)&"" -> GLOVES MULTIPURPOSE BLUE | C2: =IF(A2="","",OFFSET('Previsions SPA 2018'!A$1,,MOD(ROWS($2:2)-1,12)+2)) -> PRV JAN | D2: =IFERROR((VLOOKUP(A2,'Previsions SPA 2018'!A:N,MOD(ROWS($2:2)-1,12)+3,0)&"")*1,"")
A3: =IF(ROWS($2:3)>(COUNTA('Previsions SPA 2018'!A:A)-1)*12,"",OFFSET('Previsions SPA 2018'!A$1,INT((ROWS($2:3)-1)/12)+1,)) -> 100753 | B3: =OFFSET('Previsions SPA 2018'!B$1,INT((ROWS($2:3)-1)/12)+1,)&"" -> GLOVES MULTIPURPOSE BLUE | C3: =IF(A3="","",OFFSET('Previsions SPA 2018'!A$1,,MOD(ROWS($2:3)-1,12)+2)) -> PRV FEV | D3: =IFERROR((VLOOKUP(A3,'Previsions SPA 2018'!A:N,MOD(ROWS($2:3)-1,12)+3,0)&"")*1,"") -> 3
A4: =IF(ROWS($2:4)>(COUNTA('Previsions SPA 2018'!A:A)-1)*12,"",OFFSET('Previsions SPA 2018'!A$1,INT((ROWS($2:4)-1)/12)+1,)) -> 100753 | B4: =OFFSET('Previsions SPA 2018'!B$1,INT((ROWS($2:4)-1)/12)+1,)&"" -> GLOVES MULTIPURPOSE BLUE | C4: =IF(A4="","",OFFSET('Previsions SPA 2018'!A$1,,MOD(ROWS($2:4)-1,12)+2)) -> PRV MARS | D4: =IFERROR((VLOOKUP(A4,'Previsions SPA 2018'!A:N,MOD(ROWS($2:4)-1,12)+3,0)&"")*1,"")
A5: =IF(ROWS($2:5)>(COUNTA('Previsions SPA 2018'!A:A)-1)*12,"",OFFSET('Previsions SPA 2018'!A$1,INT((ROWS($2:5)-1)/12)+1,)) -> 100753 | B5: =OFFSET('Previsions SPA 2018'!B$1,INT((ROWS($2:5)-1)/12)+1,)&"" -> GLOVES MULTIPURPOSE BLUE | C5: =IF(A5="","",OFFSET('Previsions SPA 2018'!A$1,,MOD(ROWS($2:5)-1,12)+2)) -> PRV AVR | D5: =IFERROR((VLOOKUP(A5,'Previsions SPA 2018'!A:N,MOD(ROWS($2:5)-1,12)+3,0)&"")*1,"")
A6: =IF(ROWS($2:6)>(COUNTA('Previsions SPA 2018'!A:A)-1)*12,"",OFFSET('Previsions SPA 2018'!A$1,INT((ROWS($2:6)-1)/12)+1,)) -> 100753 | B6: =OFFSET('Previsions SPA 2018'!B$1,INT((ROWS($2:6)-1)/12)+1,)&"" -> GLOVES MULTIPURPOSE BLUE | C6: =IF(A6="","",OFFSET('Previsions SPA 2018'!A$1,,MOD(ROWS($2:6)-1,12)+2)) -> PRV Mai | D6: =IFERROR((VLOOKUP(A6,'Previsions SPA 2018'!A:N,MOD(ROWS($2:6)-1,12)+3,0)&"")*1,"") -> 2
A7: =IF(ROWS($2:7)>(COUNTA('Previsions SPA 2018'!A:A)-1)*12,"",OFFSET('Previsions SPA 2018'!A$1,INT((ROWS($2:7)-1)/12)+1,)) -> 100753 | B7: =OFFSET('Previsions SPA 2018'!B$1,INT((ROWS($2:7)-1)/12)+1,)&"" -> GLOVES MULTIPURPOSE BLUE | C7: =IF(A7="","",OFFSET('Previsions SPA 2018'!A$1,,MOD(ROWS($2:7)-1,12)+2)) -> PRV JUIN | D7: =IFERROR((VLOOKUP(A7,'Previsions SPA 2018'!A:N,MOD(ROWS($2:7)-1,12)+3,0)&"")*1,"")
A8: =IF(ROWS($2:8)>(COUNTA('Previsions SPA 2018'!A:A)-1)*12,"",OFFSET('Previsions SPA 2018'!A$1,INT((ROWS($2:8)-1)/12)+1,)) -> 100753 | B8: =OFFSET('Previsions SPA 2018'!B$1,INT((ROWS($2:8)-1)/12)+1,)&"" -> GLOVES MULTIPURPOSE BLUE | C8: =IF(A8="","",OFFSET('Previsions SPA 2018'!A$1,,MOD(ROWS($2:8)-1,12)+2)) -> PRV JUILL | D8: =IFERROR((VLOOKUP(A8,'Previsions SPA 2018'!A:N,MOD(ROWS($2:8)-1,12)+3,0)&"")*1,"")
A9: =IF(ROWS($2:9)>(COUNTA('Previsions SPA 2018'!A:A)-1)*12,"",OFFSET('Previsions SPA 2018'!A$1,INT((ROWS($2:9)-1)/12)+1,)) -> 100753 | B9: =OFFSET('Previsions SPA 2018'!B$1,INT((ROWS($2:9)-1)/12)+1,)&"" -> GLOVES MULTIPURPOSE BLUE | C9: =IF(A9="","",OFFSET('Previsions SPA 2018'!A$1,,MOD(ROWS($2:9)-1,12)+2)) -> PRV AOUT | D9: =IFERROR((VLOOKUP(A9,'Previsions SPA 2018'!A:N,MOD(ROWS($2:9)-1,12)+3,0)&"")*1,"")
A10: =IF(ROWS($2:10)>(COUNTA('Previsions SPA 2018'!A:A)-1)*12,"",OFFSET('Previsions SPA 2018'!A$1,INT((ROWS($2:10)-1)/12)+1,)) -> 100753 | B10: =OFFSET('Previsions SPA 2018'!B$1,INT((ROWS($2:10)-1)/12)+1,)&"" -> GLOVES MULTIPURPOSE BLUE | C10: =IF(A10="","",OFFSET('Previsions SPA 2018'!A$1,,MOD(ROWS($2:10)-1,12)+2)) -> PRV SEPT | D10: =IFERROR((VLOOKUP(A10,'Previsions SPA 2018'!A:N,MOD(ROWS($2:10)-1,12)+3,0)&"")*1,"")
A11: =IF(ROWS($2:11)>(COUNTA('Previsions SPA 2018'!A:A)-1)*12,"",OFFSET('Previsions SPA 2018'!A$1,INT((ROWS($2:11)-1)/12)+1,)) -> 100753 | B11: =OFFSET('Previsions SPA 2018'!B$1,INT((ROWS($2:11)-1)/12)+1,)&"" -> GLOVES MULTIPURPOSE BLUE | C11: =IF(A11="","",OFFSET('Previsions SPA 2018'!A$1,,MOD(ROWS($2:11)-1,12)+2)) -> PRV OCT | D11: =IFERROR((VLOOKUP(A11,'Previsions SPA 2018'!A:N,MOD(ROWS($2:11)-1,12)+3,0)&"")*1,"") -> 1
A12: =IF(ROWS($2:12)>(COUNTA('Previsions SPA 2018'!A:A)-1)*12,"",OFFSET('Previsions SPA 2018'!A$1,INT((ROWS($2:12)-1)/12)+1,)) -> 100753 | B12: =OFFSET('Previsions SPA 2018'!B$1,INT((ROWS($2:12)-1)/12)+1,)&"" -> GLOVES MULTIPURPOSE BLUE | C12: =IF(A12="","",OFFSET('Previsions SPA 2018'!A$1,,MOD(ROWS($2:12)-1,12)+2)) -> PRV NOV | D12: =IFERROR((VLOOKUP(A12,'Previsions SPA 2018'!A:N,MOD(ROWS($2:12)-1,12)+3,0)&"")*1,"")
A13: =IF(ROWS($2:13)>(COUNTA('Previsions SPA 2018'!A:A)-1)*12,"",OFFSET('Previsions SPA 2018'!A$1,INT((ROWS($2:13)-1)/12)+1,)) -> 100753 | B13: =OFFSET('Previsions SPA 2018'!B$1,INT((ROWS($2:13)-1)/12)+1,)&"" -> GLOVES MULTIPURPOSE BLUE | C13: =IF(A13="","",OFFSET('Previsions SPA 2018'!A$1,,MOD(ROWS($2:13)-1,12)+2)) -> PRV DEC | D13: =IFERROR((VLOOKUP(A13,'Previsions SPA 2018'!A:N,MOD(ROWS($2:13)-1,12)+3,0)&"")*1,"") -> 7
A14: =IF(ROWS($2:14)>(COUNTA('Previsions SPA 2018'!A:A)-1)*12,"",OFFSET('Previsions SPA 2018'!A$1,INT((ROWS($2:14)-1)/12)+1,)) -> 100756 | B14: =OFFSET('Previsions SPA 2018'!B$1,INT((ROWS($2:14)-1)/12)+1,)&"" -> GLOVES MULTIPURPOSE M GREEN | C14: =IF(A14="","",OFFSET('Previsions SPA 2018'!A$1,,MOD(ROWS($2:14)-1,12)+2)) -> PRV JAN | D14: =IFERROR((VLOOKUP(A14,'Previsions SPA 2018'!A:N,MOD(ROWS($2:14)-1,12)+3,0)&"")*1,"") -> 5
A15: =IF(ROWS($2:15)>(COUNTA('Previsions SPA 2018'!A:A)-1)*12,"",OFFSET('Previsions SPA 2018'!A$1,INT((ROWS($2:15)-1)/12)+1,)) -> 100756 | B15: =OFFSET('Previsions SPA 2018'!B$1,INT((ROWS($2:15)-1)/12)+1,)&"" -> GLOVES MULTIPURPOSE M GREEN | C15: =IF(A15="","",OFFSET('Previsions SPA 2018'!A$1,,MOD(ROWS($2:15)-1,12)+2)) -> PRV FEV | D15: =IFERROR((VLOOKUP(A15,'Previsions SPA 2018'!A:N,MOD(ROWS($2:15)-1,12)+3,0)&"")*1,"")
A16: =IF(ROWS($2:16)>(COUNTA('Previsions SPA 2018'!A:A)-1)*12,"",OFFSET('Previsions SPA 2018'!A$1,INT((ROWS($2:16)-1)/12)+1,)) -> 100756 | B16: =OFFSET('Previsions SPA 2018'!B$1,INT((ROWS($2:16)-1)/12)+1,)&"" -> GLOVES MULTIPURPOSE M GREEN | C16: =IF(A16="","",OFFSET('Previsions SPA 2018'!A$1,,MOD(ROWS($2:16)-1,12)+2)) -> PRV MARS | D16: =IFERROR((VLOOKUP(A16,'Previsions SPA 2018'!A:N,MOD(ROWS($2:16)-1,12)+3,0)&"")*1,"")
A17: =IF(ROWS($2:17)>(COUNTA('Previsions SPA 2018'!A:A)-1)*12,"",OFFSET('Previsions SPA 2018'!A$1,INT((ROWS($2:17)-1)/12)+1,)) -> 100756 | B17: =OFFSET('Previsions SPA 2018'!B$1,INT((ROWS($2:17)-1)/12)+1,)&"" -> GLOVES MULTIPURPOSE M GREEN | C17: =IF(A17="","",OFFSET('Previsions SPA 2018'!A$1,,MOD(ROWS($2:17)-1,12)+2)) -> PRV AVR | D17: =IFERROR((VLOOKUP(A17,'Previsions SPA 2018'!A:N,MOD(ROWS($2:17)-1,12)+3,0)&"")*1,"")
A18: =IF(ROWS($2:18)>(COUNTA('Previsions SPA 2018'!A:A)-1)*12,"",OFFSET('Previsions SPA 2018'!A$1,INT((ROWS($2:18)-1)/12)+1,)) -> 100756 | B18: =OFFSET('Previsions SPA 2018'!B$1,INT((ROWS($2:18)-1)/12)+1,)&"" -> GLOVES MULTIPURPOSE M GREEN | C18: =IF(A18="","",OFFSET('Previsions SPA 2018'!A$1,,MOD(ROWS($2:18)-1,12)+2)) -> PRV Mai | D18: =IFERROR((VLOOKUP(A18,'Previsions SPA 2018'!A:N,MOD(ROWS($2:18)-1,12)+3,0)&"")*1,"") -> 3
A19: =IF(ROWS($2:19)>(COUNTA('Previsions SPA 2018'!A:A)-1)*12,"",OFFSET('Previsions SPA 2018'!A$1,INT((ROWS($2:19)-1)/12)+1,)) -> 100756 | B19: =OFFSET('Previsions SPA 2018'!B$1,INT((ROWS($2:19)-1)/12)+1,)&"" -> GLOVES MULTIPURPOSE M GREEN | C19: =IF(A19="","",OFFSET('Previsions SPA 2018'!A$1,,MOD(ROWS($2:19)-1,12)+2)) -> PRV JUIN | D19: =IFERROR((VLOOKUP(A19,'Previsions SPA 2018'!A:N,MOD(ROWS($2:19)-1,12)+3,0)&"")*1,"")
A20: =IF(ROWS($2:20)>(COUNTA('Previsions SPA 2018'!A:A)-1)*12,"",OFFSET('Previsions SPA 2018'!A$1,INT((ROWS($2:20)-1)/12)+1,)) -> 100756 | B20: =OFFSET('Previsions SPA 2018'!B$1,INT((ROWS($2:20)-1)/12)+1,)&"" -> GLOVES MULTIPURPOSE M GREEN | C20: =IF(A20="","",OFFSET('Previsions SPA 2018'!A$1,,MOD(ROWS($2:20)-1,12)+2)) -> PRV JUILL | D20: =IFERROR((VLOOKUP(A20,'Previsions SPA 2018'!A:N,MOD(ROWS($2:20)-1,12)+3,0)&"")*1,"")
A21: =IF(ROWS($2:21)>(COUNTA('Previsions SPA 2018'!A:A)-1)*12,"",OFFSET('Previsions SPA 2018'!A$1,INT((ROWS($2:21)-1)/12)+1,)) -> 100756 | B21: =OFFSET('Previsions SPA 2018'!B$1,INT((ROWS($2:21)-1)/12)+1,)&"" -> GLOVES MULTIPURPOSE M GREEN | C21: =IF(A21="","",OFFSET('Previsions SPA 2018'!A$1,,MOD(ROWS($2:21)-1,12)+2)) -> PRV AOUT | D21: =IFERROR((VLOOKUP(A21,'Previsions SPA 2018'!A:N,MOD(ROWS($2:21)-1,12)+3,0)&"")*1,"")
A22: =IF(ROWS($2:22)>(COUNTA('Previsions SPA 2018'!A:A)-1)*12,"",OFFSET('Previsions SPA 2018'!A$1,INT((ROWS($2:22)-1)/12)+1,)) -> 100756 | B22: =OFFSET('Previsions SPA 2018'!B$1,INT((ROWS($2:22)-1)/12)+1,)&"" -> GLOVES MULTIPURPOSE M GREEN | C22: =IF(A22="","",OFFSET('Previsions SPA 2018'!A$1,,MOD(ROWS($2:22)-1,12)+2)) -> PRV SEPT | D22: =IFERROR((VLOOKUP(A22,'Previsions SPA 2018'!A:N,MOD(ROWS($2:22)-1,12)+3,0)&"")*1,"")
A23: =IF(ROWS($2:23)>(COUNTA('Previsions SPA 2018'!A:A)-1)*12,"",OFFSET('Previsions SPA 2018'!A$1,INT((ROWS($2:23)-1)/12)+1,)) -> 100756 | B23: =OFFSET('Previsions SPA 2018'!B$1,INT((ROWS($2:23)-1)/12)+1,)&"" -> GLOVES MULTIPURPOSE M GREEN | C23: =IF(A23="","",OFFSET('Previsions SPA 2018'!A$1,,MOD(ROWS($2:23)-1,12)+2)) -> PRV OCT | D23: =IFERROR((VLOOKUP(A23,'Previsions SPA 2018'!A:N,MOD(ROWS($2:23)-1,12)+3,0)&"")*1,"")
A24: =IF(ROWS($2:24)>(COUNTA('Previsions SPA 2018'!A:A)-1)*12,"",OFFSET('Previsions SPA 2018'!A$1,INT((ROWS($2:24)-1)/12)+1,)) -> 100756 | B24: =OFFSET('Previsions SPA 2018'!B$1,INT((ROWS($2:24)-1)/12)+1,)&"" -> GLOVES MULTIPURPOSE M GREEN | C24: =IF(A24="","",OFFSET('Previsions SPA 2018'!A$1,,MOD(ROWS($2:24)-1,12)+2)) -> PRV NOV | D24: =IFERROR((VLOOKUP(A24,'Previsions SPA 2018'!A:N,MOD(ROWS($2:24)-1,12)+3,0)&"")*1,"")
A25: =IF(ROWS($2:25)>(COUNTA('Previsions SPA 2018'!A:A)-1)*12,"",OFFSET('Previsions SPA 2018'!A$1,INT((ROWS($2:25)-1)/12)+1,)) -> 100756 | B25: =OFFSET('Previsions SPA 2018'!B$1,INT((ROWS($2:25)-1)/12)+1,)&"" -> GLOVES MULTIPURPOSE M GREEN | C25: =IF(A25="","",OFFSET('Previsions SPA 2018'!A$1,,MOD(ROWS($2:25)-1,12)+2)) -> PRV DEC | D25: =IFERROR((VLOOKUP(A25,'Previsions SPA 2018'!A:N,MOD(ROWS($2:25)-1,12)+3,0)&"")*1,"")
A26: =IF(ROWS($2:26)>(COUNTA('Previsions SPA 2018'!A:A)-1)*12,"",OFFSET('Previsions SPA 2018'!A$1,INT((ROWS($2:26)-1)/12)+1,)) -> 100759 | B26: =OFFSET('Previsions SPA 2018'!B$1,INT((ROWS($2:26)-1)/12)+1,)&"" -> GLOVES MULTIPURPOSE M YELLOW | C26: =IF(A26="","",OFFSET('Previsions SPA 2018'!A$1,,MOD(ROWS($2:26)-1,12)+2)) -> PRV JAN | D26: =IFERROR((VLOOKUP(A26,'Previsions SPA 2018'!A:N,MOD(ROWS($2:26)-1,12)+3,0)&"")*1,"") -> 1
A27: =IF(ROWS($2:27)>(COUNTA('Previsions SPA 2018'!A:A)-1)*12,"",OFFSET('Previsions SPA 2018'!A$1,INT((ROWS($2:27)-1)/12)+1,)) -> 100759 | B27: =OFFSET('Previsions SPA 2018'!B$1,INT((ROWS($2:27)-1)/12)+1,)&"" -> GLOVES MULTIPURPOSE M YELLOW | C27: =IF(A27="","",OFFSET('Previsions SPA 2018'!A$1,,MOD(ROWS($2:27)-1,12)+2)) -> PRV FEV | D27: =IFERROR((VLOOKUP(A27,'Previsions SPA 2018'!A:N,MOD(ROWS($2:27)-1,12)+3,0)&"")*1,"")
A28: =IF(ROWS($2:28)>(COUNTA('Previsions SPA 2018'!A:A)-1)*12,"",OFFSET('Previsions SPA 2018'!A$1,INT((ROWS($2:28)-1)/12)+1,)) -> 100759 | B28: =OFFSET('Previsions SPA 2018'!B$1,INT((ROWS($2:28)-1)/12)+1,)&"" -> GLOVES MULTIPURPOSE M YELLOW | C28: =IF(A28="","",OFFSET('Previsions SPA 2018'!A$1,,MOD(ROWS($2:28)-1,12)+2)) -> PRV MARS | D28: =IFERROR((VLOOKUP(A28,'Previsions SPA 2018'!A:N,MOD(ROWS($2:28)-1,12)+3,0)&"")*1,"")
A29: =IF(ROWS($2:29)>(COUNTA('Previsions SPA 2018'!A:A)-1)*12,"",OFFSET('Previsions SPA 2018'!A$1,INT((ROWS($2:29)-1)/12)+1,)) -> 100759 | B29: =OFFSET('Previsions SPA 2018'!B$1,INT((ROWS($2:29)-1)/12)+1,)&"" -> GLOVES MULTIPURPOSE M YELLOW | C29: =IF(A29="","",OFFSET('Previsions SPA 2018'!A$1,,MOD(ROWS($2:29)-1,12)+2)) -> PRV AVR | D29: =IFERROR((VLOOKUP(A29,'Previsions SPA 2018'!A:N,MOD(ROWS($2:29)-1,12)+3,0)&"")*1,"")
A30: =IF(ROWS($2:30)>(COUNTA('Previsions SPA 2018'!A:A)-1)*12,"",OFFSET('Previsions SPA 2018'!A$1,INT((ROWS($2:30)-1)/12)+1,)) -> 100759 | B30: =OFFSET('Previsions SPA 2018'!B$1,INT((ROWS($2:30)-1)/12)+1,)&"" -> GLOVES MULTIPURPOSE M YELLOW | C30: =IF(A30="","",OFFSET('Previsions SPA 2018'!A$1,,MOD(ROWS($2:30)-1,12)+2)) -> PRV Mai | D30: =IFERROR((VLOOKUP(A30,'Previsions SPA 2018'!A:N,MOD(ROWS($2:30)-1,12)+3,0)&"")*1,"") -> 2
A31: =IF(ROWS($2:31)>(COUNTA('Previsions SPA 2018'!A:A)-1)*12,"",OFFSET('Previsions SPA 2018'!A$1,INT((ROWS($2:31)-1)/12)+1,)) -> 100759 | B31: =OFFSET('Previsions SPA 2018'!B$1,INT((ROWS($2:31)-1)/12)+1,)&"" -> GLOVES MULTIPURPOSE M YELLOW | C31: =IF(A31="","",OFFSET('Previsions SPA 2018'!A$1,,MOD(ROWS($2:31)-1,12)+2)) -> PRV JUIN | D31: =IFERROR((VLOOKUP(A31,'Previsions SPA 2018'!A:N,MOD(ROWS($2:31)-1,12)+3,0)&"")*1,"")
A32: =IF(ROWS($2:32)>(COUNTA('Previsions SPA 2018'!A:A)-1)*12,"",OFFSET('Previsions SPA 2018'!A$1,INT((ROWS($2:32)-1)/12)+1,)) -> 100759 | B32: =OFFSET('Previsions SPA 2018'!B$1,INT((ROWS($2:32)-1)/12)+1,)&"" -> GLOVES MULTIPURPOSE M YELLOW | C32: =IF(A32="","",OFFSET('Previsions SPA 2018'!A$1,,MOD(ROWS($2:32)-1,12)+2)) -> PRV JUILL | D32: =IFERROR((VLOOKUP(A32,'Previsions SPA 2018'!A:N,MOD(ROWS($2:32)-1,12)+3,0)&"")*1,"") -> 1
A33: =IF(ROWS($2:33)>(COUNTA('Previsions SPA 2018'!A:A)-1)*12,"",OFFSET('Previsions SPA 2018'!A$1,INT((ROWS($2:33)-1)/12)+1,)) -> 100759 | B33: =OFFSET('Previsions SPA 2018'!B$1,INT((ROWS($2:33)-1)/12)+1,)&"" -> GLOVES MULTIPURPOSE M YELLOW | C33: =IF(A33="","",OFFSET('Previsions SPA 2018'!A$1,,MOD(ROWS($2:33)-1,12)+2)) -> PRV AOUT | D33: =IFERROR((VLOOKUP(A33,'Previsions SPA 2018'!A:N,MOD(ROWS($2:33)-1,12)+3,0)&"")*1,"")
A34: =IF(ROWS($2:34)>(COUNTA('Previsions SPA 2018'!A:A)-1)*12,"",OFFSET('Previsions SPA 2018'!A$1,INT((ROWS($2:34)-1)/12)+1,)) -> 100759 | B34: =OFFSET('Previsions SPA 2018'!B$1,INT((ROWS($2:34)-1)/12)+1,)&"" -> GLOVES MULTIPURPOSE M YELLOW | C34: =IF(A34="","",OFFSET('Previsions SPA 2018'!A$1,,MOD(ROWS($2:34)-1,12)+2)) -> PRV SEPT | D34: =IFERROR((VLOOKUP(A34,'Previsions SPA 2018'!A:N,MOD(ROWS($2:34)-1,12)+3,0)&"")*1,"")
A35: =IF(ROWS($2:35)>(COUNTA('Previsions SPA 2018'!A:A)-1)*12,"",OFFSET('Previsions SPA 2018'!A$1,INT((ROWS($2:35)-1)/12)+1,)) -> 100759 | B35: =OFFSET('Previsions SPA 2018'!B$1,INT((ROWS($2:35)-1)/12)+1,)&"" -> GLOVES MULTIPURPOSE M YELLOW | C35: =IF(A35="","",OFFSET('Previsions SPA 2018'!A$1,,MOD(ROWS($2:35)-1,12)+2)) -> PRV OCT | D35: =IFERROR((VLOOKUP(A35,'Previsions SPA 2018'!A:N,MOD(ROWS($2:35)-1,12)+3,0)&"")*1,"")
A36: =IF(ROWS($2:36)>(COUNTA('Previsions SPA 2018'!A:A)-1)*12,"",OFFSET('Previsions SPA 2018'!A$1,INT((ROWS($2:36)-1)/12)+1,)) -> 100759 | B36: =OFFSET('Previsions SPA 2018'!B$1,INT((ROWS($2:36)-1)/12)+1,)&"" -> GLOVES MULTIPURPOSE M YELLOW | C36: =IF(A36="","",OFFSET('Previsions SPA 2018'!A$1,,MOD(ROWS($2:36)-1,12)+2)) -> PRV NOV | D36: =IFERROR((VLOOKUP(A36,'Previsions SPA 2018'!A:N,MOD(ROWS($2:36)-1,12)+3,0)&"")*1,"")
A37: =IF(ROWS($2:37)>(COUNTA('Previsions SPA 2018'!A:A)-1)*12,"",OFFSET('Previsions SPA 2018'!A$1,INT((ROWS($2:37)-1)/12)+1,)) -> 100759 | B37: =OFFSET('Previsions SPA 2018'!B$1,INT((ROWS($2:37)-1)/12)+1,)&"" -> GLOVES MULTIPURPOSE M YELLOW | C37: =IF(A37="","",OFFSET('Previsions SPA 2018'!A$1,,MOD(ROWS($2:37)-1,12)+2)) -> PRV DEC | D37: =IFERROR((VLOOKUP(A37,'Previsions SPA 2018'!A:N,MOD(ROWS($2:37)-1,12)+3,0)&"")*1,"")
A38: =IF(ROWS($2:38)>(COUNTA('Previsions SPA 2018'!A:A)-1)*12,"",OFFSET('Previsions SPA 2018'!A$1,INT((ROWS($2:38)-1)/12)+1,)) -> 100812 | B38: =OFFSET('Previsions SPA 2018'!B$1,INT((ROWS($2:38)-1)/12)+1,)&"" -> EVOLUTION MOUILLEUR COMPLET 35 | C38: =IF(A38="","",OFFSET('Previsions SPA 2018'!A$1,,MOD(ROWS($2:38)-1,12)+2)) -> PRV JAN | D38: =IFERROR((VLOOKUP(A38,'Previsions SPA 2018'!A:N,MOD(ROWS($2:38)-1,12)+3,0)&"")*1,"")
A39: =IF(ROWS($2:39)>(COUNTA('Previsions SPA 2018'!A:A)-1)*12,"",OFFSET('Previsions SPA 2018'!A$1,INT((ROWS($2:39)-1)/12)+1,)) -> 100812 | B39: =OFFSET('Previsions SPA 2018'!B$1,INT((ROWS($2:39)-1)/12)+1,)&"" -> EVOLUTION MOUILLEUR COMPLET 35 | C39: =IF(A39="","",OFFSET('Previsions SPA 2018'!A$1,,MOD(ROWS($2:39)-1,12)+2)) -> PRV FEV | D39: =IFERROR((VLOOKUP(A39,'Previsions SPA 2018'!A:N,MOD(ROWS($2:39)-1,12)+3,0)&"")*1,"")
A40: =IF(ROWS($2:40)>(COUNTA('Previsions SPA 2018'!A:A)-1)*12,"",OFFSET('Previsions SPA 2018'!A$1,INT((ROWS($2:40)-1)/12)+1,)) -> 100812 | B40: =OFFSET('Previsions SPA 2018'!B$1,INT((ROWS($2:40)-1)/12)+1,)&"" -> EVOLUTION MOUILLEUR COMPLET 35 | C40: =IF(A40="","",OFFSET('Previsions SPA 2018'!A$1,,MOD(ROWS($2:40)-1,12)+2)) -> PRV MARS | D40: =IFERROR((VLOOKUP(A40,'Previsions SPA 2018'!A:N,MOD(ROWS($2:40)-1,12)+3,0)&"")*1,"")
...
