Workbook
Name TABLEAU: #REF!

Sheet Previsions SPA 2018
A1: Code Article Gestcom | B1: Désignation | C1: PRV JAN | D1: PRV FEV | E1: PRV MARS | F1: PRV AVR | G1: PRV Mai | H1: PRV JUIN | I1: PRV JUILL | J1: PRV AOUT | K1: PRV SEPT | L1: PRV OCT | M1: PRV NOV | N1: PRV DEC
A2: 100753 | B2: GLOVES MULTIPURPOSE BLUE | D2: 3 | G2: 2 | L2: 1 | N2: 7
A3: 100756 | B3: GLOVES MULTIPURPOSE M GREEN | C3: 5 | G3: 3 | P3: =COUNTA(A:A) -> 527
A4: 100759 | B4: GLOVES MULTIPURPOSE M YELLOW | C4: 1 | G4: 2 | I4: 1 | Q4: =526*12 -> 6312
A5: 100812 | B5: EVOLUTION MOUILLEUR COMPLET 35 | H5: 2 | I5: 3
A6: 128604 | B6: NANOTECH MICRO JAUNE 38X40 CM | H6: 1
A7: 128605 | B7: NANOTECH MICRO BLEUE 38 X 40 C | F7: 2
A8: 128606 | B8: NANOTECH MICRO GR?N | F8: 2 | G8: 1
A9: 128607 | B9: NANOTECH MICRO ROUGE 38X40 CM | H9: 1
A10: 143236 | B10: ULTRASPEED TRIO MOP 40CM | F10: 3 | H10: 5 | I10: 2 | K10: 1 | L10: 5 | N10: 5
A11: 143244 | B11: ULTRASPEED MICROLITE MOP 40 CM | D11: 3 | F11: 3 | H11: 3 | J11: 3 | L11: 3 | N11: 3
A12: 143590 | B12: PVA MIRCO BLUE 35X38 CM | D12: 4 | K12: 4
A13: 143725 | B13: VOLEOPRO STANDARD | H13: 4
A14: 143731 | B14: Voleo Pro Housse De Protection Sac Poubelle 70L | H14: 4
A15: 145846 | B15: MICROTUFF BASE BLEUE | D15: 1 | E15: 20 | G15: 7 | K15: 22
A16: 145847 | B16: MICROTUFF BASE ROUGE | E16: 20 | G16: 7 | K16: 22
A17: 145848 | B17: MICROTUFF BASE JAUNE | E17: 20 | G17: 7 | K17: 20
A18: 145849 | B18: MICROTUFF BASE VERTE | D18: 1 | E18: 20 | G18: 7 | K18: 20
A19: 316340 | B19: Savon mousse KLEENEX | F19: 5 | G19: 5 | H19: 7 | I19: 9 | J19: 9 | K19: 9 | L19: 7 | M19: 2 | N19: 1
A20: 500117 | B20: EVOLUTION MANCHE TÉLESCOPIQUE | H20: 1
A21: 500209 | B21: EVOLUTION RACLETTE COMPLÈTE 35 | F21: 1 | H21: 2 | I21: 3
A22: 500642 | B22: Frange à Poussière Synthètique Durable | C22: 2 | F22: 3 | L22: 3 | N22: 2
A23: 508097 | B23: UltraSpeed Presse à Levier | H23: 4
A24: 508243 | B24: UltraSpeed Seau 25 Litres | H24: 8
A25: 508248 | B25: ULTRASPEED SAFE MOP | D25: 2 | F25: 2 | H25: 2 | J25: 2 | L25: 2 | N25: 2
A26: 510400 | B26: Manche en Aluminium145 cm | F26: 5 | H26: 4
A27: 511274 | B27: SUPPORT MÉTALLIQUE POUR FRANGE | F27: 3
A28: 2850201 | B28: BAUME DES QUATRE THÉS | C28: 1 | D28: 1 | E28: 16 | G28: 2 | H28: 4 | I28: 12 | K28: 9
A29: 2850206 | B29: BAUME DÉLICIEUX THÉ EN ORIENT | D29: 1 | E29: 12 | G29: 2 | H29: 2 | I29: 12 | K29: 9
A30: 2860304 | B30: HUILE DES 4 THÉS | E30: 7 | K30: 5
A31: 2880112 | B31: Crème de Mousse Pur Théïshu | D31: 2 | K31: 4
A32: 2880204 | B32: BAUME DE PRINTEMPS | E32: 17 | H32: 3 | I32: 10 | K32: 5
A33: 2880303 | B33: BRUME DE THÉ | K33: 5
A34: 2880308 | B34: BRUME DE SOMMEIL | K34: 5
A35: 316657000 | B35: Essuie-mains SCOTT® SLIMROLL 6 - Shade 10 / Blanc | C35: 0 | D35: 10 | E35: 0 | F35: 10 | G35: 0 | H35: 0 | I35: 10 | J35: 0 | K35: 10 | L35: 10 | M35: 0 | N35: 10
A36: 316658000 | B36: Essuie-mains SCOTT® 6 - Rouleau / Bleu / 304 / 1P | C36: 80 | D36: 100 | E36: 109 | F36: 255 | G36: 200 | H36: 329 | I36: 386 | J36: 478 | K36: 399 | L36: 330 | M36: 270 | N36: 303
A37: 316658000 | B37: Essuie-mains SCOTT® SLIMROLL 6 - Rouleau / Bleu / | C37: 0 | D37: 0 | E37: 0 | F37: 0 | G37: 0 | H37: 0 | I37: 1 | J37: 0 | K37: 1 | L37: 0 | M37: 1 | N37: 1
A38: 316668010 | B38: Essuie-mains SCOTT® 6 - Rouleau / Bleu / 304 / 1P | C38: 4.25 | D38: 10 | E38: 60 | F38: 152 | G38: 60 | H38: 60 | I38: 252 | J38: 50 | K38: 120 | L38: 192 | M38: 60 | N38: 162
A39: 316668010 | B39: Essuie-mains SCOTT® 6 - Rouleau / Bleu / 304 / 1P | C39: 19 | D39: 52 | E39: 28 | F39: 66 | G39: 62 | H39: 71 | I39: 80 | J39: 116 | K39: 84 | L39: 65 | M39: 36 | N39: 51
A40: 316669020 | B40: Essuie-mains SCOTT® XTRA 15 - Enchevêtrés / Blanc | C40: 0 | D40: 0 | E40: 0 | F40: 2 | G40: 0 | H40: 0 | I40: 0 | J40: 0 | K40: 2 | L40: 0 | M40: 0 | N40: 0
A41: 316669020 | B41: Essuie-mains SCOTT® XTRA 15 - Enchevêtrés / Blanc | D41: 7 | E41: 8 | F41: 14 | G41: 21 | H41: 29 | I41: 30 | J41: 25 | K41: 29 | L41: 19 | M41: 19 | N41: 16
A42: 316692010 | B42: Essuie-mains SCOTT® MAX 6 - Rouleau / Blanc / 350 | C42: 0 | D42: 0 | E42: 0 | F42: 0 | G42: 0 | H42: 1 | I42: 0 | J42: 1 | K42: 0 | L42: 1 | M42: 1 | N42: 0
A43: 316777000 | B43: Essuie-mains KLEENEX® ULTRA 30 - Enchevêtrés / Bla | C43: 3 | D43: 13 | E43: 8 | F43: 6 | G43: 7 | H43: 12 | I43: 17 | J43: 24 | K43: 2 | L43: 8 | M43: 5 | N43: 13
A44: 316945000 | B44: Distributeur essuie-mains enchevêtrés AQUARIUS* - | C44: 0 | D44: 0 | E44: 0 | F44: 0 | G44: 12 | H44: 0 | I44: 0 | J44: 0 | K44: 0 | L44: 0 | M44: 0 | N44: 0
A45: 316953000 | B45: Distributeur pour essuie-mains en rouleaux AQUARIU | C45: 65 | D45: 12 | E45: 139 | F45: 154 | G45: 44 | H45: 50 | I45: 45 | J45: 122 | K45: 9 | L45: 8 | M45: 7
A46: 316959010 | B46: AQUARIUS * ROLLED HT Dispenser | C46: 0.083333333 | D46: 0 | E46: 5 | F46: 0 | G46: 30 | H46: 0 | I46: 0 | J46: 5 | K46: 0 | L46: 5 | M46: 0 | N46: 5
A47: 316993000 | B47: POUBELLE EN PLASTIQUE BLANC | F47: 2 | H47: 7
A48: 317288030 | B48: ESSUYEURS WYPALL* L20 - 12- R | C48: 1 | D48: 7 | E48: 1 | F48: 1 | G48: 1 | H48: 7 | I48: 7 | J48: 6 | K48: 3 | L48: 12 | M48: 4 | N48: 5
A49: 317494020 | B49: ESSUYEURS WYPALL* L10 - BOBINE bleu | C49: 2 | D49: 9 | F49: 8 | G49: 10 | H49: 13 | I49: 12 | J49: 13 | K49: 16 | L49: 25 | M49: 14 | N49: 23
A50: 318371001 | B50: Essuyeurs WYPALL* X60 - 1 - Bobine large / Bleu / | C50: 0.33333333 | D50: 6 | E50: 1 | F50: 0 | G50: 0 | H50: 0 | I50: 3 | J50: 0 | K50: 0 | L50: 0 | M50: 0 | N50: 0
A51: 318374001 | B51: ESSUYEURS WYPALL* X80 BO.BLEU | C51: 2 | G51: 2 | N51: 2
A52: 318374001 | B52: Essuyeurs WYPALL* X80 Plus - 1 - Rouleau Large / B | C52: 0 | D52: 0 | E52: 0 | F52: 0 | G52: 0 | H52: 12 | I52: 0 | J52: 0 | K52: 0 | L52: 0 | M52: 0 | N52: 0
A53: 318408000 | B53: Papier Toilette Plié KLEENEX® ULTRA 36 - Maxi Pack | C53: 12 | E53: 10 | F53: 2 | H53: 17 | J53: 6 | K53: 15 | L53: 6 | M53: 10 | N53: 15
A54: 318442020 | B54: ROULEAUX PAPIER TOILETTE KLEEN | D54: 10 | L54: 12
A55: 318508000 | B55: Papier Toilette Plié SCOTT® 36 - Maxi Pack / Blanc | C55: 4 | D55: 11 | F55: 4 | G55: 2 | H55: 34 | I55: 8 | J55: 11 | K55: 15 | L55: 7 | M55: 1 | N55: 16
A56: 318522010 | B56: Papier Toilette SCOTT® PERFORMANCE 12 - Mini Jumbo / Blanc /180 / 2P | C56: 3 | D56: 3 | E56: 3 | F56: 12 | G56: 16 | H56: 19 | I56: 22 | J56: 28 | K56: 29 | L56: 18 | M56: 12 | N56: 12
A57: 10002 B20 | B57: IDEAL M1 (20) | C57: 4 | D57: 3 | E57: 3 | F57: 4 | G57: 6 | H57: 6 | I57: 8 | J57: 10 | K57: 10 | L57: 10 | M57: 11 | N57: 14
A58: 10005 B20 | B58: ULTRANET M2 | C58: 25.083333 | D58: 10 | E58: 20 | F58: 20 | G58: 10 | H58: 12 | I58: 40 | J58: 10 | K58: 10 | L58: 45 | M58: 10 | N58: 30
A59: 10005 B20 | B59: ULTRANET M2 | C59: 37 | D59: 29 | E59: 35 | F59: 34 | G59: 28 | H59: 48 | I59: 48 | J59: 27 | K59: 30 | L59: 36 | M59: 39 | N59: 16
A60: 10005 C5 | B60: ULTRANET M2 (4X5) | C60: 1 | E60: 1 | H60: 1 | I60: 2 | J60: 1 | K60: 2 | L60: 1 | M60: 1 | N60: 1
A61: 10008 CC C320 | B61: SHAMPOOING CONDITIONNEUR | H61: 40
A62: 10008 GBD C320 | B62: GEL BAIN DOUCHE | H62: 40
A63: 10008 S20 C448 | B63: SAVON 20GR | H63: 15
A64: 10020 B25 | B64: ULTRA WASH H2 | C64: 13 | D64: 22 | E64: 44 | F64: 63 | G64: 57 | H64: 87 | I64: 104 | J64: 113 | K64: 76 | L64: 46 | M64: 25 | N64: 24
A65: 10030 B25 | B65: ULTRA FORCE H4 | C65: 44 | D65: 56 | E65: 85 | F65: 137 | G65: 167 | H65: 227 | I65: 277 | J65: 300 | K65: 218 | L65: 129 | M65: 117 | N65: 100
A66: 10040 C5 | B66: ULTRA RINSE D5 | C66: 3 | D66: 6 | E66: 11 | F66: 17 | G66: 17 | H66: 27 | I66: 33 | J66: 35 | K66: 29 | L66: 16 | M66: 5 | N66: 3
A67: 10045 c5 | B67: ULTRA BRIGHT D8 | C67: 13 | D67: 28 | E67: 26 | F67: 51 | G67: 56 | H67: 78 | I67: 99 | J67: 107 | K67: 72 | L67: 47 | M67: 44 | N67: 33
A68: 10070 C5 | B68: ULTRA PLAQUE N2 | C68: 18 | D68: 29 | E68: 36 | F68: 67 | G68: 101 | H68: 95 | I68: 105 | J68: 124 | K68: 94 | L68: 72 | M68: 51 | N68: 45
A69: 10070 CP5 | B69: ULTRA PLAQUE N2 | C69: 38 | D69: 48 | E69: 71 | F69: 59 | G69: 100 | H69: 148 | I69: 212 | J69: 221 | K69: 176 | L69: 123 | M69: 110 | N69: 99
A70: 10080 C7 | B70: ULTRA FRIT N4 | C70: 15 | D70: 14 | E70: 16 | F70: 14 | G70: 14 | H70: 14 | I70: 14 | J70: 14 | K70: 14 | L70: 17 | M70: 10 | N70: 14
A71: 10080 C7 | B71: ULTRA FRIT N4 | C71: 34 | D71: 61 | E71: 63 | F71: 90 | G71: 148 | H71: 159 | I71: 203 | J71: 214 | K71: 179 | L71: 125 | M71: 88 | N71: 108
A72: 10088 CC SE C330 | B72: SHAMPOOING CONDITIONNEUR | I72: 13
A73: 10088 EC C390 | B73: EPONGE À CHAUSSURES | C73: 7
A74: 10088 GBD SE C330 | B74: GEL BAIN DOUCHE | I74: 13
A75: 10088 S20 PLI C540 | B75: SAVON 20GR PLISSÉ | I75: 8
A76: 10090 SE10 | B76: NET FILTRES (NÉTTOYANT DES FIL | C76: 6 | D76: 8 | E76: 1 | F76: 1 | G76: 8 | H76: 5 | I76: 9 | J76: 11 | K76: 16 | L76: 10 | M76: 11 | N76: 10
A77: 10100 SE10 | B77: TOP RENOV (RÉNOVATEUR) | C77: 5 | D77: 5 | E77: 14 | F77: 11 | G77: 12 | H77: 12 | I77: 23 | J77: 22 | K77: 6 | L77: 24 | M77: 5 | N77: 9
A78: 10112 B30 | B78: DEBOUCHEUR LQ | I78: 3
A79: 10115 C5 | B79: ULTRA BAC C10 | C79: 54 | D79: 48 | E79: 81 | F79: 85 | G79: 101 | H79: 143 | I79: 159 | J79: 151 | K79: 114 | L79: 89 | M79: 82 | N79: 71
A80: 10117 C6X750 | B80: SUMA QUICK D4.1 | D80: 6 | E80: 5 | F80: 2 | G80: 2 | H80: 4 | J80: 6 | K80: 2 | L80: 4 | M80: 2 | N80: 3
A81: 10118 C5 | B81: ULTRA SAN CL | C81: 35 | D81: 49 | E81: 61 | F81: 87 | G81: 105 | H81: 169 | I81: 177 | J81: 198 | K81: 149 | L81: 98 | M81: 73 | N81: 67
A82: 10123 B5X2 | B82: SUMA CHLOR D4.4 | H82: 2 | I82: 4 | K82: 2
A83: 10123 C4X5 | B83: BACTICHLORE | C83: 33 | D83: 35 | E83: 40 | F83: 52 | G83: 54 | H83: 77 | I83: 91 | J83: 106 | K83: 78 | L83: 69 | M83: 54 | N83: 48
A84: 10130 C5 | B84: BELARGENT | C84: 1 | E84: 4 | F84: 2 | G84: 1 | H84: 9 | I84: 7 | J84: 7 | K84: 2 | L84: 2 | M84: 1 | N84: 3
A85: 10150 B25 | B85: ULTRA SCALE C5 | C85: 2 | D85: 1 | E85: 4 | F85: 1 | G85: 2 | H85: 4 | I85: 4 | J85: 4 | K85: 2 | L85: 1 | M85: 2 | N85: 1
A86: 10150 C6 | B86: ULTRA SCALE C5 | C86: 25 | D86: 34 | E86: 51 | F86: 68 | G86: 89 | H86: 107 | I86: 103 | J86: 119 | K86: 93 | L86: 62 | M86: 58 | N86: 44
A87: 10161 B20 | B87: DECAP CIMENT | C87: 10 | D87: 19 | E87: 38 | F87: 40 | G87: 29 | H87: 34 | I87: 39 | J87: 37 | K87: 31 | L87: 9 | M87: 6 | N87: 14
A88: 10165 B20 | B88: DETART CH | C88: 2 | D88: 6 | E88: 10 | F88: 11 | G88: 10 | H88: 14 | I88: 26 | J88: 14 | K88: 10 | L88: 8 | M88: 4 | N88: 1
A89: 10195 BD C400 | B89: BONNET DE DOUCHE | H89: 5 | I89: 5 | J89: 5 | L89: 5 | M89: 4
A90: 10195 CC C210 | B90: SHAMPOOING CONDITIONNEUR | G90: 10 | H90: 20 | I90: 20 | J90: 10 | L90: 18
A91: 10195 GBD C210 | B91: GEL BAIN DOUCHE | H91: 20 | I91: 20 | J91: 10 | L91: 22
A92: 10195 LC C210 | B92: LAIT CORPOREL | F92: 6 | G92: 4 | J92: 5 | L92: 3
A93: 10195 PE C450 | B93: PEIGNE | L93: 5
A94: 10195 S20 PLI C520 | B94: SAVON 20GR PLISSÉ | L94: 6
A95: 10195 SC C576 | B95: SET DE COUTURE | J95: 5
A96: 10195 SD C240 | B96: SET DENTAIRE | G96: 2 | J96: 1 | L96: 2
A97: 10195 SR C92 | B97: SET DE RASAGE | G97: 2 | J97: 1 | L97: 1
A98: 10195 VS C152 | B98: VANITY SET | G98: 10 | I98: 10 | L98: 10
A99: 10200 SA30 | B99: NETSOL Ex PROSOL (Nettoyant des Sols) | C99: 10.083333 | D99: 10 | E99: 26 | F99: 10 | G99: 27 | H99: 10 | I99: 10 | J99: 28 | K99: 10 | L99: 12 | M99: 27 | N99: 10
A100: 10203 SA30 | B100: SPOT WASH | D100: 1 | E100: 1 | F100: 1 | G100: 1 | H100: 9 | I100: 12 | J100: 18 | K100: 2 | L100: 3 | M100: 1 | N100: 1
...

Sheet Feuil1
A1: Code Article Gestcom | B1: Désignation | C1: Mois | D1: Valeurs
A2: =IF(ROWS($2:2)>(COUNTA('Previsions SPA 2018'!A:A)-1)*12,"",OFFSET('Previsions SPA 2018'!A$1,INT((ROWS($2:2)-1)/12)+1,)) -> 100753 | B2: =OFFSET('Previsions SPA 2018'!B$1,INT((ROWS($2:2)-1)/12)+1,)&"" -> GLOVES MULTIPURPOSE BLUE | C2: =IF(A2="","",OFFSET('Previsions SPA 2018'!A$1,,MOD(ROWS($2:2)-1,12)+2)) -> PRV JAN | D2: =IFERROR((VLOOKUP(A2,'Previsions SPA 2018'!A:N,MOD(ROWS($2:2)-1,12)+3,0)&"")*1,"")
A3: =IF(ROWS($2:3)>(COUNTA('Previsions SPA 2018'!A:A)-1)*12,"",OFFSET('Previsions SPA 2018'!A$1,INT((ROWS($2:3)-1)/12)+1,)) -> 100753 | B3: =OFFSET('Previsions SPA 2018'!B$1,INT((ROWS($2:3)-1)/12)+1,)&"" -> GLOVES MULTIPURPOSE BLUE | C3: =IF(A3="","",OFFSET('Previsions SPA 2018'!A$1,,MOD(ROWS($2:3)-1,12)+2)) -> PRV FEV | D3: =IFERROR((VLOOKUP(A3,'Previsions SPA 2018'!A:N,MOD(ROWS($2:3)-1,12)+3,0)&"")*1,"") -> 3
A4: =IF(ROWS($2:4)>(COUNTA('Previsions SPA 2018'!A:A)-1)*12,"",OFFSET('Previsions SPA 2018'!A$1,INT((ROWS($2:4)-1)/12)+1,)) -> 100753 | B4: =OFFSET('Previsions SPA 2018'!B$1,INT((ROWS($2:4)-1)/12)+1,)&"" -> GLOVES MULTIPURPOSE BLUE | C4: =IF(A4="","",OFFSET('Previsions SPA 2018'!A$1,,MOD(ROWS($2:4)-1,12)+2)) -> PRV MARS | D4: =IFERROR((VLOOKUP(A4,'Previsions SPA 2018'!A:N,MOD(ROWS($2:4)-1,12)+3,0)&"")*1,"")
A5: =IF(ROWS($2:5)>(COUNTA('Previsions SPA 2018'!A:A)-1)*12,"",OFFSET('Previsions SPA 2018'!A$1,INT((ROWS($2:5)-1)/12)+1,)) -> 100753 | B5: =OFFSET('Previsions SPA 2018'!B$1,INT((ROWS($2:5)-1)/12)+1,)&"" -> GLOVES MULTIPURPOSE BLUE | C5: =IF(A5="","",OFFSET('Previsions SPA 2018'!A$1,,MOD(ROWS($2:5)-1,12)+2)) -> PRV AVR | D5: =IFERROR((VLOOKUP(A5,'Previsions SPA 2018'!A:N,MOD(ROWS($2:5)-1,12)+3,0)&"")*1,"")
A6: =IF(ROWS($2:6)>(COUNTA('Previsions SPA 2018'!A:A)-1)*12,"",OFFSET('Previsions SPA 2018'!A$1,INT((ROWS($2:6)-1)/12)+1,)) -> 100753 | B6: =OFFSET('Previsions SPA 2018'!B$1,INT((ROWS($2:6)-1)/12)+1,)&"" -> GLOVES MULTIPURPOSE BLUE | C6: =IF(A6="","",OFFSET('Previsions SPA 2018'!A$1,,MOD(ROWS($2:6)-1,12)+2)) -> PRV Mai | D6: =IFERROR((VLOOKUP(A6,'Previsions SPA 2018'!A:N,MOD(ROWS($2:6)-1,12)+3,0)&"")*1,"") -> 2
A7: =IF(ROWS($2:7)>(COUNTA('Previsions SPA 2018'!A:A)-1)*12,"",OFFSET('Previsions SPA 2018'!A$1,INT((ROWS($2:7)-1)/12)+1,)) -> 100753 | B7: =OFFSET('Previsions SPA 2018'!B$1,INT((ROWS($2:7)-1)/12)+1,)&"" -> GLOVES MULTIPURPOSE BLUE | C7: =IF(A7="","",OFFSET('Previsions SPA 2018'!A$1,,MOD(ROWS($2:7)-1,12)+2)) -> PRV JUIN | D7: =IFERROR((VLOOKUP(A7,'Previsions SPA 2018'!A:N,MOD(ROWS($2:7)-1,12)+3,0)&"")*1,"")
A8: =IF(ROWS($2:8)>(COUNTA('Previsions SPA 2018'!A:A)-1)*12,"",OFFSET('Previsions SPA 2018'!A$1,INT((ROWS($2:8)-1)/12)+1,)) -> 100753 | B8: =OFFSET('Previsions SPA 2018'!B$1,INT((ROWS($2:8)-1)/12)+1,)&"" -> GLOVES MULTIPURPOSE BLUE | C8: =IF(A8="","",OFFSET('Previsions SPA 2018'!A$1,,MOD(ROWS($2:8)-1,12)+2)) -> PRV JUILL | D8: =IFERROR((VLOOKUP(A8,'Previsions SPA 2018'!A:N,MOD(ROWS($2:8)-1,12)+3,0)&"")*1,"")
A9: =IF(ROWS($2:9)>(COUNTA('Previsions SPA 2018'!A:A)-1)*12,"",OFFSET('Previsions SPA 2018'!A$1,INT((ROWS($2:9)-1)/12)+1,)) -> 100753 | B9: =OFFSET('Previsions SPA 2018'!B$1,INT((ROWS($2:9)-1)/12)+1,)&"" -> GLOVES MULTIPURPOSE BLUE | C9: =IF(A9="","",OFFSET('Previsions SPA 2018'!A$1,,MOD(ROWS($2:9)-1,12)+2)) -> PRV AOUT | D9: =IFERROR((VLOOKUP(A9,'Previsions SPA 2018'!A:N,MOD(ROWS($2:9)-1,12)+3,0)&"")*1,"")
A10: =IF(ROWS($2:10)>(COUNTA('Previsions SPA 2018'!A:A)-1)*12,"",OFFSET('Previsions SPA 2018'!A$1,INT((ROWS($2:10)-1)/12)+1,)) -> 100753 | B10: =OFFSET('Previsions SPA 2018'!B$1,INT((ROWS($2:10)-1)/12)+1,)&"" -> GLOVES MULTIPURPOSE BLUE | C10: =IF(A10="","",OFFSET('Previsions SPA 2018'!A$1,,MOD(ROWS($2:10)-1,12)+2)) -> PRV SEPT | D10: =IFERROR((VLOOKUP(A10,'Previsions SPA 2018'!A:N,MOD(ROWS($2:10)-1,12)+3,0)&"")*1,"")
A11: =IF(ROWS($2:11)>(COUNTA('Previsions SPA 2018'!A:A)-1)*12,"",OFFSET('Previsions SPA 2018'!A$1,INT((ROWS($2:11)-1)/12)+1,)) -> 100753 | B11: =OFFSET('Previsions SPA 2018'!B$1,INT((ROWS($2:11)-1)/12)+1,)&"" -> GLOVES MULTIPURPOSE BLUE | C11: =IF(A11="","",OFFSET('Previsions SPA 2018'!A$1,,MOD(ROWS($2:11)-1,12)+2)) -> PRV OCT | D11: =IFERROR((VLOOKUP(A11,'Previsions SPA 2018'!A:N,MOD(ROWS($2:11)-1,12)+3,0)&"")*1,"") -> 1
A12: =IF(ROWS($2:12)>(COUNTA('Previsions SPA 2018'!A:A)-1)*12,"",OFFSET('Previsions SPA 2018'!A$1,INT((ROWS($2:12)-1)/12)+1,)) -> 100753 | B12: =OFFSET('Previsions SPA 2018'!B$1,INT((ROWS($2:12)-1)/12)+1,)&"" -> GLOVES MULTIPURPOSE BLUE | C12: =IF(A12="","",OFFSET('Previsions SPA 2018'!A$1,,MOD(ROWS($2:12)-1,12)+2)) -> PRV NOV | D12: =IFERROR((VLOOKUP(A12,'Previsions SPA 2018'!A:N,MOD(ROWS($2:12)-1,12)+3,0)&"")*1,"")
A13: =IF(ROWS($2:13)>(COUNTA('Previsions SPA 2018'!A:A)-1)*12,"",OFFSET('Previsions SPA 2018'!A$1,INT((ROWS($2:13)-1)/12)+1,)) -> 100753 | B13: =OFFSET('Previsions SPA 2018'!B$1,INT((ROWS($2:13)-1)/12)+1,)&"" -> GLOVES MULTIPURPOSE BLUE | C13: =IF(A13="","",OFFSET('Previsions SPA 2018'!A$1,,MOD(ROWS($2:13)-1,12)+2)) -> PRV DEC | D13: =IFERROR((VLOOKUP(A13,'Previsions SPA 2018'!A:N,MOD(ROWS($2:13)-1,12)+3,0)&"")*1,"") -> 7
A14: =IF(ROWS($2:14)>(COUNTA('Previsions SPA 2018'!A:A)-1)*12,"",OFFSET('Previsions SPA 2018'!A$1,INT((ROWS($2:14)-1)/12)+1,)) -> 100756 | B14: =OFFSET('Previsions SPA 2018'!B$1,INT((ROWS($2:14)-1)/12)+1,)&"" -> GLOVES MULTIPURPOSE M GREEN | C14: =IF(A14="","",OFFSET('Previsions SPA 2018'!A$1,,MOD(ROWS($2:14)-1,12)+2)) -> PRV JAN | D14: =IFERROR((VLOOKUP(A14,'Previsions SPA 2018'!A:N,MOD(ROWS($2:14)-1,12)+3,0)&"")*1,"") -> 5
A15: =IF(ROWS($2:15)>(COUNTA('Previsions SPA 2018'!A:A)-1)*12,"",OFFSET('Previsions SPA 2018'!A$1,INT((ROWS($2:15)-1)/12)+1,)) -> 100756 | B15: =OFFSET('Previsions SPA 2018'!B$1,INT((ROWS($2:15)-1)/12)+1,)&"" -> GLOVES MULTIPURPOSE M GREEN | C15: =IF(A15="","",OFFSET('Previsions SPA 2018'!A$1,,MOD(ROWS($2:15)-1,12)+2)) -> PRV FEV | D15: =IFERROR((VLOOKUP(A15,'Previsions SPA 2018'!A:N,MOD(ROWS($2:15)-1,12)+3,0)&"")*1,"")
A16: =IF(ROWS($2:16)>(COUNTA('Previsions SPA 2018'!A:A)-1)*12,"",OFFSET('Previsions SPA 2018'!A$1,INT((ROWS($2:16)-1)/12)+1,)) -> 100756 | B16: =OFFSET('Previsions SPA 2018'!B$1,INT((ROWS($2:16)-1)/12)+1,)&"" -> GLOVES MULTIPURPOSE M GREEN | C16: =IF(A16="","",OFFSET('Previsions SPA 2018'!A$1,,MOD(ROWS($2:16)-1,12)+2)) -> PRV MARS | D16: =IFERROR((VLOOKUP(A16,'Previsions SPA 2018'!A:N,MOD(ROWS($2:16)-1,12)+3,0)&"")*1,"")
A17: =IF(ROWS($2:17)>(COUNTA('Previsions SPA 2018'!A:A)-1)*12,"",OFFSET('Previsions SPA 2018'!A$1,INT((ROWS($2:17)-1)/12)+1,)) -> 100756 | B17: =OFFSET('Previsions SPA 2018'!B$1,INT((ROWS($2:17)-1)/12)+1,)&"" -> GLOVES MULTIPURPOSE M GREEN | C17: =IF(A17="","",OFFSET('Previsions SPA 2018'!A$1,,MOD(ROWS($2:17)-1,12)+2)) -> PRV AVR | D17: =IFERROR((VLOOKUP(A17,'Previsions SPA 2018'!A:N,MOD(ROWS($2:17)-1,12)+3,0)&"")*1,"")
A18: =IF(ROWS($2:18)>(COUNTA('Previsions SPA 2018'!A:A)-1)*12,"",OFFSET('Previsions SPA 2018'!A$1,INT((ROWS($2:18)-1)/12)+1,)) -> 100756 | B18: =OFFSET('Previsions SPA 2018'!B$1,INT((ROWS($2:18)-1)/12)+1,)&"" -> GLOVES MULTIPURPOSE M GREEN | C18: =IF(A18="","",OFFSET('Previsions SPA 2018'!A$1,,MOD(ROWS($2:18)-1,12)+2)) -> PRV Mai | D18: =IFERROR((VLOOKUP(A18,'Previsions SPA 2018'!A:N,MOD(ROWS($2:18)-1,12)+3,0)&"")*1,"") -> 3
A19: =IF(ROWS($2:19)>(COUNTA('Previsions SPA 2018'!A:A)-1)*12,"",OFFSET('Previsions SPA 2018'!A$1,INT((ROWS($2:19)-1)/12)+1,)) -> 100756 | B19: =OFFSET('Previsions SPA 2018'!B$1,INT((ROWS($2:19)-1)/12)+1,)&"" -> GLOVES MULTIPURPOSE M GREEN | C19: =IF(A19="","",OFFSET('Previsions SPA 2018'!A$1,,MOD(ROWS($2:19)-1,12)+2)) -> PRV JUIN | D19: =IFERROR((VLOOKUP(A19,'Previsions SPA 2018'!A:N,MOD(ROWS($2:19)-1,12)+3,0)&"")*1,"")
A20: =IF(ROWS($2:20)>(COUNTA('Previsions SPA 2018'!A:A)-1)*12,"",OFFSET('Previsions SPA 2018'!A$1,INT((ROWS($2:20)-1)/12)+1,)) -> 100756 | B20: =OFFSET('Previsions SPA 2018'!B$1,INT((ROWS($2:20)-1)/12)+1,)&"" -> GLOVES MULTIPURPOSE M GREEN | C20: =IF(A20="","",OFFSET('Previsions SPA 2018'!A$1,,MOD(ROWS($2:20)-1,12)+2)) -> PRV JUILL | D20: =IFERROR((VLOOKUP(A20,'Previsions SPA 2018'!A:N,MOD(ROWS($2:20)-1,12)+3,0)&"")*1,"")
A21: =IF(ROWS($2:21)>(COUNTA('Previsions SPA 2018'!A:A)-1)*12,"",OFFSET('Previsions SPA 2018'!A$1,INT((ROWS($2:21)-1)/12)+1,)) -> 100756 | B21: =OFFSET('Previsions SPA 2018'!B$1,INT((ROWS($2:21)-1)/12)+1,)&"" -> GLOVES MULTIPURPOSE M GREEN | C21: =IF(A21="","",OFFSET('Previsions SPA 2018'!A$1,,MOD(ROWS($2:21)-1,12)+2)) -> PRV AOUT | D21: =IFERROR((VLOOKUP(A21,'Previsions SPA 2018'!A:N,MOD(ROWS($2:21)-1,12)+3,0)&"")*1,"")
A22: =IF(ROWS($2:22)>(COUNTA('Previsions SPA 2018'!A:A)-1)*12,"",OFFSET('Previsions SPA 2018'!A$1,INT((ROWS($2:22)-1)/12)+1,)) -> 100756 | B22: =OFFSET('Previsions SPA 2018'!B$1,INT((ROWS($2:22)-1)/12)+1,)&"" -> GLOVES MULTIPURPOSE M GREEN | C22: =IF(A22="","",OFFSET('Previsions SPA 2018'!A$1,,MOD(ROWS($2:22)-1,12)+2)) -> PRV SEPT | D22: =IFERROR((VLOOKUP(A22,'Previsions SPA 2018'!A:N,MOD(ROWS($2:22)-1,12)+3,0)&"")*1,"")
A23: =IF(ROWS($2:23)>(COUNTA('Previsions SPA 2018'!A:A)-1)*12,"",OFFSET('Previsions SPA 2018'!A$1,INT((ROWS($2:23)-1)/12)+1,)) -> 100756 | B23: =OFFSET('Previsions SPA 2018'!B$1,INT((ROWS($2:23)-1)/12)+1,)&"" -> GLOVES MULTIPURPOSE M GREEN | C23: =IF(A23="","",OFFSET('Previsions SPA 2018'!A$1,,MOD(ROWS($2:23)-1,12)+2)) -> PRV OCT | D23: =IFERROR((VLOOKUP(A23,'Previsions SPA 2018'!A:N,MOD(ROWS($2:23)-1,12)+3,0)&"")*1,"")
A24: =IF(ROWS($2:24)>(COUNTA('Previsions SPA 2018'!A:A)-1)*12,"",OFFSET('Previsions SPA 2018'!A$1,INT((ROWS($2:24)-1)/12)+1,)) -> 100756 | B24: =OFFSET('Previsions SPA 2018'!B$1,INT((ROWS($2:24)-1)/12)+1,)&"" -> GLOVES MULTIPURPOSE M GREEN | C24: =IF(A24="","",OFFSET('Previsions SPA 2018'!A$1,,MOD(ROWS($2:24)-1,12)+2)) -> PRV NOV | D24: =IFERROR((VLOOKUP(A24,'Previsions SPA 2018'!A:N,MOD(ROWS($2:24)-1,12)+3,0)&"")*1,"")
A25: =IF(ROWS($2:25)>(COUNTA('Previsions SPA 2018'!A:A)-1)*12,"",OFFSET('Previsions SPA 2018'!A$1,INT((ROWS($2:25)-1)/12)+1,)) -> 100756 | B25: =OFFSET('Previsions SPA 2018'!B$1,INT((ROWS($2:25)-1)/12)+1,)&"" -> GLOVES MULTIPURPOSE M GREEN | C25: =IF(A25="","",OFFSET('Previsions SPA 2018'!A$1,,MOD(ROWS($2:25)-1,12)+2)) -> PRV DEC | D25: =IFERROR((VLOOKUP(A25,'Previsions SPA 2018'!A:N,MOD(ROWS($2:25)-1,12)+3,0)&"")*1,"")
A26: =IF(ROWS($2:26)>(COUNTA('Previsions SPA 2018'!A:A)-1)*12,"",OFFSET('Previsions SPA 2018'!A$1,INT((ROWS($2:26)-1)/12)+1,)) -> 100759 | B26: =OFFSET('Previsions SPA 2018'!B$1,INT((ROWS($2:26)-1)/12)+1,)&"" -> GLOVES MULTIPURPOSE M YELLOW | C26: =IF(A26="","",OFFSET('Previsions SPA 2018'!A$1,,MOD(ROWS($2:26)-1,12)+2)) -> PRV JAN | D26: =IFERROR((VLOOKUP(A26,'Previsions SPA 2018'!A:N,MOD(ROWS($2:26)-1,12)+3,0)&"")*1,"") -> 1
A27: =IF(ROWS($2:27)>(COUNTA('Previsions SPA 2018'!A:A)-1)*12,"",OFFSET('Previsions SPA 2018'!A$1,INT((ROWS($2:27)-1)/12)+1,)) -> 100759 | B27: =OFFSET('Previsions SPA 2018'!B$1,INT((ROWS($2:27)-1)/12)+1,)&"" -> GLOVES MULTIPURPOSE M YELLOW | C27: =IF(A27="","",OFFSET('Previsions SPA 2018'!A$1,,MOD(ROWS($2:27)-1,12)+2)) -> PRV FEV | D27: =IFERROR((VLOOKUP(A27,'Previsions SPA 2018'!A:N,MOD(ROWS($2:27)-1,12)+3,0)&"")*1,"")
A28: =IF(ROWS($2:28)>(COUNTA('Previsions SPA 2018'!A:A)-1)*12,"",OFFSET('Previsions SPA 2018'!A$1,INT((ROWS($2:28)-1)/12)+1,)) -> 100759 | B28: =OFFSET('Previsions SPA 2018'!B$1,INT((ROWS($2:28)-1)/12)+1,)&"" -> GLOVES MULTIPURPOSE M YELLOW | C28: =IF(A28="","",OFFSET('Previsions SPA 2018'!A$1,,MOD(ROWS($2:28)-1,12)+2)) -> PRV MARS | D28: =IFERROR((VLOOKUP(A28,'Previsions SPA 2018'!A:N,MOD(ROWS($2:28)-1,12)+3,0)&"")*1,"")
A29: =IF(ROWS($2:29)>(COUNTA('Previsions SPA 2018'!A:A)-1)*12,"",OFFSET('Previsions SPA 2018'!A$1,INT((ROWS($2:29)-1)/12)+1,)) -> 100759 | B29: =OFFSET('Previsions SPA 2018'!B$1,INT((ROWS($2:29)-1)/12)+1,)&"" -> GLOVES MULTIPURPOSE M YELLOW | C29: =IF(A29="","",OFFSET('Previsions SPA 2018'!A$1,,MOD(ROWS($2:29)-1,12)+2)) -> PRV AVR | D29: =IFERROR((VLOOKUP(A29,'Previsions SPA 2018'!A:N,MOD(ROWS($2:29)-1,12)+3,0)&"")*1,"")
A30: =IF(ROWS($2:30)>(COUNTA('Previsions SPA 2018'!A:A)-1)*12,"",OFFSET('Previsions SPA 2018'!A$1,INT((ROWS($2:30)-1)/12)+1,)) -> 100759 | B30: =OFFSET('Previsions SPA 2018'!B$1,INT((ROWS($2:30)-1)/12)+1,)&"" -> GLOVES MULTIPURPOSE M YELLOW | C30: =IF(A30="","",OFFSET('Previsions SPA 2018'!A$1,,MOD(ROWS($2:30)-1,12)+2)) -> PRV Mai | D30: =IFERROR((VLOOKUP(A30,'Previsions SPA 2018'!A:N,MOD(ROWS($2:30)-1,12)+3,0)&"")*1,"") -> 2
A31: =IF(ROWS($2:31)>(COUNTA('Previsions SPA 2018'!A:A)-1)*12,"",OFFSET('Previsions SPA 2018'!A$1,INT((ROWS($2:31)-1)/12)+1,)) -> 100759 | B31: =OFFSET('Previsions SPA 2018'!B$1,INT((ROWS($2:31)-1)/12)+1,)&"" -> GLOVES MULTIPURPOSE M YELLOW | C31: =IF(A31="","",OFFSET('Previsions SPA 2018'!A$1,,MOD(ROWS($2:31)-1,12)+2)) -> PRV JUIN | D31: =IFERROR((VLOOKUP(A31,'Previsions SPA 2018'!A:N,MOD(ROWS($2:31)-1,12)+3,0)&"")*1,"")
A32: =IF(ROWS($2:32)>(COUNTA('Previsions SPA 2018'!A:A)-1)*12,"",OFFSET('Previsions SPA 2018'!A$1,INT((ROWS($2:32)-1)/12)+1,)) -> 100759 | B32: =OFFSET('Previsions SPA 2018'!B$1,INT((ROWS($2:32)-1)/12)+1,)&"" -> GLOVES MULTIPURPOSE M YELLOW | C32: =IF(A32="","",OFFSET('Previsions SPA 2018'!A$1,,MOD(ROWS($2:32)-1,12)+2)) -> PRV JUILL | D32: =IFERROR((VLOOKUP(A32,'Previsions SPA 2018'!A:N,MOD(ROWS($2:32)-1,12)+3,0)&"")*1,"") -> 1
A33: =IF(ROWS($2:33)>(COUNTA('Previsions SPA 2018'!A:A)-1)*12,"",OFFSET('Previsions SPA 2018'!A$1,INT((ROWS($2:33)-1)/12)+1,)) -> 100759 | B33: =OFFSET('Previsions SPA 2018'!B$1,INT((ROWS($2:33)-1)/12)+1,)&"" -> GLOVES MULTIPURPOSE M YELLOW | C33: =IF(A33="","",OFFSET('Previsions SPA 2018'!A$1,,MOD(ROWS($2:33)-1,12)+2)) -> PRV AOUT | D33: =IFERROR((VLOOKUP(A33,'Previsions SPA 2018'!A:N,MOD(ROWS($2:33)-1,12)+3,0)&"")*1,"")
A34: =IF(ROWS($2:34)>(COUNTA('Previsions SPA 2018'!A:A)-1)*12,"",OFFSET('Previsions SPA 2018'!A$1,INT((ROWS($2:34)-1)/12)+1,)) -> 100759 | B34: =OFFSET('Previsions SPA 2018'!B$1,INT((ROWS($2:34)-1)/12)+1,)&"" -> GLOVES MULTIPURPOSE M YELLOW | C34: =IF(A34="","",OFFSET('Previsions SPA 2018'!A$1,,MOD(ROWS($2:34)-1,12)+2)) -> PRV SEPT | D34: =IFERROR((VLOOKUP(A34,'Previsions SPA 2018'!A:N,MOD(ROWS($2:34)-1,12)+3,0)&"")*1,"")
A35: =IF(ROWS($2:35)>(COUNTA('Previsions SPA 2018'!A:A)-1)*12,"",OFFSET('Previsions SPA 2018'!A$1,INT((ROWS($2:35)-1)/12)+1,)) -> 100759 | B35: =OFFSET('Previsions SPA 2018'!B$1,INT((ROWS($2:35)-1)/12)+1,)&"" -> GLOVES MULTIPURPOSE M YELLOW | C35: =IF(A35="","",OFFSET('Previsions SPA 2018'!A$1,,MOD(ROWS($2:35)-1,12)+2)) -> PRV OCT | D35: =IFERROR((VLOOKUP(A35,'Previsions SPA 2018'!A:N,MOD(ROWS($2:35)-1,12)+3,0)&"")*1,"")
A36: =IF(ROWS($2:36)>(COUNTA('Previsions SPA 2018'!A:A)-1)*12,"",OFFSET('Previsions SPA 2018'!A$1,INT((ROWS($2:36)-1)/12)+1,)) -> 100759 | B36: =OFFSET('Previsions SPA 2018'!B$1,INT((ROWS($2:36)-1)/12)+1,)&"" -> GLOVES MULTIPURPOSE M YELLOW | C36: =IF(A36="","",OFFSET('Previsions SPA 2018'!A$1,,MOD(ROWS($2:36)-1,12)+2)) -> PRV NOV | D36: =IFERROR((VLOOKUP(A36,'Previsions SPA 2018'!A:N,MOD(ROWS($2:36)-1,12)+3,0)&"")*1,"")
A37: =IF(ROWS($2:37)>(COUNTA('Previsions SPA 2018'!A:A)-1)*12,"",OFFSET('Previsions SPA 2018'!A$1,INT((ROWS($2:37)-1)/12)+1,)) -> 100759 | B37: =OFFSET('Previsions SPA 2018'!B$1,INT((ROWS($2:37)-1)/12)+1,)&"" -> GLOVES MULTIPURPOSE M YELLOW | C37: =IF(A37="","",OFFSET('Previsions SPA 2018'!A$1,,MOD(ROWS($2:37)-1,12)+2)) -> PRV DEC | D37: =IFERROR((VLOOKUP(A37,'Previsions SPA 2018'!A:N,MOD(ROWS($2:37)-1,12)+3,0)&"")*1,"")
A38: =IF(ROWS($2:38)>(COUNTA('Previsions SPA 2018'!A:A)-1)*12,"",OFFSET('Previsions SPA 2018'!A$1,INT((ROWS($2:38)-1)/12)+1,)) -> 100812 | B38: =OFFSET('Previsions SPA 2018'!B$1,INT((ROWS($2:38)-1)/12)+1,)&"" -> EVOLUTION MOUILLEUR COMPLET 35 | C38: =IF(A38="","",OFFSET('Previsions SPA 2018'!A$1,,MOD(ROWS($2:38)-1,12)+2)) -> PRV JAN | D38: =IFERROR((VLOOKUP(A38,'Previsions SPA 2018'!A:N,MOD(ROWS($2:38)-1,12)+3,0)&"")*1,"")
A39: =IF(ROWS($2:39)>(COUNTA('Previsions SPA 2018'!A:A)-1)*12,"",OFFSET('Previsions SPA 2018'!A$1,INT((ROWS($2:39)-1)/12)+1,)) -> 100812 | B39: =OFFSET('Previsions SPA 2018'!B$1,INT((ROWS($2:39)-1)/12)+1,)&"" -> EVOLUTION MOUILLEUR COMPLET 35 | C39: =IF(A39="","",OFFSET('Previsions SPA 2018'!A$1,,MOD(ROWS($2:39)-1,12)+2)) -> PRV FEV | D39: =IFERROR((VLOOKUP(A39,'Previsions SPA 2018'!A:N,MOD(ROWS($2:39)-1,12)+3,0)&"")*1,"")
A40: =IF(ROWS($2:40)>(COUNTA('Previsions SPA 2018'!A:A)-1)*12,"",OFFSET('Previsions SPA 2018'!A$1,INT((ROWS($2:40)-1)/12)+1,)) -> 100812 | B40: =OFFSET('Previsions SPA 2018'!B$1,INT((ROWS($2:40)-1)/12)+1,)&"" -> EVOLUTION MOUILLEUR COMPLET 35 | C40: =IF(A40="","",OFFSET('Previsions SPA 2018'!A$1,,MOD(ROWS($2:40)-1,12)+2)) -> PRV MARS | D40: =IFERROR((VLOOKUP(A40,'Previsions SPA 2018'!A:N,MOD(ROWS($2:40)-1,12)+3,0)&"")*1,"")
A41: =IF(ROWS($2:41)>(COUNTA('Previsions SPA 2018'!A:A)-1)*12,"",OFFSET('Previsions SPA 2018'!A$1,INT((ROWS($2:41)-1)/12)+1,)) -> 100812 | B41: =OFFSET('Previsions SPA 2018'!B$1,INT((ROWS($2:41)-1)/12)+1,)&"" -> EVOLUTION MOUILLEUR COMPLET 35 | C41: =IF(A41="","",OFFSET('Previsions SPA 2018'!A$1,,MOD(ROWS($2:41)-1,12)+2)) -> PRV AVR | D41: =IFERROR((VLOOKUP(A41,'Previsions SPA 2018'!A:N,MOD(ROWS($2:41)-1,12)+3,0)&"")*1,"")
A42: =IF(ROWS($2:42)>(COUNTA('Previsions SPA 2018'!A:A)-1)*12,"",OFFSET('Previsions SPA 2018'!A$1,INT((ROWS($2:42)-1)/12)+1,)) -> 100812 | B42: =OFFSET('Previsions SPA 2018'!B$1,INT((ROWS($2:42)-1)/12)+1,)&"" -> EVOLUTION MOUILLEUR COMPLET 35 | C42: =IF(A42="","",OFFSET('Previsions SPA 2018'!A$1,,MOD(ROWS($2:42)-1,12)+2)) -> PRV Mai | D42: =IFERROR((VLOOKUP(A42,'Previsions SPA 2018'!A:N,MOD(ROWS($2:42)-1,12)+3,0)&"")*1,"")
A43: =IF(ROWS($2:43)>(COUNTA('Previsions SPA 2018'!A:A)-1)*12,"",OFFSET('Previsions SPA 2018'!A$1,INT((ROWS($2:43)-1)/12)+1,)) -> 100812 | B43: =OFFSET('Previsions SPA 2018'!B$1,INT((ROWS($2:43)-1)/12)+1,)&"" -> EVOLUTION MOUILLEUR COMPLET 35 | C43: =IF(A43="","",OFFSET('Previsions SPA 2018'!A$1,,MOD(ROWS($2:43)-1,12)+2)) -> PRV JUIN | D43: =IFERROR((VLOOKUP(A43,'Previsions SPA 2018'!A:N,MOD(ROWS($2:43)-1,12)+3,0)&"")*1,"") -> 2
A44: =IF(ROWS($2:44)>(COUNTA('Previsions SPA 2018'!A:A)-1)*12,"",OFFSET('Previsions SPA 2018'!A$1,INT((ROWS($2:44)-1)/12)+1,)) -> 100812 | B44: =OFFSET('Previsions SPA 2018'!B$1,INT((ROWS($2:44)-1)/12)+1,)&"" -> EVOLUTION MOUILLEUR COMPLET 35 | C44: =IF(A44="","",OFFSET('Previsions SPA 2018'!A$1,,MOD(ROWS($2:44)-1,12)+2)) -> PRV JUILL | D44: =IFERROR((VLOOKUP(A44,'Previsions SPA 2018'!A:N,MOD(ROWS($2:44)-1,12)+3,0)&"")*1,"") -> 3
A45: =IF(ROWS($2:45)>(COUNTA('Previsions SPA 2018'!A:A)-1)*12,"",OFFSET('Previsions SPA 2018'!A$1,INT((ROWS($2:45)-1)/12)+1,)) -> 100812 | B45: =OFFSET('Previsions SPA 2018'!B$1,INT((ROWS($2:45)-1)/12)+1,)&"" -> EVOLUTION MOUILLEUR COMPLET 35 | C45: =IF(A45="","",OFFSET('Previsions SPA 2018'!A$1,,MOD(ROWS($2:45)-1,12)+2)) -> PRV AOUT | D45: =IFERROR((VLOOKUP(A45,'Previsions SPA 2018'!A:N,MOD(ROWS($2:45)-1,12)+3,0)&"")*1,"")
A46: =IF(ROWS($2:46)>(COUNTA('Previsions SPA 2018'!A:A)-1)*12,"",OFFSET('Previsions SPA 2018'!A$1,INT((ROWS($2:46)-1)/12)+1,)) -> 100812 | B46: =OFFSET('Previsions SPA 2018'!B$1,INT((ROWS($2:46)-1)/12)+1,)&"" -> EVOLUTION MOUILLEUR COMPLET 35 | C46: =IF(A46="","",OFFSET('Previsions SPA 2018'!A$1,,MOD(ROWS($2:46)-1,12)+2)) -> PRV SEPT | D46: =IFERROR((VLOOKUP(A46,'Previsions SPA 2018'!A:N,MOD(ROWS($2:46)-1,12)+3,0)&"")*1,"")
A47: =IF(ROWS($2:47)>(COUNTA('Previsions SPA 2018'!A:A)-1)*12,"",OFFSET('Previsions SPA 2018'!A$1,INT((ROWS($2:47)-1)/12)+1,)) -> 100812 | B47: =OFFSET('Previsions SPA 2018'!B$1,INT((ROWS($2:47)-1)/12)+1,)&"" -> EVOLUTION MOUILLEUR COMPLET 35 | C47: =IF(A47="","",OFFSET('Previsions SPA 2018'!A$1,,MOD(ROWS($2:47)-1,12)+2)) -> PRV OCT | D47: =IFERROR((VLOOKUP(A47,'Previsions SPA 2018'!A:N,MOD(ROWS($2:47)-1,12)+3,0)&"")*1,"")
A48: =IF(ROWS($2:48)>(COUNTA('Previsions SPA 2018'!A:A)-1)*12,"",OFFSET('Previsions SPA 2018'!A$1,INT((ROWS($2:48)-1)/12)+1,)) -> 100812 | B48: =OFFSET('Previsions SPA 2018'!B$1,INT((ROWS($2:48)-1)/12)+1,)&"" -> EVOLUTION MOUILLEUR COMPLET 35 | C48: =IF(A48="","",OFFSET('Previsions SPA 2018'!A$1,,MOD(ROWS($2:48)-1,12)+2)) -> PRV NOV | D48: =IFERROR((VLOOKUP(A48,'Previsions SPA 2018'!A:N,MOD(ROWS($2:48)-1,12)+3,0)&"")*1,"")
A49: =IF(ROWS($2:49)>(COUNTA('Previsions SPA 2018'!A:A)-1)*12,"",OFFSET('Previsions SPA 2018'!A$1,INT((ROWS($2:49)-1)/12)+1,)) -> 100812 | B49: =OFFSET('Previsions SPA 2018'!B$1,INT((ROWS($2:49)-1)/12)+1,)&"" -> EVOLUTION MOUILLEUR COMPLET 35 | C49: =IF(A49="","",OFFSET('Previsions SPA 2018'!A$1,,MOD(ROWS($2:49)-1,12)+2)) -> PRV DEC | D49: =IFERROR((VLOOKUP(A49,'Previsions SPA 2018'!A:N,MOD(ROWS($2:49)-1,12)+3,0)&"")*1,"")
A50: =IF(ROWS($2:50)>(COUNTA('Previsions SPA 2018'!A:A)-1)*12,"",OFFSET('Previsions SPA 2018'!A$1,INT((ROWS($2:50)-1)/12)+1,)) -> 128604 | B50: =OFFSET('Previsions SPA 2018'!B$1,INT((ROWS($2:50)-1)/12)+1,)&"" -> NANOTECH MICRO JAUNE 38X40 CM | C50: =IF(A50="","",OFFSET('Previsions SPA 2018'!A$1,,MOD(ROWS($2:50)-1,12)+2)) -> PRV JAN | D50: =IFERROR((VLOOKUP(A50,'Previsions SPA 2018'!A:N,MOD(ROWS($2:50)-1,12)+3,0)&"")*1,"")
A51: =IF(ROWS($2:51)>(COUNTA('Previsions SPA 2018'!A:A)-1)*12,"",OFFSET('Previsions SPA 2018'!A$1,INT((ROWS($2:51)-1)/12)+1,)) -> 128604 | B51: =OFFSET('Previsions SPA 2018'!B$1,INT((ROWS($2:51)-1)/12)+1,)&"" -> NANOTECH MICRO JAUNE 38X40 CM | C51: =IF(A51="","",OFFSET('Previsions SPA 2018'!A$1,,MOD(ROWS($2:51)-1,12)+2)) -> PRV FEV | D51: =IFERROR((VLOOKUP(A51,'Previsions SPA 2018'!A:N,MOD(ROWS($2:51)-1,12)+3,0)&"")*1,"")
A52: =IF(ROWS($2:52)>(COUNTA('Previsions SPA 2018'!A:A)-1)*12,"",OFFSET('Previsions SPA 2018'!A$1,INT((ROWS($2:52)-1)/12)+1,)) -> 128604 | B52: =OFFSET('Previsions SPA 2018'!B$1,INT((ROWS($2:52)-1)/12)+1,)&"" -> NANOTECH MICRO JAUNE 38X40 CM | C52: =IF(A52="","",OFFSET('Previsions SPA 2018'!A$1,,MOD(ROWS($2:52)-1,12)+2)) -> PRV MARS | D52: =IFERROR((VLOOKUP(A52,'Previsions SPA 2018'!A:N,MOD(ROWS($2:52)-1,12)+3,0)&"")*1,"")
A53: =IF(ROWS($2:53)>(COUNTA('Previsions SPA 2018'!A:A)-1)*12,"",OFFSET('Previsions SPA 2018'!A$1,INT((ROWS($2:53)-1)/12)+1,)) -> 128604 | B53: =OFFSET('Previsions SPA 2018'!B$1,INT((ROWS($2:53)-1)/12)+1,)&"" -> NANOTECH MICRO JAUNE 38X40 CM | C53: =IF(A53="","",OFFSET('Previsions SPA 2018'!A$1,,MOD(ROWS($2:53)-1,12)+2)) -> PRV AVR | D53: =IFERROR((VLOOKUP(A53,'Previsions SPA 2018'!A:N,MOD(ROWS($2:53)-1,12)+3,0)&"")*1,"")
A54: =IF(ROWS($2:54)>(COUNTA('Previsions SPA 2018'!A:A)-1)*12,"",OFFSET('Previsions SPA 2018'!A$1,INT((ROWS($2:54)-1)/12)+1,)) -> 128604 | B54: =OFFSET('Previsions SPA 2018'!B$1,INT((ROWS($2:54)-1)/12)+1,)&"" -> NANOTECH MICRO JAUNE 38X40 CM | C54: =IF(A54="","",OFFSET('Previsions SPA 2018'!A$1,,MOD(ROWS($2:54)-1,12)+2)) -> PRV Mai | D54: =IFERROR((VLOOKUP(A54,'Previsions SPA 2018'!A:N,MOD(ROWS($2:54)-1,12)+3,0)&"")*1,"")
A55: =IF(ROWS($2:55)>(COUNTA('Previsions SPA 2018'!A:A)-1)*12,"",OFFSET('Previsions SPA 2018'!A$1,INT((ROWS($2:55)-1)/12)+1,)) -> 128604 | B55: =OFFSET('Previsions SPA 2018'!B$1,INT((ROWS($2:55)-1)/12)+1,)&"" -> NANOTECH MICRO JAUNE 38X40 CM | C55: =IF(A55="","",OFFSET('Previsions SPA 2018'!A$1,,MOD(ROWS($2:55)-1,12)+2)) -> PRV JUIN | D55: =IFERROR((VLOOKUP(A55,'Previsions SPA 2018'!A:N,MOD(ROWS($2:55)-1,12)+3,0)&"")*1,"") -> 1
A56: =IF(ROWS($2:56)>(COUNTA('Previsions SPA 2018'!A:A)-1)*12,"",OFFSET('Previsions SPA 2018'!A$1,INT((ROWS($2:56)-1)/12)+1,)) -> 128604 | B56: =OFFSET('Previsions SPA 2018'!B$1,INT((ROWS($2:56)-1)/12)+1,)&"" -> NANOTECH MICRO JAUNE 38X40 CM | C56: =IF(A56="","",OFFSET('Previsions SPA 2018'!A$1,,MOD(ROWS($2:56)-1,12)+2)) -> PRV JUILL | D56: =IFERROR((VLOOKUP(A56,'Previsions SPA 2018'!A:N,MOD(ROWS($2:56)-1,12)+3,0)&"")*1,"")
A57: =IF(ROWS($2:57)>(COUNTA('Previsions SPA 2018'!A:A)-1)*12,"",OFFSET('Previsions SPA 2018'!A$1,INT((ROWS($2:57)-1)/12)+1,)) -> 128604 | B57: =OFFSET('Previsions SPA 2018'!B$1,INT((ROWS($2:57)-1)/12)+1,)&"" -> NANOTECH MICRO JAUNE 38X40 CM | C57: =IF(A57="","",OFFSET('Previsions SPA 2018'!A$1,,MOD(ROWS($2:57)-1,12)+2)) -> PRV AOUT | D57: =IFERROR((VLOOKUP(A57,'Previsions SPA 2018'!A:N,MOD(ROWS($2:57)-1,12)+3,0)&"")*1,"")
A58: =IF(ROWS($2:58)>(COUNTA('Previsions SPA 2018'!A:A)-1)*12,"",OFFSET('Previsions SPA 2018'!A$1,INT((ROWS($2:58)-1)/12)+1,)) -> 128604 | B58: =OFFSET('Previsions SPA 2018'!B$1,INT((ROWS($2:58)-1)/12)+1,)&"" -> NANOTECH MICRO JAUNE 38X40 CM | C58: =IF(A58="","",OFFSET('Previsions SPA 2018'!A$1,,MOD(ROWS($2:58)-1,12)+2)) -> PRV SEPT | D58: =IFERROR((VLOOKUP(A58,'Previsions SPA 2018'!A:N,MOD(ROWS($2:58)-1,12)+3,0)&"")*1,"")
A59: =IF(ROWS($2:59)>(COUNTA('Previsions SPA 2018'!A:A)-1)*12,"",OFFSET('Previsions SPA 2018'!A$1,INT((ROWS($2:59)-1)/12)+1,)) -> 128604 | B59: =OFFSET('Previsions SPA 2018'!B$1,INT((ROWS($2:59)-1)/12)+1,)&"" -> NANOTECH MICRO JAUNE 38X40 CM | C59: =IF(A59="","",OFFSET('Previsions SPA 2018'!A$1,,MOD(ROWS($2:59)-1,12)+2)) -> PRV OCT | D59: =IFERROR((VLOOKUP(A59,'Previsions SPA 2018'!A:N,MOD(ROWS($2:59)-1,12)+3,0)&"")*1,"")
A60: =IF(ROWS($2:60)>(COUNTA('Previsions SPA 2018'!A:A)-1)*12,"",OFFSET('Previsions SPA 2018'!A$1,INT((ROWS($2:60)-1)/12)+1,)) -> 128604 | B60: =OFFSET('Previsions SPA 2018'!B$1,INT((ROWS($2:60)-1)/12)+1,)&"" -> NANOTECH MICRO JAUNE 38X40 CM | C60: =IF(A60="","",OFFSET('Previsions SPA 2018'!A$1,,MOD(ROWS($2:60)-1,12)+2)) -> PRV NOV | D60: =IFERROR((VLOOKUP(A60,'Previsions SPA 2018'!A:N,MOD(ROWS($2:60)-1,12)+3,0)&"")*1,"")
A61: =IF(ROWS($2:61)>(COUNTA('Previsions SPA 2018'!A:A)-1)*12,"",OFFSET('Previsions SPA 2018'!A$1,INT((ROWS($2:61)-1)/12)+1,)) -> 128604 | B61: =OFFSET('Previsions SPA 2018'!B$1,INT((ROWS($2:61)-1)/12)+1,)&"" -> NANOTECH MICRO JAUNE 38X40 CM | C61: =IF(A61="","",OFFSET('Previsions SPA 2018'!A$1,,MOD(ROWS($2:61)-1,12)+2)) -> PRV DEC | D61: =IFERROR((VLOOKUP(A61,'Previsions SPA 2018'!A:N,MOD(ROWS($2:61)-1,12)+3,0)&"")*1,"")
A62: =IF(ROWS($2:62)>(COUNTA('Previsions SPA 2018'!A:A)-1)*12,"",OFFSET('Previsions SPA 2018'!A$1,INT((ROWS($2:62)-1)/12)+1,)) -> 128605 | B62: =OFFSET('Previsions SPA 2018'!B$1,INT((ROWS($2:62)-1)/12)+1,)&"" -> NANOTECH MICRO BLEUE 38 X 40 C | C62: =IF(A62="","",OFFSET('Previsions SPA 2018'!A$1,,MOD(ROWS($2:62)-1,12)+2)) -> PRV JAN | D62: =IFERROR((VLOOKUP(A62,'Previsions SPA 2018'!A:N,MOD(ROWS($2:62)-1,12)+3,0)&"")*1,"")
A63: =IF(ROWS($2:63)>(COUNTA('Previsions SPA 2018'!A:A)-1)*12,"",OFFSET('Previsions SPA 2018'!A$1,INT((ROWS($2:63)-1)/12)+1,)) -> 128605 | B63: =OFFSET('Previsions SPA 2018'!B$1,INT((ROWS($2:63)-1)/12)+1,)&"" -> NANOTECH MICRO BLEUE 38 X 40 C | C63: =IF(A63="","",OFFSET('Previsions SPA 2018'!A$1,,MOD(ROWS($2:63)-1,12)+2)) -> PRV FEV | D63: =IFERROR((VLOOKUP(A63,'Previsions SPA 2018'!A:N,MOD(ROWS($2:63)-1,12)+3,0)&"")*1,"")
A64: =IF(ROWS($2:64)>(COUNTA('Previsions SPA 2018'!A:A)-1)*12,"",OFFSET('Previsions SPA 2018'!A$1,INT((ROWS($2:64)-1)/12)+1,)) -> 128605 | B64: =OFFSET('Previsions SPA 2018'!B$1,INT((ROWS($2:64)-1)/12)+1,)&"" -> NANOTECH MICRO BLEUE 38 X 40 C | C64: =IF(A64="","",OFFSET('Previsions SPA 2018'!A$1,,MOD(ROWS($2:64)-1,12)+2)) -> PRV MARS | D64: =IFERROR((VLOOKUP(A64,'Previsions SPA 2018'!A:N,MOD(ROWS($2:64)-1,12)+3,0)&"")*1,"")
A65: =IF(ROWS($2:65)>(COUNTA('Previsions SPA 2018'!A:A)-1)*12,"",OFFSET('Previsions SPA 2018'!A$1,INT((ROWS($2:65)-1)/12)+1,)) -> 128605 | B65: =OFFSET('Previsions SPA 2018'!B$1,INT((ROWS($2:65)-1)/12)+1,)&"" -> NANOTECH MICRO BLEUE 38 X 40 C | C65: =IF(A65="","",OFFSET('Previsions SPA 2018'!A$1,,MOD(ROWS($2:65)-1,12)+2)) -> PRV AVR | D65: =IFERROR((VLOOKUP(A65,'Previsions SPA 2018'!A:N,MOD(ROWS($2:65)-1,12)+3,0)&"")*1,"") -> 2
A66: =IF(ROWS($2:66)>(COUNTA('Previsions SPA 2018'!A:A)-1)*12,"",OFFSET('Previsions SPA 2018'!A$1,INT((ROWS($2:66)-1)/12)+1,)) -> 128605 | B66: =OFFSET('Previsions SPA 2018'!B$1,INT((ROWS($2:66)-1)/12)+1,)&"" -> NANOTECH MICRO BLEUE 38 X 40 C | C66: =IF(A66="","",OFFSET('Previsions SPA 2018'!A$1,,MOD(ROWS($2:66)-1,12)+2)) -> PRV Mai | D66: =IFERROR((VLOOKUP(A66,'Previsions SPA 2018'!A:N,MOD(ROWS($2:66)-1,12)+3,0)&"")*1,"")
A67: =IF(ROWS($2:67)>(COUNTA('Previsions SPA 2018'!A:A)-1)*12,"",OFFSET('Previsions SPA 2018'!A$1,INT((ROWS($2:67)-1)/12)+1,)) -> 128605 | B67: =OFFSET('Previsions SPA 2018'!B$1,INT((ROWS($2:67)-1)/12)+1,)&"" -> NANOTECH MICRO BLEUE 38 X 40 C | C67: =IF(A67="","",OFFSET('Previsions SPA 2018'!A$1,,MOD(ROWS($2:67)-1,12)+2)) -> PRV JUIN | D67: =IFERROR((VLOOKUP(A67,'Previsions SPA 2018'!A:N,MOD(ROWS($2:67)-1,12)+3,0)&"")*1,"")
A68: =IF(ROWS($2:68)>(COUNTA('Previsions SPA 2018'!A:A)-1)*12,"",OFFSET('Previsions SPA 2018'!A$1,INT((ROWS($2:68)-1)/12)+1,)) -> 128605 | B68: =OFFSET('Previsions SPA 2018'!B$1,INT((ROWS($2:68)-1)/12)+1,)&"" -> NANOTECH MICRO BLEUE 38 X 40 C | C68: =IF(A68="","",OFFSET('Previsions SPA 2018'!A$1,,MOD(ROWS($2:68)-1,12)+2)) -> PRV JUILL | D68: =IFERROR((VLOOKUP(A68,'Previsions SPA 2018'!A:N,MOD(ROWS($2:68)-1,12)+3,0)&"")*1,"")
A69: =IF(ROWS($2:69)>(COUNTA('Previsions SPA 2018'!A:A)-1)*12,"",OFFSET('Previsions SPA 2018'!A$1,INT((ROWS($2:69)-1)/12)+1,)) -> 128605 | B69: =OFFSET('Previsions SPA 2018'!B$1,INT((ROWS($2:69)-1)/12)+1,)&"" -> NANOTECH MICRO BLEUE 38 X 40 C | C69: =IF(A69="","",OFFSET('Previsions SPA 2018'!A$1,,MOD(ROWS($2:69)-1,12)+2)) -> PRV AOUT | D69: =IFERROR((VLOOKUP(A69,'Previsions SPA 2018'!A:N,MOD(ROWS($2:69)-1,12)+3,0)&"")*1,"")
A70: =IF(ROWS($2:70)>(COUNTA('Previsions SPA 2018'!A:A)-1)*12,"",OFFSET('Previsions SPA 2018'!A$1,INT((ROWS($2:70)-1)/12)+1,)) -> 128605 | B70: =OFFSET('Previsions SPA 2018'!B$1,INT((ROWS($2:70)-1)/12)+1,)&"" -> NANOTECH MICRO BLEUE 38 X 40 C | C70: =IF(A70="","",OFFSET('Previsions SPA 2018'!A$1,,MOD(ROWS($2:70)-1,12)+2)) -> PRV SEPT | D70: =IFERROR((VLOOKUP(A70,'Previsions SPA 2018'!A:N,MOD(ROWS($2:70)-1,12)+3,0)&"")*1,"")
A71: =IF(ROWS($2:71)>(COUNTA('Previsions SPA 2018'!A:A)-1)*12,"",OFFSET('Previsions SPA 2018'!A$1,INT((ROWS($2:71)-1)/12)+1,)) -> 128605 | B71: =OFFSET('Previsions SPA 2018'!B$1,INT((ROWS($2:71)-1)/12)+1,)&"" -> NANOTECH MICRO BLEUE 38 X 40 C | C71: =IF(A71="","",OFFSET('Previsions SPA 2018'!A$1,,MOD(ROWS($2:71)-1,12)+2)) -> PRV OCT | D71: =IFERROR((VLOOKUP(A71,'Previsions SPA 2018'!A:N,MOD(ROWS($2:71)-1,12)+3,0)&"")*1,"")
A72: =IF(ROWS($2:72)>(COUNTA('Previsions SPA 2018'!A:A)-1)*12,"",OFFSET('Previsions SPA 2018'!A$1,INT((ROWS($2:72)-1)/12)+1,)) -> 128605 | B72: =OFFSET('Previsions SPA 2018'!B$1,INT((ROWS($2:72)-1)/12)+1,)&"" -> NANOTECH MICRO BLEUE 38 X 40 C | C72: =IF(A72="","",OFFSET('Previsions SPA 2018'!A$1,,MOD(ROWS($2:72)-1,12)+2)) -> PRV NOV | D72: =IFERROR((VLOOKUP(A72,'Previsions SPA 2018'!A:N,MOD(ROWS($2:72)-1,12)+3,0)&"")*1,"")
A73: =IF(ROWS($2:73)>(COUNTA('Previsions SPA 2018'!A:A)-1)*12,"",OFFSET('Previsions SPA 2018'!A$1,INT((ROWS($2:73)-1)/12)+1,)) -> 128605 | B73: =OFFSET('Previsions SPA 2018'!B$1,INT((ROWS($2:73)-1)/12)+1,)&"" -> NANOTECH MICRO BLEUE 38 X 40 C | C73: =IF(A73="","",OFFSET('Previsions SPA 2018'!A$1,,MOD(ROWS($2:73)-1,12)+2)) -> PRV DEC | D73: =IFERROR((VLOOKUP(A73,'Previsions SPA 2018'!A:N,MOD(ROWS($2:73)-1,12)+3,0)&"")*1,"")
A74: =IF(ROWS($2:74)>(COUNTA('Previsions SPA 2018'!A:A)-1)*12,"",OFFSET('Previsions SPA 2018'!A$1,INT((ROWS($2:74)-1)/12)+1,)) -> 128606 | B74: =OFFSET('Previsions SPA 2018'!B$1,INT((ROWS($2:74)-1)/12)+1,)&"" -> NANOTECH MICRO GR?N | C74: =IF(A74="","",OFFSET('Previsions SPA 2018'!A$1,,MOD(ROWS($2:74)-1,12)+2)) -> PRV JAN | D74: =IFERROR((VLOOKUP(A74,'Previsions SPA 2018'!A:N,MOD(ROWS($2:74)-1,12)+3,0)&"")*1,"")
A75: =IF(ROWS($2:75)>(COUNTA('Previsions SPA 2018'!A:A)-1)*12,"",OFFSET('Previsions SPA 2018'!A$1,INT((ROWS($2:75)-1)/12)+1,)) -> 128606 | B75: =OFFSET('Previsions SPA 2018'!B$1,INT((ROWS($2:75)-1)/12)+1,)&"" -> NANOTECH MICRO GR?N | C75: =IF(A75="","",OFFSET('Previsions SPA 2018'!A$1,,MOD(ROWS($2:75)-1,12)+2)) -> PRV FEV | D75: =IFERROR((VLOOKUP(A75,'Previsions SPA 2018'!A:N,MOD(ROWS($2:75)-1,12)+3,0)&"")*1,"")
A76: =IF(ROWS($2:76)>(COUNTA('Previsions SPA 2018'!A:A)-1)*12,"",OFFSET('Previsions SPA 2018'!A$1,INT((ROWS($2:76)-1)/12)+1,)) -> 128606 | B76: =OFFSET('Previsions SPA 2018'!B$1,INT((ROWS($2:76)-1)/12)+1,)&"" -> NANOTECH MICRO GR?N | C76: =IF(A76="","",OFFSET('Previsions SPA 2018'!A$1,,MOD(ROWS($2:76)-1,12)+2)) -> PRV MARS | D76: =IFERROR((VLOOKUP(A76,'Previsions SPA 2018'!A:N,MOD(ROWS($2:76)-1,12)+3,0)&"")*1,"")
A77: =IF(ROWS($2:77)>(COUNTA('Previsions SPA 2018'!A:A)-1)*12,"",OFFSET('Previsions SPA 2018'!A$1,INT((ROWS($2:77)-1)/12)+1,)) -> 128606 | B77: =OFFSET('Previsions SPA 2018'!B$1,INT((ROWS($2:77)-1)/12)+1,)&"" -> NANOTECH MICRO GR?N | C77: =IF(A77="","",OFFSET('Previsions SPA 2018'!A$1,,MOD(ROWS($2:77)-1,12)+2)) -> PRV AVR | D77: =IFERROR((VLOOKUP(A77,'Previsions SPA 2018'!A:N,MOD(ROWS($2:77)-1,12)+3,0)&"")*1,"") -> 2
A78: =IF(ROWS($2:78)>(COUNTA('Previsions SPA 2018'!A:A)-1)*12,"",OFFSET('Previsions SPA 2018'!A$1,INT((ROWS($2:78)-1)/12)+1,)) -> 128606 | B78: =OFFSET('Previsions SPA 2018'!B$1,INT((ROWS($2:78)-1)/12)+1,)&"" -> NANOTECH MICRO GR?N | C78: =IF(A78="","",OFFSET('Previsions SPA 2018'!A$1,,MOD(ROWS($2:78)-1,12)+2)) -> PRV Mai | D78: =IFERROR((VLOOKUP(A78,'Previsions SPA 2018'!A:N,MOD(ROWS($2:78)-1,12)+3,0)&"")*1,"") -> 1
A79: =IF(ROWS($2:79)>(COUNTA('Previsions SPA 2018'!A:A)-1)*12,"",OFFSET('Previsions SPA 2018'!A$1,INT((ROWS($2:79)-1)/12)+1,)) -> 128606 | B79: =OFFSET('Previsions SPA 2018'!B$1,INT((ROWS($2:79)-1)/12)+1,)&"" -> NANOTECH MICRO GR?N | C79: =IF(A79="","",OFFSET('Previsions SPA 2018'!A$1,,MOD(ROWS($2:79)-1,12)+2)) -> PRV JUIN | D79: =IFERROR((VLOOKUP(A79,'Previsions SPA 2018'!A:N,MOD(ROWS($2:79)-1,12)+3,0)&"")*1,"")
A80: =IF(ROWS($2:80)>(COUNTA('Previsions SPA 2018'!A:A)-1)*12,"",OFFSET('Previsions SPA 2018'!A$1,INT((ROWS($2:80)-1)/12)+1,)) -> 128606 | B80: =OFFSET('Previsions SPA 2018'!B$1,INT((ROWS($2:80)-1)/12)+1,)&"" -> NANOTECH MICRO GR?N | C80: =IF(A80="","",OFFSET('Previsions SPA 2018'!A$1,,MOD(ROWS($2:80)-1,12)+2)) -> PRV JUILL | D80: =IFERROR((VLOOKUP(A80,'Previsions SPA 2018'!A:N,MOD(ROWS($2:80)-1,12)+3,0)&"")*1,"")
A81: =IF(ROWS($2:81)>(COUNTA('Previsions SPA 2018'!A:A)-1)*12,"",OFFSET('Previsions SPA 2018'!A$1,INT((ROWS($2:81)-1)/12)+1,)) -> 128606 | B81: =OFFSET('Previsions SPA 2018'!B$1,INT((ROWS($2:81)-1)/12)+1,)&"" -> NANOTECH MICRO GR?N | C81: =IF(A81="","",OFFSET('Previsions SPA 2018'!A$1,,MOD(ROWS($2:81)-1,12)+2)) -> PRV AOUT | D81: =IFERROR((VLOOKUP(A81,'Previsions SPA 2018'!A:N,MOD(ROWS($2:81)-1,12)+3,0)&"")*1,"")
A82: =IF(ROWS($2:82)>(COUNTA('Previsions SPA 2018'!A:A)-1)*12,"",OFFSET('Previsions SPA 2018'!A$1,INT((ROWS($2:82)-1)/12)+1,)) -> 128606 | B82: =OFFSET('Previsions SPA 2018'!B$1,INT((ROWS($2:82)-1)/12)+1,)&"" -> NANOTECH MICRO GR?N | C82: =IF(A82="","",OFFSET('Previsions SPA 2018'!A$1,,MOD(ROWS($2:82)-1,12)+2)) -> PRV SEPT | D82: =IFERROR((VLOOKUP(A82,'Previsions SPA 2018'!A:N,MOD(ROWS($2:82)-1,12)+3,0)&"")*1,"")
A83: =IF(ROWS($2:83)>(COUNTA('Previsions SPA 2018'!A:A)-1)*12,"",OFFSET('Previsions SPA 2018'!A$1,INT((ROWS($2:83)-1)/12)+1,)) -> 128606 | B83: =OFFSET('Previsions SPA 2018'!B$1,INT((ROWS($2:83)-1)/12)+1,)&"" -> NANOTECH MICRO GR?N | C83: =IF(A83="","",OFFSET('Previsions SPA 2018'!A$1,,MOD(ROWS($2:83)-1,12)+2)) -> PRV OCT | D83: =IFERROR((VLOOKUP(A83,'Previsions SPA 2018'!A:N,MOD(ROWS($2:83)-1,12)+3,0)&"")*1,"")
A84: =IF(ROWS($2:84)>(COUNTA('Previsions SPA 2018'!A:A)-1)*12,"",OFFSET('Previsions SPA 2018'!A$1,INT((ROWS($2:84)-1)/12)+1,)) -> 128606 | B84: =OFFSET('Previsions SPA 2018'!B$1,INT((ROWS($2:84)-1)/12)+1,)&"" -> NANOTECH MICRO GR?N | C84: =IF(A84="","",OFFSET('Previsions SPA 2018'!A$1,,MOD(ROWS($2:84)-1,12)+2)) -> PRV NOV | D84: =IFERROR((VLOOKUP(A84,'Previsions SPA 2018'!A:N,MOD(ROWS($2:84)-1,12)+3,0)&"")*1,"")
A85: =IF(ROWS($2:85)>(COUNTA('Previsions SPA 2018'!A:A)-1)*12,"",OFFSET('Previsions SPA 2018'!A$1,INT((ROWS($2:85)-1)/12)+1,)) -> 128606 | B85: =OFFSET('Previsions SPA 2018'!B$1,INT((ROWS($2:85)-1)/12)+1,)&"" -> NANOTECH MICRO GR?N | C85: =IF(A85="","",OFFSET('Previsions SPA 2018'!A$1,,MOD(ROWS($2:85)-1,12)+2)) -> PRV DEC | D85: =IFERROR((VLOOKUP(A85,'Previsions SPA 2018'!A:N,MOD(ROWS($2:85)-1,12)+3,0)&"")*1,"")
A86: =IF(ROWS($2:86)>(COUNTA('Previsions SPA 2018'!A:A)-1)*12,"",OFFSET('Previsions SPA 2018'!A$1,INT((ROWS($2:86)-1)/12)+1,)) -> 128607 | B86: =OFFSET('Previsions SPA 2018'!B$1,INT((ROWS($2:86)-1)/12)+1,)&"" -> NANOTECH MICRO ROUGE 38X40 CM | C86: =IF(A86="","",OFFSET('Previsions SPA 2018'!A$1,,MOD(ROWS($2:86)-1,12)+2)) -> PRV JAN | D86: =IFERROR((VLOOKUP(A86,'Previsions SPA 2018'!A:N,MOD(ROWS($2:86)-1,12)+3,0)&"")*1,"")
A87: =IF(ROWS($2:87)>(COUNTA('Previsions SPA 2018'!A:A)-1)*12,"",OFFSET('Previsions SPA 2018'!A$1,INT((ROWS($2:87)-1)/12)+1,)) -> 128607 | B87: =OFFSET('Previsions SPA 2018'!B$1,INT((ROWS($2:87)-1)/12)+1,)&"" -> NANOTECH MICRO ROUGE 38X40 CM | C87: =IF(A87="","",OFFSET('Previsions SPA 2018'!A$1,,MOD(ROWS($2:87)-1,12)+2)) -> PRV FEV | D87: =IFERROR((VLOOKUP(A87,'Previsions SPA 2018'!A:N,MOD(ROWS($2:87)-1,12)+3,0)&"")*1,"")
A88: =IF(ROWS($2:88)>(COUNTA('Previsions SPA 2018'!A:A)-1)*12,"",OFFSET('Previsions SPA 2018'!A$1,INT((ROWS($2:88)-1)/12)+1,)) -> 128607 | B88: =OFFSET('Previsions SPA 2018'!B$1,INT((ROWS($2:88)-1)/12)+1,)&"" -> NANOTECH MICRO ROUGE 38X40 CM | C88: =IF(A88="","",OFFSET('Previsions SPA 2018'!A$1,,MOD(ROWS($2:88)-1,12)+2)) -> PRV MARS | D88: =IFERROR((VLOOKUP(A88,'Previsions SPA 2018'!A:N,MOD(ROWS($2:88)-1,12)+3,0)&"")*1,"")
A89: =IF(ROWS($2:89)>(COUNTA('Previsions SPA 2018'!A:A)-1)*12,"",OFFSET('Previsions SPA 2018'!A$1,INT((ROWS($2:89)-1)/12)+1,)) -> 128607 | B89: =OFFSET('Previsions SPA 2018'!B$1,INT((ROWS($2:89)-1)/12)+1,)&"" -> NANOTECH MICRO ROUGE 38X40 CM | C89: =IF(A89="","",OFFSET('Previsions SPA 2018'!A$1,,MOD(ROWS($2:89)-1,12)+2)) -> PRV AVR | D89: =IFERROR((VLOOKUP(A89,'Previsions SPA 2018'!A:N,MOD(ROWS($2:89)-1,12)+3,0)&"")*1,"")
A90: =IF(ROWS($2:90)>(COUNTA('Previsions SPA 2018'!A:A)-1)*12,"",OFFSET('Previsions SPA 2018'!A$1,INT((ROWS($2:90)-1)/12)+1,)) -> 128607 | B90: =OFFSET('Previsions SPA 2018'!B$1,INT((ROWS($2:90)-1)/12)+1,)&"" -> NANOTECH MICRO ROUGE 38X40 CM | C90: =IF(A90="","",OFFSET('Previsions SPA 2018'!A$1,,MOD(ROWS($2:90)-1,12)+2)) -> PRV Mai | D90: =IFERROR((VLOOKUP(A90,'Previsions SPA 2018'!A:N,MOD(ROWS($2:90)-1,12)+3,0)&"")*1,"")
A91: =IF(ROWS($2:91)>(COUNTA('Previsions SPA 2018'!A:A)-1)*12,"",OFFSET('Previsions SPA 2018'!A$1,INT((ROWS($2:91)-1)/12)+1,)) -> 128607 | B91: =OFFSET('Previsions SPA 2018'!B$1,INT((ROWS($2:91)-1)/12)+1,)&"" -> NANOTECH MICRO ROUGE 38X40 CM | C91: =IF(A91="","",OFFSET('Previsions SPA 2018'!A$1,,MOD(ROWS($2:91)-1,12)+2)) -> PRV JUIN | D91: =IFERROR((VLOOKUP(A91,'Previsions SPA 2018'!A:N,MOD(ROWS($2:91)-1,12)+3,0)&"")*1,"") -> 1
A92: =IF(ROWS($2:92)>(COUNTA('Previsions SPA 2018'!A:A)-1)*12,"",OFFSET('Previsions SPA 2018'!A$1,INT((ROWS($2:92)-1)/12)+1,)) -> 128607 | B92: =OFFSET('Previsions SPA 2018'!B$1,INT((ROWS($2:92)-1)/12)+1,)&"" -> NANOTECH MICRO ROUGE 38X40 CM | C92: =IF(A92="","",OFFSET('Previsions SPA 2018'!A$1,,MOD(ROWS($2:92)-1,12)+2)) -> PRV JUILL | D92: =IFERROR((VLOOKUP(A92,'Previsions SPA 2018'!A:N,MOD(ROWS($2:92)-1,12)+3,0)&"")*1,"")
A93: =IF(ROWS($2:93)>(COUNTA('Previsions SPA 2018'!A:A)-1)*12,"",OFFSET('Previsions SPA 2018'!A$1,INT((ROWS($2:93)-1)/12)+1,)) -> 128607 | B93: =OFFSET('Previsions SPA 2018'!B$1,INT((ROWS($2:93)-1)/12)+1,)&"" -> NANOTECH MICRO ROUGE 38X40 CM | C93: =IF(A93="","",OFFSET('Previsions SPA 2018'!A$1,,MOD(ROWS($2:93)-1,12)+2)) -> PRV AOUT | D93: =IFERROR((VLOOKUP(A93,'Previsions SPA 2018'!A:N,MOD(ROWS($2:93)-1,12)+3,0)&"")*1,"")
A94: =IF(ROWS($2:94)>(COUNTA('Previsions SPA 2018'!A:A)-1)*12,"",OFFSET('Previsions SPA 2018'!A$1,INT((ROWS($2:94)-1)/12)+1,)) -> 128607 | B94: =OFFSET('Previsions SPA 2018'!B$1,INT((ROWS($2:94)-1)/12)+1,)&"" -> NANOTECH MICRO ROUGE 38X40 CM | C94: =IF(A94="","",OFFSET('Previsions SPA 2018'!A$1,,MOD(ROWS($2:94)-1,12)+2)) -> PRV SEPT | D94: =IFERROR((VLOOKUP(A94,'Previsions SPA 2018'!A:N,MOD(ROWS($2:94)-1,12)+3,0)&"")*1,"")
A95: =IF(ROWS($2:95)>(COUNTA('Previsions SPA 2018'!A:A)-1)*12,"",OFFSET('Previsions SPA 2018'!A$1,INT((ROWS($2:95)-1)/12)+1,)) -> 128607 | B95: =OFFSET('Previsions SPA 2018'!B$1,INT((ROWS($2:95)-1)/12)+1,)&"" -> NANOTECH MICRO ROUGE 38X40 CM | C95: =IF(A95="","",OFFSET('Previsions SPA 2018'!A$1,,MOD(ROWS($2:95)-1,12)+2)) -> PRV OCT | D95: =IFERROR((VLOOKUP(A95,'Previsions SPA 2018'!A:N,MOD(ROWS($2:95)-1,12)+3,0)&"")*1,"")
A96: =IF(ROWS($2:96)>(COUNTA('Previsions SPA 2018'!A:A)-1)*12,"",OFFSET('Previsions SPA 2018'!A$1,INT((ROWS($2:96)-1)/12)+1,)) -> 128607 | B96: =OFFSET('Previsions SPA 2018'!B$1,INT((ROWS($2:96)-1)/12)+1,)&"" -> NANOTECH MICRO ROUGE 38X40 CM | C96: =IF(A96="","",OFFSET('Previsions SPA 2018'!A$1,,MOD(ROWS($2:96)-1,12)+2)) -> PRV NOV | D96: =IFERROR((VLOOKUP(A96,'Previsions SPA 2018'!A:N,MOD(ROWS($2:96)-1,12)+3,0)&"")*1,"")
A97: =IF(ROWS($2:97)>(COUNTA('Previsions SPA 2018'!A:A)-1)*12,"",OFFSET('Previsions SPA 2018'!A$1,INT((ROWS($2:97)-1)/12)+1,)) -> 128607 | B97: =OFFSET('Previsions SPA 2018'!B$1,INT((ROWS($2:97)-1)/12)+1,)&"" -> NANOTECH MICRO ROUGE 38X40 CM | C97: =IF(A97="","",OFFSET('Previsions SPA 2018'!A$1,,MOD(ROWS($2:97)-1,12)+2)) -> PRV DEC | D97: =IFERROR((VLOOKUP(A97,'Previsions SPA 2018'!A:N,MOD(ROWS($2:97)-1,12)+3,0)&"")*1,"")
A98: =IF(ROWS($2:98)>(COUNTA('Previsions SPA 2018'!A:A)-1)*12,"",OFFSET('Previsions SPA 2018'!A$1,INT((ROWS($2:98)-1)/12)+1,)) -> 143236 | B98: =OFFSET('Previsions SPA 2018'!B$1,INT((ROWS($2:98)-1)/12)+1,)&"" -> ULTRASPEED TRIO MOP 40CM | C98: =IF(A98="","",OFFSET('Previsions SPA 2018'!A$1,,MOD(ROWS($2:98)-1,12)+2)) -> PRV JAN | D98: =IFERROR((VLOOKUP(A98,'Previsions SPA 2018'!A:N,MOD(ROWS($2:98)-1,12)+3,0)&"")*1,"")
A99: =IF(ROWS($2:99)>(COUNTA('Previsions SPA 2018'!A:A)-1)*12,"",OFFSET('Previsions SPA 2018'!A$1,INT((ROWS($2:99)-1)/12)+1,)) -> 143236 | B99: =OFFSET('Previsions SPA 2018'!B$1,INT((ROWS($2:99)-1)/12)+1,)&"" -> ULTRASPEED TRIO MOP 40CM | C99: =IF(A99="","",OFFSET('Previsions SPA 2018'!A$1,,MOD(ROWS($2:99)-1,12)+2)) -> PRV FEV | D99: =IFERROR((VLOOKUP(A99,'Previsions SPA 2018'!A:N,MOD(ROWS($2:99)-1,12)+3,0)&"")*1,"")
A100: =IF(ROWS($2:100)>(COUNTA('Previsions SPA 2018'!A:A)-1)*12,"",OFFSET('Previsions SPA 2018'!A$1,INT((ROWS($2:100)-1)/12)+1,)) -> 143236 | B100: =OFFSET('Previsions SPA 2018'!B$1,INT((ROWS($2:100)-1)/12)+1,)&"" -> ULTRASPEED TRIO MOP 40CM | C100: =IF(A100="","",OFFSET('Previsions SPA 2018'!A$1,,MOD(ROWS($2:100)-1,12)+2)) -> PRV MARS | D100: =IFERROR((VLOOKUP(A100,'Previsions SPA 2018'!A:N,MOD(ROWS($2:100)-1,12)+3,0)&"")*1,"")
...
